{"text_format":"3","workbook":"xlsx","n_sheets":1,"sheets":["Sheet1"],"read":"whole","date_system":"1900"}

{"sheet":"Sheet1","index":0,"n_rows":76,"n_cols":18,"rows_kept":76,"merged":[[0,0,1,1],[2,0,3,0],[2,1,3,1],[2,2,3,2],[2,3,3,3],[2,4,3,4],[2,5,3,5],[2,6,3,6],[2,7,3,7],[2,8,3,8],[2,9,3,9],[2,10,3,10],[2,11,3,11],[2,12,3,12],[2,13,3,13],[2,14,3,14],[2,15,3,15],[2,16,3,16],[2,17,3,17],[4,0,7,0],[8,0,11,0],[12,0,15,0],[16,0,19,0],[20,0,23,0],[24,0,27,0],[28,0,31,0],[32,0,35,0],[36,0,39,0],[40,0,43,0],[44,0,47,0],[48,0,51,0],[52,0,55,0],[56,0,59,0],[60,0,63,0],[64,0,67,0],[68,0,71,0],[72,0,75,0]]}
["城市公交客运量"]
[]
["地区 名称","指标","2026年1月","1月与去年同比","2026年2月","2月与去年同比","2026-03-01","3月与去年同比","2026-04-01","4月与去年同比","2026-05-01","5月与去年同比","2026-06-01","6月与去年同比","2026-07-01","7月与去年同比","2026年累计","累计与去年同比"]
[]
["全省","客运量           （万人次）",{"$f":"C9+C13+C17+C21+C25+C29+C33+C37+C41+C45+C49+C53+C57+C61+C65+C69+C73","v":{"v":0,"d":"0.00"}},{"$f":"C5/#REF!-1","v":{"$error":"#REF!"}},{"$f":"E9+E13+E17+E21+E25+E29+E33+E37+E41+E45+E49+E53+E57+E61+E65+E69+E73","v":{"v":0,"d":"0.00"}},{"$f":"E5/#REF!-1","v":{"$error":"#REF!"}},{"$f":"G9+G13+G17+G21+G25+G29+G33+G37+G41+G45+G49+G53+G57+G61+G65+G69+G73","v":{"v":0,"d":"0.00"}},{"$f":"G5/#REF!-1","v":{"$error":"#REF!"}},{"$f":"I9+I13+I17+I21+I25+I29+I33+I37+I41+I45+I49+I53+I57+I61+I65+I69+I73","v":{"v":0,"d":"0.00"}},{"$f":"I5/#REF!-1","v":{"$error":"#REF!"}},{"$f":"K9+K13+K17+K21+K25+K29+K33+K37+K41+K45+K49+K53+K57+K61+K65+K69+K73","v":{"v":0,"d":"0.00"}},{"$f":"K5/#REF!-1","v":{"$error":"#REF!"}},{"$f":"M9+M13+M17+M21+M25+M29+M33+M37+M41+M45+M49+M53+M57+M61+M65+M69+M73","v":{"v":0,"d":"0.00"}},{"$f":"M5/#REF!-1","v":{"$error":"#REF!"}},{"$f":"O9+O13+O17+O21+O25+O29+O33+O37+O41+O45+O49+O53+O57+O61+O65+O69+O73","v":{"v":12974.730000000001,"d":"12974.73"}},{"$f":"O5/#REF!-1","v":{"$error":"#REF!"}},{"$f":"C5+E5+G5+I5+K5+M5+O5","v":{"v":12974.730000000001,"d":"12974.73"}},{"$f":"Q5/SUM(#REF!+#REF!+#REF!+#REF!+#REF!+#REF!+#REF!)-1","v":{"$error":"#REF!"}}]
[null,"旅客周转量       （万人公里）",{"v":0,"d":"0.00"},{"$f":"C6/#REF!-1","v":{"$error":"#REF!"}},{"v":0,"d":"0.00"},{"$f":"E6/#REF!-1","v":{"$error":"#REF!"}},{"v":0,"d":"0.00"},{"$f":"G6/#REF!-1","v":{"$error":"#REF!"}},{"v":0,"d":"0.00"},{"$f":"I6/#REF!-1","v":{"$error":"#REF!"}},{"v":0,"d":"0.00"},{"$f":"K6/#REF!-1","v":{"$error":"#REF!"}},{"v":0,"d":"0.00"},{"$f":"M6/#REF!-1","v":{"$error":"#REF!"}},87147.68,{"$f":"O6/#REF!-1","v":{"$error":"#REF!"}},87147.68,{"$f":"Q6/SUM(#REF!+#REF!+#REF!+#REF!+#REF!+#REF!+#REF!)-1","v":{"$error":"#REF!"}}]
[null,"其中城市内客运量 （万人次）",{"v":0,"d":"0.00"},{"$f":"C7/#REF!-1","v":{"$error":"#REF!"}},{"v":0,"d":"0.00"},{"$f":"E7/#REF!-1","v":{"$error":"#REF!"}},{"v":0,"d":"0.00"},{"$f":"G7/#REF!-1","v":{"$error":"#REF!"}},{"v":0,"d":"0.00"},{"$f":"I7/#REF!-1","v":{"$error":"#REF!"}},{"v":0,"d":"0.00"},{"$f":"K7/#REF!-1","v":{"$error":"#REF!"}},{"v":0,"d":"0.00"},{"$f":"M7/#REF!-1","v":{"$error":"#REF!"}},11508.07,{"$f":"O7/#REF!-1","v":{"$error":"#REF!"}},11508.07,{"$f":"Q7/SUM(#REF!+#REF!+#REF!+#REF!+#REF!+#REF!+#REF!)-1","v":{"$error":"#REF!"}}]
[null,"其中城市内旅客周转量  (万人公里)",{"v":0,"d":"0.00"},{"$f":"C8/#REF!-1","v":{"$error":"#REF!"}},{"v":0,"d":"0.00"},{"$f":"E8/#REF!-1","v":{"$error":"#REF!"}},{"v":0,"d":"0.00"},{"$f":"G8/#REF!-1","v":{"$error":"#REF!"}},{"v":0,"d":"0.00"},{"$f":"I8/#REF!-1","v":{"$error":"#REF!"}},{"v":0,"d":"0.00"},{"$f":"K8/#REF!-1","v":{"$error":"#REF!"}},{"v":0,"d":"0.00"},{"$f":"M8/#REF!-1","v":{"$error":"#REF!"}},{"v":59265.28000000001,"d":"59265.28"},{"$f":"O8/#REF!-1","v":{"$error":"#REF!"}},{"v":59265.28000000001,"d":"59265.28"},{"$f":"Q8/SUM(#REF!+#REF!+#REF!+#REF!+#REF!+#REF!+#REF!)-1","v":{"$error":"#REF!"}}]
["武汉市","客运量           （万人次）",null,{"$f":"C9/#REF!-1","v":{"$error":"#REF!"}},null,{"$f":"E9/#REF!-1","v":{"$error":"#REF!"}},null,{"$f":"G9/#REF!-1","v":{"$error":"#REF!"}},null,{"$f":"I9/#REF!-1","v":{"$error":"#REF!"}},null,{"$f":"K9/#REF!-1","v":{"$error":"#REF!"}},null,{"$f":"M9/#REF!-1","v":{"$error":"#REF!"}},4218.74,{"$f":"O9/#REF!-1","v":{"$error":"#REF!"}},4218.74,{"$f":"Q9/SUM(#REF!+#REF!+#REF!+#REF!+#REF!+#REF!+#REF!)-1","v":{"$error":"#REF!"}}]
[null,"旅客周转量       （万人公里）",null,{"$f":"C10/#REF!-1","v":{"$error":"#REF!"}},null,{"$f":"E10/#REF!-1","v":{"$error":"#REF!"}},null,{"$f":"G10/#REF!-1","v":{"$error":"#REF!"}},null,{"$f":"I10/#REF!-1","v":{"$error":"#REF!"}},null,{"$f":"K10/#REF!-1","v":{"$error":"#REF!"}},null,{"$f":"M10/#REF!-1","v":{"$error":"#REF!"}},22416.79,{"$f":"O10/#REF!-1","v":{"$error":"#REF!"}},22416.79,{"$f":"Q10/SUM(#REF!+#REF!+#REF!+#REF!+#REF!+#REF!+#REF!)-1","v":{"$error":"#REF!"}}]
[null,"其中城市内客运量 （万人次）",null,{"$f":"C11/#REF!-1","v":{"$error":"#REF!"}},null,{"$f":"E11/#REF!-1","v":{"$error":"#REF!"}},null,{"$f":"G11/#REF!-1","v":{"$error":"#REF!"}},null,{"$f":"I11/#REF!-1","v":{"$error":"#REF!"}},null,{"$f":"K11/#REF!-1","v":{"$error":"#REF!"}},null,{"$f":"M11/#REF!-1","v":{"$error":"#REF!"}},4198.33,{"$f":"O11/#REF!-1","v":{"$error":"#REF!"}},4198.33,{"$f":"Q11/SUM(#REF!+#REF!+#REF!+#REF!+#REF!+#REF!+#REF!)-1","v":{"$error":"#REF!"}}]
[null,"其中城市内旅客周转量  (万人公里)",null,{"$f":"C12/#REF!-1","v":{"$error":"#REF!"}},null,{"$f":"E12/#REF!-1","v":{"$error":"#REF!"}},null,{"$f":"G12/#REF!-1","v":{"$error":"#REF!"}},null,{"$f":"I12/#REF!-1","v":{"$error":"#REF!"}},null,{"$f":"K12/#REF!-1","v":{"$error":"#REF!"}},null,{"$f":"M12/#REF!-1","v":{"$error":"#REF!"}},21912.54,{"$f":"O12/#REF!-1","v":{"$error":"#REF!"}},21912.54,{"$f":"Q12/SUM(#REF!+#REF!+#REF!+#REF!+#REF!+#REF!+#REF!)-1","v":{"$error":"#REF!"}}]
["黄石市","客运量           （万人次）",null,{"$f":"C13/#REF!-1","v":{"$error":"#REF!"}},null,{"$f":"E13/#REF!-1","v":{"$error":"#REF!"}},null,{"$f":"G13/#REF!-1","v":{"$error":"#REF!"}},null,{"$f":"I13/#REF!-1","v":{"$error":"#REF!"}},null,{"$f":"K13/#REF!-1","v":{"$error":"#REF!"}},null,{"$f":"M13/#REF!-1","v":{"$error":"#REF!"}},941.69,{"$f":"O13/#REF!-1","v":{"$error":"#REF!"}},941.69,{"$f":"Q13/SUM(#REF!+#REF!+#REF!+#REF!+#REF!+#REF!+#REF!)-1","v":{"$error":"#REF!"}}]
[null,"旅客周转量       （万人公里）",null,{"$f":"C14/#REF!-1","v":{"$error":"#REF!"}},null,{"$f":"E14/#REF!-1","v":{"$error":"#REF!"}},null,{"$f":"G14/#REF!-1","v":{"$error":"#REF!"}},null,{"$f":"I14/#REF!-1","v":{"$error":"#REF!"}},null,{"$f":"K14/#REF!-1","v":{"$error":"#REF!"}},null,{"$f":"M14/#REF!-1","v":{"$error":"#REF!"}},7279.12,{"$f":"O14/#REF!-1","v":{"$error":"#REF!"}},7279.12,{"$f":"Q14/SUM(#REF!+#REF!+#REF!+#REF!+#REF!+#REF!+#REF!)-1","v":{"$error":"#REF!"}}]
[null,"其中城市内客运量 （万人次）",null,{"$f":"C15/#REF!-1","v":{"$error":"#REF!"}},null,{"$f":"E15/#REF!-1","v":{"$error":"#REF!"}},null,{"$f":"G15/#REF!-1","v":{"$error":"#REF!"}},null,{"$f":"I15/#REF!-1","v":{"$error":"#REF!"}},null,{"$f":"K15/#REF!-1","v":{"$error":"#REF!"}},null,{"$f":"M15/#REF!-1","v":{"$error":"#REF!"}},806.39,{"$f":"O15/#REF!-1","v":{"$error":"#REF!"}},806.39,{"$f":"Q15/SUM(#REF!+#REF!+#REF!+#REF!+#REF!+#REF!+#REF!)-1","v":{"$error":"#REF!"}}]
[null,"其中城市内旅客周转量  (万人公里)",null,{"$f":"C16/#REF!-1","v":{"$error":"#REF!"}},null,{"$f":"E16/#REF!-1","v":{"$error":"#REF!"}},null,{"$f":"G16/#REF!-1","v":{"$error":"#REF!"}},null,{"$f":"I16/#REF!-1","v":{"$error":"#REF!"}},null,{"$f":"K16/#REF!-1","v":{"$error":"#REF!"}},null,{"$f":"M16/#REF!-1","v":{"$error":"#REF!"}},4495.58,{"$f":"O16/#REF!-1","v":{"$error":"#REF!"}},4495.58,{"$f":"Q16/SUM(#REF!+#REF!+#REF!+#REF!+#REF!+#REF!+#REF!)-1","v":{"$error":"#REF!"}}]
["十堰市","客运量           （万人次）",null,{"$f":"C17/#REF!-1","v":{"$error":"#REF!"}},null,{"$f":"E17/#REF!-1","v":{"$error":"#REF!"}},null,{"$f":"G17/#REF!-1","v":{"$error":"#REF!"}},null,{"$f":"I17/#REF!-1","v":{"$error":"#REF!"}},null,{"$f":"K17/#REF!-1","v":{"$error":"#REF!"}},null,{"$f":"M17/#REF!-1","v":{"$error":"#REF!"}},1225.52,{"$f":"O17/#REF!-1","v":{"$error":"#REF!"}},1225.52,{"$f":"Q17/SUM(#REF!+#REF!+#REF!+#REF!+#REF!+#REF!+#REF!)-1","v":{"$error":"#REF!"}}]
[null,"旅客周转量       （万人公里）",null,{"$f":"C18/#REF!-1","v":{"$error":"#REF!"}},null,{"$f":"E18/#REF!-1","v":{"$error":"#REF!"}},null,{"$f":"G18/#REF!-1","v":{"$error":"#REF!"}},null,{"$f":"I18/#REF!-1","v":{"$error":"#REF!"}},null,{"$f":"K18/#REF!-1","v":{"$error":"#REF!"}},null,{"$f":"M18/#REF!-1","v":{"$error":"#REF!"}},7503.85,{"$f":"O18/#REF!-1","v":{"$error":"#REF!"}},7503.85,{"$f":"Q18/SUM(#REF!+#REF!+#REF!+#REF!+#REF!+#REF!+#REF!)-1","v":{"$error":"#REF!"}}]
[null,"其中城市内客运量 （万人次）",null,{"$f":"C19/#REF!-1","v":{"$error":"#REF!"}},null,{"$f":"E19/#REF!-1","v":{"$error":"#REF!"}},null,{"$f":"G19/#REF!-1","v":{"$error":"#REF!"}},null,{"$f":"I19/#REF!-1","v":{"$error":"#REF!"}},null,{"$f":"K19/#REF!-1","v":{"$error":"#REF!"}},null,{"$f":"M19/#REF!-1","v":{"$error":"#REF!"}},1111.97,{"$f":"O19/#REF!-1","v":{"$error":"#REF!"}},1111.97,{"$f":"Q19/SUM(#REF!+#REF!+#REF!+#REF!+#REF!+#REF!+#REF!)-1","v":{"$error":"#REF!"}}]
[null,"其中城市内旅客周转量  (万人公里)",null,{"$f":"C20/#REF!-1","v":{"$error":"#REF!"}},null,{"$f":"E20/#REF!-1","v":{"$error":"#REF!"}},null,{"$f":"G20/#REF!-1","v":{"$error":"#REF!"}},null,{"$f":"I20/#REF!-1","v":{"$error":"#REF!"}},null,{"$f":"K20/#REF!-1","v":{"$error":"#REF!"}},null,{"$f":"M20/#REF!-1","v":{"$error":"#REF!"}},5221.57,{"$f":"O20/#REF!-1","v":{"$error":"#REF!"}},5221.57,{"$f":"Q20/SUM(#REF!+#REF!+#REF!+#REF!+#REF!+#REF!+#REF!)-1","v":{"$error":"#REF!"}}]
["宜昌市","客运量           （万人次）",null,{"$f":"C21/#REF!-1","v":{"$error":"#REF!"}},null,{"$f":"E21/#REF!-1","v":{"$error":"#REF!"}},null,{"$f":"G21/#REF!-1","v":{"$error":"#REF!"}},null,{"$f":"I21/#REF!-1","v":{"$error":"#REF!"}},null,{"$f":"K21/#REF!-1","v":{"$error":"#REF!"}},null,{"$f":"M21/#REF!-1","v":{"$error":"#REF!"}},995.29,{"$f":"O21/#REF!-1","v":{"$error":"#REF!"}},995.29,{"$f":"Q21/SUM(#REF!+#REF!+#REF!+#REF!+#REF!+#REF!+#REF!)-1","v":{"$error":"#REF!"}}]
[null,"旅客周转量       （万人公里）",null,{"$f":"C22/#REF!-1","v":{"$error":"#REF!"}},null,{"$f":"E22/#REF!-1","v":{"$error":"#REF!"}},null,{"$f":"G22/#REF!-1","v":{"$error":"#REF!"}},null,{"$f":"I22/#REF!-1","v":{"$error":"#REF!"}},null,{"$f":"K22/#REF!-1","v":{"$error":"#REF!"}},null,{"$f":"M22/#REF!-1","v":{"$error":"#REF!"}},3975.24,{"$f":"O22/#REF!-1","v":{"$error":"#REF!"}},3975.24,{"$f":"Q22/SUM(#REF!+#REF!+#REF!+#REF!+#REF!+#REF!+#REF!)-1","v":{"$error":"#REF!"}}]
[null,"其中城市内客运量 （万人次）",null,{"$f":"C23/#REF!-1","v":{"$error":"#REF!"}},null,{"$f":"E23/#REF!-1","v":{"$error":"#REF!"}},null,{"$f":"G23/#REF!-1","v":{"$error":"#REF!"}},null,{"$f":"I23/#REF!-1","v":{"$error":"#REF!"}},null,{"$f":"K23/#REF!-1","v":{"$error":"#REF!"}},null,{"$f":"M23/#REF!-1","v":{"$error":"#REF!"}},957.12,{"$f":"O23/#REF!-1","v":{"$error":"#REF!"}},957.12,{"$f":"Q23/SUM(#REF!+#REF!+#REF!+#REF!+#REF!+#REF!+#REF!)-1","v":{"$error":"#REF!"}}]
[null,"其中城市内旅客周转量  (万人公里)",null,{"$f":"C24/#REF!-1","v":{"$error":"#REF!"}},null,{"$f":"E24/#REF!-1","v":{"$error":"#REF!"}},null,{"$f":"G24/#REF!-1","v":{"$error":"#REF!"}},null,{"$f":"I24/#REF!-1","v":{"$error":"#REF!"}},null,{"$f":"K24/#REF!-1","v":{"$error":"#REF!"}},null,{"$f":"M24/#REF!-1","v":{"$error":"#REF!"}},2992.97,{"$f":"O24/#REF!-1","v":{"$error":"#REF!"}},2992.97,{"$f":"Q24/SUM(#REF!+#REF!+#REF!+#REF!+#REF!+#REF!+#REF!)-1","v":{"$error":"#REF!"}}]
["襄阳市","客运量           （万人次）",null,{"$f":"C25/#REF!-1","v":{"$error":"#REF!"}},null,{"$f":"E25/#REF!-1","v":{"$error":"#REF!"}},null,{"$f":"G25/#REF!-1","v":{"$error":"#REF!"}},null,{"$f":"I25/#REF!-1","v":{"$error":"#REF!"}},null,{"$f":"K25/#REF!-1","v":{"$error":"#REF!"}},null,{"$f":"M25/#REF!-1","v":{"$error":"#REF!"}},1334.93,{"$f":"O25/#REF!-1","v":{"$error":"#REF!"}},1334.93,{"$f":"Q25/SUM(#REF!+#REF!+#REF!+#REF!+#REF!+#REF!+#REF!)-1","v":{"$error":"#REF!"}}]
[null,"旅客周转量       （万人公里）",null,{"$f":"C26/#REF!-1","v":{"$error":"#REF!"}},null,{"$f":"E26/#REF!-1","v":{"$error":"#REF!"}},null,{"$f":"G26/#REF!-1","v":{"$error":"#REF!"}},null,{"$f":"I26/#REF!-1","v":{"$error":"#REF!"}},null,{"$f":"K26/#REF!-1","v":{"$error":"#REF!"}},null,{"$f":"M26/#REF!-1","v":{"$error":"#REF!"}},8785.7,{"$f":"O26/#REF!-1","v":{"$error":"#REF!"}},{"v":8785.7,"d":"8785.70"},{"$f":"Q26/SUM(#REF!+#REF!+#REF!+#REF!+#REF!+#REF!+#REF!)-1","v":{"$error":"#REF!"}}]
[null,"其中城市内客运量 （万人次）",null,{"$f":"C27/#REF!-1","v":{"$error":"#REF!"}},null,{"$f":"E27/#REF!-1","v":{"$error":"#REF!"}},null,{"$f":"G27/#REF!-1","v":{"$error":"#REF!"}},null,{"$f":"I27/#REF!-1","v":{"$error":"#REF!"}},null,{"$f":"K27/#REF!-1","v":{"$error":"#REF!"}},null,{"$f":"M27/#REF!-1","v":{"$error":"#REF!"}},1161.92,{"$f":"O27/#REF!-1","v":{"$error":"#REF!"}},1161.92,{"$f":"Q27/SUM(#REF!+#REF!+#REF!+#REF!+#REF!+#REF!+#REF!)-1","v":{"$error":"#REF!"}}]
[null,"其中城市内旅客周转量  (万人公里)",null,{"$f":"C28/#REF!-1","v":{"$error":"#REF!"}},null,{"$f":"E28/#REF!-1","v":{"$error":"#REF!"}},null,{"$f":"G28/#REF!-1","v":{"$error":"#REF!"}},null,{"$f":"I28/#REF!-1","v":{"$error":"#REF!"}},null,{"$f":"K28/#REF!-1","v":{"$error":"#REF!"}},null,{"$f":"M28/#REF!-1","v":{"$error":"#REF!"}},5784.56,{"$f":"O28/#REF!-1","v":{"$error":"#REF!"}},5784.56,{"$f":"Q28/SUM(#REF!+#REF!+#REF!+#REF!+#REF!+#REF!+#REF!)-1","v":{"$error":"#REF!"}}]
["鄂州市","客运量           （万人次）",null,{"$f":"C29/#REF!-1","v":{"$error":"#REF!"}},null,{"$f":"E29/#REF!-1","v":{"$error":"#REF!"}},null,{"$f":"G29/#REF!-1","v":{"$error":"#REF!"}},null,{"$f":"I29/#REF!-1","v":{"$error":"#REF!"}},null,{"$f":"K29/#REF!-1","v":{"$error":"#REF!"}},null,{"$f":"M29/#REF!-1","v":{"$error":"#REF!"}},185.99,{"$f":"O29/#REF!-1","v":{"$error":"#REF!"}},185.99,{"$f":"Q29/SUM(#REF!+#REF!+#REF!+#REF!+#REF!+#REF!+#REF!)-1","v":{"$error":"#REF!"}}]
[null,"旅客周转量       （万人公里）",null,{"$f":"C30/#REF!-1","v":{"$error":"#REF!"}},null,{"$f":"E30/#REF!-1","v":{"$error":"#REF!"}},null,{"$f":"G30/#REF!-1","v":{"$error":"#REF!"}},null,{"$f":"I30/#REF!-1","v":{"$error":"#REF!"}},null,{"$f":"K30/#REF!-1","v":{"$error":"#REF!"}},null,{"$f":"M30/#REF!-1","v":{"$error":"#REF!"}},1160.69,{"$f":"O30/#REF!-1","v":{"$error":"#REF!"}},1160.69,{"$f":"Q30/SUM(#REF!+#REF!+#REF!+#REF!+#REF!+#REF!+#REF!)-1","v":{"$error":"#REF!"}}]
[null,"其中城市内客运量 （万人次）",null,{"$f":"C31/#REF!-1","v":{"$error":"#REF!"}},null,{"$f":"E31/#REF!-1","v":{"$error":"#REF!"}},null,{"$f":"G31/#REF!-1","v":{"$error":"#REF!"}},null,{"$f":"I31/#REF!-1","v":{"$error":"#REF!"}},null,{"$f":"K31/#REF!-1","v":{"$error":"#REF!"}},null,{"$f":"M31/#REF!-1","v":{"$error":"#REF!"}},174.76,{"$f":"O31/#REF!-1","v":{"$error":"#REF!"}},174.76,{"$f":"Q31/SUM(#REF!+#REF!+#REF!+#REF!+#REF!+#REF!+#REF!)-1","v":{"$error":"#REF!"}}]
[null,"其中城市内旅客周转量  (万人公里)",null,{"$f":"C32/#REF!-1","v":{"$error":"#REF!"}},null,{"$f":"E32/#REF!-1","v":{"$error":"#REF!"}},null,{"$f":"G32/#REF!-1","v":{"$error":"#REF!"}},null,{"$f":"I32/#REF!-1","v":{"$error":"#REF!"}},null,{"$f":"K32/#REF!-1","v":{"$error":"#REF!"}},null,{"$f":"M32/#REF!-1","v":{"$error":"#REF!"}},1027.62,{"$f":"O32/#REF!-1","v":{"$error":"#REF!"}},1027.62,{"$f":"Q32/SUM(#REF!+#REF!+#REF!+#REF!+#REF!+#REF!+#REF!)-1","v":{"$error":"#REF!"}}]
["荆门市","客运量           （万人次）",null,{"$f":"C33/#REF!-1","v":{"$error":"#REF!"}},null,{"$f":"E33/#REF!-1","v":{"$error":"#REF!"}},null,{"$f":"G33/#REF!-1","v":{"$error":"#REF!"}},null,{"$f":"I33/#REF!-1","v":{"$error":"#REF!"}},null,{"$f":"K33/#REF!-1","v":{"$error":"#REF!"}},null,{"$f":"M33/#REF!-1","v":{"$error":"#REF!"}},540.43,{"$f":"O33/#REF!-1","v":{"$error":"#REF!"}},540.43,{"$f":"Q33/SUM(#REF!+#REF!+#REF!+#REF!+#REF!+#REF!+#REF!)-1","v":{"$error":"#REF!"}}]
[null,"旅客周转量       （万人公里）",null,{"$f":"C34/#REF!-1","v":{"$error":"#REF!"}},null,{"$f":"E34/#REF!-1","v":{"$error":"#REF!"}},null,{"$f":"G34/#REF!-1","v":{"$error":"#REF!"}},null,{"$f":"I34/#REF!-1","v":{"$error":"#REF!"}},null,{"$f":"K34/#REF!-1","v":{"$error":"#REF!"}},null,{"$f":"M34/#REF!-1","v":{"$error":"#REF!"}},2780.3,{"$f":"O34/#REF!-1","v":{"$error":"#REF!"}},{"v":2780.3,"d":"2780.30"},{"$f":"Q34/SUM(#REF!+#REF!+#REF!+#REF!+#REF!+#REF!+#REF!)-1","v":{"$error":"#REF!"}}]
[null,"其中城市内客运量 （万人次）",null,{"$f":"C35/#REF!-1","v":{"$error":"#REF!"}},null,{"$f":"E35/#REF!-1","v":{"$error":"#REF!"}},null,{"$f":"G35/#REF!-1","v":{"$error":"#REF!"}},null,{"$f":"I35/#REF!-1","v":{"$error":"#REF!"}},null,{"$f":"K35/#REF!-1","v":{"$error":"#REF!"}},null,{"$f":"M35/#REF!-1","v":{"$error":"#REF!"}},528.59,{"$f":"O35/#REF!-1","v":{"$error":"#REF!"}},528.59,{"$f":"Q35/SUM(#REF!+#REF!+#REF!+#REF!+#REF!+#REF!+#REF!)-1","v":{"$error":"#REF!"}}]
[null,"其中城市内旅客周转量  (万人公里)",null,{"$f":"C36/#REF!-1","v":{"$error":"#REF!"}},null,{"$f":"E36/#REF!-1","v":{"$error":"#REF!"}},null,{"$f":"G36/#REF!-1","v":{"$error":"#REF!"}},null,{"$f":"I36/#REF!-1","v":{"$error":"#REF!"}},null,{"$f":"K36/#REF!-1","v":{"$error":"#REF!"}},null,{"$f":"M36/#REF!-1","v":{"$error":"#REF!"}},2702.83,{"$f":"O36/#REF!-1","v":{"$error":"#REF!"}},2702.83,{"$f":"Q36/SUM(#REF!+#REF!+#REF!+#REF!+#REF!+#REF!+#REF!)-1","v":{"$error":"#REF!"}}]
["孝感市","客运量           （万人次）",null,{"$f":"C37/#REF!-1","v":{"$error":"#REF!"}},null,{"$f":"E37/#REF!-1","v":{"$error":"#REF!"}},null,{"$f":"G37/#REF!-1","v":{"$error":"#REF!"}},null,{"$f":"I37/#REF!-1","v":{"$error":"#REF!"}},null,{"$f":"K37/#REF!-1","v":{"$error":"#REF!"}},null,{"$f":"M37/#REF!-1","v":{"$error":"#REF!"}},459.96,{"$f":"O37/#REF!-1","v":{"$error":"#REF!"}},459.96,{"$f":"Q37/SUM(#REF!+#REF!+#REF!+#REF!+#REF!+#REF!+#REF!)-1","v":{"$error":"#REF!"}}]
[null,"旅客周转量       （万人公里）",null,{"$f":"C38/#REF!-1","v":{"$error":"#REF!"}},null,{"$f":"E38/#REF!-1","v":{"$error":"#REF!"}},null,{"$f":"G38/#REF!-1","v":{"$error":"#REF!"}},null,{"$f":"I38/#REF!-1","v":{"$error":"#REF!"}},null,{"$f":"K38/#REF!-1","v":{"$error":"#REF!"}},null,{"$f":"M38/#REF!-1","v":{"$error":"#REF!"}},4978.83,{"$f":"O38/#REF!-1","v":{"$error":"#REF!"}},4978.83,{"$f":"Q38/SUM(#REF!+#REF!+#REF!+#REF!+#REF!+#REF!+#REF!)-1","v":{"$error":"#REF!"}}]
[null,"其中城市内客运量 （万人次）",null,{"$f":"C39/#REF!-1","v":{"$error":"#REF!"}},null,{"$f":"E39/#REF!-1","v":{"$error":"#REF!"}},null,{"$f":"G39/#REF!-1","v":{"$error":"#REF!"}},null,{"$f":"I39/#REF!-1","v":{"$error":"#REF!"}},null,{"$f":"K39/#REF!-1","v":{"$error":"#REF!"}},null,{"$f":"M39/#REF!-1","v":{"$error":"#REF!"}},286.19,{"$f":"O39/#REF!-1","v":{"$error":"#REF!"}},286.19,{"$f":"Q39/SUM(#REF!+#REF!+#REF!+#REF!+#REF!+#REF!+#REF!)-1","v":{"$error":"#REF!"}}]
[null,"其中城市内旅客周转量  (万人公里)",null,{"$f":"C40/#REF!-1","v":{"$error":"#REF!"}},null,{"$f":"E40/#REF!-1","v":{"$error":"#REF!"}},null,{"$f":"G40/#REF!-1","v":{"$error":"#REF!"}},null,{"$f":"I40/#REF!-1","v":{"$error":"#REF!"}},null,{"$f":"K40/#REF!-1","v":{"$error":"#REF!"}},null,{"$f":"M40/#REF!-1","v":{"$error":"#REF!"}},1773.21,{"$f":"O40/#REF!-1","v":{"$error":"#REF!"}},1773.21,{"$f":"Q40/SUM(#REF!+#REF!+#REF!+#REF!+#REF!+#REF!+#REF!)-1","v":{"$error":"#REF!"}}]
["荆州市","客运量           （万人次）",null,{"$f":"C41/#REF!-1","v":{"$error":"#REF!"}},null,{"$f":"E41/#REF!-1","v":{"$error":"#REF!"}},null,{"$f":"G41/#REF!-1","v":{"$error":"#REF!"}},null,{"$f":"I41/#REF!-1","v":{"$error":"#REF!"}},null,{"$f":"K41/#REF!-1","v":{"$error":"#REF!"}},null,{"$f":"M41/#REF!-1","v":{"$error":"#REF!"}},711.12,{"$f":"O41/#REF!-1","v":{"$error":"#REF!"}},711.12,{"$f":"Q41/SUM(#REF!+#REF!+#REF!+#REF!+#REF!+#REF!+#REF!)-1","v":{"$error":"#REF!"}}]
[null,"旅客周转量       （万人公里）",null,{"$f":"C42/#REF!-1","v":{"$error":"#REF!"}},null,{"$f":"E42/#REF!-1","v":{"$error":"#REF!"}},null,{"$f":"G42/#REF!-1","v":{"$error":"#REF!"}},null,{"$f":"I42/#REF!-1","v":{"$error":"#REF!"}},null,{"$f":"K42/#REF!-1","v":{"$error":"#REF!"}},null,{"$f":"M42/#REF!-1","v":{"$error":"#REF!"}},3968.79,{"$f":"O42/#REF!-1","v":{"$error":"#REF!"}},3968.79,{"$f":"Q42/SUM(#REF!+#REF!+#REF!+#REF!+#REF!+#REF!+#REF!)-1","v":{"$error":"#REF!"}}]
[null,"其中城市内客运量 （万人次）",null,{"$f":"C43/#REF!-1","v":{"$error":"#REF!"}},null,{"$f":"E43/#REF!-1","v":{"$error":"#REF!"}},null,{"$f":"G43/#REF!-1","v":{"$error":"#REF!"}},null,{"$f":"I43/#REF!-1","v":{"$error":"#REF!"}},null,{"$f":"K43/#REF!-1","v":{"$error":"#REF!"}},null,{"$f":"M43/#REF!-1","v":{"$error":"#REF!"}},702.8,{"$f":"O43/#REF!-1","v":{"$error":"#REF!"}},{"v":702.8,"d":"702.80"},{"$f":"Q43/SUM(#REF!+#REF!+#REF!+#REF!+#REF!+#REF!+#REF!)-1","v":{"$error":"#REF!"}}]
[null,"其中城市内旅客周转量  (万人公里)",null,{"$f":"C44/#REF!-1","v":{"$error":"#REF!"}},null,{"$f":"E44/#REF!-1","v":{"$error":"#REF!"}},null,{"$f":"G44/#REF!-1","v":{"$error":"#REF!"}},null,{"$f":"I44/#REF!-1","v":{"$error":"#REF!"}},null,{"$f":"K44/#REF!-1","v":{"$error":"#REF!"}},null,{"$f":"M44/#REF!-1","v":{"$error":"#REF!"}},3865.42,{"$f":"O44/#REF!-1","v":{"$error":"#REF!"}},3865.42,{"$f":"Q44/SUM(#REF!+#REF!+#REF!+#REF!+#REF!+#REF!+#REF!)-1","v":{"$error":"#REF!"}}]
["黄冈市","客运量           （万人次）",null,{"$f":"C45/#REF!-1","v":{"$error":"#REF!"}},null,{"$f":"E45/#REF!-1","v":{"$error":"#REF!"}},null,{"$f":"G45/#REF!-1","v":{"$error":"#REF!"}},null,{"$f":"I45/#REF!-1","v":{"$error":"#REF!"}},null,{"$f":"K45/#REF!-1","v":{"$error":"#REF!"}},null,{"$f":"M45/#REF!-1","v":{"$error":"#REF!"}},602.34,{"$f":"O45/#REF!-1","v":{"$error":"#REF!"}},602.34,{"$f":"Q45/SUM(#REF!+#REF!+#REF!+#REF!+#REF!+#REF!+#REF!)-1","v":{"$error":"#REF!"}}]
[null,"旅客周转量       （万人公里）",null,{"$f":"C46/#REF!-1","v":{"$error":"#REF!"}},null,{"$f":"E46/#REF!-1","v":{"$error":"#REF!"}},null,{"$f":"G46/#REF!-1","v":{"$error":"#REF!"}},null,{"$f":"I46/#REF!-1","v":{"$error":"#REF!"}},null,{"$f":"K46/#REF!-1","v":{"$error":"#REF!"}},null,{"$f":"M46/#REF!-1","v":{"$error":"#REF!"}},8182.59,{"$f":"O46/#REF!-1","v":{"$error":"#REF!"}},8182.59,{"$f":"Q46/SUM(#REF!+#REF!+#REF!+#REF!+#REF!+#REF!+#REF!)-1","v":{"$error":"#REF!"}}]
[null,"其中城市内客运量 （万人次）",null,{"$f":"C47/#REF!-1","v":{"$error":"#REF!"}},null,{"$f":"E47/#REF!-1","v":{"$error":"#REF!"}},null,{"$f":"G47/#REF!-1","v":{"$error":"#REF!"}},null,{"$f":"I47/#REF!-1","v":{"$error":"#REF!"}},null,{"$f":"K47/#REF!-1","v":{"$error":"#REF!"}},null,{"$f":"M47/#REF!-1","v":{"$error":"#REF!"}},359.88,{"$f":"O47/#REF!-1","v":{"$error":"#REF!"}},359.88,{"$f":"Q47/SUM(#REF!+#REF!+#REF!+#REF!+#REF!+#REF!+#REF!)-1","v":{"$error":"#REF!"}}]
[null,"其中城市内旅客周转量  (万人公里)",null,{"$f":"C48/#REF!-1","v":{"$error":"#REF!"}},null,{"$f":"E48/#REF!-1","v":{"$error":"#REF!"}},null,{"$f":"G48/#REF!-1","v":{"$error":"#REF!"}},null,{"$f":"I48/#REF!-1","v":{"$error":"#REF!"}},null,{"$f":"K48/#REF!-1","v":{"$error":"#REF!"}},null,{"$f":"M48/#REF!-1","v":{"$error":"#REF!"}},3011.9,{"$f":"O48/#REF!-1","v":{"$error":"#REF!"}},{"v":3011.9,"d":"3011.90"},{"$f":"Q48/SUM(#REF!+#REF!+#REF!+#REF!+#REF!+#REF!+#REF!)-1","v":{"$error":"#REF!"}}]
["咸宁市","客运量           （万人次）",null,{"$f":"C49/#REF!-1","v":{"$error":"#REF!"}},null,{"$f":"E49/#REF!-1","v":{"$error":"#REF!"}},null,{"$f":"G49/#REF!-1","v":{"$error":"#REF!"}},null,{"$f":"I49/#REF!-1","v":{"$error":"#REF!"}},null,{"$f":"K49/#REF!-1","v":{"$error":"#REF!"}},null,{"$f":"M49/#REF!-1","v":{"$error":"#REF!"}},620.62,{"$f":"O49/#REF!-1","v":{"$error":"#REF!"}},620.62,{"$f":"Q49/SUM(#REF!+#REF!+#REF!+#REF!+#REF!+#REF!+#REF!)-1","v":{"$error":"#REF!"}}]
[null,"旅客周转量       （万人公里）",null,{"$f":"C50/#REF!-1","v":{"$error":"#REF!"}},null,{"$f":"E50/#REF!-1","v":{"$error":"#REF!"}},null,{"$f":"G50/#REF!-1","v":{"$error":"#REF!"}},null,{"$f":"I50/#REF!-1","v":{"$error":"#REF!"}},null,{"$f":"K50/#REF!-1","v":{"$error":"#REF!"}},null,{"$f":"M50/#REF!-1","v":{"$error":"#REF!"}},6305.94,{"$f":"O50/#REF!-1","v":{"$error":"#REF!"}},6305.94,{"$f":"Q50/SUM(#REF!+#REF!+#REF!+#REF!+#REF!+#REF!+#REF!)-1","v":{"$error":"#REF!"}}]
[null,"其中城市内客运量 （万人次）",null,{"$f":"C51/#REF!-1","v":{"$error":"#REF!"}},null,{"$f":"E51/#REF!-1","v":{"$error":"#REF!"}},null,{"$f":"G51/#REF!-1","v":{"$error":"#REF!"}},null,{"$f":"I51/#REF!-1","v":{"$error":"#REF!"}},null,{"$f":"K51/#REF!-1","v":{"$error":"#REF!"}},null,{"$f":"M51/#REF!-1","v":{"$error":"#REF!"}},445.83,{"$f":"O51/#REF!-1","v":{"$error":"#REF!"}},445.83,{"$f":"Q51/SUM(#REF!+#REF!+#REF!+#REF!+#REF!+#REF!+#REF!)-1","v":{"$error":"#REF!"}}]
[null,"其中城市内旅客周转量  (万人公里)",null,{"$f":"C52/#REF!-1","v":{"$error":"#REF!"}},null,{"$f":"E52/#REF!-1","v":{"$error":"#REF!"}},null,{"$f":"G52/#REF!-1","v":{"$error":"#REF!"}},null,{"$f":"I52/#REF!-1","v":{"$error":"#REF!"}},null,{"$f":"K52/#REF!-1","v":{"$error":"#REF!"}},null,{"$f":"M52/#REF!-1","v":{"$error":"#REF!"}},2224.44,{"$f":"O52/#REF!-1","v":{"$error":"#REF!"}},2224.44,{"$f":"Q52/SUM(#REF!+#REF!+#REF!+#REF!+#REF!+#REF!+#REF!)-1","v":{"$error":"#REF!"}}]
["随州市","客运量           （万人次）",null,{"$f":"C53/#REF!-1","v":{"$error":"#REF!"}},null,{"$f":"E53/#REF!-1","v":{"$error":"#REF!"}},null,{"$f":"G53/#REF!-1","v":{"$error":"#REF!"}},null,{"$f":"I53/#REF!-1","v":{"$error":"#REF!"}},null,{"$f":"K53/#REF!-1","v":{"$error":"#REF!"}},null,{"$f":"M53/#REF!-1","v":{"$error":"#REF!"}},151,{"$f":"O53/#REF!-1","v":{"$error":"#REF!"}},{"v":151,"d":"151.00"},{"$f":"Q53/SUM(#REF!+#REF!+#REF!+#REF!+#REF!+#REF!+#REF!)-1","v":{"$error":"#REF!"}}]
[null,"旅客周转量       （万人公里）",null,{"$f":"C54/#REF!-1","v":{"$error":"#REF!"}},null,{"$f":"E54/#REF!-1","v":{"$error":"#REF!"}},null,{"$f":"G54/#REF!-1","v":{"$error":"#REF!"}},null,{"$f":"I54/#REF!-1","v":{"$error":"#REF!"}},null,{"$f":"K54/#REF!-1","v":{"$error":"#REF!"}},null,{"$f":"M54/#REF!-1","v":{"$error":"#REF!"}},1068.83,{"$f":"O54/#REF!-1","v":{"$error":"#REF!"}},1068.83,{"$f":"Q54/SUM(#REF!+#REF!+#REF!+#REF!+#REF!+#REF!+#REF!)-1","v":{"$error":"#REF!"}}]
[null,"其中城市内客运量 （万人次）",null,{"$f":"C55/#REF!-1","v":{"$error":"#REF!"}},null,{"$f":"E55/#REF!-1","v":{"$error":"#REF!"}},null,{"$f":"G55/#REF!-1","v":{"$error":"#REF!"}},null,{"$f":"I55/#REF!-1","v":{"$error":"#REF!"}},null,{"$f":"K55/#REF!-1","v":{"$error":"#REF!"}},null,{"$f":"M55/#REF!-1","v":{"$error":"#REF!"}},123.52,{"$f":"O55/#REF!-1","v":{"$error":"#REF!"}},123.52,{"$f":"Q55/SUM(#REF!+#REF!+#REF!+#REF!+#REF!+#REF!+#REF!)-1","v":{"$error":"#REF!"}}]
[null,"其中城市内旅客周转量  (万人公里)",null,{"$f":"C56/#REF!-1","v":{"$error":"#REF!"}},null,{"$f":"E56/#REF!-1","v":{"$error":"#REF!"}},null,{"$f":"G56/#REF!-1","v":{"$error":"#REF!"}},null,{"$f":"I56/#REF!-1","v":{"$error":"#REF!"}},null,{"$f":"K56/#REF!-1","v":{"$error":"#REF!"}},null,{"$f":"M56/#REF!-1","v":{"$error":"#REF!"}},607.76,{"$f":"O56/#REF!-1","v":{"$error":"#REF!"}},607.76,{"$f":"Q56/SUM(#REF!+#REF!+#REF!+#REF!+#REF!+#REF!+#REF!)-1","v":{"$error":"#REF!"}}]
["恩施州","客运量           （万人次）",null,{"$f":"C57/#REF!-1","v":{"$error":"#REF!"}},null,{"$f":"E57/#REF!-1","v":{"$error":"#REF!"}},null,{"$f":"G57/#REF!-1","v":{"$error":"#REF!"}},null,{"$f":"I57/#REF!-1","v":{"$error":"#REF!"}},null,{"$f":"K57/#REF!-1","v":{"$error":"#REF!"}},null,{"$f":"M57/#REF!-1","v":{"$error":"#REF!"}},505.93,{"$f":"O57/#REF!-1","v":{"$error":"#REF!"}},505.93,{"$f":"Q57/SUM(#REF!+#REF!+#REF!+#REF!+#REF!+#REF!+#REF!)-1","v":{"$error":"#REF!"}}]
[null,"旅客周转量       （万人公里）",null,{"$f":"C58/#REF!-1","v":{"$error":"#REF!"}},null,{"$f":"E58/#REF!-1","v":{"$error":"#REF!"}},null,{"$f":"G58/#REF!-1","v":{"$error":"#REF!"}},null,{"$f":"I58/#REF!-1","v":{"$error":"#REF!"}},null,{"$f":"K58/#REF!-1","v":{"$error":"#REF!"}},null,{"$f":"M58/#REF!-1","v":{"$error":"#REF!"}},3998.4,{"$f":"O58/#REF!-1","v":{"$error":"#REF!"}},{"v":3998.4,"d":"3998.40"},{"$f":"Q58/SUM(#REF!+#REF!+#REF!+#REF!+#REF!+#REF!+#REF!)-1","v":{"$error":"#REF!"}}]
[null,"其中城市内客运量 （万人次）",null,{"$f":"C59/#REF!-1","v":{"$error":"#REF!"}},null,{"$f":"E59/#REF!-1","v":{"$error":"#REF!"}},null,{"$f":"G59/#REF!-1","v":{"$error":"#REF!"}},null,{"$f":"I59/#REF!-1","v":{"$error":"#REF!"}},null,{"$f":"K59/#REF!-1","v":{"$error":"#REF!"}},null,{"$f":"M59/#REF!-1","v":{"$error":"#REF!"}},391.45,{"$f":"O59/#REF!-1","v":{"$error":"#REF!"}},391.45,{"$f":"Q59/SUM(#REF!+#REF!+#REF!+#REF!+#REF!+#REF!+#REF!)-1","v":{"$error":"#REF!"}}]
[null,"其中城市内旅客周转量  (万人公里)",null,{"$f":"C60/#REF!-1","v":{"$error":"#REF!"}},null,{"$f":"E60/#REF!-1","v":{"$error":"#REF!"}},null,{"$f":"G60/#REF!-1","v":{"$error":"#REF!"}},null,{"$f":"I60/#REF!-1","v":{"$error":"#REF!"}},null,{"$f":"K60/#REF!-1","v":{"$error":"#REF!"}},null,{"$f":"M60/#REF!-1","v":{"$error":"#REF!"}},2259.37,{"$f":"O60/#REF!-1","v":{"$error":"#REF!"}},2259.37,{"$f":"Q60/SUM(#REF!+#REF!+#REF!+#REF!+#REF!+#REF!+#REF!)-1","v":{"$error":"#REF!"}}]
["仙桃市","客运量           （万人次）",null,{"$f":"C61/#REF!-1","v":{"$error":"#REF!"}},null,{"$f":"E61/#REF!-1","v":{"$error":"#REF!"}},null,{"$f":"G61/#REF!-1","v":{"$error":"#REF!"}},null,{"$f":"I61/#REF!-1","v":{"$error":"#REF!"}},null,{"$f":"K61/#REF!-1","v":{"$error":"#REF!"}},null,{"$f":"M61/#REF!-1","v":{"$error":"#REF!"}},138.55,{"$f":"O61/#REF!-1","v":{"$error":"#REF!"}},138.55,{"$f":"Q61/SUM(#REF!+#REF!+#REF!+#REF!+#REF!+#REF!+#REF!)-1","v":{"$error":"#REF!"}}]
[null,"旅客周转量       （万人公里）",null,{"$f":"C62/#REF!-1","v":{"$error":"#REF!"}},null,{"$f":"E62/#REF!-1","v":{"$error":"#REF!"}},null,{"$f":"G62/#REF!-1","v":{"$error":"#REF!"}},null,{"$f":"I62/#REF!-1","v":{"$error":"#REF!"}},null,{"$f":"K62/#REF!-1","v":{"$error":"#REF!"}},null,{"$f":"M62/#REF!-1","v":{"$error":"#REF!"}},1071.48,{"$f":"O62/#REF!-1","v":{"$error":"#REF!"}},1071.48,{"$f":"Q62/SUM(#REF!+#REF!+#REF!+#REF!+#REF!+#REF!+#REF!)-1","v":{"$error":"#REF!"}}]
[null,"其中城市内客运量 （万人次）",null,{"$f":"C63/#REF!-1","v":{"$error":"#REF!"}},null,{"$f":"E63/#REF!-1","v":{"$error":"#REF!"}},null,{"$f":"G63/#REF!-1","v":{"$error":"#REF!"}},null,{"$f":"I63/#REF!-1","v":{"$error":"#REF!"}},null,{"$f":"K63/#REF!-1","v":{"$error":"#REF!"}},null,{"$f":"M63/#REF!-1","v":{"$error":"#REF!"}},115.16,{"$f":"O63/#REF!-1","v":{"$error":"#REF!"}},115.16,{"$f":"Q63/SUM(#REF!+#REF!+#REF!+#REF!+#REF!+#REF!+#REF!)-1","v":{"$error":"#REF!"}}]
[null,"其中城市内旅客周转量  (万人公里)",null,{"$f":"C64/#REF!-1","v":{"$error":"#REF!"}},null,{"$f":"E64/#REF!-1","v":{"$error":"#REF!"}},null,{"$f":"G64/#REF!-1","v":{"$error":"#REF!"}},null,{"$f":"I64/#REF!-1","v":{"$error":"#REF!"}},null,{"$f":"K64/#REF!-1","v":{"$error":"#REF!"}},null,{"$f":"M64/#REF!-1","v":{"$error":"#REF!"}},804.22,{"$f":"O64/#REF!-1","v":{"$error":"#REF!"}},804.22,{"$f":"Q64/SUM(#REF!+#REF!+#REF!+#REF!+#REF!+#REF!+#REF!)-1","v":{"$error":"#REF!"}}]
["潜江市","客运量           （万人次）",null,{"$f":"C65/#REF!-1","v":{"$error":"#REF!"}},null,{"$f":"E65/#REF!-1","v":{"$error":"#REF!"}},null,{"$f":"G65/#REF!-1","v":{"$error":"#REF!"}},null,{"$f":"I65/#REF!-1","v":{"$error":"#REF!"}},null,{"$f":"K65/#REF!-1","v":{"$error":"#REF!"}},null,{"$f":"M65/#REF!-1","v":{"$error":"#REF!"}},215.68,{"$f":"O65/#REF!-1","v":{"$error":"#REF!"}},215.68,{"$f":"Q65/SUM(#REF!+#REF!+#REF!+#REF!+#REF!+#REF!+#REF!)-1","v":{"$error":"#REF!"}}]
[null,"旅客周转量       （万人公里）",null,{"$f":"C66/#REF!-1","v":{"$error":"#REF!"}},null,{"$f":"E66/#REF!-1","v":{"$error":"#REF!"}},null,{"$f":"G66/#REF!-1","v":{"$error":"#REF!"}},null,{"$f":"I66/#REF!-1","v":{"$error":"#REF!"}},null,{"$f":"K66/#REF!-1","v":{"$error":"#REF!"}},null,{"$f":"M66/#REF!-1","v":{"$error":"#REF!"}},2221.5,{"$f":"O66/#REF!-1","v":{"$error":"#REF!"}},{"v":2221.5,"d":"2221.50"},{"$f":"Q66/SUM(#REF!+#REF!+#REF!+#REF!+#REF!+#REF!+#REF!)-1","v":{"$error":"#REF!"}}]
[null,"其中城市内客运量 （万人次）",null,{"$f":"C67/#REF!-1","v":{"$error":"#REF!"}},null,{"$f":"E67/#REF!-1","v":{"$error":"#REF!"}},null,{"$f":"G67/#REF!-1","v":{"$error":"#REF!"}},null,{"$f":"I67/#REF!-1","v":{"$error":"#REF!"}},null,{"$f":"K67/#REF!-1","v":{"$error":"#REF!"}},null,{"$f":"M67/#REF!-1","v":{"$error":"#REF!"}},76.36,{"$f":"O67/#REF!-1","v":{"$error":"#REF!"}},76.36,{"$f":"Q67/SUM(#REF!+#REF!+#REF!+#REF!+#REF!+#REF!+#REF!)-1","v":{"$error":"#REF!"}}]
[null,"其中城市内旅客周转量  (万人公里)",null,{"$f":"C68/#REF!-1","v":{"$error":"#REF!"}},null,{"$f":"E68/#REF!-1","v":{"$error":"#REF!"}},null,{"$f":"G68/#REF!-1","v":{"$error":"#REF!"}},null,{"$f":"I68/#REF!-1","v":{"$error":"#REF!"}},null,{"$f":"K68/#REF!-1","v":{"$error":"#REF!"}},null,{"$f":"M68/#REF!-1","v":{"$error":"#REF!"}},297.8,{"$f":"O68/#REF!-1","v":{"$error":"#REF!"}},{"v":297.8,"d":"297.80"},{"$f":"Q68/SUM(#REF!+#REF!+#REF!+#REF!+#REF!+#REF!+#REF!)-1","v":{"$error":"#REF!"}}]
["天门市","客运量           （万人次）",null,{"$f":"C69/#REF!-1","v":{"$error":"#REF!"}},null,{"$f":"E69/#REF!-1","v":{"$error":"#REF!"}},null,{"$f":"G69/#REF!-1","v":{"$error":"#REF!"}},null,{"$f":"I69/#REF!-1","v":{"$error":"#REF!"}},null,{"$f":"K69/#REF!-1","v":{"$error":"#REF!"}},null,{"$f":"M69/#REF!-1","v":{"$error":"#REF!"}},115.84,{"$f":"O69/#REF!-1","v":{"$error":"#REF!"}},{"$f":"C69+E69+G69+I69+K69+M69+O69","v":115.84},{"$f":"Q69/SUM(#REF!+#REF!+#REF!+#REF!+#REF!+#REF!+#REF!)-1","v":{"$error":"#REF!"}}]
[null,"旅客周转量       （万人公里）",null,{"$f":"C70/#REF!-1","v":{"$error":"#REF!"}},null,{"$f":"E70/#REF!-1","v":{"$error":"#REF!"}},null,{"$f":"G70/#REF!-1","v":{"$error":"#REF!"}},null,{"$f":"I70/#REF!-1","v":{"$error":"#REF!"}},null,{"$f":"K70/#REF!-1","v":{"$error":"#REF!"}},null,{"$f":"M70/#REF!-1","v":{"$error":"#REF!"}},1344.18,{"$f":"O70/#REF!-1","v":{"$error":"#REF!"}},1344.18,{"$f":"Q70/SUM(#REF!+#REF!+#REF!+#REF!+#REF!+#REF!+#REF!)-1","v":{"$error":"#REF!"}}]
[null,"其中城市内客运量 （万人次）",null,{"$f":"C71/#REF!-1","v":{"$error":"#REF!"}},null,{"$f":"E71/#REF!-1","v":{"$error":"#REF!"}},null,{"$f":"G71/#REF!-1","v":{"$error":"#REF!"}},null,{"$f":"I71/#REF!-1","v":{"$error":"#REF!"}},null,{"$f":"K71/#REF!-1","v":{"$error":"#REF!"}},null,{"$f":"M71/#REF!-1","v":{"$error":"#REF!"}},58,{"$f":"O71/#REF!-1","v":{"$error":"#REF!"}},{"v":58,"d":"58.00"},{"$f":"Q71/SUM(#REF!+#REF!+#REF!+#REF!+#REF!+#REF!+#REF!)-1","v":{"$error":"#REF!"}}]
[null,"其中城市内旅客周转量  (万人公里)",null,{"$f":"C72/#REF!-1","v":{"$error":"#REF!"}},null,{"$f":"E72/#REF!-1","v":{"$error":"#REF!"}},null,{"$f":"G72/#REF!-1","v":{"$error":"#REF!"}},null,{"$f":"I72/#REF!-1","v":{"$error":"#REF!"}},null,{"$f":"K72/#REF!-1","v":{"$error":"#REF!"}},null,{"$f":"M72/#REF!-1","v":{"$error":"#REF!"}},209.99,{"$f":"O72/#REF!-1","v":{"$error":"#REF!"}},209.99,{"$f":"Q72/SUM(#REF!+#REF!+#REF!+#REF!+#REF!+#REF!+#REF!)-1","v":{"$error":"#REF!"}}]
["林区","客运量           （万人次）",null,{"$f":"C73/#REF!-1","v":{"$error":"#REF!"}},null,{"$f":"E73/#REF!-1","v":{"$error":"#REF!"}},null,{"$f":"G73/#REF!-1","v":{"$error":"#REF!"}},null,{"$f":"I73/#REF!-1","v":{"$error":"#REF!"}},null,{"$f":"K73/#REF!-1","v":{"$error":"#REF!"}},null,{"$f":"M73/#REF!-1","v":{"$error":"#REF!"}},11.1,{"$f":"O73/#REF!-1","v":{"$error":"#REF!"}},{"v":11.1,"d":"11.10"},{"$f":"Q73/SUM(#REF!+#REF!+#REF!+#REF!+#REF!+#REF!+#REF!)-1","v":{"$error":"#REF!"}}]
[null,"旅客周转量       （万人公里）",null,{"$f":"C74/#REF!-1","v":{"$error":"#REF!"}},null,{"$f":"E74/#REF!-1","v":{"$error":"#REF!"}},null,{"$f":"G74/#REF!-1","v":{"$error":"#REF!"}},null,{"$f":"I74/#REF!-1","v":{"$error":"#REF!"}},null,{"$f":"K74/#REF!-1","v":{"$error":"#REF!"}},null,{"$f":"M74/#REF!-1","v":{"$error":"#REF!"}},105.45,{"$f":"O74/#REF!-1","v":{"$error":"#REF!"}},105.45,{"$f":"Q74/SUM(#REF!+#REF!+#REF!+#REF!+#REF!+#REF!+#REF!)-1","v":{"$error":"#REF!"}}]
[null,"其中城市内客运量 （万人次）",null,{"$f":"C75/#REF!-1","v":{"$error":"#REF!"}},null,{"$f":"E75/#REF!-1","v":{"$error":"#REF!"}},null,{"$f":"G75/#REF!-1","v":{"$error":"#REF!"}},null,{"$f":"I75/#REF!-1","v":{"$error":"#REF!"}},null,{"$f":"K75/#REF!-1","v":{"$error":"#REF!"}},null,{"$f":"M75/#REF!-1","v":{"$error":"#REF!"}},9.8,{"$f":"O75/#REF!-1","v":{"$error":"#REF!"}},{"v":9.8,"d":"9.80"},{"$f":"Q75/SUM(#REF!+#REF!+#REF!+#REF!+#REF!+#REF!+#REF!)-1","v":{"$error":"#REF!"}}]
[null,"其中城市内旅客周转量  (万人公里)",null,{"$f":"C76/#REF!-1","v":{"$error":"#REF!"}},null,{"$f":"E76/#REF!-1","v":{"$error":"#REF!"}},null,{"$f":"G76/#REF!-1","v":{"$error":"#REF!"}},null,{"$f":"I76/#REF!-1","v":{"$error":"#REF!"}},null,{"$f":"K76/#REF!-1","v":{"$error":"#REF!"}},null,{"$f":"M76/#REF!-1","v":{"$error":"#REF!"}},73.5,{"$f":"O76/#REF!-1","v":{"$error":"#REF!"}},{"v":73.5,"d":"73.50"},{"$f":"Q76/SUM(#REF!+#REF!+#REF!+#REF!+#REF!+#REF!+#REF!)-1","v":{"$error":"#REF!"}}]