Workbook

Sheet  货运
A1: 3月10日厅开会确定拆分方案，1-2月数据以此为准。
A3: 地区 名称 | B3: 指标 | C3: 46023 | D3: 1月与去年同比 | E3: 46054 | F3: 2月与去年同比 | G3: 46082 | H3: 3月与去年同比 | I3: 46113 | J3: 4月与去年同比 | K3: 46143 | L3: 5月与去年同比 | M3: 46174 | N3: 6月与去年同比 | O3: 46204 | P3: 7月与去年同比 | Q3: 46235 | R3: 8月与去年同比 | S3: 累计周转量 | T3: 同比 | V3: 2025年1月 | W3: 1月与去年同比 | X3: 2025年2月 | Y3: 2月与去年同比 | Z3: 2025年3月 | AA3: 3月与去年同比 | AB3: 2025年4月 | AC3: 4月与去年同比 | AD3: 2025年5月 | AE3: 5月与去年同比 | AF3: 2025年6月 | AG3: 6月与去年同比 | AH3: 2025年7月 | AI3: 7月与去年同比 | AJ3: 2025年8月 | AK3: 8月与去年同比 | AL3: 2025年9月 | AM3: 9月与去年同比 | AN3: 2025年10月 | AO3: 10月与去年同比 | AP3: 2025年11月 | AQ3: 11月与去年同比 | AR3: 2025年12月 | AS3: 12月与去年同比 | AT3: 2025年累计 | AU3: 2025年累计同比 | AX3: 2024年1月 | AY3: 1月与去年同比 | AZ3: 2024年2月 | BA3: 2月与去年同比 | BB3: 2024年3月 | BC3: 3月与去年同比 | BD3: 2024年4月 | BE3: 4月与去年同比 | BF3: 2024年5月 | BG3: 5月与去年同比 | BH3: 2024年6月 | BI3: 6月与去年同比 | BJ3: 2024年7月 | BK3: 7月与去年同比 | BL3: 2024年8月 | BM3: 8月与去年同比 | BN3: 2024年9月 | BO3: 9月与去年同比 | BP3: 2024年10月 | BQ3: 10月与去年同比 | BR3: 2024年11月 | BS3: 11月与去年同比 | BT3: 2024年12月 | BU3: 12月与去年同比 | BV3: 2024年累计 | BW3: 累计同比 | BY3: 2023年1月 | BZ3: 1月与去年同比 | CA3: 2023年2月 | CB3: 2月与去年同比 | CC3: 2023年3月 | CD3: 3月与去年同比 | CE3: 2023年4月 | CF3: 4月与去年同比 | CG3: 2023年5月 | CH3: 5月与去年同比 | CI3: 2023年6月 | CJ3: 6月与去年同比 | CK3: 45108 | CL3: 7月与去年同比 | CM3: 45139 | CN3: 8月与去年同比 | CO3: 45170 | CP3: 9月与去年同比 | CQ3: 45200 | CR3: 10月与去年同比 | CS3: 45231 | CT3: 11月与去年同比 | CU3: 45261 | CV3: 12月与去年同比 | CW3: 累计 | CX3: 累计同比 | DM3: 2022年1月 | DN3: 2022年2月 | DO3: 2022年3月 | DP3: 2022年4月 | DQ3: 2022年5月 | DR3: 2022年6月 | DS3: 2022年7月 | DT3: 2022年8月 | DU3: 2022年9月 | DV3: 2022年10月 | DW3: 2022年11月 | DX3: 2022年12月 | DY3: 12月与去年同比 | DZ3: 累计 | EA3: 累计同比 | EC3: 2021年1月 | ED3: 2021年2月 | EE3: 2021年3月 | EF3: 2021年4月 | EG3: 44317 | EH3: 44348 | EI3: 44378 | EJ3: 44409 | EK3: 44440 | EL3: 44470 | EM3: 44501 | EN3: 44531 | EP3: 累计同比
CZ4: 12月环比% | DA4: 11月环比% | DB4: 10月环比% | DC4: 9月环比% | DD4: 8月环比% | DE4: 7月环比% | DF4: 6月环比% | DG4: 5月环比% | DH4: 4月环比% | DI4: 3月环比% | DJ4: 2月份环比 | DK4: 1月份环比 | EO4: 累计
A5: 全省 | B5: 货运量 （万吨） | C5: =C7+C9 -> 17322.043 | D5: =C5/V5-1 -> 0.19778185 | E5: =E7+E9 -> 11089.384 | F5: =E5/X5-1 -> -0.1491624 | G5: =G7+G9 -> 16768.312 | H5: =G5/Z5-1 -> -0.030771437 | I5: =I7+I9 -> 17531.028 | J5: =I5/AB5-1 -> -0.0086271186 | K5: =K7+K9 -> 17582.56 | L5: =K5/AD5-1 -> 0.011890656 | M5: =M7+M9 -> 16844.094 | N5: =M5/AF5-1 -> 0.055809806 | O5: =O7+O9 -> 16285.711 | P5: =O5/AH5-1 -> 0.015419278 | S5: =C5+E5+G5+I5+K5+M5+O5+Q5 -> 113423.13 | T5: =S5/SUM(V5,X5,Z5,AB5,AD5,AF5,AH5,AJ5)-1 -> -0.11324272 | V5: =V7+V9 -> 14461.768 | W5: =V5/AX5-1 -> -0.064907726 | X5: =X7+X9 -> 13033.491 | Y5: =X5/AZ5-1 -> 0.61232207 | Z5: =Z7+Z9 -> 17300.678 | AA5: =Z5/BB5-1 -> 0.12128595 | AB5: =AB7+AB9 -> 17683.587 | AC5: =AB5/BD5-1 -> 0.10211403 | AD5: =AD7+AD9 -> 17375.949 | AE5: =AD5/BF5-1 -> 0.075075947 | AF5: =AF7+AF9 -> 15953.72 | AG5: =AF5/BH5-1 -> 0.070130538 | AH5: =AH7+AH9 -> 16038.41 | AI5: =AH5/BJ5-1 -> 0.0398145 | AJ5: =AJ7+AJ9 -> 16060.151 | AK5: =AJ5/BL5-1 -> 0.0055472205 | AL5: =AL7+AL9 -> 16721.667 | AM5: =AL5/BN5-1 -> 0.029546221 | AN5: =AN7+AN9 -> 15799.319 | AO5: =AN5/BP5-1 -> -0.023263013 | AP5: =AP7+AP9 -> 17081.533 | AQ5: =AP5/BR5-1 -> 0.011229228 | AR5: =AR7+AR9 -> 17922.951 | AS5: =AR5/BT5-1 -> -0.011910484 | AT5: =V5+X5+Z5+AB5+AD5+AF5+AH5+AJ5+AL5+AN5+AP5+AR5 -> 195433.22 | AU5: =AT5/SUM(AX5,AZ5,BB5,BD5,BF5,BH5,BJ5,BL5,BN5,BP5,BR5,BT5)-1 -> 0.056746653 | AW5: =AX5+AZ5+BB5+BD5+BF5+BH5+BJ5+BL5+BN5+BP5+BR5 -> 166799.58 | AX5: =AX7+AX9 -> 15465.605 | AY5: =AX5/BY5-1 -> 0.66888207 | AZ5: =AZ7+AZ9 -> 8083.677 | BA5: =AZ5/CA5-1 -> -0.32592716 | BB5: =BB7+BB9 -> 15429.319 | BC5: =BB5/CC5-1 -> 0.04647016 | BD5: =BD7+BD9 -> 16045.152 | BE5: =BD5/CE5-1 -> 0.12175617 | BF5: =BF7+BF9 -> 16162.531 | BG5: =BF5/CG5-1 -> 0.0946976 | BH5: =BH7+BH9 -> 14908.2 | BI5: =BH5/CI5-1 -> 0.013058376 | BJ5: =BJ7+BJ9 -> 15424.299 | BK5: =BJ5/CK5-1 -> 0.047270518 | BL5: =BL7+BL9 -> 15971.553 | BM5: =BL5/CM5-1 -> 0.032166451 | BN5: =BN7+BN9 -> 16241.784 | BO5: =BN5/CO5-1 -> 0.058551879 | BP5: =BP7+BP9 -> 16175.613 | BQ5: =BP5/CQ5-1 -> 0.059525257 | BR5: =BR7+BR9 -> 16891.85 | BS5: =BR5/CS5-1 -> 0.049813935 | BT5: =BT7+BT9 -> 18138.996 | BU5: =BT5/CU5-1 -> 0.10905866 | BV5: =AX5+AZ5+BB5+BD5+BF5+BH5+BJ5+BL5+BN5+BP5+BR5+BT5 -> 184938.58 | BW5: =BV5/SUM(BY5,CA5,CC5,CE5,CG5,CI5,CK5,CM5,CO5,CQ5,CS5,CU5)-1 -> 0.068729297 | BY5: =BY7+BY9 -> 9267.0447 | BZ5: =BY5/DM5-1 -> -0.13469121 | CA5: =CA7+CA9 -> 11992.29 | CB5: =CA5/DN5-1 -> 0.49355077 | CC5: =CC7+CC9 -> 14744.155 | CD5: =CC5/DO5-1 -> 0.17377826 | CE5: =CE7+CE9 -> 14303.6 | CF5: =CE5/DP5-1 -> 0.23803531 | CG5: =CG7+CG9 -> 14764.38 | CH5: =CG5/DQ5-1 -> 0.16948351 | CI5: =CI7+CI9 -> 14716.032 | CJ5: =CI5/DR5-1 -> 0.23539596 | CK5: =CK7+CK9 -> 14728.094 | CL5: =CK5/DS5-1 -> 0.21033762 | CM5: =CM7+CM9 -> 15473.816 | CN5: =CM5/DT5-1 -> 0.27089464 | CO5: =CO7+CO9 -> 15343.399 | CP5: =CO5/DU5-1 -> 0.13506479 | CQ5: =CQ7+CQ9 -> 15266.849 | CR5: =CQ5/DV5-1 -> 0.20429616 | CS5: =CS7+CS9 -> 16090.328 | CT5: =CS5/DX5-1 -> 0.17257538 | CU5: =CU7+CU9 -> 16355.308 | CV5: =CU5/DX5-1 -> 0.19188567 | CW5: =BY5+CA5+CC5+CE5+CG5+CI5+CK5+CM5+CO5+CQ5+CS5+CU5 -> 173045.3 | CX5: =CW5/SUM(DM5:DX5)-1 -> 0.19358638 | CZ5: =CU5/CS5-1 -> 0.016468266 | DA5: =CS5/CQ5-1 -> 0.053938988 | DB5: =CQ5/CO5-1 -> -0.0049890724 | DC5: =CO5/CM5-1 -> -0.0084282283 | DD5: =CM5/CK5-1 -> 0.050632568 | DE5: =CK5/CI5-1 -> 0.00081966254 | DF5: =CI5/CG5-1 -> -0.0032746211 | DG5: =CG5/CE5-1 -> 0.032214268 | DH5: =CE5/CC5-1 -> -0.029880006 | DI5: =CC5/CA5-1 -> 0.22946956 | DJ5: =(CA5-BY5)/BY5 -> 0.29407922 | DK5: =(BY5-DX5)/DX5 -> -0.3246683 | DM5: =DM7+DM9 -> 10709.523 | DN5: =DN7+DN9 -> 8029.3822 | DO5: =DO7+DO9 -> 12561.278 | DP5: =DP7+DP9 -> 11553.467 | DQ5: =DQ7+DQ9 -> 12624.701 | DR5: =DR7+DR9 -> 11911.996 | DS5: =DS7+DS9 -> 12168.583 | DT5: =DT7+DT9 -> 12175.53 | ... DX5: =DX7+DX9 -> 13722.212 | DY5: -0.062421932 | DZ5: =SUM(DM5:DX5) -> 144979.28 | EA5: =IFERROR(DZ5/SUM(EC5:EN5)-1,"") -> -0.10123549 | EC5: =EC7+EC9 -> 14945.336 | ED5: =ED7+ED9 -> 6495.0054 | EE5: =EE7+EE9 -> 11923.964 | EF5: =EF7+EF9 -> 14358.291 | EG5: =EG7+EG9 -> 14364.367 | EH5: =EH7+EH9 -> 15566.363 | EI5: =EI7+EI9 -> 13749.192 | EJ5: =EJ7+EJ9 -> 12857.503 | ... EN5: =EN7+EN9 -> 14635.806 | EO5: =SUM(EC5:EN5) -> 161309.53
B6: 货物周转量 （万吨公里） | C6: =C8+C10 -> 2238211.1 | D6: =C6/V6-1 -> 0.14599142 | E6: =E8+E10 -> 1550233.6 | F6: =E6/X6-1 -> -0.15726363 | G6: =G8+G10 -> 2286618 | H6: =G6/Z6-1 -> -0.036051782 | I6: =I8+I10 -> 2339073.2 | J6: =I6/AB6-1 -> -0.01196128 | K6: =K8+K10 -> 2370340.3 | L6: =K6/AD6-1 -> -0.014394459 | M6: =M8+M10 -> 2255716.5 | N6: =M6/AF6-1 -> 0.015439906 | O6: =O8+O10 -> 2181925.7 | P6: =O6/AH6-1 -> 0.0067919124 | S6: =C6+E6+G6+I6+K6+M6+O6+Q6 -> 15222118 | T6: =S6/SUM(V6,X6,Z6,AB6,AD6,AF6,AH6,AJ6)-1 -> -0.12977025 | V6: =V8+V10 -> 1953078.4 | W6: =V6/AX6-1 -> -0.060947025 | X6: =X8+X10 -> 1839523.8 | Y6: =X6/AZ6-1 -> 0.52552684 | Z6: =Z8+Z10 -> 2372137.8 | AA6: =Z6/BB6-1 -> 0.12299861 | AB6: =AB8+AB10 -> 2367390.3 | AC6: =AB6/BD6-1 -> 0.11330718 | AD6: =AD8+AD10 -> 2404958.3 | AE6: =AD6/BF6-1 -> 0.10721041 | AF6: =AF8+AF10 -> 2221418.1 | AG6: =AF6/BH6-1 -> 0.11138583 | AH6: =AH8+AH10 -> 2167206.2 | AI6: =AH6/BJ6-1 -> 0.045716533 | AJ6: =AJ8+AJ10 -> 2166355.6 | AK6: =AJ6/BL6-1 -> 0.014740551 | AL6: =AL8+AL10 -> 2263752.3 | AM6: =AL6/BN6-1 -> 0.032288356 | AN6: =AN8+AN10 -> 2102640.3 | AO6: =AN6/BP6-1 -> -0.046302031 | AP6: =AP8+AP10 -> 2203278.9 | AQ6: =AP6/BR6-1 -> -0.028409558 | AR6: =AR8+AR10 -> 2341822.9 | AS6: =AR6/BT6-1 -> -0.064569432 | AT6: =V6+X6+Z6+AB6+AD6+AF6+AH6+AJ6+AL6+AN6+AP6+AR6 -> 26403563 | AU6: =AT6/SUM(AX6,AZ6,BB6,BD6,BF6,BH6,BJ6,BL6,BN6,BP6,BR6,BT6)-1 -> 0.053130569 | AW6: =AX6+AZ6+BB6+BD6+BF6+BH6+BJ6+BL6+BN6+BP6+BR6 -> 22568029 | AX6: =AX8+AX10 -> 2079838.4 | AY6: =AX6/BY6-1 -> 0.42820675 | AZ6: =AZ8+AZ10 -> 1205828.5 | BA6: =AZ6/CA6-1 -> -0.30623222 | BB6: =BB8+BB10 -> 2112324.7 | BC6: =BB6/CC6-1 -> 0.026808815 | BD6: =BD8+BD10 -> 2126448.4 | BE6: =BD6/CE6-1 -> 0.064670716 | BF6: =BF8+BF10 -> 2172087.9 | BG6: =BF6/CG6-1 -> 0.061726112 | BH6: =BH8+BH10 -> 1998782.1 | BI6: =BH6/CI6-1 -> -0.0058040128 | BJ6: =BJ8+BJ10 -> 2072460.5 | BK6: =BJ6/CK6-1 -> 0.020651111 | BL6: =BL8+BL10 -> 2134886.2 | BM6: =BL6/CM6-1 -> 0.0048612073 | BN6: =BN8+BN10 -> 2192945.7 | BO6: =BN6/CO6-1 -> 0.020842893 | BP6: =BP8+BP10 -> 2204723.5 | BQ6: =BP6/CQ6-1 -> 0.042054885 | BR6: =BR8+BR10 -> 2267703.4 | BS6: =BR6/CS6-1 -> 0.021543509 | BT6: =BT8+BT10 -> 2503470.5 | BU6: =BT6/CU6-1 -> 0.088791049 | BV6: =AX6+AZ6+BB6+BD6+BF6+BH6+BJ6+BL6+BN6+BP6+BR6+BT6 -> 25071500 | BW6: =BV6/SUM(BY6,CA6,CC6,CE6,CG6,CI6,CK6,CM6,CO6,CQ6,CS6,CU6)-1 -> 0.034163863 | BY6: =BY8+BY10 -> 1456258.6 | BZ6: =BY6/DM6-1 -> -0.088425274 | CA6: =CA8+CA10 -> 1738086.7 | CB6: =CA6/DN6-1 -> 0.51421123 | CC6: =CC8+CC10 -> 2057174.3 | CD6: =CC6/DO6-1 -> 0.20181252 | CE6: =CE8+CE10 -> 1997282.7 | CF6: =CE6/DP6-1 -> 0.19409991 | CG6: =CG8+CG10 -> 2045808.1 | CH6: =CG6/DQ6-1 -> 0.17198567 | CI6: =CI8+CI10 -> 2010450.7 | CJ6: =CI6/DR6-1 -> 0.23633584 | CK6: =CK8+CK10 -> 2030527.9 | CL6: =CK6/DS6-1 -> 0.20894058 | CM6: =CM8+CM10 -> 2124558.3 | CN6: =CM6/DT6-1 -> 0.25834086 | CO6: =CO8+CO10 -> 2148171.6 | CP6: =CO6/DU6-1 -> 0.1364706 | CQ6: =CQ8+CQ10 -> 2115746.1 | CR6: =CQ6/DV6-1 -> 0.12231338 | CS6: =CS8+CS10 -> 2219879.4 | CT6: =CS6/DX6-1 -> 0.11906446 | CU6: =CU8+CU10 -> 2299312.2 | CV6: =CU6/DX6-1 -> 0.15910739 | CW6: =BY6+CA6+CC6+CE6+CG6+CI6+CK6+CM6+CO6+CQ6+CS6+CU6 -> 24243257 | CX6: =CW6/SUM(DM6:DX6)-1 -> 0.17756625 | CY6: =CW6*1.032 -> 25019041 | CZ6: =CU6/CS6-1 -> 0.0357825 | DA6: =CS6/CQ6-1 -> 0.049218241 | DB6: =CQ6/CO6-1 -> -0.015094477 | DC6: =CO6/CM6-1 -> 0.011114457 | DD6: =CM6/CK6-1 -> 0.046308357 | DE6: =CK6/CI6-1 -> 0.009986378 | DF6: =CI6/CG6-1 -> -0.01728284 | DG6: =CG6/CE6-1 -> 0.024295725 | DH6: =CE6/CC6-1 -> -0.029113552 | DI6: =CC6/CA6-1 -> 0.18358558 | DJ6: =(CA6-BY6)/BY6 -> 0.19352887 | DK6: =(BY6-DX6)/DX6 -> -0.26588477 | DM6: =DM8+DM10 -> 1597519.7 | DN6: =DN8+DN10 -> 1147849.6 | DO6: =DO8+DO10 -> 1711726.5 | DP6: =DP8+DP10 -> 1672626.1 | DQ6: =DQ8+DQ10 -> 1745591.4 | DR6: =DR8+DR10 -> 1626136.4 | DS6: =DS8+DS10 -> 1679592.8 | DT6: =DT8+DT10 -> 1688380.6 | ... DX6: =DX8+DX10 -> 1983692.1 | DY6: 0.04159894 | DZ6: =SUM(DM6:DX6) -> 20587595 | EA6: =IFERROR(DZ6/SUM(EC6:EN6)-1,"") -> -0.062571693 | EC6: =EC8+EC10 -> 2157113.3 | ED6: =ED8+ED10 -> 1097282.5 | EE6: =EE8+EE10 -> 1676880 | EF6: =EF8+EF10 -> 1941623.2 | EG6: =EG8+EG10 -> 1929056.1 | EH6: =EH8+EH10 -> 1982624.9 | EI6: =EI8+EI10 -> 1765481.8 | EJ6: =EJ8+EJ10 -> 1829069 | ... EN6: =EN8+EN10 -> 1904468.3 | EO6: =SUM(EC6:EN6) -> 21961780
B7: 其中规上货运量 (万吨) | C7: 3735.5321 | D7: =C7/V7-1 -> -0.10300103 | E7: 3402.8177 | F7: =E7/X7-1 -> -0.15033938 | G7: 4284.9515 | H7: =G7/Z7-1 -> -0.040988568 | I7: 4183.3731 | J7: =I7/AB7-1 -> -0.086391964 | K7: 4131.7772 | L7: =K7/AD7-1 -> -0.10726263 | M7: 4241.2271 | N7: =M7/AF7-1 -> -0.074476839 | O7: 3754.7823 | P7: =O7/AH7-1 -> -0.025025755 | S7: =C7+E7+G7+I7+K7+M7+O7+Q7 -> 27734.461 | T7: =S7/SUM(V7,X7,Z7,AB7,AD7,AF7,AH7,AJ7)-1 -> -0.18414734 | V7: =SUM(V12,V18,V24,V30,V36,V42,V48,V54,V60,V66,V72,V78,V84,V90,V96,V102,V108) -> 4164.4776 | W7: =V7/AX7-1 -> 0.15846865 | X7: =SUM(X12,X18,X24,X30,X36,X42,X48,X54,X60,X66,X72,X78,X84,X90,X96,X102,X108) -> 4004.914 | Y7: =X7/AZ7-1 -> 0.45450154 | Z7: =SUM(Z12,Z18,Z24,Z30,Z36,Z42,Z48,Z54,Z60,Z66,Z72,Z78,Z84,Z90,Z96,Z102,Z108) -> 4468.0922 | AA7: =Z7/BB7-1 -> 0.22845791 | AB7: =SUM(AB12,AB18,AB24,AB30,AB36,AB42,AB48,AB54,AB60,AB66,AB72,AB78,AB84,AB90,AB96,AB102,AB108) -> 4578.9583 | AC7: =AB7/BD7-1 -> 0.15212191 | AD7: =SUM(AD12,AD18,AD24,AD30,AD36,AD42,AD48,AD54,AD60,AD66,AD72,AD78,AD84,AD90,AD96,AD102,AD108) -> 4628.2113 | AE7: =AD7/BF7-1 -> 0.19602166 | AF7: =SUM(AF12,AF18,AF24,AF30,AF36,AF42,AF48,AF54,AF60,AF66,AF72,AF78,AF84,AF90,AF96,AF102,AF108) -> 4582.5186 | AG7: =AF7/BH7-1 -> 0.16872133 | AH7: =SUM(AH12,AH18,AH24,AH30,AH36,AH42,AH48,AH54,AH60,AH66,AH72,AH78,AH84,AH90,AH96,AH102,AH108) -> 3851.1605 | AI7: =AH7/BJ7-1 -> -0.031668793 | AJ7: =SUM(AJ12,AJ18,AJ24,AJ30,AJ36,AJ42,AJ48,AJ54,AJ60,AJ66,AJ72,AJ78,AJ84,AJ90,AJ96,AJ102,AJ108) -> 3716.1158 | AK7: =AJ7/BL7-1 -> -0.095091742 | AL7: =SUM(AL12,AL18,AL24,AL30,AL36,AL42,AL48,AL54,AL60,AL66,AL72,AL78,AL84,AL90,AL96,AL102,AL108) -> 4005.4214 | AM7: =AL7/BN7-1 -> -0.025319819 | AN7: =SUM(AN12,AN18,AN24,AN30,AN36,AN42,AN48,AN54,AN60,AN66,AN72,AN78,AN84,AN90,AN96,AN102,AN108) -> 3836.8558 | AO7: =AN7/BP7-1 -> -0.058079383 | AP7: =SUM(AP12,AP18,AP24,AP30,AP36,AP42,AP48,AP54,AP60,AP66,AP72,AP78,AP84,AP90,AP96,AP102,AP108) -> 4043.4248 | AQ7: =AP7/BR7-1 -> -0.026502708 | AR7: =SUM(AR12,AR18,AR24,AR30,AR36,AR42,AR48,AR54,AR60,AR66,AR72,AR78,AR84,AR90,AR96,AR102,AR108) -> 4236.9437 | AS7: =AR7/BT7-1 -> -0.097957862 | AT7: =V7+X7+Z7+AB7+AD7+AF7+AH7+AJ7+AL7+AN7+AP7+AR7 -> 50117.094 | AU7: =AT7/SUM(AX7,AZ7,BB7,BD7,BF7,BH7,BJ7,BL7,BN7,BP7,BR7,BT7)-1 -> 0.069332498 | AV7: =AT7/AT5 -> 0.25644101 | AW7: =AX7+AZ7+BB7+BD7+BF7+BH7+BJ7+BL7+BN7+BP7+BR7 -> 42170.586 | AX7: =SUM(AX12,AX18,AX24,AX30,AX36,AX42,AX48,AX54,AX60,AX66,AX72,AX78,AX84,AX90,AX96,AX102,AX108) -> 3594.8125 | AY7: =AX7/BY7-1 -> 1.0571359 | AZ7: =SUM(AZ12,AZ18,AZ24,AZ30,AZ36,AZ42,AZ48,AZ54,AZ60,AZ66,AZ72,AZ78,AZ84,AZ90,AZ96,AZ102,AZ108) -> 2753.4615 | BA7: =AZ7/CA7-1 -> 0.29332202 | BB7: =SUM(BB12,BB18,BB24,BB30,BB36,BB42,BB48,BB54,BB60,BB66,BB72,BB78,BB84,BB90,BB96,BB102,BB108) -> 3637.1553 | BC7: =BB7/CC7-1 -> 0.4974592 | BD7: =SUM(BD12,BD18,BD24,BD30,BD36,BD42,BD48,BD54,BD60,BD66,BD72,BD78,BD84,BD90,BD96,BD102,BD108) -> 3974.3696 | BE7: =BD7/CE7-1 -> 0.50593714 | BF7: =SUM(BF12,BF18,BF24,BF30,BF36,BF42,BF48,BF54,BF60,BF66,BF72,BF78,BF84,BF90,BF96,BF102,BF108) -> 3869.6718 | BG7: =BF7/CG7-1 -> 0.48645997 | BH7: =SUM(BH12,BH18,BH24,BH30,BH36,BH42,BH48,BH54,BH60,BH66,BH72,BH78,BH84,BH90,BH96,BH102,BH108) -> 3920.9677 | BI7: =BH7/CI7-1 -> 0.45836423 | BJ7: =SUM(BJ12,BJ18,BJ24,BJ30,BJ36,BJ42,BJ48,BJ54,BJ60,BJ66,BJ72,BJ78,BJ84,BJ90,BJ96,BJ102,BJ108) -> 3977.1108 | BK7: =BJ7/CK7-1 -> 0.54030667 | BL7: =SUM(BL12,BL18,BL24,BL30,BL36,BL42,BL48,BL54,BL60,BL66,BL72,BL78,BL84,BL90,BL96,BL102,BL108) -> 4106.6216 | BM7: =BL7/CM7-1 -> 0.53886252 | BN7: =SUM(BN12,BN18,BN24,BN30,BN36,BN42,BN48,BN54,BN60,BN66,BN72,BN78,BN84,BN90,BN96,BN102,BN108) -> 4109.4725 | BO7: =BN7/CO7-1 -> 0.57121442 | BP7: =SUM(BP12,BP18,BP24,BP30,BP36,BP42,BP48,BP54,BP60,BP66,BP72,BP78,BP84,BP90,BP96,BP102,BP108) -> 4073.4386 | BQ7: =BP7/CQ7-1 -> 0.51048493 | BR7: =SUM(BR12,BR18,BR24,BR30,BR36,BR42,BR48,BR54,BR60,BR66,BR72,BR78,BR84,BR90,BR96,BR102,BR108) -> 4153.5039 | BS7: =BR7/CS7-1 -> 0.43933328 | BT7: =SUM(BT12,BT18,BT24,BT30,BT36,BT42,BT48,BT54,BT60,BT66,BT72,BT78,BT84,BT90,BT96,BT102,BT108) -> 4697.0574 | BU7: =BT7/CU7-1 -> 0.55571383 | BV7: =AX7+AZ7+BB7+BD7+BF7+BH7+BJ7+BL7+BN7+BP7+BR7+BT7 -> 46867.643 | BW7: =BV7/SUM(BY7,CA7,CC7,CE7,CG7,CI7,CK7,CM7,CO7,CQ7,CS7,CU7)-1 -> 0.52642446 | BX7: =BV7/BV5 -> 0.25342275 | BY7: =SUM(BY12,BY18,BY24,BY30,BY36,BY42,BY48,BY54,BY60,BY66,BY72,BY78,BY84,BY90,BY96,BY102,BY108) -> 1747.4842 | BZ7: =BY7/DM7-1 -> 1.7651646 | CA7: =SUM(CA12,CA18,CA24,CA30,CA36,CA42,CA48,CA54,CA60,CA66,CA72,CA78,CA84,CA90,CA96,CA102,CA108) -> 2128.9837 | CB7: =CA7/DN7-1 -> 2.8494631 | CC7: =SUM(CC12,CC18,CC24,CC30,CC36,CC42,CC48,CC54,CC60,CC66,CC72,CC78,CC84,CC90,CC96,CC102,CC108) -> 2428.8844 | CD7: =CC7/DO7-1 -> 2.7380932 | CE7: =SUM(CE12,CE18,CE24,CE30,CE36,CE42,CE48,CE54,CE60,CE66,CE72,CE78,CE84,CE90,CE96,CE102,CE108) -> 2639.1338 | CF7: =CE7/DP7-1 -> 3.3646676 | CG7: =SUM(CG12,CG18,CG24,CG30,CG36,CG42,CG48,CG54,CG60,CG66,CG72,CG78,CG84,CG90,CG96,CG102,CG108) -> 2603.2802 | CH7: =CG7/DQ7-1 -> 3.0756646 | CI7: =SUM(CI12,CI18,CI24,CI30,CI36,CI42,CI48,CI54,CI60,CI66,CI72,CI78,CI84,CI90,CI96,CI102,CI108) -> 2688.6066 | CJ7: =CI7/DR7-1 -> 3.1369906 | CK7: =SUM(CK12,CK18,CK24,CK30,CK36,CK42,CK48,CK54,CK60,CK66,CK72,CK78,CK84,CK90,CK96,CK102,CK108) -> 2582.0253 | CL7: =CK7/DS7-1 -> 2.9743417 | CM7: =SUM(CM12,CM18,CM24,CM30,CM36,CM42,CM48,CM54,CM60,CM66,CM72,CM78,CM84,CM90,CM96,CM102,CM108) -> 2668.6085 | CN7: =CM7/DT7-1 -> 3.2767546 | CO7: =SUM(CO12,CO18,CO24,CO30,CO36,CO42,CO48,CO54,CO60,CO66,CO72,CO78,CO84,CO90,CO96,CO102,CO108) -> 2615.4753 | CP7: =CO7/DU7-1 -> 2.6573716 | CQ7: =SUM(CQ12,CQ18,CQ24,CQ30,CQ36,CQ42,CQ48,CQ54,CQ60,CQ66,CQ72,CQ78,CQ84,CQ90,CQ96,CQ102,CQ108) -> 2696.7754 | CR7: =CQ7/DV7-1 -> 2.6185077 | CS7: =SUM(CS12,CS18,CS24,CS30,CS36,CS42,CS48,CS54,CS60,CS66,CS72,CS78,CS84,CS90,CS96,CS102,CS108) -> 2885.7138 | CT7: =CS7/DX7-1 -> 1.8149958 | CU7: =SUM(CU12,CU18,CU24,CU30,CU36,CU42,CU48,CU54,CU60,CU66,CU72,CU78,CU84,CU90,CU96,CU102,CU108) -> 3019.2297 | CV7: =CU7/DX7-1 -> 1.9452397 | CW7: =BY7+CA7+CC7+CE7+CG7+CI7+CK7+CM7+CO7+CQ7+CS7+CU7 -> 30704.201 | CX7: =CW7/SUM(DM7:DX7)-1 -> 2.6423345 | CY7: =CW7/CW5 -> 0.17743447 | CZ7: =CU7/CS7-1 -> 0.046267894 | DA7: =CS7/CQ7-1 -> 0.070060859 | DB7: =CQ7/CO7-1 -> 0.031084255 | DC7: =CO7/CM7-1 -> -0.019910451 | DD7: =CM7/CK7-1 -> 0.033533056 | DE7: =CK7/CI7-1 -> -0.039641835 | DF7: =CI7/CG7-1 -> 0.032776495 | DG7: =CG7/CE7-1 -> -0.013585367 | DH7: =CE7/CC7-1 -> 0.086562127 | DI7: =CC7/CA7-1 -> 0.14086566 | DJ7: =(CA7-BY7)/BY7 -> 0.21831356 | DK7: =(BY7-DX7)/DX7 -> 0.7046599 | DM7: =SUM(DM12,DM18,DM24,DM30,DM36,DM42,DM48,DM54,DM60,DM66,DM72,DM78,DM84,DM90,DM96,DM102,DM108) -> 631.9639 | DN7: =SUM(DN12,DN18,DN24,DN30,DN36,DN42,DN48,DN54,DN60,DN66,DN72,DN78,DN84,DN90,DN96,DN102,DN108) -> 553.0599 | DO7: =SUM(DO12,DO18,DO24,DO30,DO36,DO42,DO48,DO54,DO60,DO66,DO72,DO78,DO84,DO90,DO96,DO102,DO108) -> 649.7656 | DP7: =SUM(DP12,DP18,DP24,DP30,DP36,DP42,DP48,DP54,DP60,DP66,DP72,DP78,DP84,DP90,DP96,DP102,DP108) -> 604.6586 | DQ7: =SUM(DQ12,DQ18,DQ24,DQ30,DQ36,DQ42,DQ48,DQ54,DQ60,DQ66,DQ72,DQ78,DQ84,DQ90,DQ96,DQ102,DQ108) -> 638.7376 | DR7: =SUM(DR12,DR18,DR24,DR30,DR36,DR42,DR48,DR54,DR60,DR66,DR72,DR78,DR84,DR90,DR96,DR102,DR108) -> 649.8943 | DS7: =SUM(DS12,DS18,DS24,DS30,DS36,DS42,DS48,DS54,DS60,DS66,DS72,DS78,DS84,DS90,DS96,DS102,DS108) -> 649.6737 | DT7: =SUM(DT12,DT18,DT24,DT30,DT36,DT42,DT48,DT54,DT60,DT66,DT72,DT78,DT84,DT90,DT96,DT102,DT108) -> 623.9798 | ... DX7: =SUM(DX12,DX18,DX24,DX30,DX36,DX42,DX48,DX54,DX60,DX66,DX72,DX78,DX84,DX90,DX96,DX102,DX108) -> 1025.1219 | DY7: 0.43037903 | DZ7: =SUM(DM7:DX7) -> 8429.8135 | EA7: =IFERROR(DZ7/SUM(EC7:EN7)-1,"") -> 0.01402656 | EB7: =DZ7/DZ5 -> 0.058144953 | EC7: =SUM(EC12,EC18,EC24,EC30,EC36,EC42,EC48,EC54,EC60,EC66,EC72,EC78,EC84,EC90,EC96,EC102,EC108) -> 785.25098 | ED7: =SUM(ED12,ED18,ED24,ED30,ED36,ED42,ED48,ED54,ED60,ED66,ED72,ED78,ED84,ED90,ED96,ED102,ED108) -> 519.31779 | EE7: =SUM(EE12,EE18,EE24,EE30,EE36,EE42,EE48,EE54,EE60,EE66,EE72,EE78,EE84,EE90,EE96,EE102,EE108) -> 694.03236 | EF7: =SUM(EF12,EF18,EF24,EF30,EF36,EF42,EF48,EF54,EF60,EF66,EF72,EF78,EF84,EF90,EF96,EF102,EF108) -> 698.01376 | EG7: =SUM(EG12,EG18,EG24,EG30,EG36,EG42,EG48,EG54,EG60,EG66,EG72,EG78,EG84,EG90,EG96,EG102,EG108) -> 729.6929 | EH7: =SUM(EH12,EH18,EH24,EH30,EH36,EH42,EH48,EH54,EH60,EH66,EH72,EH78,EH84,EH90,EH96,EH102,EH108) -> 717.4151 | EI7: =SUM(EI12,EI18,EI24,EI30,EI36,EI42,EI48,EI54,EI60,EI66,EI72,EI78,EI84,EI90,EI96,EI102,EI108) -> 694.7123 | EJ7: =SUM(EJ12,EJ18,EJ24,EJ30,EJ36,EJ42,EJ48,EJ54,EJ60,EJ66,EJ72,EJ78,EJ84,EJ90,EJ96,EJ102,EJ108) -> 647.7486 | ... EN7: =SUM(EN12,EN18,EN24,EN30,EN36,EN42,EN48,EN54,EN60,EN66,EN72,EN78,EN84,EN90,EN96,EN102,EN108) -> 716.6785 | EO7: =SUM(EC7:EN7) -> 8313.2078
B8: 其中规上货物周转量 (万吨公里) | C8: 565704.65 | D8: =C8/V8-1 -> -0.091814632 | E8: 500562.26 | F8: =E8/X8-1 -> -0.14891363 | G8: 669448.89 | H8: =G8/Z8-1 -> -0.0096586042 | I8: 650911.77 | J8: =I8/AB8-1 -> -0.043482506 | K8: 680437.39 | L8: =K8/AD8-1 -> -0.062360436 | M8: 692813.75 | N8: =M8/AF8-1 -> -0.043707473 | O8: 597278.64 | P8: =O8/AH8-1 -> 0.05762202 | S8: =C8+E8+G8+I8+K8+M8+O8+Q8 -> 4357157.3 | T8: =S8/SUM(V8,X8,Z8,AB8,AD8,AF8,AH8,AJ8)-1 -> -0.14607719 | V8: =SUM(V15,V21,V27,V33,V39,V45,V51,V57,V63,V69,V75,V81,V87,V93,V99,V105,V111) -> 622895.58 | W8: =V8/AX8-1 -> 0.1256817 | X8: =SUM(X15,X21,X27,X33,X39,X45,X51,X57,X63,X69,X75,X81,X87,X93,X99,X105,X111) -> 588145.08 | Y8: =X8/AZ8-1 -> 0.45566936 | Z8: =SUM(Z15,Z21,Z27,Z33,Z39,Z45,Z51,Z57,Z63,Z69,Z75,Z81,Z87,Z93,Z99,Z105,Z111) -> 675977.89 | AA8: =Z8/BB8-1 -> 0.24623271 | AB8: =SUM(AB15,AB21,AB27,AB33,AB39,AB45,AB51,AB57,AB63,AB69,AB75,AB81,AB87,AB93,AB99,AB105,AB111) -> 680501.69 | AC8: =AB8/BD8-1 -> 0.23266035 | AD8: =SUM(AD15,AD21,AD27,AD33,AD39,AD45,AD51,AD57,AD63,AD69,AD75,AD81,AD87,AD93,AD99,AD105,AD111) -> 725691.85 | AE8: =AD8/BF8-1 -> 0.3046049 | AF8: =SUM(AF15,AF21,AF27,AF33,AF39,AF45,AF51,AF57,AF63,AF69,AF75,AF81,AF87,AF93,AF99,AF105,AF111) -> 724478.89 | AG8: =AF8/BH8-1 -> 0.28064482 | AH8: =SUM(AH15,AH21,AH27,AH33,AH39,AH45,AH51,AH57,AH63,AH69,AH75,AH81,AH87,AH93,AH99,AH105,AH111) -> 564737.33 | AI8: =AH8/BJ8-1 -> -0.016950856 | AJ8: =SUM(AJ15,AJ21,AJ27,AJ33,AJ39,AJ45,AJ51,AJ57,AJ63,AJ69,AJ75,AJ81,AJ87,AJ93,AJ99,AJ105,AJ111) -> 520090.64 | AK8: =AJ8/BL8-1 -> -0.10813291 | AL8: =SUM(AL15,AL21,AL27,AL33,AL39,AL45,AL51,AL57,AL63,AL69,AL75,AL81,AL87,AL93,AL99,AL105,AL111) -> 563611.92 | AM8: =AL8/BN8-1 -> -0.048540845 | AN8: =SUM(AN15,AN21,AN27,AN33,AN39,AN45,AN51,AN57,AN63,AN69,AN75,AN81,AN87,AN93,AN99,AN105,AN111) -> 543427.32 | AO8: =AN8/BP8-1 -> -0.080198648 | AP8: =SUM(AP15,AP21,AP27,AP33,AP39,AP45,AP51,AP57,AP63,AP69,AP75,AP81,AP87,AP93,AP99,AP105,AP111) -> 582674.65 | AQ8: =AP8/BR8-1 -> -0.053874223 | AR8: =SUM(AR15,AR21,AR27,AR33,AR39,AR45,AR51,AR57,AR63,AR69,AR75,AR81,AR87,AR93,AR99,AR105,AR111) -> 642808.17 | AS8: =AR8/BT8-1 -> -0.16167875 | AT8: =V8+X8+Z8+AB8+AD8+AF8+AH8+AJ8+AL8+AN8+AP8+AR8 -> 7435041 | AU8: =AT8/SUM(AX8,AZ8,BB8,BD8,BF8,BH8,BJ8,BL8,BN8,BP8,BR8,BT8)-1 -> 0.077969611 | AV8: =AT8/AT6 -> 0.28159234 | AW8: =AX8+AZ8+BB8+BD8+BF8+BH8+BJ8+BL8+BN8+BP8+BR8 -> 6130483.8 | AX8: =SUM(AX15,AX21,AX27,AX33,AX39,AX45,AX51,AX57,AX63,AX69,AX75,AX81,AX87,AX93,AX99,AX105,AX111) -> 553349.65 | AY8: =AX8/BY8-1 -> 0.71693583 | AZ8: =SUM(AZ15,AZ21,AZ27,AZ33,AZ39,AZ45,AZ51,AZ57,AZ63,AZ69,AZ75,AZ81,AZ87,AZ93,AZ99,AZ105,AZ111) -> 404037.55 | BA8: =AZ8/CA8-1 -> 0.10243325 | BB8: =SUM(BB15,BB21,BB27,BB33,BB39,BB45,BB51,BB57,BB63,BB69,BB75,BB81,BB87,BB93,BB99,BB105,BB111) -> 542417.07 | BC8: =BB8/CC8-1 -> 0.33697467 | BD8: =SUM(BD15,BD21,BD27,BD33,BD39,BD45,BD51,BD57,BD63,BD69,BD75,BD81,BD87,BD93,BD99,BD105,BD111) -> 552059.36 | BE8: =BD8/CE8-1 -> 0.33448026 | BF8: =SUM(BF15,BF21,BF27,BF33,BF39,BF45,BF51,BF57,BF63,BF69,BF75,BF81,BF87,BF93,BF99,BF105,BF111) -> 556254.12 | BG8: =BF8/CG8-1 -> 0.31281978 | BH8: =SUM(BH15,BH21,BH27,BH33,BH39,BH45,BH51,BH57,BH63,BH69,BH75,BH81,BH87,BH93,BH99,BH105,BH111) -> 565714.14 | BI8: =BH8/CI8-1 -> 0.28621091 | BJ8: =SUM(BJ15,BJ21,BJ27,BJ33,BJ39,BJ45,BJ51,BJ57,BJ63,BJ69,BJ75,BJ81,BJ87,BJ93,BJ99,BJ105,BJ111) -> 574475.18 | BK8: =BJ8/CK8-1 -> 0.36464333 | BL8: =SUM(BL15,BL21,BL27,BL33,BL39,BL45,BL51,BL57,BL63,BL69,BL75,BL81,BL87,BL93,BL99,BL105,BL111) -> 583148.15 | BM8: =BL8/CM8-1 -> 0.34688512 | BN8: =SUM(BN15,BN21,BN27,BN33,BN39,BN45,BN51,BN57,BN63,BN69,BN75,BN81,BN87,BN93,BN99,BN105,BN111) -> 592365.86 | BO8: =BN8/CO8-1 -> 0.3597058 | BP8: =SUM(BP15,BP21,BP27,BP33,BP39,BP45,BP51,BP57,BP63,BP69,BP75,BP81,BP87,BP93,BP99,BP105,BP111) -> 590809.44 | BQ8: =BP8/CQ8-1 -> 0.34028976 | BR8: =SUM(BR15,BR21,BR27,BR33,BR39,BR45,BR51,BR57,BR63,BR69,BR75,BR81,BR87,BR93,BR99,BR105,BR111) -> 615853.26 | BS8: =BR8/CS8-1 -> 0.32437191 | BT8: =SUM(BT15,BT21,BT27,BT33,BT39,BT45,BT51,BT57,BT63,BT69,BT75,BT81,BT87,BT93,BT99,BT105,BT111) -> 766780.24 | BU8: =BT8/CU8-1 -> 0.51230484 | BV8: =AX8+AZ8+BB8+BD8+BF8+BH8+BJ8+BL8+BN8+BP8+BR8+BT8 -> 6897264 | BW8: =BV8/SUM(BY8,CA8,CC8,CE8,CG8,CI8,CK8,CM8,CO8,CQ8,CS8,CU8)-1 -> 0.35929254 | BX8: =BV8/BV6 -> 0.27510377 | BY8: =SUM(BY15,BY21,BY27,BY33,BY39,BY45,BY51,BY57,BY63,BY69,BY75,BY81,BY87,BY93,BY99,BY105,BY111) -> 322289.07 | BZ8: =BY8/DM8-1 -> 1.9050024 | CA8: =SUM(CA15,CA21,CA27,CA33,CA39,CA45,CA51,CA57,CA63,CA69,CA75,CA81,CA87,CA93,CA99,CA105,CA111) -> 366496.16 | CB8: =CA8/DN8-1 -> 2.7648249 | CC8: =SUM(CC15,CC21,CC27,CC33,CC39,CC45,CC51,CC57,CC63,CC69,CC75,CC81,CC87,CC93,CC99,CC105,CC111) -> 405704.82 | CD8: =CC8/DO8-1 -> 3.0456223 | CE8: =SUM(CE15,CE21,CE27,CE33,CE39,CE45,CE51,CE57,CE63,CE69,CE75,CE81,CE87,CE93,CE99,CE105,CE111) -> 413688.67 | CF8: =CE8/DP8-1 -> 3.5825043 | CG8: =SUM(CG15,CG21,CG27,CG33,CG39,CG45,CG51,CG57,CG63,CG69,CG75,CG81,CG87,CG93,CG99,CG105,CG111) -> 423709.43 | CH8: =CG8/DQ8-1 -> 3.3148506 | CI8: =SUM(CI15,CI21,CI27,CI33,CI39,CI45,CI51,CI57,CI63,CI69,CI75,CI81,CI87,CI93,CI99,CI105,CI111) -> 439830 | CJ8: =CI8/DR8-1 -> 3.5322705 | CK8: =SUM(CK15,CK21,CK27,CK33,CK39,CK45,CK51,CK57,CK63,CK69,CK75,CK81,CK87,CK93,CK99,CK105,CK111) -> 420970.94 | CL8: =CK8/DS8-1 -> 3.3696093 | CM8: =SUM(CM15,CM21,CM27,CM33,CM39,CM45,CM51,CM57,CM63,CM69,CM75,CM81,CM87,CM93,CM99,CM105,CM111) -> 432960.57 | CN8: =CM8/DT8-1 -> 3.7496385 | CO8: =SUM(CO15,CO21,CO27,CO33,CO39,CO45,CO51,CO57,CO63,CO69,CO75,CO81,CO87,CO93,CO99,CO105,CO111) -> 435657.37 | CP8: =CO8/DU8-1 -> 2.9256029 | CQ8: =SUM(CQ15,CQ21,CQ27,CQ33,CQ39,CQ45,CQ51,CQ57,CQ63,CQ69,CQ75,CQ81,CQ87,CQ93,CQ99,CQ105,CQ111) -> 440807.25 | CR8: =CQ8/DV8-1 -> 2.4316817 | CS8: =SUM(CS15,CS21,CS27,CS33,CS39,CS45,CS51,CS57,CS63,CS69,CS75,CS81,CS87,CS93,CS99,CS105,CS111) -> 465015.35 | CT8: =CS8/DX8-1 -> 1.5897858 | CU8: =SUM(CU15,CU21,CU27,CU33,CU39,CU45,CU51,CU57,CU63,CU69,CU75,CU81,CU87,CU93,CU99,CU105,CU111) -> 507027.56 | CV8: =CU8/DX8-1 -> 1.8237622 | CW8: =BY8+CA8+CC8+CE8+CG8+CI8+CK8+CM8+CO8+CQ8+CS8+CU8 -> 5074157.2 | CX8: =CW8/SUM(DM8:DX8)-1 -> 2.6810904 | CY8: =CW8/CW6 -> 0.2093018 | CZ8: =CU8/CS8-1 -> 0.09034587 | DA8: =CS8/CQ8-1 -> 0.054917645 | DB8: =CQ8/CO8-1 -> 0.011820936 | DC8: =CO8/CM8-1 -> 0.0062287571 | DD8: =CM8/CK8-1 -> 0.028480899 | DE8: =CK8/CI8-1 -> -0.042878074 | DF8: =CI8/CG8-1 -> 0.038046291 | DG8: =CG8/CE8-1 -> 0.024222949 | DH8: =CE8/CC8-1 -> 0.019678962 | DI8: =CC8/CA8-1 -> 0.10698246 | DJ8: =(CA8-BY8)/BY8 -> 0.13716595 | DK8: =(BY8-DX8)/DX8 -> 0.79490774 | DM8: =SUM(DM15,DM21,DM27,DM33,DM39,DM45,DM51,DM57,DM63,DM69,DM75,DM81,DM87,DM93,DM99,DM105,DM111) -> 110942.79 | DN8: =SUM(DN15,DN21,DN27,DN33,DN39,DN45,DN51,DN57,DN63,DN69,DN75,DN81,DN87,DN93,DN99,DN105,DN111) -> 97347.464 | DO8: =SUM(DO15,DO21,DO27,DO33,DO39,DO45,DO51,DO57,DO63,DO69,DO75,DO81,DO87,DO93,DO99,DO105,DO111) -> 100282.43 | DP8: =SUM(DP15,DP21,DP27,DP33,DP39,DP45,DP51,DP57,DP63,DP69,DP75,DP81,DP87,DP93,DP99,DP105,DP111) -> 90275.674 | DQ8: =SUM(DQ15,DQ21,DQ27,DQ33,DQ39,DQ45,DQ51,DQ57,DQ63,DQ69,DQ75,DQ81,DQ87,DQ93,DQ99,DQ105,DQ111) -> 98197.937 | DR8: =SUM(DR15,DR21,DR27,DR33,DR39,DR45,DR51,DR57,DR63,DR69,DR75,DR81,DR87,DR93,DR99,DR105,DR111) -> 97044.075 | DS8: =SUM(DS15,DS21,DS27,DS33,DS39,DS45,DS51,DS57,DS63,DS69,DS75,DS81,DS87,DS93,DS99,DS105,DS111) -> 96340.636 | DT8: =SUM(DT15,DT21,DT27,DT33,DT39,DT45,DT51,DT57,DT63,DT69,DT75,DT81,DT87,DT93,DT99,DT105,DT111) -> 91156.53 | ... DX8: =SUM(DX15,DX21,DX27,DX33,DX39,DX45,DX51,DX57,DX63,DX69,DX75,DX81,DX87,DX93,DX99,DX105,DX111) -> 179557.46 | DY8: 0.78353118 | DZ8: =SUM(DM8:DX8) -> 1378438.6 | EA8: =IFERROR(DZ8/SUM(EC8:EN8)-1,"") -> 0.19537121 | EB8: =DZ8/DZ6 -> 0.066954817 | EC8: =SUM(EC15,EC21,EC27,EC33,EC39,EC45,EC51,EC57,EC63,EC69,EC75,EC81,EC87,EC93,EC99,EC105,EC111) -> 110604.62 | ED8: =SUM(ED15,ED21,ED27,ED33,ED39,ED45,ED51,ED57,ED63,ED69,ED75,ED81,ED87,ED93,ED99,ED105,ED111) -> 77071.965 | EE8: =SUM(EE15,EE21,EE27,EE33,EE39,EE45,EE51,EE57,EE63,EE69,EE75,EE81,EE87,EE93,EE99,EE105,EE111) -> 96943.13 | EF8: =SUM(EF15,EF21,EF27,EF33,EF39,EF45,EF51,EF57,EF63,EF69,EF75,EF81,EF87,EF93,EF99,EF105,EF111) -> 95953.911 | EG8: =SUM(EG15,EG21,EG27,EG33,EG39,EG45,EG51,EG57,EG63,EG69,EG75,EG81,EG87,EG93,EG99,EG105,EG111) -> 96138.668 | EH8: =SUM(EH15,EH21,EH27,EH33,EH39,EH45,EH51,EH57,EH63,EH69,EH75,EH81,EH87,EH93,EH99,EH105,EH111) -> 98149.7 | EI8: =SUM(EI15,EI21,EI27,EI33,EI39,EI45,EI51,EI57,EI63,EI69,EI75,EI81,EI87,EI93,EI99,EI105,EI111) -> 95350.7 | EJ8: =SUM(EJ15,EJ21,EJ27,EJ33,EJ39,EJ45,EJ51,EJ57,EJ63,EJ69,EJ75,EJ81,EJ87,EJ93,EJ99,EJ105,EJ111) -> 91415.642 | ... EN8: =SUM(EN15,EN21,EN27,EN33,EN39,EN45,EN51,EN57,EN63,EN69,EN75,EN81,EN87,EN93,EN99,EN105,EN111) -> 100675.26 | EO8: =SUM(EC8:EN8) -> 1153146.9
B9: 其中规下货运量 (万吨) | C9: 13586.511 | D9: =C9/V9-1 -> 0.31942586 | E9: 7686.5664 | F9: =E9/X9-1 -> -0.14864031 | G9: 12483.36 | H9: =G9/Z9-1 -> -0.027214003 | I9: 13347.655 | J9: =I9/AB9-1 -> 0.018545112 | K9: 13450.783 | L9: =K9/AD9-1 -> 0.055150613 | M9: 12602.867 | N9: =M9/AF9-1 -> 0.10831446 | O9: 12530.928 | P9: =O9/AH9-1 -> 0.028199875 | S9: =C9+E9+G9+I9+K9+M9+O9+Q9 -> 85688.67 | T9: =S9/SUM(V9,X9,Z9,AB9,AD9,AF9,AH9,AJ9)-1 -> -0.087576882 | V9: =SUM(V13,V19,V25,V31,V37,V43,V49,V55,V61,V67,V73,V79,V85,V91,V97,V103,V109) -> 10297.29 | W9: =V9/AX9-1 -> -0.13255243 | X9: =SUM(X13,X19,X25,X31,X37,X43,X49,X55,X61,X67,X73,X79,X85,X91,X97,X103,X109) -> 9028.5768 | Y9: =X9/AZ9-1 -> 0.69384837 | Z9: =SUM(Z13,Z19,Z25,Z31,Z37,Z43,Z49,Z55,Z61,Z67,Z73,Z79,Z85,Z91,Z97,Z103,Z109) -> 12832.586 | AA9: =Z9/BB9-1 -> 0.088230012 | AB9: =SUM(AB13,AB19,AB25,AB31,AB37,AB43,AB49,AB55,AB61,AB67,AB73,AB79,AB85,AB91,AB97,AB103,AB109) -> 13104.628 | AC9: =AB9/BD9-1 -> 0.085648667 | AD9: =SUM(AD13,AD19,AD25,AD31,AD37,AD43,AD49,AD55,AD61,AD67,AD73,AD79,AD85,AD91,AD97,AD103,AD109) -> 12747.737 | AE9: =AD9/BF9-1 -> 0.03700342 | AF9: =SUM(AF13,AF19,AF25,AF31,AF37,AF43,AF49,AF55,AF61,AF67,AF73,AF79,AF85,AF91,AF97,AF103,AF109) -> 11371.201 | AG9: =AF9/BH9-1 -> 0.034946852 | AH9: =SUM(AH13,AH19,AH25,AH31,AH37,AH43,AH49,AH55,AH61,AH67,AH73,AH79,AH85,AH91,AH97,AH103,AH109) -> 12187.249 | AI9: =AH9/BJ9-1 -> 0.064650029 | AJ9: =SUM(AJ13,AJ19,AJ25,AJ31,AJ37,AJ43,AJ49,AJ55,AJ61,AJ67,AJ73,AJ79,AJ85,AJ91,AJ97,AJ103,AJ109) -> 12344.035 | AK9: =AJ9/BL9-1 -> 0.040379796 | AL9: =SUM(AL13,AL19,AL25,AL31,AL37,AL43,AL49,AL55,AL61,AL67,AL73,AL79,AL85,AL91,AL97,AL103,AL109) -> 12716.246 | AM9: =AL9/BN9-1 -> 0.048130519 | AN9: =SUM(AN13,AN19,AN25,AN31,AN37,AN43,AN49,AN55,AN61,AN67,AN73,AN79,AN85,AN91,AN97,AN103,AN109) -> 11962.463 | AO9: =AN9/BP9-1 -> -0.011544264 | AP9: =SUM(AP13,AP19,AP25,AP31,AP37,AP43,AP49,AP55,AP61,AP67,AP73,AP79,AP85,AP91,AP97,AP103,AP109) -> 13038.108 | AQ9: =AP9/BR9-1 -> 0.023532217 | AR9: =SUM(AR13,AR19,AR25,AR31,AR37,AR43,AR49,AR55,AR61,AR67,AR73,AR79,AR85,AR91,AR97,AR103,AR109) -> 13686.008 | AS9: =AR9/BT9-1 -> 0.018157313 | AT9: =V9+X9+Z9+AB9+AD9+AF9+AH9+AJ9+AL9+AN9+AP9+AR9 -> 145316.13 | AU9: =AT9/SUM(AX9,AZ9,BB9,BD9,BF9,BH9,BJ9,BL9,BN9,BP9,BR9,BT9)-1 -> 0.052474436 | AV9: =AT9/AT5 -> 0.74355899 | AW9: =AX9+AZ9+BB9+BD9+BF9+BH9+BJ9+BL9+BN9+BP9+BR9 -> 124629 | AX9: =SUM(AX13,AX19,AX25,AX31,AX37,AX43,AX49,AX55,AX61,AX67,AX73,AX79,AX85,AX91,AX97,AX103,AX109) -> 11870.792 | AY9: =AX9/BY9-1 -> 0.57865506 | AZ9: =SUM(AZ13,AZ19,AZ25,AZ31,AZ37,AZ43,AZ49,AZ55,AZ61,AZ67,AZ73,AZ79,AZ85,AZ91,AZ97,AZ103,AZ109) -> 5330.2155 | BA9: =AZ9/CA9-1 -> -0.4595914 | BB9: =SUM(BB13,BB19,BB25,BB31,BB37,BB43,BB49,BB55,BB61,BB67,BB73,BB79,BB85,BB91,BB97,BB103,BB109) -> 11792.163 | BC9: =BB9/CC9-1 -> -0.04247634 | BD9: =SUM(BD13,BD19,BD25,BD31,BD37,BD43,BD49,BD55,BD61,BD67,BD73,BD79,BD85,BD91,BD97,BD103,BD109) -> 12070.782 | BE9: =BD9/CE9-1 -> 0.03483364 | BF9: =SUM(BF13,BF19,BF25,BF31,BF37,BF43,BF49,BF55,BF61,BF67,BF73,BF79,BF85,BF91,BF97,BF103,BF109) -> 12292.86 | BG9: =BF9/CG9-1 -> 0.010834526 | BH9: =SUM(BH13,BH19,BH25,BH31,BH37,BH43,BH49,BH55,BH61,BH67,BH73,BH79,BH85,BH91,BH97,BH103,BH109) -> 10987.232 | BI9: =BH9/CI9-1 -> -0.086485142 | BJ9: =SUM(BJ13,BJ19,BJ25,BJ31,BJ37,BJ43,BJ49,BJ55,BJ61,BJ67,BJ73,BJ79,BJ85,BJ91,BJ97,BJ103,BJ109) -> 11447.188 | BK9: =BJ9/CK9-1 -> -0.057539674 | BL9: =SUM(BL13,BL19,BL25,BL31,BL37,BL43,BL49,BL55,BL61,BL67,BL73,BL79,BL85,BL91,BL97,BL103,BL109) -> 11864.932 | BM9: =BL9/CM9-1 -> -0.073429141 | BN9: =SUM(BN13,BN19,BN25,BN31,BN37,BN43,BN49,BN55,BN61,BN67,BN73,BN79,BN85,BN91,BN97,BN103,BN109) -> 12132.311 | BO9: =BN9/CO9-1 -> -0.046795722 | BP9: =SUM(BP13,BP19,BP25,BP31,BP37,BP43,BP49,BP55,BP61,BP67,BP73,BP79,BP85,BP91,BP97,BP103,BP109) -> 12102.174 | BQ9: =BP9/CQ9-1 -> -0.037223333 | BR9: =SUM(BR13,BR19,BR25,BR31,BR37,BR43,BR49,BR55,BR61,BR67,BR73,BR79,BR85,BR91,BR97,BR103,BR109) -> 12738.347 | BS9: =BR9/CS9-1 -> -0.035310956 | BT9: =SUM(BT13,BT19,BT25,BT31,BT37,BT43,BT49,BT55,BT61,BT67,BT73,BT79,BT85,BT91,BT97,BT103,BT109) -> 13441.938 | BU9: =BT9/CU9-1 -> 0.00793788 | BV9: =AX9+AZ9+BB9+BD9+BF9+BH9+BJ9+BL9+BN9+BP9+BR9+BT9 -> 138070.93 | BW9: =BV9/SUM(BY9,CA9,CC9,CE9,CG9,CI9,CK9,CM9,CO9,CQ9,CS9,CU9)-1 -> -0.029999493 | BY9: =SUM(BY13,BY19,BY25,BY31,BY37,BY43,BY49,BY55,BY61,BY67,BY73,BY79,BY85,BY91,BY97,BY103,BY109) -> 7519.5605 | BZ9: =BY9/DM9-1 -> -0.2538312 | CA9: =SUM(CA13,CA19,CA25,CA31,CA37,CA43,CA49,CA55,CA61,CA67,CA73,CA79,CA85,CA91,CA97,CA103,CA109) -> 9863.3063 | CB9: =CA9/DN9-1 -> 0.31927249 | CC9: =SUM(CC13,CC19,CC25,CC31,CC37,CC43,CC49,CC55,CC61,CC67,CC73,CC79,CC85,CC91,CC97,CC103,CC109) -> 12315.271 | CD9: =CC9/DO9-1 -> 0.033896472 | CE9: =SUM(CE13,CE19,CE25,CE31,CE37,CE43,CE49,CE55,CE61,CE67,CE73,CE79,CE85,CE91,CE97,CE103,CE109) -> 11664.466 | CF9: =CE9/DP9-1 -> 0.065363999 | CG9: =SUM(CG13,CG19,CG25,CG31,CG37,CG43,CG49,CG55,CG61,CG67,CG73,CG79,CG85,CG91,CG97,CG103,CG109) -> 12161.1 | CH9: =CG9/DQ9-1 -> 0.014611766 | CI9: =SUM(CI13,CI19,CI25,CI31,CI37,CI43,CI49,CI55,CI61,CI67,CI73,CI79,CI85,CI91,CI97,CI103,CI109) -> 12027.426 | CJ9: =CI9/DR9-1 -> 0.067955657 | CK9: =SUM(CK13,CK19,CK25,CK31,CK37,CK43,CK49,CK55,CK61,CK67,CK73,CK79,CK85,CK91,CK97,CK103,CK109) -> 12146.069 | CL9: =CK9/DS9-1 -> 0.054446067 | CM9: =SUM(CM13,CM19,CM25,CM31,CM37,CM43,CM49,CM55,CM61,CM67,CM73,CM79,CM85,CM91,CM97,CM103,CM109) -> 12805.207 | CN9: =CM9/DT9-1 -> 0.10852717 | CO9: =SUM(CO13,CO19,CO25,CO31,CO37,CO43,CO49,CO55,CO61,CO67,CO73,CO79,CO85,CO91,CO97,CO103,CO109) -> 12727.924 | CP9: =CO9/DU9-1 -> -0.0058264776 | CQ9: =SUM(CQ13,CQ19,CQ25,CQ31,CQ37,CQ43,CQ49,CQ55,CQ61,CQ67,CQ73,CQ79,CQ85,CQ91,CQ97,CQ103,CQ109) -> 12570.074 | CR9: =CQ9/DV9-1 -> 0.053500902 | CS9: =SUM(CS13,CS19,CS25,CS31,CS37,CS43,CS49,CS55,CS61,CS67,CS73,CS79,CS85,CS91,CS97,CS103,CS109) -> 13204.614 | CT9: =CS9/DX9-1 -> 0.039971686 | CU9: =SUM(CU13,CU19,CU25,CU31,CU37,CU43,CU49,CU55,CU61,CU67,CU73,CU79,CU85,CU91,CU97,CU103,CU109) -> 13336.078 | CV9: =CU9/DX9-1 -> 0.050325547 | CW9: =BY9+CA9+CC9+CE9+CG9+CI9+CK9+CM9+CO9+CQ9+CS9+CU9 -> 142341.1 | CX9: =CW9/SUM(DM9:DX9)-1 -> 0.042414127 | CZ9: =CU9/CS9-1 -> 0.0099559063 | DA9: =CS9/CQ9-1 -> 0.050480212 | DB9: =CQ9/CO9-1 -> -0.012401821 | DC9: =CO9/CM9-1 -> -0.00603533 | DD9: =CM9/CK9-1 -> 0.054267602 | DE9: =CK9/CI9-1 -> 0.0098644119 | DF9: =CI9/CG9-1 -> -0.010991946 | DG9: =CG9/CE9-1 -> 0.042576625 | DH9: =CE9/CC9-1 -> -0.052845354 | DI9: =CC9/CA9-1 -> 0.24859461 | DJ9: =(CA9-BY9)/BY9 -> 0.31168654 | DK9: =(BY9-DX9)/DX9 -> -0.40777292 | DM9: =SUM(DM13,DM19,DM25,DM31,DM37,DM43,DM49,DM55,DM61,DM67,DM73,DM79,DM85,DM91,DM97,DM103,DM109) -> 10077.559 | DN9: =SUM(DN13,DN19,DN25,DN31,DN37,DN43,DN49,DN55,DN61,DN67,DN73,DN79,DN85,DN91,DN97,DN103,DN109) -> 7476.3223 | DO9: =SUM(DO13,DO19,DO25,DO31,DO37,DO43,DO49,DO55,DO61,DO67,DO73,DO79,DO85,DO91,DO97,DO103,DO109) -> 11911.513 | DP9: =SUM(DP13,DP19,DP25,DP31,DP37,DP43,DP49,DP55,DP61,DP67,DP73,DP79,DP85,DP91,DP97,DP103,DP109) -> 10948.808 | DQ9: =SUM(DQ13,DQ19,DQ25,DQ31,DQ37,DQ43,DQ49,DQ55,DQ61,DQ67,DQ73,DQ79,DQ85,DQ91,DQ97,DQ103,DQ109) -> 11985.964 | DR9: =SUM(DR13,DR19,DR25,DR31,DR37,DR43,DR49,DR55,DR61,DR67,DR73,DR79,DR85,DR91,DR97,DR103,DR109) -> 11262.102 | DS9: =SUM(DS13,DS19,DS25,DS31,DS37,DS43,DS49,DS55,DS61,DS67,DS73,DS79,DS85,DS91,DS97,DS103,DS109) -> 11518.91 | DT9: =SUM(DT13,DT19,DT25,DT31,DT37,DT43,DT49,DT55,DT61,DT67,DT73,DT79,DT85,DT91,DT97,DT103,DT109) -> 11551.55 | ... DX9: =SUM(DX13,DX19,DX25,DX31,DX37,DX43,DX49,DX55,DX61,DX67,DX73,DX79,DX85,DX91,DX97,DX103,DX109) -> 12697.09 | DY9: -0.087795638 | DZ9: =SUM(DM9:DX9) -> 136549.47 | EA9: =IFERROR(DZ9/SUM(EC9:EN9)-1,"") -> -0.10749837 | EC9: =SUM(EC13,EC19,EC25,EC31,EC37,EC43,EC49,EC55,EC61,EC67,EC73,EC79,EC85,EC91,EC97,EC103,EC109) -> 14160.085 | ED9: =SUM(ED13,ED19,ED25,ED31,ED37,ED43,ED49,ED55,ED61,ED67,ED73,ED79,ED85,ED91,ED97,ED103,ED109) -> 5975.6877 | EE9: =SUM(EE13,EE19,EE25,EE31,EE37,EE43,EE49,EE55,EE61,EE67,EE73,EE79,EE85,EE91,EE97,EE103,EE109) -> 11229.931 | EF9: =SUM(EF13,EF19,EF25,EF31,EF37,EF43,EF49,EF55,EF61,EF67,EF73,EF79,EF85,EF91,EF97,EF103,EF109) -> 13660.278 | EG9: =SUM(EG13,EG19,EG25,EG31,EG37,EG43,EG49,EG55,EG61,EG67,EG73,EG79,EG85,EG91,EG97,EG103,EG109) -> 13634.674 | EH9: =SUM(EH13,EH19,EH25,EH31,EH37,EH43,EH49,EH55,EH61,EH67,EH73,EH79,EH85,EH91,EH97,EH103,EH109) -> 14848.948 | EI9: =SUM(EI13,EI19,EI25,EI31,EI37,EI43,EI49,EI55,EI61,EI67,EI73,EI79,EI85,EI91,EI97,EI103,EI109) -> 13054.48 | EJ9: =SUM(EJ13,EJ19,EJ25,EJ31,EJ37,EJ43,EJ49,EJ55,EJ61,EJ67,EJ73,EJ79,EJ85,EJ91,EJ97,EJ103,EJ109) -> 12209.754 | ... EN9: =SUM(EN13,EN19,EN25,EN31,EN37,EN43,EN49,EN55,EN61,EN67,EN73,EN79,EN85,EN91,EN97,EN103,EN109) -> 13919.128 | EO9: =SUM(EC9:EN9) -> 152996.32
B10: 其中规下货物周转量 (万吨公里) | C10: 1672506.4 | D10: =C10/V10-1 -> 0.2573508 | E10: 1049671.4 | F10: =E10/X10-1 -> -0.1611881 | G10: 1617169.1 | H10: =G10/Z10-1 -> -0.046570369 | I10: 1688161.5 | J10: =I10/AB10-1 -> 0.00075458555 | K10: 1689902.9 | L10: =K10/AD10-1 -> 0.0063339478 | M10: 1562902.8 | N10: =M10/AF10-1 -> 0.04406567 | O10: 1584647.1 | P10: =O10/AH10-1 -> -0.011121483 | S10: =C10+E10+G10+I10+K10+M10+O10+Q10 -> 10864961 | T10: =S10/SUM(V10,X10,Z10,AB10,AD10,AF10,AH10,AJ10)-1 -> -0.12305439 | V10: =SUM(V16,V22,V28,V34,V40,V46,V52,V58,V64,V70,V76,V82,V88,V94,V100,V106,V112) -> 1330182.8 | W10: =V10/AX10-1 -> -0.12859963 | X10: =SUM(X16,X22,X28,X34,X40,X46,X52,X58,X64,X70,X76,X82,X88,X94,X100,X106,X112) -> 1251378.7 | Y10: =X10/AZ10-1 -> 0.56072933 | Z10: =SUM(Z16,Z22,Z28,Z34,Z40,Z46,Z52,Z58,Z64,Z70,Z76,Z82,Z88,Z94,Z100,Z106,Z112) -> 1696159.9 | AA10: =Z10/BB10-1 -> 0.080420139 | AB10: =SUM(AB16,AB22,AB28,AB34,AB40,AB46,AB52,AB58,AB64,AB70,AB76,AB82,AB88,AB94,AB100,AB106,AB112) -> 1686888.6 | AC10: =AB10/BD10-1 -> 0.071456005 | AD10: =SUM(AD16,AD22,AD28,AD34,AD40,AD46,AD52,AD58,AD64,AD70,AD76,AD82,AD88,AD94,AD100,AD106,AD112) -> 1679266.5 | AE10: =AD10/BF10-1 -> 0.039256953 | AF10: =SUM(AF16,AF22,AF28,AF34,AF40,AF46,AF52,AF58,AF64,AF70,AF76,AF82,AF88,AF94,AF100,AF106,AF112) -> 1496939.2 | AG10: =AF10/BH10-1 -> 0.044569586 | AH10: =SUM(AH16,AH22,AH28,AH34,AH40,AH46,AH52,AH58,AH64,AH70,AH76,AH82,AH88,AH94,AH100,AH106,AH112) -> 1602468.9 | AI10: =AH10/BJ10-1 -> 0.069749385 | AJ10: =SUM(AJ16,AJ22,AJ28,AJ34,AJ40,AJ46,AJ52,AJ58,AJ64,AJ70,AJ76,AJ82,AJ88,AJ94,AJ100,AJ106,AJ112) -> 1646265 | AK10: =AJ10/BL10-1 -> 0.060916791 | AL10: =SUM(AL16,AL22,AL28,AL34,AL40,AL46,AL52,AL58,AL64,AL70,AL76,AL82,AL88,AL94,AL100,AL106,AL112) -> 1700140.4 | AM10: =AL10/BN10-1 -> 0.062202801 | AN10: =SUM(AN16,AN22,AN28,AN34,AN40,AN46,AN52,AN58,AN64,AN70,AN76,AN82,AN88,AN94,AN100,AN106,AN112) -> 1559213 | AO10: =AN10/BP10-1 -> -0.033893415 | AP10: =SUM(AP16,AP22,AP28,AP34,AP40,AP46,AP52,AP58,AP64,AP70,AP76,AP82,AP88,AP94,AP100,AP106,AP112) -> 1620604.3 | AQ10: =AP10/BR10-1 -> -0.01891566 | AR10: =SUM(AR16,AR22,AR28,AR34,AR40,AR46,AR52,AR58,AR64,AR70,AR76,AR82,AR88,AR94,AR100,AR106,AR112) -> 1699014.7 | AS10: =AR10/BT10-1 -> -0.021693909 | AT10: =V10+X10+Z10+AB10+AD10+AF10+AH10+AJ10+AL10+AN10+AP10+AR10 -> 18968522 | AU10: =AT10/SUM(AX10,AZ10,BB10,BD10,BF10,BH10,BJ10,BL10,BN10,BP10,BR10,BT10)-1 -> 0.043703959 | AV10: =AT10/AT6 -> 0.71840766 | AW10: =AX10+AZ10+BB10+BD10+BF10+BH10+BJ10+BL10+BN10+BP10+BR10 -> 16437546 | AX10: =SUM(AX16,AX22,AX28,AX34,AX40,AX46,AX52,AX58,AX64,AX70,AX76,AX82,AX88,AX94,AX100,AX106,AX112) -> 1526488.7 | AY10: =AX10/BY10-1 -> 0.34614614 | AZ10: =SUM(AZ16,AZ22,AZ28,AZ34,AZ40,AZ46,AZ52,AZ58,AZ64,AZ70,AZ76,AZ82,AZ88,AZ94,AZ100,AZ106,AZ112) -> 801790.99 | BA10: =AZ10/CA10-1 -> -0.41542977 | BB10: =SUM(BB16,BB22,BB28,BB34,BB40,BB46,BB52,BB58,BB64,BB70,BB76,BB82,BB88,BB94,BB100,BB106,BB112) -> 1569907.7 | BC10: =BB10/CC10-1 -> -0.049387434 | BD10: =SUM(BD16,BD22,BD28,BD34,BD40,BD46,BD52,BD58,BD64,BD70,BD76,BD82,BD88,BD94,BD100,BD106,BD112) -> 1574389 | BE10: =BD10/CE10-1 -> -0.0058127227 | BF10: =SUM(BF16,BF22,BF28,BF34,BF40,BF46,BF52,BF58,BF64,BF70,BF76,BF82,BF88,BF94,BF100,BF106,BF112) -> 1615833.8 | BG10: =BF10/CG10-1 -> -0.0038622257 | BH10: =SUM(BH16,BH22,BH28,BH34,BH40,BH46,BH52,BH58,BH64,BH70,BH76,BH82,BH88,BH94,BH100,BH106,BH112) -> 1433067.9 | BI10: =BH10/CI10-1 -> -0.087578638 | BJ10: =SUM(BJ16,BJ22,BJ28,BJ34,BJ40,BJ46,BJ52,BJ58,BJ64,BJ70,BJ76,BJ82,BJ88,BJ94,BJ100,BJ106,BJ112) -> 1497985.3 | BK10: =BJ10/CK10-1 -> -0.069318198 | BL10: =SUM(BL16,BL22,BL28,BL34,BL40,BL46,BL52,BL58,BL64,BL70,BL76,BL82,BL88,BL94,BL100,BL106,BL112) -> 1551738 | BM10: =BL10/CM10-1 -> -0.082679032 | BN10: =SUM(BN16,BN22,BN28,BN34,BN40,BN46,BN52,BN58,BN64,BN70,BN76,BN82,BN88,BN94,BN100,BN106,BN112) -> 1600579.8 | BO10: =BN10/CO10-1 -> -0.065362594 | BP10: =SUM(BP16,BP22,BP28,BP34,BP40,BP46,BP52,BP58,BP64,BP70,BP76,BP82,BP88,BP94,BP100,BP106,BP112) -> 1613914.1 | BQ10: =BP10/CQ10-1 -> -0.036434008 | BR10: =SUM(BR16,BR22,BR28,BR34,BR40,BR46,BR52,BR58,BR64,BR70,BR76,BR82,BR88,BR94,BR100,BR106,BR112) -> 1651850.1 | BS10: =BR10/CS10-1 -> -0.058701942 | BT10: =SUM(BT16,BT22,BT28,BT34,BT40,BT46,BT52,BT58,BT64,BT70,BT76,BT82,BT88,BT94,BT100,BT106,BT112) -> 1736690.3 | BU10: =BT10/CU10-1 -> -0.031018696 | BV10: =AX10+AZ10+BB10+BD10+BF10+BH10+BJ10+BL10+BN10+BP10+BR10+BT10 -> 18174236 | BW10: =BV10/SUM(BY10,CA10,CC10,CE10,CG10,CI10,CK10,CM10,CO10,CQ10,CS10,CU10)-1 -> -0.051899337 | BY10: =SUM(BY16,BY22,BY28,BY34,BY40,BY46,BY52,BY58,BY64,BY70,BY76,BY82,BY88,BY94,BY100,BY106,BY112) -> 1133969.5 | BZ10: =BY10/DM10-1 -> -0.23719418 | CA10: =SUM(CA16,CA22,CA28,CA34,CA40,CA46,CA52,CA58,CA64,CA70,CA76,CA82,CA88,CA94,CA100,CA106,CA112) -> 1371590.5 | CB10: =CA10/DN10-1 -> 0.30565236 | CC10: =SUM(CC16,CC22,CC28,CC34,CC40,CC46,CC52,CC58,CC64,CC70,CC76,CC82,CC88,CC94,CC100,CC106,CC112) -> 1651469.5 | CD10: =CC10/DO10-1 -> 0.02483825 | CE10: =SUM(CE16,CE22,CE28,CE34,CE40,CE46,CE52,CE58,CE64,CE70,CE76,CE82,CE88,CE94,CE100,CE106,CE112) -> 1583594 | CF10: =CE10/DP10-1 -> 0.00078591358 | CG10: =SUM(CG16,CG22,CG28,CG34,CG40,CG46,CG52,CG58,CG64,CG70,CG76,CG82,CG88,CG94,CG100,CG106,CG112) -> 1622098.7 | CH10: =CG10/DQ10-1 -> -0.015354425 | CI10: =SUM(CI16,CI22,CI28,CI34,CI40,CI46,CI52,CI58,CI64,CI70,CI76,CI82,CI88,CI94,CI100,CI106,CI112) -> 1570620.7 | CJ10: =CI10/DR10-1 -> 0.027158857 | CK10: =SUM(CK16,CK22,CK28,CK34,CK40,CK46,CK52,CK58,CK64,CK70,CK76,CK82,CK88,CK94,CK100,CK106,CK112) -> 1609556.9 | CL10: =CK10/DS10-1 -> 0.016614405 | CM10: =SUM(CM16,CM22,CM28,CM34,CM40,CM46,CM52,CM58,CM64,CM70,CM76,CM82,CM88,CM94,CM100,CM106,CM112) -> 1691597.7 | CN10: =CM10/DT10-1 -> 0.05908605 | CO10: =SUM(CO16,CO22,CO28,CO34,CO40,CO46,CO52,CO58,CO64,CO70,CO76,CO82,CO88,CO94,CO100,CO106,CO112) -> 1712514.2 | CP10: =CO10/DU10-1 -> -0.037499494 | CQ10: =SUM(CQ16,CQ22,CQ28,CQ34,CQ40,CQ46,CQ52,CQ58,CQ64,CQ70,CQ76,CQ82,CQ88,CQ94,CQ100,CQ106,CQ112) -> 1674938.8 | CR10: =CQ10/DV10-1 -> -0.046549482 | CS10: =SUM(CS16,CS22,CS28,CS34,CS40,CS46,CS52,CS58,CS64,CS70,CS76,CS82,CS88,CS94,CS100,CS106,CS112) -> 1754864 | CT10: =CS10/DX10-1 -> -0.027309853 | CU10: =SUM(CU16,CU22,CU28,CU34,CU40,CU46,CU52,CU58,CU64,CU70,CU76,CU82,CU88,CU94,CU100,CU106,CU112) -> 1792284.6 | CV10: =CU10/DX10-1 -> -0.0065682663 | CW10: =BY10+CA10+CC10+CE10+CG10+CI10+CK10+CM10+CO10+CQ10+CS10+CU10 -> 19169099 | CX10: =CW10/SUM(DM10:DX10)-1 -> -0.002085288 | CZ10: =CU10/CS10-1 -> 0.021323941 | DA10: =CS10/CQ10-1 -> 0.047718283 | DB10: =CQ10/CO10-1 -> -0.021941659 | DC10: =CO10/CM10-1 -> 0.012364941 | DD10: =CM10/CK10-1 -> 0.050971032 | DE10: =CK10/CI10-1 -> 0.024790316 | DF10: =CI10/CG10-1 -> -0.031735397 | DG10: =CG10/CE10-1 -> 0.024314736 | DH10: =CE10/CC10-1 -> -0.041100063 | DI10: =CC10/CA10-1 -> 0.20405433 | DJ10: =(CA10-BY10)/BY10 -> 0.20954796 | DK10: =(BY10-DX10)/DX10 -> -0.37146071 | DM10: =SUM(DM16,DM22,DM28,DM34,DM40,DM46,DM52,DM58,DM64,DM70,DM76,DM82,DM88,DM94,DM100,DM106,DM112) -> 1486576.9 | DN10: =SUM(DN16,DN22,DN28,DN34,DN40,DN46,DN52,DN58,DN64,DN70,DN76,DN82,DN88,DN94,DN100,DN106,DN112) -> 1050502.1 | DO10: =SUM(DO16,DO22,DO28,DO34,DO40,DO46,DO52,DO58,DO64,DO70,DO76,DO82,DO88,DO94,DO100,DO106,DO112) -> 1611444.1 | DP10: =SUM(DP16,DP22,DP28,DP34,DP40,DP46,DP52,DP58,DP64,DP70,DP76,DP82,DP88,DP94,DP100,DP106,DP112) -> 1582350.4 | DQ10: =SUM(DQ16,DQ22,DQ28,DQ34,DQ40,DQ46,DQ52,DQ58,DQ64,DQ70,DQ76,DQ82,DQ88,DQ94,DQ100,DQ106,DQ112) -> 1647393.5 | DR10: =SUM(DR16,DR22,DR28,DR34,DR40,DR46,DR52,DR58,DR64,DR70,DR76,DR82,DR88,DR94,DR100,DR106,DR112) -> 1529092.3 | DS10: =SUM(DS16,DS22,DS28,DS34,DS40,DS46,DS52,DS58,DS64,DS70,DS76,DS82,DS88,DS94,DS100,DS106,DS112) -> 1583252.1 | DT10: =SUM(DT16,DT22,DT28,DT34,DT40,DT46,DT52,DT58,DT64,DT70,DT76,DT82,DT88,DT94,DT100,DT106,DT112) -> 1597224.1 | ... DX10: =SUM(DX16,DX22,DX28,DX34,DX40,DX46,DX52,DX58,DX64,DX70,DX76,DX82,DX88,DX94,DX100,DX106,DX112) -> 1804134.7 | DY10: 0.00018941137 | DZ10: =SUM(DM10:DX10) -> 19209156 | EA10: =IFERROR(DZ10/SUM(EC10:EN10)-1,"") -> -0.076866052 | EC10: =SUM(EC16,EC22,EC28,EC34,EC40,EC46,EC52,EC58,EC64,EC70,EC76,EC82,EC88,EC94,EC100,EC106,EC112) -> 2046508.7 | ED10: =SUM(ED16,ED22,ED28,ED34,ED40,ED46,ED52,ED58,ED64,ED70,ED76,ED82,ED88,ED94,ED100,ED106,ED112) -> 1020210.5 | EE10: =SUM(EE16,EE22,EE28,EE34,EE40,EE46,EE52,EE58,EE64,EE70,EE76,EE82,EE88,EE94,EE100,EE106,EE112) -> 1579936.8 | EF10: =SUM(EF16,EF22,EF28,EF34,EF40,EF46,EF52,EF58,EF64,EF70,EF76,EF82,EF88,EF94,EF100,EF106,EF112) -> 1845669.3 | EG10: =SUM(EG16,EG22,EG28,EG34,EG40,EG46,EG52,EG58,EG64,EG70,EG76,EG82,EG88,EG94,EG100,EG106,EG112) -> 1832917.4 | EH10: =SUM(EH16,EH22,EH28,EH34,EH40,EH46,EH52,EH58,EH64,EH70,EH76,EH82,EH88,EH94,EH100,EH106,EH112) -> 1884475.2 | EI10: =SUM(EI16,EI22,EI28,EI34,EI40,EI46,EI52,EI58,EI64,EI70,EI76,EI82,EI88,EI94,EI100,EI106,EI112) -> 1670131.1 | EJ10: =SUM(EJ16,EJ22,EJ28,EJ34,EJ40,EJ46,EJ52,EJ58,EJ64,EJ70,EJ76,EJ82,EJ88,EJ94,EJ100,EJ106,EJ112) -> 1737653.3 | ... EN10: =SUM(EN16,EN22,EN28,EN34,EN40,EN46,EN52,EN58,EN64,EN70,EN76,EN82,EN88,EN94,EN100,EN106,EN112) -> 1803793 | EO10: =SUM(EC10:EN10) -> 20808633
A11: 武汉市 | B11: 规上+规下货运量 (万吨) | C11: 5367.976 | D11: =C11/V11-1 -> 0.15270283 | E11: 3325.2226 | F11: =E11/X11-1 -> -0.17358272 | G11: 5045.5091 | H11: =G11/Z11-1 -> -0.046011972 | I11: 5344.9192 | J11: =I11/AB11-1 -> -0.021095289 | K11: 5241.1373 | L11: =K11/AD11-1 -> -0.00012572066 | M11: 5041.0422 | N11: =M11/AF11-1 -> 0.039727842 | O11: 4940.9715 | P11: =O11/AH11-1 -> 0.012827398 | S11: =C11+E11+G11+I11+K11+M11+O11+Q11 -> 34306.778 | T11: =S11/SUM(V11,X11,Z11,AB11,AD11,AF11,AH11,AJ11)-1 -> -0.12667442 | V11: 4656.8602 | W11: =V11/AX11-1 -> -0.044590632 | X11: 4023.6605 | Y11: =X11/AZ11-1 -> 0.63478625 | Z11: 5288.86 | AA11: =Z11/BB11-1 -> 0.13328875 | AB11: 5460.1016 | AC11: =AB11/BD11-1 -> 0.10522227 | AD11: 5241.7963 | AE11: =AD11/BF11-1 -> 0.085787831 | AF11: 4848.4248 | AG11: =AF11/BH11-1 -> 0.081351108 | AH11: 4878.3944 | AI11: =AH11/BJ11-1 -> 0.026722254 | AJ11: 4884.821 | AK11: =AJ11/BL11-1 -> -0.018721276 | AL11: 5013.4556 | AM11: =AL11/BN11-1 -> -0.0089098466 | AN11: 4807.0288 | AO11: =AN11/BP11-1 -> -0.048256692 | AP11: 5151.9778 | AQ11: =AP11/BR11-1 -> -0.019588611 | AR11: 5606.9689 | AS11: =AR11/BT11-1 -> -0.043477689 | AT11: =V11+X11+Z11+AB11+AD11+AF11+AH11+AJ11+AL11+AN11+AP11+AR11 -> 59862.35 | AU11: =AT11/SUM(AX11,AZ11,BB11,BD11,BF11,BH11,BJ11,BL11,BN11,BP11,BR11,BT11)-1 -> 0.046373217 | AW11: =AX11+AZ11+BB11+BD11+BF11+BH11+BJ11+BL11+BN11+BP11+BR11 -> 51347.54 | AX11: 4874.2041 | AY11: =AX11/BY11-1 -> 0.63300391 | AZ11: 2461.2762 | BA11: =AZ11/CA11-1 -> -0.32500468 | BB11: 4666.8247 | BC11: =BB11/CC11-1 -> 0.023038022 | BD11: 4940.2747 | BE11: =BD11/CE11-1 -> 0.13546903 | BF11: 4827.6433 | BG11: =BF11/CG11-1 -> 0.1098849 | BH11: 4483.673 | BI11: =BH11/CI11-1 -> 0.023564405 | BJ11: 4751.4256 | BK11: =BJ11/CK11-1 -> 0.059972471 | BL11: 4978.0158 | BM11: =BL11/CM11-1 -> 0.040642983 | BN11: 5058.5262 | BO11: =BN11/CO11-1 -> 0.051435194 | BP11: 5050.7619 | BQ11: =BP11/CQ11-1 -> 0.077577337 | BR11: 5254.9143 | BS11: =BR11/CS11-1 -> 0.064778593 | BT11: 5861.8276 | BU11: =BT11/CU11-1 -> 0.10350805 | BV11: =AX11+AZ11+BB11+BD11+BF11+BH11+BJ11+BL11+BN11+BP11+BR11+BT11 -> 57209.368 | BW11: =BV11/SUM(BY11,CA11,CC11,CE11,CG11,CI11,CK11,CM11,CO11,CQ11,CS11,CU11)-1 -> 0.073638327 | BY11: 2984.8086 | BZ11: =BY11/DM11-1 -> -0.15394042 | CA11: 3646.3604 | CB11: =CA11/DN11-1 -> 0.44640423 | CC11: 4561.7315 | CD11: =CC11/DO11-1 -> 0.14526827 | CE11: 4350.867 | CF11: =CE11/DP11-1 -> 0.21621651 | CG11: 4349.6792 | CH11: =CG11/DQ11-1 -> 0.17955263 | CI11: 4380.4503 | CJ11: =CI11/DR11-1 -> 0.23415661 | CK11: 4482.5934 | CL11: =CK11/DS11-1 -> 0.20996593 | CM11: 4783.5962 | CN11: =CM11/DT11-1 -> 0.26700842 | CO11: 4811.068 | CP11: =CO11/DU11-1 -> 0.13560974 | CQ11: 4687.1456 | CR11: =CQ11/DV11-1 -> 0.19094061 | CS11: 4935.2178 | CT11: =CS11/DX11-1 -> 0.13860922 | CU11: 5311.9935 | CV11: =CU11/DX11-1 -> 0.22553554 | CW11: =BY11+CA11+CC11+CE11+CG11+CI11+CK11+CM11+CO11+CQ11+CS11+CU11 -> 53285.512 | CX11: =CW11/SUM(DM11:DX11)-1 -> 0.18471725 | CZ11: =CU11/CS11-1 -> 0.076344288 | DA11: =CS11/CQ11-1 -> 0.052926072 | DM11: 3527.8941 | DN11: 2520.983 | DO11: 3983.1117 | DP11: 3577.3787 | DQ11: 3687.5669 | DR11: 3549.3472 | DS11: 3704.727 | DT11: 3775.5047 | DU11: 4236.5505 | DV11: 3935.667 | DW11: 4144.2516 | DX11: 4334.4264 | DY11: -0.057195789 | DZ11: =SUM(DM11:DX11) -> 44977.409 | EA11: =IFERROR(DZ11/SUM(EC11:EN11)-1,"") -> -0.088660671 | EC11: 4863.5297 | ED11: 2088.3234 | EE11: 3828.3068 | EF11: 4386.9744 | EG11: 4073.4711 | EH11: 4516.8977 | EI11: 4020.7726 | EJ11: 3939.6845 | EK11: 4321.4984 | EL11: 3983.3497 | EM11: 4732.901 | EN11: 4597.377 | EO11: =SUM(EC11:EN11) -> 49353.086
B12: 规上货运量 (万吨) | C12: 1068.203 | D12: =C12/V12-1 -> -0.36391234 | E12: 1082.0457 | F12: =E12/X12-1 -> -0.31854184 | G12: 1315.4117 | H12: =G12/Z12-1 -> -0.20699314 | I12: 1395.7514 | J12: =I12/AB12-1 -> -0.18348528 | K12: 1404.6304 | L12: =K12/AD12-1 -> -0.16646907 | M12: 1411.5586 | N12: =M12/AF12-1 -> -0.14816827 | O12: 1227.5499 | P12: =O12/AH12-1 -> 0.060076749 | S12: =C12+E12+G12+I12+K12+M12+O12+Q12 -> 8905.1507 | T12: =S12/SUM(V12,X12,Z12,AB12,AD12,AF12,AH12,AJ12)-1 -> -0.26954496 | V12: 1679.333 | W12: =V12/AX12-1 -> 0.34456992 | X12: 1587.8388 | Y12: =X12/AZ12-1 -> 0.78224722 | Z12: 1658.7646 | AA12: =Z12/BB12-1 -> 0.44237929 | AB12: 1709.4014 | AC12: =AB12/BD12-1 -> 0.22379054 | AD12: 1685.1569 | AE12: =AD12/BF12-1 -> 0.26100623 | AF12: 1657.0862 | AG12: =AF12/BH12-1 -> 0.21444334 | AH12: 1157.9821 | AI12: =AH12/BJ12-1 -> -0.21054509 | AJ12: 1055.6742 | AK12: =AJ12/BL12-1 -> -0.31356131 | AL12: 1130.5905 | AM12: =AL12/BN12-1 -> -0.23723886 | AN12: 1091.9593 | AO12: =AN12/BP12-1 -> -0.27261321 | AP12: 1282.9303 | AQ12: =AP12/BR12-1 -> -0.1998101 | AR12: 1454.2056 | AS12: =AR12/BT12-1 -> -0.20389443 | AT12: =V12+X12+Z12+AB12+AD12+AF12+AH12+AJ12+AL12+AN12+AP12+AR12 -> 17150.923 | AU12: =AT12/SUM(AX12,AZ12,BB12,BD12,BF12,BH12,BJ12,BL12,BN12,BP12,BR12,BT12)-1 -> 0.020545073 | AV12: 0.050613496 | AW12: =AX12+AZ12+BB12+BD12+BF12+BH12+BJ12+BL12+BN12+BP12+BR12 -> 14979 | AX12: 1248.9741 | AY12: =AX12/BY12-1 -> 1.4836864 | AZ12: 890.9195 | BA12: =AZ12/CA12-1 -> 0.55050761 | BB12: 1150.0197 | BC12: =BB12/CC12-1 -> 0.73297472 | BD12: 1396.8088 | BE12: =BD12/CE12-1 -> 0.96962943 | BF12: 1336.3589 | BG12: =BF12/CG12-1 -> 0.83375984 | BH12: 1364.4821 | BI12: =BH12/CI12-1 -> 0.93684194 | BJ12: 1466.8122 | BK12: =BJ12/CK12-1 -> 0.87732666 | BL12: 1537.9002 | BM12: =BL12/CM12-1 -> 0.87739704 | BN12: 1482.234 | BO12: =BN12/CO12-1 -> 0.81558237 | BP12: 1501.2086 | BQ12: =BP12/CQ12-1 -> 0.73549004 | BR12: 1603.2823 | BS12: =BR12/CS12-1 -> 0.83078142 | BT12: 1826.6492 | BU12: =BT12/CU12-1 -> 1.0032925 | BV12: =AX12+AZ12+BB12+BD12+BF12+BH12+BJ12+BL12+BN12+BP12+BR12+BT12 -> 16805.65 | BW12: =BV12/SUM(BY12,CA12,CC12,CE12,CG12,CI12,CK12,CM12,CO12,CQ12,CS12,CU12)-1 -> 0.87710687 | BY12: 502.8711 | BZ12: =BY12/DM12-1 -> 1.5450733 | CA12: 574.5986 | CB12: =CA12/DN12-1 -> 2.3668531 | CC12: 663.6102 | CD12: =CC12/DO12-1 -> 2.273531 | CE12: 709.1734 | CF12: =CE12/DP12-1 -> 3.088692 | CG12: 728.7535 | CH12: =CG12/DQ12-1 -> 3.1498146 | CI12: 704.4881 | CJ12: =CI12/DR12-1 -> 2.9331301 | CK12: 781.3303 | CL12: =CK12/DS12-1 -> 2.9960103 | CM12: 819.1662 | CN12: =CM12/DT12-1 -> 3.5058126 | CO12: 816.3959 | CP12: =CO12/DU12-1 -> 3.3898743 | CQ12: 865.0056 | CR12: =CQ12/DV12-1 -> 3.9193494 | CS12: 875.7366 | CT12: =CS12/DX12-1 -> 3.5739351 | CU12: 911.8235 | CV12: =CU12/DX12-1 -> 3.7624155 | CW12: =BY12+CA12+CC12+CE12+CG12+CI12+CK12+CM12+CO12+CQ12+CS12+CU12 -> 8952.953 | CX12: =CW12/SUM(DM12:DX12)-1 -> 3.0955532 | CZ12: =CU12/CS12-1 -> 0.041207482 | DA12: =CS12/CQ12-1 -> 0.0124057 | DL12: 武汉市 | DM12: 197.5861 | DN12: 170.6634 | DO12: 202.72 | DP12: 173.4475 | DQ12: 175.6111 | DR12: 179.1164 | DS12: 195.5276 | DT12: 181.8021 | DU12: 185.9725 | DV12: 175.8374 | DW12: 156.2715 | DX12: 191.4624 | DY12: -0.17101454 | DZ12: =SUM(DM12:DX12) -> 2186.018 | EA12: =IFERROR(DZ12/SUM(EC12:EN12)-1,"") -> -0.17604362 | EC12: 281.7984 | ED12: 158.6914 | EE12: 244.86636 | EF12: 240.82636 | EG12: 236.0501 | EH12: 226.246 | EI12: 223.3899 | EJ12: 183.2319 | EK12: 195.7 | EL12: 209.6869 | EM12: 221.6277 | EN12: 230.9599 | EO12: =SUM(EC12:EN12) -> 2653.0749
B13: 规下货运量 (万吨) | C13: 4299.773 | D13: =C13/V13-1 -> 0.44407512 | E13: 2243.1769 | F13: =E13/X13-1 -> -0.079088227 | G13: 3730.0974 | H13: =G13/Z13-1 -> 0.027548044 | I13: 3949.1678 | J13: =I13/AB13-1 -> 0.052914806 | K13: 3836.5069 | L13: =K13/AD13-1 -> 0.078688746 | M13: 3629.4836 | N13: =M13/AF13-1 -> 0.13729194 | O13: 3713.4216 | P13: =O13/AH13-1 -> -0.0018790103 | S13: =C13+E13+G13+I13+K13+M13+O13+Q13 -> 25401.627 | T13: =S13/SUM(V13,X13,Z13,AB13,AD13,AF13,AH13,AJ13)-1 -> -0.06238278 | V13: 2977.5272 | W13: =V13/AX13-1 -> -0.17866528 | X13: 2435.8217 | Y13: =X13/AZ13-1 -> 0.55112637 | Z13: 3630.0954 | AA13: =Z13/BB13-1 -> 0.032213989 | AB13: 3750.7002 | AC13: =AB13/BD13-1 -> 0.058483502 | AD13: 3556.6394 | AE13: =AD13/BF13-1 -> 0.018719485 | AF13: 3191.3386 | AG13: =AF13/BH13-1 -> 0.023130251 | AH13: 3720.4123 | AI13: =AH13/BJ13-1 -> 0.1326789 | AJ13: 3829.1468 | AK13: =AJ13/BL13-1 -> 0.11308666 | AL13: 3882.8651 | AM13: =AL13/BN13-1 -> 0.085723645 | AN13: 3715.0695 | AO13: =AN13/BP13-1 -> 0.046630159 | AP13: 3869.0475 | AQ13: =AP13/BR13-1 -> 0.059539277 | AR13: 4152.7633 | AS13: =AR13/BT13-1 -> 0.029139947 | AT13: =V13+X13+Z13+AB13+AD13+AF13+AH13+AJ13+AL13+AN13+AP13+AR13 -> 42711.427 | AU13: =AT13/SUM(AX13,AZ13,BB13,BD13,BF13,BH13,BJ13,BL13,BN13,BP13,BR13,BT13)-1 -> 0.057116257 | AW13: =AX13+AZ13+BB13+BD13+BF13+BH13+BJ13+BL13+BN13+BP13+BR13 -> 36368.54 | AX13: 3625.23 | AY13: =AX13/BY13-1 -> 0.46064517 | AZ13: 1570.3567 | BA13: =AZ13/CA13-1 -> -0.48877654 | BB13: 3516.805 | BC13: =BB13/CC13-1 -> -0.097820514 | BD13: 3543.4659 | BE13: =BD13/CE13-1 -> -0.026973075 | BF13: 3491.2844 | BG13: =BF13/CG13-1 -> -0.035803364 | BH13: 3119.1909 | BI13: =BH13/CI13-1 -> -0.15146274 | BJ13: 3284.6134 | BK13: =BJ13/CK13-1 -> -0.1125696 | BL13: 3440.1156 | BM13: =BL13/CM13-1 -> -0.13225467 | BN13: 3576.2922 | BO13: =BN13/CO13-1 -> -0.10473447 | BP13: 3549.5533 | BQ13: =BP13/CQ13-1 -> -0.071317828 | BR13: 3651.632 | BS13: =BR13/CS13-1 -> -0.10046831 | BT13: 4035.1784 | BU13: =BT13/CU13-1 -> -0.082949436 | BV13: =AX13+AZ13+BB13+BD13+BF13+BH13+BJ13+BL13+BN13+BP13+BR13+BT13 -> 40403.718 | BW13: =BV13/SUM(BY13,CA13,CC13,CE13,CG13,CI13,CK13,CM13,CO13,CQ13,CS13,CU13)-1 -> -0.088622015 | BY13: 2481.9375 | BZ13: =BY13/DM13-1 -> -0.25474236 | CA13: 3071.7618 | CB13: =CA13/DN13-1 -> 0.30695497 | CC13: 3898.1213 | CD13: =CC13/DO13-1 -> 0.031142157 | CE13: 3641.6936 | CF13: =CE13/DP13-1 -> 0.069849368 | CG13: 3620.9257 | CH13: =CG13/DQ13-1 -> 0.031028278 | CI13: 3675.9622 | CJ13: =CI13/DR13-1 -> 0.090715275 | CK13: 3701.2631 | CL13: =CK13/DS13-1 -> 0.054731497 | CM13: 3964.43 | CN13: =CM13/DT13-1 -> 0.1031603 | CO13: 3994.6721 | CP13: =CO13/DU13-1 -> -0.013801951 | CQ13: 3822.14 | CR13: =CQ13/DV13-1 -> 0.016572681 | CS13: 4059.4812 | CT13: =CS13/DX13-1 -> -0.020150482 | CU13: 4400.17 | CV13: =CU13/DX13-1 -> 0.062082624 | CW13: =BY13+CA13+CC13+CE13+CG13+CI13+CK13+CM13+CO13+CQ13+CS13+CU13 -> 44332.559 | CX13: =CW13/SUM(DM13:DX13)-1 -> 0.036015845 | CZ13: =CU13/CS13-1 -> 0.083924219 | DA13: =CS13/CQ13-1 -> 0.062096419 | DM13: 3330.308 | DN13: 2350.3196 | DO13: 3780.3917 | DP13: 3403.9312 | DQ13: 3511.9558 | DR13: 3370.2308 | DS13: 3509.1994 | DT13: 3593.7026 | DU13: 4050.578 | DV13: 3759.8296 | DW13: 3987.9801 | DX13: 4142.964 | DY13: -0.051175392 | DZ13: =SUM(DM13:DX13) -> 42791.391 | EA13: =IFERROR(DZ13/SUM(EC13:EN13)-1,"") -> -0.083696357 | EC13: 4581.7313 | ED13: 1929.632 | EE13: 3583.4404 | EF13: 4146.1481 | EG13: 3837.421 | EH13: 4290.6517 | EI13: 3797.3827 | EJ13: 3756.4526 | EK13: 4125.7984 | EL13: 3773.6628 | EM13: 4511.2733 | EN13: 4366.4171 | EO13: =SUM(EC13:EN13) -> 46700.011
