Workbook

Sheet  货运
A1: 3月10日厅开会确定拆分方案，1-2月数据以此为准。
A3: 地区 名称 | B3: 指标 | C3: 46023 | D3: 1月与去年同比 | E3: 46054 | F3: 2月与去年同比 | G3: 46082 | H3: 3月与去年同比 | I3: 46113 | J3: 4月与去年同比 | K3: 46143 | L3: 5月与去年同比 | M3: 46174 | N3: 6月与去年同比 | O3: 46204 | P3: 7月与去年同比 | Q3: 累计周转量 | R3: 同比 | T3: 2025年1月 | U3: 1月与去年同比 | V3: 2025年2月 | W3: 2月与去年同比 | X3: 2025年3月 | Y3: 3月与去年同比 | Z3: 2025年4月 | AA3: 4月与去年同比 | AB3: 2025年5月 | AC3: 5月与去年同比 | AD3: 2025年6月 | AE3: 6月与去年同比 | AF3: 2025年7月 | AG3: 7月与去年同比 | AH3: 2025年8月 | AI3: 8月与去年同比 | AJ3: 2025年9月 | AK3: 9月与去年同比 | AL3: 2025年10月 | AM3: 10月与去年同比 | AN3: 2025年11月 | AO3: 11月与去年同比 | AP3: 2025年12月 | AQ3: 12月与去年同比 | AR3: 2025年累计 | AS3: 2025年累计同比 | AV3: 2024年1月 | AW3: 1月与去年同比 | AX3: 2024年2月 | AY3: 2月与去年同比 | AZ3: 2024年3月 | BA3: 3月与去年同比 | BB3: 2024年4月 | BC3: 4月与去年同比 | BD3: 2024年5月 | BE3: 5月与去年同比 | BF3: 2024年6月 | BG3: 6月与去年同比 | BH3: 2024年7月 | BI3: 7月与去年同比 | BJ3: 2024年8月 | BK3: 8月与去年同比 | BL3: 2024年9月 | BM3: 9月与去年同比 | BN3: 2024年10月 | BO3: 10月与去年同比 | BP3: 2024年11月 | BQ3: 11月与去年同比 | BR3: 2024年12月 | BS3: 12月与去年同比 | BT3: 2024年累计 | BU3: 累计同比 | BW3: 2023年1月 | BX3: 1月与去年同比 | BY3: 2023年2月 | BZ3: 2月与去年同比 | CA3: 2023年3月 | CB3: 3月与去年同比 | CC3: 2023年4月 | CD3: 4月与去年同比 | CE3: 2023年5月 | CF3: 5月与去年同比 | CG3: 2023年6月 | CH3: 6月与去年同比 | CI3: 45108 | CJ3: 7月与去年同比 | CK3: 45139 | CL3: 8月与去年同比 | CM3: 45170 | CN3: 9月与去年同比 | CO3: 45200 | CP3: 10月与去年同比 | CQ3: 45231 | CR3: 11月与去年同比 | CS3: 45261 | CT3: 12月与去年同比 | CU3: 累计 | CV3: 累计同比 | DK3: 2022年1月 | DL3: 2022年2月 | DM3: 2022年3月 | DN3: 2022年4月 | DO3: 2022年5月 | DP3: 2022年6月 | DQ3: 2022年7月 | DR3: 2022年8月 | DS3: 2022年9月 | DT3: 2022年10月 | DU3: 2022年11月 | DV3: 2022年12月 | DW3: 12月与去年同比 | DX3: 累计 | DY3: 累计同比 | EA3: 2021年1月 | EB3: 2021年2月 | EC3: 2021年3月 | ED3: 2021年4月 | EE3: 44317 | EF3: 44348 | EG3: 44378 | EH3: 44409 | EI3: 44440 | EJ3: 44470 | EK3: 44501 | EL3: 44531 | EN3: 累计同比
CX4: 12月环比% | CY4: 11月环比% | CZ4: 10月环比% | DA4: 9月环比% | DB4: 8月环比% | DC4: 7月环比% | DD4: 6月环比% | DE4: 5月环比% | DF4: 4月环比% | DG4: 3月环比% | DH4: 2月份环比 | DI4: 1月份环比 | EM4: 累计
A5: 全省 | B5: 货运量 （万吨） | C5: =C7+C9 | D5: =C5/T5-1 | E5: =E7+E9 | F5: =E5/V5-1 | G5: =G7+G9 | H5: =G5/X5-1 | I5: =I7+I9 | J5: =I5/Z5-1 | K5: =K7+K9 | L5: =K5/AB5-1 | M5: =M7+M9 | N5: =M5/AD5-1 | O5: =O7+O9 | P5: =O5/AF5-1 | Q5: =C5+E5+G5+I5+K5+M5+O5 | R5: =Q5/SUM(T5,V5,X5,Z5,AB5,AD5,AF5)-1 | T5: =T7+T9 | U5: =T5/AV5-1 | V5: =V7+V9 | W5: =V5/AX5-1 | X5: =X7+X9 | Y5: =X5/AZ5-1 | Z5: =Z7+Z9 | AA5: =Z5/BB5-1 | AB5: =AB7+AB9 | AC5: =AB5/BD5-1 | AD5: =AD7+AD9 | AE5: =AD5/BF5-1 | AF5: =AF7+AF9 | AG5: =AF5/BH5-1 | AH5: =AH7+AH9 | AI5: =AH5/BJ5-1 | AJ5: =AJ7+AJ9 | AK5: =AJ5/BL5-1 | AL5: =AL7+AL9 | AM5: =AL5/BN5-1 | AN5: =AN7+AN9 | AO5: =AN5/BP5-1 | AP5: =AP7+AP9 | AQ5: =AP5/BR5-1 | AR5: =T5+V5+X5+Z5+AB5+AD5+AF5+AH5+AJ5+AL5+AN5+AP5 | AS5: =AR5/SUM(AV5,AX5,AZ5,BB5,BD5,BF5,BH5,BJ5,BL5,BN5,BP5,BR5)-1 | AU5: =AV5+AX5+AZ5+BB5+BD5+BF5+BH5+BJ5+BL5+BN5+BP5 | AV5: 15465.605 | AW5: =AV5/BW5-1 | AX5: =SUM(AX7,AX9) | AY5: =AX5/BY5-1 | AZ5: =SUM(AZ7,AZ9) | BA5: =AZ5/CA5-1 | BB5: =SUM(BB7,BB9) | BC5: =BB5/CC5-1 | BD5: =SUM(BD7,BD9) | BE5: =BD5/CE5-1 | BF5: =BF7+BF9 | BG5: =BF5/CG5-1 | BH5: =BH7+BH9 | BI5: =BH5/CI5-1 | BJ5: =BJ7+BJ9 | BK5: =BJ5/CK5-1 | BL5: =BL7+BL9 | BM5: =BL5/CM5-1 | BN5: =BN7+BN9 | BO5: =BN5/CO5-1 | BP5: =BP7+BP9 | BQ5: =BP5/CQ5-1 | BR5: =BR7+BR9 | BS5: =BR5/CS5-1 | BT5: =AV5+AX5+AZ5+BB5+BD5+BF5+BH5+BJ5+BL5+BN5+BP5+BR5 | BU5: =BT5/SUM(BW5,BY5,CA5,CC5,CE5,CG5,CI5,CK5,CM5,CO5,CQ5,CS5)-1 | BW5: =BW7+BW9 | BX5: =BW5/DK5-1 | BY5: =BY7+BY9 | BZ5: =BY5/DL5-1 | CA5: =CA7+CA9 | CB5: =CA5/DM5-1 | CC5: =CC7+CC9 | CD5: =CC5/DN5-1 | CE5: =CE7+CE9 | CF5: =CE5/DO5-1 | CG5: =CG7+CG9 | CH5: =CG5/DP5-1 | CI5: =CI7+CI9 | CJ5: =CI5/DQ5-1 | CK5: =CK7+CK9 | CL5: =CK5/DR5-1 | CM5: =CM7+CM9 | CN5: =CM5/DS5-1 | CO5: =CO7+CO9 | CP5: =CO5/DT5-1 | CQ5: =CQ7+CQ9 | CR5: =CQ5/DV5-1 | CS5: =CS7+CS9 | CT5: =CS5/DV5-1 | CU5: =BW5+BY5+CA5+CC5+CE5+CG5+CI5+CK5+CM5+CO5+CQ5+CS5 | CV5: =CU5/SUM(DK5:DV5)-1 | CX5: =CS5/CQ5-1 | CY5: =CQ5/CO5-1 | CZ5: =CO5/CM5-1 | DA5: =CM5/CK5-1 | DB5: =CK5/CI5-1 | DC5: =CI5/CG5-1 | DD5: =CG5/CE5-1 | DE5: =CE5/CC5-1 | DF5: =CC5/CA5-1 | DG5: =CA5/BY5-1 | DH5: =(BY5-BW5)/BW5 | DI5: =(BW5-DV5)/DV5 | DK5: 10709.526 | DL5: 8029.3822 | DM5: 12561.278 | DN5: 11553.467 | DO5: 12624.702 | DP5: 11911.996 | DQ5: 12168.584 | DR5: 12175.53 | DS5: 13517.641 | DT5: 12676.989 | DU5: 13327.978 | DV5: 13722.211 | DW5: -0.062421932 | DX5: 144979.29 | DY5: -0.10123547 | EA5: 14945.336 | EB5: 6495.0054 | EC5: 11923.964 | ED5: 14358.291 | EE5: 14364.367 | EF5: =EF7+EF9 | EG5: =EG7+EG9 | EH5: =EH7+EH9 | EI5: =EI7+EI9 | EJ5: =EJ7+EJ9 | EK5: =EK7+EK9 | EL5: =EL7+EL9
B6: 货物周转量 （万吨公里） | C6: =C8+C10 | D6: =C6/T6-1 | E6: =E8+E10 | F6: =E6/V6-1 | G6: =G8+G10 | H6: =G6/X6-1 | I6: =I8+I10 | J6: =I6/Z6-1 | K6: =K8+K10 | L6: =K6/AB6-1 | M6: =M8+M10 | N6: =M6/AD6-1 | O6: =O8+O10 | P6: =O6/AF6-1 | Q6: =C6+E6+G6+I6+K6+M6+O6 | R6: =Q6/SUM(T6,V6,X6,Z6,AB6,AD6,AF6)-1 | T6: =T8+T10 | U6: =T6/AV6-1 | V6: =V8+V10 | W6: =V6/AX6-1 | X6: =X8+X10 | Y6: =X6/AZ6-1 | Z6: =Z8+Z10 | AA6: =Z6/BB6-1 | AB6: =AB8+AB10 | AC6: =AB6/BD6-1 | AD6: =AD8+AD10 | AE6: =AD6/BF6-1 | AF6: =AF8+AF10 | AG6: =AF6/BH6-1 | AH6: =AH8+AH10 | AI6: =AH6/BJ6-1 | AJ6: =AJ8+AJ10 | AK6: =AJ6/BL6-1 | AL6: =AL8+AL10 | AM6: =AL6/BN6-1 | AN6: =AN8+AN10 | AO6: =AN6/BP6-1 | AP6: =AP8+AP10 | AQ6: =AP6/BR6-1 | AR6: =T6+V6+X6+Z6+AB6+AD6+AF6+AH6+AJ6+AL6+AN6+AP6 | AS6: =AR6/SUM(AV6,AX6,AZ6,BB6,BD6,BF6,BH6,BJ6,BL6,BN6,BP6,BR6)-1 | AU6: =AV6+AX6+AZ6+BB6+BD6+BF6+BH6+BJ6+BL6+BN6+BP6 | AV6: 2079838.4 | AW6: =AV6/BW6-1 | AX6: =SUM(AX8,AX10) | AY6: =AX6/BY6-1 | AZ6: =SUM(AZ8,AZ10) | BA6: =AZ6/CA6-1 | BB6: =SUM(BB8,BB10) | BC6: =BB6/CC6-1 | BD6: =SUM(BD8,BD10) | BE6: =BD6/CE6-1 | BF6: =BF8+BF10 | BG6: =BF6/CG6-1 | BH6: =BH8+BH10 | BI6: =BH6/CI6-1 | BJ6: =BJ8+BJ10 | BK6: =BJ6/CK6-1 | BL6: =BL8+BL10 | BM6: =BL6/CM6-1 | BN6: =BN8+BN10 | BO6: =BN6/CO6-1 | BP6: =BP8+BP10 | BQ6: =BP6/CQ6-1 | BR6: =BR8+BR10 | BS6: =BR6/CS6-1 | BT6: =AV6+AX6+AZ6+BB6+BD6+BF6+BH6+BJ6+BL6+BN6+BP6+BR6 | BU6: =BT6/SUM(BW6,BY6,CA6,CC6,CE6,CG6,CI6,CK6,CM6,CO6,CQ6,CS6)-1 | BW6: =BW8+BW10 | BX6: =BW6/DK6-1 | BY6: =BY8+BY10 | BZ6: =BY6/DL6-1 | CA6: =CA8+CA10 | CB6: =CA6/DM6-1 | CC6: =CC8+CC10 | CD6: =CC6/DN6-1 | CE6: =CE8+CE10 | CF6: =CE6/DO6-1 | CG6: =CG8+CG10 | CH6: =CG6/DP6-1 | CI6: =CI8+CI10 | CJ6: =CI6/DQ6-1 | CK6: =CK8+CK10 | CL6: =CK6/DR6-1 | CM6: =CM8+CM10 | CN6: =CM6/DS6-1 | CO6: =CO8+CO10 | CP6: =CO6/DT6-1 | CQ6: =CQ8+CQ10 | CR6: =CQ6/DV6-1 | CS6: =CS8+CS10 | CT6: =CS6/DV6-1 | CU6: =BW6+BY6+CA6+CC6+CE6+CG6+CI6+CK6+CM6+CO6+CQ6+CS6 | CV6: =CU6/SUM(DK6:DV6)-1 | CW6: =CU6*1.032 | CX6: =CS6/CQ6-1 | CY6: =CQ6/CO6-1 | CZ6: =CO6/CM6-1 | DA6: =CM6/CK6-1 | DB6: =CK6/CI6-1 | DC6: =CI6/CG6-1 | DD6: =CG6/CE6-1 | DE6: =CE6/CC6-1 | DF6: =CC6/CA6-1 | DG6: =CA6/BY6-1 | DH6: =(BY6-BW6)/BW6 | DI6: =(BW6-DV6)/DV6 | DK6: 1597519.7 | DL6: 1147849.6 | DM6: 1711726.5 | DN6: 1672626.1 | DO6: 1745591.4 | DP6: 1626136.4 | DQ6: 1679592.8 | DR6: 1688380.6 | DS6: 1890213.1 | DT6: 1885165.1 | DU6: 1959101.2 | DV6: 1983692.1 | DW6: 0.04159894 | DX6: 20587595 | DY6: -0.062571693 | EA6: 2157113.3 | EB6: 1097282.5 | EC6: 1676880 | ED6: 1941623.2 | EE6: 1929056.1 | EF6: =EF8+EF10 | EG6: =EG8+EG10 | EH6: =EH8+EH10 | EI6: =EI8+EI10 | EJ6: =EJ8+EJ10 | EK6: =EK8+EK10 | EL6: =EL8+EL10
B7: 其中规上货运量 (万吨) | C7: 3735.5321 | D7: =C7/T7-1 | E7: 3402.8177 | F7: =E7/V7-1 | G7: 4284.9515 | H7: =G7/X7-1 | I7: 4183.3731 | J7: =I7/Z7-1 | K7: 4131.7772 | L7: =K7/AB7-1 | M7: 4241.2271 | N7: =M7/AD7-1 | O7: 3754.7823 | P7: =O7/AF7-1 | Q7: =C7+E7+G7+I7+K7+M7+O7 | R7: =Q7/SUM(T7,V7,X7,Z7,AB7,AD7,AF7)-1 | T7: 4164.4776 | U7: =T7/AV7-1 | V7: 4004.914 | W7: =V7/AX7-1 | X7: 4468.0922 | Y7: =X7/AZ7-1 | Z7: 4578.9583 | AA7: =Z7/BB7-1 | AB7: 4628.2113 | AC7: =AB7/BD7-1 | AD7: 4582.5186 | AE7: =AD7/BF7-1 | AF7: 3851.1605 | AG7: =AF7/BH7-1 | AH7: 3716.1158 | AI7: =AH7/BJ7-1 | AJ7: 4005.4214 | AK7: =AJ7/BL7-1 | AL7: 3836.8558 | AM7: =AL7/BN7-1 | AN7: 4043.4248 | AO7: =AN7/BP7-1 | AP7: 4236.9437 | AQ7: =AP7/BR7-1 | AR7: =T7+V7+X7+Z7+AB7+AD7+AF7+AH7+AJ7+AL7+AN7+AP7 | AS7: =AR7/SUM(AV7,AX7,AZ7,BB7,BD7,BF7,BH7,BJ7,BL7,BN7,BP7,BR7)-1 | AT7: =AR7/AR5 | AU7: =AV7+AX7+AZ7+BB7+BD7+BF7+BH7+BJ7+BL7+BN7+BP7 | AV7: 3594.8125 | AW7: =AV7/BW7-1 | AX7: =AX12+AX18+AX24+AX60+AX30+AX36+AX42+AX48+AX66+AX54+AX72+AX78+AX84+AX90+AX96+AX102+AX108 | AY7: =AX7/BY7-1 | AZ7: 3637.1553 | BA7: =AZ7/CA7-1 | BB7: 3974.3696 | BC7: =BB7/CC7-1 | BD7: 3869.6718 | BE7: =BD7/CE7-1 | BF7: 3920.9677 | BG7: =BF7/CG7-1 | BH7: 3977.1108 | BI7: =BH7/CI7-1 | BJ7: 4106.6216 | BK7: =BJ7/CK7-1 | BL7: 4109.4725 | BM7: =BL7/CM7-1 | BN7: 4073.4386 | BO7: =BN7/CO7-1 | BP7: 4153.5039 | BQ7: =BP7/CQ7-1 | BR7: 4697.0574 | BS7: =BR7/CS7-1 | BT7: =AV7+AX7+AZ7+BB7+BD7+BF7+BH7+BJ7+BL7+BN7+BP7+BR7 | BU7: =BT7/SUM(BW7,BY7,CA7,CC7,CE7,CG7,CI7,CK7,CM7,CO7,CQ7,CS7)-1 | BV7: =BT7/BT5 | BW7: =BW12+BW18+BW24+BW60+BW30+BW36+BW42+BW48+BW66+BW54+BW72+BW78+BW84+BW90+BW96+BW102+BW108 | BX7: =BW7/DK7-1 | BY7: =BY12+BY18+BY24+BY60+BY30+BY36+BY42+BY48+BY66+BY54+BY72+BY78+BY84+BY90+BY96+BY102+BY108 | BZ7: =BY7/DL7-1 | CA7: =CA12+CA18+CA24+CA60+CA30+CA36+CA42+CA48+CA66+CA54+CA72+CA78+CA84+CA90+CA96+CA102+CA108 | CB7: =CA7/DM7-1 | CC7: =CC12+CC18+CC24+CC60+CC30+CC36+CC42+CC48+CC66+CC54+CC72+CC78+CC84+CC96+CC90+CC102+CC108 | CD7: =CC7/DN7-1 | CE7: =CE12+CE18+CE24+CE60+CE30+CE36+CE42+CE48+CE66+CE54+CE72+CE78+CE84+CE96+CE90+CE102+CE108 | CF7: =CE7/DO7-1 | CG7: =CG12+CG18+CG24+CG60+CG30+CG36+CG42+CG48+CG66+CG54+CG72+CG78+CG84+CG90+CG96+CG102+CG108 | CH7: =CG7/DP7-1 | CI7: =CI12+CI18+CI24+CI60+CI30+CI36+CI42+CI48+CI66+CI54+CI72+CI78+CI84+CI90+CI96+CI102+CI108 | CJ7: =CI7/DQ7-1 | CK7: =CK12+CK18+CK24+CK60+CK30+CK36+CK42+CK48+CK66+CK54+CK72+CK78+CK84+CK90+CK96+CK102+CK108 | CL7: =CK7/DR7-1 | CM7: =SUM(CM18,CM12,CM24,CM30,CM36,CM42,CM48,CM54,CM60,CM66,CM72,CM78,CM84,CM90,CM96,CM102,CM108) | CN7: =CM7/DS7-1 | CO7: =SUM(CO18,CO12,CO24,CO30,CO36,CO42,CO48,CO54,CO60,CO66,CO72,CO78,CO84,CO90,CO96,CO102,CO108) | CP7: =CO7/DT7-1 | CQ7: =SUM(CQ18,CQ12,CQ24,CQ30,CQ36,CQ42,CQ48,CQ54,CQ60,CQ66,CQ72,CQ78,CQ84,CQ90,CQ96,CQ102,CQ108) | CR7: =CQ7/DV7-1 | CS7: =SUM(CS18,CS12,CS24,CS30,CS36,CS42,CS48,CS54,CS60,CS66,CS72,CS78,CS84,CS90,CS96,CS102,CS108) | CT7: =CS7/DV7-1 | CU7: =BW7+BY7+CA7+CC7+CE7+CG7+CI7+CK7+CM7+CO7+CQ7+CS7 | CV7: =CU7/SUM(DK7:DV7)-1 | CW7: =CU7/CU5 | CX7: =CS7/CQ7-1 | CY7: =CQ7/CO7-1 | CZ7: =CO7/CM7-1 | DA7: =CM7/CK7-1 | DB7: =CK7/CI7-1 | DC7: =CI7/CG7-1 | DD7: =CG7/CE7-1 | DE7: =CE7/CC7-1 | DF7: =CC7/CA7-1 | DG7: =CA7/BY7-1 | DH7: =(BY7-BW7)/BW7 | DI7: =(BW7-DV7)/DV7 | DK7: 631.9639 | DL7: 553.0599 | DM7: 649.7656 | DN7: 604.6586 | DO7: 638.7376 | DP7: 649.8943 | DQ7: 649.6737 | DR7: 623.9798 | DS7: 715.1243 | DT7: 745.2728 | DU7: 942.5611 | DV7: 1025.1219 | DW7: 0.43037903 | DX7: 8429.8135 | DY7: 0.014026555 | DZ7: =DX7/DX5 | EA7: =EA12+EA18+EA24+EA60+EA30+EA36+EA42+EA48+EA66+EA54+EA72+EA78+EA84+EA90+EA96+EA102+EA108 | EB7: =EB12+EB18+EB24+EB60+EB30+EB36+EB42+EB48+EB66+EB54+EB72+EB78+EB84+EB90+EB96+EB102+EB108 | EC7: =EC12+EC18+EC24+EC60+EC30+EC36+EC42+EC48+EC66+EC54+EC72+EC78+EC84+EC90+EC96+EC102+EC108 | ED7: 698.0138 | EE7: 729.6929 | EF7: 717.4151 | EG7: 694.7123 | EH7: 647.7486 | EI7: 682.7606 | EJ7: 731.4931 | EK7: 696.0918 | EL7: 716.6785
B8: 其中规上货物周转量 (万吨公里) | C8: 565704.65 | D8: =C8/T8-1 | E8: 500562.26 | F8: =E8/V8-1 | G8: 669448.89 | H8: =G8/X8-1 | I8: 650911.77 | J8: =I8/Z8-1 | K8: 680437.39 | L8: =K8/AB8-1 | M8: 692813.75 | N8: =M8/AD8-1 | O8: 597278.64 | P8: =O8/AF8-1 | Q8: =C8+E8+G8+I8+K8+M8+O8 | R8: =Q8/SUM(T8,V8,X8,Z8,AB8,AD8,AF8)-1 | T8: 622895.58 | U8: =T8/AV8-1 | V8: 588145.08 | W8: =V8/AX8-1 | X8: 675977.89 | Y8: =X8/AZ8-1 | Z8: 680501.69 | AA8: =Z8/BB8-1 | AB8: 725691.85 | AC8: =AB8/BD8-1 | AD8: 724478.89 | AE8: =AD8/BF8-1 | AF8: 564737.33 | AG8: =AF8/BH8-1 | AH8: 520090.64 | AI8: =AH8/BJ8-1 | AJ8: 563611.92 | AK8: =AJ8/BL8-1 | AL8: 543427.32 | AM8: =AL8/BN8-1 | AN8: 582674.65 | AO8: =AN8/BP8-1 | AP8: 642808.17 | AQ8: =AP8/BR8-1 | AR8: =T8+V8+X8+Z8+AB8+AD8+AF8+AH8+AJ8+AL8+AN8+AP8 | AS8: =AR8/SUM(AV8,AX8,AZ8,BB8,BD8,BF8,BH8,BJ8,BL8,BN8,BP8,BR8)-1 | AT8: =AR8/AR6 | AU8: =AV8+AX8+AZ8+BB8+BD8+BF8+BH8+BJ8+BL8+BN8+BP8 | AV8: 553349.65 | AW8: =AV8/BW8-1 | AX8: =AX15+AX21+AX27+AX63+AX33+AX39+AX45+AX51+AX69+AX57+AX75+AX81+AX87+AX93+AX99+AX105+AX111 | AY8: =AX8/BY8-1 | AZ8: 542417.07 | BA8: =AZ8/CA8-1 | BB8: 552059.36 | BC8: =BB8/CC8-1 | BD8: 556254.12 | BE8: =BD8/CE8-1 | BF8: 565714.14 | BG8: =BF8/CG8-1 | BH8: 574475.18 | BI8: =BH8/CI8-1 | BJ8: 583148.15 | BK8: =BJ8/CK8-1 | BL8: 592365.86 | BM8: =BL8/CM8-1 | BN8: 590809.44 | BO8: =BN8/CO8-1 | BP8: 615853.26 | BQ8: =BP8/CQ8-1 | BR8: 766780.24 | BS8: =BR8/CS8-1 | BT8: =AV8+AX8+AZ8+BB8+BD8+BF8+BH8+BJ8+BL8+BN8+BP8+BR8 | BU8: =BT8/SUM(BW8,BY8,CA8,CC8,CE8,CG8,CI8,CK8,CM8,CO8,CQ8,CS8)-1 | BV8: =BT8/BT6 | BW8: =BW15+BW21+BW27+BW63+BW33+BW39+BW45+BW51+BW69+BW57+BW75+BW81+BW87+BW93+BW99+BW105+BW111 | BX8: =BW8/DK8-1 | BY8: =BY15+BY21+BY27+BY63+BY33+BY39+BY45+BY51+BY69+BY57+BY75+BY81+BY87+BY93+BY99+BY105+BY111 | BZ8: =BY8/DL8-1 | CA8: =CA15+CA21+CA27+CA63+CA33+CA39+CA45+CA51+CA69+CA57+CA75+CA81+CA87+CA93+CA99+CA105+CA111 | CB8: =CA8/DM8-1 | CC8: =CC15+CC21+CC27+CC63+CC33+CC39+CC45+CC51+CC69+CC57+CC75+CC81+CC87+CC99+CC93+CC105+CC111 | CD8: =CC8/DN8-1 | CE8: =CE15+CE21+CE27+CE63+CE33+CE39+CE45+CE51+CE69+CE57+CE75+CE81+CE87+CE99+CE93+CE105+CE111 | CF8: =CE8/DO8-1 | CG8: =CG15+CG21+CG27+CG63+CG33+CG39+CG45+CG51+CG69+CG57+CG75+CG81+CG87+CG93+CG99+CG105+CG111 | CH8: =CG8/DP8-1 | CI8: =CI15+CI21+CI27+CI63+CI33+CI39+CI45+CI51+CI69+CI57+CI75+CI81+CI87+CI93+CI99+CI105+CI111 | CJ8: =CI8/DQ8-1 | CK8: =CK15+CK21+CK27+CK63+CK33+CK39+CK45+CK51+CK69+CK57+CK75+CK81+CK87+CK93+CK99+CK105+CK111 | CL8: =CK8/DR8-1 | CM8: =SUM(CM15,CM21,CM27,CM33,CM39,CM45,CM51,CM57,CM63,CM69,CM75,CM81,CM87,CM93,CM99,CM105,CM111) | CN8: =CM8/DS8-1 | CO8: =SUM(CO15,CO21,CO27,CO33,CO39,CO45,CO51,CO57,CO63,CO69,CO75,CO81,CO87,CO93,CO99,CO105,CO111) | CP8: =CO8/DT8-1 | CQ8: =SUM(CQ15,CQ21,CQ27,CQ33,CQ39,CQ45,CQ51,CQ57,CQ63,CQ69,CQ75,CQ81,CQ87,CQ93,CQ99,CQ105,CQ111) | CR8: =CQ8/DV8-1 | CS8: =SUM(CS15,CS21,CS27,CS33,CS39,CS45,CS51,CS57,CS63,CS69,CS75,CS81,CS87,CS93,CS99,CS105,CS111) | CT8: =CS8/DV8-1 | CU8: =BW8+BY8+CA8+CC8+CE8+CG8+CI8+CK8+CM8+CO8+CQ8+CS8 | CV8: =CU8/SUM(DK8:DV8)-1 | CW8: =CU8/CU6 | CX8: =CS8/CQ8-1 | CY8: =CQ8/CO8-1 | CZ8: =CO8/CM8-1 | DA8: =CM8/CK8-1 | DB8: =CK8/CI8-1 | DC8: =CI8/CG8-1 | DD8: =CG8/CE8-1 | DE8: =CE8/CC8-1 | DF8: =CC8/CA8-1 | DG8: =CA8/BY8-1 | DH8: =(BY8-BW8)/BW8 | DI8: =(BW8-DV8)/DV8 | DK8: 110942.79 | DL8: 97347.464 | DM8: 100282.43 | DN8: 90275.674 | DO8: 98197.937 | DP8: 97044.075 | DQ8: 96340.636 | DR8: 91156.53 | DS8: 110978.46 | DT8: 128452.25 | DU8: 177862.93 | DV8: 179557.46 | DW8: 0.78353118 | DX8: 1378438.6 | DY8: 0.19537121 | DZ8: =DX8/DX6 | EA8: =EA15+EA21+EA27+EA63+EA33+EA39+EA45+EA51+EA69+EA57+EA75+EA81+EA87+EA93+EA99+EA105+EA111 | EB8: =EB15+EB21+EB27+EB63+EB33+EB39+EB45+EB51+EB69+EB57+EB75+EB81+EB87+EB93+EB99+EB105+EB111 | EC8: =EC15+EC21+EC27+EC63+EC33+EC39+EC45+EC51+EC69+EC57+EC75+EC81+EC87+EC93+EC99+EC105+EC111 | ED8: 95953.911 | EE8: 96138.668 | EF8: 98149.7 | EG8: 95350.7 | EH8: 91415.643 | EI8: 94967.626 | EJ8: 98220.081 | EK8: 97655.62 | EL8: 100675.26
B9: 其中规下货运量 (万吨) | C9: 13586.511 | D9: =C9/T9-1 | E9: 7686.5664 | F9: =E9/V9-1 | G9: 12483.36 | H9: =G9/X9-1 | I9: 13347.655 | J9: =I9/Z9-1 | K9: 13450.783 | L9: =K9/AB9-1 | M9: 12602.867 | N9: =M9/AD9-1 | O9: 12530.928 | P9: =O9/AF9-1 | Q9: =C9+E9+G9+I9+K9+M9+O9 | R9: =Q9/SUM(T9,V9,X9,Z9,AB9,AD9,AF9)-1 | T9: 10297.29 | U9: =T9/AV9-1 | V9: 9028.5768 | W9: =V9/AX9-1 | X9: 12832.586 | Y9: =X9/AZ9-1 | Z9: 13104.628 | AA9: =Z9/BB9-1 | AB9: 12747.737 | AC9: =AB9/BD9-1 | AD9: 11371.201 | AE9: =AD9/BF9-1 | AF9: 12187.249 | AG9: =AF9/BH9-1 | AH9: 12344.035 | AI9: =AH9/BJ9-1 | AJ9: 12716.246 | AK9: =AJ9/BL9-1 | AL9: 11962.463 | AM9: =AL9/BN9-1 | AN9: 13038.108 | AO9: =AN9/BP9-1 | AP9: 13686.008 | AQ9: =AP9/BR9-1 | AR9: =T9+V9+X9+Z9+AB9+AD9+AF9+AH9+AJ9+AL9+AN9+AP9 | AS9: =AR9/SUM(AV9,AX9,AZ9,BB9,BD9,BF9,BH9,BJ9,BL9,BN9,BP9,BR9)-1 | AT9: =AR9/AR5 | AU9: =AV9+AX9+AZ9+BB9+BD9+BF9+BH9+BJ9+BL9+BN9+BP9 | AV9: 11870.792 | AW9: =AV9/BW9-1 | AX9: 5330.2155 | AY9: =AX9/BY9-1 | AZ9: 11792.163 | BA9: =AZ9/CA9-1 | BB9: 12070.782 | BC9: =BB9/CC9-1 | BD9: 12292.86 | BE9: =BD9/CE9-1 | BF9: 10987.232 | BG9: =BF9/CG9-1 | BH9: 11447.188 | BI9: =BH9/CI9-1 | BJ9: 11864.932 | BK9: =BJ9/CK9-1 | BL9: 12132.311 | BM9: =BL9/CM9-1 | BN9: 12102.174 | BO9: =BN9/CO9-1 | BP9: 12738.347 | BQ9: =BP9/CQ9-1 | BR9: 13441.938 | BS9: =BR9/CS9-1 | BT9: =AV9+AX9+AZ9+BB9+BD9+BF9+BH9+BJ9+BL9+BN9+BP9+BR9 | BU9: =BT9/SUM(BW9,BY9,CA9,CC9,CE9,CG9,CI9,CK9,CM9,CO9,CQ9,CS9)-1 | BW9: 7519.5605 | BX9: =BW9/DK9-1 | BY9: 9863.3035 | BZ9: =BY9/DL9-1 | CA9: 12315.271 | CB9: =CA9/DM9-1 | CC9: 11664.47 | CD9: =CC9/DN9-1 | CE9: 12161.095 | CF9: =CE9/DO9-1 | CG9: 12027.426 | CH9: =CG9/DP9-1 | CI9: 12146.069 | CJ9: =CI9/DQ9-1 | CK9: 12805.207 | CL9: =CK9/DR9-1 | CM9: 12727.924 | CN9: =CM9/DS9-1 | CO9: 12570.074 | CP9: =CO9/DT9-1 | CQ9: 13204.614 | CR9: =CQ9/DV9-1 | CS9: 13336.078 | CT9: =CS9/DV9-1 | CU9: =BW9+BY9+CA9+CC9+CE9+CG9+CI9+CK9+CM9+CO9+CQ9+CS9 | CV9: =CU9/SUM(DK9:DV9)-1 | CX9: =CS9/CQ9-1 | CY9: =CQ9/CO9-1 | CZ9: =CO9/CM9-1 | DA9: =CM9/CK9-1 | DB9: =CK9/CI9-1 | DC9: =CI9/CG9-1 | DD9: =CG9/CE9-1 | DE9: =CE9/CC9-1 | DF9: =CC9/CA9-1 | DG9: =CA9/BY9-1 | DH9: =(BY9-BW9)/BW9 | DI9: =(BW9-DV9)/DV9 | DK9: 10077.563 | DL9: 7476.3223 | DM9: 11911.513 | DN9: 10948.808 | DO9: 11985.964 | DP9: 11262.102 | DQ9: 11518.91 | DR9: 11551.55 | DS9: 12802.517 | DT9: 11931.717 | DU9: 12385.417 | DV9: 12697.089 | DW9: -0.087795638 | DX9: 136549.47 | DY9: -0.10749835 | EA9: 14160.085 | EB9: 5975.6875 | EC9: 11229.931 | ED9: 13660.278 | EE9: 13634.674 | EF9: 14848.948 | EG9: 13054.48 | EH9: 12209.754 | EI9: 13472.959 | EJ9: 12429.062 | EK9: 14401.337 | EL9: 13919.128
B10: 其中规下货物周转量 (万吨公里) | C10: 1672506.4 | D10: =C10/T10-1 | E10: 1049671.4 | F10: =E10/V10-1 | G10: 1617169.1 | H10: =G10/X10-1 | I10: 1688161.5 | J10: =I10/Z10-1 | K10: 1689902.9 | L10: =K10/AB10-1 | M10: 1562902.8 | N10: =M10/AD10-1 | O10: 1584647.1 | P10: =O10/AF10-1 | Q10: =C10+E10+G10+I10+K10+M10+O10 | R10: =Q10/SUM(T10,V10,X10,Z10,AB10,AD10,AF10)-1 | T10: 1330182.8 | U10: =T10/AV10-1 | V10: 1251378.7 | W10: =V10/AX10-1 | X10: 1696159.9 | Y10: =X10/AZ10-1 | Z10: 1686888.6 | AA10: =Z10/BB10-1 | AB10: 1679266.5 | AC10: =AB10/BD10-1 | AD10: 1496939.2 | AE10: =AD10/BF10-1 | AF10: 1602468.9 | AG10: =AF10/BH10-1 | AH10: 1646265 | AI10: =AH10/BJ10-1 | AJ10: 1700140.4 | AK10: =AJ10/BL10-1 | AL10: 1559213 | AM10: =AL10/BN10-1 | AN10: 1620604.3 | AO10: =AN10/BP10-1 | AP10: 1699014.7 | AQ10: =AP10/BR10-1 | AR10: =T10+V10+X10+Z10+AB10+AD10+AF10+AH10+AJ10+AL10+AN10+AP10 | AS10: =AR10/SUM(AV10,AX10,AZ10,BB10,BD10,BF10,BH10,BJ10,BL10,BN10,BP10,BR10)-1 | AT10: =AR10/AR6 | AU10: =AV10+AX10+AZ10+BB10+BD10+BF10+BH10+BJ10+BL10+BN10+BP10 | AV10: 1526488.7 | AW10: =AV10/BW10-1 | AX10: 801790.99 | AY10: =AX10/BY10-1 | AZ10: 1569907.7 | BA10: =AZ10/CA10-1 | BB10: 1574389 | BC10: =BB10/CC10-1 | BD10: 1615833.8 | BE10: =BD10/CE10-1 | BF10: 1433067.9 | BG10: =BF10/CG10-1 | BH10: 1497985.3 | BI10: =BH10/CI10-1 | BJ10: 1551738 | BK10: =BJ10/CK10-1 | BL10: 1600579.8 | BM10: =BL10/CM10-1 | BN10: 1613914.1 | BO10: =BN10/CO10-1 | BP10: 1651850.1 | BQ10: =BP10/CQ10-1 | BR10: =1737412.41566053-722.11505 | BS10: =BR10/CS10-1 | BT10: =AV10+AX10+AZ10+BB10+BD10+BF10+BH10+BJ10+BL10+BN10+BP10+BR10 | BU10: =BT10/SUM(BW10,BY10,CA10,CC10,CE10,CG10,CI10,CK10,CM10,CO10,CQ10,CS10)-1 | BW10: 1133969.5 | BX10: =BW10/DK10-1 | BY10: 1371590.5 | BZ10: =BY10/DL10-1 | CA10: 1651469.5 | CB10: =CA10/DM10-1 | CC10: 1583594 | CD10: =CC10/DN10-1 | CE10: =CE16+CE22+CE28+CE64+CE34+CE40+CE46+CE52+CE70+CE58+CE76+CE82+CE88+CE94+CE100+CE106+CE112 | CF10: =CE10/DO10-1 | CG10: =CG16+CG22+CG28+CG64+CG34+CG40+CG46+CG52+CG70+CG58+CG76+CG82+CG88+CG94+CG100+CG106+CG112 | CH10: =CG10/DP10-1 | CI10: 1609556.9 | CJ10: =CI10/DQ10-1 | CK10: 1691597.7 | CL10: =CK10/DR10-1 | CM10: =SUM(CM16,CM22,CM28,CM34,CM40,CM46,CM52,CM58,CM64,CM70,CM76,CM82,CM88,CM94,CM100,CM106,CM112) | CN10: =CM10/DS10-1 | CO10: =SUM(CO16,CO22,CO28,CO34,CO40,CO46,CO52,CO58,CO64,CO70,CO76,CO82,CO88,CO94,CO100,CO106,CO112) | CP10: =CO10/DT10-1 | CQ10: =SUM(CQ16,CQ22,CQ28,CQ34,CQ40,CQ46,CQ52,CQ58,CQ64,CQ70,CQ76,CQ82,CQ88,CQ94,CQ100,CQ106,CQ112) | CR10: =CQ10/DV10-1 | CS10: 1792284.6 | CT10: =CS10/DV10-1 | CU10: =BW10+BY10+CA10+CC10+CE10+CG10+CI10+CK10+CM10+CO10+CQ10+CS10 | CV10: =CU10/SUM(DK10:DV10)-1 | CX10: =CS10/CQ10-1 | CY10: =CQ10/CO10-1 | CZ10: =CO10/CM10-1 | DA10: =CM10/CK10-1 | DB10: =CK10/CI10-1 | DC10: =CI10/CG10-1 | DD10: =CG10/CE10-1 | DE10: =CE10/CC10-1 | DF10: =CC10/CA10-1 | DG10: =CA10/BY10-1 | DH10: =(BY10-BW10)/BW10 | DI10: =(BW10-DV10)/DV10 | DK10: 1486576.9 | DL10: 1050502.1 | DM10: 1611444.1 | DN10: 1582350.4 | DO10: 1647393.5 | DP10: 1529092.3 | DQ10: 1583252.1 | DR10: 1597224.1 | DS10: 1779234.6 | DT10: 1756712.9 | DU10: 1781238.3 | DV10: 1804134.7 | DW10: 0.00018941137 | DX10: 19209156 | DY10: -0.076866051 | EA10: 2046508.7 | EB10: 1020210.5 | EC10: 1579936.8 | ED10: 1845669.3 | EE10: 1832917.4 | EF10: 1884475.2 | EG10: 1670131.1 | EH10: 1737653.3 | EI10: 1829273.2 | EJ10: 1648064 | EK10: 1910001.1 | EL10: 1803793
A11: 武汉市 | B11: 规上+规下货运量 (万吨) | C11: 5367.976 | D11: =C11/T11-1 | E11: 3325.2226 | F11: =E11/V11-1 | G11: 5045.5091 | H11: =G11/X11-1 | I11: 5344.9192 | J11: =I11/Z11-1 | K11: 5241.1373 | L11: =K11/AB11-1 | M11: 5041.0422 | N11: =M11/AD11-1 | O11: 4940.9715 | P11: =O11/AF11-1 | Q11: =C11+E11+G11+I11+K11+M11+O11 | R11: =Q11/SUM(T11,V11,X11,Z11,AB11,AD11,AF11)-1 | T11: 4656.8602 | U11: =T11/AV11-1 | V11: 4023.6605 | W11: =V11/AX11-1 | X11: 5288.86 | Y11: =X11/AZ11-1 | Z11: 5460.1016 | AA11: =Z11/BB11-1 | AB11: 5241.7963 | AC11: =AB11/BD11-1 | AD11: 4848.4248 | AE11: =AD11/BF11-1 | AF11: 4878.3944 | AG11: =AF11/BH11-1 | AH11: 4884.821 | AI11: =AH11/BJ11-1 | AJ11: 5013.4556 | AK11: =AJ11/BL11-1 | AL11: 4807.0288 | AM11: =AL11/BN11-1 | AN11: 5151.9778 | AO11: =AN11/BP11-1 | AP11: 5606.9689 | AQ11: =AP11/BR11-1 | AR11: =T11+V11+X11+Z11+AB11+AD11+AF11+AH11+AJ11+AL11+AN11+AP11 | AS11: =AR11/SUM(AV11,AX11,AZ11,BB11,BD11,BF11,BH11,BJ11,BL11,BN11,BP11,BR11)-1 | AU11: =AV11+AX11+AZ11+BB11+BD11+BF11+BH11+BJ11+BL11+BN11+BP11 | AV11: 4874.2041 | AW11: =AV11/BW11-1 | AX11: 2461.2762 | AY11: =AX11/BY11-1 | AZ11: 4666.8247 | BA11: =AZ11/CA11-1 | BB11: 4940.2747 | BC11: =BB11/CC11-1 | BD11: 4827.6433 | BE11: =BD11/CE11-1 | BF11: 4483.673 | BG11: =BF11/CG11-1 | BH11: 4751.4256 | BI11: =BH11/CI11-1 | BJ11: 4978.0158 | BK11: =BJ11/CK11-1 | BL11: 5058.5262 | BM11: =BL11/CM11-1 | BN11: 5050.7619 | BO11: =BN11/CO11-1 | BP11: 5254.9143 | BQ11: =BP11/CQ11-1 | BR11: 5861.8276 | BS11: =BR11/CS11-1 | BT11: =AV11+AX11+AZ11+BB11+BD11+BF11+BH11+BJ11+BL11+BN11+BP11+BR11 | BU11: =BT11/SUM(BW11,BY11,CA11,CC11,CE11,CG11,CI11,CK11,CM11,CO11,CQ11,CS11)-1 | BW11: 2984.8086 | BX11: =BW11/DK11-1 | BY11: 3646.3604 | BZ11: =BY11/DL11-1 | CA11: 4561.7315 | CB11: =CA11/DM11-1 | CC11: 4350.867 | CD11: =CC11/DN11-1 | CE11: 4349.6792 | CF11: =CE11/DO11-1 | CG11: 4380.4503 | CH11: =CG11/DP11-1 | CI11: 4482.5934 | CJ11: =CI11/DQ11-1 | CK11: 4783.5962 | CL11: =CK11/DR11-1 | CM11: 4811.068 | CN11: =CM11/DS11-1 | CO11: 4687.1456 | CP11: =CO11/DT11-1 | CQ11: 4935.2178 | CR11: =CQ11/DV11-1 | CS11: 5311.9935 | CT11: =CS11/DV11-1 | CU11: =BW11+BY11+CA11+CC11+CE11+CG11+CI11+CK11+CM11+CO11+CQ11+CS11 | CV11: =CU11/SUM(DK11:DV11)-1 | CX11: =CS11/CQ11-1 | CY11: =CQ11/CO11-1 | DK11: 3527.8941 | DL11: 2520.983 | DM11: 3983.1117 | DN11: 3577.3787 | DO11: 3687.5669 | DP11: 3549.3472 | DQ11: 3704.727 | DR11: 3775.5047 | DS11: 4236.5505 | DT11: 3935.667 | DU11: 4144.2516 | DV11: 4334.4264 | DW11: -0.057195789 | DX11: 44977.409 | DY11: -0.088660671 | EA11: 4863.5297 | EB11: 2088.3234 | EC11: 3828.3068 | ED11: 4386.9744 | EE11: 4073.4711 | EF11: 4516.8977 | EG11: 4020.7726 | EH11: 3939.6845 | EI11: 4321.4984 | EJ11: 3983.3497 | EK11: 4732.901 | EL11: 4597.377
B12: 规上货运量 (万吨) | C12: 1068.203 | D12: =C12/T12-1 | E12: 1082.0457 | F12: =E12/V12-1 | G12: 1315.4117 | H12: =G12/X12-1 | I12: 1395.7514 | J12: =I12/Z12-1 | K12: 1404.6304 | L12: =K12/AB12-1 | M12: 1411.5586 | N12: =M12/AD12-1 | O12: 1227.5499 | P12: =O12/AF12-1 | Q12: =C12+E12+G12+I12+K12+M12+O12 | R12: =Q12/SUM(T12,V12,X12,Z12,AB12,AD12,AF12)-1 | T12: 1679.333 | U12: =T12/AV12-1 | V12: 1587.8388 | W12: =V12/AX12-1 | X12: 1658.7646 | Y12: =X12/AZ12-1 | Z12: 1709.4014 | AA12: =Z12/BB12-1 | AB12: 1685.1569 | AC12: =AB12/BD12-1 | AD12: 1657.0862 | AE12: =AD12/BF12-1 | AF12: 1157.9821 | AG12: =AF12/BH12-1 | AH12: 1055.6742 | AI12: =AH12/BJ12-1 | AJ12: 1130.5905 | AK12: =AJ12/BL12-1 | AL12: 1091.9593 | AM12: =AL12/BN12-1 | AN12: 1282.9303 | AO12: =AN12/BP12-1 | AP12: 1454.2056 | AQ12: =AP12/BR12-1 | AR12: =T12+V12+X12+Z12+AB12+AD12+AF12+AH12+AJ12+AL12+AN12+AP12 | AS12: =AR12/SUM(AV12,AX12,AZ12,BB12,BD12,BF12,BH12,BJ12,BL12,BN12,BP12,BR12)-1 | AT12: 0.050613496 | AU12: =AV12+AX12+AZ12+BB12+BD12+BF12+BH12+BJ12+BL12+BN12+BP12 | AV12: 1248.9741 | AW12: =AV12/BW12-1 | AX12: 890.9195 | AY12: =AX12/BY12-1 | AZ12: 1150.0197 | BA12: =AZ12/CA12-1 | BB12: 1396.8088 | BC12: =BB12/CC12-1 | BD12: 1336.3589 | BE12: =BD12/CE12-1 | BF12: 1364.4821 | BG12: =BF12/CG12-1 | BH12: 1466.8122 | BI12: =BH12/CI12-1 | BJ12: 1537.9002 | BK12: =BJ12/CK12-1 | BL12: 1482.234 | BM12: =BL12/CM12-1 | BN12: 1501.2086 | BO12: =BN12/CO12-1 | BP12: 1603.2823 | BQ12: =BP12/CQ12-1 | BR12: 1826.6492 | BS12: =BR12/CS12-1 | BT12: =AV12+AX12+AZ12+BB12+BD12+BF12+BH12+BJ12+BL12+BN12+BP12+BR12 | BU12: =BT12/SUM(BW12,BY12,CA12,CC12,CE12,CG12,CI12,CK12,CM12,CO12,CQ12,CS12)-1 | BW12: 502.8711 | BX12: =BW12/DK12-1 | BY12: 574.5986 | BZ12: =BY12/DL12-1 | CA12: 663.6102 | CB12: =CA12/DM12-1 | CC12: 709.1734 | CD12: =CC12/DN12-1 | CE12: 728.7535 | CF12: =CE12/DO12-1 | CG12: 704.4881 | CH12: =CG12/DP12-1 | CI12: 781.3303 | CJ12: =CI12/DQ12-1 | CK12: 819.1662 | CL12: =CK12/DR12-1 | CM12: 816.3959 | CN12: =CM12/DS12-1 | CO12: 865.0056 | CP12: =CO12/DT12-1 | CQ12: 875.7366 | CR12: =CQ12/DV12-1 | CS12: 911.8235 | CT12: =CS12/DV12-1 | CU12: =BW12+BY12+CA12+CC12+CE12+CG12+CI12+CK12+CM12+CO12+CQ12+CS12 | CV12: =CU12/SUM(DK12:DV12)-1 | CX12: =CS12/CQ12-1 | CY12: =CQ12/CO12-1 | DJ12: 武汉市 | DK12: 197.5861 | DL12: 170.6634 | DM12: 202.72 | DN12: 173.4475 | DO12: 175.6111 | DP12: 179.1164 | DQ12: 195.5276 | DR12: 181.8021 | DS12: 185.9725 | DT12: 175.8374 | DU12: 156.2715 | DV12: 191.4624 | DW12: -0.17101454 | DX12: 2186.018 | DY12: -0.17604362 | EA12: 281.7984 | EB12: 158.6914 | EC12: 244.86636 | ED12: 240.82636 | EE12: 236.0501 | EF12: 226.246 | EG12: 223.3899 | EH12: 183.2319 | EI12: 195.7 | EJ12: 209.6869 | EK12: 221.6277 | EL12: 230.9599
B13: 规下货运量 (万吨) | C13: 4299.773 | D13: =C13/T13-1 | E13: 2243.1769 | F13: =E13/V13-1 | G13: 3730.0974 | H13: =G13/X13-1 | I13: 3949.1678 | J13: =I13/Z13-1 | K13: 3836.5069 | L13: =K13/AB13-1 | M13: 3629.4836 | N13: =M13/AD13-1 | O13: 3713.4216 | P13: =O13/AF13-1 | Q13: =C13+E13+G13+I13+K13+M13+O13 | R13: =Q13/SUM(T13,V13,X13,Z13,AB13,AD13,AF13)-1 | T13: 2977.5272 | U13: =T13/AV13-1 | V13: 2435.8217 | W13: =V13/AX13-1 | X13: 3630.0954 | Y13: =X13/AZ13-1 | Z13: 3750.7002 | AA13: =Z13/BB13-1 | AB13: 3556.6394 | AC13: =AB13/BD13-1 | AD13: 3191.3386 | AE13: =AD13/BF13-1 | AF13: 3720.4123 | AG13: =AF13/BH13-1 | AH13: 3829.1468 | AI13: =AH13/BJ13-1 | AJ13: 3882.8651 | AK13: =AJ13/BL13-1 | AL13: 3715.0695 | AM13: =AL13/BN13-1 | AN13: 3869.0475 | AO13: =AN13/BP13-1 | AP13: 4152.7633 | AQ13: =AP13/BR13-1 | AR13: =T13+V13+X13+Z13+AB13+AD13+AF13+AH13+AJ13+AL13+AN13+AP13 | AS13: =AR13/SUM(AV13,AX13,AZ13,BB13,BD13,BF13,BH13,BJ13,BL13,BN13,BP13,BR13)-1 | AU13: =AV13+AX13+AZ13+BB13+BD13+BF13+BH13+BJ13+BL13+BN13+BP13 | AV13: 3625.23 | AW13: =AV13/BW13-1 | AX13: 1570.3567 | AY13: =AX13/BY13-1 | AZ13: 3516.805 | BA13: =AZ13/CA13-1 | BB13: 3543.4659 | BC13: =BB13/CC13-1 | BD13: 3491.2844 | BE13: =BD13/CE13-1 | BF13: 3119.1909 | BG13: =BF13/CG13-1 | BH13: 3284.6134 | BI13: =BH13/CI13-1 | BJ13: 3440.1156 | BK13: =BJ13/CK13-1 | BL13: 3576.2922 | BM13: =BL13/CM13-1 | BN13: 3549.5533 | BO13: =BN13/CO13-1 | BP13: 3651.632 | BQ13: =BP13/CQ13-1 | BR13: 4035.1784 | BS13: =BR13/CS13-1 | BT13: =AV13+AX13+AZ13+BB13+BD13+BF13+BH13+BJ13+BL13+BN13+BP13+BR13 | BU13: =BT13/SUM(BW13,BY13,CA13,CC13,CE13,CG13,CI13,CK13,CM13,CO13,CQ13,CS13)-1 | BW13: 2481.9375 | BX13: =BW13/DK13-1 | BY13: 3071.7618 | BZ13: =BY13/DL13-1 | CA13: 3898.1213 | CB13: =CA13/DM13-1 | CC13: 3641.6936 | CD13: =CC13/DN13-1 | CE13: 3620.9257 | CF13: =CE13/DO13-1 | CG13: 3675.9622 | CH13: =CG13/DP13-1 | CI13: 3701.2631 | CJ13: =CI13/DQ13-1 | CK13: 3964.43 | CL13: =CK13/DR13-1 | CM13: 3994.6721 | CN13: =CM13/DS13-1 | CO13: 3822.14 | CP13: =CO13/DT13-1 | CQ13: 4059.4812 | CR13: =CQ13/DV13-1 | CS13: 4400.17 | CT13: =CS13/DV13-1 | CU13: =BW13+BY13+CA13+CC13+CE13+CG13+CI13+CK13+CM13+CO13+CQ13+CS13 | CV13: =CU13/SUM(DK13:DV13)-1 | CX13: =CS13/CQ13-1 | CY13: =CQ13/CO13-1 | DK13: 3330.308 | DL13: 2350.3196 | DM13: 3780.3917 | DN13: 3403.9312 | DO13: 3511.9558 | DP13: 3370.2308 | DQ13: 3509.1994 | DR13: 3593.7026 | DS13: 4050.578 | DT13: 3759.8296 | DU13: 3987.9801 | DV13: 4142.964 | DW13: -0.051175392 | DX13: 42791.391 | DY13: -0.083696357 | EA13: 4581.7313 | EB13: 1929.632 | EC13: 3583.4404 | ED13: 4146.1481 | EE13: 3837.421 | EF13: 4290.6517 | EG13: 3797.3827 | EH13: 3756.4526 | EI13: 4125.7984 | EJ13: 3773.6628 | EK13: 4511.2733 | EL13: 4366.4171
B14: 规上+规下周转量 (万吨公里) | C14: =C15+C16 | D14: =C14/T14-1 | E14: =E15+E16 | F14: =E14/V14-1 | G14: =G15+G16 | H14: =G14/X14-1 | I14: =I15+I16 | J14: =I14/Z14-1 | K14: =K15+K16 | L14: =K14/AB14-1 | M14: =M15+M16 | N14: =M14/AD14-1 | O14: =O15+O16 | P14: =O14/AF14-1 | Q14: =C14+E14+G14+I14+K14+M14+O14 | R14: =Q14/SUM(T14,V14,X14,Z14,AB14,AD14,AF14)-1 | T14: =T15+T16 | U14: =T14/AV14-1 | V14: =V15+V16 | W14: =V14/AX14-1 | X14: =X15+X16 | Y14: =X14/AZ14-1 | Z14: =Z15+Z16 | AA14: =Z14/BB14-1 | AB14: =AB15+AB16 | AC14: =AB14/BD14-1 | AD14: =AD15+AD16 | AE14: =AD14/BF14-1 | AF14: =AF15+AF16 | AG14: =AF14/BH14-1 | AH14: =AH15+AH16 | AI14: =AH14/BJ14-1 | AJ14: =AJ15+AJ16 | AK14: =AJ14/BL14-1 | AL14: =AL15+AL16 | AM14: =AL14/BN14-1 | AN14: =AN15+AN16 | AO14: =AN14/BP14-1 | AP14: =AP15+AP16 | AQ14: =AP14/BR14-1 | AR14: =T14+V14+X14+Z14+AB14+AD14+AF14+AH14+AJ14+AL14+AN14+AP14 | AS14: =AR14/SUM(AV14,AX14,AZ14,BB14,BD14,BF14,BH14,BJ14,BL14,BN14,BP14,BR14)-1 | AU14: =AV14+AX14+AZ14+BB14+BD14+BF14+BH14+BJ14+BL14+BN14+BP14 | AV14: =AV15+AV16 | AW14: =AV14/BW14-1 | AX14: =AX15+AX16 | AY14: =AX14/BY14-1 | AZ14: =AZ15+AZ16 | BA14: =AZ14/CA14-1 | BB14: =BB15+BB16 | BC14: =BB14/CC14-1 | BD14: =BD15+BD16 | BE14: =BD14/CE14-1 | BF14: =BF15+BF16 | BG14: =BF14/CG14-1 | BH14: =BH15+BH16 | BI14: =BH14/CI14-1 | BJ14: =BJ15+BJ16 | BK14: =BJ14/CK14-1 | BL14: =BL15+BL16 | BM14: =BL14/CM14-1 | BN14: =BN15+BN16 | BO14: =BN14/CO14-1 | BP14: =BP15+BP16 | BQ14: =BP14/CQ14-1 | BR14: =BR15+BR16 | BS14: =BR14/CS14-1 | BT14: =AV14+AX14+AZ14+BB14+BD14+BF14+BH14+BJ14+BL14+BN14+BP14+BR14 | BU14: =BT14/SUM(BW14,BY14,CA14,CC14,CE14,CG14,CI14,CK14,CM14,CO14,CQ14,CS14)-1 | BW14: =BW15+BW16 | BX14: =BW14/DK14-1 | BY14: =BY15+BY16 | BZ14: =BY14/DL14-1 | CA14: =SUM(CA15:CA16) | CB14: =CA14/DM14-1 | CC14: 597187.86 | CD14: =CC14/DN14-1 | CE14: 612547.13 | CF14: =CE14/DO14-1 | CG14: =CG15+CG16 | CH14: =CG14/DP14-1 | CI14: =CI15+CI16 | CJ14: =CI14/DQ14-1 | CK14: 656799.19 | CL14: =CK14/DR14-1 | CM14: =SUM(CM15:CM16) | CN14: =CM14/DS14-1 | CO14: =SUM(CO15:CO16) | CP14: =CO14/DT14-1 | CQ14: =CQ15+CQ16 | CR14: =CQ14/DV14-1 | CS14: =CS15+CS16 | CT14: =CS14/DV14-1 | CU14: =BW14+BY14+CA14+CC14+CE14+CG14+CI14+CK14+CM14+CO14+CQ14+CS14 | CV14: =CU14/SUM(DK14:DV14)-1 | CX14: =CS14/CQ14-1 | CY14: =CQ14/CO14-1 | DB14: =CU7/CU5 | DK14: 519815.51 | DL14: 360327.36 | DM14: 527130.31 | DN14: 504396.57 | DO14: 515752.5 | DP14: 492083.41 | DQ14: 509065.59 | DR14: 520493.1 | DS14: 594403.79 | DT14: 586210.21 | DU14: 591294.48 | DV14: 608823.5 | DW14: 0.016112404 | DX14: 6329796.3 | DY14: -0.052265989 | EA14: =EA15+EA16 | EB14: =EB15+EB16 | EC14: =EC15+EC16 | ED14: =ED15+ED16 | EE14: =EE15+EE16 | EF14: =EF15+EF16 | EG14: =EG15+EG16 | EH14: =EH15+EH16 | ... EL14: =EL15+EL16
B15: 规上货物周转量 (万吨公里) | C15: 165332.61 | D15: =C15/T15-1 | E15: 149830.21 | F15: =E15/V15-1 | G15: 212998.43 | H15: =G15/X15-1 | I15: 227544.83 | J15: =I15/Z15-1 | K15: 238395.12 | L15: =K15/AB15-1 | M15: 241659.53 | N15: =M15/AD15-1 | O15: 204809.56 | P15: =O15/AF15-1 | Q15: =C15+E15+G15+I15+K15+M15+O15 | R15: =Q15/SUM(T15,V15,X15,Z15,AB15,AD15,AF15)-1 | T15: 223768.79 | U15: =T15/AV15-1 | V15: 215756.59 | W15: =V15/AX15-1 | X15: 228032.26 | Y15: =X15/AZ15-1 | Z15: 231348.39 | AA15: =Z15/BB15-1 | AB15: 235218.1 | AC15: =AB15/BD15-1 | AD15: 243540.25 | AE15: =AD15/BF15-1 | AF15: 167430.52 | AG15: =AF15/BH15-1 | AH15: 144226.23 | AI15: =AH15/BJ15-1 | AJ15: 162619.79 | AK15: =AJ15/BL15-1 | AL15: 154248.88 | AM15: =AL15/BN15-1 | AN15: 189963.88 | AO15: =AN15/BP15-1 | AP15: 228375.1 | AQ15: =AP15/BR15-1 | AR15: =T15+V15+X15+Z15+AB15+AD15+AF15+AH15+AJ15+AL15+AN15+AP15 | AS15: =AR15/SUM(AV15,AX15,AZ15,BB15,BD15,BF15,BH15,BJ15,BL15,BN15,BP15,BR15)-1 | AU15: =AV15+AX15+AZ15+BB15+BD15+BF15+BH15+BJ15+BL15+BN15+BP15 | AV15: 180170.6 | AW15: =AV15/BW15-1 | AX15: 129426.48 | AY15: =AX15/BY15-1 | AZ15: 159012.94 | BA15: =AZ15/CA15-1 | BB15: 173812.2 | BC15: =BB15/CC15-1 | BD15: 173696.43 | BE15: =BD15/CE15-1 | BF15: 179078.9 | BG15: =BF15/CG15-1 | BH15: 202542.11 | BI15: =BH15/CI15-1 | BJ15: 205470.09 | BK15: =BJ15/CK15-1 | BL15: 205997.13 | BM15: =BL15/CM15-1 | BN15: 203771.58 | BO15: =BN15/CO15-1 | BP15: 221023.49 | BQ15: =BP15/CQ15-1 | BR15: 294139.99 | BS15: =BR15/CS15-1 | BT15: =AV15+AX15+AZ15+BB15+BD15+BF15+BH15+BJ15+BL15+BN15+BP15+BR15 | BU15: =BT15/SUM(BW15,BY15,CA15,CC15,CE15,CG15,CI15,CK15,CM15,CO15,CQ15,CS15)-1 | BW15: 82056.639 | BX15: =BW15/DK15-1 | BY15: 83946.71 | BZ15: =BY15/DL15-1 | CA15: 95454.96 | CB15: =CA15/DM15-1 | CC15: 102624.04 | CD15: =CC15/DN15-1 | CE15: 109978.63 | CF15: =CE15/DO15-1 | CG15: 119972.11 | CH15: =CG15/DP15-1 | CI15: 131297.07 | CJ15: =CI15/DQ15-1 | CK15: 135080.99 | CL15: =CK15/DR15-1 | CM15: 137003.91 | CN15: =CM15/DS15-1 | CO15: 140386.45 | CP15: =CO15/DT15-1 | CQ15: 145724.56 | CR15: =CQ15/DV15-1 | CS15: 155520.78 | CT15: =CS15/DV15-1 | CU15: =BW15+BY15+CA15+CC15+CE15+CG15+CI15+CK15+CM15+CO15+CQ15+CS15 | CV15: =CU15/SUM(DK15:DV15)-1 | CX15: =CS15/CQ15-1 | CY15: =CQ15/CO15-1 | DB15: =CU8/CU6 | DK15: 31664.369 | DL15: 29056.004 | DM15: 31802.224 | DN15: 26432.653 | DO15: 28521.518 | DP15: 28991.72 | DQ15: 30005.449 | DR15: 28472.126 | DS15: 28179.364 | DT15: 27965.431 | DU15: 24611.36 | DV15: 30880.499 | DW15: -0.089590155 | DX15: 346582.72 | DY15: -0.15931483 | EA15: 43194.122 | EB15: 28235.53 | EC15: 37322.587 | ED15: 35839.149 | EE15: 34720.017 | EF15: 34634.98 | EG15: 33474.004 | EH15: 31149.232 | EI15: 32160.23 | EJ15: 32968.479 | EK15: 34644.534 | EL15: 33919.338
B16: 规下货物周转量 (万吨公里) | C16: 522474.89 | D16: =C16/T16-1 | E16: 309473.87 | F16: =E16/V16-1 | G16: 462054.63 | H16: =G16/X16-1 | I16: 477015.93 | J16: =I16/Z16-1 | K16: 475743.78 | L16: =K16/AB16-1 | M16: 445444.36 | N16: =M16/AD16-1 | O16: 462751.81 | P16: =O16/AF16-1 | Q16: =C16+E16+G16+I16+K16+M16+O16 | R16: =Q16/SUM(T16,V16,X16,Z16,AB16,AD16,AF16)-1 | T16: 393031.41 | U16: =T16/AV16-1 | V16: 342631.6 | W16: =V16/AX16-1 | X16: 477427.62 | Y16: =X16/AZ16-1 | Z16: 484338.43 | AA16: =Z16/BB16-1 | AB16: 488220.3 | AC16: =AB16/BD16-1 | AD16: 434173.42 | AE16: =AD16/BF16-1 | AF16: 495075.48 | AG16: =AF16/BH16-1 | AH16: 515273.38 | AI16: =AH16/BJ16-1 | AJ16: 529763.85 | AK16: =AJ16/BL16-1 | AL16: 489544.51 | AM16: =AL16/BN16-1 | AN16: 476161.56 | AO16: =AN16/BP16-1 | AP16: 493249.5 | AQ16: =AP16/BR16-1 | AR16: =T16+V16+X16+Z16+AB16+AD16+AF16+AH16+AJ16+AL16+AN16+AP16 | AS16: =AR16/SUM(AV16,AX16,AZ16,BB16,BD16,BF16,BH16,BJ16,BL16,BN16,BP16,BR16)-1 | AU16: =AV16+AX16+AZ16+BB16+BD16+BF16+BH16+BJ16+BL16+BN16+BP16 | AV16: 456907.86 | AW16: =AV16/BW16-1 | AX16: 233539.54 | AY16: =AX16/BY16-1 | AZ16: 460898.08 | BA16: =AZ16/CA16-1 | BB16: 460477.13 | BC16: =BB16/CC16-1 | BD16: 472875.68 | BE16: =BD16/CE16-1 | BF16: 421365.25 | BG16: =BF16/CG16-1 | BH16: 435988.41 | BI16: =BH16/CI16-1 | BJ16: 457113.69 | BK16: =BJ16/CK16-1 | BL16: 478400.85 | BM16: =BL16/CM16-1 | BN16: 481074.92 | BO16: =BN16/CO16-1 | BP16: 473778.51 | BQ16: =BP16/CQ16-1 | BR16: 495292.45 | BS16: =BR16/CS16-1 | BT16: =AV16+AX16+AZ16+BB16+BD16+BF16+BH16+BJ16+BL16+BN16+BP16+BR16 | BU16: =BT16/SUM(BW16,BY16,CA16,CC16,CE16,CG16,CI16,CK16,CM16,CO16,CQ16,CS16)-1 | BW16: 378334.75 | BX16: =BW16/DK16-1 | BY16: 438823.74 | BZ16: =BY16/DL16-1 | CA16: 525538.1 | CB16: =CA16/DM16-1 | CC16: 494563.82 | CD16: =CC16/DN16-1 | CE16: 502568.5 | CF16: =CE16/DO16-1 | CG16: 487501.57 | CH16: =CG16/DP16-1 | CI16: 489756.4 | CJ16: =CI16/DQ16-1 | CK16: 521718.21 | CL16: =CK16/DR16-1 | CM16: 542958.29 | CN16: =CM16/DS16-1 | CO16: 515928.64 | CP16: =CO16/DT16-1 | CQ16: 528159.16 | CR16: =CQ16/DV16-1 | CS16: 563216.53 | CT16: =CS16/DV16-1 | CU16: =BW16+BY16+CA16+CC16+CE16+CG16+CI16+CK16+CM16+CO16+CQ16+CS16 | CV16: =CU16/SUM(DK16:DV16)-1 | CX16: =CS16/CQ16-1 | CY16: =CQ16/CO16-1 | DK16: 488151.14 | DL16: 331271.36 | DM16: 495328.09 | DN16: 477963.92 | DO16: 487230.98 | DP16: 463091.69 | DQ16: 479060.14 | DR16: 492020.97 | DS16: 566224.42 | DT16: 558244.78 | DU16: 566683.12 | DV16: 577943 | DW16: 0.022455368 | DX16: 5983213.6 | DY16: -0.045223556 | EA16: 639269.43 | EB16: 322682.26 | EC16: 470399.43 | ED16: 528325.35 | EE16: 505694.1 | EF16: 548627.74 | EG16: 492049.95 | EH16: 526394.1 | EI16: 569654.95 | EJ16: 504832.07 | EK16: 593432.62 | EL16: 565250.1 | EO16: =SUM(EA16:EL16)
A17: 黄石市 | B17: 规上+规下货运量 (万吨) | C17: 569.93509 | D17: =C17/T17-1 | E17: 411.12461 | F17: =E17/V17-1 | G17: 559.37453 | H17: =G17/X17-1 | I17: 632.22243 | J17: =I17/Z17-1 | K17: 628.24764 | L17: =K17/AB17-1 | M17: 601.69526 | N17: =M17/AD17-1 | O17: 560.58694 | P17: =O17/AF17-1 | Q17: =C17+E17+G17+I17+K17+M17+O17 | R17: =Q17/SUM(T17,V17,X17,Z17,AB17,AD17,AF17)-1 | T17: 480.63289 | U17: =T17/AV17-1 | V17: 488.30395 | W17: =V17/AX17-1 | X17: 583.013 | Y17: =X17/AZ17-1 | Z17: 641.16171 | AA17: =Z17/BB17-1 | AB17: 629.53724 | AC17: =AB17/BD17-1 | AD17: 576.76312 | AE17: =AD17/BF17-1 | AF17: 558.21601 | AG17: =AF17/BH17-1 | AH17: 571.96664 | AI17: =AH17/BJ17-1 | AJ17: 580.2096 | AK17: =AJ17/BL17-1 | AL17: 557.14353 | AM17: =AL17/BN17-1 | AN17: 582.4312 | AO17: =AN17/BP17-1 | AP17: 592.65485 | AQ17: =AP17/BR17-1 | AR17: =T17+V17+X17+Z17+AB17+AD17+AF17+AH17+AJ17+AL17+AN17+AP17 | AS17: =AR17/SUM(AV17,AX17,AZ17,BB17,BD17,BF17,BH17,BJ17,BL17,BN17,BP17,BR17)-1 | AU17: =AV17+AX17+AZ17+BB17+BD17+BF17+BH17+BJ17+BL17+BN17+BP17 | AV17: 525.21427 | AW17: =AV17/BW17-1 | AX17: 324.71209 | AY17: =AX17/BY17-1 | AZ17: 525.91806 | BA17: =AZ17/CA17-1 | BB17: 604.23437 | BC17: =BB17/CC17-1 | BD17: 613.67149 | BE17: =BD17/CE17-1 | BF17: 553.29103 | BG17: =BF17/CG17-1 | BH17: 547.75775 | BI17: =BH17/CI17-1 | BJ17: 575.35012 | BK17: =BJ17/CK17-1 | BL17: 563.30586 | BM17: =BL17/CM17-1 | BN17: 557.8774 | BO17: =BN17/CO17-1 | BP17: 564.73641 | BQ17: =BP17/CQ17-1 | BR17: 604.18924 | BS17: =BR17/CS17-1 | BT17: =AV17+AX17+AZ17+BB17+BD17+BF17+BH17+BJ17+BL17+BN17+BP17+BR17 | BU17: =BT17/SUM(BW17,BY17,CA17,CC17,CE17,CG17,CI17,CK17,CM17,CO17,CQ17,CS17)-1 | BW17: 299.50032 | BX17: =BW17/DK17-1 | BY17: 435.59366 | BZ17: =BY17/DL17-1 | CA17: 504.31431 | CB17: =CA17/DM17-1 | CC17: 538.35025 | CD17: =CC17/DN17-1 | CE17: 552.5703 | CF17: =CE17/DO17-1 | CG17: 545.57251 | CH17: =CG17/DP17-1 | CI17: 525.97666 | CJ17: =CI17/DQ17-1 | CK17: 564.60231 | CL17: =CK17/DR17-1 | CM17: 532.51459 | CN17: =CM17/DS17-1 | CO17: 538.89574 | CP17: =CO17/DT17-1 | CQ17: 551.03161 | CR17: =CQ17/DV17-1 | CS17: 543.48886 | CT17: =CS17/DV17-1 | CU17: =BW17+BY17+CA17+CC17+CE17+CG17+CI17+CK17+CM17+CO17+CQ17+CS17 | CV17: =CU17/SUM(DK17:DV17)-1 | CX17: =CS17/CQ17-1 | CY17: =CQ17/CO17-1 | DK17: 365.84215 | DL17: 331.68997 | DM17: 470.75145 | DN17: 442.85037 | DO17: 465.29276 | DP17: 431.81911 | DQ17: 446.02937 | DR17: 478.72302 | DS17: 489.06827 | DT17: 474.98413 | DU17: 496.7457 | DV17: 487.37921 | DW17: -0.063625183 | DX17: 5381.1755 | DY17: -0.10456908 | EA17: 509.03783 | EB17: 283.56333 | EC17: 467.80407 | ED17: 518.02636 | EE17: 533.24037 | EF17: 581.70238 | EG17: 525.40355 | EH17: 533.48166 | EI17: 516.57371 | EJ17: 489.23075 | EK17: 531.03331 | EL17: 520.49585 | EO17: =SUM(EA17:EL17)
B18: 规上货运量 (万吨) | C18: 146.2244 | D18: =C18/T18-1 | E18: 138.363 | F18: =E18/V18-1 | G18: 141.3944 | H18: =G18/X18-1 | I18: 153.0738 | J18: =I18/Z18-1 | K18: 145.4478 | L18: =K18/AB18-1 | M18: 152.4682 | N18: =M18/AD18-1 | O18: 133.0799 | P18: =O18/AF18-1 | Q18: =C18+E18+G18+I18+K18+M18+O18 | R18: =Q18/SUM(T18,V18,X18,Z18,AB18,AD18,AF18)-1 | T18: 215.0814 | U18: =T18/AV18-1 | V18: 233.5007 | W18: =V18/AX18-1 | X18: 234.7088 | Y18: =X18/AZ18-1 | Z18: 244.3226 | AA18: =Z18/BB18-1 | AB18: 224.6981 | AC18: =AB18/BD18-1 | AD18: 222.9137 | AE18: =AD18/BF18-1 | AF18: 197.0272 | AG18: =AF18/BH18-1 | AH18: 200.2692 | AI18: =AH18/BJ18-1 | AJ18: 237.2793 | AK18: =AJ18/BL18-1 | AL18: 226.4434 | AM18: =AL18/BN18-1 | AN18: 232.4916 | AO18: =AN18/BP18-1 | AP18: 247.7827 | AQ18: =AP18/BR18-1 | AR18: =T18+V18+X18+Z18+AB18+AD18+AF18+AH18+AJ18+AL18+AN18+AP18 | AS18: =AR18/SUM(AV18,AX18,AZ18,BB18,BD18,BF18,BH18,BJ18,BL18,BN18,BP18,BR18)-1 | AU18: =AV18+AX18+AZ18+BB18+BD18+BF18+BH18+BJ18+BL18+BN18+BP18 | AV18: 199.5413 | AW18: =AV18/BW18-1 | AX18: 184.107 | AY18: =AX18/BY18-1 | AZ18: 213.7702 | BA18: =AZ18/CA18-1 | BB18: 240.6408 | BC18: =BB18/CC18-1 | BD18: 242.6287 | BE18: =BD18/CE18-1 | BF18: 232.4824 | BG18: =BF18/CG18-1 | BH18: 228.5154 | BI18: =BH18/CI18-1 | BJ18: 241.4792 | BK18: =BJ18/CK18-1 | BL18: 236.1798 | BM18: =BL18/CM18-1 | BN18: 220.3632 | BO18: =BN18/CO18-1 | BP18: 208.6072 | BQ18: =BP18/CQ18-1 | BR18: 235.3121 | BS18: =BR18/CS18-1 | BT18: =AV18+AX18+AZ18+BB18+BD18+BF18+BH18+BJ18+BL18+BN18+BP18+BR18 | BU18: =BT18/SUM(BW18,BY18,CA18,CC18,CE18,CG18,CI18,CK18,CM18,CO18,CQ18,CS18)-1 | BW18: 91.1304 | BX18: =BW18/DK18-1 | BY18: 101.3522 | BZ18: =BY18/DL18-1 | CA18: 107.9145 | CB18: =CA18/DM18-1 | CC18: 230.7812 | CD18: =CC18/DN18-1 | CE18: 271.097 | CF18: =CE18/DO18-1 | CG18: 290.1972 | CH18: =CG18/DP18-1 | CI18: 199.9823 | CJ18: =CI18/DQ18-1 | CK18: 173.726 | CL18: =CK18/DR18-1 | CM18: 167.6153 | CN18: =CM18/DS18-1 | CO18: 151.216 | CP18: =CO18/DT18-1 | CQ18: 171.5616 | CR18: =CQ18/DV18-1 | CS18: 196.8561 | CT18: =CS18/DV18-1 | CU18: =BW18+BY18+CA18+CC18+CE18+CG18+CI18+CK18+CM18+CO18+CQ18+CS18 | CV18: =CU18/SUM(DK18:DV18)-1 | CX18: =CS18/CQ18-1 | CY18: =CQ18/CO18-1 | DJ18: 黄石市 | DK18: 33.4348 | DL18: 33.8666 | DM18: 30.4508 | DN18: 36.1481 | DO18: 28.6769 | DP18: 30.1699 | DQ18: 38.1869 | DR18: 26.6693 | DS18: 53.1762 | DT18: 41.4342 | DU18: 105.6138 | DV18: 49.1234 | DW18: -0.4632654 | DX18: 506.9509 | DY18: -0.64689091 | EA18: 116.4564 | EB18: 111.7571 | EC18: 134.45383 | ED18: 130.23113 | EE18: 127.0119 | EF18: 131.2854 | EG18: 126.5023 | EH18: 126.1601 | EI18: 125.5644 | EJ18: 123.4414 | EK18: 91.2912 | EL18: 91.5227 | EO18: =SUM(EA18:EL18)
B19: 规下货运量 (万吨) | C19: 423.71069 | D19: =C19/T19-1 | E19: 272.76161 | F19: =E19/V19-1 | G19: 417.98013 | H19: =G19/X19-1 | I19: 479.14863 | J19: =I19/Z19-1 | K19: 482.79984 | L19: =K19/AB19-1 | M19: 449.22706 | N19: =M19/AD19-1 | O19: 427.50704 | P19: =O19/AF19-1 | Q19: =C19+E19+G19+I19+K19+M19+O19 | R19: =Q19/SUM(T19,V19,X19,Z19,AB19,AD19,AF19)-1 | T19: 265.55149 | U19: =T19/AV19-1 | V19: 254.80325 | W19: =V19/AX19-1 | X19: 348.3042 | Y19: =X19/AZ19-1 | Z19: 396.83911 | AA19: =Z19/BB19-1 | AB19: 404.83914 | AC19: =AB19/BD19-1 | AD19: 353.84942 | AE19: =AD19/BF19-1 | AF19: 361.18881 | AG19: =AF19/BH19-1 | AH19: 371.69744 | AI19: =AH19/BJ19-1 | AJ19: 342.9303 | AK19: =AJ19/BL19-1 | AL19: 330.70013 | AM19: =AL19/BN19-1 | AN19: 349.9396 | AO19: =AN19/BP19-1 | AP19: 344.87215 | AQ19: =AP19/BR19-1 | AR19: =T19+V19+X19+Z19+AB19+AD19+AF19+AH19+AJ19+AL19+AN19+AP19 | AS19: =AR19/SUM(AV19,AX19,AZ19,BB19,BD19,BF19,BH19,BJ19,BL19,BN19,BP19,BR19)-1 | AU19: =AV19+AX19+AZ19+BB19+BD19+BF19+BH19+BJ19+BL19+BN19+BP19 | AV19: 325.67297 | AW19: =AV19/BW19-1 | AX19: 140.60509 | AY19: =AX19/BY19-1 | AZ19: 312.14786 | BA19: =AZ19/CA19-1 | BB19: 363.59357 | BC19: =BB19/CC19-1 | BD19: 371.04279 | BE19: =BD19/CE19-1 | BF19: 320.80863 | BG19: =BF19/CG19-1 | BH19: 319.24235 | BI19: =BH19/CI19-1 | BJ19: 333.87092 | BK19: =BJ19/CK19-1 | BL19: 327.12606 | BM19: =BL19/CM19-1 | BN19: 337.5142 | BO19: =BN19/CO19-1 | BP19: 356.12921 | BQ19: =BP19/CQ19-1 | BR19: 368.87714 | BS19: =BR19/CS19-1 | BT19: =AV19+AX19+AZ19+BB19+BD19+BF19+BH19+BJ19+BL19+BN19+BP19+BR19 | BU19: =BT19/SUM(BW19,BY19,CA19,CC19,CE19,CG19,CI19,CK19,CM19,CO19,CQ19,CS19)-1 | BW19: 208.36992 | BX19: =BW19/DK19-1 | BY19: 334.24146 | BZ19: =BY19/DL19-1 | CA19: 396.39981 | CB19: =CA19/DM19-1 | CC19: 307.56905 | CD19: =CC19/DN19-1 | CE19: 281.4733 | CF19: =CE19/DO19-1 | CG19: 255.37531 | CH19: =CG19/DP19-1 | CI19: 325.99436 | CJ19: =CI19/DQ19-1 | CK19: 390.87631 | CL19: =CK19/DR19-1 | CM19: 364.89929 | CN19: =CM19/DS19-1 | CO19: 387.67974 | CP19: =CO19/DT19-1 | CQ19: 379.47001 | CR19: =CQ19/DV19-1 | CS19: 346.63276 | CT19: =CS19/DV19-1 | CU19: =BW19+BY19+CA19+CC19+CE19+CG19+CI19+CK19+CM19+CO19+CQ19+CS19 | CV19: =CU19/SUM(DK19:DV19)-1 | CX19: =CS19/CQ19-1 | CY19: =CQ19/CO19-1 | DK19: 332.40735 | DL19: 297.82337 | DM19: 440.30065 | DN19: 406.70227 | DO19: 436.61586 | DP19: 401.64921 | DQ19: 407.84247 | DR19: 452.05372 | DS19: 435.89207 | DT19: 433.54993 | DU19: 391.1319 | DV19: 438.25581 | DW19: 0.021639247 | DX19: 4874.2246 | DY19: 0.065656946 | EA19: 392.58143 | EB19: 171.80623 | EC19: 333.35024 | ED19: 387.79523 | EE19: 406.22847 | EF19: 450.41698 | EG19: 398.90125 | EH19: 407.32156 | EI19: 391.00931 | EJ19: 365.78935 | EK19: 439.74211 | EL19: 428.97315 | EO19: =SUM(EA19:EL19)
B20: 规上+规下周转量 (万吨公里) | C20: =C21+C22 | D20: =C20/T20-1 | E20: =E21+E22 | F20: =E20/V20-1 | G20: =G21+G22 | H20: =G20/X20-1 | I20: =I21+I22 | J20: =I20/Z20-1 | K20: =K21+K22 | L20: =K20/AB20-1 | M20: =M21+M22 | N20: =M20/AD20-1 | O20: =O21+O22 | P20: =O20/AF20-1 | Q20: =C20+E20+G20+I20+K20+M20+O20 | R20: =Q20/SUM(T20,V20,X20,Z20,AB20,AD20,AF20)-1 | T20: =T21+T22 | U20: =T20/AV20-1 | V20: =V21+V22 | W20: =V20/AX20-1 | X20: =X21+X22 | Y20: =X20/AZ20-1 | Z20: =Z21+Z22 | AA20: =Z20/BB20-1 | AB20: =AB21+AB22 | AC20: =AB20/BD20-1 | AD20: =AD21+AD22 | AE20: =AD20/BF20-1 | AF20: =AF21+AF22 | AG20: =AF20/BH20-1 | AH20: =AH21+AH22 | AI20: =AH20/BJ20-1 | AJ20: =AJ21+AJ22 | AK20: =AJ20/BL20-1 | AL20: =AL21+AL22 | AM20: =AL20/BN20-1 | AN20: =AN21+AN22 | AO20: =AN20/BP20-1 | AP20: =AP21+AP22 | AQ20: =AP20/BR20-1 | AR20: =T20+V20+X20+Z20+AB20+AD20+AF20+AH20+AJ20+AL20+AN20+AP20 | AS20: =AR20/SUM(AV20,AX20,AZ20,BB20,BD20,BF20,BH20,BJ20,BL20,BN20,BP20,BR20)-1 | AU20: =AV20+AX20+AZ20+BB20+BD20+BF20+BH20+BJ20+BL20+BN20+BP20 | AV20: =AV21+AV22 | AW20: =AV20/BW20-1 | AX20: =AX21+AX22 | AY20: =AX20/BY20-1 | AZ20: =AZ21+AZ22 | BA20: =AZ20/CA20-1 | BB20: =BB21+BB22 | BC20: =BB20/CC20-1 | BD20: =BD21+BD22 | BE20: =BD20/CE20-1 | BF20: =BF21+BF22 | BG20: =BF20/CG20-1 | BH20: =BH21+BH22 | BI20: =BH20/CI20-1 | BJ20: =BJ21+BJ22 | BK20: =BJ20/CK20-1 | BL20: =BL21+BL22 | BM20: =BL20/CM20-1 | BN20: =BN21+BN22 | BO20: =BN20/CO20-1 | BP20: =BP21+BP22 | BQ20: =BP20/CQ20-1 | BR20: =BR21+BR22 | BS20: =BR20/CS20-1 | BT20: =AV20+AX20+AZ20+BB20+BD20+BF20+BH20+BJ20+BL20+BN20+BP20+BR20 | BU20: =BT20/SUM(BW20,BY20,CA20,CC20,CE20,CG20,CI20,CK20,CM20,CO20,CQ20,CS20)-1 | BW20: =BW21+BW22 | BX20: =BW20/DK20-1 | BY20: =BY21+BY22 | BZ20: =BY20/DL20-1 | CA20: =SUM(CA21:CA22) | CB20: =CA20/DM20-1 | CC20: 44439.439 | CD20: =CC20/DN20-1 | CE20: 44693.339 | CF20: =CE20/DO20-1 | CG20: =CG21+CG22 | CH20: =CG20/DP20-1 | CI20: =CI21+CI22 | CJ20: =CI20/DQ20-1 | CK20: 48643.485 | CL20: =CK20/DR20-1 | CM20: =SUM(CM21:CM22) | CN20: =CM20/DS20-1 | CO20: =SUM(CO21:CO22) | CP20: =CO20/DT20-1 | CQ20: =CQ21+CQ22 | CR20: =CQ20/DV20-1 | CS20: =CS21+CS22 | CT20: =CS20/DV20-1 | CU20: =BW20+BY20+CA20+CC20+CE20+CG20+CI20+CK20+CM20+CO20+CQ20+CS20 | CV20: =CU20/SUM(DK20:DV20)-1 | CX20: =CS20/CQ20-1 | CY20: =CQ20/CO20-1 | DK20: 31655.878 | DL20: 24237.21 | DM20: 36150.369 | DN20: 36799.051 | DO20: 37354.014 | DP20: 35048.998 | DQ20: 36920.005 | DR20: 39932.131 | DS20: 40249.709 | DT20: 41678.164 | DU20: 48866.702 | DV20: 45136.946 | DW20: 0.089376292 | DX20: 454029.18 | DY20: -0.024556351 | EA20: =EA21+EA22 | EB20: =EB21+EB22 | EC20: =EC21+EC22 | ED20: =ED21+ED22 | EE20: =EE21+EE22 | EF20: =EF21+EF22 | EG20: =EG21+EG22 | EH20: =EH21+EH22 | ... EL20: =EL21+EL22
B21: 规上货物周转量 (万吨公里) | C21: 18790.831 | D21: =C21/T21-1 | E21: 18331.502 | F21: =E21/V21-1 | G21: 17686.344 | H21: =G21/X21-1 | I21: 16648.408 | J21: =I21/Z21-1 | K21: 15402.928 | L21: =K21/AB21-1 | M21: 16044.6 | N21: =M21/AD21-1 | O21: 15366.326 | P21: =O21/AF21-1 | Q21: =C21+E21+G21+I21+K21+M21+O21 | R21: =Q21/SUM(T21,V21,X21,Z21,AB21,AD21,AF21)-1 | T21: 22905.014 | U21: =T21/AV21-1 | V21: 22339.126 | W21: =V21/AX21-1 | X21: 20346.423 | Y21: =X21/AZ21-1 | Z21: 21174.735 | AA21: =Z21/BB21-1 | AB21: 20026.525 | AC21: =AB21/BD21-1 | AD21: 20285.571 | AE21: =AD21/BF21-1 | AF21: 13930.644 | AG21: =AF21/BH21-1 | AH21: 13141.519 | AI21: =AH21/BJ21-1 | AJ21: 21230.292 | AK21: =AJ21/BL21-1 | AL21: 20153.559 | AM21: =AL21/BN21-1 | AN21: 21854.12 | AO21: =AN21/BP21-1 | AP21: 27481.376 | AQ21: =AP21/BR21-1 | AR21: =T21+V21+X21+Z21+AB21+AD21+AF21+AH21+AJ21+AL21+AN21+AP21 | AS21: =AR21/SUM(AV21,AX21,AZ21,BB21,BD21,BF21,BH21,BJ21,BL21,BN21,BP21,BR21)-1 | AU21: =AV21+AX21+AZ21+BB21+BD21+BF21+BH21+BJ21+BL21+BN21+BP21 | AV21: 18013.874 | AW21: =AV21/BW21-1 | AX21: 17155.515 | AY21: =AX21/BY21-1 | AZ21: 16803.094 | BA21: =AZ21/CA21-1 | BB21: 18398.706 | BC21: =BB21/CC21-1 | BD21: 19155.919 | BE21: =BD21/CE21-1 | BF21: 19802.728 | BG21: =BF21/CG21-1 | BH21: 19628.961 | BI21: =BH21/CI21-1 | BJ21: 20414.905 | BK21: =BJ21/CK21-1 | BL21: 20784.801 | BM21: =BL21/CM21-1 | BN21: 20338.527 | BO21: =BN21/CO21-1 | BP21: 21475.468 | BQ21: =BP21/CQ21-1 | BR21: 26731.013 | BS21: =BR21/CS21-1 | BT21: =AV21+AX21+AZ21+BB21+BD21+BF21+BH21+BJ21+BL21+BN21+BP21+BR21 | BU21: =BT21/SUM(BW21,BY21,CA21,CC21,CE21,CG21,CI21,CK21,CM21,CO21,CQ21,CS21)-1 | BW21: 8511.501 | BX21: =BW21/DK21-1 | BY21: 8928.2693 | BZ21: =BY21/DL21-1 | CA21: 12760.38 | CB21: =CA21/DM21-1 | CC21: 13801.184 | CD21: =CC21/DN21-1 | CE21: 14540.776 | CF21: =CE21/DO21-1 | CG21: 17440.859 | CH21: =CG21/DP21-1 | CI21: 12763.725 | CJ21: =CI21/DQ21-1 | CK21: 13734.301 | CL21: =CK21/DR21-1 | CM21: 14269.396 | CN21: =CM21/DS21-1 | CO21: 15619.705 | CP21: =CO21/DT21-1 | CQ21: 16459.24 | CR21: =CQ21/DV21-1 | CS21: 19582.015 | CT21: =CS21/DV21-1 | CU21: =BW21+BY21+CA21+CC21+CE21+CG21+CI21+CK21+CM21+CO21+CQ21+CS21 | CV21: =CU21/SUM(DK21:DV21)-1 | CX21: =CS21/CQ21-1 | CY21: =CQ21/CO21-1 | DK21: 1903.2883 | DL21: 2130.2988 | DM21: 1725.3818 | DN21: 1976.1608 | DO21: 1849.8676 | DP21: 1818.547 | DQ21: 2126.2045 | DR21: 1708.7346 | DS21: 2944.0374 | DT21: 3141.7798 | DU21: 15333.329 | DV21: 3794.4287 | DW21: 0.55142766 | DX21: 40452.058 | DY21: 0.10039681 | EA21: 3237.998 | EB21: 3002.1352 | EC21: 3766.6047 | ED21: 3609.6626 | EE21: 3346.6557 | EF21: 3182.3725 | EG21: 2933.6125 | EH21: 2950.7339 | EI21: 2918.4024 | EJ21: 2923.2801 | EK21: 2444.1137 | EL21: 2445.7658 | EO21: =SUM(EA21:EL21)
B22: 规下货物周转量 (万吨公里) | C22: 28717.404 | D22: =C22/T22-1 | E22: 17619.12 | F22: =E22/V22-1 | G22: 31463.715 | H22: =G22/X22-1 | I22: 34686.437 | J22: =I22/Z22-1 | K22: 35412.457 | L22: =K22/AB22-1 | M22: 33122.37 | N22: =M22/AD22-1 | O22: 31212.679 | P22: =O22/AF22-1 | Q22: =C22+E22+G22+I22+K22+M22+O22 | R22: =Q22/SUM(T22,V22,X22,Z22,AB22,AD22,AF22)-1 | T22: 18734.581 | U22: =T22/AV22-1 | V22: 19533.931 | W22: =V22/AX22-1 | X22: 30080.576 | Y22: =X22/AZ22-1 | Z22: 30521.719 | AA22: =Z22/BB22-1 | AB22: 31744.817 | AC22: =AB22/BD22-1 | AD22: 28270.614 | AE22: =AD22/BF22-1 | AF22: 31624.446 | AG22: =AF22/BH22-1 | AH22: 33593.564 | AI22: =AH22/BJ22-1 | AJ22: 28085.302 | AK22: =AJ22/BL22-1 | AL22: 27470.616 | AM22: =AL22/BN22-1 | AN22: 29272.734 | AO22: =AN22/BP22-1 | AP22: 26023.575 | AQ22: =AP22/BR22-1 | AR22: =T22+V22+X22+Z22+AB22+AD22+AF22+AH22+AJ22+AL22+AN22+AP22 | AS22: =AR22/SUM(AV22,AX22,AZ22,BB22,BD22,BF22,BH22,BJ22,BL22,BN22,BP22,BR22)-1 | AU22: =AV22+AX22+AZ22+BB22+BD22+BF22+BH22+BJ22+BL22+BN22+BP22 | AV22: 26345.818 | AW22: =AV22/BW22-1 | AX22: 11831.028 | AY22: =AX22/BY22-1 | AZ22: 29401.012 | BA22: =AZ22/CA22-1 | BB22: 30096.711 | BC22: =BB22/CC22-1 | BD22: 30042.307 | BE22: =BD22/CE22-1 | BF22: 25493.744 | BG22: =BF22/CG22-1 | BH22: 25909.578 | BI22: =BH22/CI22-1 | BJ22: 28227.328 | BK22: =BJ22/CK22-1 | BL22: 27064.105 | BM22: =BL22/CM22-1 | BN22: 28700.727 | BO22: =BN22/CO22-1 | BP22: 30677.806 | BQ22: =BP22/CQ22-1 | BR22: 30339.033 | BS22: =BR22/CS22-1 | BT22: =AV22+AX22+AZ22+BB22+BD22+BF22+BH22+BJ22+BL22+BN22+BP22+BR22 | BU22: =BT22/SUM(BW22,BY22,CA22,CC22,CE22,CG22,CI22,CK22,CM22,CO22,CQ22,CS22)-1 | BW22: 20456.667 | BX22: =BW22/DK22-1 | BY22: 27133.448 | BZ22: =BY22/DL22-1 | CA22: 31691.209 | CB22: =CA22/DM22-1 | CC22: 30638.255 | CD22: =CC22/DN22-1 | CE22: 30152.562 | CF22: =CE22/DO22-1 | CG22: 27131.177 | CH22: =CG22/DP22-1 | CI22: 31570.203 | CJ22: =CI22/DQ22-1 | CK22: 34909.184 | CL22: =CK22/DR22-1 | CM22: 32022.811 | CN22: =CM22/DS22-1 | CO22: 32120.668 | CP22: =CO22/DT22-1 | CQ22: 36173.848 | CR22: =CQ22/DV22-1 | CS22: 32513.281 | CT22: =CS22/DV22-1 | CU22: =BW22+BY22+CA22+CC22+CE22+CG22+CI22+CK22+CM22+CO22+CQ22+CS22 | CV22: =CU22/SUM(DK22:DV22)-1 | CX22: =CS22/CQ22-1 | CY22: =CQ22/CO22-1 | DK22: 29752.59 | DL22: 22106.911 | DM22: 34424.987 | DN22: 34822.89 | DO22: 35504.146 | DP22: 33230.451 | DQ22: 34793.8 | DR22: 38223.396 | DS22: 37305.672 | DT22: 38536.384 | DU22: 33533.373 | DV22: 41342.518 | DW22: 0.060391224 | DX22: 413577.12 | DY22: -0.03527123 | EA22: 37063.614 | EB22: 18640.682 | EC22: 30989.101 | ED22: 35413.673 | EE22: 36349.048 | EF22: 39843.367 | EG22: 36457.908 | EH22: 41541.196 | EI22: 37898.746 | EJ22: 34121.826 | EK22: 41390.669 | EL22: 38987.985 | EO22: =SUM(EA22:EL22)
A23: 十堰市 | B23: 规上+规下货运量 (万吨) | C23: 358.65571 | D23: =C23/T23-1 | E23: 237.36543 | F23: =E23/V23-1 | G23: 355.60202 | H23: =G23/X23-1 | I23: 366.87975 | J23: =I23/Z23-1 | K23: 365.51249 | L23: =K23/AB23-1 | M23: 341.79658 | N23: =M23/AD23-1 | O23: 325.09413 | P23: =O23/AF23-1 | Q23: =C23+E23+G23+I23+K23+M23+O23 | R23: =Q23/SUM(T23,V23,X23,Z23,AB23,AD23,AF23)-1 | T23: 275.33522 | U23: =T23/AV23-1 | V23: 259.68108 | W23: =V23/AX23-1 | X23: 351.65252 | Y23: =X23/AZ23-1 | Z23: 358.95196 | AA23: =Z23/BB23-1 | AB23: 344.78713 | AC23: =AB23/BD23-1 | AD23: 307.19102 | AE23: =AD23/BF23-1 | AF23: 311.14153 | AG23: =AF23/BH23-1 | AH23: 311.44339 | AI23: =AH23/BJ23-1 | AJ23: 329.085 | AK23: =AJ23/BL23-1 | AL23: 311.41603 | AM23: =AL23/BN23-1 | AN23: 351.15314 | AO23: =AN23/BP23-1 | AP23: 366.1713 | AQ23: =AP23/BR23-1 | AR23: =T23+V23+X23+Z23+AB23+AD23+AF23+AH23+AJ23+AL23+AN23+AP23 | AS23: =AR23/SUM(AV23,AX23,AZ23,BB23,BD23,BF23,BH23,BJ23,BL23,BN23,BP23,BR23)-1 | AU23: =AV23+AX23+AZ23+BB23+BD23+BF23+BH23+BJ23+BL23+BN23+BP23 | AV23: 295.96162 | AW23: =AV23/BW23-1 | AX23: 155.7222 | AY23: =AX23/BY23-1 | AZ23: 315.53967 | BA23: =AZ23/CA23-1 | BB23: 326.77646 | BC23: =BB23/CC23-1 | BD23: 324.08021 | BE23: =BD23/CE23-1 | BF23: 293.83547 | BG23: =BF23/CG23-1 | BH23: 294.65109 | BI23: =BH23/CI23-1 | BJ23: 306.85725 | BK23: =BJ23/CK23-1 | BL23: 311.51897 | BM23: =BL23/CM23-1 | BN23: 311.27608 | BO23: =BN23/CO23-1 | BP23: 327.5602 | BQ23: =BP23/CQ23-1 | BR23: 349.36406 | BS23: =BR23/CS23-1 | BT23: =AV23+AX23+AZ23+BB23+BD23+BF23+BH23+BJ23+BL23+BN23+BP23+BR23 | BU23: =BT23/SUM(BW23,BY23,CA23,CC23,CE23,CG23,CI23,CK23,CM23,CO23,CQ23,CS23)-1 | BW23: 173.74642 | BX23: =BW23/DK23-1 | BY23: 250.79449 | BZ23: =BY23/DL23-1 | CA23: 310.49637 | CB23: =CA23/DM23-1 | CC23: 297.07644 | CD23: =CC23/DN23-1 | CE23: 306.72844 | CF23: =CE23/DO23-1 | CG23: 291.57055 | CH23: =CG23/DP23-1 | CI23: 292.76841 | CJ23: =CI23/DQ23-1 | CK23: 297.11636 | CL23: =CK23/DR23-1 | CM23: 299.69014 | CN23: =CM23/DS23-1 | CO23: 300.51515 | CP23: =CO23/DT23-1 | CQ23: 322.94049 | CR23: =CQ23/DV23-1 | CS23: 310.26033 | CT23: =CS23/DV23-1 | CU23: =BW23+BY23+CA23+CC23+CE23+CG23+CI23+CK23+CM23+CO23+CQ23+CS23 | CV23: =CU23/SUM(DK23:DV23)-1 | CX23: =CS23/CQ23-1 | CY23: =CQ23/CO23-1 | DK23: 196.63861 | DL23: 172.47075 | DM23: 268.61985 | DN23: 238.37493 | DO23: 251.8924 | DP23: 234.81502 | DQ23: 244.6772 | DR23: 236.50337 | DS23: 270.26304 | DT23: 254.17585 | DU23: 280.12766 | DV23: 278.46955 | DW23: -0.095250974 | DX23: 2927.0282 | DY23: -0.11168147 | EA23: 256.78565 | EB23: 137.96745 | EC23: 258.92894 | ED23: 305.16843 | EE23: 292.64203 | EF23: 306.46666 | EG23: 282.70762 | EH23: 268.34729 | EI23: 289.72082 | EJ23: 276.60906 | EK23: 311.89056 | EL23: 307.78652 | EO23: =SUM(EA23:EL23)
B24: 规上货运量 (万吨) | C24: 12.1174 | D24: =C24/T24-1 | E24: 9.6443 | F24: =E24/V24-1 | G24: 12.6232 | H24: =G24/X24-1 | I24: 12.4025 | J24: =I24/Z24-1 | K24: 12.4069 | L24: =K24/AB24-1 | M24: 12.7324 | N24: =M24/AD24-1 | O24: 12.3819 | P24: =O24/AF24-1 | Q24: =C24+E24+G24+I24+K24+M24+O24 | R24: =Q24/SUM(T24,V24,X24,Z24,AB24,AD24,AF24)-1 | T24: 12.4871 | U24: =T24/AV24-1 | V24: 12.6352 | W24: =V24/AX24-1 | X24: 12.6382 | Y24: =X24/AZ24-1 | Z24: 12.8778 | AA24: =Z24/BB24-1 | AB24: 12.9119 | AC24: =AB24/BD24-1 | AD24: 12.7781 | AE24: =AD24/BF24-1 | AF24: 12.6832 | AG24: =AF24/BH24-1 | AH24: 12.6086 | AI24: =AH24/BJ24-1 | AJ24: 12.3113 | AK24: =AJ24/BL24-1 | AL24: 11.9473 | AM24: =AL24/BN24-1 | AN24: 12.675 | AO24: =AN24/BP24-1 | AP24: 13.0982 | AQ24: =AP24/BR24-1 | AR24: =T24+V24+X24+Z24+AB24+AD24+AF24+AH24+AJ24+AL24+AN24+AP24 | AS24: =AR24/SUM(AV24,AX24,AZ24,BB24,BD24,BF24,BH24,BJ24,BL24,BN24,BP24,BR24)-1 | AU24: =AV24+AX24+AZ24+BB24+BD24+BF24+BH24+BJ24+BL24+BN24+BP24 | AV24: 13.4803 | AW24: =AV24/BW24-1 | AX24: 12.0388 | AY24: =AX24/BY24-1 | AZ24: 12.9301 | BA24: =AZ24/CA24-1 | BB24: 14.8633 | BC24: =BB24/CC24-1 | BD24: 14.8473 | BE24: =BD24/CE24-1 | BF24: 14.8487 | BG24: =BF24/CG24-1 | BH24: 15.7384 | BI24: =BH24/CI24-1 | BJ24: 16.6248 | BK24: =BJ24/CK24-1 | BL24: 17.5034 | BM24: =BL24/CM24-1 | BN24: 17.6115 | BO24: =BN24/CO24-1 | BP24: 17.3951 | BQ24: =BP24/CQ24-1 | BR24: 18.5355 | BS24: =BR24/CS24-1 | BT24: =AV24+AX24+AZ24+BB24+BD24+BF24+BH24+BJ24+BL24+BN24+BP24+BR24 | BU24: =BT24/SUM(BW24,BY24,CA24,CC24,CE24,CG24,CI24,CK24,CM24,CO24,CQ24,CS24)-1 | BW24: 10.8482 | BX24: =BW24/DK24-1 | BY24: 13.7856 | BZ24: =BY24/DL24-1 | CA24: 15.8807 | CB24: =CA24/DM24-1 | CC24: 17.7147 | CD24: =CC24/DN24-1 | CE24: 16.7663 | CF24: =CE24/DO24-1 | CG24: 16.3111 | CH24: =CG24/DP24-1 | CI24: 12.7632 | CJ24: =CI24/DQ24-1 | CK24: 17.0019 | CL24: =CK24/DR24-1 | CM24: 16.1463 | CN24: =CM24/DS24-1 | CO24: 18.9374 | CP24: =CO24/DT24-1 | CQ24: 17.2238 | CR24: =CQ24/DV24-1 | CS24: 18.5078 | CT24: =CS24/DV24-1 | CU24: =BW24+BY24+CA24+CC24+CE24+CG24+CI24+CK24+CM24+CO24+CQ24+CS24 | CV24: =CU24/SUM(DK24:DV24)-1 | CX24: =CS24/CQ24-1 | CY24: =CQ24/CO24-1 | DJ24: 十堰市 | DK24: 8.3554 | DL24: 7.173 | DM24: 8.0282 | DN24: 8.4326 | DO24: 8.5604 | DP24: 8.1447 | DQ24: 7.8214 | DR24: 7.6844 | DS24: 8.1402 | DT24: 8.1092 | DU24: 7.0922 | DV24: 7.1948 | DW24: -0.64883372 | DX24: 94.7365 | DY24: -0.48985265 | EA24: 7.7461 | EB24: 6.8842 | EC24: 15.74859 | ED24: 16.4857 | EE24: 17.6823 | EF24: 16.5942 | EG24: 16.5411 | EH24: 16.6305 | EI24: 16.3572 | EJ24: 16.8031 | EK24: 17.7429 | EL24: 20.4883 | EO24: =SUM(EA24:EL24)
B25: 规下货运量 (万吨) | C25: 346.53831 | D25: =C25/T25-1 | E25: 227.72113 | F25: =E25/V25-1 | G25: 342.97882 | H25: =G25/X25-1 | I25: 354.47725 | J25: =I25/Z25-1 | K25: 353.10559 | L25: =K25/AB25-1 | M25: 329.06418 | N25: =M25/AD25-1 | O25: 312.71223 | P25: =O25/AF25-1 | Q25: =C25+E25+G25+I25+K25+M25+O25 | R25: =Q25/SUM(T25,V25,X25,Z25,AB25,AD25,AF25)-1 | T25: 262.84812 | U25: =T25/AV25-1 | V25: 247.04588 | W25: =V25/AX25-1 | X25: 339.01432 | Y25: =X25/AZ25-1 | Z25: 346.07416 | AA25: =Z25/BB25-1 | AB25: 331.87523 | AC25: =AB25/BD25-1 | AD25: 294.41292 | AE25: =AD25/BF25-1 | AF25: 298.45833 | AG25: =AF25/BH25-1 | AH25: 298.83479 | AI25: =AH25/BJ25-1 | AJ25: 316.7737 | AK25: =AJ25/BL25-1 | AL25: 299.46873 | AM25: =AL25/BN25-1 | AN25: 338.47814 | AO25: =AN25/BP25-1 | AP25: 353.0731 | AQ25: =AP25/BR25-1 | AR25: =T25+V25+X25+Z25+AB25+AD25+AF25+AH25+AJ25+AL25+AN25+AP25 | AS25: =AR25/SUM(AV25,AX25,AZ25,BB25,BD25,BF25,BH25,BJ25,BL25,BN25,BP25,BR25)-1 | AU25: =AV25+AX25+AZ25+BB25+BD25+BF25+BH25+BJ25+BL25+BN25+BP25 | AV25: 282.48132 | AW25: =AV25/BW25-1 | AX25: 143.6834 | AY25: =AX25/BY25-1 | AZ25: 302.60957 | BA25: =AZ25/CA25-1 | BB25: 311.91316 | BC25: =BB25/CC25-1 | BD25: 309.23291 | BE25: =BD25/CE25-1 | BF25: 278.98677 | BG25: =BF25/CG25-1 | BH25: 278.91269 | BI25: =BH25/CI25-1 | BJ25: 290.23245 | BK25: =BJ25/CK25-1 | BL25: 294.01557 | BM25: =BL25/CM25-1 | BN25: 293.66458 | BO25: =BN25/CO25-1 | BP25: 310.1651 | BQ25: =BP25/CQ25-1 | BR25: 330.82856 | BS25: =BR25/CS25-1 | BT25: =AV25+AX25+AZ25+BB25+BD25+BF25+BH25+BJ25+BL25+BN25+BP25+BR25 | BU25: =BT25/SUM(BW25,BY25,CA25,CC25,CE25,CG25,CI25,CK25,CM25,CO25,CQ25,CS25)-1 | BW25: 162.89822 | BX25: =BW25/DK25-1 | BY25: 237.00889 | BZ25: =BY25/DL25-1 | CA25: 294.61567 | CB25: =CA25/DM25-1 | CC25: 279.36174 | CD25: =CC25/DN25-1 | CE25: 289.96214 | CF25: =CE25/DO25-1 | CG25: 275.25945 | CH25: =CG25/DP25-1 | CI25: 280.00521 | CJ25: =CI25/DQ25-1 | CK25: 280.11446 | CL25: =CK25/DR25-1 | CM25: 283.54384 | CN25: =CM25/DS25-1 | CO25: 281.57775 | CP25: =CO25/DT25-1 | CQ25: 305.71669 | CR25: =CQ25/DV25-1 | CS25: 291.75253 | CT25: =CS25/DV25-1 | CU25: =BW25+BY25+CA25+CC25+CE25+CG25+CI25+CK25+CM25+CO25+CQ25+CS25 | CV25: =CU25/SUM(DK25:DV25)-1 | CX25: =CS25/CQ25-1 | CY25: =CQ25/CO25-1 | DK25: 188.28321 | DL25: 165.29775 | DM25: 260.59165 | DN25: 229.94233 | DO25: 243.332 | DP25: 226.67032 | DQ25: 236.8558 | DR25: 228.81897 | DS25: 262.12284 | DT25: 246.06665 | DU25: 273.03546 | DV25: 271.27475 | DW25: -0.055772938 | DX25: 2832.2917 | DY25: -0.089095169 | EA25: 249.03955 | EB25: 131.08325 | EC25: 243.18035 | ED25: 288.68273 | EE25: 274.95973 | EF25: 289.87246 | EG25: 266.16652 | EH25: 251.71679 | EI25: 273.36362 | EJ25: 259.80596 | EK25: 294.14766 | EL25: 287.29822 | EO25: =SUM(EA25:EL25)
B26: 规上+规下周转量 (万吨公里) | C26: =C27+C28 | D26: =C26/T26-1 | E26: =E27+E28 | F26: =E26/V26-1 | G26: =G27+G28 | H26: =G26/X26-1 | I26: =I27+I28 | J26: =I26/Z26-1 | K26: =K27+K28 | L26: =K26/AB26-1 | M26: =M27+M28 | N26: =M26/AD26-1 | O26: =O27+O28 | P26: =O26/AF26-1 | Q26: =C26+E26+G26+I26+K26+M26+O26 | R26: =Q26/SUM(T26,V26,X26,Z26,AB26,AD26,AF26)-1 | T26: =T27+T28 | U26: =T26/AV26-1 | V26: =V27+V28 | W26: =V26/AX26-1 | X26: =X27+X28 | Y26: =X26/AZ26-1 | Z26: =Z27+Z28 | AA26: =Z26/BB26-1 | AB26: =AB27+AB28 | AC26: =AB26/BD26-1 | AD26: =AD27+AD28 | AE26: =AD26/BF26-1 | AF26: =AF27+AF28 | AG26: =AF26/BH26-1 | AH26: =AH27+AH28 | AI26: =AH26/BJ26-1 | AJ26: =AJ27+AJ28 | AK26: =AJ26/BL26-1 | AL26: =AL27+AL28 | AM26: =AL26/BN26-1 | AN26: =AN27+AN28 | AO26: =AN26/BP26-1 | AP26: =AP27+AP28 | AQ26: =AP26/BR26-1 | AR26: =T26+V26+X26+Z26+AB26+AD26+AF26+AH26+AJ26+AL26+AN26+AP26 | AS26: =AR26/SUM(AV26,AX26,AZ26,BB26,BD26,BF26,BH26,BJ26,BL26,BN26,BP26,BR26)-1 | AU26: =AV26+AX26+AZ26+BB26+BD26+BF26+BH26+BJ26+BL26+BN26+BP26 | AV26: =AV27+AV28 | AW26: =AV26/BW26-1 | AX26: =AX27+AX28 | AY26: =AX26/BY26-1 | AZ26: =AZ27+AZ28 | BA26: =AZ26/CA26-1 | BB26: =BB27+BB28 | BC26: =BB26/CC26-1 | BD26: =BD27+BD28 | BE26: =BD26/CE26-1 | BF26: =BF27+BF28 | BG26: =BF26/CG26-1 | BH26: =BH27+BH28 | BI26: =BH26/CI26-1 | BJ26: =BJ27+BJ28 | BK26: =BJ26/CK26-1 | BL26: =BL27+BL28 | BM26: =BL26/CM26-1 | BN26: =BN27+BN28 | BO26: =BN26/CO26-1 | BP26: =BP27+BP28 | BQ26: =BP26/CQ26-1 | BR26: =BR27+BR28 | BS26: =BR26/CS26-1 | BT26: =AV26+AX26+AZ26+BB26+BD26+BF26+BH26+BJ26+BL26+BN26+BP26+BR26 | BU26: =BT26/SUM(BW26,BY26,CA26,CC26,CE26,CG26,CI26,CK26,CM26,CO26,CQ26,CS26)-1 | BW26: =BW27+BW28 | BX26: =BW26/DK26-1 | BY26: =BY27+BY28 | BZ26: =BY26/DL26-1 | CA26: =SUM(CA27:CA28) | CB26: =CA26/DM26-1 | CC26: 43111.558 | CD26: =CC26/DN26-1 | CE26: 43747.555 | CF26: =CE26/DO26-1 | CG26: =CG27+CG28 | CH26: =CG26/DP26-1 | CI26: =CI27+CI28 | CJ26: =CI26/DQ26-1 | CK26: 42207.062 | CL26: =CK26/DR26-1 | CM26: =SUM(CM27:CM28) | CN26: =CM26/DS26-1 | CO26: =SUM(CO27:CO28) | CP26: =CO26/DT26-1 | CQ26: =CQ27+CQ28 | CR26: =CQ26/DV26-1 | CS26: =CS27+CS28 | CT26: =CS26/DV26-1 | CU26: =BW26+BY26+CA26+CC26+CE26+CG26+CI26+CK26+CM26+CO26+CQ26+CS26 | CV26: =CU26/SUM(DK26:DV26)-1 | CX26: =CS26/CQ26-1 | CY26: =CQ26/CO26-1 | DK26: 32252.368 | DL26: 26037.331 | DM26: 38353.721 | DN26: 36162.372 | DO26: 35714.727 | DP26: 32964.857 | DQ26: 34898.025 | DR26: 34120.389 | DS26: 39453.918 | DT26: 39129.015 | DU26: 43091.274 | DV26: 41721.865 | DW26: 0.026491689 | DX26: 433899.86 | DY26: -0.046314655 | EA26: =EA27+EA28 | EB26: =EB27+EB28 | EC26: =EC27+EC28 | ED26: =ED27+ED28 | EE26: =EE27+EE28 | EF26: =EF27+EF28 | EG26: =EG27+EG28 | EH26: =EH27+EH28 | ... EL26: =EL27+EL28
B27: 规上货物周转量 (万吨公里) | C27: 3888.2247 | D27: =C27/T27-1 | E27: 3250.6985 | F27: =E27/V27-1 | G27: 3958.8157 | H27: =G27/X27-1 | I27: 4024.9189 | J27: =I27/Z27-1 | K27: 4033.1107 | L27: =K27/AB27-1 | M27: 3953.8801 | N27: =M27/AD27-1 | O27: 3944.1367 | P27: =O27/AF27-1 | Q27: =C27+E27+G27+I27+K27+M27+O27 | R27: =Q27/SUM(T27,V27,X27,Z27,AB27,AD27,AF27)-1 | T27: 4263.2816 | U27: =T27/AV27-1 | V27: 4129.6335 | W27: =V27/AX27-1 | X27: 4237.3927 | Y27: =X27/AZ27-1 | Z27: 4027.0375 | AA27: =Z27/BB27-1 | AB27: 4336.3028 | AC27: =AB27/BD27-1 | AD27: 4011.8682 | AE27: =AD27/BF27-1 | AF27: 4165.4802 | AG27: =AF27/BH27-1 | AH27: 4104.8936 | AI27: =AH27/BJ27-1 | AJ27: 4157.138 | AK27: =AJ27/BL27-1 | AL27: 4213.3321 | AM27: =AL27/BN27-1 | AN27: 4146.2456 | AO27: =AN27/BP27-1 | AP27: 4367.2385 | AQ27: =AP27/BR27-1 | AR27: =T27+V27+X27+Z27+AB27+AD27+AF27+AH27+AJ27+AL27+AN27+AP27 | AS27: =AR27/SUM(AV27,AX27,AZ27,BB27,BD27,BF27,BH27,BJ27,BL27,BN27,BP27,BR27)-1 | AU27: =AV27+AX27+AZ27+BB27+BD27+BF27+BH27+BJ27+BL27+BN27+BP27 | AV27: 4597.0914 | AW27: =AV27/BW27-1 | AX27: 3957.433 | AY27: =AX27/BY27-1 | AZ27: 4869.2748 | BA27: =AZ27/CA27-1 | BB27: 4983.0262 | BC27: =BB27/CC27-1 | BD27: 4742.6742 | BE27: =BD27/CE27-1 | BF27: 4761.9082 | BG27: =BF27/CG27-1 | BH27: 4498.1439 | BI27: =BH27/CI27-1 | BJ27: 4773.7821 | BK27: =BJ27/CK27-1 | BL27: 4997.3242 | BM27: =BL27/CM27-1 | BN27: 5066.0712 | BO27: =BN27/CO27-1 | BP27: 5197.0568 | BQ27: =BP27/CQ27-1 | BR27: 5805.6462 | BS27: =BR27/CS27-1 | BT27: =AV27+AX27+AZ27+BB27+BD27+BF27+BH27+BJ27+BL27+BN27+BP27+BR27 | BU27: =BT27/SUM(BW27,BY27,CA27,CC27,CE27,CG27,CI27,CK27,CM27,CO27,CQ27,CS27)-1 | BW27: 3163.1775 | BX27: =BW27/DK27-1 | BY27: 3824.1159 | BZ27: =BY27/DL27-1 | CA27: 4149.9164 | CB27: =CA27/DM27-1 | CC27: 4417.6687 | CD27: =CC27/DN27-1 | CE27: 4235.1466 | CF27: =CE27/DO27-1 | CG27: 4332.2195 | CH27: =CG27/DP27-1 | CI27: 3381.4382 | CJ27: =CI27/DQ27-1 | CK27: 4414.7295 | CL27: =CK27/DR27-1 | CM27: 4598.8966 | CN27: =CM27/DS27-1 | CO27: 5789.1614 | CP27: =CO27/DT27-1 | CQ27: 5154.3399 | CR27: =CQ27/DV27-1 | CS27: 5523.6119 | CT27: =CS27/DV27-1 | CU27: =BW27+BY27+CA27+CC27+CE27+CG27+CI27+CK27+CM27+CO27+CQ27+CS27 | CV27: =CU27/SUM(DK27:DV27)-1 | CX27: =CS27/CQ27-1 | CY27: =CQ27/CO27-1 | DK27: 1686.2727 | DL27: 1521.0217 | DM27: 1718.0772 | DN27: 1838.4845 | DO27: 1925.3972 | DP27: 1909.3124 | DQ27: 1852.1719 | DR27: 1809.4231 | DS27: 1992.534 | DT27: 2807.9884 | DU27: 2090.102 | DV27: 2131.7149 | DW27: 0.23402172 | DX27: 23282.5 | DY27: 0.091267403 | EA27: 1486.3346 | EB27: 1524.0044 | EC27: 1860.7996 | ED27: 1868.9434 | EE27: 2211.0663 | EF27: 1870.4187 | EG27: 1736.8293 | EH27: 1735.9292 | EI27: 1769.9264 | EJ27: 1819.6756 | EK27: 1723.9032 | EL27: 1727.4533 | EO27: =SUM(EA27:EL27)
B28: 规下货物周转量 (万吨公里) | C28: 44810.304 | D28: =C28/T28-1 | E28: 31171.68 | F28: =E28/V28-1 | G28: 45422.019 | H28: =G28/X28-1 | I28: 45899.657 | J28: =I28/Z28-1 | K28: 45641.774 | L28: =K28/AB28-1 | M28: 41387.654 | N28: =M28/AD28-1 | O28: 39964.7 | P28: =O28/AF28-1 | Q28: =C28+E28+G28+I28+K28+M28+O28 | R28: =Q28/SUM(T28,V28,X28,Z28,AB28,AD28,AF28)-1 | T28: 35902.559 | U28: =T28/AV28-1 | V28: 34721.104 | W28: =V28/AX28-1 | X28: 46003.667 | Y28: =X28/AZ28-1 | Z28: 46008.144 | AA28: =Z28/BB28-1 | AB28: 45973.055 | AC28: =AB28/BD28-1 | AD28: 40361.229 | AE28: =AD28/BF28-1 | AF28: 39515.091 | AG28: =AF28/BH28-1 | AH28: 40135.442 | AI28: =AH28/BJ28-1 | AJ28: 42548.889 | AK28: =AJ28/BL28-1 | AL28: 39559.802 | AM28: =AL28/BN28-1 | AN28: 42601.712 | AO28: =AN28/BP28-1 | AP28: 44392.263 | AQ28: =AP28/BR28-1 | AR28: =T28+V28+X28+Z28+AB28+AD28+AF28+AH28+AJ28+AL28+AN28+AP28 | AS28: =AR28/SUM(AV28,AX28,AZ28,BB28,BD28,BF28,BH28,BJ28,BL28,BN28,BP28,BR28)-1 | AU28: =AV28+AX28+AZ28+BB28+BD28+BF28+BH28+BJ28+BL28+BN28+BP28 | AV28: 37908.154 | AW28: =AV28/BW28-1 | AX28: 21206.959 | AY28: =AX28/BY28-1 | AZ28: 41077.514 | BA28: =AZ28/CA28-1 | BB28: 40236.929 | BC28: =BB28/CC28-1 | BD28: 40809.798 | BE28: =BD28/CE28-1 | BF28: 35997.725 | BG28: =BF28/CG28-1 | BH28: 36769.426 | BI28: =BH28/CI28-1 | BJ28: 38296.075 | BK28: =BJ28/CK28-1 | BL28: 39313.188 | BM28: =BL28/CM28-1 | BN28: 39458.151 | BO28: =BN28/CO28-1 | BP28: 41193.192 | BQ28: =BP28/CQ28-1 | BR28: 44588.161 | BS28: =BR28/CS28-1 | BT28: =AV28+AX28+AZ28+BB28+BD28+BF28+BH28+BJ28+BL28+BN28+BP28+BR28 | BU28: =BT28/SUM(BW28,BY28,CA28,CC28,CE28,CG28,CI28,CK28,CM28,CO28,CQ28,CS28)-1 | BW28: 26528.131 | BX28: =BW28/DK28-1 | BY28: 33733.107 | BZ28: =BY28/DL28-1 | CA28: 40454.992 | CB28: =CA28/DM28-1 | CC28: 38693.889 | CD28: =CC28/DN28-1 | CE28: 39512.408 | CF28: =CE28/DO28-1 | CG28: 36343.883 | CH28: =CG28/DP28-1 | CI28: 37756.363 | CJ28: =CI28/DQ28-1 | CK28: 37792.333 | CL28: =CK28/DR28-1 | CM28: 38786.546 | CN28: =CM28/DS28-1 | CO28: 37213.757 | CP28: =CO28/DT28-1 | CQ28: 41255.273 | CR28: =CQ28/DV28-1 | CS28: 40323.375 | CT28: =CS28/DV28-1 | CU28: =BW28+BY28+CA28+CC28+CE28+CG28+CI28+CK28+CM28+CO28+CQ28+CS28 | CV28: =CU28/SUM(DK28:DV28)-1 | CX28: =CS28/CQ28-1 | CY28: =CQ28/CO28-1 | DK28: 30566.095 | DL28: 24516.31 | DM28: 36635.644 | DN28: 34323.888 | DO28: 33789.33 | DP28: 31055.545 | DQ28: 33045.853 | DR28: 32310.966 | DS28: 37461.384 | DT28: 36321.026 | DU28: 41001.172 | DV28: 39590.151 | DW28: 0.017279971 | DX28: 410617.36 | DY28: -0.05308381 | EA28: 38775.278 | EB28: 22948.86 | EC28: 35369.713 | ED28: 39934.489 | EE28: 36568.582 | EF28: 37157.485 | EG28: 34810.447 | EH28: 35932.923 | EI28: 38302.155 | EJ28: 34726.234 | EK28: 40192.617 | EL28: 38917.655 | EO28: =SUM(EA28:EL28)
A29: 宜昌市 | B29: 规上+规下货运量 (万吨) | C29: 1215.4772 | D29: =C29/T29-1 | E29: 839.28067 | F29: =E29/V29-1 | G29: 1325.1102 | H29: =G29/X29-1 | I29: 1386.6372 | J29: =I29/Z29-1 | K29: 1388.5812 | L29: =K29/AB29-1 | M29: 1320.5191 | N29: =M29/AD29-1 | O29: 1291.6655 | P29: =O29/AF29-1 | Q29: =C29+E29+G29+I29+K29+M29+O29 | R29: =Q29/SUM(T29,V29,X29,Z29,AB29,AD29,AF29)-1 | T29: 1015.2464 | U29: =T29/AV29-1 | V29: 986.26108 | W29: =V29/AX29-1 | X29: 1366.7302 | Y29: =X29/AZ29-1 | Z29: 1415.6884 | AA29: =Z29/BB29-1 | AB29: 1426.2627 | AC29: =AB29/BD29-1 | AD29: 1293.3786 | AE29: =AD29/BF29-1 | AF29: 1273.3788 | AG29: =AF29/BH29-1 | AH29: 1353.9263 | AI29: =AH29/BJ29-1 | AJ29: 1448.5599 | AK29: =AJ29/BL29-1 | AL29: 1385.087 | AM29: =AL29/BN29-1 | AN29: 1553.0852 | AO29: =AN29/BP29-1 | AP29: 1476.81 | AQ29: =AP29/BR29-1 | AR29: =T29+V29+X29+Z29+AB29+AD29+AF29+AH29+AJ29+AL29+AN29+AP29 | AS29: =AR29/SUM(AV29,AX29,AZ29,BB29,BD29,BF29,BH29,BJ29,BL29,BN29,BP29,BR29)-1 | AU29: =AV29+AX29+AZ29+BB29+BD29+BF29+BH29+BJ29+BL29+BN29+BP29 | AV29: 1062.1728 | AW29: =AV29/BW29-1 | AX29: 596.26715 | AY29: =AX29/BY29-1 | AZ29: 1211.3375 | BA29: =AZ29/CA29-1 | BB29: 1287.2108 | BC29: =BB29/CC29-1 | BD29: 1300.2452 | BE29: =BD29/CE29-1 | BF29: 1200.9446 | BG29: =BF29/CG29-1 | BH29: 1220.5527 | BI29: =BH29/CI29-1 | BJ29: 1321.8122 | BK29: =BJ29/CK29-1 | BL29: 1351.3754 | BM29: =BL29/CM29-1 | BN29: 1360.8699 | BO29: =BN29/CO29-1 | BP29: 1446.2363 | BQ29: =BP29/CQ29-1 | BR29: 1427.9826 | BS29: =BR29/CS29-1 | BT29: =AV29+AX29+AZ29+BB29+BD29+BF29+BH29+BJ29+BL29+BN29+BP29+BR29 | BU29: =BT29/SUM(BW29,BY29,CA29,CC29,CE29,CG29,CI29,CK29,CM29,CO29,CQ29,CS29)-1 | BW29: 598.35794 | BX29: =BW29/DK29-1 | BY29: 837.88168 | BZ29: =BY29/DL29-1 | CA29: 1072.3431 | CB29: =CA29/DM29-1 | CC29: 1085.5049 | CD29: =CC29/DN29-1 | CE29: 1156.9735 | CF29: =CE29/DO29-1 | CG29: 1136.271 | CH29: =CG29/DP29-1 | CI29: 1138.834 | CJ29: =CI29/DQ29-1 | CK29: 1271.9703 | CL29: =CK29/DR29-1 | CM29: 1243.9351 | CN29: =CM29/DS29-1 | CO29: 1257.9652 | CP29: =CO29/DT29-1 | CQ29: 1390.2237 | CR29: =CQ29/DV29-1 | CS29: 1290.2617 | CT29: =CS29/DV29-1 | CU29: =BW29+BY29+CA29+CC29+CE29+CG29+CI29+CK29+CM29+CO29+CQ29+CS29 | CV29: =CU29/SUM(DK29:DV29)-1 | CX29: =CS29/CQ29-1 | CY29: =CQ29/CO29-1 | DK29: 669.10199 | DL29: 523.17272 | DM29: 840.61153 | DN29: 797.4506 | DO29: 876.3447 | DP29: 817.93457 | DQ29: 854.47886 | DR29: 920.18455 | DS29: 998.10524 | DT29: 934.91705 | DU29: 1044.7928 | DV29: 1026.7401 | DW29: 0.029963029 | DX29: 10303.835 | DY29: -0.050523011 | EA29: 905.36128 | EB29: 413.8287 | EC29: 724.5113 | ED29: 905.07902 | EE29: 944.52487 | EF29: 1000.2098 | EG29: 925.33342 | EH29: 980.75949 | EI29: 1019.9206 | EJ29: 946.32254 | EK29: 1089.3944 | EL29: 996.87082 | EO29: =SUM(EA29:EL29)
B30: 规上货运量 (万吨) | C30: 745.1372 | D30: =C30/T30-1 | E30: 602.0208 | F30: =E30/V30-1 | G30: 905.9963 | H30: =G30/X30-1 | I30: 795.8832 | J30: =I30/Z30-1 | K30: 687.2748 | L30: =K30/AB30-1 | M30: 730.8846 | N30: =M30/AD30-1 | O30: 696.23 | P30: =O30/AF30-1 | Q30: =C30+E30+G30+I30+K30+M30+O30 | R30: =Q30/SUM(T30,V30,X30,Z30,AB30,AD30,AF30)-1 | T30: 571.1389 | U30: =T30/AV30-1 | V30: 611.8075 | W30: =V30/AX30-1 | X30: 809.1938 | Y30: =X30/AZ30-1 | Z30: 812.5273 | AA30: =Z30/BB30-1 | AB30: 817.443 | AC30: =AB30/BD30-1 | AD30: 780.5822 | AE30: =AD30/BF30-1 | AF30: 635.0973 | AG30: =AF30/BH30-1 | AH30: 722.3021 | AI30: =AH30/BJ30-1 | AJ30: 807.5782 | AK30: =AJ30/BL30-1 | AL30: 818.5038 | AM30: =AL30/BN30-1 | AN30: 833.4438 | AO30: =AN30/BP30-1 | AP30: 763.6925 | AQ30: =AP30/BR30-1 | AR30: =T30+V30+X30+Z30+AB30+AD30+AF30+AH30+AJ30+AL30+AN30+AP30 | AS30: =AR30/SUM(AV30,AX30,AZ30,BB30,BD30,BF30,BH30,BJ30,BL30,BN30,BP30,BR30)-1 | AU30: =AV30+AX30+AZ30+BB30+BD30+BF30+BH30+BJ30+BL30+BN30+BP30 | AV30: 464.0114 | AW30: =AV30/BW30-1 | AX30: 325.4829 | AY30: =AX30/BY30-1 | AZ30: 646.622 | BA30: =AZ30/CA30-1 | BB30: 734.8284 | BC30: =BB30/CC30-1 | BD30: 650.3393 | BE30: =BD30/CE30-1 | BF30: 676.0751 | BG30: =BF30/CG30-1 | BH30: 632.2575 | BI30: =BH30/CI30-1 | BJ30: 656.3214 | BK30: =BJ30/CK30-1 | BL30: 719.0556 | BM30: =BL30/CM30-1 | BN30: 706.8331 | BO30: =BN30/CO30-1 | BP30: 668.3651 | BQ30: =BP30/CQ30-1 | BR30: 671.8194 | BS30: =BR30/CS30-1 | BT30: =AV30+AX30+AZ30+BB30+BD30+BF30+BH30+BJ30+BL30+BN30+BP30+BR30 | BU30: =BT30/SUM(BW30,BY30,CA30,CC30,CE30,CG30,CI30,CK30,CM30,CO30,CQ30,CS30)-1 | BW30: 133.2574 | BX30: =BW30/DK30-1 | BY30: 249.2374 | BZ30: =BY30/DL30-1 | CA30: 341.3346 | CB30: =CA30/DM30-1 | CC30: 388.4431 | CD30: =CC30/DN30-1 | CE30: 373.631 | CF30: =CE30/DO30-1 | CG30: 390.3425 | CH30: =CG30/DP30-1 | CI30: 324.9011 | CJ30: =CI30/DQ30-1 | CK30: 369.6202 | CL30: =CK30/DR30-1 | CM30: 362.3661 | CN30: =CM30/DS30-1 | CO30: 375.6669 | CP30: =CO30/DT30-1 | CQ30: 411.7986 | CR30: =CQ30/DV30-1 | CS30: 341.8814 | CT30: =CS30/DV30-1 | CU30: =BW30+BY30+CA30+CC30+CE30+CG30+CI30+CK30+CM30+CO30+CQ30+CS30 | CV30: =CU30/SUM(DK30:DV30)-1 | CX30: =CS30/CQ30-1 | CY30: =CQ30/CO30-1 | DJ30: 宜昌市 | DK30: 39.4696 | DL30: 44.4071 | DM30: 69.8136 | DN30: 67.4619 | DO30: 86.6807 | DP30: 78.8463 | DQ30: 76.0137 | DR30: 62.8643 | DS30: 74.3606 | DT30: 91.1907 | DU30: 221.0291 | DV30: 291.9962 | DW30: 4.6581832 | DX30: 1204.1338 | DY30: 1.0928896 | EA30: 44.168 | EB30: 34.7348 | EC30: 53.47846 | ED30: 48.74774 | EE30: 53.5033 | EF30: 51.2957 | EG30: 41.9926 | EH30: 46.9933 | EI30: 47.945 | EJ30: 50.2436 | EK30: 50.6366 | EL30: 51.606 | EO30: =SUM(EA30:EL30)
B31: 规下货运量 (万吨) | C31: 470.34 | D31: =C31/T31-1 | E31: 237.25987 | F31: =E31/V31-1 | G31: 419.11394 | H31: =G31/X31-1 | I31: 590.75399 | J31: =I31/Z31-1 | K31: 701.30639 | L31: =K31/AB31-1 | M31: 589.63453 | N31: =M31/AD31-1 | O31: 595.4355 | P31: =O31/AF31-1 | Q31: =C31+E31+G31+I31+K31+M31+O31 | R31: =Q31/SUM(T31,V31,X31,Z31,AB31,AD31,AF31)-1 | T31: 444.10745 | U31: =T31/AV31-1 | V31: 374.45358 | W31: =V31/AX31-1 | X31: 557.53637 | Y31: =X31/AZ31-1 | Z31: 603.16112 | AA31: =Z31/BB31-1 | AB31: 608.81966 | AC31: =AB31/BD31-1 | AD31: 512.79643 | AE31: =AD31/BF31-1 | AF31: 638.28149 | AG31: =AF31/BH31-1 | AH31: 631.62416 | AI31: =AH31/BJ31-1 | AJ31: 640.9817 | AK31: =AJ31/BL31-1 | AL31: 566.5832 | AM31: =AL31/BN31-1 | AN31: 719.64137 | AO31: =AN31/BP31-1 | AP31: 713.11753 | AQ31: =AP31/BR31-1 | AR31: =T31+V31+X31+Z31+AB31+AD31+AF31+AH31+AJ31+AL31+AN31+AP31 | AS31: =AR31/SUM(AV31,AX31,AZ31,BB31,BD31,BF31,BH31,BJ31,BL31,BN31,BP31,BR31)-1 | AU31: =AV31+AX31+AZ31+BB31+BD31+BF31+BH31+BJ31+BL31+BN31+BP31 | AV31: 598.16142 | AW31: =AV31/BW31-1 | AX31: 270.78425 | AY31: =AX31/BY31-1 | AZ31: 564.71554 | BA31: =AZ31/CA31-1 | BB31: 552.38239 | BC31: =BB31/CC31-1 | BD31: 649.90585 | BE31: =BD31/CE31-1 | BF31: 524.86952 | BG31: =BF31/CG31-1 | BH31: 588.29516 | BI31: =BH31/CI31-1 | BJ31: 665.49076 | BK31: =BJ31/CK31-1 | BL31: 632.31982 | BM31: =BL31/CM31-1 | BN31: 654.03681 | BO31: =BN31/CO31-1 | BP31: 777.87123 | BQ31: =BP31/CQ31-1 | BR31: 756.16317 | BS31: =BR31/CS31-1 | BT31: =AV31+AX31+AZ31+BB31+BD31+BF31+BH31+BJ31+BL31+BN31+BP31+BR31 | BU31: =BT31/SUM(BW31,BY31,CA31,CC31,CE31,CG31,CI31,CK31,CM31,CO31,CQ31,CS31)-1 | BW31: 465.10054 | BX31: =BW31/DK31-1 | BY31: 588.64428 | BZ31: =BY31/DL31-1 | CA31: 731.0085 | CB31: =CA31/DM31-1 | CC31: 697.06181 | CD31: =CC31/DN31-1 | CE31: 783.34245 | CF31: =CE31/DO31-1 | CG31: 745.9285 | CH31: =CG31/DP31-1 | CI31: 813.93288 | CJ31: =CI31/DQ31-1 | CK31: 902.35011 | CL31: =CK31/DR31-1 | CM31: 881.56904 | CN31: =CM31/DS31-1 | CO31: 882.29833 | CP31: =CO31/DT31-1 | CQ31: 978.42513 | CR31: =CQ31/DV31-1 | CS31: 948.38025 | CT31: =CS31/DV31-1 | CU31: =BW31+BY31+CA31+CC31+CE31+CG31+CI31+CK31+CM31+CO31+CQ31+CS31 | CV31: =CU31/SUM(DK31:DV31)-1 | CX31: =CS31/CQ31-1 | CY31: =CQ31/CO31-1 | DK31: 629.63239 | DL31: 478.76562 | DM31: 770.79793 | DN31: 729.9887 | DO31: 789.664 | DP31: 739.08827 | DQ31: 778.46516 | DR31: 857.32025 | DS31: 923.74464 | DT31: 843.72635 | DU31: 823.76367 | DV31: 734.74388 | DW31: -0.22271106 | DX31: 9099.7009 | DY31: -0.11453698 | EA31: 861.19328 | EB31: 379.0939 | EC31: 671.03284 | ED31: 856.33128 | EE31: 891.02157 | EF31: 948.91405 | EG31: 883.34082 | EH31: 933.76619 | EI31: 971.97563 | EJ31: 896.07894 | EK31: 1038.7578 | EL31: 945.26482 | EO31: =SUM(EA31:EL31)
B32: 规上+规下周转量 (万吨公里) | C32: =C33+C34 | D32: =C32/T32-1 | E32: =E33+E34 | F32: =E32/V32-1 | G32: =G33+G34 | H32: =G32/X32-1 | I32: =I33+I34 | J32: =I32/Z32-1 | K32: =K33+K34 | L32: =K32/AB32-1 | M32: =M33+M34 | N32: =M32/AD32-1 | O32: =O33+O34 | P32: =O32/AF32-1 | Q32: =C32+E32+G32+I32+K32+M32+O32 | R32: =Q32/SUM(T32,V32,X32,Z32,AB32,AD32,AF32)-1 | T32: =T33+T34 | U32: =T32/AV32-1 | V32: =V33+V34 | W32: =V32/AX32-1 | X32: =X33+X34 | Y32: =X32/AZ32-1 | Z32: =Z33+Z34 | AA32: =Z32/BB32-1 | AB32: =AB33+AB34 | AC32: =AB32/BD32-1 | AD32: =AD33+AD34 | AE32: =AD32/BF32-1 | AF32: =AF33+AF34 | AG32: =AF32/BH32-1 | AH32: =AH33+AH34 | AI32: =AH32/BJ32-1 | AJ32: =AJ33+AJ34 | AK32: =AJ32/BL32-1 | AL32: =AL33+AL34 | AM32: =AL32/BN32-1 | AN32: =AN33+AN34 | AO32: =AN32/BP32-1 | AP32: =AP33+AP34 | AQ32: =AP32/BR32-1 | AR32: =T32+V32+X32+Z32+AB32+AD32+AF32+AH32+AJ32+AL32+AN32+AP32 | AS32: =AR32/SUM(AV32,AX32,AZ32,BB32,BD32,BF32,BH32,BJ32,BL32,BN32,BP32,BR32)-1 | AU32: =AV32+AX32+AZ32+BB32+BD32+BF32+BH32+BJ32+BL32+BN32+BP32 | AV32: =AV33+AV34 | AW32: =AV32/BW32-1 | AX32: =AX33+AX34 | AY32: =AX32/BY32-1 | AZ32: =AZ33+AZ34 | BA32: =AZ32/CA32-1 | BB32: =BB33+BB34 | BC32: =BB32/CC32-1 | BD32: =BD33+BD34 | BE32: =BD32/CE32-1 | BF32: =BF33+BF34 | BG32: =BF32/CG32-1 | BH32: =BH33+BH34 | BI32: =BH32/CI32-1 | BJ32: =BJ33+BJ34 | BK32: =BJ32/CK32-1 | BL32: =BL33+BL34 | BM32: =BL32/CM32-1 | BN32: =BN33+BN34 | BO32: =BN32/CO32-1 | BP32: =BP33+BP34 | BQ32: =BP32/CQ32-1 | BR32: =BR33+BR34 | BS32: =BR32/CS32-1 | BT32: =AV32+AX32+AZ32+BB32+BD32+BF32+BH32+BJ32+BL32+BN32+BP32+BR32 | BU32: =BT32/SUM(BW32,BY32,CA32,CC32,CE32,CG32,CI32,CK32,CM32,CO32,CQ32,CS32)-1 | BW32: =BW33+BW34 | BX32: =BW32/DK32-1 | BY32: =BY33+BY34 | BZ32: =BY32/DL32-1 | CA32: =SUM(CA33:CA34) | CB32: =CA32/DM32-1 | CC32: 107703.48 | CD32: =CC32/DN32-1 | CE32: 113928.55 | CF32: =CE32/DO32-1 | CG32: =CG33+CG34 | CH32: =CG32/DP32-1 | CI32: =CI33+CI34 | CJ32: =CI32/DQ32-1 | CK32: 121482.38 | CL32: =CK32/DR32-1 | CM32: =SUM(CM33:CM34) | CN32: =CM32/DS32-1 | CO32: =SUM(CO33:CO34) | CP32: =CO32/DT32-1 | CQ32: =CQ33+CQ34 | CR32: =CQ32/DV32-1 | CS32: =CS33+CS34 | CT32: =CS32/DV32-1 | CU32: =BW32+BY32+CA32+CC32+CE32+CG32+CI32+CK32+CM32+CO32+CQ32+CS32 | CV32: =CU32/SUM(DK32:DV32)-1 | CX32: =CS32/CQ32-1 | CY32: =CQ32/CO32-1 | DK32: 71967.727 | DL32: 51654.902 | DM32: 81369.007 | DN32: 80633.124 | DO32: 85622.011 | DP32: 79782.788 | DQ32: 83011.362 | DR32: 91017.889 | DS32: 98564.369 | DT32: 107094.51 | DU32: 111347.24 | DV32: 114421.85 | DW32: 0.19217282 | DX32: 1056486.8 | DY32: -0.012918818 | EA32: =EA33+EA34 | EB32: =EB33+EB34 | EC32: =EC33+EC34 | ED32: =ED33+ED34 | EE32: =EE33+EE34 | EF32: =EF33+EF34 | EG32: =EG33+EG34 | EH32: =EH33+EH34 | ... EL32: =EL33+EL34
B33: 规上货物周转量 (万吨公里) | C33: 55934.484 | D33: =C33/T33-1 | E33: 49820.738 | F33: =E33/V33-1 | G33: 81458.571 | H33: =G33/X33-1 | I33: 68707.26 | J33: =I33/Z33-1 | K33: 69708.717 | L33: =K33/AB33-1 | M33: 69260.868 | N33: =M33/AD33-1 | O33: 63308.348 | P33: =O33/AF33-1 | Q33: =C33+E33+G33+I33+K33+M33+O33 | R33: =Q33/SUM(T33,V33,X33,Z33,AB33,AD33,AF33)-1 | T33: 48335.46 | U33: =T33/AV33-1 | V33: 45005.607 | W33: =V33/AX33-1 | X33: 68502.556 | Y33: =X33/AZ33-1 | Z33: 67823.325 | AA33: =Z33/BB33-1 | AB33: 69665.182 | AC33: =AB33/BD33-1 | AD33: 69113.702 | AE33: =AD33/BF33-1 | AF33: 50686.822 | AG33: =AF33/BH33-1 | AH33: 55622.099 | AI33: =AH33/BJ33-1 | AJ33: 57908.341 | AK33: =AJ33/BL33-1 | AL33: 62774.594 | AM33: =AL33/BN33-1 | AN33: 63596.042 | AO33: =AN33/BP33-1 | AP33: 62339.181 | AQ33: =AP33/BR33-1 | AR33: =T33+V33+X33+Z33+AB33+AD33+AF33+AH33+AJ33+AL33+AN33+AP33 | AS33: =AR33/SUM(AV33,AX33,AZ33,BB33,BD33,BF33,BH33,BJ33,BL33,BN33,BP33,BR33)-1 | AU33: =AV33+AX33+AZ33+BB33+BD33+BF33+BH33+BJ33+BL33+BN33+BP33 | AV33: 31393.96 | AW33: =AV33/BW33-1 | AX33: 23903.294 | AY33: =AX33/BY33-1 | AZ33: 66773.337 | BA33: =AZ33/CA33-1 | BB33: 56074.985 | BC33: =BB33/CC33-1 | BD33: 56466.516 | BE33: =BD33/CE33-1 | BF33: 58076.982 | BG33: =BF33/CG33-1 | BH33: 55240.951 | BI33: =BH33/CI33-1 | BJ33: 52360.146 | BK33: =BJ33/CK33-1 | BL33: 58251.567 | BM33: =BL33/CM33-1 | BN33: 59642.582 | BO33: =BN33/CO33-1 | BP33: 58624.295 | BQ33: =BP33/CQ33-1 | BR33: 59222.425 | BS33: =BR33/CS33-1 | BT33: =AV33+AX33+AZ33+BB33+BD33+BF33+BH33+BJ33+BL33+BN33+BP33+BR33 | BU33: =BT33/SUM(BW33,BY33,CA33,CC33,CE33,CG33,CI33,CK33,CM33,CO33,CQ33,CS33)-1 | BW33: 14439.074 | BX33: =BW33/DK33-1 | BY33: 33049.393 | BZ33: =BY33/DL33-1 | CA33: 44374.107 | CB33: =CA33/DM33-1 | CC33: 41600.253 | CD33: =CC33/DN33-1 | CE33: 40750.262 | CF33: =CE33/DO33-1 | CG33: 45306.642 | CH33: =CG33/DP33-1 | CI33: 33064.396 | CJ33: =CI33/DQ33-1 | CK33: 37262.738 | CL33: =CK33/DR33-1 | CM33: 39399.425 | CN33: =CM33/DS33-1 | CO33: 40575.413 | CP33: =CO33/DT33-1 | CQ33: 40266.096 | CR33: =CQ33/DV33-1 | CS33: 39764.965 | CT33: =CS33/DV33-1 | CU33: =BW33+BY33+CA33+CC33+CE33+CG33+CI33+CK33+CM33+CO33+CQ33+CS33 | CV33: =CU33/SUM(DK33:DV33)-1 | CX33: =CS33/CQ33-1 | CY33: =CQ33/CO33-1 | DK33: 6883.2587 | DL33: 7092.5499 | DM33: 10424.585 | DN33: 9619.3644 | DO33: 12539.65 | DP33: 10509.939 | DQ33: 9345.7025 | DR33: 9106.8498 | DS33: 11914.97 | DT33: 14784.287 | DU33: 21945.238 | DV33: 36126.475 | DW33: 2.6705482 | DX33: 160292.87 | DY33: 0.47470723 | EA33: 9393.4327 | EB33: 7047.9617 | EC33: 9063.729 | ED33: 8784.3851 | EE33: 9409.6691 | EF33: 9088.7772 | EG33: 8211.5924 | EH33: 9562.8517 | EI33: 9184.8753 | EJ33: 9849.0128 | EK33: 9256.1635 | EL33: 9842.256 | EO33: =SUM(EA33:EL33)
B34: 规下货物周转量 (万吨公里) | C34: 48988.526 | D34: =C34/T34-1 | E34: 29411.66 | F34: =E34/V34-1 | G34: 44656.716 | H34: =G34/X34-1 | I34: 59204.43 | J34: =I34/Z34-1 | K34: 62109.2 | L34: =K34/AB34-1 | M34: 56518.108 | N34: =M34/AD34-1 | O34: 55295.461 | P34: =O34/AF34-1 | Q34: =C34+E34+G34+I34+K34+M34+O34 | R34: =Q34/SUM(T34,V34,X34,Z34,AB34,AD34,AF34)-1 | T34: 43931.802 | U34: =T34/AV34-1 | V34: 47377.535 | W34: =V34/AX34-1 | X34: 61577.508 | Y34: =X34/AZ34-1 | Z34: 62338.027 | AA34: =Z34/BB34-1 | AB34: 65137.149 | AC34: =AB34/BD34-1 | AD34: 56006.456 | AE34: =AD34/BF34-1 | AF34: 65812.832 | AG34: =AF34/BH34-1 | AH34: 67635.389 | AI34: =AH34/BJ34-1 | AJ34: 72488.327 | AK34: =AJ34/BL34-1 | AL34: 64825.306 | AM34: =AL34/BN34-1 | AN34: 69813.908 | AO34: =AN34/BP34-1 | AP34: 74773.881 | AQ34: =AP34/BR34-1 | AR34: =T34+V34+X34+Z34+AB34+AD34+AF34+AH34+AJ34+AL34+AN34+AP34 | AS34: =AR34/SUM(AV34,AX34,AZ34,BB34,BD34,BF34,BH34,BJ34,BL34,BN34,BP34,BR34)-1 | AU34: =AV34+AX34+AZ34+BB34+BD34+BF34+BH34+BJ34+BL34+BN34+BP34 | AV34: 61674.781 | AW34: =AV34/BW34-1 | AX34: 34862.395 | AY34: =AX34/BY34-1 | AZ34: 51978.325 | BA34: =AZ34/CA34-1 | BB34: 60225.883 | BC34: =BB34/CC34-1 | BD34: 64915.121 | BE34: =BD34/CE34-1 | BF34: 54733.898 | BG34: =BF34/CG34-1 | BH34: 57512.955 | BI34: =BH34/CI34-1 | BJ34: 67795.642 | BK34: =BJ34/CK34-1 | BL34: 66262.566 | BM34: =BL34/CM34-1 | BN34: 71060.346 | BO34: =BN34/CO34-1 | BP34: 75353.145 | BQ34: =BP34/CQ34-1 | BR34: 81620.098 | BS34: =BR34/CS34-1 | BT34: =AV34+AX34+AZ34+BB34+BD34+BF34+BH34+BJ34+BL34+BN34+BP34+BR34 | BU34: =BT34/SUM(BW34,BY34,CA34,CC34,CE34,CG34,CI34,CK34,CM34,CO34,CQ34,CS34)-1 | BW34: 50138.772 | BX34: =BW34/DK34-1 | BY34: 53488.539 | BZ34: =BY34/DL34-1 | CA34: 64932.496 | CB34: =CA34/DM34-1 | CC34: 66103.223 | CD34: =CC34/DN34-1 | CE34: 73178.285 | CF34: =CE34/DO34-1 | CG34: 66134.145 | CH34: =CG34/DP34-1 | CI34: 75786.521 | CJ34: =CI34/DQ34-1 | CK34: 84219.643 | CL34: =CK34/DR34-1 | CM34: 82938.979 | CN34: =CM34/DS34-1 | CO34: 87692.641 | CP34: =CO34/DT34-1 | CQ34: 93122.343 | CR34: =CQ34/DV34-1 | CS34: 94457.558 | CT34: =CS34/DV34-1 | CU34: =BW34+BY34+CA34+CC34+CE34+CG34+CI34+CK34+CM34+CO34+CQ34+CS34 | CV34: =CU34/SUM(DK34:DV34)-1 | CX34: =CS34/CQ34-1 | CY34: =CQ34/CO34-1 | DK34: 65084.468 | DL34: 44562.352 | DM34: 70944.422 | DN34: 71013.76 | DO34: 73082.361 | DP34: 69272.849 | DQ34: 73665.66 | DR34: 81911.039 | DS34: 86649.399 | DT34: 92310.221 | DU34: 89402.001 | DV34: 78295.375 | DW34: -0.091018869 | DX34: 896193.91 | DY34: -0.068036651 | EA34: 87025.268 | EB34: 41048.943 | EC34: 64505.036 | ED34: 79109.074 | EE34: 80142.418 | EF34: 83332.698 | EG34: 77629.747 | EH34: 90252.604 | EI34: 90445.77 | EJ34: 83221.346 | EK34: 98771.041 | EL34: 86135.314 | EO34: =SUM(EA34:EL34)
A35: 襄阳市 | B35: 规上+规下货运量 (万吨) | C35: 3028.382 | D35: =C35/T35-1 | E35: 2004.5014 | F35: =E35/V35-1 | G35: 3124.4326 | H35: =G35/X35-1 | I35: 3141.0637 | J35: =I35/Z35-1 | K35: 3188.7809 | L35: =K35/AB35-1 | M35: 3051.0954 | N35: =M35/AD35-1 | O35: 2923.4441 | P35: =O35/AF35-1 | Q35: =C35+E35+G35+I35+K35+M35+O35 | R35: =Q35/SUM(T35,V35,X35,Z35,AB35,AD35,AF35)-1 | T35: 2536.8142 | U35: =T35/AV35-1 | V35: 2415.6772 | W35: =V35/AX35-1 | X35: 3281.8649 | Y35: =X35/AZ35-1 | Z35: 3207.2013 | AA35: =Z35/BB35-1 | AB35: 3219.9869 | AC35: =AB35/BD35-1 | AD35: 2952.5047 | AE35: =AD35/BF35-1 | AF35: 2905.0959 | AG35: =AF35/BH35-1 | AH35: 2894.9165 | AI35: =AH35/BJ35-1 | AJ35: 2911.4979 | AK35: =AJ35/BL35-1 | AL35: 2788.6452 | AM35: =AL35/BN35-1 | AN35: 3042.3711 | AO35: =AN35/BP35-1 | AP35: 3198.3163 | AQ35: =AP35/BR35-1 | AR35: =T35+V35+X35+Z35+AB35+AD35+AF35+AH35+AJ35+AL35+AN35+AP35 | AS35: =AR35/SUM(AV35,AX35,AZ35,BB35,BD35,BF35,BH35,BJ35,BL35,BN35,BP35,BR35)-1 | AU35: =AV35+AX35+AZ35+BB35+BD35+BF35+BH35+BJ35+BL35+BN35+BP35 | AV35: 2778.5143 | AW35: =AV35/BW35-1 | AX35: 1473.6935 | AY35: =AX35/BY35-1 | AZ35: 3046.7715 | BA35: =AZ35/CA35-1 | BB35: 2912.0937 | BC35: =BB35/CC35-1 | BD35: 3015.6644 | BE35: =BD35/CE35-1 | BF35: 2789.7103 | BG35: =BF35/CG35-1 | BH35: 2784.7782 | BI35: =BH35/CI35-1 | BJ35: 2840.4115 | BK35: =BJ35/CK35-1 | BL35: 2860.6178 | BM35: =BL35/CM35-1 | BN35: 2893.826 | BO35: =BN35/CO35-1 | BP35: 3052.0365 | BQ35: =BP35/CQ35-1 | BR35: 3305.1068 | BS35: =BR35/CS35-1 | BT35: =AV35+AX35+AZ35+BB35+BD35+BF35+BH35+BJ35+BL35+BN35+BP35+BR35 | BU35: =BT35/SUM(BW35,BY35,CA35,CC35,CE35,CG35,CI35,CK35,CM35,CO35,CQ35,CS35)-1 | BW35: 1670.9736 | BX35: =BW35/DK35-1 | BY35: 2360.9039 | BZ35: =BY35/DL35-1 | CA35: 2855.2691 | CB35: =CA35/DM35-1 | CC35: 2678.5725 | CD35: =CC35/DN35-1 | CE35: 2843.5941 | CF35: =CE35/DO35-1 | CG35: 2796.067 | CH35: =CG35/DP35-1 | CI35: 2772.7199 | CJ35: =CI35/DQ35-1 | CK35: 2850.2591 | CL35: =CK35/DR35-1 | CM35: 2729.0283 | CN35: =CM35/DS35-1 | CO35: 2805.9018 | CP35: =CO35/DT35-1 | CQ35: 2967.4013 | CR35: =CQ35/DV35-1 | CS35: 3035.3704 | CT35: =CS35/DV35-1 | CU35: =BW35+BY35+CA35+CC35+CE35+CG35+CI35+CK35+CM35+CO35+CQ35+CS35 | CV35: =CU35/SUM(DK35:DV35)-1 | CX35: =CS35/CQ35-1 | CY35: =CQ35/CO35-1 | DK35: 1890.2242 | DL35: 1553.0319 | DM35: 2409.9687 | DN35: 2141.1944 | DO35: 2494.4997 | DP35: 2290.5236 | DQ35: 2265.6005 | DR35: 2197.973 | DS35: 2342.8063 | DT35: 2255.1852 | DU35: 2270.8492 | DV35: 2462.0852 | DW35: -0.12710852 | DX35: 26573.942 | DY35: -0.14154085 | EA35: 2696.8791 | EB35: 1250.6139 | EC35: 2289.1712 | ED35: 2822.2901 | EE35: 2890.3933 | EF35: 2996.7781 | EG35: 2629.027 | EH35: 2477.1877 | EI35: 2656.885 | EJ35: 2554.7556 | EK35: 2870.8052 | EL35: 2820.6086 | EO35: =SUM(EA35:EL35)
B36: 规上货运量 (万吨) | C36: 348.675 | D36: =C36/T36-1 | E36: 303.525 | F36: =E36/V36-1 | G36: 271.9212 | H36: =G36/X36-1 | I36: 292.4452 | J36: =I36/Z36-1 | K36: 305.8056 | L36: =K36/AB36-1 | M36: 335.2829 | N36: =M36/AD36-1 | O36: 344.5188 | P36: =O36/AF36-1 | Q36: =C36+E36+G36+I36+K36+M36+O36 | R36: =Q36/SUM(T36,V36,X36,Z36,AB36,AD36,AF36)-1 | T36: 414.6732 | U36: =T36/AV36-1 | V36: 374.1426 | W36: =V36/AX36-1 | X36: 401.7766 | Y36: =X36/AZ36-1 | Z36: 427.8546 | AA36: =Z36/BB36-1 | AB36: 490.078 | AC36: =AB36/BD36-1 | AD36: 478.4508 | AE36: =AD36/BF36-1 | AF36: 450.7203 | AG36: =AF36/BH36-1 | AH36: 423.2493 | AI36: =AH36/BJ36-1 | AJ36: 413.3566 | AK36: =AJ36/BL36-1 | AL36: 448.0272 | AM36: =AL36/BN36-1 | AN36: 445.1043 | AO36: =AN36/BP36-1 | AP36: 468.898 | AQ36: =AP36/BR36-1 | AR36: =T36+V36+X36+Z36+AB36+AD36+AF36+AH36+AJ36+AL36+AN36+AP36 | AS36: =AR36/SUM(AV36,AX36,AZ36,BB36,BD36,BF36,BH36,BJ36,BL36,BN36,BP36,BR36)-1 | AU36: =AV36+AX36+AZ36+BB36+BD36+BF36+BH36+BJ36+BL36+BN36+BP36 | AV36: 384.2016 | AW36: =AV36/BW36-1 | AX36: 287.101 | AY36: =AX36/BY36-1 | AZ36: 390.5686 | BA36: =AZ36/CA36-1 | BB36: 405.1349 | BC36: =BB36/CC36-1 | BD36: 410.3729 | BE36: =BD36/CE36-1 | BF36: 440.1308 | BG36: =BF36/CG36-1 | BH36: 426.9251 | BI36: =BH36/CI36-1 | BJ36: 438.6066 | BK36: =BJ36/CK36-1 | BL36: 443.9875 | BM36: =BL36/CM36-1 | BN36: 444.7728 | BO36: =BN36/CO36-1 | BP36: 457.3229 | BQ36: =BP36/CQ36-1 | BR36: 553.0448 | BS36: =BR36/CS36-1 | BT36: =AV36+AX36+AZ36+BB36+BD36+BF36+BH36+BJ36+BL36+BN36+BP36+BR36 | BU36: =BT36/SUM(BW36,BY36,CA36,CC36,CE36,CG36,CI36,CK36,CM36,CO36,CQ36,CS36)-1 | BW36: 220.9675 | BX36: =BW36/DK36-1 | BY36: 257.3013 | BZ36: =BY36/DL36-1 | CA36: 303.2571 | CB36: =CA36/DM36-1 | CC36: 305.4569 | CD36: =CC36/DN36-1 | CE36: 260.8824 | CF36: =CE36/DO36-1 | CG36: 300.3693 | CH36: =CG36/DP36-1 | CI36: 315.7155 | CJ36: =CI36/DQ36-1 | CK36: 318.5073 | CL36: =CK36/DR36-1 | CM36: 312.1218 | CN36: =CM36/DS36-1 | CO36: 323.8673 | CP36: =CO36/DT36-1 | CQ36: 368.9892 | CR36: =CQ36/DV36-1 | CS36: 396.4574 | CT36: =CS36/DV36-1 | CU36: =BW36+BY36+CA36+CC36+CE36+CG36+CI36+CK36+CM36+CO36+CQ36+CS36 | CV36: =CU36/SUM(DK36:DV36)-1 | CX36: =CS36/CQ36-1 | CY36: =CQ36/CO36-1 | DJ36: 襄阳市 | DK36: 40.7015 | DL36: 42.1227 | DM36: 43.0398 | DN36: 51.8451 | DO36: 58.5454 | DP36: 47.9857 | DQ36: 42.5093 | DR36: 42.131 | DS36: 42.6153 | DT36: 35.3266 | DU36: 30.0481 | DV36: 35.4847 | DW36: -0.44915871 | DX36: 512.3552 | DY36: -0.21915065 | EA36: 46.2984 | EB36: 32.3507 | EC36: 42.94563 | ED36: 48.38992 | EE36: 68.3686 | EF36: 47.3707 | EG36: 46.8497 | EH36: 48.8398 | EI36: 58.6177 | EJ36: 84.2941 | EK36: 67.4068 | EL36: 64.4191 | EO36: =SUM(EA36:EL36)
B37: 规下货运量 (万吨) | C37: 2679.707 | D37: =C37/T37-1 | E37: 1700.9764 | F37: =E37/V37-1 | G37: 2852.5114 | H37: =G37/X37-1 | I37: 2848.6185 | J37: =I37/Z37-1 | K37: 2882.9753 | L37: =K37/AB37-1 | M37: 2715.8125 | N37: =M37/AD37-1 | O37: 2578.9253 | P37: =O37/AF37-1 | Q37: =C37+E37+G37+I37+K37+M37+O37 | R37: =Q37/SUM(T37,V37,X37,Z37,AB37,AD37,AF37)-1 | T37: 2122.141 | U37: =T37/AV37-1 | V37: 2041.5346 | W37: =V37/AX37-1 | X37: 2880.0883 | Y37: =X37/AZ37-1 | Z37: 2779.3467 | AA37: =Z37/BB37-1 | AB37: 2729.9089 | AC37: =AB37/BD37-1 | AD37: 2474.0539 | AE37: =AD37/BF37-1 | AF37: 2454.3756 | AG37: =AF37/BH37-1 | AH37: 2471.6672 | AI37: =AH37/BJ37-1 | AJ37: 2498.1413 | AK37: =AJ37/BL37-1 | AL37: 2340.618 | AM37: =AL37/BN37-1 | AN37: 2597.2668 | AO37: =AN37/BP37-1 | AP37: 2729.4183 | AQ37: =AP37/BR37-1 | AR37: =T37+V37+X37+Z37+AB37+AD37+AF37+AH37+AJ37+AL37+AN37+AP37 | AS37: =AR37/SUM(AV37,AX37,AZ37,BB37,BD37,BF37,BH37,BJ37,BL37,BN37,BP37,BR37)-1 | AU37: =AV37+AX37+AZ37+BB37+BD37+BF37+BH37+BJ37+BL37+BN37+BP37 | AV37: 2394.3127 | AW37: =AV37/BW37-1 | AX37: 1186.5925 | AY37: =AX37/BY37-1 | AZ37: 2656.2029 | BA37: =AZ37/CA37-1 | BB37: 2506.9588 | BC37: =BB37/CC37-1 | BD37: 2605.2915 | BE37: =BD37/CE37-1 | BF37: 2349.5795 | BG37: =BF37/CG37-1 | BH37: 2357.8531 | BI37: =BH37/CI37-1 | BJ37: 2401.8049 | BK37: =BJ37/CK37-1 | BL37: 2416.6303 | BM37: =BL37/CM37-1 | BN37: 2449.0532 | BO37: =BN37/CO37-1 | BP37: 2594.7136 | BQ37: =BP37/CQ37-1 | BR37: 2752.062 | BS37: =BR37/CS37-1 | BT37: =AV37+AX37+AZ37+BB37+BD37+BF37+BH37+BJ37+BL37+BN37+BP37+BR37 | BU37: =BT37/SUM(BW37,BY37,CA37,CC37,CE37,CG37,CI37,CK37,CM37,CO37,CQ37,CS37)-1 | BW37: 1450.0061 | BX37: =BW37/DK37-1 | BY37: 2103.6026 | BZ37: =BY37/DL37-1 | CA37: 2552.012 | CB37: =CA37/DM37-1 | CC37: 2373.1156 | CD37: =CC37/DN37-1 | CE37: 2582.7117 | CF37: =CE37/DO37-1 | CG37: 2495.6977 | CH37: =CG37/DP37-1 | CI37: 2457.0044 | CJ37: =CI37/DQ37-1 | CK37: 2531.7518 | CL37: =CK37/DR37-1 | CM37: 2416.9065 | CN37: =CM37/DS37-1 | CO37: 2482.0345 | CP37: =CO37/DT37-1 | CQ37: 2598.4121 | CR37: =CQ37/DV37-1 | CS37: 2638.913 | CT37: =CS37/DV37-1 | CU37: =BW37+BY37+CA37+CC37+CE37+CG37+CI37+CK37+CM37+CO37+CQ37+CS37 | CV37: =CU37/SUM(DK37:DV37)-1 | CX37: =CS37/CQ37-1 | CY37: =CQ37/CO37-1 | DK37: 1849.5227 | DL37: 1510.9092 | DM37: 2366.9289 | DN37: 2089.3493 | DO37: 2435.9543 | DP37: 2242.5379 | DQ37: 2223.0912 | DR37: 2155.842 | DS37: 2300.191 | DT37: 2219.8586 | DU37: 2240.8011 | DV37: 2426.6005 | DW37: -0.11958139 | DX37: 26061.587 | DY37: -0.13986015 | EA37: 2650.5807 | EB37: 1218.2632 | EC37: 2246.2255 | ED37: 2773.9002 | EE37: 2822.0247 | EF37: 2949.4074 | EG37: 2582.1773 | EH37: 2428.3479 | EI37: 2598.2673 | EJ37: 2470.4615 | EK37: 2803.3984 | EL37: 2756.1895 | EO37: =SUM(EA37:EL37)
B38: 规上+规下周转量 (万吨公里) | C38: =C39+C40 | D38: =C38/T38-1 | E38: =E39+E40 | F38: =E38/V38-1 | G38: =G39+G40 | H38: =G38/X38-1 | I38: =I39+I40 | J38: =I38/Z38-1 | K38: =K39+K40 | L38: =K38/AB38-1 | M38: =M39+M40 | N38: =M38/AD38-1 | O38: =O39+O40 | P38: =O38/AF38-1 | Q38: =C38+E38+G38+I38+K38+M38+O38 | R38: =Q38/SUM(T38,V38,X38,Z38,AB38,AD38,AF38)-1 | T38: =T39+T40 | U38: =T38/AV38-1 | V38: =V39+V40 | W38: =V38/AX38-1 | X38: =X39+X40 | Y38: =X38/AZ38-1 | Z38: =Z39+Z40 | AA38: =Z38/BB38-1 | AB38: =AB39+AB40 | AC38: =AB38/BD38-1 | AD38: =AD39+AD40 | AE38: =AD38/BF38-1 | AF38: =AF39+AF40 | AG38: =AF38/BH38-1 | AH38: =AH39+AH40 | AI38: =AH38/BJ38-1 | AJ38: =AJ39+AJ40 | AK38: =AJ38/BL38-1 | AL38: =AL39+AL40 | AM38: =AL38/BN38-1 | AN38: =AN39+AN40 | AO38: =AN38/BP38-1 | AP38: =AP39+AP40 | AQ38: =AP38/BR38-1 | AR38: =T38+V38+X38+Z38+AB38+AD38+AF38+AH38+AJ38+AL38+AN38+AP38 | AS38: =AR38/SUM(AV38,AX38,AZ38,BB38,BD38,BF38,BH38,BJ38,BL38,BN38,BP38,BR38)-1 | AU38: =AV38+AX38+AZ38+BB38+BD38+BF38+BH38+BJ38+BL38+BN38+BP38 | AV38: =AV39+AV40 | AW38: =AV38/BW38-1 | AX38: =AX39+AX40 | AY38: =AX38/BY38-1 | AZ38: =AZ39+AZ40 | BA38: =AZ38/CA38-1 | BB38: =BB39+BB40 | BC38: =BB38/CC38-1 | BD38: =BD39+BD40 | BE38: =BD38/CE38-1 | BF38: =BF39+BF40 | BG38: =BF38/CG38-1 | BH38: =BH39+BH40 | BI38: =BH38/CI38-1 | BJ38: =BJ39+BJ40 | BK38: =BJ38/CK38-1 | BL38: =BL39+BL40 | BM38: =BL38/CM38-1 | BN38: =BN39+BN40 | BO38: =BN38/CO38-1 | BP38: =BP39+BP40 | BQ38: =BP38/CQ38-1 | BR38: =BR39+BR40 | BS38: =BR38/CS38-1 | BT38: =AV38+AX38+AZ38+BB38+BD38+BF38+BH38+BJ38+BL38+BN38+BP38+BR38 | BU38: =BT38/SUM(BW38,BY38,CA38,CC38,CE38,CG38,CI38,CK38,CM38,CO38,CQ38,CS38)-1 | BW38: =BW39+BW40 | BX38: =BW38/DK38-1 | BY38: =BY39+BY40 | BZ38: =BY38/DL38-1 | CA38: =SUM(CA39:CA40) | CB38: =CA38/DM38-1 | CC38: 485986.15 | CD38: =CC38/DN38-1 | CE38: 495340.38 | CF38: =CE38/DO38-1 | CG38: 484790.8 | CH38: =CG38/DP38-1 | CI38: =CI39+CI40 | CJ38: =CI38/DQ38-1 | CK38: 513693.78 | CL38: =CK38/DR38-1 | CM38: =SUM(CM39:CM40) | CN38: =CM38/DS38-1 | CO38: =SUM(CO39:CO40) | CP38: =CO38/DT38-1 | CQ38: =CQ39+CQ40 | CR38: =CQ38/DV38-1 | CS38: =CS39+CS40 | CT38: =CS38/DV38-1 | CU38: =BW38+BY38+CA38+CC38+CE38+CG38+CI38+CK38+CM38+CO38+CQ38+CS38 | CV38: =CU38/SUM(DK38:DV38)-1 | CX38: =CS38/CQ38-1 | CY38: =CQ38/CO38-1 | DK38: 369093.7 | DL38: 279057.36 | DM38: 427605.41 | DN38: 419282.29 | DO38: 441542.54 | DP38: 400086.01 | DQ38: 414647.36 | DR38: 411171.34 | DS38: 438012.25 | DT38: 426905.44 | DU38: 423877.05 | DV38: 436117.26 | DW38: -0.0013266201 | DX38: 4887398 | DY38: -0.11008437 | EA38: =EA39+EA40 | EB38: =EB39+EB40 | EC38: =EC39+EC40 | ED38: =ED39+ED40 | EE38: =EE39+EE40 | EF38: =EF39+EF40 | EG38: =EG39+EG40 | EH38: =EH39+EH40 | ... EL38: =EL39+EL40
B39: 规上货物周转量 (万吨公里) | C39: 85975.352 | D39: =C39/T39-1 | E39: 70041.806 | F39: =E39/V39-1 | G39: 74518.378 | H39: =G39/X39-1 | I39: 79662.66 | J39: =I39/Z39-1 | K39: 90461.487 | L39: =K39/AB39-1 | M39: 99449.26 | N39: =M39/AD39-1 | O39: 100128.69 | P39: =O39/AF39-1 | Q39: =C39+E39+G39+I39+K39+M39+O39 | R39: =Q39/SUM(T39,V39,X39,Z39,AB39,AD39,AF39)-1 | T39: 89934.323 | U39: =T39/AV39-1 | V39: 76700.942 | W39: =V39/AX39-1 | X39: 88720.235 | Y39: =X39/AZ39-1 | Z39: 95969.445 | AA39: =Z39/BB39-1 | AB39: 122183.41 | AC39: =AB39/BD39-1 | AD39: 119479.74 | AE39: =AD39/BF39-1 | AF39: 100841.85 | AG39: =AF39/BH39-1 | AH39: 91635.858 | AI39: =AH39/BJ39-1 | AJ39: 90134.955 | AK39: =AJ39/BL39-1 | AL39: 94198.735 | AM39: =AL39/BN39-1 | AN39: 94885.775 | AO39: =AN39/BP39-1 | AP39: 97300.068 | AQ39: =AP39/BR39-1 | AR39: =T39+V39+X39+Z39+AB39+AD39+AF39+AH39+AJ39+AL39+AN39+AP39 | AS39: =AR39/SUM(AV39,AX39,AZ39,BB39,BD39,BF39,BH39,BJ39,BL39,BN39,BP39,BR39)-1 | AU39: =AV39+AX39+AZ39+BB39+BD39+BF39+BH39+BJ39+BL39+BN39+BP39 | AV39: 82353.281 | AW39: =AV39/BW39-1 | AX39: 50298.739 | AY39: =AX39/BY39-1 | AZ39: 81493.05 | BA39: =AZ39/CA39-1 | BB39: 85594.183 | BC39: =BB39/CC39-1 | BD39: 85687.41 | BE39: =BD39/CE39-1 | BF39: 91514.033 | BG39: =BF39/CG39-1 | BH39: 86155.61 | BI39: =BH39/CI39-1 | BJ39: 88521.767 | BK39: =BJ39/CK39-1 | BL39: 87619.143 | BM39: =BL39/CM39-1 | BN39: 90871.767 | BO39: =BN39/CO39-1 | BP39: 95143.896 | BQ39: =BP39/CQ39-1 | BR39: 116889.32 | BS39: =BR39/CS39-1 | BT39: =AV39+AX39+AZ39+BB39+BD39+BF39+BH39+BJ39+BL39+BN39+BP39+BR39 | BU39: =BT39/SUM(BW39,BY39,CA39,CC39,CE39,CG39,CI39,CK39,CM39,CO39,CQ39,CS39)-1 | BW39: 44249.873 | BX39: =BW39/DK39-1 | BY39: 52426.619 | BZ39: =BY39/DL39-1 | CA39: 58744.767 | CB39: =CA39/DM39-1 | CC39: 58504.619 | CD39: =CC39/DN39-1 | CE39: 56735.656 | CF39: =CE39/DO39-1 | CG39: 60271.749 | CH39: =CG39/DP39-1 | CI39: 56604.882 | CJ39: =CI39/DQ39-1 | CK39: 57311.676 | CL39: =CK39/DR39-1 | CM39: 60089.076 | CN39: =CM39/DS39-1 | CO39: 59346.595 | CP39: =CO39/DT39-1 | CQ39: 69413.661 | CR39: =CQ39/DV39-1 | CS39: 76520.771 | CT39: =CS39/DV39-1 | CU39: =BW39+BY39+CA39+CC39+CE39+CG39+CI39+CK39+CM39+CO39+CQ39+CS39 | CV39: =CU39/SUM(DK39:DV39)-1 | CX39: =CS39/CQ39-1 | CY39: =CQ39/CO39-1 | DK39: 10500.744 | DL39: 10114.014 | DM39: 11568.224 | DN39: 10158.412 | DO39: 11279.418 | DP39: 10607.585 | DQ39: 10424.856 | DR39: 10071.939 | DS39: 10293.458 | DT39: 10352.184 | DU39: 9984.4711 | DV39: 10410.772 | DW39: -0.1282707 | DX39: 125766.08 | DY39: 0.043011393 | EA39: 10480.064 | EB39: 7477.3938 | EC39: 9376.9398 | ED39: 9450.6698 | EE39: 9460.6443 | EF39: 9715.1838 | EG39: 9960.4595 | EH39: 9807.5993 | EI39: 10774.204 | EJ39: 11020.046 | EK39: 11113.902 | EL39: 11942.666 | EO39: =SUM(EA39:EL39)
B40: 规下货物周转量 (万吨公里) | C40: 427785.08 | D40: =C40/T40-1 | E40: 291026.18 | F40: =E40/V40-1 | G40: 469429.04 | H40: =G40/X40-1 | I40: 472779.75 | J40: =I40/Z40-1 | K40: 469806.26 | L40: =K40/AB40-1 | M40: 436160.8 | N40: =M40/AD40-1 | O40: 421583.95 | P40: =O40/AF40-1 | Q40: =C40+E40+G40+I40+K40+M40+O40 | R40: =Q40/SUM(T40,V40,X40,Z40,AB40,AD40,AF40)-1 | T40: 356847.99 | U40: =T40/AV40-1 | V40: 357038.4 | W40: =V40/AX40-1 | X40: 481387.96 | Y40: =X40/AZ40-1 | Z40: 466634.14 | AA40: =Z40/BB40-1 | AB40: 454763.82 | AC40: =AB40/BD40-1 | AD40: 411632 | AE40: =AD40/BF40-1 | AF40: 417472.39 | AG40: =AF40/BH40-1 | AH40: 428100.81 | AI40: =AH40/BJ40-1 | AJ40: 435655.66 | AK40: =AJ40/BL40-1 | AL40: 393234.42 | AM40: =AL40/BN40-1 | AN40: 413885.84 | AO40: =AN40/BP40-1 | AP40: 438030.11 | AQ40: =AP40/BR40-1 | AR40: =T40+V40+X40+Z40+AB40+AD40+AF40+AH40+AJ40+AL40+AN40+AP40 | AS40: =AR40/SUM(AV40,AX40,AZ40,BB40,BD40,BF40,BH40,BJ40,BL40,BN40,BP40,BR40)-1 | AU40: =AV40+AX40+AZ40+BB40+BD40+BF40+BH40+BJ40+BL40+BN40+BP40 | AV40: 409267.98 | AW40: =AV40/BW40-1 | AX40: 231444.7 | AY40: =AX40/BY40-1 | AZ40: 438762.56 | BA40: =AZ40/CA40-1 | BB40: 425209.89 | BC40: =BB40/CC40-1 | BD40: 438637.28 | BE40: =BD40/CE40-1 | BF40: 392229.09 | BG40: =BF40/CG40-1 | BH40: 407886.53 | BI40: =BH40/CI40-1 | BJ40: 414855.36 | BK40: =BJ40/CK40-1 | BL40: 424339.86 | BM40: =BL40/CM40-1 | BN40: 423156.66 | BO40: =BN40/CO40-1 | BP40: 430094.78 | BQ40: =BP40/CQ40-1 | BR40: 460286.67 | BS40: =BR40/CS40-1 | BT40: =AV40+AX40+AZ40+BB40+BD40+BF40+BH40+BJ40+BL40+BN40+BP40+BR40 | BU40: =BT40/SUM(BW40,BY40,CA40,CC40,CE40,CG40,CI40,CK40,CM40,CO40,CQ40,CS40)-1 | BW40: 295013.36 | BX40: =BW40/DK40-1 | BY40: 375601.15 | BZ40: =BY40/DL40-1 | CA40: 445441.8 | CB40: =CA40/DM40-1 | CC40: 427481.53 | CD40: =CC40/DN40-1 | CE40: 438604.72 | CF40: =CE40/DO40-1 | CG40: 424519.05 | CH40: =CG40/DP40-1 | CI40: 439432.46 | CJ40: =CI40/DQ40-1 | CK40: 456382.11 | CL40: =CK40/DR40-1 | CM40: 440139.85 | CN40: =CM40/DS40-1 | CO40: 433311.19 | CP40: =CO40/DT40-1 | CQ40: 441955.72 | CR40: =CQ40/DV40-1 | CS40: 454048.63 | CT40: =CS40/DV40-1 | CU40: =BW40+BY40+CA40+CC40+CE40+CG40+CI40+CK40+CM40+CO40+CQ40+CS40 | CV40: =CU40/SUM(DK40:DV40)-1 | CX40: =CS40/CQ40-1 | CY40: =CQ40/CO40-1 | DK40: 358592.95 | DL40: 268943.35 | DM40: 416037.19 | DN40: 409123.87 | DO40: 430263.12 | DP40: 389478.43 | DQ40: 404222.51 | DR40: 401099.4 | DS40: 427718.79 | DT40: 416553.26 | DU40: 413892.58 | DV40: 425706.48 | DW40: 0.0022426247 | DX40: 4761631.9 | DY40: -0.11352114 | EA40: 525435.64 | EB40: 270644.26 | EC40: 432048.94 | ED40: 517268.91 | EE40: 518784 | EF40: 497705.86 | EG40: 434835.29 | EH40: 454623.34 | EI40: 443273.15 | EJ40: 402881.25 | EK40: 449144.75 | EL40: 424753.92 | EO40: =SUM(EA40:EL40)
A41: 鄂州市 | B41: 规上+规下货运量 (万吨) | C41: 235.76325 | D41: =C41/T41-1 | E41: 164.41449 | F41: =E41/V41-1 | G41: 217.66524 | H41: =G41/X41-1 | I41: 206.79756 | J41: =I41/Z41-1 | K41: 205.90331 | L41: =K41/AB41-1 | M41: 211.58039 | N41: =M41/AD41-1 | O41: 196.92796 | P41: =O41/AF41-1 | Q41: =C41+E41+G41+I41+K41+M41+O41 | R41: =Q41/SUM(T41,V41,X41,Z41,AB41,AD41,AF41)-1 | T41: 195.91304 | U41: =T41/AV41-1 | V41: 182.27195 | W41: =V41/AX41-1 | X41: 216.19163 | Y41: =X41/AZ41-1 | Z41: 202.78727 | AA41: =Z41/BB41-1 | AB41: 191.11612 | AC41: =AB41/BD41-1 | AD41: 187.7133 | AE41: =AD41/BF41-1 | AF41: 190.36629 | AG41: =AF41/BH41-1 | AH41: 191.30773 | AI41: =AH41/BJ41-1 | AJ41: 229.13941 | AK41: =AJ41/BL41-1 | AL41: 211.34778 | AM41: =AL41/BN41-1 | AN41: 235.67972 | AO41: =AN41/BP41-1 | AP41: 280.00683 | AQ41: =AP41/BR41-1 | AR41: =T41+V41+X41+Z41+AB41+AD41+AF41+AH41+AJ41+AL41+AN41+AP41 | AS41: =AR41/SUM(AV41,AX41,AZ41,BB41,BD41,BF41,BH41,BJ41,BL41,BN41,BP41,BR41)-1 | AU41: =AV41+AX41+AZ41+BB41+BD41+BF41+BH41+BJ41+BL41+BN41+BP41 | AV41: 219.27187 | AW41: =AV41/BW41-1 | AX41: 123.12679 | AY41: =AX41/BY41-1 | AZ41: 185.31472 | BA41: =AZ41/CA41-1 | BB41: 182.92979 | BC41: =BB41/CC41-1 | BD41: 176.46675 | BE41: =BD41/CE41-1 | BF41: 171.2054 | BG41: =BF41/CG41-1 | BH41: 180.99815 | BI41: =BH41/CI41-1 | BJ41: 186.16484 | BK41: =BJ41/CK41-1 | BL41: 202.18519 | BM41: =BL41/CM41-1 | BN41: 204.7057 | BO41: =BN41/CO41-1 | BP41: 233.951 | BQ41: =BP41/CQ41-1 | BR41: 317.71251 | BS41: =BR41/CS41-1 | BT41: =AV41+AX41+AZ41+BB41+BD41+BF41+BH41+BJ41+BL41+BN41+BP41+BR41 | BU41: =BT41/SUM(BW41,BY41,CA41,CC41,CE41,CG41,CI41,CK41,CM41,CO41,CQ41,CS41)-1 | BW41: 122.95683 | BX41: =BW41/DK41-1 | BY41: 166.20302 | BZ41: =BY41/DL41-1 | CA41: 175.90424 | CB41: =CA41/DM41-1 | CC41: 152.61612 | CD41: =CC41/DN41-1 | CE41: 154.94697 | CF41: =CE41/DO41-1 | CG41: 170.372 | CH41: =CG41/DP41-1 | CI41: 170.23803 | CJ41: =CI41/DQ41-1 | CK41: 182.89364 | CL41: =CK41/DR41-1 | CM41: 189.9627 | CN41: =CM41/DS41-1 | CO41: 204.41103 | CP41: =CO41/DT41-1 | CQ41: 230.71038 | CR41: =CQ41/DV41-1 | CS41: 284.0787 | CT41: =CS41/DV41-1 | CU41: =BW41+BY41+CA41+CC41+CE41+CG41+CI41+CK41+CM41+CO41+CQ41+CS41 | CV41: =CU41/SUM(DK41:DV41)-1 | CX41: =CS41/CQ41-1 | CY41: =CQ41/CO41-1 | DK41: 132.45115 | DL41: 112.51967 | DM41: 148.25528 | DN41: 122.02851 | DO41: 136.39604 | DP41: 137.20266 | DQ41: 140.79796 | DR41: 144.12573 | DS41: 171.7438 | DT41: 174.76684 | DU41: 186.51028 | DV41: 175.37868 | DW41: -0.021942145 | DX41: 1782.1766 | DY41: -0.038393284 | EA41: 176.0401 | EB41: 92.701715 | EC41: 137.75565 | ED41: 155.06511 | EE41: 151.69987 | EF41: 171.86749 | EG41: 151.85829 | EH41: 142.96702 | EI41: 160.79222 | EJ41: 157.30369 | EK41: 175.96777 | EL41: 179.3132 | EO41: =SUM(EA41:EL41)
B42: 规上货运量 (万吨) | C42: 93.97 | D42: =C42/T42-1 | E42: 92.6829 | F42: =E42/V42-1 | G42: 136.4071 | H42: =G42/X42-1 | I42: 122.0455 | J42: =I42/Z42-1 | K42: 124.0954 | L42: =K42/AB42-1 | M42: 122.807 | N42: =M42/AD42-1 | O42: 88.2501 | P42: =O42/AF42-1 | Q42: =C42+E42+G42+I42+K42+M42+O42 | R42: =Q42/SUM(T42,V42,X42,Z42,AB42,AD42,AF42)-1 | T42: 84.0273 | U42: =T42/AV42-1 | V42: 81.7338 | W42: =V42/AX42-1 | X42: 96.8315 | Y42: =X42/AZ42-1 | Z42: 85.3601 | AA42: =Z42/BB42-1 | AB42: 71.0994 | AC42: =AB42/BD42-1 | AD42: 76.1559 | AE42: =AD42/BF42-1 | AF42: 66.5219 | AG42: =AF42/BH42-1 | AH42: 70.8388 | AI42: =AH42/BJ42-1 | AJ42: 126.7464 | AK42: =AJ42/BL42-1 | AL42: 88.3077 | AM42: =AL42/BN42-1 | AN42: 85.3593 | AO42: =AN42/BP42-1 | AP42: 83.883 | AQ42: =AP42/BR42-1 | AR42: =T42+V42+X42+Z42+AB42+AD42+AF42+AH42+AJ42+AL42+AN42+AP42 | AS42: =AR42/SUM(AV42,AX42,AZ42,BB42,BD42,BF42,BH42,BJ42,BL42,BN42,BP42,BR42)-1 | AU42: =AV42+AX42+AZ42+BB42+BD42+BF42+BH42+BJ42+BL42+BN42+BP42 | AV42: 101.1947 | AW42: =AV42/BW42-1 | AX42: 77.789 | AY42: =AX42/BY42-1 | AZ42: 77.1896 | BA42: =AZ42/CA42-1 | BB42: 72.5423 | BC42: =BB42/CC42-1 | BD42: 69.727 | BE42: =BD42/CE42-1 | BF42: 64.1551 | BG42: =BF42/CG42-1 | BH42: 62.3931 | BI42: =BH42/CI42-1 | BJ42: 61.5147 | BK42: =BJ42/CK42-1 | BL42: 61.174 | BM42: =BL42/CM42-1 | BN42: 63.9498 | BO42: =BN42/CO42-1 | BP42: 83.1536 | BQ42: =BP42/CQ42-1 | BR42: 180.2308 | BS42: =BR42/CS42-1 | BT42: =AV42+AX42+AZ42+BB42+BD42+BF42+BH42+BJ42+BL42+BN42+BP42+BR42 | BU42: =BT42/SUM(BW42,BY42,CA42,CC42,CE42,CG42,CI42,CK42,CM42,CO42,CQ42,CS42)-1 | BW42: 86.538 | BX42: =BW42/DK42-1 | BY42: 90.4582 | BZ42: =BY42/DL42-1 | CA42: 93.156 | CB42: =CA42/DM42-1 | CC42: 71.7862 | CD42: =CC42/DN42-1 | CE42: 61.9547 | CF42: =CE42/DO42-1 | CG42: 96.8956 | CH42: =CG42/DP42-1 | CI42: 85.4061 | CJ42: =CI42/DQ42-1 | CK42: 82.1584 | CL42: =CK42/DR42-1 | CM42: 78.451 | CN42: =CM42/DS42-1 | CO42: 88.2578 | CP42: =CO42/DT42-1 | CQ42: 127.9715 | CR42: =CQ42/DV42-1 | CS42: 168.9565 | CT42: =CS42/DV42-1 | CU42: =BW42+BY42+CA42+CC42+CE42+CG42+CI42+CK42+CM42+CO42+CQ42+CS42 | CV42: =CU42/SUM(DK42:DV42)-1 | CX42: =CS42/CQ42-1 | CY42: =CQ42/CO42-1 | DJ42: 鄂州市 | DK42: 21.2831 | DL42: 18.8042 | DM42: 19.3388 | DN42: 19.3293 | DO42: 19.4142 | DP42: 31.3136 | DQ42: 32.1749 | DR42: 31.8066 | DS42: 63.5782 | DT42: 80.7801 | DU42: 83.1049 | DV42: 74.8407 | DW42: 2.7340628 | DX42: 495.7686 | DY42: 0.85326574 | EA42: 23.9025 | EB42: 22.1369 | EC42: 25.7831 | ED42: 23.2322 | EE42: 21.118 | EF42: 22.2616 | EG42: 20.4522 | EH42: 22.1513 | EI42: 22.4784 | EJ42: 22.6202 | EK42: 21.3317 | EL42: 20.0427 | EO42: =SUM(EA42:EL42)
B43: 规下货运量 (万吨) | C43: 141.79325 | D43: =C43/T43-1 | E43: 71.731591 | F43: =E43/V43-1 | G43: 81.258139 | H43: =G43/X43-1 | I43: 84.752065 | J43: =I43/Z43-1 | K43: 81.80791 | L43: =K43/AB43-1 | M43: 88.77339 | N43: =M43/AD43-1 | O43: 108.67786 | P43: =O43/AF43-1 | Q43: =C43+E43+G43+I43+K43+M43+O43 | R43: =Q43/SUM(T43,V43,X43,Z43,AB43,AD43,AF43)-1 | T43: 111.88574 | U43: =T43/AV43-1 | V43: 100.53815 | W43: =V43/AX43-1 | X43: 119.36013 | Y43: =X43/AZ43-1 | Z43: 117.42717 | AA43: =Z43/BB43-1 | AB43: 120.01672 | AC43: =AB43/BD43-1 | AD43: 111.5574 | AE43: =AD43/BF43-1 | AF43: 123.84439 | AG43: =AF43/BH43-1 | AH43: 120.46893 | AI43: =AH43/BJ43-1 | AJ43: 102.39301 | AK43: =AJ43/BL43-1 | AL43: 123.04008 | AM43: =AL43/BN43-1 | AN43: 150.32042 | AO43: =AN43/BP43-1 | AP43: 196.12383 | AQ43: =AP43/BR43-1 | AR43: =T43+V43+X43+Z43+AB43+AD43+AF43+AH43+AJ43+AL43+AN43+AP43 | AS43: =AR43/SUM(AV43,AX43,AZ43,BB43,BD43,BF43,BH43,BJ43,BL43,BN43,BP43,BR43)-1 | AU43: =AV43+AX43+AZ43+BB43+BD43+BF43+BH43+BJ43+BL43+BN43+BP43 | AV43: 118.07717 | AW43: =AV43/BW43-1 | AX43: 45.337793 | AY43: =AX43/BY43-1 | AZ43: 108.12512 | BA43: =AZ43/CA43-1 | BB43: 110.38749 | BC43: =BB43/CC43-1 | BD43: 106.73975 | BE43: =BD43/CE43-1 | BF43: 107.0503 | BG43: =BF43/CG43-1 | BH43: 118.60505 | BI43: =BH43/CI43-1 | BJ43: 124.65014 | BK43: =BJ43/CK43-1 | BL43: 141.01119 | BM43: =BL43/CM43-1 | BN43: 140.7559 | BO43: =BN43/CO43-1 | BP43: 150.7974 | BQ43: =BP43/CQ43-1 | BR43: 137.48171 | BS43: =BR43/CS43-1 | BT43: =AV43+AX43+AZ43+BB43+BD43+BF43+BH43+BJ43+BL43+BN43+BP43+BR43 | BU43: =BT43/SUM(BW43,BY43,CA43,CC43,CE43,CG43,CI43,CK43,CM43,CO43,CQ43,CS43)-1 | BW43: 36.418834 | BX43: =BW43/DK43-1 | BY43: 75.744819 | BZ43: =BY43/DL43-1 | CA43: 82.748244 | CB43: =CA43/DM43-1 | CC43: 80.829915 | CD43: =CC43/DN43-1 | CE43: 92.992274 | CF43: =CE43/DO43-1 | CG43: 73.476402 | CH43: =CG43/DP43-1 | CI43: 84.831931 | CJ43: =CI43/DQ43-1 | CK43: 100.73524 | CL43: =CK43/DR43-1 | CM43: 111.5117 | CN43: =CM43/DS43-1 | CO43: 116.15323 | CP43: =CO43/DT43-1 | CQ43: 102.73888 | CR43: =CQ43/DV43-1 | CS43: 115.1222 | CT43: =CS43/DV43-1 | CU43: =BW43+BY43+CA43+CC43+CE43+CG43+CI43+CK43+CM43+CO43+CQ43+CS43 | CV43: =CU43/SUM(DK43:DV43)-1 | CX43: =CS43/CQ43-1 | CY43: =CQ43/CO43-1 | DK43: 111.16805 | DL43: 93.715472 | DM43: 128.91648 | DN43: 102.69921 | DO43: 116.98184 | DP43: 105.88906 | DQ43: 108.62306 | DR43: 112.31913 | DS43: 108.1656 | DT43: 93.986742 | DU43: 103.40538 | DV43: 100.53798 | DW43: -0.36875955 | DX43: 1286.408 | DY43: -0.18880646 | EA43: 152.1376 | EB43: 70.564815 | EC43: 111.97255 | ED43: 131.83291 | EE43: 130.58187 | EF43: 149.60589 | EG43: 131.40609 | EH43: 120.81572 | EI43: 138.31382 | EJ43: 134.68349 | EK43: 154.63607 | EL43: 159.2705 | EO43: =SUM(EA43:EL43)
B44: 规上+规下周转量 (万吨公里) | C44: =C45+C46 | D44: =C44/T44-1 | E44: =E45+E46 | F44: =E44/V44-1 | G44: =G45+G46 | H44: =G44/X44-1 | I44: =I45+I46 | J44: =I44/Z44-1 | K44: =K45+K46 | L44: =K44/AB44-1 | M44: =M45+M46 | N44: =M44/AD44-1 | O44: =O45+O46 | P44: =O44/AF44-1 | Q44: =C44+E44+G44+I44+K44+M44+O44 | R44: =Q44/SUM(T44,V44,X44,Z44,AB44,AD44,AF44)-1 | T44: =T45+T46 | U44: =T44/AV44-1 | V44: =V45+V46 | W44: =V44/AX44-1 | X44: =X45+X46 | Y44: =X44/AZ44-1 | Z44: =Z45+Z46 | AA44: =Z44/BB44-1 | AB44: =AB45+AB46 | AC44: =AB44/BD44-1 | AD44: =AD45+AD46 | AE44: =AD44/BF44-1 | AF44: =AF45+AF46 | AG44: =AF44/BH44-1 | AH44: =AH45+AH46 | AI44: =AH44/BJ44-1 | AJ44: =AJ45+AJ46 | AK44: =AJ44/BL44-1 | AL44: =AL45+AL46 | AM44: =AL44/BN44-1 | AN44: =AN45+AN46 | AO44: =AN44/BP44-1 | AP44: =AP45+AP46 | AQ44: =AP44/BR44-1 | AR44: =T44+V44+X44+Z44+AB44+AD44+AF44+AH44+AJ44+AL44+AN44+AP44 | AS44: =AR44/SUM(AV44,AX44,AZ44,BB44,BD44,BF44,BH44,BJ44,BL44,BN44,BP44,BR44)-1 | AU44: =AV44+AX44+AZ44+BB44+BD44+BF44+BH44+BJ44+BL44+BN44+BP44 | AV44: =AV45+AV46 | AW44: =AV44/BW44-1 | AX44: =AX45+AX46 | AY44: =AX44/BY44-1 | AZ44: =AZ45+AZ46 | BA44: =AZ44/CA44-1 | BB44: =BB45+BB46 | BC44: =BB44/CC44-1 | BD44: =BD45+BD46 | BE44: =BD44/CE44-1 | BF44: =BF45+BF46 | BG44: =BF44/CG44-1 | BH44: =BH45+BH46 | BI44: =BH44/CI44-1 | BJ44: =BJ45+BJ46 | BK44: =BJ44/CK44-1 | BL44: =BL45+BL46 | BM44: =BL44/CM44-1 | BN44: =BN45+BN46 | BO44: =BN44/CO44-1 | BP44: =BP45+BP46 | BQ44: =BP44/CQ44-1 | BR44: =BR45+BR46 | BS44: =BR44/CS44-1 | BT44: =AV44+AX44+AZ44+BB44+BD44+BF44+BH44+BJ44+BL44+BN44+BP44+BR44 | BU44: =BT44/SUM(BW44,BY44,CA44,CC44,CE44,CG44,CI44,CK44,CM44,CO44,CQ44,CS44)-1 | BW44: =BW45+BW46 | BX44: =BW44/DK44-1 | BY44: =BY45+BY46 | BZ44: =BY44/DL44-1 | CA44: =SUM(CA45:CA46) | CB44: =CA44/DM44-1 | CC44: 11523.967 | CD44: =CC44/DN44-1 | CE44: 11825.409 | CF44: =CE44/DO44-1 | CG44: =CG45+CG46 | CH44: =CG44/DP44-1 | CI44: =CI45+CI46 | CJ44: =CI44/DQ44-1 | CK44: 14607.443 | CL44: =CK44/DR44-1 | CM44: =SUM(CM45:CM46) | CN44: =CM44/DS44-1 | CO44: =SUM(CO45:CO46) | CP44: =CO44/DT44-1 | CQ44: =CQ45+CQ46 | CR44: =CQ44/DV44-1 | CS44: =CS45+CS46 | CT44: =CS44/DV44-1 | CU44: =BW44+BY44+CA44+CC44+CE44+CG44+CI44+CK44+CM44+CO44+CQ44+CS44 | CV44: =CU44/SUM(DK44:DV44)-1 | CX44: =CS44/CQ44-1 | CY44: =CQ44/CO44-1 | DK44: 11810.063 | DL44: 8862.817 | DM44: 11928.379 | DN44: 10229.364 | DO44: 11394.397 | DP44: 11246.531 | DQ44: 11264.567 | DR44: 11871.834 | DS44: 14642.992 | DT44: 17387.157 | DU44: 19584.1 | DV44: 19534.297 | DW44: 0.24760649 | DX44: 159756.5 | DY44: 0.062855493 | EA44: =EA45+EA46 | EB44: =EB45+EB46 | EC44: =EC45+EC46 | ED44: =ED45+ED46 | EE44: =EE45+EE46 | EF44: =EF45+EF46 | EG44: =EG45+EG46 | EH44: =EH45+EH46 | ... EL44: =EL45+EL46
B45: 规上货物周转量 (万吨公里) | C45: 5007.3952 | D45: =C45/T45-1 | E45: 5066.8202 | F45: =E45/V45-1 | G45: 5704.8297 | H45: =G45/X45-1 | I45: 5032.3218 | J45: =I45/Z45-1 | K45: 4849.3545 | L45: =K45/AB45-1 | M45: 4836.8822 | N45: =M45/AD45-1 | O45: 1218.075 | P45: =O45/AF45-1 | Q45: =C45+E45+G45+I45+K45+M45+O45 | R45: =Q45/SUM(T45,V45,X45,Z45,AB45,AD45,AF45)-1 | T45: 9068.2468 | U45: =T45/AV45-1 | V45: 9680.8379 | W45: =V45/AX45-1 | X45: 11953.36 | Y45: =X45/AZ45-1 | Z45: 9669.4584 | AA45: =Z45/BB45-1 | AB45: 9017.4726 | AC45: =AB45/BD45-1 | AD45: 9124.7544 | AE45: =AD45/BF45-1 | AF45: 3124.053 | AG45: =AF45/BH45-1 | AH45: 3825.4544 | AI45: =AH45/BJ45-1 | AJ45: 4235.0173 | AK45: =AJ45/BL45-1 | AL45: 4101.1481 | AM45: =AL45/BN45-1 | AN45: 4113.2192 | AO45: =AN45/BP45-1 | AP45: 4842.5816 | AQ45: =AP45/BR45-1 | AR45: =T45+V45+X45+Z45+AB45+AD45+AF45+AH45+AJ45+AL45+AN45+AP45 | AS45: =AR45/SUM(AV45,AX45,AZ45,BB45,BD45,BF45,BH45,BJ45,BL45,BN45,BP45,BR45)-1 | AU45: =AV45+AX45+AZ45+BB45+BD45+BF45+BH45+BJ45+BL45+BN45+BP45 | AV45: 12268.24 | AW45: =AV45/BW45-1 | AX45: 9720.5574 | AY45: =AX45/BY45-1 | AZ45: 7885.7407 | BA45: =AZ45/CA45-1 | BB45: 6686.513 | BC45: =BB45/CC45-1 | BD45: 6147.9087 | BE45: =BD45/CE45-1 | BF45: 6191.5628 | BG45: =BF45/CG45-1 | BH45: 5327.3178 | BI45: =BH45/CI45-1 | BJ45: 4857.5721 | BK45: =BJ45/CK45-1 | BL45: 4139.3543 | BM45: =BL45/CM45-1 | BN45: 4839.8041 | BO45: =BN45/CO45-1 | BP45: 7082.2041 | BQ45: =BP45/CQ45-1 | BR45: 23941.41 | BS45: =BR45/CS45-1 | BT45: =AV45+AX45+AZ45+BB45+BD45+BF45+BH45+BJ45+BL45+BN45+BP45+BR45 | BU45: =BT45/SUM(BW45,BY45,CA45,CC45,CE45,CG45,CI45,CK45,CM45,CO45,CQ45,CS45)-1 | BW45: 10184.5 | BX45: =BW45/DK45-1 | BY45: 10234.405 | BZ45: =BY45/DL45-1 | CA45: 7680.2464 | CB45: =CA45/DM45-1 | CC45: 5897.9108 | CD45: =CC45/DN45-1 | CE45: 4706.9139 | CF45: =CE45/DO45-1 | CG45: 9486.4745 | CH45: =CG45/DP45-1 | CI45: 8393.393 | CJ45: =CI45/DQ45-1 | CK45: 8451.9214 | CL45: =CK45/DR45-1 | CM45: 7849.4443 | CN45: =CM45/DS45-1 | CO45: 8990.8204 | CP45: =CO45/DT45-1 | CQ45: 12933.619 | CR45: =CQ45/DV45-1 | CS45: 18753.693 | CT45: =CS45/DV45-1 | CU45: =BW45+BY45+CA45+CC45+CE45+CG45+CI45+CK45+CM45+CO45+CQ45+CS45 | CV45: =CU45/SUM(DK45:DV45)-1 | CX45: =CS45/CQ45-1 | CY45: =CQ45/CO45-1 | DK45: 755.9882 | DL45: 684.2742 | DM45: 651.8818 | DN45: 643.9735 | DO45: 688.5369 | DP45: 876.726 | DQ45: 812.8072 | DR45: 851.8567 | DS45: 8686.5939 | DT45: 10152.19 | DU45: 11338.333 | DV45: 11156.691 | DW45: 13.802762 | DX45: 47299.852 | DY45: 3.9685116 | EA45: 936.8451 | EB45: 756.8276 | EC45: 945.0325 | ED45: 781.1431 | EE45: 733.3142 | EF45: 695.4321 | EG45: 709.7047 | EH45: 772.2527 | EI45: 835.6722 | EJ45: 807.7691 | EK45: 792.2406 | EL45: 753.6898 | EO45: =SUM(EA45:EL45)
B46: 规下货物周转量 (万吨公里) | C46: 12111.639 | D46: =C46/T46-1 | E46: 7750.9291 | F46: =E46/V46-1 | G46: 9832.8512 | H46: =G46/X46-1 | I46: 9247.5514 | J46: =I46/Z46-1 | K46: 9038.5294 | L46: =K46/AB46-1 | M46: 10174.928 | N46: =M46/AD46-1 | O46: 11561.256 | P46: =O46/AF46-1 | Q46: =C46+E46+G46+I46+K46+M46+O46 | R46: =Q46/SUM(T46,V46,X46,Z46,AB46,AD46,AF46)-1 | T46: 6716.8802 | U46: =T46/AV46-1 | V46: 6035.1024 | W46: =V46/AX46-1 | X46: 5090.1979 | Y46: =X46/AZ46-1 | Z46: 5504.5102 | AA46: =Z46/BB46-1 | AB46: 5875.1643 | AC46: =AB46/BD46-1 | AD46: 6301.8675 | AE46: =AD46/BF46-1 | AF46: 10035.491 | AG46: =AF46/BH46-1 | AH46: 9747.6741 | AI46: =AH46/BJ46-1 | AJ46: 10711.691 | AK46: =AJ46/BL46-1 | AL46: 11633.958 | AM46: =AL46/BN46-1 | AN46: 13808.997 | AO46: =AN46/BP46-1 | AP46: 16254.927 | AQ46: =AP46/BR46-1 | AR46: =T46+V46+X46+Z46+AB46+AD46+AF46+AH46+AJ46+AL46+AN46+AP46 | AS46: =AR46/SUM(AV46,AX46,AZ46,BB46,BD46,BF46,BH46,BJ46,BL46,BN46,BP46,BR46)-1 | AU46: =AV46+AX46+AZ46+BB46+BD46+BF46+BH46+BJ46+BL46+BN46+BP46 | AV46: 6078.7719 | AW46: =AV46/BW46-1 | AX46: 1641.2202 | AY46: =AX46/BY46-1 | AZ46: 6708.3607 | BA46: =AZ46/CA46-1 | BB46: 6533.3717 | BC46: =BB46/CC46-1 | BD46: 6753.6122 | BE46: =BD46/CE46-1 | BF46: 7170.9925 | BG46: =BF46/CG46-1 | BH46: 8115.4519 | BI46: =BH46/CI46-1 | BJ46: 8829.2485 | BK46: =BJ46/CK46-1 | BL46: 10357.472 | BM46: =BL46/CM46-1 | BN46: 11361.731 | BO46: =BN46/CO46-1 | BP46: 12094.316 | BQ46: =BP46/CQ46-1 | BR46: 4483.8835 | BS46: =BR46/CS46-1 | BT46: =AV46+AX46+AZ46+BB46+BD46+BF46+BH46+BJ46+BL46+BN46+BP46+BR46 | BU46: =BT46/SUM(BW46,BY46,CA46,CC46,CE46,CG46,CI46,CK46,CM46,CO46,CQ46,CS46)-1 | BW46: 1644.9521 | BX46: =BW46/DK46-1 | BY46: 3575.5507 | BZ46: =BY46/DL46-1 | CA46: 5807.4933 | CB46: =CA46/DM46-1 | CC46: 5626.0564 | CD46: =CC46/DN46-1 | CE46: 7118.4954 | CF46: =CE46/DO46-1 | CG46: 4314.6762 | CH46: =CG46/DP46-1 | CI46: 5023.1922 | CJ46: =CI46/DQ46-1 | CK46: 6155.5217 | CL46: =CK46/DR46-1 | CM46: 7626.6529 | CN46: =CM46/DS46-1 | CO46: 8683.256 | CP46: =CO46/DT46-1 | CQ46: 8110.5402 | CR46: =CQ46/DV46-1 | CS46: 5785.185 | CT46: =CS46/DV46-1 | CU46: =BW46+BY46+CA46+CC46+CE46+CG46+CI46+CK46+CM46+CO46+CQ46+CS46 | CV46: =CU46/SUM(DK46:DV46)-1 | CX46: =CS46/CQ46-1 | CY46: =CQ46/CO46-1 | DK46: 11054.075 | DL46: 8178.5428 | DM46: 11276.497 | DN46: 9585.3904 | DO46: 10705.86 | DP46: 10369.805 | DQ46: 10451.76 | DR46: 11019.977 | DS46: 5956.3979 | DT46: 7234.967 | DU46: 8245.7671 | DV46: 8377.6059 | DW46: -0.43788523 | DX46: 112456.64 | DY46: -0.20123894 | EA46: 13324.865 | EB46: 7063.9954 | EC46: 9386.1533 | ED46: 10928.412 | EE46: 10802.125 | EF46: 12396.191 | EG46: 10982.691 | EH46: 11656.793 | EI46: 12449.396 | EJ46: 12366.421 | EK46: 14528.07 | EL46: 14903.729 | EO46: =SUM(EA46:EL46)
A47: 荆门市 | B47: 规上+规下货运量 (万吨) | C47: 1048.4686 | D47: =C47/T47-1 | E47: 667.30608 | F47: =E47/V47-1 | G47: 1044.845 | H47: =G47/X47-1 | I47: 1125.1053 | J47: =I47/Z47-1 | K47: 1162.9345 | L47: =K47/AB47-1 | M47: 1064.7373 | N47: =M47/AD47-1 | O47: 1060.9465 | P47: =O47/AF47-1 | Q47: =C47+E47+G47+I47+K47+M47+O47 | R47: =Q47/SUM(T47,V47,X47,Z47,AB47,AD47,AF47)-1 | T47: 843.36333 | U47: =T47/AV47-1 | V47: 771.76599 | W47: =V47/AX47-1 | X47: 1059.9716 | Y47: =X47/AZ47-1 | Z47: 1115.7235 | AA47: =Z47/BB47-1 | AB47: 1131.028 | AC47: =AB47/BD47-1 | AD47: 1001.1107 | AE47: =AD47/BF47-1 | AF47: 1056.7347 | AG47: =AF47/BH47-1 | AH47: 984.90862 | AI47: =AH47/BJ47-1 | AJ47: 1025.3874 | AK47: =AJ47/BL47-1 | AL47: 919.3459 | AM47: =AL47/BN47-1 | AN47: 976.13897 | AO47: =AN47/BP47-1 | AP47: 1003.6947 | AQ47: =AP47/BR47-1 | AR47: =T47+V47+X47+Z47+AB47+AD47+AF47+AH47+AJ47+AL47+AN47+AP47 | AS47: =AR47/SUM(AV47,AX47,AZ47,BB47,BD47,BF47,BH47,BJ47,BL47,BN47,BP47,BR47)-1 | AU47: =AV47+AX47+AZ47+BB47+BD47+BF47+BH47+BJ47+BL47+BN47+BP47 | AV47: 895.22303 | AW47: =AV47/BW47-1 | AX47: 471.32244 | AY47: =AX47/BY47-1 | AZ47: 967.00903 | BA47: =AZ47/CA47-1 | BB47: 1013.0724 | BC47: =BB47/CC47-1 | BD47: 1056.1509 | BE47: =BD47/CE47-1 | BF47: 946.29741 | BG47: =BF47/CG47-1 | BH47: 993.24623 | BI47: =BH47/CI47-1 | BJ47: 951.8174 | BK47: =BJ47/CK47-1 | BL47: 958.708 | BM47: =BL47/CM47-1 | BN47: 912.76834 | BO47: =BN47/CO47-1 | BP47: 953.40632 | BQ47: =BP47/CQ47-1 | BR47: 992.31021 | BS47: =BR47/CS47-1 | BT47: =AV47+AX47+AZ47+BB47+BD47+BF47+BH47+BJ47+BL47+BN47+BP47+BR47 | BU47: =BT47/SUM(BW47,BY47,CA47,CC47,CE47,CG47,CI47,CK47,CM47,CO47,CQ47,CS47)-1 | BW47: 559.75554 | BX47: =BW47/DK47-1 | BY47: 772.78628 | BZ47: =BY47/DL47-1 | CA47: 945.63761 | CB47: =CA47/DM47-1 | CC47: 912.57637 | CD47: =CC47/DN47-1 | CE47: 964.47287 | CF47: =CE47/DO47-1 | CG47: 975.53141 | CH47: =CG47/DP47-1 | CI47: 982.60622 | CJ47: =CI47/DQ47-1 | CK47: 905.82593 | CL47: =CK47/DR47-1 | CM47: 955.81499 | CN47: =CM47/DS47-1 | CO47: 859.52439 | CP47: =CO47/DT47-1 | CQ47: 895.51628 | CR47: =CQ47/DV47-1 | CS47: 866.93876 | CT47: =CS47/DV47-1 | CU47: =BW47+BY47+CA47+CC47+CE47+CG47+CI47+CK47+CM47+CO47+CQ47+CS47 | CV47: =CU47/SUM(DK47:DV47)-1 | CX47: =CS47/CQ47-1 | CY47: =CQ47/CO47-1 | DK47: 625.40478 | DL47: 481.26393 | DM47: 731.60097 | DN47: 729.8976 | DO47: 828.66506 | DP47: 782.04748 | DQ47: 831.18005 | DR47: 679.19798 | DS47: 860.38835 | DT47: 702.78367 | DU47: 749.18982 | DV47: 794.40724 | DW47: -0.068951003 | DX47: 8796.0269 | DY47: -0.09449012 | EA47: 866.56391 | EB47: 381.29786 | EC47: 706.50154 | ED47: 903.28573 | EE47: 958.99271 | EF47: 1044.1303 | EG47: 902.97085 | EH47: 605.57545 | EI47: 844.24864 | EJ47: 764.13328 | EK47: 882.95473 | EL47: 853.23892 | EO47: =SUM(EA47:EL47)
B48: 规上货运量 (万吨) | C48: 81.4962 | D48: =C48/T48-1 | E48: 61.1436 | F48: =E48/V48-1 | G48: 80.3358 | H48: =G48/X48-1 | I48: 82.9171 | J48: =I48/Z48-1 | K48: 86.6882 | L48: =K48/AB48-1 | M48: 81.6839 | N48: =M48/AD48-1 | O48: 77.6389 | P48: =O48/AF48-1 | Q48: =C48+E48+G48+I48+K48+M48+O48 | R48: =Q48/SUM(T48,V48,X48,Z48,AB48,AD48,AF48)-1 | T48: 88.2036 | U48: =T48/AV48-1 | V48: 66.8519 | W48: =V48/AX48-1 | X48: 82.1034 | Y48: =X48/AZ48-1 | Z48: 83.3415 | AA48: =Z48/BB48-1 | AB48: 103.3841 | AC48: =AB48/BD48-1 | AD48: 87.661 | AE48: =AD48/BF48-1 | AF48: 87.546 | AG48: =AF48/BH48-1 | AH48: 82.6829 | AI48: =AH48/BJ48-1 | AJ48: 80.5562 | AK48: =AJ48/BL48-1 | AL48: 76.3913 | AM48: =AL48/BN48-1 | AN48: 80.6073 | AO48: =AN48/BP48-1 | AP48: 86.5227 | AQ48: =AP48/BR48-1 | AR48: =T48+V48+X48+Z48+AB48+AD48+AF48+AH48+AJ48+AL48+AN48+AP48 | AS48: =AR48/SUM(AV48,AX48,AZ48,BB48,BD48,BF48,BH48,BJ48,BL48,BN48,BP48,BR48)-1 | AU48: =AV48+AX48+AZ48+BB48+BD48+BF48+BH48+BJ48+BL48+BN48+BP48 | AV48: 91.5946 | AW48: =AV48/BW48-1 | AX48: 61.9119 | AY48: =AX48/BY48-1 | AZ48: 93.9859 | BA48: =AZ48/CA48-1 | BB48: 96.6005 | BC48: =BB48/CC48-1 | BD48: 93.3483 | BE48: =BD48/CE48-1 | BF48: 86.854 | BG48: =BF48/CG48-1 | BH48: 85.5861 | BI48: =BH48/CI48-1 | BJ48: 90.5787 | BK48: =BJ48/CK48-1 | BL48: 92.9506 | BM48: =BL48/CM48-1 | BN48: 91.5559 | BO48: =BN48/CO48-1 | BP48: 95.2369 | BQ48: =BP48/CQ48-1 | BR48: 100.91 | BS48: =BR48/CS48-1 | BT48: =AV48+AX48+AZ48+BB48+BD48+BF48+BH48+BJ48+BL48+BN48+BP48+BR48 | BU48: =BT48/SUM(BW48,BY48,CA48,CC48,CE48,CG48,CI48,CK48,CM48,CO48,CQ48,CS48)-1 | BW48: 42.301 | BX48: =BW48/DK48-1 | BY48: 48.5294 | BZ48: =BY48/DL48-1 | CA48: 55.6752 | CB48: =CA48/DM48-1 | CC48: 56.9304 | CD48: =CC48/DN48-1 | CE48: 60.0889 | CF48: =CE48/DO48-1 | CG48: 57.8037 | CH48: =CG48/DP48-1 | CI48: 58.9229 | CJ48: =CI48/DQ48-1 | CK48: 63.7684 | CL48: =CK48/DR48-1 | CM48: 58.7578 | CN48: =CM48/DS48-1 | CO48: 62.7845 | CP48: =CO48/DT48-1 | CQ48: 63.8132 | CR48: =CQ48/DV48-1 | CS48: 59.9257 | CT48: =CS48/DV48-1 | CU48: =BW48+BY48+CA48+CC48+CE48+CG48+CI48+CK48+CM48+CO48+CQ48+CS48 | CV48: =CU48/SUM(DK48:DV48)-1 | CX48: =CS48/CQ48-1 | CY48: =CQ48/CO48-1 | DJ48: 荆门市 | DK48: 29.7853 | DL48: 20.6456 | DM48: 24.0453 | DN48: 26.3105 | DO48: 27.2956 | DP48: 27.9794 | DQ48: 26.7152 | DR48: 25.2666 | DS48: 26.169 | DT48: 25.3269 | DU48: 27.5938 | DV48: 28.8581 | DW48: 0.80662347 | DX48: 315.9913 | DY48: 0.85280632 | EA48: 18.8902 | EB48: 10.2183 | EC48: 13.1202 | ED48: 15.2223 | EE48: 14.0881 | EF48: 14.3922 | EG48: 15.823 | EH48: 8.0435 | EI48: 13.6418 | EJ48: 15.0801 | EK48: 16.0542 | EL48: 15.9735 | EO48: =SUM(EA48:EL48)
B49: 规下货运量 (万吨) | C49: 966.97244 | D49: =C49/T49-1 | E49: 606.16248 | F49: =E49/V49-1 | G49: 964.50917 | H49: =G49/X49-1 | I49: 1042.1882 | J49: =I49/Z49-1 | K49: 1076.2463 | L49: =K49/AB49-1 | M49: 983.05345 | N49: =M49/AD49-1 | O49: 983.30763 | P49: =O49/AF49-1 | Q49: =C49+E49+G49+I49+K49+M49+O49 | R49: =Q49/SUM(T49,V49,X49,Z49,AB49,AD49,AF49)-1 | T49: 755.15973 | U49: =T49/AV49-1 | V49: 704.91409 | W49: =V49/AX49-1 | X49: 977.86823 | Y49: =X49/AZ49-1 | Z49: 1032.382 | AA49: =Z49/BB49-1 | AB49: 1027.6439 | AC49: =AB49/BD49-1 | AD49: 913.44966 | AE49: =AD49/BF49-1 | AF49: 969.18874 | AG49: =AF49/BH49-1 | AH49: 902.22572 | AI49: =AH49/BJ49-1 | AJ49: 944.83123 | AK49: =AJ49/BL49-1 | AL49: 842.9546 | AM49: =AL49/BN49-1 | AN49: 895.53167 | AO49: =AN49/BP49-1 | AP49: 917.17198 | AQ49: =AP49/BR49-1 | AR49: =T49+V49+X49+Z49+AB49+AD49+AF49+AH49+AJ49+AL49+AN49+AP49 | AS49: =AR49/SUM(AV49,AX49,AZ49,BB49,BD49,BF49,BH49,BJ49,BL49,BN49,BP49,BR49)-1 | AU49: =AV49+AX49+AZ49+BB49+BD49+BF49+BH49+BJ49+BL49+BN49+BP49 | AV49: 803.62843 | AW49: =AV49/BW49-1 | AX49: 409.41054 | AY49: =AX49/BY49-1 | AZ49: 873.02313 | BA49: =AZ49/CA49-1 | BB49: 916.47191 | BC49: =BB49/CC49-1 | BD49: 962.80261 | BE49: =BD49/CE49-1 | BF49: 859.44341 | BG49: =BF49/CG49-1 | BH49: 907.66013 | BI49: =BH49/CI49-1 | BJ49: 861.2387 | BK49: =BJ49/CK49-1 | BL49: 865.7574 | BM49: =BL49/CM49-1 | BN49: 821.21244 | BO49: =BN49/CO49-1 | BP49: 858.16942 | BQ49: =BP49/CQ49-1 | BR49: 891.40021 | BS49: =BR49/CS49-1 | BT49: =AV49+AX49+AZ49+BB49+BD49+BF49+BH49+BJ49+BL49+BN49+BP49+BR49 | BU49: =BT49/SUM(BW49,BY49,CA49,CC49,CE49,CG49,CI49,CK49,CM49,CO49,CQ49,CS49)-1 | BW49: 517.45454 | BX49: =BW49/DK49-1 | BY49: 724.25688 | BZ49: =BY49/DL49-1 | CA49: 889.96241 | CB49: =CA49/DM49-1 | CC49: 855.64597 | CD49: =CC49/DN49-1 | CE49: 904.38397 | CF49: =CE49/DO49-1 | CG49: 917.72771 | CH49: =CG49/DP49-1 | CI49: 923.68332 | CJ49: =CI49/DQ49-1 | CK49: 842.05753 | CL49: =CK49/DR49-1 | CM49: 897.05719 | CN49: =CM49/DS49-1 | CO49: 796.73989 | CP49: =CO49/DT49-1 | CQ49: 831.70308 | CR49: =CQ49/DV49-1 | CS49: 807.01306 | CT49: =CS49/DV49-1 | CU49: =BW49+BY49+CA49+CC49+CE49+CG49+CI49+CK49+CM49+CO49+CQ49+CS49 | CV49: =CU49/SUM(DK49:DV49)-1 | CX49: =CS49/CQ49-1 | CY49: =CQ49/CO49-1 | DK49: 595.61948 | DL49: 460.61833 | DM49: 707.55567 | DN49: 703.5871 | DO49: 801.36946 | DP49: 754.06808 | DQ49: 804.46485 | DR49: 653.93138 | DS49: 834.21935 | DT49: 677.45677 | DU49: 721.59602 | DV49: 765.54914 | DW49: -0.08565537 | DX49: 8480.0356 | DY49: -0.11141908 | EA49: 847.67371 | EB49: 371.07956 | EC49: 693.38134 | ED49: 888.06343 | EE49: 944.90461 | EF49: 1029.7381 | EG49: 887.14785 | EH49: 597.53195 | EI49: 830.60684 | EJ49: 749.05318 | EK49: 866.90053 | EL49: 837.26542 | EO49: =SUM(EA49:EL49)
B50: 规上+规下周转量 (万吨公里) | C50: =C51+C52 | D50: =C50/T50-1 | E50: =E51+E52 | F50: =E50/V50-1 | G50: =G51+G52 | H50: =G50/X50-1 | I50: =I51+I52 | J50: =I50/Z50-1 | K50: =K51+K52 | L50: =K50/AB50-1 | M50: =M51+M52 | N50: =M50/AD50-1 | O50: =O51+O52 | P50: =O50/AF50-1 | Q50: =C50+E50+G50+I50+K50+M50+O50 | R50: =Q50/SUM(T50,V50,X50,Z50,AB50,AD50,AF50)-1 | T50: =T51+T52 | U50: =T50/AV50-1 | V50: =V51+V52 | W50: =V50/AX50-1 | X50: =X51+X52 | Y50: =X50/AZ50-1 | Z50: =Z51+Z52 | AA50: =Z50/BB50-1 | AB50: =AB51+AB52 | AC50: =AB50/BD50-1 | AD50: =AD51+AD52 | AE50: =AD50/BF50-1 | AF50: =AF51+AF52 | AG50: =AF50/BH50-1 | AH50: =AH51+AH52 | AI50: =AH50/BJ50-1 | AJ50: =AJ51+AJ52 | AK50: =AJ50/BL50-1 | AL50: =AL51+AL52 | AM50: =AL50/BN50-1 | AN50: =AN51+AN52 | AO50: =AN50/BP50-1 | AP50: =AP51+AP52 | AQ50: =AP50/BR50-1 | AR50: =T50+V50+X50+Z50+AB50+AD50+AF50+AH50+AJ50+AL50+AN50+AP50 | AS50: =AR50/SUM(AV50,AX50,AZ50,BB50,BD50,BF50,BH50,BJ50,BL50,BN50,BP50,BR50)-1 | AU50: =AV50+AX50+AZ50+BB50+BD50+BF50+BH50+BJ50+BL50+BN50+BP50 | AV50: =AV51+AV52 | AW50: =AV50/BW50-1 | AX50: =AX51+AX52 | AY50: =AX50/BY50-1 | AZ50: =AZ51+AZ52 | BA50: =AZ50/CA50-1 | BB50: =BB51+BB52 | BC50: =BB50/CC50-1 | BD50: =BD51+BD52 | BE50: =BD50/CE50-1 | BF50: =BF51+BF52 | BG50: =BF50/CG50-1 | BH50: =BH51+BH52 | BI50: =BH50/CI50-1 | BJ50: =BJ51+BJ52 | BK50: =BJ50/CK50-1 | BL50: =BL51+BL52 | BM50: =BL50/CM50-1 | BN50: =BN51+BN52 | BO50: =BN50/CO50-1 | BP50: =BP51+BP52 | BQ50: =BP50/CQ50-1 | BR50: =BR51+BR52 | BS50: =BR50/CS50-1 | BT50: =AV50+AX50+AZ50+BB50+BD50+BF50+BH50+BJ50+BL50+BN50+BP50+BR50 | BU50: =BT50/SUM(BW50,BY50,CA50,CC50,CE50,CG50,CI50,CK50,CM50,CO50,CQ50,CS50)-1 | BW50: =BW51+BW52 | BX50: =BW50/DK50-1 | BY50: =BY51+BY52 | BZ50: =BY50/DL50-1 | CA50: =SUM(CA51:CA52) | CB50: =CA50/DM50-1 | CC50: 118086.94 | CD50: =CC50/DN50-1 | CE50: 124300.74 | CF50: =CE50/DO50-1 | CG50: =CG51+CG52 | CH50: =CG50/DP50-1 | CI50: =CI51+CI52 | CJ50: =CI50/DQ50-1 | CK50: 111536.31 | CL50: =CK50/DR50-1 | CM50: =SUM(CM51:CM52) | CN50: =CM50/DS50-1 | CO50: =SUM(CO51:CO52) | CP50: =CO50/DT50-1 | CQ50: =CQ51+CQ52 | CR50: =CQ50/DV50-1 | CS50: =CS51+CS52 | CT50: =CS50/DV50-1 | CU50: =BW50+BY50+CA50+CC50+CE50+CG50+CI50+CK50+CM50+CO50+CQ50+CS50 | CV50: =CU50/SUM(DK50:DV50)-1 | CX50: =CS50/CQ50-1 | CY50: =CQ50/CO50-1 | DK50: 88559.892 | DL50: 64060.75 | DM50: 90360.98 | DN50: 92230.345 | DO50: 99515.039 | DP50: 91531.982 | DQ50: 99618.761 | DR50: 82457.207 | DS50: 105418.79 | DT50: 96884.987 | DU50: 107584.59 | DV50: 111238.57 | DW50: 0.023537674 | DX50: 1129461.9 | DY50: -0.030445786 | EA50: =EA51+EA52 | EB50: =EB51+EB52 | EC50: =EC51+EC52 | ED50: =ED51+ED52 | EE50: =EE51+EE52 | EF50: =EF51+EF52 | EG50: =EG51+EG52 | EH50: =EH51+EH52 | ... EL50: =EL51+EL52
B51: 规上货物周转量 (万吨公里) | C51: 23366.627 | D51: =C51/T51-1 | E51: 17066.172 | F51: =E51/V51-1 | G51: 20978.348 | H51: =G51/X51-1 | I51: 20966.328 | J51: =I51/Z51-1 | K51: 24910.305 | L51: =K51/AB51-1 | M51: 23589.968 | N51: =M51/AD51-1 | O51: 23761.161 | P51: =O51/AF51-1 | Q51: =C51+E51+G51+I51+K51+M51+O51 | R51: =Q51/SUM(T51,V51,X51,Z51,AB51,AD51,AF51)-1 | T51: 24456.182 | U51: =T51/AV51-1 | V51: 19482.183 | W51: =V51/AX51-1 | X51: 23344.336 | Y51: =X51/AZ51-1 | Z51: 23695.262 | AA51: =Z51/BB51-1 | AB51: 35121.995 | AC51: =AB51/BD51-1 | AD51: 27595.429 | AE51: =AD51/BF51-1 | AF51: 26436.671 | AG51: =AF51/BH51-1 | AH51: 25225.522 | AI51: =AH51/BJ51-1 | AJ51: 25747.932 | AK51: =AJ51/BL51-1 | AL51: 23993.649 | AM51: =AL51/BN51-1 | AN51: 24179.745 | AO51: =AN51/BP51-1 | AP51: 26789.699 | AQ51: =AP51/BR51-1 | AR51: =T51+V51+X51+Z51+AB51+AD51+AF51+AH51+AJ51+AL51+AN51+AP51 | AS51: =AR51/SUM(AV51,AX51,AZ51,BB51,BD51,BF51,BH51,BJ51,BL51,BN51,BP51,BR51)-1 | AU51: =AV51+AX51+AZ51+BB51+BD51+BF51+BH51+BJ51+BL51+BN51+BP51 | AV51: 20584.489 | AW51: =AV51/BW51-1 | AX51: 13831.633 | AY51: =AX51/BY51-1 | AZ51: 23109.582 | BA51: =AZ51/CA51-1 | BB51: 28470.181 | BC51: =BB51/CC51-1 | BD51: 30334.193 | BE51: =BD51/CE51-1 | BF51: 22495.784 | BG51: =BF51/CG51-1 | BH51: 23219.328 | BI51: =BH51/CI51-1 | BJ51: 23872.301 | BK51: =BJ51/CK51-1 | BL51: 25176.213 | BM51: =BL51/CM51-1 | BN51: 25126.025 | BO51: =BN51/CO51-1 | BP51: 26381.942 | BQ51: =BP51/CQ51-1 | BR51: 30771.7 | BS51: =BR51/CS51-1 | BT51: =AV51+AX51+AZ51+BB51+BD51+BF51+BH51+BJ51+BL51+BN51+BP51+BR51 | BU51: =BT51/SUM(BW51,BY51,CA51,CC51,CE51,CG51,CI51,CK51,CM51,CO51,CQ51,CS51)-1 | BW51: 10997.932 | BX51: =BW51/DK51-1 | BY51: 16901.209 | BZ51: =BY51/DL51-1 | CA51: 18043.64 | CB51: =CA51/DM51-1 | CC51: 19203.028 | CD51: =CC51/DN51-1 | CE51: 29018.431 | CF51: =CE51/DO51-1 | CG51: 18068.773 | CH51: =CG51/DP51-1 | CI51: 19382.667 | CJ51: =CI51/DQ51-1 | CK51: 20298.311 | CL51: =CK51/DR51-1 | CM51: 18609.159 | CN51: =CM51/DS51-1 | CO51: 19111.461 | CP51: =CO51/DT51-1 | CQ51: 19620.631 | CR51: =CQ51/DV51-1 | CS51: 19241.756 | CT51: =CS51/DV51-1 | CU51: =BW51+BY51+CA51+CC51+CE51+CG51+CI51+CK51+CM51+CO51+CQ51+CS51 | CV51: =CU51/SUM(DK51:DV51)-1 | CX51: =CS51/CQ51-1 | CY51: =CQ51/CO51-1 | DK51: 15378.704 | DL51: 9531.936 | DM51: 6700.3623 | DN51: 7687.1542 | DO51: 7769.6569 | DP51: 8069.7297 | DQ51: 7945.6209 | DR51: 7665.0725 | DS51: 8060.2212 | DT51: 7293.9685 | DU51: 8081.7716 | DV51: 8846.7223 | DW51: 1.0682501 | DX51: 103030.92 | DY51: 1.1842844 | EA51: 5273.7508 | EB51: 2966.4902 | EC51: 3809.1411 | ED51: 4040.478 | EE51: 3968.8496 | EF51: 4025.1416 | EG51: 4415.3939 | EH51: 2242.5845 | EI51: 3796.2662 | EJ51: 4067.525 | EK51: 4286.1706 | EL51: 4277.3949 | EO51: =SUM(EA51:EL51)
B52: 规下货物周转量 (万吨公里) | C52: 104779.48 | D52: =C52/T52-1 | E52: 70549.935 | F52: =E52/V52-1 | G52: 113690.65 | H52: =G52/X52-1 | I52: 118818.33 | J52: =I52/Z52-1 | K52: 122082.64 | L52: =K52/AB52-1 | M52: 104494.75 | N52: =M52/AD52-1 | O52: 106773.19 | P52: =O52/AF52-1 | Q52: =C52+E52+G52+I52+K52+M52+O52 | R52: =Q52/SUM(T52,V52,X52,Z52,AB52,AD52,AF52)-1 | T52: 83888.542 | U52: =T52/AV52-1 | V52: 82929.714 | W52: =V52/AX52-1 | X52: 114714.97 | Y52: =X52/AZ52-1 | Z52: 116065.04 | AA52: =Z52/BB52-1 | AB52: 113646.9 | AC52: =AB52/BD52-1 | AD52: 98534.702 | AE52: =AD52/BF52-1 | AF52: 105113.06 | AG52: =AF52/BH52-1 | AH52: 99144.743 | AI52: =AH52/BJ52-1 | AJ52: 102392.67 | AK52: =AJ52/BL52-1 | AL52: 92545.165 | AM52: =AL52/BN52-1 | AN52: 99293.321 | AO52: =AN52/BP52-1 | AP52: 102807.01 | AQ52: =AP52/BR52-1 | AR52: =T52+V52+X52+Z52+AB52+AD52+AF52+AH52+AJ52+AL52+AN52+AP52 | AS52: =AR52/SUM(AV52,AX52,AZ52,BB52,BD52,BF52,BH52,BJ52,BL52,BN52,BP52,BR52)-1 | AU52: =AV52+AX52+AZ52+BB52+BD52+BF52+BH52+BJ52+BL52+BN52+BP52 | AV52: 92271.216 | AW52: =AV52/BW52-1 | AX52: 52004.378 | AY52: =AX52/BY52-1 | AZ52: 100872.35 | BA52: =AZ52/CA52-1 | BB52: 100635.01 | BC52: =BB52/CC52-1 | BD52: 105803.6 | BE52: =BD52/CE52-1 | BF52: 92266.815 | BG52: =BF52/CG52-1 | BH52: 99377.464 | BI52: =BH52/CI52-1 | BJ52: 94553.248 | BK52: =BJ52/CK52-1 | BL52: 95075.956 | BM52: =BL52/CM52-1 | BN52: 93252.593 | BO52: =BN52/CO52-1 | BP52: 99356.665 | BQ52: =BP52/CQ52-1 | BR52: 104578.28 | BS52: =BR52/CS52-1 | BT52: =AV52+AX52+AZ52+BB52+BD52+BF52+BH52+BJ52+BL52+BN52+BP52+BR52 | BU52: =BT52/SUM(BW52,BY52,CA52,CC52,CE52,CG52,CI52,CK52,CM52,CO52,CQ52,CS52)-1 | BW52: 70371.039 | BX52: =BW52/DK52-1 | BY52: 85891.355 | BZ52: =BY52/DL52-1 | CA52: 103470.98 | CB52: =CA52/DM52-1 | CC52: 98883.912 | CD52: =CC52/DN52-1 | CE52: 95282.305 | CF52: =CE52/DO52-1 | CG52: 99137.214 | CH52: =CG52/DP52-1 | CI52: 100773.8 | CJ52: =CI52/DQ52-1 | CK52: 91238.002 | CL52: =CK52/DR52-1 | CM52: 100911.25 | CN52: =CM52/DS52-1 | CO52: 92252.652 | CP52: =CO52/DT52-1 | CQ52: 100929.27 | CR52: =CQ52/DV52-1 | CS52: 101671.07 | CT52: =CS52/DV52-1 | CU52: =BW52+BY52+CA52+CC52+CE52+CG52+CI52+CK52+CM52+CO52+CQ52+CS52 | CV52: =CU52/SUM(DK52:DV52)-1 | CX52: =CS52/CQ52-1 | CY52: =CQ52/CO52-1 | DK52: 73181.188 | DL52: 54528.814 | DM52: 83660.617 | DN52: 84543.191 | DO52: 91745.382 | DP52: 83462.253 | DQ52: 91673.14 | DR52: 74792.134 | DS52: 97358.571 | DT52: 89591.018 | DU52: 99502.822 | DV52: 102391.84 | DW52: -0.019264197 | DX52: 1026431 | DY52: -0.081707096 | EA52: 102143.25 | EB52: 53911.962 | EC52: 82380.559 | ED52: 96344.185 | EE52: 100632.95 | EF52: 101528.92 | EG52: 95536.376 | EH52: 77212.622 | EI52: 102540.18 | EJ52: 90137.44 | EK52: 110988.37 | EL52: 104403.09 | EO52: =SUM(EA52:EL52)
A53: 孝感市 | B53: 规上+规下货运量 (万吨) | C53: 410.27528 | D53: =C53/T53-1 | E53: 251.9196 | F53: =E53/V53-1 | G53: 395.89737 | H53: =G53/X53-1 | I53: 415.69199 | J53: =I53/Z53-1 | K53: 420.79095 | L53: =K53/AB53-1 | M53: 402.74354 | N53: =M53/AD53-1 | O53: 383.37102 | P53: =O53/AF53-1 | Q53: =C53+E53+G53+I53+K53+M53+O53 | R53: =Q53/SUM(T53,V53,X53,Z53,AB53,AD53,AF53)-1 | T53: 346.53614 | U53: =T53/AV53-1 | V53: 294.69007 | W53: =V53/AX53-1 | X53: 404.33456 | Y53: =X53/AZ53-1 | Z53: 413.58198 | AA53: =Z53/BB53-1 | AB53: 407.24061 | AC53: =AB53/BD53-1 | AD53: 371.40596 | AE53: =AD53/BF53-1 | AF53: 378.22195 | AG53: =AF53/BH53-1 | AH53: 391.47247 | AI53: =AH53/BJ53-1 | AJ53: 421.13099 | AK53: =AJ53/BL53-1 | AL53: 387.73232 | AM53: =AL53/BN53-1 | AN53: 424.52487 | AO53: =AN53/BP53-1 | AP53: 438.67887 | AQ53: =AP53/BR53-1 | AR53: =T53+V53+X53+Z53+AB53+AD53+AF53+AH53+AJ53+AL53+AN53+AP53 | AS53: =AR53/SUM(AV53,AX53,AZ53,BB53,BD53,BF53,BH53,BJ53,BL53,BN53,BP53,BR53)-1 | AU53: =AV53+AX53+AZ53+BB53+BD53+BF53+BH53+BJ53+BL53+BN53+BP53 | AV53: 361.79103 | AW53: =AV53/BW53-1 | AX53: 187.70379 | AY53: =AX53/BY53-1 | AZ53: 342.6939 | BA53: =AZ53/CA53-1 | BB53: 368.87331 | BC53: =BB53/CC53-1 | BD53: 383.41023 | BE53: =BD53/CE53-1 | BF53: 352.63983 | BG53: =BF53/CG53-1 | BH53: 359.68161 | BI53: =BH53/CI53-1 | BJ53: 381.2878 | BK53: =BJ53/CK53-1 | BL53: 393.75927 | BM53: =BL53/CM53-1 | BN53: 392.37521 | BO53: =BN53/CO53-1 | BP53: 423.09571 | BQ53: =BP53/CQ53-1 | BR53: 450.9155 | BS53: =BR53/CS53-1 | BT53: =AV53+AX53+AZ53+BB53+BD53+BF53+BH53+BJ53+BL53+BN53+BP53+BR53 | BU53: =BT53/SUM(BW53,BY53,CA53,CC53,CE53,CG53,CI53,CK53,CM53,CO53,CQ53,CS53)-1 | BW53: 206.15005 | BX53: =BW53/DK53-1 | BY53: 242.03444 | BZ53: =BY53/DL53-1 | CA53: 319.92492 | CB53: =CA53/DM53-1 | CC53: 318.48908 | CD53: =CC53/DN53-1 | CE53: 334.29862 | CF53: =CE53/DO53-1 | CG53: 330.90667 | CH53: =CG53/DP53-1 | CI53: 328.10696 | CJ53: =CI53/DQ53-1 | CK53: 358.31188 | CL53: =CK53/DR53-1 | CM53: 361.97692 | CN53: =CM53/DS53-1 | CO53: 357.33907 | CP53: =CO53/DT53-1 | CQ53: 383.71478 | CR53: =CQ53/DV53-1 | CS53: 386.7163 | CT53: =CS53/DV53-1 | CU53: =BW53+BY53+CA53+CC53+CE53+CG53+CI53+CK53+CM53+CO53+CQ53+CS53 | CV53: =CU53/SUM(DK53:DV53)-1 | CX53: =CS53/CQ53-1 | CY53: =CQ53/CO53-1 | DK53: 250.22536 | DL53: 164.46202 | DM53: 277.27788 | DN53: 266.11271 | DO53: 299.42085 | DP53: 278.56341 | DQ53: 286.03371 | DR53: 293.9742 | DS53: 326.04894 | DT53: 302.13365 | DU53: 336.92222 | DV53: 345.74021 | DW53: -0.077404081 | DX53: 3426.9152 | DY53: -0.077601156 | EA53: 333.09902 | EB53: 128.0383 | EC53: 253.68826 | ED53: 328.16419 | EE53: 338.17985 | EF53: 362.70306 | EG53: 330.92023 | EH53: 278.32152 | EI53: 325.12481 | EJ53: 292.29194 | EK53: 369.94221 | EL53: 374.74717 | EO53: =SUM(EA53:EL53)
B54: 规上货运量 (万吨) | C54: 152.6211 | D54: =C54/T54-1 | E54: 133.2456 | F54: =E54/V54-1 | G54: 179.4963 | H54: =G54/X54-1 | I54: 188.8777 | J54: =I54/Z54-1 | K54: 187.8576 | L54: =K54/AB54-1 | M54: 196.544 | N54: =M54/AD54-1 | O54: 164.6195 | P54: =O54/AF54-1 | Q54: =C54+E54+G54+I54+K54+M54+O54 | R54: =Q54/SUM(T54,V54,X54,Z54,AB54,AD54,AF54)-1 | T54: 128.7716 | U54: =T54/AV54-1 | V54: 112.058 | W54: =V54/AX54-1 | X54: 127.5043 | Y54: =X54/AZ54-1 | Z54: 136.5839 | AA54: =Z54/BB54-1 | AB54: 143.8187 | AC54: =AB54/BD54-1 | AD54: 145.7735 | AE54: =AD54/BF54-1 | AF54: 147.8367 | AG54: =AF54/BH54-1 | AH54: 127.6287 | AI54: =AH54/BJ54-1 | AJ54: 131.9346 | AK54: =AJ54/BL54-1 | AL54: 110.2107 | AM54: =AL54/BN54-1 | AN54: 124.9464 | AO54: =AN54/BP54-1 | AP54: 124.6693 | AQ54: =AP54/BR54-1 | AR54: =T54+V54+X54+Z54+AB54+AD54+AF54+AH54+AJ54+AL54+AN54+AP54 | AS54: =AR54/SUM(AV54,AX54,AZ54,BB54,BD54,BF54,BH54,BJ54,BL54,BN54,BP54,BR54)-1 | AU54: =AV54+AX54+AZ54+BB54+BD54+BF54+BH54+BJ54+BL54+BN54+BP54 | AV54: 108.8316 | AW54: =AV54/BW54-1 | AX54: 106.3984 | AY54: =AX54/BY54-1 | AZ54: 121.1166 | BA54: =AZ54/CA54-1 | BB54: 116.2759 | BC54: =BB54/CC54-1 | BD54: 126.1017 | BE54: =BD54/CE54-1 | BF54: 129.276 | BG54: =BF54/CG54-1 | BH54: 123.8859 | BI54: =BH54/CI54-1 | BJ54: 124.4264 | BK54: =BJ54/CK54-1 | BL54: 121.1498 | BM54: =BL54/CM54-1 | BN54: 132.914 | BO54: =BN54/CO54-1 | BP54: 139.2331 | BQ54: =BP54/CQ54-1 | BR54: 160.0406 | BS54: =BR54/CS54-1 | BT54: =AV54+AX54+AZ54+BB54+BD54+BF54+BH54+BJ54+BL54+BN54+BP54+BR54 | BU54: =BT54/SUM(BW54,BY54,CA54,CC54,CE54,CG54,CI54,CK54,CM54,CO54,CQ54,CS54)-1 | BW54: 27.4843 | BX54: =BW54/DK54-1 | BY54: 22.0535 | BZ54: =BY54/DL54-1 | CA54: 36.5927 | CB54: =CA54/DM54-1 | CC54: 35.9168 | CD54: =CC54/DN54-1 | CE54: 39.9165 | CF54: =CE54/DO54-1 | CG54: 36.0981 | CH54: =CG54/DP54-1 | CI54: 31.0377 | CJ54: =CI54/DQ54-1 | CK54: 63.4174 | CL54: =CK54/DR54-1 | CM54: 57.7175 | CN54: =CM54/DS54-1 | CO54: 59.5335 | CP54: =CO54/DT54-1 | CQ54: 64.3442 | CR54: =CQ54/DV54-1 | CS54: 81.6752 | CT54: =CS54/DV54-1 | CU54: =BW54+BY54+CA54+CC54+CE54+CG54+CI54+CK54+CM54+CO54+CQ54+CS54 | CV54: =CU54/SUM(DK54:DV54)-1 | CX54: =CS54/CQ54-1 | CY54: =CQ54/CO54-1 | DJ54: 孝感市 | DK54: 23.957 | DL54: 19.9224 | DM54: 19.2974 | DN54: 19.6288 | DO54: 20.3518 | DP54: 30.6512 | DQ54: 28.9078 | DR54: 28.2659 | DS54: 25.5869 | DT54: 24.9758 | DU54: 24.236 | DV54: 27.5754 | DW54: 0.053936295 | DX54: 293.3564 | DY54: 0.051207694 | EA54: 21.32733 | EB54: 18.4661 | EC54: 22.17543 | ED54: 23.70351 | EE54: 24.8254 | EF54: 24.6942 | EG54: 24.5394 | EH54: 21.222 | EI54: 22.4081 | EJ54: 25.1006 | EK54: 24.4398 | EL54: 26.1642 | EO54: =SUM(EA54:EL54)
B55: 规下货运量 (万吨) | C55: 257.65418 | D55: =C55/T55-1 | E55: 118.674 | F55: =E55/V55-1 | G55: 216.40107 | H55: =G55/X55-1 | I55: 226.81429 | J55: =I55/Z55-1 | K55: 232.93335 | L55: =K55/AB55-1 | M55: 206.19954 | N55: =M55/AD55-1 | O55: 218.75152 | P55: =O55/AF55-1 | Q55: =C55+E55+G55+I55+K55+M55+O55 | R55: =Q55/SUM(T55,V55,X55,Z55,AB55,AD55,AF55)-1 | T55: 217.76454 | U55: =T55/AV55-1 | V55: 182.63207 | W55: =V55/AX55-1 | X55: 276.83026 | Y55: =X55/AZ55-1 | Z55: 276.99808 | AA55: =Z55/BB55-1 | AB55: 263.42191 | AC55: =AB55/BD55-1 | AD55: 225.63246 | AE55: =AD55/BF55-1 | AF55: 230.38525 | AG55: =AF55/BH55-1 | AH55: 263.84377 | AI55: =AH55/BJ55-1 | AJ55: 289.19639 | AK55: =AJ55/BL55-1 | AL55: 277.52162 | AM55: =AL55/BN55-1 | AN55: 299.57847 | AO55: =AN55/BP55-1 | AP55: 314.00957 | AQ55: =AP55/BR55-1 | AR55: =T55+V55+X55+Z55+AB55+AD55+AF55+AH55+AJ55+AL55+AN55+AP55 | AS55: =AR55/SUM(AV55,AX55,AZ55,BB55,BD55,BF55,BH55,BJ55,BL55,BN55,BP55,BR55)-1 | AU55: =AV55+AX55+AZ55+BB55+BD55+BF55+BH55+BJ55+BL55+BN55+BP55 | AV55: 252.95943 | AW55: =AV55/BW55-1 | AX55: 81.305391 | AY55: =AX55/BY55-1 | AZ55: 221.5773 | BA55: =AZ55/CA55-1 | BB55: 252.59741 | BC55: =BB55/CC55-1 | BD55: 257.30853 | BE55: =BD55/CE55-1 | BF55: 223.36383 | BG55: =BF55/CG55-1 | BH55: 235.79571 | BI55: =BH55/CI55-1 | BJ55: 256.8614 | BK55: =BJ55/CK55-1 | BL55: 272.60947 | BM55: =BL55/CM55-1 | BN55: 259.46121 | BO55: =BN55/CO55-1 | BP55: 283.86261 | BQ55: =BP55/CQ55-1 | BR55: 290.8749 | BS55: =BR55/CS55-1 | BT55: =AV55+AX55+AZ55+BB55+BD55+BF55+BH55+BJ55+BL55+BN55+BP55+BR55 | BU55: =BT55/SUM(BW55,BY55,CA55,CC55,CE55,CG55,CI55,CK55,CM55,CO55,CQ55,CS55)-1 | BW55: 178.66575 | BX55: =BW55/DK55-1 | BY55: 219.98094 | BZ55: =BY55/DL55-1 | CA55: 283.33222 | CB55: =CA55/DM55-1 | CC55: 282.57228 | CD55: =CC55/DN55-1 | CE55: 294.38212 | CF55: =CE55/DO55-1 | CG55: 294.80857 | CH55: =CG55/DP55-1 | CI55: 297.06926 | CJ55: =CI55/DQ55-1 | CK55: 294.89448 | CL55: =CK55/DR55-1 | CM55: 304.25942 | CN55: =CM55/DS55-1 | CO55: 297.80557 | CP55: =CO55/DT55-1 | CQ55: 319.37058 | CR55: =CQ55/DV55-1 | CS55: 305.0411 | CT55: =CS55/DV55-1 | CU55: =BW55+BY55+CA55+CC55+CE55+CG55+CI55+CK55+CM55+CO55+CQ55+CS55 | CV55: =CU55/SUM(DK55:DV55)-1 | CX55: =CS55/CQ55-1 | CY55: =CQ55/CO55-1 | DK55: 226.26836 | DL55: 144.53962 | DM55: 257.98048 | DN55: 246.48391 | DO55: 279.06905 | DP55: 247.91221 | DQ55: 257.12591 | DR55: 265.7083 | DS55: 300.46204 | DT55: 277.15785 | DU55: 312.68622 | DV55: 318.16481 | DW55: -0.087262324 | DX55: 3133.5588 | DY55: -0.088062321 | EA55: 311.77169 | EB55: 109.5722 | EC55: 231.51283 | ED55: 304.46068 | EE55: 313.35445 | EF55: 338.00886 | EG55: 306.38083 | EH55: 257.09952 | EI55: 302.71671 | EJ55: 267.19134 | EK55: 345.50241 | EL55: 348.58297 | EO55: =SUM(EA55:EL55)
B56: 规上+规下周转量 (万吨公里) | C56: =C57+C58 | D56: =C56/T56-1 | E56: =E57+E58 | F56: =E56/V56-1 | G56: =G57+G58 | H56: =G56/X56-1 | I56: =I57+I58 | J56: =I56/Z56-1 | K56: =K57+K58 | L56: =K56/AB56-1 | M56: =M57+M58 | N56: =M56/AD56-1 | O56: =O57+O58 | P56: =O56/AF56-1 | Q56: =C56+E56+G56+I56+K56+M56+O56 | R56: =Q56/SUM(T56,V56,X56,Z56,AB56,AD56,AF56)-1 | T56: =T57+T58 | U56: =T56/AV56-1 | V56: =V57+V58 | W56: =V56/AX56-1 | X56: =X57+X58 | Y56: =X56/AZ56-1 | Z56: =Z57+Z58 | AA56: =Z56/BB56-1 | AB56: =AB57+AB58 | AC56: =AB56/BD56-1 | AD56: =AD57+AD58 | AE56: =AD56/BF56-1 | AF56: =AF57+AF58 | AG56: =AF56/BH56-1 | AH56: =AH57+AH58 | AI56: =AH56/BJ56-1 | AJ56: =AJ57+AJ58 | AK56: =AJ56/BL56-1 | AL56: =AL57+AL58 | AM56: =AL56/BN56-1 | AN56: =AN57+AN58 | AO56: =AN56/BP56-1 | AP56: =AP57+AP58 | AQ56: =AP56/BR56-1 | AR56: =T56+V56+X56+Z56+AB56+AD56+AF56+AH56+AJ56+AL56+AN56+AP56 | AS56: =AR56/SUM(AV56,AX56,AZ56,BB56,BD56,BF56,BH56,BJ56,BL56,BN56,BP56,BR56)-1 | AU56: =AV56+AX56+AZ56+BB56+BD56+BF56+BH56+BJ56+BL56+BN56+BP56 | AV56: =AV57+AV58 | AW56: =AV56/BW56-1 | AX56: =AX57+AX58 | AY56: =AX56/BY56-1 | AZ56: =AZ57+AZ58 | BA56: =AZ56/CA56-1 | BB56: =BB57+BB58 | BC56: =BB56/CC56-1 | BD56: =BD57+BD58 | BE56: =BD56/CE56-1 | BF56: =BF57+BF58 | BG56: =BF56/CG56-1 | BH56: =BH57+BH58 | BI56: =BH56/CI56-1 | BJ56: =BJ57+BJ58 | BK56: =BJ56/CK56-1 | BL56: =BL57+BL58 | BM56: =BL56/CM56-1 | BN56: =BN57+BN58 | BO56: =BN56/CO56-1 | BP56: =BP57+BP58 | BQ56: =BP56/CQ56-1 | BR56: =BR57+BR58 | BS56: =BR56/CS56-1 | BT56: =AV56+AX56+AZ56+BB56+BD56+BF56+BH56+BJ56+BL56+BN56+BP56+BR56 | BU56: =BT56/SUM(BW56,BY56,CA56,CC56,CE56,CG56,CI56,CK56,CM56,CO56,CQ56,CS56)-1 | BW56: =BW57+BW58 | BX56: =BW56/DK56-1 | BY56: =BY57+BY58 | BZ56: =BY56/DL56-1 | CA56: =SUM(CA57:CA58) | CB56: =CA56/DM56-1 | CC56: 43067.335 | CD56: =CC56/DN56-1 | CE56: 43812.56 | CF56: =CE56/DO56-1 | CG56: =CG57+CG58 | CH56: =CG56/DP56-1 | CI56: =CI57+CI58 | CJ56: =CI56/DQ56-1 | CK56: 48250.604 | CL56: =CK56/DR56-1 | CM56: =SUM(CM57:CM58) | CN56: =CM56/DS56-1 | CO56: =SUM(CO57:CO58) | CP56: =CO56/DT56-1 | CQ56: =CQ57+CQ58 | CR56: =CQ56/DV56-1 | CS56: =CS57+CS58 | CT56: =CS56/DV56-1 | CU56: =BW56+BY56+CA56+CC56+CE56+CG56+CI56+CK56+CM56+CO56+CQ56+CS56 | CV56: =CU56/SUM(DK56:DV56)-1 | CX56: =CS56/CQ56-1 | CY56: =CQ56/CO56-1 | DK56: 33836.128 | DL56: 23252.472 | DM56: 36509.734 | DN56: 37405.807 | DO56: 39034.306 | DP56: 35610.674 | DQ56: 36811.301 | DR56: 37704.961 | DS56: 42072.158 | DT56: 42495.93 | DU56: 46215.397 | DV56: 46396.062 | DW56: 0.035018768 | DX56: 457344.93 | DY56: -0.033439268 | EA56: =EA57+EA58 | EB56: =EB57+EB58 | EC56: =EC57+EC58 | ED56: =ED57+ED58 | EE56: =EE57+EE58 | EF56: =EF57+EF58 | EG56: =EG57+EG58 | EH56: =EH57+EH58 | ... EL56: =EL57+EL58
B57: 规上货物周转量 (万吨公里) | C57: 27206.883 | D57: =C57/T57-1 | E57: 22434.013 | F57: =E57/V57-1 | G57: 29734.68 | H57: =G57/X57-1 | I57: 30536.965 | J57: =I57/Z57-1 | K57: 31326.677 | L57: =K57/AB57-1 | M57: 31955.098 | N57: =M57/AD57-1 | O57: 24880.036 | P57: =O57/AF57-1 | Q57: =C57+E57+G57+I57+K57+M57+O57 | R57: =Q57/SUM(T57,V57,X57,Z57,AB57,AD57,AF57)-1 | T57: 22515.642 | U57: =T57/AV57-1 | V57: 21050.969 | W57: =V57/AX57-1 | X57: 25699.659 | Y57: =X57/AZ57-1 | Z57: 26684.796 | AA57: =Z57/BB57-1 | AB57: 28409.56 | AC57: =AB57/BD57-1 | AD57: 28685.318 | AE57: =AD57/BF57-1 | AF57: 26819.421 | AG57: =AF57/BH57-1 | AH57: 22627.122 | AI57: =AH57/BJ57-1 | AJ57: 24370.615 | AK57: =AJ57/BL57-1 | AL57: 21526.016 | AM57: =AL57/BN57-1 | AN57: 23001.678 | AO57: =AN57/BP57-1 | AP57: 23572.828 | AQ57: =AP57/BR57-1 | AR57: =T57+V57+X57+Z57+AB57+AD57+AF57+AH57+AJ57+AL57+AN57+AP57 | AS57: =AR57/SUM(AV57,AX57,AZ57,BB57,BD57,BF57,BH57,BJ57,BL57,BN57,BP57,BR57)-1 | AU57: =AV57+AX57+AZ57+BB57+BD57+BF57+BH57+BJ57+BL57+BN57+BP57 | AV57: 18021.703 | AW57: =AV57/BW57-1 | AX57: 21058.95 | AY57: =AX57/BY57-1 | AZ57: 22972.442 | BA57: =AZ57/CA57-1 | BB57: 22731.597 | BC57: =BB57/CC57-1 | BD57: 22484.462 | BE57: =BD57/CE57-1 | BF57: 21621.525 | BG57: =BF57/CG57-1 | BH57: 20942.099 | BI57: =BH57/CI57-1 | BJ57: 20095.212 | BK57: =BJ57/CK57-1 | BL57: 19999.764 | BM57: =BL57/CM57-1 | BN57: 20087.565 | BO57: =BN57/CO57-1 | BP57: 19499.572 | BQ57: =BP57/CQ57-1 | BR57: 20329.839 | BS57: =BR57/CS57-1 | BT57: =AV57+AX57+AZ57+BB57+BD57+BF57+BH57+BJ57+BL57+BN57+BP57+BR57 | BU57: =BT57/SUM(BW57,BY57,CA57,CC57,CE57,CG57,CI57,CK57,CM57,CO57,CQ57,CS57)-1 | BW57: 4321.3971 | BX57: =BW57/DK57-1 | BY57: 4445.1446 | BZ57: =BY57/DL57-1 | CA57: 4969.6488 | CB57: =CA57/DM57-1 | CC57: 4677.0217 | CD57: =CC57/DN57-1 | CE57: 4439.9863 | CF57: =CE57/DO57-1 | CG57: 4743.2024 | CH57: =CG57/DP57-1 | CI57: 4202.2476 | CJ57: =CI57/DQ57-1 | CK57: 13408.19 | CL57: =CK57/DR57-1 | CM57: 15045.541 | CN57: =CM57/DS57-1 | CO57: 15174.81 | CP57: =CO57/DT57-1 | CQ57: 15489.467 | CR57: =CQ57/DV57-1 | CS57: 17210.135 | CT57: =CS57/DV57-1 | CU57: =BW57+BY57+CA57+CC57+CE57+CG57+CI57+CK57+CM57+CO57+CQ57+CS57 | CV57: =CU57/SUM(DK57:DV57)-1 | CX57: =CS57/CQ57-1 | CY57: =CQ57/CO57-1 | DK57: 3563.1655 | DL57: 3493.5522 | DM57: 3202.1124 | DN57: 3692.0337 | DO57: 3291.2687 | DP57: 3785.2398 | DQ57: 3979.4975 | DR57: 3228.466 | DS57: 3348.3059 | DT57: 3554.4832 | DU57: 3636.1323 | DV57: 3652.6086 | DW57: -0.091028958 | DX57: 42426.866 | DY57: -0.095962328 | EA57: 4175.3107 | EB57: 3278.2754 | EC57: 3973.2768 | ED57: 4105.2367 | EE57: 4373.2455 | EF57: 4206.6482 | EG57: 4122.1513 | EH57: 3396.4734 | EI57: 3495.0074 | EJ57: 3990.739 | EK57: 3795.6542 | EL57: 4018.3993 | EO57: =SUM(EA57:EL57)
B58: 规下货物周转量 (万吨公里) | C58: 22210.533 | D58: =C58/T58-1 | E58: 12353.383 | F58: =E58/V58-1 | G58: 22210.868 | H58: =G58/X58-1 | I58: 23479.782 | J58: =I58/Z58-1 | K58: 22285.975 | L58: =K58/AB58-1 | M58: 18847.944 | N58: =M58/AD58-1 | O58: 24056.561 | P58: =O58/AF58-1 | Q58: =C58+E58+G58+I58+K58+M58+O58 | R58: =Q58/SUM(T58,V58,X58,Z58,AB58,AD58,AF58)-1 | T58: 21625.545 | U58: =T58/AV58-1 | V58: 20604.224 | W58: =V58/AX58-1 | X58: 28736.086 | Y58: =X58/AZ58-1 | Z58: 28486.904 | AA58: =Z58/BB58-1 | AB58: 26886.921 | AC58: =AB58/BD58-1 | AD58: 22156.181 | AE58: =AD58/BF58-1 | AF58: 23790.079 | AG58: =AF58/BH58-1 | AH58: 29453.932 | AI58: =AH58/BJ58-1 | AJ58: 30945.068 | AK58: =AJ58/BL58-1 | AL58: 29583.393 | AM58: =AL58/BN58-1 | AN58: 31169.57 | AO58: =AN58/BP58-1 | AP58: 34241.623 | AQ58: =AP58/BR58-1 | AR58: =T58+V58+X58+Z58+AB58+AD58+AF58+AH58+AJ58+AL58+AN58+AP58 | AS58: =AR58/SUM(AV58,AX58,AZ58,BB58,BD58,BF58,BH58,BJ58,BL58,BN58,BP58,BR58)-1 | AU58: =AV58+AX58+AZ58+BB58+BD58+BF58+BH58+BJ58+BL58+BN58+BP58 | AV58: 26543.572 | AW58: =AV58/BW58-1 | AX58: 8280.8166 | AY58: =AX58/BY58-1 | AZ58: 25695.144 | BA58: =AZ58/CA58-1 | BB58: 26923.332 | BC58: =BB58/CC58-1 | BD58: 27211.158 | BE58: =BD58/CE58-1 | BF58: 23572.957 | BG58: =BF58/CG58-1 | BH58: 25917.854 | BI58: =BH58/CI58-1 | BJ58: 29741.694 | BK58: =BJ58/CK58-1 | BL58: 31852.553 | BM58: =BL58/CM58-1 | BN58: 31673.451 | BO58: =BN58/CO58-1 | BP58: 34249.177 | BQ58: =BP58/CQ58-1 | BR58: 38626.617 | BS58: =BR58/CS58-1 | BT58: =AV58+AX58+AZ58+BB58+BD58+BF58+BH58+BJ58+BL58+BN58+BP58+BR58 | BU58: =BT58/SUM(BW58,BY58,CA58,CC58,CE58,CG58,CI58,CK58,CM58,CO58,CQ58,CS58)-1 | BW58: 25474.773 | BX58: =BW58/DK58-1 | BY58: 30853.247 | BZ58: =BY58/DL58-1 | CA58: 38477.12 | CB58: =CA58/DM58-1 | CC58: 38390.313 | CD58: =CC58/DN58-1 | CE58: 39372.574 | CF58: =CE58/DO58-1 | CG58: 38027.291 | CH58: =CG58/DP58-1 | CI58: 38758.022 | CJ58: =CI58/DQ58-1 | CK58: 34842.414 | CL58: =CK58/DR58-1 | CM58: 34683.93 | CN58: =CM58/DS58-1 | CO58: 34344.816 | CP58: =CO58/DT58-1 | CQ58: 37754.679 | CR58: =CQ58/DV58-1 | CS58: 38903.661 | CT58: =CS58/DV58-1 | CU58: =BW58+BY58+CA58+CC58+CE58+CG58+CI58+CK58+CM58+CO58+CQ58+CS58 | CV58: =CU58/SUM(DK58:DV58)-1 | CX58: =CS58/CQ58-1 | CY58: =CQ58/CO58-1 | DK58: 30272.963 | DL58: 19758.919 | DM58: 33307.622 | DN58: 33713.773 | DO58: 35743.037 | DP58: 31825.434 | DQ58: 32831.803 | DR58: 34476.495 | DS58: 38723.852 | DT58: 38941.447 | DU58: 42579.265 | DV58: 42743.453 | DW58: 0.047430828 | DX58: 414918.06 | DY58: -0.026555225 | EA58: 38614.767 | EB58: 17630.447 | EC58: 30052.918 | ED58: 37504.217 | EE58: 36968.809 | EF58: 38514.882 | EG58: 34773.712 | EH58: 35864.947 | EI58: 39398.741 | EJ58: 33957.586 | EK58: 42147.954 | EL58: 40807.9 | EO58: =SUM(EA58:EL58)
A59: 荆州市 | B59: 规上+规下货运量 (万吨) | C59: 1079.4558 | D59: =C59/T59-1 | E59: 673.44424 | F59: =E59/V59-1 | G59: 998.98458 | H59: =G59/X59-1 | I59: 1070.0317 | J59: =I59/Z59-1 | K59: 1087.3055 | L59: =K59/AB59-1 | M59: 1040.5971 | N59: =M59/AD59-1 | O59: 1014.8187 | P59: =O59/AF59-1 | Q59: =C59+E59+G59+I59+K59+M59+O59 | R59: =Q59/SUM(T59,V59,X59,Z59,AB59,AD59,AF59)-1 | T59: 841.09168 | U59: =T59/AV59-1 | V59: 756.22016 | W59: =V59/AX59-1 | X59: 997.7366 | Y59: =X59/AZ59-1 | Z59: 1042.7465 | AA59: =Z59/BB59-1 | AB59: 1018.6004 | AC59: =AB59/BD59-1 | AD59: 966.49454 | AE59: =AD59/BF59-1 | AF59: 967.85069 | AG59: =AF59/BH59-1 | AH59: 949.31711 | AI59: =AH59/BJ59-1 | AJ59: 1031.4484 | AK59: =AJ59/BL59-1 | AL59: 946.29393 | AM59: =AL59/BN59-1 | AN59: 1057.2604 | AO59: =AN59/BP59-1 | AP59: 1107.9491 | AQ59: =AP59/BR59-1 | AR59: =T59+V59+X59+Z59+AB59+AD59+AF59+AH59+AJ59+AL59+AN59+AP59 | AS59: =AR59/SUM(AV59,AX59,AZ59,BB59,BD59,BF59,BH59,BJ59,BL59,BN59,BP59,BR59)-1 | AU59: =AV59+AX59+AZ59+BB59+BD59+BF59+BH59+BJ59+BL59+BN59+BP59 | AV59: 920.48477 | AW59: =AV59/BW59-1 | AX59: 483.19351 | AY59: =AX59/BY59-1 | AZ59: 928.14662 | BA59: =AZ59/CA59-1 | BB59: 961.95735 | BC59: =BB59/CC59-1 | BD59: 958.45401 | BE59: =BD59/CE59-1 | BF59: 894.16393 | BG59: =BF59/CG59-1 | BH59: 927.86248 | BI59: =BH59/CI59-1 | BJ59: 936.68076 | BK59: =BJ59/CK59-1 | BL59: 983.5353 | BM59: =BL59/CM59-1 | BN59: 959.47095 | BO59: =BN59/CO59-1 | BP59: 1005.3627 | BQ59: =BP59/CQ59-1 | BR59: 1031.6902 | BS59: =BR59/CS59-1 | BT59: =AV59+AX59+AZ59+BB59+BD59+BF59+BH59+BJ59+BL59+BN59+BP59+BR59 | BU59: =BT59/SUM(BW59,BY59,CA59,CC59,CE59,CG59,CI59,CK59,CM59,CO59,CQ59,CS59)-1 | BW59: 539.82309 | BX59: =BW59/DK59-1 | BY59: 673.8759 | BZ59: =BY59/DL59-1 | CA59: 846.67438 | CB59: =CA59/DM59-1 | CC59: 840.01969 | CD59: =CC59/DN59-1 | CE59: 885.95539 | CF59: =CE59/DO59-1 | CG59: 895.36871 | CH59: =CG59/DP59-1 | CI59: 896.59447 | CJ59: =CI59/DQ59-1 | CK59: 912.71737 | CL59: =CK59/DR59-1 | CM59: 935.33474 | CN59: =CM59/DS59-1 | CO59: 908.67259 | CP59: =CO59/DT59-1 | CQ59: 960.25443 | CR59: =CQ59/DV59-1 | CS59: 916.88818 | CT59: =CS59/DV59-1 | CU59: =BW59+BY59+CA59+CC59+CE59+CG59+CI59+CK59+CM59+CO59+CQ59+CS59 | CV59: =CU59/SUM(DK59:DV59)-1 | CX59: =CS59/CQ59-1 | CY59: =CQ59/CO59-1 | DK59: 621.39233 | DL59: 451.04107 | DM59: 727.40445 | DN59: 683.15164 | DO59: 763.11482 | DP59: 734.21742 | DQ59: 748.01773 | DR59: 720.20296 | DS59: 852.06206 | DT59: 787.69128 | DU59: 828.3556 | DV59: 803.21983 | DW59: -0.076621911 | DX59: 8719.8712 | DY59: -0.085995947 | EA59: 863.83395 | EB59: 365.45196 | EC59: 665.12463 | ED59: 820.74462 | EE59: 888.46182 | EF59: 961.32073 | EG59: 838.80014 | EH59: 690.83187 | EI59: 871.68055 | EJ59: 816.75403 | EK59: 887.42285 | EL59: 869.87101 | EO59: =SUM(EA59:EL59)
B60: 规上货运量 (万吨) | C60: 167.6765 | D60: =C60/T60-1 | E60: 152.3272 | F60: =E60/V60-1 | G60: 183.8954 | H60: =G60/X60-1 | I60: 174.6558 | J60: =I60/Z60-1 | K60: 175.3466 | L60: =K60/AB60-1 | M60: 167.1798 | N60: =M60/AD60-1 | O60: 145.222 | P60: =O60/AF60-1 | Q60: =C60+E60+G60+I60+K60+M60+O60 | R60: =Q60/SUM(T60,V60,X60,Z60,AB60,AD60,AF60)-1 | T60: 162.0932 | U60: =T60/AV60-1 | V60: 151.7982 | W60: =V60/AX60-1 | X60: 166.7442 | Y60: =X60/AZ60-1 | Z60: 169.0759 | AA60: =Z60/BB60-1 | AB60: 162.3257 | AC60: =AB60/BD60-1 | AD60: 188.8951 | AE60: =AD60/BF60-1 | AF60: 134.0308 | AG60: =AF60/BH60-1 | AH60: 119.5421 | AI60: =AH60/BJ60-1 | AJ60: 145.1047 | AK60: =AJ60/BL60-1 | AL60: 130.3128 | AM60: =AL60/BN60-1 | AN60: 128.1263 | AO60: =AN60/BP60-1 | AP60: 143.7508 | AQ60: =AP60/BR60-1 | AR60: =T60+V60+X60+Z60+AB60+AD60+AF60+AH60+AJ60+AL60+AN60+AP60 | AS60: =AR60/SUM(AV60,AX60,AZ60,BB60,BD60,BF60,BH60,BJ60,BL60,BN60,BP60,BR60)-1 | AU60: =AV60+AX60+AZ60+BB60+BD60+BF60+BH60+BJ60+BL60+BN60+BP60 | AV60: 183.7326 | AW60: =AV60/BW60-1 | AX60: 127.9314 | AY60: =AX60/BY60-1 | AZ60: 138.0333 | BA60: =AZ60/CA60-1 | BB60: 133.5952 | BC60: =BB60/CC60-1 | BD60: 127.722 | BE60: =BD60/CE60-1 | BF60: 126.0189 | BG60: =BF60/CG60-1 | BH60: 115.9799 | BI60: =BH60/CI60-1 | BJ60: 115.315 | BK60: =BJ60/CK60-1 | BL60: 117.4625 | BM60: =BL60/CM60-1 | BN60: 115.0477 | BO60: =BN60/CO60-1 | BP60: 116.7029 | BQ60: =BP60/CQ60-1 | BR60: 143.6199 | BS60: =BR60/CS60-1 | BT60: =AV60+AX60+AZ60+BB60+BD60+BF60+BH60+BJ60+BL60+BN60+BP60+BR60 | BU60: =BT60/SUM(BW60,BY60,CA60,CC60,CE60,CG60,CI60,CK60,CM60,CO60,CQ60,CS60)-1 | BW60: 152.8927 | BX60: =BW60/DK60-1 | BY60: 129.4822 | BZ60: =BY60/DL60-1 | CA60: 144.5666 | CB60: =CA60/DM60-1 | CC60: 142.0301 | CD60: =CC60/DN60-1 | CE60: 152.1596 | CF60: =CE60/DO60-1 | CG60: 153.4126 | CH60: =CG60/DP60-1 | CI60: 160.4055 | CJ60: =CI60/DQ60-1 | CK60: 147.1916 | CL60: =CK60/DR60-1 | CM60: 138.0211 | CN60: =CM60/DS60-1 | CO60: 128.733 | CP60: =CO60/DT60-1 | CQ60: 135.9641 | CR60: =CQ60/DV60-1 | CS60: 163.1532 | CT60: =CS60/DV60-1 | CU60: =BW60+BY60+CA60+CC60+CE60+CG60+CI60+CK60+CM60+CO60+CQ60+CS60 | CV60: =CU60/SUM(DK60:DV60)-1 | CX60: =CS60/CQ60-1 | CY60: =CQ60/CO60-1 | DJ60: 荆州市 | DK60: 46.6243 | DL60: 21.5924 | DM60: 36.007 | DN60: 30.433 | DO60: 25.3782 | DP60: 25.314 | DQ60: 25.3908 | DR60: 43.1388 | DS60: 36.1235 | DT60: 55.7337 | DU60: 68.2988 | DV60: 65.2869 | DW60: 0.56253051 | DX60: 479.3214 | DY60: 0.0671508 | EA60: 41.6604 | EB60: 22.4186 | EC60: 33.46229 | ED60: 37.93446 | EE60: 39.4837 | EF60: 38.8977 | EG60: 40.7162 | EH60: 36.9917 | EI60: 39.1363 | EJ60: 39.0789 | EK60: 37.5969 | EL60: 41.7828 | EO60: =SUM(EA60:EL60)
B61: 规下货运量 (万吨) | C61: 911.77933 | D61: =C61/T61-1 | E61: 521.11704 | F61: =E61/V61-1 | G61: 815.08918 | H61: =G61/X61-1 | I61: 895.37591 | J61: =I61/Z61-1 | K61: 911.95886 | L61: =K61/AB61-1 | M61: 873.41732 | N61: =M61/AD61-1 | O61: 869.59671 | P61: =O61/AF61-1 | Q61: =C61+E61+G61+I61+K61+M61+O61 | R61: =Q61/SUM(T61,V61,X61,Z61,AB61,AD61,AF61)-1 | T61: 678.99848 | U61: =T61/AV61-1 | V61: 604.42196 | W61: =V61/AX61-1 | X61: 830.9924 | Y61: =X61/AZ61-1 | Z61: 873.67061 | AA61: =Z61/BB61-1 | AB61: 856.2747 | AC61: =AB61/BD61-1 | AD61: 777.59944 | AE61: =AD61/BF61-1 | AF61: 833.81989 | AG61: =AF61/BH61-1 | AH61: 829.77501 | AI61: =AH61/BJ61-1 | AJ61: 886.3437 | AK61: =AJ61/BL61-1 | AL61: 815.98113 | AM61: =AL61/BN61-1 | AN61: 929.13411 | AO61: =AN61/BP61-1 | AP61: 964.19825 | AQ61: =AP61/BR61-1 | AR61: =T61+V61+X61+Z61+AB61+AD61+AF61+AH61+AJ61+AL61+AN61+AP61 | AS61: =AR61/SUM(AV61,AX61,AZ61,BB61,BD61,BF61,BH61,BJ61,BL61,BN61,BP61,BR61)-1 | AU61: =AV61+AX61+AZ61+BB61+BD61+BF61+BH61+BJ61+BL61+BN61+BP61 | AV61: 736.75217 | AW61: =AV61/BW61-1 | AX61: 355.26211 | AY61: =AX61/BY61-1 | AZ61: 790.11332 | BA61: =AZ61/CA61-1 | BB61: 828.36215 | BC61: =BB61/CC61-1 | BD61: 830.73201 | BE61: =BD61/CE61-1 | BF61: 768.14503 | BG61: =BF61/CG61-1 | BH61: 811.88258 | BI61: =BH61/CI61-1 | BJ61: 821.36576 | BK61: =BJ61/CK61-1 | BL61: 866.0728 | BM61: =BL61/CM61-1 | BN61: 844.42325 | BO61: =BN61/CO61-1 | BP61: 888.65977 | BQ61: =BP61/CQ61-1 | BR61: 888.07031 | BS61: =BR61/CS61-1 | BT61: =AV61+AX61+AZ61+BB61+BD61+BF61+BH61+BJ61+BL61+BN61+BP61+BR61 | BU61: =BT61/SUM(BW61,BY61,CA61,CC61,CE61,CG61,CI61,CK61,CM61,CO61,CQ61,CS61)-1 | BW61: 386.93039 | BX61: =BW61/DK61-1 | BY61: 544.3937 | BZ61: =BY61/DL61-1 | CA61: 702.10778 | CB61: =CA61/DM61-1 | CC61: 697.98959 | CD61: =CC61/DN61-1 | CE61: 733.79579 | CF61: =CE61/DO61-1 | CG61: 741.95611 | CH61: =CG61/DP61-1 | CI61: 736.18897 | CJ61: =CI61/DQ61-1 | CK61: 765.52577 | CL61: =CK61/DR61-1 | CM61: 797.31364 | CN61: =CM61/DS61-1 | CO61: 779.93959 | CP61: =CO61/DT61-1 | CQ61: 824.29033 | CR61: =CQ61/DV61-1 | CS61: 753.73498 | CT61: =CS61/DV61-1 | CU61: =BW61+BY61+CA61+CC61+CE61+CG61+CI61+CK61+CM61+CO61+CQ61+CS61 | CV61: =CU61/SUM(DK61:DV61)-1 | CX61: =CS61/CQ61-1 | CY61: =CQ61/CO61-1 | DK61: 574.76803 | DL61: 429.44867 | DM61: 691.39745 | DN61: 652.71864 | DO61: 737.73662 | DP61: 708.90342 | DQ61: 722.62693 | DR61: 677.06416 | DS61: 815.93856 | DT61: 731.95758 | DU61: 760.0568 | DV61: 737.93293 | DW61: -0.10887159 | DX61: 8240.5498 | DY61: -0.093562369 | EA61: 822.17355 | EB61: 343.03336 | EC61: 631.66234 | ED61: 782.81016 | EE61: 848.97812 | EF61: 922.42303 | EG61: 798.08394 | EH61: 653.84017 | EI61: 832.54425 | EJ61: 777.67513 | EK61: 849.82595 | EL61: 828.08821 | EO61: =SUM(EA61:EL61)
B62: 规上+规下周转量 (万吨公里) | C62: =C63+C64 | D62: =C62/T62-1 | E62: =E63+E64 | F62: =E62/V62-1 | G62: =G63+G64 | H62: =G62/X62-1 | I62: =I63+I64 | J62: =I62/Z62-1 | K62: =K63+K64 | L62: =K62/AB62-1 | M62: =M63+M64 | N62: =M62/AD62-1 | O62: =O63+O64 | P62: =O62/AF62-1 | Q62: =C62+E62+G62+I62+K62+M62+O62 | R62: =Q62/SUM(T62,V62,X62,Z62,AB62,AD62,AF62)-1 | T62: =T63+T64 | U62: =T62/AV62-1 | V62: =V63+V64 | W62: =V62/AX62-1 | X62: =X63+X64 | Y62: =X62/AZ62-1 | Z62: =Z63+Z64 | AA62: =Z62/BB62-1 | AB62: =AB63+AB64 | AC62: =AB62/BD62-1 | AD62: =AD63+AD64 | AE62: =AD62/BF62-1 | AF62: =AF63+AF64 | AG62: =AF62/BH62-1 | AH62: =AH63+AH64 | AI62: =AH62/BJ62-1 | AJ62: =AJ63+AJ64 | AK62: =AJ62/BL62-1 | AL62: =AL63+AL64 | AM62: =AL62/BN62-1 | AN62: =AN63+AN64 | AO62: =AN62/BP62-1 | AP62: =AP63+AP64 | AQ62: =AP62/BR62-1 | AR62: =T62+V62+X62+Z62+AB62+AD62+AF62+AH62+AJ62+AL62+AN62+AP62 | AS62: =AR62/SUM(AV62,AX62,AZ62,BB62,BD62,BF62,BH62,BJ62,BL62,BN62,BP62,BR62)-1 | AU62: =AV62+AX62+AZ62+BB62+BD62+BF62+BH62+BJ62+BL62+BN62+BP62 | AV62: =AV63+AV64 | AW62: =AV62/BW62-1 | AX62: =AX63+AX64 | AY62: =AX62/BY62-1 | AZ62: =AZ63+AZ64 | BA62: =AZ62/CA62-1 | BB62: =BB63+BB64 | BC62: =BB62/CC62-1 | BD62: =BD63+BD64 | BE62: =BD62/CE62-1 | BF62: =BF63+BF64 | BG62: =BF62/CG62-1 | BH62: =BH63+BH64 | BI62: =BH62/CI62-1 | BJ62: =BJ63+BJ64 | BK62: =BJ62/CK62-1 | BL62: =BL63+BL64 | BM62: =BL62/CM62-1 | BN62: =BN63+BN64 | BO62: =BN62/CO62-1 | BP62: =BP63+BP64 | BQ62: =BP62/CQ62-1 | BR62: =BR63+BR64 | BS62: =BR62/CS62-1 | BT62: =AV62+AX62+AZ62+BB62+BD62+BF62+BH62+BJ62+BL62+BN62+BP62+BR62 | BU62: =BT62/SUM(BW62,BY62,CA62,CC62,CE62,CG62,CI62,CK62,CM62,CO62,CQ62,CS62)-1 | BW62: =BW63+BW64 | BX62: =BW62/DK62-1 | BY62: =BY63+BY64 | BZ62: =BY62/DL62-1 | CA62: =SUM(CA63:CA64) | CB62: =CA62/DM62-1 | CC62: 142342.99 | CD62: =CC62/DN62-1 | CE62: 146765.84 | CF62: =CE62/DO62-1 | CG62: =CG63+CG64 | CH62: =CG62/DP62-1 | CI62: =CI63+CI64 | CJ62: =CI62/DQ62-1 | CK62: 145760.14 | CL62: =CK62/DR62-1 | CM62: =SUM(CM63:CM64) | CN62: =CM62/DS62-1 | CO62: =SUM(CO63:CO64) | CP62: =CO62/DT62-1 | CQ62: =CQ63+CQ64 | CR62: =CQ62/DV62-1 | CS62: =CS63+CS64 | CT62: =CS62/DV62-1 | CU62: =BW62+BY62+CA62+CC62+CE62+CG62+CI62+CK62+CM62+CO62+CQ62+CS62 | CV62: =CU62/SUM(DK62:DV62)-1 | CX62: =CS62/CQ62-1 | CY62: =CQ62/CO62-1 | DK62: 112723.01 | DL62: 77284.905 | DM62: 117989.34 | DN62: 117822.98 | DO62: 125547.08 | DP62: 119492.18 | DQ62: 119776.62 | DR62: 114862.52 | DS62: 137801.59 | DT62: 140204.89 | DU62: 153359.39 | DV62: 143818.74 | DW62: 0.11222346 | DX62: 1480683.2 | DY62: -0.049373928 | EA62: =EA63+EA64 | EB62: =EB63+EB64 | EC62: =EC63+EC64 | ED62: =ED63+ED64 | EE62: =EE63+EE64 | EF62: =EF63+EF64 | EG62: =EG63+EG64 | EH62: =EH63+EH64 | ... EL62: =EL63+EL64
B63: 规上货物周转量 (万吨公里) | C63: 51030.42 | D63: =C63/T63-1 | E63: 45357.896 | F63: =E63/V63-1 | G63: 63128.389 | H63: =G63/X63-1 | I63: 60100.222 | J63: =I63/Z63-1 | K63: 58796.997 | L63: =K63/AB63-1 | M63: 54790.19 | N63: =M63/AD63-1 | O63: 45622.774 | P63: =O63/AF63-1 | Q63: =C63+E63+G63+I63+K63+M63+O63 | R63: =Q63/SUM(T63,V63,X63,Z63,AB63,AD63,AF63)-1 | T63: 47985.905 | U63: =T63/AV63-1 | V63: 52499.564 | W63: =V63/AX63-1 | X63: 58070.258 | Y63: =X63/AZ63-1 | Z63: 57424.783 | AA63: =Z63/BB63-1 | AB63: 57800.386 | AC63: =AB63/BD63-1 | AD63: 58356.829 | AE63: =AD63/BF63-1 | AF63: 40028.695 | AG63: =AF63/BH63-1 | AH63: 35620.165 | AI63: =AH63/BJ63-1 | AJ63: 42579.212 | AK63: =AJ63/BL63-1 | AL63: 39812.518 | AM63: =AL63/BN63-1 | AN63: 39440.858 | AO63: =AN63/BP63-1 | AP63: 40747.956 | AQ63: =AP63/BR63-1 | AR63: =T63+V63+X63+Z63+AB63+AD63+AF63+AH63+AJ63+AL63+AN63+AP63 | AS63: =AR63/SUM(AV63,AX63,AZ63,BB63,BD63,BF63,BH63,BJ63,BL63,BN63,BP63,BR63)-1 | AU63: =AV63+AX63+AZ63+BB63+BD63+BF63+BH63+BJ63+BL63+BN63+BP63 | AV63: 71308.122 | AW63: =AV63/BW63-1 | AX63: 42519.081 | AY63: =AX63/BY63-1 | AZ63: 46254.274 | BA63: =AZ63/CA63-1 | BB63: 45053.984 | BC63: =BB63/CC63-1 | BD63: 42138.038 | BE63: =BD63/CE63-1 | BF63: 38889.129 | BG63: =BF63/CG63-1 | BH63: 35986.373 | BI63: =BH63/CI63-1 | BJ63: 34919.768 | BK63: =BJ63/CK63-1 | BL63: 35653.614 | BM63: =BL63/CM63-1 | BN63: 35212.349 | BO63: =BN63/CO63-1 | BP63: 35691.874 | BQ63: =BP63/CQ63-1 | BR63: 49245.103 | BS63: =BR63/CS63-1 | BT63: =AV63+AX63+AZ63+BB63+BD63+BF63+BH63+BJ63+BL63+BN63+BP63+BR63 | BU63: =BT63/SUM(BW63,BY63,CA63,CC63,CE63,CG63,CI63,CK63,CM63,CO63,CQ63,CS63)-1 | BW63: 65095.45 | BX63: =BW63/DK63-1 | BY63: 42893.253 | BZ63: =BY63/DL63-1 | CA63: 46531.255 | CB63: =CA63/DM63-1 | CC63: 45937.286 | CD63: =CC63/DN63-1 | CE63: 44051.597 | CF63: =CE63/DO63-1 | CG63: 43956.682 | CH63: =CG63/DP63-1 | CI63: 44765.357 | CJ63: =CI63/DQ63-1 | CK63: 42249.765 | CL63: =CK63/DR63-1 | CM63: 39917.27 | CN63: =CM63/DS63-1 | CO63: 38427.452 | CP63: =CO63/DT63-1 | CQ63: 39926.664 | CR63: =CQ63/DV63-1 | CS63: 48615.012 | CT63: =CS63/DV63-1 | CU63: =BW63+BY63+CA63+CC63+CE63+CG63+CI63+CK63+CM63+CO63+CQ63+CS63 | CV63: =CU63/SUM(DK63:DV63)-1 | CX63: =CS63/CQ63-1 | CY63: =CQ63/CO63-1 | DK63: 9713.7277 | DL63: 5858.5389 | DM63: 7734.2261 | DN63: 6872.9366 | DO63: 7083.985 | DP63: 7035.4129 | DQ63: 7179.0385 | DR63: 6996.6995 | DS63: 9378.0239 | DT63: 20483.245 | DU63: 39641.849 | DV63: 30028.683 | DW63: 2.2577151 | DX63: 158006.37 | DY63: 0.4700121 | EA63: 9183.6629 | EB63: 5653.1478 | EC63: 8525.6039 | ED63: 9141.3803 | EE63: 9133.326 | EF63: 10027.554 | EG63: 9515.4543 | EH63: 9507.5329 | EI63: 9608.4333 | EJ63: 9806.7472 | EK63: 8165.8837 | EL63: 9217.7129 | EO63: =SUM(EA63:EL63)
B64: 规下货物周转量 (万吨公里) | C64: 127341.42 | D64: =C64/T64-1 | E64: 71600.833 | F64: =E64/V64-1 | G64: 107039.71 | H64: =G64/X64-1 | I64: 113840.14 | J64: =I64/Z64-1 | K64: 115480.46 | L64: =K64/AB64-1 | M64: 110389.62 | N64: =M64/AD64-1 | O64: 111827.17 | P64: =O64/AF64-1 | Q64: =C64+E64+G64+I64+K64+M64+O64 | R64: =Q64/SUM(T64,V64,X64,Z64,AB64,AD64,AF64)-1 | T64: 99601.186 | U64: =T64/AV64-1 | V64: 82757.711 | W64: =V64/AX64-1 | X64: 114829.88 | Y64: =X64/AZ64-1 | Z64: 115082.92 | AA64: =Z64/BB64-1 | AB64: 114165.93 | AC64: =AB64/BD64-1 | AD64: 103939.53 | AE64: =AD64/BF64-1 | AF64: 113581.39 | AG64: =AF64/BH64-1 | AH64: 113898.57 | AI64: =AH64/BJ64-1 | AJ64: 120142.22 | AK64: =AJ64/BL64-1 | AL64: 111360.28 | AM64: =AL64/BN64-1 | AN64: 125037.13 | AO64: =AN64/BP64-1 | AP64: 132867.95 | AQ64: =AP64/BR64-1 | AR64: =T64+V64+X64+Z64+AB64+AD64+AF64+AH64+AJ64+AL64+AN64+AP64 | AS64: =AR64/SUM(AV64,AX64,AZ64,BB64,BD64,BF64,BH64,BJ64,BL64,BN64,BP64,BR64)-1 | AU64: =AV64+AX64+AZ64+BB64+BD64+BF64+BH64+BJ64+BL64+BN64+BP64 | AV64: 98736.074 | AW64: =AV64/BW64-1 | AX64: 50250.281 | AY64: =AX64/BY64-1 | AZ64: 109966.93 | BA64: =AZ64/CA64-1 | BB64: 113094.47 | BC64: =BB64/CC64-1 | BD64: 113558.78 | BE64: =BD64/CE64-1 | BF64: 104774.94 | BG64: =BF64/CG64-1 | BH64: 110430.21 | BI64: =BH64/CI64-1 | BJ64: 111997.28 | BK64: =BJ64/CK64-1 | BL64: 119406.95 | BM64: =BL64/CM64-1 | BN64: 121361.41 | BO64: =BN64/CO64-1 | BP64: 128559.6 | BQ64: =BP64/CQ64-1 | BR64: 126068.89 | BS64: =BR64/CS64-1 | BT64: =AV64+AX64+AZ64+BB64+BD64+BF64+BH64+BJ64+BL64+BN64+BP64+BR64 | BU64: =BT64/SUM(BW64,BY64,CA64,CC64,CE64,CG64,CI64,CK64,CM64,CO64,CQ64,CS64)-1 | BW64: 49267.605 | BX64: =BW64/DK64-1 | BY64: 77645.435 | BZ64: =BY64/DL64-1 | CA64: 96816.034 | CB64: =CA64/DM64-1 | CC64: 96405.708 | CD64: =CC64/DN64-1 | CE64: 102714.25 | CF64: =CE64/DO64-1 | CG64: 102371.89 | CH64: =CG64/DP64-1 | CI64: 99879.712 | CJ64: =CI64/DQ64-1 | CK64: 103510.37 | CL64: =CK64/DR64-1 | CM64: 112100.38 | CN64: =CM64/DS64-1 | CO64: 112143.66 | CP64: =CO64/DT64-1 | CQ64: 124884.86 | CR64: =CQ64/DV64-1 | CS64: 113215.78 | CT64: =CS64/DV64-1 | CU64: =BW64+BY64+CA64+CC64+CE64+CG64+CI64+CK64+CM64+CO64+CQ64+CS64 | CV64: =CU64/SUM(DK64:DV64)-1 | CX64: =CS64/CQ64-1 | CY64: =CQ64/CO64-1 | DK64: 103009.28 | DL64: 71426.366 | DM64: 110255.11 | DN64: 110950.04 | DO64: 118463.09 | DP64: 112456.77 | DQ64: 112597.59 | DR64: 107865.82 | DS64: 128423.57 | DT64: 119721.64 | DU64: 113717.54 | DV64: 113790.05 | DW64: -0.05245783 | DX64: 1322676.9 | DY64: -0.087872594 | EA64: 148715.93 | EB64: 70852.596 | EC64: 109621.83 | ED64: 128566.37 | EE64: 134616.95 | EF64: 137777.83 | EG64: 115394.52 | EH64: 107256.33 | EI64: 129383.11 | EJ64: 118503.66 | EK64: 129322.19 | EL64: 120089.7 | EO64: =SUM(EA64:EL64)
A65: 黄冈市 | B65: 规上+规下货运量 (万吨) | C65: 1205.6644 | D65: =C65/T65-1 | E65: 806.17331 | F65: =E65/V65-1 | G65: 1177.4755 | H65: =G65/X65-1 | I65: 1227.5969 | J65: =I65/Z65-1 | K65: 1219.3955 | L65: =K65/AB65-1 | M65: 1138.437 | N65: =M65/AD65-1 | O65: 1057.6557 | P65: =O65/AF65-1 | Q65: =C65+E65+G65+I65+K65+M65+O65 | R65: =Q65/SUM(T65,V65,X65,Z65,AB65,AD65,AF65)-1 | T65: 994.96925 | U65: =T65/AV65-1 | V65: 902.47401 | W65: =V65/AX65-1 | X65: 1185.0827 | Y65: =X65/AZ65-1 | Z65: 1223.5563 | AA65: =Z65/BB65-1 | AB65: 1180.3119 | AC65: =AB65/BD65-1 | AD65: 1050.6258 | AE65: =AD65/BF65-1 | AF65: 1070.8728 | AG65: =AF65/BH65-1 | AH65: 1056.6987 | AI65: =AH65/BJ65-1 | AJ65: 1129.3308 | AK65: =AJ65/BL65-1 | AL65: 1103.6879 | AM65: =AL65/BN65-1 | AN65: 1131.8119 | AO65: =AN65/BP65-1 | AP65: 1180.2628 | AQ65: =AP65/BR65-1 | AR65: =T65+V65+X65+Z65+AB65+AD65+AF65+AH65+AJ65+AL65+AN65+AP65 | AS65: =AR65/SUM(AV65,AX65,AZ65,BB65,BD65,BF65,BH65,BJ65,BL65,BN65,BP65,BR65)-1 | AU65: =AV65+AX65+AZ65+BB65+BD65+BF65+BH65+BJ65+BL65+BN65+BP65 | AV65: 1058.5476 | AW65: =AV65/BW65-1 | AX65: 603.56201 | AY65: =AX65/BY65-1 | AZ65: 1051.4803 | BA65: =AZ65/CA65-1 | BB65: 1118.1436 | BC65: =BB65/CC65-1 | BD65: 1089.371 | BE65: =BD65/CE65-1 | BF65: 977.79697 | BG65: =BF65/CG65-1 | BH65: 1012.0797 | BI65: =BH65/CI65-1 | BJ65: 1034.2121 | BK65: =BJ65/CK65-1 | BL65: 1081.1135 | BM65: =BL65/CM65-1 | BN65: 1113.865 | BO65: =BN65/CO65-1 | BP65: 1119.1392 | BQ65: =BP65/CQ65-1 | BR65: 1196.8601 | BS65: =BR65/CS65-1 | BT65: =AV65+AX65+AZ65+BB65+BD65+BF65+BH65+BJ65+BL65+BN65+BP65+BR65 | BU65: =BT65/SUM(BW65,BY65,CA65,CC65,CE65,CG65,CI65,CK65,CM65,CO65,CQ65,CS65)-1 | BW65: 629.47008 | BX65: =BW65/DK65-1 | BY65: 777.63924 | BZ65: =BY65/DL65-1 | CA65: 1013.2259 | CB65: =CA65/DM65-1 | CC65: 1000.2834 | CD65: =CC65/DN65-1 | CE65: 1004.6128 | CF65: =CE65/DO65-1 | CG65: 961.52282 | CH65: =CG65/DP65-1 | CI65: 958.28903 | CJ65: =CI65/DQ65-1 | CK65: 997.18299 | CL65: =CK65/DR65-1 | CM65: 1020.143 | CN65: =CM65/DS65-1 | CO65: 1090.8598 | CP65: =CO65/DT65-1 | CQ65: 1085.8041 | CR65: =CQ65/DV65-1 | CS65: 1108.0416 | CT65: =CS65/DV65-1 | CU65: =BW65+BY65+CA65+CC65+CE65+CG65+CI65+CK65+CM65+CO65+CQ65+CS65 | CV65: =CU65/SUM(DK65:DV65)-1 | CX65: =CS65/CQ65-1 | CY65: =CQ65/CO65-1 | DK65: 723.75191 | DL65: 482.45439 | DM65: 840.08965 | DN65: 798.56708 | DO65: 851.75697 | DP65: 774.05193 | DQ65: 806.50863 | DR65: 816.92324 | DS65: 929.04368 | DT65: 940.47121 | DU65: 916.45526 | DV65: 965.61298 | DW65: -0.041405863 | DX65: 9845.6869 | DY65: -0.071262056 | EA65: 1007.2023 | EB65: 366.12603 | EC65: 776.40376 | ED65: 980.29707 | EE65: 945.71165 | EF65: 968.50512 | EG65: 860.88063 | EH65: 800.54234 | EI65: 946.85481 | EJ65: 895.32866 | EK65: 1045.9721 | EL65: 1007.322 | EO65: =SUM(EA65:EL65)
B66: 规上货运量 (万吨) | C66: 681.2375 | D66: =C66/T66-1 | E66: 641.1772 | F66: =E66/V66-1 | G66: 782.4605 | H66: =G66/X66-1 | I66: 689.3492 | J66: =I66/Z66-1 | K66: 707.9711 | L66: =K66/AB66-1 | M66: 725.5511 | N66: =M66/AD66-1 | O66: 608.7164 | P66: =O66/AF66-1 | Q66: =C66+E66+G66+I66+K66+M66+O66 | R66: =Q66/SUM(T66,V66,X66,Z66,AB66,AD66,AF66)-1 | T66: 549.635 | U66: =T66/AV66-1 | V66: 544.8064 | W66: =V66/AX66-1 | X66: 608.3537 | Y66: =X66/AZ66-1 | Z66: 621.3474 | AA66: =Z66/BB66-1 | AB66: 638.2092 | AC66: =AB66/BD66-1 | AD66: 628.9819 | AE66: =AD66/BF66-1 | AF66: 669.541 | AG66: =AF66/BH66-1 | AH66: 628.3199 | AI66: =AH66/BJ66-1 | AJ66: 631.7507 | AK66: =AJ66/BL66-1 | AL66: 585.0616 | AM66: =AL66/BN66-1 | AN66: 558.7996 | AO66: =AN66/BP66-1 | AP66: 557.6649 | AQ66: =AP66/BR66-1 | AR66: =T66+V66+X66+Z66+AB66+AD66+AF66+AH66+AJ66+AL66+AN66+AP66 | AS66: =AR66/SUM(AV66,AX66,AZ66,BB66,BD66,BF66,BH66,BJ66,BL66,BN66,BP66,BR66)-1 | AU66: =AV66+AX66+AZ66+BB66+BD66+BF66+BH66+BJ66+BL66+BN66+BP66 | AV66: 486.4066 | AW66: =AV66/BW66-1 | AX66: 480.1331 | AY66: =AX66/BY66-1 | AZ66: 518.6851 | BA66: =AZ66/CA66-1 | BB66: 503.1702 | BC66: =BB66/CC66-1 | BD66: 517.0524 | BE66: =BD66/CE66-1 | BF66: 498.3489 | BG66: =BF66/CG66-1 | BH66: 538.2531 | BI66: =BH66/CI66-1 | BJ66: 534.4928 | BK66: =BJ66/CK66-1 | BL66: 544.7082 | BM66: =BL66/CM66-1 | BN66: 513.8695 | BO66: =BN66/CO66-1 | BP66: 502.2296 | BQ66: =BP66/CQ66-1 | BR66: 515.6625 | BS66: =BR66/CS66-1 | BT66: =AV66+AX66+AZ66+BB66+BD66+BF66+BH66+BJ66+BL66+BN66+BP66+BR66 | BU66: =BT66/SUM(BW66,BY66,CA66,CC66,CE66,CG66,CI66,CK66,CM66,CO66,CQ66,CS66)-1 | BW66: 294.4582 | BX66: =BW66/DK66-1 | BY66: 397.6894 | BZ66: =BY66/DL66-1 | CA66: 408.519 | CB66: =CA66/DM66-1 | CC66: 407.2325 | CD66: =CC66/DN66-1 | CE66: 379.8953 | CF66: =CE66/DO66-1 | CG66: 390.7906 | CH66: =CG66/DP66-1 | CI66: 374.5288 | CJ66: =CI66/DQ66-1 | CK66: 360.0089 | CL66: =CK66/DR66-1 | CM66: 375.7552 | CN66: =CM66/DS66-1 | CO66: 402.824 | CP66: =CO66/DT66-1 | CQ66: 425.1745 | CR66: =CQ66/DV66-1 | CS66: 451.4055 | CT66: =CS66/DV66-1 | CU66: =BW66+BY66+CA66+CC66+CE66+CG66+CI66+CK66+CM66+CO66+CQ66+CS66 | CV66: =CU66/SUM(DK66:DV66)-1 | CX66: =CS66/CQ66-1 | CY66: =CQ66/CO66-1 | DJ66: 黄冈市 | DK66: 79.0213 | DL66: 65.6559 | DM66: 82.748 | DN66: 66.8873 | DO66: 82.1482 | DP66: 83.5213 | DQ66: 72.6343 | DR66: 80.0031 | DS66: 100.7409 | DT66: 113.5104 | DU66: 111.3303 | DV66: 145.2406 | DW66: 1.8058659 | DX66: 1083.4416 | DY66: 1.0057983 | EA66: 88.9577 | EB66: 27.5093 | EC66: 30.0013 | ED66: 32.346 | EE66: 40.0475 | EF66: 42.853 | EG66: 43.5878 | EH66: 40.8831 | EI66: 45.6208 | EJ66: 47.8424 | EK66: 48.7427 | EL66: 51.7632 | EO66: =SUM(EA66:EL66)
B67: 规下货运量 (万吨) | C67: 524.42691 | D67: =C67/T67-1 | E67: 164.99611 | F67: =E67/V67-1 | G67: 395.01504 | H67: =G67/X67-1 | I67: 538.2477 | J67: =I67/Z67-1 | K67: 511.4244 | L67: =K67/AB67-1 | M67: 412.88591 | N67: =M67/AD67-1 | O67: 448.9393 | P67: =O67/AF67-1 | Q67: =C67+E67+G67+I67+K67+M67+O67 | R67: =Q67/SUM(T67,V67,X67,Z67,AB67,AD67,AF67)-1 | T67: 445.33425 | U67: =T67/AV67-1 | V67: 357.66761 | W67: =V67/AX67-1 | X67: 576.72903 | Y67: =X67/AZ67-1 | Z67: 602.20891 | AA67: =Z67/BB67-1 | AB67: 542.10266 | AC67: =AB67/BD67-1 | AD67: 421.64388 | AE67: =AD67/BF67-1 | AF67: 401.33181 | AG67: =AF67/BH67-1 | AH67: 428.37882 | AI67: =AH67/BJ67-1 | AJ67: 497.58013 | AK67: =AJ67/BL67-1 | AL67: 518.62633 | AM67: =AL67/BN67-1 | AN67: 573.01233 | AO67: =AN67/BP67-1 | AP67: 622.59793 | AQ67: =AP67/BR67-1 | AR67: =T67+V67+X67+Z67+AB67+AD67+AF67+AH67+AJ67+AL67+AN67+AP67 | AS67: =AR67/SUM(AV67,AX67,AZ67,BB67,BD67,BF67,BH67,BJ67,BL67,BN67,BP67,BR67)-1 | AU67: =AV67+AX67+AZ67+BB67+BD67+BF67+BH67+BJ67+BL67+BN67+BP67 | AV67: 572.14102 | AW67: =AV67/BW67-1 | AX67: 123.42891 | AY67: =AX67/BY67-1 | AZ67: 532.79516 | BA67: =AZ67/CA67-1 | BB67: 614.97343 | BC67: =BB67/CC67-1 | BD67: 572.31857 | BE67: =BD67/CE67-1 | BF67: 479.44807 | BG67: =BF67/CG67-1 | BH67: 473.82662 | BI67: =BH67/CI67-1 | BJ67: 499.71925 | BK67: =BJ67/CK67-1 | BL67: 536.40534 | BM67: =BL67/CM67-1 | BN67: 599.99553 | BO67: =BN67/CO67-1 | BP67: 616.90963 | BQ67: =BP67/CQ67-1 | BR67: 681.19759 | BS67: =BR67/CS67-1 | BT67: =AV67+AX67+AZ67+BB67+BD67+BF67+BH67+BJ67+BL67+BN67+BP67+BR67 | BU67: =BT67/SUM(BW67,BY67,CA67,CC67,CE67,CG67,CI67,CK67,CM67,CO67,CQ67,CS67)-1 | BW67: 335.01188 | BX67: =BW67/DK67-1 | BY67: 379.94984 | BZ67: =BY67/DL67-1 | CA67: 604.70686 | CB67: =CA67/DM67-1 | CC67: 593.05092 | CD67: =CC67/DN67-1 | CE67: 624.71745 | CF67: =CE67/DO67-1 | CG67: 570.73222 | CH67: =CG67/DP67-1 | CI67: 583.76023 | CJ67: =CI67/DQ67-1 | CK67: 637.17409 | CL67: =CK67/DR67-1 | CM67: 644.38775 | CN67: =CM67/DS67-1 | CO67: 688.03585 | CP67: =CO67/DT67-1 | CQ67: 660.62963 | CR67: =CQ67/DV67-1 | CS67: 656.63614 | CT67: =CS67/DV67-1 | CU67: =BW67+BY67+CA67+CC67+CE67+CG67+CI67+CK67+CM67+CO67+CQ67+CS67 | CV67: =CU67/SUM(DK67:DV67)-1 | CX67: =CS67/CQ67-1 | CY67: =CQ67/CO67-1 | DK67: 644.73061 | DL67: 416.79849 | DM67: 757.34165 | DN67: 731.67978 | DO67: 769.60877 | DP67: 690.53063 | DQ67: 733.87433 | DR67: 736.92014 | DS67: 828.30278 | DT67: 826.96081 | DU67: 805.12496 | DV67: 820.37238 | DW67: -0.1414737 | DX67: 8762.2453 | DY67: -0.1290873 | EA67: 918.24456 | EB67: 338.61673 | EC67: 746.40246 | ED67: 947.95107 | EE67: 905.66415 | EF67: 925.65212 | EG67: 817.29283 | EH67: 759.65924 | EI67: 901.23401 | EJ67: 847.48626 | EK67: 997.22936 | EL67: 955.55882 | EO67: =SUM(EA67:EL67)
B68: 规上+规下周转量 (万吨公里) | C68: =C69+C70 | D68: =C68/T68-1 | E68: =E69+E70 | F68: =E68/V68-1 | G68: =G69+G70 | H68: =G68/X68-1 | I68: =I69+I70 | J68: =I68/Z68-1 | K68: =K69+K70 | L68: =K68/AB68-1 | M68: =M69+M70 | N68: =M68/AD68-1 | O68: =O69+O70 | P68: =O68/AF68-1 | Q68: =C68+E68+G68+I68+K68+M68+O68 | R68: =Q68/SUM(T68,V68,X68,Z68,AB68,AD68,AF68)-1 | T68: =T69+T70 | U68: =T68/AV68-1 | V68: =V69+V70 | W68: =V68/AX68-1 | X68: =X69+X70 | Y68: =X68/AZ68-1 | Z68: =Z69+Z70 | AA68: =Z68/BB68-1 | AB68: =AB69+AB70 | AC68: =AB68/BD68-1 | AD68: =AD69+AD70 | AE68: =AD68/BF68-1 | AF68: =AF69+AF70 | AG68: =AF68/BH68-1 | AH68: =AH69+AH70 | AI68: =AH68/BJ68-1 | AJ68: =AJ69+AJ70 | AK68: =AJ68/BL68-1 | AL68: =AL69+AL70 | AM68: =AL68/BN68-1 | AN68: =AN69+AN70 | AO68: =AN68/BP68-1 | AP68: =AP69+AP70 | AQ68: =AP68/BR68-1 | AR68: =T68+V68+X68+Z68+AB68+AD68+AF68+AH68+AJ68+AL68+AN68+AP68 | AS68: =AR68/SUM(AV68,AX68,AZ68,BB68,BD68,BF68,BH68,BJ68,BL68,BN68,BP68,BR68)-1 | AU68: =AV68+AX68+AZ68+BB68+BD68+BF68+BH68+BJ68+BL68+BN68+BP68 | AV68: =AV69+AV70 | AW68: =AV68/BW68-1 | AX68: =AX69+AX70 | AY68: =AX68/BY68-1 | AZ68: =AZ69+AZ70 | BA68: =AZ68/CA68-1 | BB68: =BB69+BB70 | BC68: =BB68/CC68-1 | BD68: =BD69+BD70 | BE68: =BD68/CE68-1 | BF68: =BF69+BF70 | BG68: =BF68/CG68-1 | BH68: =BH69+BH70 | BI68: =BH68/CI68-1 | BJ68: =BJ69+BJ70 | BK68: =BJ68/CK68-1 | BL68: =BL69+BL70 | BM68: =BL68/CM68-1 | BN68: =BN69+BN70 | BO68: =BN68/CO68-1 | BP68: =BP69+BP70 | BQ68: =BP68/CQ68-1 | BR68: =BR69+BR70 | BS68: =BR68/CS68-1 | BT68: =AV68+AX68+AZ68+BB68+BD68+BF68+BH68+BJ68+BL68+BN68+BP68+BR68 | BU68: =BT68/SUM(BW68,BY68,CA68,CC68,CE68,CG68,CI68,CK68,CM68,CO68,CQ68,CS68)-1 | BW68: =BW69+BW70 | BX68: =BW68/DK68-1 | BY68: =BY69+BY70 | BZ68: =BY68/DL68-1 | CA68: =SUM(CA69:CA70) | CB68: =CA68/DM68-1 | CC68: 112001.19 | CD68: =CC68/DN68-1 | CE68: 113470.97 | CF68: =CE68/DO68-1 | CG68: =CG69+CG70 | CH68: =CG68/DP68-1 | CI68: =CI69+CI70 | CJ68: =CI68/DQ68-1 | CK68: 108568.05 | CL68: =CK68/DR68-1 | CM68: =SUM(CM69:CM70) | CN68: =CM68/DS68-1 | CO68: =SUM(CO69:CO70) | CP68: =CO68/DT68-1 | CQ68: =CQ69+CQ70 | CR68: =CQ68/DV68-1 | CS68: =CS69+CS70 | CT68: =CS68/DV68-1 | CU68: =BW68+BY68+CA68+CC68+CE68+CG68+CI68+CK68+CM68+CO68+CQ68+CS68 | CV68: =CU68/SUM(DK68:DV68)-1 | CX68: =CS68/CQ68-1 | CY68: =CQ68/CO68-1 | DK68: 81913.393 | DL68: 57691.544 | DM68: 87644.951 | DN68: 88422.026 | DO68: 92141.6 | DP68: 84356.924 | DQ68: 87172.929 | DR68: 87109.25 | DS68: 102120.32 | DT68: 108474.68 | DU68: 107247.45 | DV68: 114928.5 | DW68: 0.074882583 | DX68: 1099223.6 | DY68: -0.029587112 | EA68: =EA69+EA70 | EB68: =EB69+EB70 | EC68: =EC69+EC70 | ED68: =ED69+ED70 | EE68: =EE69+EE70 | EF68: =EF69+EF70 | EG68: =EG69+EG70 | EH68: =EH69+EH70 | ... EL68: =EL69+EL70
B69: 规上货物周转量 (万吨公里) | C69: 87883.344 | D69: =C69/T69-1 | E69: 85275.358 | F69: =E69/V69-1 | G69: 110376.34 | H69: =G69/X69-1 | I69: 94294.541 | J69: =I69/Z69-1 | K69: 99094.463 | L69: =K69/AB69-1 | M69: 99634.901 | N69: =M69/AD69-1 | O69: 78790.018 | P69: =O69/AF69-1 | Q69: =C69+E69+G69+I69+K69+M69+O69 | R69: =Q69/SUM(T69,V69,X69,Z69,AB69,AD69,AF69)-1 | T69: 79870.608 | U69: =T69/AV69-1 | V69: 78247.845 | W69: =V69/AX69-1 | X69: 83702.637 | Y69: =X69/AZ69-1 | Z69: 85893.475 | AA69: =Z69/BB69-1 | AB69: 90566.184 | AC69: =AB69/BD69-1 | AD69: 86876.487 | AE69: =AD69/BF69-1 | AF69: 78447.891 | AG69: =AF69/BH69-1 | AH69: 79223.782 | AI69: =AH69/BJ69-1 | AJ69: 81850.281 | AK69: =AJ69/BL69-1 | AL69: 76478.929 | AM69: =AL69/BN69-1 | AN69: 74461.917 | AO69: =AN69/BP69-1 | AP69: 73869.187 | AQ69: =AP69/BR69-1 | AR69: =T69+V69+X69+Z69+AB69+AD69+AF69+AH69+AJ69+AL69+AN69+AP69 | AS69: =AR69/SUM(AV69,AX69,AZ69,BB69,BD69,BF69,BH69,BJ69,BL69,BN69,BP69,BR69)-1 | AU69: =AV69+AX69+AZ69+BB69+BD69+BF69+BH69+BJ69+BL69+BN69+BP69 | AV69: 62248.338 | AW69: =AV69/BW69-1 | AX69: 57979.026 | AY69: =AX69/BY69-1 | AZ69: 63021.071 | BA69: =AZ69/CA69-1 | BB69: 63940.038 | BC69: =BB69/CC69-1 | BD69: 65773.228 | BE69: =BD69/CE69-1 | BF69: 66229.747 | BG69: =BF69/CG69-1 | BH69: 71543.092 | BI69: =BH69/CI69-1 | BJ69: 80438.203 | BK69: =BJ69/CK69-1 | BL69: 83410.193 | BM69: =BL69/CM69-1 | BN69: 81841.965 | BO69: =BN69/CO69-1 | BP69: 79646.702 | BQ69: =BP69/CQ69-1 | BR69: 79967.758 | BS69: =BR69/CS69-1 | BT69: =AV69+AX69+AZ69+BB69+BD69+BF69+BH69+BJ69+BL69+BN69+BP69+BR69 | BU69: =BT69/SUM(BW69,BY69,CA69,CC69,CE69,CG69,CI69,CK69,CM69,CO69,CQ69,CS69)-1 | BW69: 36016.365 | BX69: =BW69/DK69-1 | BY69: 52485.14 | BZ69: =BY69/DL69-1 | CA69: 51271.682 | CB69: =CA69/DM69-1 | CC69: 52749.637 | CD69: =CC69/DN69-1 | CE69: 52210.25 | CF69: =CE69/DO69-1 | CG69: 52723.554 | CH69: =CG69/DP69-1 | CI69: 51887.487 | CJ69: =CI69/DQ69-1 | CK69: 46088.203 | CL69: =CK69/DR69-1 | CM69: 47576.739 | CN69: =CM69/DS69-1 | CO69: 49379.301 | CP69: =CO69/DT69-1 | CQ69: 52539.801 | CR69: =CQ69/DV69-1 | CS69: 55278.154 | CT69: =CS69/DV69-1 | CU69: =BW69+BY69+CA69+CC69+CE69+CG69+CI69+CK69+CM69+CO69+CQ69+CS69 | CV69: =CU69/SUM(DK69:DV69)-1 | CX69: =CS69/CQ69-1 | CY69: =CQ69/CO69-1 | DK69: 14088.219 | DL69: 14491.916 | DM69: 9993.9582 | DN69: 8412.3939 | DO69: 9303.2456 | DP69: 9194.6196 | DQ69: 8362.9494 | DR69: 8753.3005 | DS69: 10816.288 | DT69: 12273.713 | DU69: 12661.917 | DV69: 16946.942 | DW69: 1.0594365 | DX69: 135299.46 | DY69: 0.58672793 | EA69: 9102.8013 | EB69: 5915.8161 | EC69: 6278.2211 | ED69: 6371.6293 | EE69: 6523.0992 | EF69: 6833.2607 | EG69: 7011.0955 | EH69: 6765.953 | EI69: 7283.5645 | EJ69: 7373.2724 | EK69: 7581.8428 | EL69: 8228.9218 | EO69: =SUM(EA69:EL69)
B70: 规下货物周转量 (万吨公里) | C70: 39788.432 | D70: =C70/T70-1 | E70: 11732.134 | F70: =E70/V70-1 | G70: 24132.135 | H70: =G70/X70-1 | I70: 42237.076 | J70: =I70/Z70-1 | K70: 39212.209 | L70: =K70/AB70-1 | M70: 28313.166 | N70: =M70/AD70-1 | O70: 39152.243 | P70: =O70/AF70-1 | Q70: =C70+E70+G70+I70+K70+M70+O70 | R70: =Q70/SUM(T70,V70,X70,Z70,AB70,AD70,AF70)-1 | T70: 31856.27 | U70: =T70/AV70-1 | V70: 32086.748 | W70: =V70/AX70-1 | X70: 51484.964 | Y70: =X70/AZ70-1 | Z70: 50818.219 | AA70: =Z70/BB70-1 | AB70: 47014.103 | AC70: =AB70/BD70-1 | AD70: 36593.213 | AE70: =AD70/BF70-1 | AF70: 40524.93 | AG70: =AF70/BH70-1 | AH70: 38047.215 | AI70: =AH70/BJ70-1 | AJ70: 44164.16 | AK70: =AJ70/BL70-1 | AL70: 44893.03 | AM70: =AL70/BN70-1 | AN70: 47625.231 | AO70: =AN70/BP70-1 | AP70: 56480.117 | AQ70: =AP70/BR70-1 | AR70: =T70+V70+X70+Z70+AB70+AD70+AF70+AH70+AJ70+AL70+AN70+AP70 | AS70: =AR70/SUM(AV70,AX70,AZ70,BB70,BD70,BF70,BH70,BJ70,BL70,BN70,BP70,BR70)-1 | AU70: =AV70+AX70+AZ70+BB70+BD70+BF70+BH70+BJ70+BL70+BN70+BP70 | AV70: 50603.155 | AW70: =AV70/BW70-1 | AX70: 16200.941 | AY70: =AX70/BY70-1 | AZ70: 55281.978 | BA70: =AZ70/CA70-1 | BB70: 57529.067 | BC70: =BB70/CC70-1 | BD70: 55225.526 | BE70: =BD70/CE70-1 | BF70: 43666.2 | BG70: =BF70/CG70-1 | BH70: 42627.968 | BI70: =BH70/CI70-1 | BJ70: 37250.223 | BK70: =BJ70/CK70-1 | BL70: 40768.01 | BM70: =BL70/CM70-1 | BN70: 47112.823 | BO70: =BN70/CO70-1 | BP70: 48572.998 | BQ70: =BP70/CQ70-1 | BR70: 61304.575 | BS70: =BR70/CS70-1 | BT70: =AV70+AX70+AZ70+BB70+BD70+BF70+BH70+BJ70+BL70+BN70+BP70+BR70 | BU70: =BT70/SUM(BW70,BY70,CA70,CC70,CE70,CG70,CI70,CK70,CM70,CO70,CQ70,CS70)-1 | BW70: 40205.354 | BX70: =BW70/DK70-1 | BY70: 43948.145 | BZ70: =BY70/DL70-1 | CA70: 62883.134 | CB70: =CA70/DM70-1 | CC70: 59251.554 | CD70: =CC70/DN70-1 | CE70: 61260.723 | CF70: =CE70/DO70-1 | CG70: 55314.964 | CH70: =CG70/DP70-1 | CI70: 55620.71 | CJ70: =CI70/DQ70-1 | CK70: 62479.851 | CL70: =CK70/DR70-1 | CM70: 66199.623 | CN70: =CM70/DS70-1 | CO70: 69464.989 | CP70: =CO70/DT70-1 | CQ70: 67951.762 | CR70: =CQ70/DV70-1 | CS70: 74480.388 | CT70: =CS70/DV70-1 | CU70: =BW70+BY70+CA70+CC70+CE70+CG70+CI70+CK70+CM70+CO70+CQ70+CS70 | CV70: =CU70/SUM(DK70:DV70)-1 | CX70: =CS70/CQ70-1 | CY70: =CQ70/CO70-1 | DK70: 67825.175 | DL70: 43199.629 | DM70: 77650.993 | DN70: 80009.632 | DO70: 82838.354 | DP70: 75162.304 | DQ70: 78809.98 | DR70: 78355.949 | DS70: 91304.031 | DT70: 96200.966 | DU70: 94585.529 | DV70: 97981.561 | DW70: -0.00720853 | DX70: 963924.1 | DY70: -0.079758416 | EA70: 94656.181 | EB70: 42684.578 | EC70: 75423.131 | ED70: 91941.235 | EE70: 93089.436 | EF70: 94227.859 | EG70: 83868.988 | EH70: 84231.516 | EI70: 95651.4 | EJ70: 87668.032 | EK70: 105333.18 | EL70: 98692.993 | EO70: =SUM(EA70:EL70)
A71: 咸宁市 | B71: 规上+规下货运量 (万吨) | C71: 809.67391 | D71: =C71/T71-1 | E71: 467.4893 | F71: =E71/V71-1 | G71: 683.14791 | H71: =G71/X71-1 | I71: 717.01981 | J71: =I71/Z71-1 | K71: 725.81709 | L71: =K71/AB71-1 | M71: 679.73439 | N71: =M71/AD71-1 | O71: 705.18839 | P71: =O71/AF71-1 | Q71: =C71+E71+G71+I71+K71+M71+O71 | R71: =Q71/SUM(T71,V71,X71,Z71,AB71,AD71,AF71)-1 | T71: 644.04558 | U71: =T71/AV71-1 | V71: 521.64087 | W71: =V71/AX71-1 | X71: 684.59459 | Y71: =X71/AZ71-1 | Z71: 702.96567 | AA71: =Z71/BB71-1 | AB71: 689.92912 | AC71: =AB71/BD71-1 | AD71: 634.41327 | AE71: =AD71/BF71-1 | AF71: 701.56418 | AG71: =AF71/BH71-1 | AH71: 671.18474 | AI71: =AH71/BJ71-1 | AJ71: 720.66056 | AK71: =AJ71/BL71-1 | AL71: 681.02054 | AM71: =AL71/BN71-1 | AN71: 752.96979 | AO71: =AN71/BP71-1 | AP71: 836.84511 | AQ71: =AP71/BR71-1 | AR71: =T71+V71+X71+Z71+AB71+AD71+AF71+AH71+AJ71+AL71+AN71+AP71 | AS71: =AR71/SUM(AV71,AX71,AZ71,BB71,BD71,BF71,BH71,BJ71,BL71,BN71,BP71,BR71)-1 | AU71: =AV71+AX71+AZ71+BB71+BD71+BF71+BH71+BJ71+BL71+BN71+BP71 | AV71: 725.81225 | AW71: =AV71/BW71-1 | AX71: 327.17878 | AY71: =AX71/BY71-1 | AZ71: 604.50856 | BA71: =AZ71/CA71-1 | BB71: 646.77368 | BC71: =BB71/CC71-1 | BD71: 673.96977 | BE71: =BD71/CE71-1 | BF71: 604.61697 | BG71: =BF71/CG71-1 | BH71: 705.44693 | BI71: =BH71/CI71-1 | BJ71: 697.31029 | BK71: =BJ71/CK71-1 | BL71: 721.96132 | BM71: =BL71/CM71-1 | BN71: 694.65653 | BO71: =BN71/CO71-1 | BP71: 737.21486 | BQ71: =BP71/CQ71-1 | BR71: 785.9537 | BS71: =BR71/CS71-1 | BT71: =AV71+AX71+AZ71+BB71+BD71+BF71+BH71+BJ71+BL71+BN71+BP71+BR71 | BU71: =BT71/SUM(BW71,BY71,CA71,CC71,CE71,CG71,CI71,CK71,CM71,CO71,CQ71,CS71)-1 | BW71: 413.23077 | BX71: =BW71/DK71-1 | BY71: 492.27632 | BZ71: =BY71/DL71-1 | CA71: 573.64935 | CB71: =CA71/DM71-1 | CC71: 564.4172 | CD71: =CC71/DN71-1 | CE71: 583.34011 | CF71: =CE71/DO71-1 | CG71: 581.50555 | CH71: =CG71/DP71-1 | CI71: 596.85719 | CJ71: =CI71/DQ71-1 | CK71: 612.64706 | CL71: =CK71/DR71-1 | CM71: 626.69061 | CN71: =CM71/DS71-1 | CO71: 629.47784 | CP71: =CO71/DT71-1 | CQ71: 677.02207 | CR71: =CQ71/DV71-1 | CS71: 686.755 | CT71: =CS71/DV71-1 | CU71: =BW71+BY71+CA71+CC71+CE71+CG71+CI71+CK71+CM71+CO71+CQ71+CS71 | CV71: =CU71/SUM(DK71:DV71)-1 | CX71: =CS71/CQ71-1 | CY71: =CQ71/CO71-1 | DK71: 432.28987 | DL71: 293.18451 | DM71: 491.37152 | DN71: 462.54986 | DO71: 498.5337 | DP71: 470.11669 | DQ71: 490.75644 | DR71: 478.87194 | DS71: 557.62957 | DT71: 471.38654 | DU71: 546.54367 | DV71: 563.25792 | DW71: 0.13487952 | DX71: 5756.4922 | DY71: -0.13293945 | EA71: 653.40692 | EB71: 237.93414 | EC71: 499.17554 | ED71: 619.27595 | EE71: 628.79513 | EF71: 691.31437 | EG71: 640.91002 | EH71: 549.85767 | EI71: 597.40924 | EJ71: 494.26181 | EK71: 530.43315 | EL71: 496.31517 | EO71: =SUM(EA71:EL71)
B72: 规上货运量 (万吨) | C72: 85.6837 | D72: =C72/T72-1 | E72: 66.3493 | F72: =E72/V72-1 | G72: 130.0127 | H72: =G72/X72-1 | I72: 97.5327 | J72: =I72/Z72-1 | K72: 91.9741 | L72: =K72/AB72-1 | M72: 96.2006 | N72: =M72/AD72-1 | O72: 80.5683 | P72: =O72/AF72-1 | Q72: =C72+E72+G72+I72+K72+M72+O72 | R72: =Q72/SUM(T72,V72,X72,Z72,AB72,AD72,AF72)-1 | T72: 63.792 | U72: =T72/AV72-1 | V72: 46.9487 | W72: =V72/AX72-1 | X72: 70.3782 | Y72: =X72/AZ72-1 | Z72: 66.3783 | AA72: =Z72/BB72-1 | AB72: 67.9031 | AC72: =AB72/BD72-1 | AD72: 86.1979 | AE72: =AD72/BF72-1 | AF72: 80.3239 | AG72: =AF72/BH72-1 | AH72: 70.625 | AI72: =AH72/BJ72-1 | AJ72: 90.523 | AK72: =AJ72/BL72-1 | AL72: 72.0352 | AM72: =AL72/BN72-1 | AN72: 66.8337 | AO72: =AN72/BP72-1 | AP72: 92.3083 | AQ72: =AP72/BR72-1 | AR72: =T72+V72+X72+Z72+AB72+AD72+AF72+AH72+AJ72+AL72+AN72+AP72 | AS72: =AR72/SUM(AV72,AX72,AZ72,BB72,BD72,BF72,BH72,BJ72,BL72,BN72,BP72,BR72)-1 | AU72: =AV72+AX72+AZ72+BB72+BD72+BF72+BH72+BJ72+BL72+BN72+BP72 | AV72: 67.2544 | AW72: =AV72/BW72-1 | AX72: 38.9049 | AY72: =AX72/BY72-1 | AZ72: 80.2508 | BA72: =AZ72/CA72-1 | BB72: 58.1508 | BC72: =BB72/CC72-1 | BD72: 81.2894 | BE72: =BD72/CE72-1 | BF72: 72.187 | BG72: =BF72/CG72-1 | BH72: 71.6886 | BI72: =BH72/CI72-1 | BJ72: 73.7417 | BK72: =BJ72/CK72-1 | BL72: 65.8012 | BM72: =BL72/CM72-1 | BN72: 63.5793 | BO72: =BN72/CO72-1 | BP72: 63.4364 | BQ72: =BP72/CQ72-1 | BR72: 71.6238 | BS72: =BR72/CS72-1 | BT72: =AV72+AX72+AZ72+BB72+BD72+BF72+BH72+BJ72+BL72+BN72+BP72+BR72 | BU72: =BT72/SUM(BW72,BY72,CA72,CC72,CE72,CG72,CI72,CK72,CM72,CO72,CQ72,CS72)-1 | BW72: 14.7979 | BX72: =BW72/DK72-1 | BY72: 19.8125 | BZ72: =BY72/DL72-1 | CA72: 16.3253 | CB72: =CA72/DM72-1 | CC72: 15.897 | CD72: =CC72/DN72-1 | CE72: 17.3503 | CF72: =CE72/DO72-1 | CG72: 18.8156 | CH72: =CG72/DP72-1 | CI72: 9.4052 | CJ72: =CI72/DQ72-1 | CK72: 17.3032 | CL72: =CK72/DR72-1 | CM72: 16.9551 | CN72: =CM72/DS72-1 | CO72: 16.0015 | CP72: =CO72/DT72-1 | CQ72: 16.622 | CR72: =CQ72/DV72-1 | CS72: 18.9748 | CT72: =CS72/DV72-1 | CU72: =BW72+BY72+CA72+CC72+CE72+CG72+CI72+CK72+CM72+CO72+CQ72+CS72 | CV72: =CU72/SUM(DK72:DV72)-1 | CX72: =CS72/CQ72-1 | CY72: =CQ72/CO72-1 | DJ72: 咸宁市 | DK72: 5.8296 | DL72: 5.3716 | DM72: 6.5905 | DN72: 5.3512 | DO72: 5.6778 | DP72: 6.3223 | DQ72: 6.1137 | DR72: 6.7184 | DS72: 6.1421 | DT72: 4.8423 | DU72: 15.1419 | DV72: 10.0635 | DW72: 0.85410026 | DX72: 84.1649 | DY72: -0.058193663 | EA72: 10.7112 | EB72: 8.3064 | EC72: 8.0137 | ED72: 9.7629 | EE72: 7.8064 | EF72: 7.9939 | EG72: 6.1734 | EH72: 7.8046 | EI72: 6.5233 | EJ72: 5.3739 | EK72: 5.468 | EL72: 5.4277 | EO72: =SUM(EA72:EL72)
B73: 规下货运量 (万吨) | C73: 723.99021 | D73: =C73/T73-1 | E73: 401.14 | F73: =E73/V73-1 | G73: 553.13521 | H73: =G73/X73-1 | I73: 619.48711 | J73: =I73/Z73-1 | K73: 633.84299 | L73: =K73/AB73-1 | M73: 583.53379 | N73: =M73/AD73-1 | O73: 624.62009 | P73: =O73/AF73-1 | Q73: =C73+E73+G73+I73+K73+M73+O73 | R73: =Q73/SUM(T73,V73,X73,Z73,AB73,AD73,AF73)-1 | T73: 580.25358 | U73: =T73/AV73-1 | V73: 474.69217 | W73: =V73/AX73-1 | X73: 614.21639 | Y73: =X73/AZ73-1 | Z73: 636.58737 | AA73: =Z73/BB73-1 | AB73: 622.02602 | AC73: =AB73/BD73-1 | AD73: 548.21537 | AE73: =AD73/BF73-1 | AF73: 621.24028 | AG73: =AF73/BH73-1 | AH73: 600.55974 | AI73: =AH73/BJ73-1 | AJ73: 630.13756 | AK73: =AJ73/BL73-1 | AL73: 608.98534 | AM73: =AL73/BN73-1 | AN73: 686.13609 | AO73: =AN73/BP73-1 | AP73: 744.53681 | AQ73: =AP73/BR73-1 | AR73: =T73+V73+X73+Z73+AB73+AD73+AF73+AH73+AJ73+AL73+AN73+AP73 | AS73: =AR73/SUM(AV73,AX73,AZ73,BB73,BD73,BF73,BH73,BJ73,BL73,BN73,BP73,BR73)-1 | AU73: =AV73+AX73+AZ73+BB73+BD73+BF73+BH73+BJ73+BL73+BN73+BP73 | AV73: 658.55785 | AW73: =AV73/BW73-1 | AX73: 288.27388 | AY73: =AX73/BY73-1 | AZ73: 524.25776 | BA73: =AZ73/CA73-1 | BB73: 588.62288 | BC73: =BB73/CC73-1 | BD73: 592.68037 | BE73: =BD73/CE73-1 | BF73: 532.42997 | BG73: =BF73/CG73-1 | BH73: 633.75833 | BI73: =BH73/CI73-1 | BJ73: 623.56859 | BK73: =BJ73/CK73-1 | BL73: 656.16012 | BM73: =BL73/CM73-1 | BN73: 631.07723 | BO73: =BN73/CO73-1 | BP73: 673.77846 | BQ73: =BP73/CQ73-1 | BR73: 714.3299 | BS73: =BR73/CS73-1 | BT73: =AV73+AX73+AZ73+BB73+BD73+BF73+BH73+BJ73+BL73+BN73+BP73+BR73 | BU73: =BT73/SUM(BW73,BY73,CA73,CC73,CE73,CG73,CI73,CK73,CM73,CO73,CQ73,CS73)-1 | BW73: 398.43287 | BX73: =BW73/DK73-1 | BY73: 472.46382 | BZ73: =BY73/DL73-1 | CA73: 557.32405 | CB73: =CA73/DM73-1 | CC73: 548.5202 | CD73: =CC73/DN73-1 | CE73: 565.98981 | CF73: =CE73/DO73-1 | CG73: 562.68995 | CH73: =CG73/DP73-1 | CI73: 587.45199 | CJ73: =CI73/DQ73-1 | CK73: 595.34386 | CL73: =CK73/DR73-1 | CM73: 609.73551 | CN73: =CM73/DS73-1 | CO73: 613.47634 | CP73: =CO73/DT73-1 | CQ73: 660.40007 | CR73: =CQ73/DV73-1 | CS73: 667.7802 | CT73: =CS73/DV73-1 | CU73: =BW73+BY73+CA73+CC73+CE73+CG73+CI73+CK73+CM73+CO73+CQ73+CS73 | CV73: =CU73/SUM(DK73:DV73)-1 | CX73: =CS73/CQ73-1 | CY73: =CQ73/CO73-1 | DK73: 426.46027 | DL73: 287.81291 | DM73: 484.78102 | DN73: 457.19866 | DO73: 492.8559 | DP73: 463.79439 | DQ73: 484.64274 | DR73: 472.15354 | DS73: 551.48747 | DT73: 466.54424 | DU73: 531.40177 | DV73: 553.19442 | DW73: 0.12692716 | DX73: 5672.3273 | DY73: -0.1339593 | EA73: 642.69572 | EB73: 229.62774 | EC73: 491.16184 | ED73: 609.51305 | EE73: 620.98873 | EF73: 683.32047 | EG73: 634.73662 | EH73: 542.05307 | EI73: 590.88594 | EJ73: 488.88791 | EK73: 524.96515 | EL73: 490.88747 | EO73: =SUM(EA73:EL73)
B74: 规上+规下周转量 (万吨公里) | C74: =C75+C76 | D74: =C74/T74-1 | E74: =E75+E76 | F74: =E74/V74-1 | G74: =G75+G76 | H74: =G74/X74-1 | I74: =I75+I76 | J74: =I74/Z74-1 | K74: =K75+K76 | L74: =K74/AB74-1 | M74: =M75+M76 | N74: =M74/AD74-1 | O74: =O75+O76 | P74: =O74/AF74-1 | Q74: =C74+E74+G74+I74+K74+M74+O74 | R74: =Q74/SUM(T74,V74,X74,Z74,AB74,AD74,AF74)-1 | T74: =T75+T76 | U74: =T74/AV74-1 | V74: =V75+V76 | W74: =V74/AX74-1 | X74: =X75+X76 | Y74: =X74/AZ74-1 | Z74: =Z75+Z76 | AA74: =Z74/BB74-1 | AB74: =AB75+AB76 | AC74: =AB74/BD74-1 | AD74: =AD75+AD76 | AE74: =AD74/BF74-1 | AF74: =AF75+AF76 | AG74: =AF74/BH74-1 | AH74: =AH75+AH76 | AI74: =AH74/BJ74-1 | AJ74: =AJ75+AJ76 | AK74: =AJ74/BL74-1 | AL74: =AL75+AL76 | AM74: =AL74/BN74-1 | AN74: =AN75+AN76 | AO74: =AN74/BP74-1 | AP74: =AP75+AP76 | AQ74: =AP74/BR74-1 | AR74: =T74+V74+X74+Z74+AB74+AD74+AF74+AH74+AJ74+AL74+AN74+AP74 | AS74: =AR74/SUM(AV74,AX74,AZ74,BB74,BD74,BF74,BH74,BJ74,BL74,BN74,BP74,BR74)-1 | AU74: =AV74+AX74+AZ74+BB74+BD74+BF74+BH74+BJ74+BL74+BN74+BP74 | AV74: =AV75+AV76 | AW74: =AV74/BW74-1 | AX74: =AX75+AX76 | AY74: =AX74/BY74-1 | AZ74: =AZ75+AZ76 | BA74: =AZ74/CA74-1 | BB74: =BB75+BB76 | BC74: =BB74/CC74-1 | BD74: =BD75+BD76 | BE74: =BD74/CE74-1 | BF74: =BF75+BF76 | BG74: =BF74/CG74-1 | BH74: =BH75+BH76 | BI74: =BH74/CI74-1 | BJ74: =BJ75+BJ76 | BK74: =BJ74/CK74-1 | BL74: =BL75+BL76 | BM74: =BL74/CM74-1 | BN74: =BN75+BN76 | BO74: =BN74/CO74-1 | BP74: =BP75+BP76 | BQ74: =BP74/CQ74-1 | BR74: =BR75+BR76 | BS74: =BR74/CS74-1 | BT74: =AV74+AX74+AZ74+BB74+BD74+BF74+BH74+BJ74+BL74+BN74+BP74+BR74 | BU74: =BT74/SUM(BW74,BY74,CA74,CC74,CE74,CG74,CI74,CK74,CM74,CO74,CQ74,CS74)-1 | BW74: =BW75+BW76 | BX74: =BW74/DK74-1 | BY74: =BY75+BY76 | BZ74: =BY74/DL74-1 | CA74: =SUM(CA75:CA76) | CB74: =CA74/DM74-1 | CC74: 46643.099 | CD74: =CC74/DN74-1 | CE74: 47845.489 | CF74: =CE74/DO74-1 | CG74: =CG75+CG76 | CH74: =CG74/DP74-1 | CI74: =CI75+CI76 | CJ74: =CI74/DQ74-1 | CK74: 49595.402 | CL74: =CK74/DR74-1 | CM74: =SUM(CM75:CM76) | CN74: =CM74/DS74-1 | CO74: =SUM(CO75:CO76) | CP74: =CO74/DT74-1 | CQ74: =CQ75+CQ76 | CR74: =CQ74/DV74-1 | CS74: =CS75+CS76 | CT74: =CS74/DV74-1 | CU74: =BW74+BY74+CA74+CC74+CE74+CG74+CI74+CK74+CM74+CO74+CQ74+CS74 | CV74: =CU74/SUM(DK74:DV74)-1 | CX74: =CS74/CQ74-1 | CY74: =CQ74/CO74-1 | DK74: 39850.162 | DL74: 26451.463 | DM74: 43053.267 | DN74: 41028.558 | DO74: 40248.586 | DP74: 37617.59 | DQ74: 42047.243 | DR74: 39618.441 | DS74: 47145.448 | DT74: 44991.647 | DU74: 56003.636 | DV74: 56551.398 | DW74: 0.2690554 | DX74: 514607.44 | DY74: -0.057975238 | EA74: =EA75+EA76 | EB74: =EB75+EB76 | EC74: =EC75+EC76 | ED74: =ED75+ED76 | EE74: =EE75+EE76 | EF74: =EF75+EF76 | EG74: =EG75+EG76 | EH74: =EH75+EH76 | ... EL74: =EL75+EL76
B75: 规上货物周转量 (万吨公里) | C75: 10419.387 | D75: =C75/T75-1 | E75: 6671.9555 | F75: =E75/V75-1 | G75: 18658.93 | H75: =G75/X75-1 | I75: 12405.473 | J75: =I75/Z75-1 | K75: 9212.9042 | L75: =K75/AB75-1 | M75: 10862.924 | N75: =M75/AD75-1 | O75: 7687.4779 | P75: =O75/AF75-1 | Q75: =C75+E75+G75+I75+K75+M75+O75 | R75: =Q75/SUM(T75,V75,X75,Z75,AB75,AD75,AF75)-1 | T75: 9482.8233 | U75: =T75/AV75-1 | V75: 6889.3966 | W75: =V75/AX75-1 | X75: 21358.648 | Y75: =X75/AZ75-1 | Z75: 12139.015 | AA75: =Z75/BB75-1 | AB75: 9246.0342 | AC75: =AB75/BD75-1 | AD75: 11361.416 | AE75: =AD75/BF75-1 | AF75: 8098.4264 | AG75: =AF75/BH75-1 | AH75: 5321.9245 | AI75: =AH75/BJ75-1 | AJ75: 11539.247 | AK75: =AJ75/BL75-1 | AL75: 6286.6381 | AM75: =AL75/BN75-1 | AN75: 6092.2099 | AO75: =AN75/BP75-1 | AP75: 12988.217 | AQ75: =AP75/BR75-1 | AR75: =T75+V75+X75+Z75+AB75+AD75+AF75+AH75+AJ75+AL75+AN75+AP75 | AS75: =AR75/SUM(AV75,AX75,AZ75,BB75,BD75,BF75,BH75,BJ75,BL75,BN75,BP75,BR75)-1 | AU75: =AV75+AX75+AZ75+BB75+BD75+BF75+BH75+BJ75+BL75+BN75+BP75 | AV75: 6676.5845 | AW75: =AV75/BW75-1 | AX75: 4850.041 | AY75: =AX75/BY75-1 | AZ75: 11191.857 | BA75: =AZ75/CA75-1 | BB75: 6123.9354 | BC75: =BB75/CC75-1 | BD75: 9952.3738 | BE75: =BD75/CE75-1 | BF75: 15894.481 | BG75: =BF75/CG75-1 | BH75: 9870.6253 | BI75: =BH75/CI75-1 | BJ75: 7682.7428 | BK75: =BJ75/CK75-1 | BL75: 6770.8378 | BM75: =BL75/CM75-1 | BN75: 5344.3923 | BO75: =BN75/CO75-1 | BP75: 6324.0006 | BQ75: =BP75/CQ75-1 | BR75: 16377.514 | BS75: =BR75/CS75-1 | BT75: =AV75+AX75+AZ75+BB75+BD75+BF75+BH75+BJ75+BL75+BN75+BP75+BR75 | BU75: =BT75/SUM(BW75,BY75,CA75,CC75,CE75,CG75,CI75,CK75,CM75,CO75,CQ75,CS75)-1 | BW75: 4685.2502 | BX75: =BW75/DK75-1 | BY75: 4967.6871 | BZ75: =BY75/DL75-1 | CA75: 3257.8359 | CB75: =CA75/DM75-1 | CC75: 3228.6041 | CD75: =CC75/DN75-1 | CE75: 7604.5845 | CF75: =CE75/DO75-1 | CG75: 8785.9977 | CH75: =CG75/DP75-1 | CI75: 3114.4158 | CJ75: =CI75/DQ75-1 | CK75: 4515.5472 | CL75: =CK75/DR75-1 | CM75: 4114.3867 | CN75: =CM75/DS75-1 | CO75: 3524.7541 | CP75: =CO75/DT75-1 | CQ75: 3680.0204 | CR75: =CQ75/DV75-1 | CS75: 7464.8488 | CT75: =CS75/DV75-1 | CU75: =BW75+BY75+CA75+CC75+CE75+CG75+CI75+CK75+CM75+CO75+CQ75+CS75 | CV75: =CU75/SUM(DK75:DV75)-1 | CX75: =CS75/CQ75-1 | CY75: =CQ75/CO75-1 | DK75: 156.32 | DL75: 104.46 | DM75: 1001.122 | DN75: 758.8275 | DO75: 871.5995 | DP75: 606.4343 | DQ75: 710.274 | DR75: 620.223 | DS75: 636.6386 | DT75: 907.5392 | DU75: 10791.964 | DV75: 4179.6547 | DW75: 4.7897508 | DX75: 21345.056 | DY75: 2.0014703 | EA75: 533.8002 | EB75: 397.5087 | EC75: 422.5845 | ED75: 583.1627 | EE75: 595.6073 | EF75: 619.3363 | EG75: 592.859 | EH75: 625.2176 | EI75: 655.5929 | EJ75: 665.8731 | EK75: 698.0853 | EL75: 721.9058 | EO75: =SUM(EA75:EL75)
