Workbook

Sheet  货运
A1: 3月10日厅开会确定拆分方案，1-2月数据以此为准。
A3: 地区 名称 | B3: 指标 | C3: 46023 | D3: 1月与去年同比 | E3: 46054 | F3: 2月与去年同比 | G3: 46082 | H3: 3月与去年同比 | I3: 46113 | J3: 4月与去年同比 | K3: 46143 | L3: 5月与去年同比 | M3: 46174 | N3: 6月与去年同比 | O3: 46204 | P3: 7月与去年同比 | Q3: 累计周转量 | R3: 同比 | T3: 2025年1月 | U3: 1月与去年同比 | V3: 2025年2月 | W3: 2月与去年同比 | X3: 2025年3月 | Y3: 3月与去年同比 | Z3: 2025年4月 | AA3: 4月与去年同比 | AB3: 2025年5月 | AC3: 5月与去年同比 | AD3: 2025年6月 | AE3: 6月与去年同比 | AF3: 2025年7月 | AG3: 7月与去年同比 | AH3: 2025年8月 | AI3: 8月与去年同比 | AJ3: 2025年9月 | AK3: 9月与去年同比 | AL3: 2025年10月 | AM3: 10月与去年同比 | AN3: 2025年11月 | AO3: 11月与去年同比 | AP3: 2025年12月 | AQ3: 12月与去年同比 | AR3: 2025年累计 | AS3: 2025年累计同比 | AV3: 2024年1月 | AW3: 1月与去年同比 | AX3: 2024年2月 | AY3: 2月与去年同比 | AZ3: 2024年3月 | BA3: 3月与去年同比 | BB3: 2024年4月 | BC3: 4月与去年同比 | BD3: 2024年5月 | BE3: 5月与去年同比 | BF3: 2024年6月 | BG3: 6月与去年同比 | BH3: 2024年7月 | BI3: 7月与去年同比 | BJ3: 2024年8月 | BK3: 8月与去年同比 | BL3: 2024年9月 | BM3: 9月与去年同比 | BN3: 2024年10月 | BO3: 10月与去年同比 | BP3: 2024年11月 | BQ3: 11月与去年同比 | BR3: 2024年12月 | BS3: 12月与去年同比 | BT3: 2024年累计 | BU3: 累计同比 | BW3: 2023年1月 | BX3: 1月与去年同比 | BY3: 2023年2月 | BZ3: 2月与去年同比 | CA3: 2023年3月 | CB3: 3月与去年同比 | CC3: 2023年4月 | CD3: 4月与去年同比 | CE3: 2023年5月 | CF3: 5月与去年同比 | CG3: 2023年6月 | CH3: 6月与去年同比 | CI3: 45108 | CJ3: 7月与去年同比 | CK3: 45139 | CL3: 8月与去年同比 | CM3: 45170 | CN3: 9月与去年同比 | CO3: 45200 | CP3: 10月与去年同比 | CQ3: 45231 | CR3: 11月与去年同比 | CS3: 45261 | CT3: 12月与去年同比 | CU3: 累计 | CV3: 累计同比 | DK3: 2022年1月 | DL3: 2022年2月 | DM3: 2022年3月 | DN3: 2022年4月 | DO3: 2022年5月 | DP3: 2022年6月 | DQ3: 2022年7月 | DR3: 2022年8月 | DS3: 2022年9月 | DT3: 2022年10月 | DU3: 2022年11月 | DV3: 2022年12月 | DW3: 12月与去年同比 | DX3: 累计 | DY3: 累计同比 | EA3: 2021年1月 | EB3: 2021年2月 | EC3: 2021年3月 | ED3: 2021年4月 | EE3: 44317 | EF3: 44348 | EG3: 44378 | EH3: 44409 | EI3: 44440 | EJ3: 44470 | EK3: 44501 | EL3: 44531 | EN3: 累计同比
CX4: 12月环比% | CY4: 11月环比% | CZ4: 10月环比% | DA4: 9月环比% | DB4: 8月环比% | DC4: 7月环比% | DD4: 6月环比% | DE4: 5月环比% | DF4: 4月环比% | DG4: 3月环比% | DH4: 2月份环比 | DI4: 1月份环比 | EM4: 累计
A5: 全省 | B5: 货运量 （万吨） | C5: =C7+C9 | D5: =C5/T5-1 | E5: =E7+E9 | F5: =E5/V5-1 | G5: =G7+G9 | H5: =G5/X5-1 | I5: =I7+I9 | J5: =I5/Z5-1 | K5: =K7+K9 | L5: =K5/AB5-1 | M5: =M7+M9 | N5: =M5/AD5-1 | O5: =O7+O9 | P5: =O5/AF5-1 | Q5: =C5+E5+G5+I5+K5+M5+O5 | R5: =Q5/SUM(T5,V5,X5,Z5,AB5,AD5,AF5)-1 | T5: =T7+T9 | U5: =T5/AV5-1 | V5: =V7+V9 | W5: =V5/AX5-1 | X5: =X7+X9 | Y5: =X5/AZ5-1 | Z5: =Z7+Z9 | AA5: =Z5/BB5-1 | AB5: =AB7+AB9 | AC5: =AB5/BD5-1 | AD5: =AD7+AD9 | AE5: =AD5/BF5-1 | AF5: =AF7+AF9 | AG5: =AF5/BH5-1 | AH5: =AH7+AH9 | AI5: =AH5/BJ5-1 | AJ5: =AJ7+AJ9 | AK5: =AJ5/BL5-1 | AL5: =AL7+AL9 | AM5: =AL5/BN5-1 | AN5: =AN7+AN9 | AO5: =AN5/BP5-1 | AP5: =AP7+AP9 | AQ5: =AP5/BR5-1 | AR5: =T5+V5+X5+Z5+AB5+AD5+AF5+AH5+AJ5+AL5+AN5+AP5 | AS5: =AR5/SUM(AV5,AX5,AZ5,BB5,BD5,BF5,BH5,BJ5,BL5,BN5,BP5,BR5)-1 | AU5: =AV5+AX5+AZ5+BB5+BD5+BF5+BH5+BJ5+BL5+BN5+BP5 | AV5: 15465.605 | AW5: =AV5/BW5-1 | AX5: =SUM(AX7,AX9) | AY5: =AX5/BY5-1 | AZ5: =SUM(AZ7,AZ9) | BA5: =AZ5/CA5-1 | BB5: =SUM(BB7,BB9) | BC5: =BB5/CC5-1 | BD5: =SUM(BD7,BD9) | BE5: =BD5/CE5-1 | BF5: =BF7+BF9 | BG5: =BF5/CG5-1 | BH5: =BH7+BH9 | BI5: =BH5/CI5-1 | BJ5: =BJ7+BJ9 | BK5: =BJ5/CK5-1 | BL5: =BL7+BL9 | BM5: =BL5/CM5-1 | BN5: =BN7+BN9 | BO5: =BN5/CO5-1 | BP5: =BP7+BP9 | BQ5: =BP5/CQ5-1 | BR5: =BR7+BR9 | BS5: =BR5/CS5-1 | BT5: =AV5+AX5+AZ5+BB5+BD5+BF5+BH5+BJ5+BL5+BN5+BP5+BR5 | BU5: =BT5/SUM(BW5,BY5,CA5,CC5,CE5,CG5,CI5,CK5,CM5,CO5,CQ5,CS5)-1 | BW5: =BW7+BW9 | BX5: =BW5/DK5-1 | BY5: =BY7+BY9 | BZ5: =BY5/DL5-1 | CA5: =CA7+CA9 | CB5: =CA5/DM5-1 | CC5: =CC7+CC9 | CD5: =CC5/DN5-1 | CE5: =CE7+CE9 | CF5: =CE5/DO5-1 | CG5: =CG7+CG9 | CH5: =CG5/DP5-1 | CI5: =CI7+CI9 | CJ5: =CI5/DQ5-1 | CK5: =CK7+CK9 | CL5: =CK5/DR5-1 | CM5: =CM7+CM9 | CN5: =CM5/DS5-1 | CO5: =CO7+CO9 | CP5: =CO5/DT5-1 | CQ5: =CQ7+CQ9 | CR5: =CQ5/DV5-1 | CS5: =CS7+CS9 | CT5: =CS5/DV5-1 | CU5: =BW5+BY5+CA5+CC5+CE5+CG5+CI5+CK5+CM5+CO5+CQ5+CS5 | CV5: =CU5/SUM(DK5:DV5)-1 | CX5: =CS5/CQ5-1 | CY5: =CQ5/CO5-1 | CZ5: =CO5/CM5-1 | DA5: =CM5/CK5-1 | DB5: =CK5/CI5-1 | DC5: =CI5/CG5-1 | DD5: =CG5/CE5-1 | DE5: =CE5/CC5-1 | DF5: =CC5/CA5-1 | DG5: =CA5/BY5-1 | DH5: =(BY5-BW5)/BW5 | DI5: =(BW5-DV5)/DV5 | DK5: 10709.526 | DL5: 8029.3822 | DM5: 12561.278 | DN5: 11553.467 | DO5: 12624.702 | DP5: 11911.996 | DQ5: 12168.584 | DR5: 12175.53 | DS5: 13517.641 | DT5: 12676.989 | DU5: 13327.978 | DV5: 13722.211 | DW5: -0.062421932 | DX5: 144979.29 | DY5: -0.10123547 | EA5: 14945.336 | EB5: 6495.0054 | EC5: 11923.964 | ED5: 14358.291 | EE5: 14364.367 | EF5: =EF7+EF9 | EG5: =EG7+EG9 | EH5: =EH7+EH9 | EI5: =EI7+EI9 | EJ5: =EJ7+EJ9 | EK5: =EK7+EK9 | EL5: =EL7+EL9
B6: 货物周转量 （万吨公里） | C6: =C8+C10 | D6: =C6/T6-1 | E6: =E8+E10 | F6: =E6/V6-1 | G6: =G8+G10 | H6: =G6/X6-1 | I6: =I8+I10 | J6: =I6/Z6-1 | K6: =K8+K10 | L6: =K6/AB6-1 | M6: =M8+M10 | N6: =M6/AD6-1 | O6: =O8+O10 | P6: =O6/AF6-1 | Q6: =C6+E6+G6+I6+K6+M6+O6 | R6: =Q6/SUM(T6,V6,X6,Z6,AB6,AD6,AF6)-1 | T6: =T8+T10 | U6: =T6/AV6-1 | V6: =V8+V10 | W6: =V6/AX6-1 | X6: =X8+X10 | Y6: =X6/AZ6-1 | Z6: =Z8+Z10 | AA6: =Z6/BB6-1 | AB6: =AB8+AB10 | AC6: =AB6/BD6-1 | AD6: =AD8+AD10 | AE6: =AD6/BF6-1 | AF6: =AF8+AF10 | AG6: =AF6/BH6-1 | AH6: =AH8+AH10 | AI6: =AH6/BJ6-1 | AJ6: =AJ8+AJ10 | AK6: =AJ6/BL6-1 | AL6: =AL8+AL10 | AM6: =AL6/BN6-1 | AN6: =AN8+AN10 | AO6: =AN6/BP6-1 | AP6: =AP8+AP10 | AQ6: =AP6/BR6-1 | AR6: =T6+V6+X6+Z6+AB6+AD6+AF6+AH6+AJ6+AL6+AN6+AP6 | AS6: =AR6/SUM(AV6,AX6,AZ6,BB6,BD6,BF6,BH6,BJ6,BL6,BN6,BP6,BR6)-1 | AU6: =AV6+AX6+AZ6+BB6+BD6+BF6+BH6+BJ6+BL6+BN6+BP6 | AV6: 2079838.4 | AW6: =AV6/BW6-1 | AX6: =SUM(AX8,AX10) | AY6: =AX6/BY6-1 | AZ6: =SUM(AZ8,AZ10) | BA6: =AZ6/CA6-1 | BB6: =SUM(BB8,BB10) | BC6: =BB6/CC6-1 | BD6: =SUM(BD8,BD10) | BE6: =BD6/CE6-1 | BF6: =BF8+BF10 | BG6: =BF6/CG6-1 | BH6: =BH8+BH10 | BI6: =BH6/CI6-1 | BJ6: =BJ8+BJ10 | BK6: =BJ6/CK6-1 | BL6: =BL8+BL10 | BM6: =BL6/CM6-1 | BN6: =BN8+BN10 | BO6: =BN6/CO6-1 | BP6: =BP8+BP10 | BQ6: =BP6/CQ6-1 | BR6: =BR8+BR10 | BS6: =BR6/CS6-1 | BT6: =AV6+AX6+AZ6+BB6+BD6+BF6+BH6+BJ6+BL6+BN6+BP6+BR6 | BU6: =BT6/SUM(BW6,BY6,CA6,CC6,CE6,CG6,CI6,CK6,CM6,CO6,CQ6,CS6)-1 | BW6: =BW8+BW10 | BX6: =BW6/DK6-1 | BY6: =BY8+BY10 | BZ6: =BY6/DL6-1 | CA6: =CA8+CA10 | CB6: =CA6/DM6-1 | CC6: =CC8+CC10 | CD6: =CC6/DN6-1 | CE6: =CE8+CE10 | CF6: =CE6/DO6-1 | CG6: =CG8+CG10 | CH6: =CG6/DP6-1 | CI6: =CI8+CI10 | CJ6: =CI6/DQ6-1 | CK6: =CK8+CK10 | CL6: =CK6/DR6-1 | CM6: =CM8+CM10 | CN6: =CM6/DS6-1 | CO6: =CO8+CO10 | CP6: =CO6/DT6-1 | CQ6: =CQ8+CQ10 | CR6: =CQ6/DV6-1 | CS6: =CS8+CS10 | CT6: =CS6/DV6-1 | CU6: =BW6+BY6+CA6+CC6+CE6+CG6+CI6+CK6+CM6+CO6+CQ6+CS6 | CV6: =CU6/SUM(DK6:DV6)-1 | CW6: =CU6*1.032 | CX6: =CS6/CQ6-1 | CY6: =CQ6/CO6-1 | CZ6: =CO6/CM6-1 | DA6: =CM6/CK6-1 | DB6: =CK6/CI6-1 | DC6: =CI6/CG6-1 | DD6: =CG6/CE6-1 | DE6: =CE6/CC6-1 | DF6: =CC6/CA6-1 | DG6: =CA6/BY6-1 | DH6: =(BY6-BW6)/BW6 | DI6: =(BW6-DV6)/DV6 | DK6: 1597519.7 | DL6: 1147849.6 | DM6: 1711726.5 | DN6: 1672626.1 | DO6: 1745591.4 | DP6: 1626136.4 | DQ6: 1679592.8 | DR6: 1688380.6 | DS6: 1890213.1 | DT6: 1885165.1 | DU6: 1959101.2 | DV6: 1983692.1 | DW6: 0.04159894 | DX6: 20587595 | DY6: -0.062571693 | EA6: 2157113.3 | EB6: 1097282.5 | EC6: 1676880 | ED6: 1941623.2 | EE6: 1929056.1 | EF6: =EF8+EF10 | EG6: =EG8+EG10 | EH6: =EH8+EH10 | EI6: =EI8+EI10 | EJ6: =EJ8+EJ10 | EK6: =EK8+EK10 | EL6: =EL8+EL10
B7: 其中规上货运量 (万吨) | C7: 3735.5321 | D7: =C7/T7-1 | E7: 3402.8177 | F7: =E7/V7-1 | G7: 4284.9515 | H7: =G7/X7-1 | I7: 4183.3731 | J7: =I7/Z7-1 | K7: 4131.7772 | L7: =K7/AB7-1 | M7: 4241.2271 | N7: =M7/AD7-1 | O7: 3754.7823 | P7: =O7/AF7-1 | Q7: =C7+E7+G7+I7+K7+M7+O7 | R7: =Q7/SUM(T7,V7,X7,Z7,AB7,AD7,AF7)-1 | T7: 4164.4776 | U7: =T7/AV7-1 | V7: 4004.914 | W7: =V7/AX7-1 | X7: 4468.0922 | Y7: =X7/AZ7-1 | Z7: 4578.9583 | AA7: =Z7/BB7-1 | AB7: 4628.2113 | AC7: =AB7/BD7-1 | AD7: 4582.5186 | AE7: =AD7/BF7-1 | AF7: 3851.1605 | AG7: =AF7/BH7-1 | AH7: 3716.1158 | AI7: =AH7/BJ7-1 | AJ7: 4005.4214 | AK7: =AJ7/BL7-1 | AL7: 3836.8558 | AM7: =AL7/BN7-1 | AN7: 4043.4248 | AO7: =AN7/BP7-1 | AP7: 4236.9437 | AQ7: =AP7/BR7-1 | AR7: =T7+V7+X7+Z7+AB7+AD7+AF7+AH7+AJ7+AL7+AN7+AP7 | AS7: =AR7/SUM(AV7,AX7,AZ7,BB7,BD7,BF7,BH7,BJ7,BL7,BN7,BP7,BR7)-1 | AT7: =AR7/AR5 | AU7: =AV7+AX7+AZ7+BB7+BD7+BF7+BH7+BJ7+BL7+BN7+BP7 | AV7: 3594.8125 | AW7: =AV7/BW7-1 | AX7: =AX12+AX18+AX24+AX60+AX30+AX36+AX42+AX48+AX66+AX54+AX72+AX78+AX84+AX90+AX96+AX102+AX108 | AY7: =AX7/BY7-1 | AZ7: 3637.1553 | BA7: =AZ7/CA7-1 | BB7: 3974.3696 | BC7: =BB7/CC7-1 | BD7: 3869.6718 | BE7: =BD7/CE7-1 | BF7: 3920.9677 | BG7: =BF7/CG7-1 | BH7: 3977.1108 | BI7: =BH7/CI7-1 | BJ7: 4106.6216 | BK7: =BJ7/CK7-1 | BL7: 4109.4725 | BM7: =BL7/CM7-1 | BN7: 4073.4386 | BO7: =BN7/CO7-1 | BP7: 4153.5039 | BQ7: =BP7/CQ7-1 | BR7: 4697.0574 | BS7: =BR7/CS7-1 | BT7: =AV7+AX7+AZ7+BB7+BD7+BF7+BH7+BJ7+BL7+BN7+BP7+BR7 | BU7: =BT7/SUM(BW7,BY7,CA7,CC7,CE7,CG7,CI7,CK7,CM7,CO7,CQ7,CS7)-1 | BV7: =BT7/BT5 | BW7: =BW12+BW18+BW24+BW60+BW30+BW36+BW42+BW48+BW66+BW54+BW72+BW78+BW84+BW90+BW96+BW102+BW108 | BX7: =BW7/DK7-1 | BY7: =BY12+BY18+BY24+BY60+BY30+BY36+BY42+BY48+BY66+BY54+BY72+BY78+BY84+BY90+BY96+BY102+BY108 | BZ7: =BY7/DL7-1 | CA7: =CA12+CA18+CA24+CA60+CA30+CA36+CA42+CA48+CA66+CA54+CA72+CA78+CA84+CA90+CA96+CA102+CA108 | CB7: =CA7/DM7-1 | CC7: =CC12+CC18+CC24+CC60+CC30+CC36+CC42+CC48+CC66+CC54+CC72+CC78+CC84+CC96+CC90+CC102+CC108 | CD7: =CC7/DN7-1 | CE7: =CE12+CE18+CE24+CE60+CE30+CE36+CE42+CE48+CE66+CE54+CE72+CE78+CE84+CE96+CE90+CE102+CE108 | CF7: =CE7/DO7-1 | CG7: =CG12+CG18+CG24+CG60+CG30+CG36+CG42+CG48+CG66+CG54+CG72+CG78+CG84+CG90+CG96+CG102+CG108 | CH7: =CG7/DP7-1 | CI7: =CI12+CI18+CI24+CI60+CI30+CI36+CI42+CI48+CI66+CI54+CI72+CI78+CI84+CI90+CI96+CI102+CI108 | CJ7: =CI7/DQ7-1 | CK7: =CK12+CK18+CK24+CK60+CK30+CK36+CK42+CK48+CK66+CK54+CK72+CK78+CK84+CK90+CK96+CK102+CK108 | CL7: =CK7/DR7-1 | CM7: =SUM(CM18,CM12,CM24,CM30,CM36,CM42,CM48,CM54,CM60,CM66,CM72,CM78,CM84,CM90,CM96,CM102,CM108) | CN7: =CM7/DS7-1 | CO7: =SUM(CO18,CO12,CO24,CO30,CO36,CO42,CO48,CO54,CO60,CO66,CO72,CO78,CO84,CO90,CO96,CO102,CO108) | CP7: =CO7/DT7-1 | CQ7: =SUM(CQ18,CQ12,CQ24,CQ30,CQ36,CQ42,CQ48,CQ54,CQ60,CQ66,CQ72,CQ78,CQ84,CQ90,CQ96,CQ102,CQ108) | CR7: =CQ7/DV7-1 | CS7: =SUM(CS18,CS12,CS24,CS30,CS36,CS42,CS48,CS54,CS60,CS66,CS72,CS78,CS84,CS90,CS96,CS102,CS108) | CT7: =CS7/DV7-1 | CU7: =BW7+BY7+CA7+CC7+CE7+CG7+CI7+CK7+CM7+CO7+CQ7+CS7 | CV7: =CU7/SUM(DK7:DV7)-1 | CW7: =CU7/CU5 | CX7: =CS7/CQ7-1 | CY7: =CQ7/CO7-1 | CZ7: =CO7/CM7-1 | DA7: =CM7/CK7-1 | DB7: =CK7/CI7-1 | DC7: =CI7/CG7-1 | DD7: =CG7/CE7-1 | DE7: =CE7/CC7-1 | DF7: =CC7/CA7-1 | DG7: =CA7/BY7-1 | DH7: =(BY7-BW7)/BW7 | DI7: =(BW7-DV7)/DV7 | DK7: 631.9639 | DL7: 553.0599 | DM7: 649.7656 | DN7: 604.6586 | DO7: 638.7376 | DP7: 649.8943 | DQ7: 649.6737 | DR7: 623.9798 | DS7: 715.1243 | DT7: 745.2728 | DU7: 942.5611 | DV7: 1025.1219 | DW7: 0.43037903 | DX7: 8429.8135 | DY7: 0.014026555 | DZ7: =DX7/DX5 | EA7: =EA12+EA18+EA24+EA60+EA30+EA36+EA42+EA48+EA66+EA54+EA72+EA78+EA84+EA90+EA96+EA102+EA108 | EB7: =EB12+EB18+EB24+EB60+EB30+EB36+EB42+EB48+EB66+EB54+EB72+EB78+EB84+EB90+EB96+EB102+EB108 | EC7: =EC12+EC18+EC24+EC60+EC30+EC36+EC42+EC48+EC66+EC54+EC72+EC78+EC84+EC90+EC96+EC102+EC108 | ED7: 698.0138 | EE7: 729.6929 | EF7: 717.4151 | EG7: 694.7123 | EH7: 647.7486 | EI7: 682.7606 | EJ7: 731.4931 | EK7: 696.0918 | EL7: 716.6785
B8: 其中规上货物周转量 (万吨公里) | C8: 565704.65 | D8: =C8/T8-1 | E8: 500562.26 | F8: =E8/V8-1 | G8: 669448.89 | H8: =G8/X8-1 | I8: 650911.77 | J8: =I8/Z8-1 | K8: 680437.39 | L8: =K8/AB8-1 | M8: 692813.75 | N8: =M8/AD8-1 | O8: 597278.64 | P8: =O8/AF8-1 | Q8: =C8+E8+G8+I8+K8+M8+O8 | R8: =Q8/SUM(T8,V8,X8,Z8,AB8,AD8,AF8)-1 | T8: 622895.58 | U8: =T8/AV8-1 | V8: 588145.08 | W8: =V8/AX8-1 | X8: 675977.89 | Y8: =X8/AZ8-1 | Z8: 680501.69 | AA8: =Z8/BB8-1 | AB8: 725691.85 | AC8: =AB8/BD8-1 | AD8: 724478.89 | AE8: =AD8/BF8-1 | AF8: 564737.33 | AG8: =AF8/BH8-1 | AH8: 520090.64 | AI8: =AH8/BJ8-1 | AJ8: 563611.92 | AK8: =AJ8/BL8-1 | AL8: 543427.32 | AM8: =AL8/BN8-1 | AN8: 582674.65 | AO8: =AN8/BP8-1 | AP8: 642808.17 | AQ8: =AP8/BR8-1 | AR8: =T8+V8+X8+Z8+AB8+AD8+AF8+AH8+AJ8+AL8+AN8+AP8 | AS8: =AR8/SUM(AV8,AX8,AZ8,BB8,BD8,BF8,BH8,BJ8,BL8,BN8,BP8,BR8)-1 | AT8: =AR8/AR6 | AU8: =AV8+AX8+AZ8+BB8+BD8+BF8+BH8+BJ8+BL8+BN8+BP8 | AV8: 553349.65 | AW8: =AV8/BW8-1 | AX8: =AX15+AX21+AX27+AX63+AX33+AX39+AX45+AX51+AX69+AX57+AX75+AX81+AX87+AX93+AX99+AX105+AX111 | AY8: =AX8/BY8-1 | AZ8: 542417.07 | BA8: =AZ8/CA8-1 | BB8: 552059.36 | BC8: =BB8/CC8-1 | BD8: 556254.12 | BE8: =BD8/CE8-1 | BF8: 565714.14 | BG8: =BF8/CG8-1 | BH8: 574475.18 | BI8: =BH8/CI8-1 | BJ8: 583148.15 | BK8: =BJ8/CK8-1 | BL8: 592365.86 | BM8: =BL8/CM8-1 | BN8: 590809.44 | BO8: =BN8/CO8-1 | BP8: 615853.26 | BQ8: =BP8/CQ8-1 | BR8: 766780.24 | BS8: =BR8/CS8-1 | BT8: =AV8+AX8+AZ8+BB8+BD8+BF8+BH8+BJ8+BL8+BN8+BP8+BR8 | BU8: =BT8/SUM(BW8,BY8,CA8,CC8,CE8,CG8,CI8,CK8,CM8,CO8,CQ8,CS8)-1 | BV8: =BT8/BT6 | BW8: =BW15+BW21+BW27+BW63+BW33+BW39+BW45+BW51+BW69+BW57+BW75+BW81+BW87+BW93+BW99+BW105+BW111 | BX8: =BW8/DK8-1 | BY8: =BY15+BY21+BY27+BY63+BY33+BY39+BY45+BY51+BY69+BY57+BY75+BY81+BY87+BY93+BY99+BY105+BY111 | BZ8: =BY8/DL8-1 | CA8: =CA15+CA21+CA27+CA63+CA33+CA39+CA45+CA51+CA69+CA57+CA75+CA81+CA87+CA93+CA99+CA105+CA111 | CB8: =CA8/DM8-1 | CC8: =CC15+CC21+CC27+CC63+CC33+CC39+CC45+CC51+CC69+CC57+CC75+CC81+CC87+CC99+CC93+CC105+CC111 | CD8: =CC8/DN8-1 | CE8: =CE15+CE21+CE27+CE63+CE33+CE39+CE45+CE51+CE69+CE57+CE75+CE81+CE87+CE99+CE93+CE105+CE111 | CF8: =CE8/DO8-1 | CG8: =CG15+CG21+CG27+CG63+CG33+CG39+CG45+CG51+CG69+CG57+CG75+CG81+CG87+CG93+CG99+CG105+CG111 | CH8: =CG8/DP8-1 | CI8: =CI15+CI21+CI27+CI63+CI33+CI39+CI45+CI51+CI69+CI57+CI75+CI81+CI87+CI93+CI99+CI105+CI111 | CJ8: =CI8/DQ8-1 | CK8: =CK15+CK21+CK27+CK63+CK33+CK39+CK45+CK51+CK69+CK57+CK75+CK81+CK87+CK93+CK99+CK105+CK111 | CL8: =CK8/DR8-1 | CM8: =SUM(CM15,CM21,CM27,CM33,CM39,CM45,CM51,CM57,CM63,CM69,CM75,CM81,CM87,CM93,CM99,CM105,CM111) | CN8: =CM8/DS8-1 | CO8: =SUM(CO15,CO21,CO27,CO33,CO39,CO45,CO51,CO57,CO63,CO69,CO75,CO81,CO87,CO93,CO99,CO105,CO111) | CP8: =CO8/DT8-1 | CQ8: =SUM(CQ15,CQ21,CQ27,CQ33,CQ39,CQ45,CQ51,CQ57,CQ63,CQ69,CQ75,CQ81,CQ87,CQ93,CQ99,CQ105,CQ111) | CR8: =CQ8/DV8-1 | CS8: =SUM(CS15,CS21,CS27,CS33,CS39,CS45,CS51,CS57,CS63,CS69,CS75,CS81,CS87,CS93,CS99,CS105,CS111) | CT8: =CS8/DV8-1 | CU8: =BW8+BY8+CA8+CC8+CE8+CG8+CI8+CK8+CM8+CO8+CQ8+CS8 | CV8: =CU8/SUM(DK8:DV8)-1 | CW8: =CU8/CU6 | CX8: =CS8/CQ8-1 | CY8: =CQ8/CO8-1 | CZ8: =CO8/CM8-1 | DA8: =CM8/CK8-1 | DB8: =CK8/CI8-1 | DC8: =CI8/CG8-1 | DD8: =CG8/CE8-1 | DE8: =CE8/CC8-1 | DF8: =CC8/CA8-1 | DG8: =CA8/BY8-1 | DH8: =(BY8-BW8)/BW8 | DI8: =(BW8-DV8)/DV8 | DK8: 110942.79 | DL8: 97347.464 | DM8: 100282.43 | DN8: 90275.674 | DO8: 98197.937 | DP8: 97044.075 | DQ8: 96340.636 | DR8: 91156.53 | DS8: 110978.46 | DT8: 128452.25 | DU8: 177862.93 | DV8: 179557.46 | DW8: 0.78353118 | DX8: 1378438.6 | DY8: 0.19537121 | DZ8: =DX8/DX6 | EA8: =EA15+EA21+EA27+EA63+EA33+EA39+EA45+EA51+EA69+EA57+EA75+EA81+EA87+EA93+EA99+EA105+EA111 | EB8: =EB15+EB21+EB27+EB63+EB33+EB39+EB45+EB51+EB69+EB57+EB75+EB81+EB87+EB93+EB99+EB105+EB111 | EC8: =EC15+EC21+EC27+EC63+EC33+EC39+EC45+EC51+EC69+EC57+EC75+EC81+EC87+EC93+EC99+EC105+EC111 | ED8: 95953.911 | EE8: 96138.668 | EF8: 98149.7 | EG8: 95350.7 | EH8: 91415.643 | EI8: 94967.626 | EJ8: 98220.081 | EK8: 97655.62 | EL8: 100675.26
B9: 其中规下货运量 (万吨) | C9: 13586.511 | D9: =C9/T9-1 | E9: 7686.5664 | F9: =E9/V9-1 | G9: 12483.36 | H9: =G9/X9-1 | I9: 13347.655 | J9: =I9/Z9-1 | K9: 13450.783 | L9: =K9/AB9-1 | M9: 12602.867 | N9: =M9/AD9-1 | O9: 12530.928 | P9: =O9/AF9-1 | Q9: =C9+E9+G9+I9+K9+M9+O9 | R9: =Q9/SUM(T9,V9,X9,Z9,AB9,AD9,AF9)-1 | T9: 10297.29 | U9: =T9/AV9-1 | V9: 9028.5768 | W9: =V9/AX9-1 | X9: 12832.586 | Y9: =X9/AZ9-1 | Z9: 13104.628 | AA9: =Z9/BB9-1 | AB9: 12747.737 | AC9: =AB9/BD9-1 | AD9: 11371.201 | AE9: =AD9/BF9-1 | AF9: 12187.249 | AG9: =AF9/BH9-1 | AH9: 12344.035 | AI9: =AH9/BJ9-1 | AJ9: 12716.246 | AK9: =AJ9/BL9-1 | AL9: 11962.463 | AM9: =AL9/BN9-1 | AN9: 13038.108 | AO9: =AN9/BP9-1 | AP9: 13686.008 | AQ9: =AP9/BR9-1 | AR9: =T9+V9+X9+Z9+AB9+AD9+AF9+AH9+AJ9+AL9+AN9+AP9 | AS9: =AR9/SUM(AV9,AX9,AZ9,BB9,BD9,BF9,BH9,BJ9,BL9,BN9,BP9,BR9)-1 | AT9: =AR9/AR5 | AU9: =AV9+AX9+AZ9+BB9+BD9+BF9+BH9+BJ9+BL9+BN9+BP9 | AV9: 11870.792 | AW9: =AV9/BW9-1 | AX9: 5330.2155 | AY9: =AX9/BY9-1 | AZ9: 11792.163 | BA9: =AZ9/CA9-1 | BB9: 12070.782 | BC9: =BB9/CC9-1 | BD9: 12292.86 | BE9: =BD9/CE9-1 | BF9: 10987.232 | BG9: =BF9/CG9-1 | BH9: 11447.188 | BI9: =BH9/CI9-1 | BJ9: 11864.932 | BK9: =BJ9/CK9-1 | BL9: 12132.311 | BM9: =BL9/CM9-1 | BN9: 12102.174 | BO9: =BN9/CO9-1 | BP9: 12738.347 | BQ9: =BP9/CQ9-1 | BR9: 13441.938 | BS9: =BR9/CS9-1 | BT9: =AV9+AX9+AZ9+BB9+BD9+BF9+BH9+BJ9+BL9+BN9+BP9+BR9 | BU9: =BT9/SUM(BW9,BY9,CA9,CC9,CE9,CG9,CI9,CK9,CM9,CO9,CQ9,CS9)-1 | BW9: 7519.5605 | BX9: =BW9/DK9-1 | BY9: 9863.3035 | BZ9: =BY9/DL9-1 | CA9: 12315.271 | CB9: =CA9/DM9-1 | CC9: 11664.47 | CD9: =CC9/DN9-1 | CE9: 12161.095 | CF9: =CE9/DO9-1 | CG9: 12027.426 | CH9: =CG9/DP9-1 | CI9: 12146.069 | CJ9: =CI9/DQ9-1 | CK9: 12805.207 | CL9: =CK9/DR9-1 | CM9: 12727.924 | CN9: =CM9/DS9-1 | CO9: 12570.074 | CP9: =CO9/DT9-1 | CQ9: 13204.614 | CR9: =CQ9/DV9-1 | CS9: 13336.078 | CT9: =CS9/DV9-1 | CU9: =BW9+BY9+CA9+CC9+CE9+CG9+CI9+CK9+CM9+CO9+CQ9+CS9 | CV9: =CU9/SUM(DK9:DV9)-1 | CX9: =CS9/CQ9-1 | CY9: =CQ9/CO9-1 | CZ9: =CO9/CM9-1 | DA9: =CM9/CK9-1 | DB9: =CK9/CI9-1 | DC9: =CI9/CG9-1 | DD9: =CG9/CE9-1 | DE9: =CE9/CC9-1 | DF9: =CC9/CA9-1 | DG9: =CA9/BY9-1 | DH9: =(BY9-BW9)/BW9 | DI9: =(BW9-DV9)/DV9 | DK9: 10077.563 | DL9: 7476.3223 | DM9: 11911.513 | DN9: 10948.808 | DO9: 11985.964 | DP9: 11262.102 | DQ9: 11518.91 | DR9: 11551.55 | DS9: 12802.517 | DT9: 11931.717 | DU9: 12385.417 | DV9: 12697.089 | DW9: -0.087795638 | DX9: 136549.47 | DY9: -0.10749835 | EA9: 14160.085 | EB9: 5975.6875 | EC9: 11229.931 | ED9: 13660.278 | EE9: 13634.674 | EF9: 14848.948 | EG9: 13054.48 | EH9: 12209.754 | EI9: 13472.959 | EJ9: 12429.062 | EK9: 14401.337 | EL9: 13919.128
B10: 其中规下货物周转量 (万吨公里) | C10: 1672506.4 | D10: =C10/T10-1 | E10: 1049671.4 | F10: =E10/V10-1 | G10: 1617169.1 | H10: =G10/X10-1 | I10: 1688161.5 | J10: =I10/Z10-1 | K10: 1689902.9 | L10: =K10/AB10-1 | M10: 1562902.8 | N10: =M10/AD10-1 | O10: 1584647.1 | P10: =O10/AF10-1 | Q10: =C10+E10+G10+I10+K10+M10+O10 | R10: =Q10/SUM(T10,V10,X10,Z10,AB10,AD10,AF10)-1 | T10: 1330182.8 | U10: =T10/AV10-1 | V10: 1251378.7 | W10: =V10/AX10-1 | X10: 1696159.9 | Y10: =X10/AZ10-1 | Z10: 1686888.6 | AA10: =Z10/BB10-1 | AB10: 1679266.5 | AC10: =AB10/BD10-1 | AD10: 1496939.2 | AE10: =AD10/BF10-1 | AF10: 1602468.9 | AG10: =AF10/BH10-1 | AH10: 1646265 | AI10: =AH10/BJ10-1 | AJ10: 1700140.4 | AK10: =AJ10/BL10-1 | AL10: 1559213 | AM10: =AL10/BN10-1 | AN10: 1620604.3 | AO10: =AN10/BP10-1 | AP10: 1699014.7 | AQ10: =AP10/BR10-1 | AR10: =T10+V10+X10+Z10+AB10+AD10+AF10+AH10+AJ10+AL10+AN10+AP10 | AS10: =AR10/SUM(AV10,AX10,AZ10,BB10,BD10,BF10,BH10,BJ10,BL10,BN10,BP10,BR10)-1 | AT10: =AR10/AR6 | AU10: =AV10+AX10+AZ10+BB10+BD10+BF10+BH10+BJ10+BL10+BN10+BP10 | AV10: 1526488.7 | AW10: =AV10/BW10-1 | AX10: 801790.99 | AY10: =AX10/BY10-1 | AZ10: 1569907.7 | BA10: =AZ10/CA10-1 | BB10: 1574389 | BC10: =BB10/CC10-1 | BD10: 1615833.8 | BE10: =BD10/CE10-1 | BF10: 1433067.9 | BG10: =BF10/CG10-1 | BH10: 1497985.3 | BI10: =BH10/CI10-1 | BJ10: 1551738 | BK10: =BJ10/CK10-1 | BL10: 1600579.8 | BM10: =BL10/CM10-1 | BN10: 1613914.1 | BO10: =BN10/CO10-1 | BP10: 1651850.1 | BQ10: =BP10/CQ10-1 | BR10: =1737412.41566053-722.11505 | BS10: =BR10/CS10-1 | BT10: =AV10+AX10+AZ10+BB10+BD10+BF10+BH10+BJ10+BL10+BN10+BP10+BR10 | BU10: =BT10/SUM(BW10,BY10,CA10,CC10,CE10,CG10,CI10,CK10,CM10,CO10,CQ10,CS10)-1 | BW10: 1133969.5 | BX10: =BW10/DK10-1 | BY10: 1371590.5 | BZ10: =BY10/DL10-1 | CA10: 1651469.5 | CB10: =CA10/DM10-1 | CC10: 1583594 | CD10: =CC10/DN10-1 | CE10: =CE16+CE22+CE28+CE64+CE34+CE40+CE46+CE52+CE70+CE58+CE76+CE82+CE88+CE94+CE100+CE106+CE112 | CF10: =CE10/DO10-1 | CG10: =CG16+CG22+CG28+CG64+CG34+CG40+CG46+CG52+CG70+CG58+CG76+CG82+CG88+CG94+CG100+CG106+CG112 | CH10: =CG10/DP10-1 | CI10: 1609556.9 | CJ10: =CI10/DQ10-1 | CK10: 1691597.7 | CL10: =CK10/DR10-1 | CM10: =SUM(CM16,CM22,CM28,CM34,CM40,CM46,CM52,CM58,CM64,CM70,CM76,CM82,CM88,CM94,CM100,CM106,CM112) | CN10: =CM10/DS10-1 | CO10: =SUM(CO16,CO22,CO28,CO34,CO40,CO46,CO52,CO58,CO64,CO70,CO76,CO82,CO88,CO94,CO100,CO106,CO112) | CP10: =CO10/DT10-1 | CQ10: =SUM(CQ16,CQ22,CQ28,CQ34,CQ40,CQ46,CQ52,CQ58,CQ64,CQ70,CQ76,CQ82,CQ88,CQ94,CQ100,CQ106,CQ112) | CR10: =CQ10/DV10-1 | CS10: 1792284.6 | CT10: =CS10/DV10-1 | CU10: =BW10+BY10+CA10+CC10+CE10+CG10+CI10+CK10+CM10+CO10+CQ10+CS10 | CV10: =CU10/SUM(DK10:DV10)-1 | CX10: =CS10/CQ10-1 | CY10: =CQ10/CO10-1 | CZ10: =CO10/CM10-1 | DA10: =CM10/CK10-1 | DB10: =CK10/CI10-1 | DC10: =CI10/CG10-1 | DD10: =CG10/CE10-1 | DE10: =CE10/CC10-1 | DF10: =CC10/CA10-1 | DG10: =CA10/BY10-1 | DH10: =(BY10-BW10)/BW10 | DI10: =(BW10-DV10)/DV10 | DK10: 1486576.9 | DL10: 1050502.1 | DM10: 1611444.1 | DN10: 1582350.4 | DO10: 1647393.5 | DP10: 1529092.3 | DQ10: 1583252.1 | DR10: 1597224.1 | DS10: 1779234.6 | DT10: 1756712.9 | DU10: 1781238.3 | DV10: 1804134.7 | DW10: 0.00018941137 | DX10: 19209156 | DY10: -0.076866051 | EA10: 2046508.7 | EB10: 1020210.5 | EC10: 1579936.8 | ED10: 1845669.3 | EE10: 1832917.4 | EF10: 1884475.2 | EG10: 1670131.1 | EH10: 1737653.3 | EI10: 1829273.2 | EJ10: 1648064 | EK10: 1910001.1 | EL10: 1803793
A11: 武汉市 | B11: 规上+规下货运量 (万吨) | C11: 5367.976 | D11: =C11/T11-1 | E11: 3325.2226 | F11: =E11/V11-1 | G11: 5045.5091 | H11: =G11/X11-1 | I11: 5344.9192 | J11: =I11/Z11-1 | K11: 5241.1373 | L11: =K11/AB11-1 | M11: 5041.0422 | N11: =M11/AD11-1 | O11: 4940.9715 | P11: =O11/AF11-1 | Q11: =C11+E11+G11+I11+K11+M11+O11 | R11: =Q11/SUM(T11,V11,X11,Z11,AB11,AD11,AF11)-1 | T11: 4656.8602 | U11: =T11/AV11-1 | V11: 4023.6605 | W11: =V11/AX11-1 | X11: 5288.86 | Y11: =X11/AZ11-1 | Z11: 5460.1016 | AA11: =Z11/BB11-1 | AB11: 5241.7963 | AC11: =AB11/BD11-1 | AD11: 4848.4248 | AE11: =AD11/BF11-1 | AF11: 4878.3944 | AG11: =AF11/BH11-1 | AH11: 4884.821 | AI11: =AH11/BJ11-1 | AJ11: 5013.4556 | AK11: =AJ11/BL11-1 | AL11: 4807.0288 | AM11: =AL11/BN11-1 | AN11: 5151.9778 | AO11: =AN11/BP11-1 | AP11: 5606.9689 | AQ11: =AP11/BR11-1 | AR11: =T11+V11+X11+Z11+AB11+AD11+AF11+AH11+AJ11+AL11+AN11+AP11 | AS11: =AR11/SUM(AV11,AX11,AZ11,BB11,BD11,BF11,BH11,BJ11,BL11,BN11,BP11,BR11)-1 | AU11: =AV11+AX11+AZ11+BB11+BD11+BF11+BH11+BJ11+BL11+BN11+BP11 | AV11: 4874.2041 | AW11: =AV11/BW11-1 | AX11: 2461.2762 | AY11: =AX11/BY11-1 | AZ11: 4666.8247 | BA11: =AZ11/CA11-1 | BB11: 4940.2747 | BC11: =BB11/CC11-1 | BD11: 4827.6433 | BE11: =BD11/CE11-1 | BF11: 4483.673 | BG11: =BF11/CG11-1 | BH11: 4751.4256 | BI11: =BH11/CI11-1 | BJ11: 4978.0158 | BK11: =BJ11/CK11-1 | BL11: 5058.5262 | BM11: =BL11/CM11-1 | BN11: 5050.7619 | BO11: =BN11/CO11-1 | BP11: 5254.9143 | BQ11: =BP11/CQ11-1 | BR11: 5861.8276 | BS11: =BR11/CS11-1 | BT11: =AV11+AX11+AZ11+BB11+BD11+BF11+BH11+BJ11+BL11+BN11+BP11+BR11 | BU11: =BT11/SUM(BW11,BY11,CA11,CC11,CE11,CG11,CI11,CK11,CM11,CO11,CQ11,CS11)-1 | BW11: 2984.8086 | BX11: =BW11/DK11-1 | BY11: 3646.3604 | BZ11: =BY11/DL11-1 | CA11: 4561.7315 | CB11: =CA11/DM11-1 | CC11: 4350.867 | CD11: =CC11/DN11-1 | CE11: 4349.6792 | CF11: =CE11/DO11-1 | CG11: 4380.4503 | CH11: =CG11/DP11-1 | CI11: 4482.5934 | CJ11: =CI11/DQ11-1 | CK11: 4783.5962 | CL11: =CK11/DR11-1 | CM11: 4811.068 | CN11: =CM11/DS11-1 | CO11: 4687.1456 | CP11: =CO11/DT11-1 | CQ11: 4935.2178 | CR11: =CQ11/DV11-1 | CS11: 5311.9935 | CT11: =CS11/DV11-1 | CU11: =BW11+BY11+CA11+CC11+CE11+CG11+CI11+CK11+CM11+CO11+CQ11+CS11 | CV11: =CU11/SUM(DK11:DV11)-1 | CX11: =CS11/CQ11-1 | CY11: =CQ11/CO11-1 | DK11: 3527.8941 | DL11: 2520.983 | DM11: 3983.1117 | DN11: 3577.3787 | DO11: 3687.5669 | DP11: 3549.3472 | DQ11: 3704.727 | DR11: 3775.5047 | DS11: 4236.5505 | DT11: 3935.667 | DU11: 4144.2516 | DV11: 4334.4264 | DW11: -0.057195789 | DX11: 44977.409 | DY11: -0.088660671 | EA11: 4863.5297 | EB11: 2088.3234 | EC11: 3828.3068 | ED11: 4386.9744 | EE11: 4073.4711 | EF11: 4516.8977 | EG11: 4020.7726 | EH11: 3939.6845 | EI11: 4321.4984 | EJ11: 3983.3497 | EK11: 4732.901 | EL11: 4597.377
B12: 规上货运量 (万吨) | C12: 1068.203 | D12: =C12/T12-1 | E12: 1082.0457 | F12: =E12/V12-1 | G12: 1315.4117 | H12: =G12/X12-1 | I12: 1395.7514 | J12: =I12/Z12-1 | K12: 1404.6304 | L12: =K12/AB12-1 | M12: 1411.5586 | N12: =M12/AD12-1 | O12: 1227.5499 | P12: =O12/AF12-1 | Q12: =C12+E12+G12+I12+K12+M12+O12 | R12: =Q12/SUM(T12,V12,X12,Z12,AB12,AD12,AF12)-1 | T12: 1679.333 | U12: =T12/AV12-1 | V12: 1587.8388 | W12: =V12/AX12-1 | X12: 1658.7646 | Y12: =X12/AZ12-1 | Z12: 1709.4014 | AA12: =Z12/BB12-1 | AB12: 1685.1569 | AC12: =AB12/BD12-1 | AD12: 1657.0862 | AE12: =AD12/BF12-1 | AF12: 1157.9821 | AG12: =AF12/BH12-1 | AH12: 1055.6742 | AI12: =AH12/BJ12-1 | AJ12: 1130.5905 | AK12: =AJ12/BL12-1 | AL12: 1091.9593 | AM12: =AL12/BN12-1 | AN12: 1282.9303 | AO12: =AN12/BP12-1 | AP12: 1454.2056 | AQ12: =AP12/BR12-1 | AR12: =T12+V12+X12+Z12+AB12+AD12+AF12+AH12+AJ12+AL12+AN12+AP12 | AS12: =AR12/SUM(AV12,AX12,AZ12,BB12,BD12,BF12,BH12,BJ12,BL12,BN12,BP12,BR12)-1 | AT12: 0.050613496 | AU12: =AV12+AX12+AZ12+BB12+BD12+BF12+BH12+BJ12+BL12+BN12+BP12 | AV12: 1248.9741 | AW12: =AV12/BW12-1 | AX12: 890.9195 | AY12: =AX12/BY12-1 | AZ12: 1150.0197 | BA12: =AZ12/CA12-1 | BB12: 1396.8088 | BC12: =BB12/CC12-1 | BD12: 1336.3589 | BE12: =BD12/CE12-1 | BF12: 1364.4821 | BG12: =BF12/CG12-1 | BH12: 1466.8122 | BI12: =BH12/CI12-1 | BJ12: 1537.9002 | BK12: =BJ12/CK12-1 | BL12: 1482.234 | BM12: =BL12/CM12-1 | BN12: 1501.2086 | BO12: =BN12/CO12-1 | BP12: 1603.2823 | BQ12: =BP12/CQ12-1 | BR12: 1826.6492 | BS12: =BR12/CS12-1 | BT12: =AV12+AX12+AZ12+BB12+BD12+BF12+BH12+BJ12+BL12+BN12+BP12+BR12 | BU12: =BT12/SUM(BW12,BY12,CA12,CC12,CE12,CG12,CI12,CK12,CM12,CO12,CQ12,CS12)-1 | BW12: 502.8711 | BX12: =BW12/DK12-1 | BY12: 574.5986 | BZ12: =BY12/DL12-1 | CA12: 663.6102 | CB12: =CA12/DM12-1 | CC12: 709.1734 | CD12: =CC12/DN12-1 | CE12: 728.7535 | CF12: =CE12/DO12-1 | CG12: 704.4881 | CH12: =CG12/DP12-1 | CI12: 781.3303 | CJ12: =CI12/DQ12-1 | CK12: 819.1662 | CL12: =CK12/DR12-1 | CM12: 816.3959 | CN12: =CM12/DS12-1 | CO12: 865.0056 | CP12: =CO12/DT12-1 | CQ12: 875.7366 | CR12: =CQ12/DV12-1 | CS12: 911.8235 | CT12: =CS12/DV12-1 | CU12: =BW12+BY12+CA12+CC12+CE12+CG12+CI12+CK12+CM12+CO12+CQ12+CS12 | CV12: =CU12/SUM(DK12:DV12)-1 | CX12: =CS12/CQ12-1 | CY12: =CQ12/CO12-1 | DJ12: 武汉市 | DK12: 197.5861 | DL12: 170.6634 | DM12: 202.72 | DN12: 173.4475 | DO12: 175.6111 | DP12: 179.1164 | DQ12: 195.5276 | DR12: 181.8021 | DS12: 185.9725 | DT12: 175.8374 | DU12: 156.2715 | DV12: 191.4624 | DW12: -0.17101454 | DX12: 2186.018 | DY12: -0.17604362 | EA12: 281.7984 | EB12: 158.6914 | EC12: 244.86636 | ED12: 240.82636 | EE12: 236.0501 | EF12: 226.246 | EG12: 223.3899 | EH12: 183.2319 | EI12: 195.7 | EJ12: 209.6869 | EK12: 221.6277 | EL12: 230.9599
B13: 规下货运量 (万吨) | C13: 4299.773 | D13: =C13/T13-1 | E13: 2243.1769 | F13: =E13/V13-1 | G13: 3730.0974 | H13: =G13/X13-1 | I13: 3949.1678 | J13: =I13/Z13-1 | K13: 3836.5069 | L13: =K13/AB13-1 | M13: 3629.4836 | N13: =M13/AD13-1 | O13: 3713.4216 | P13: =O13/AF13-1 | Q13: =C13+E13+G13+I13+K13+M13+O13 | R13: =Q13/SUM(T13,V13,X13,Z13,AB13,AD13,AF13)-1 | T13: 2977.5272 | U13: =T13/AV13-1 | V13: 2435.8217 | W13: =V13/AX13-1 | X13: 3630.0954 | Y13: =X13/AZ13-1 | Z13: 3750.7002 | AA13: =Z13/BB13-1 | AB13: 3556.6394 | AC13: =AB13/BD13-1 | AD13: 3191.3386 | AE13: =AD13/BF13-1 | AF13: 3720.4123 | AG13: =AF13/BH13-1 | AH13: 3829.1468 | AI13: =AH13/BJ13-1 | AJ13: 3882.8651 | AK13: =AJ13/BL13-1 | AL13: 3715.0695 | AM13: =AL13/BN13-1 | AN13: 3869.0475 | AO13: =AN13/BP13-1 | AP13: 4152.7633 | AQ13: =AP13/BR13-1 | AR13: =T13+V13+X13+Z13+AB13+AD13+AF13+AH13+AJ13+AL13+AN13+AP13 | AS13: =AR13/SUM(AV13,AX13,AZ13,BB13,BD13,BF13,BH13,BJ13,BL13,BN13,BP13,BR13)-1 | AU13: =AV13+AX13+AZ13+BB13+BD13+BF13+BH13+BJ13+BL13+BN13+BP13 | AV13: 3625.23 | AW13: =AV13/BW13-1 | AX13: 1570.3567 | AY13: =AX13/BY13-1 | AZ13: 3516.805 | BA13: =AZ13/CA13-1 | BB13: 3543.4659 | BC13: =BB13/CC13-1 | BD13: 3491.2844 | BE13: =BD13/CE13-1 | BF13: 3119.1909 | BG13: =BF13/CG13-1 | BH13: 3284.6134 | BI13: =BH13/CI13-1 | BJ13: 3440.1156 | BK13: =BJ13/CK13-1 | BL13: 3576.2922 | BM13: =BL13/CM13-1 | BN13: 3549.5533 | BO13: =BN13/CO13-1 | BP13: 3651.632 | BQ13: =BP13/CQ13-1 | BR13: 4035.1784 | BS13: =BR13/CS13-1 | BT13: =AV13+AX13+AZ13+BB13+BD13+BF13+BH13+BJ13+BL13+BN13+BP13+BR13 | BU13: =BT13/SUM(BW13,BY13,CA13,CC13,CE13,CG13,CI13,CK13,CM13,CO13,CQ13,CS13)-1 | BW13: 2481.9375 | BX13: =BW13/DK13-1 | BY13: 3071.7618 | BZ13: =BY13/DL13-1 | CA13: 3898.1213 | CB13: =CA13/DM13-1 | CC13: 3641.6936 | CD13: =CC13/DN13-1 | CE13: 3620.9257 | CF13: =CE13/DO13-1 | CG13: 3675.9622 | CH13: =CG13/DP13-1 | CI13: 3701.2631 | CJ13: =CI13/DQ13-1 | CK13: 3964.43 | CL13: =CK13/DR13-1 | CM13: 3994.6721 | CN13: =CM13/DS13-1 | CO13: 3822.14 | CP13: =CO13/DT13-1 | CQ13: 4059.4812 | CR13: =CQ13/DV13-1 | CS13: 4400.17 | CT13: =CS13/DV13-1 | CU13: =BW13+BY13+CA13+CC13+CE13+CG13+CI13+CK13+CM13+CO13+CQ13+CS13 | CV13: =CU13/SUM(DK13:DV13)-1 | CX13: =CS13/CQ13-1 | CY13: =CQ13/CO13-1 | DK13: 3330.308 | DL13: 2350.3196 | DM13: 3780.3917 | DN13: 3403.9312 | DO13: 3511.9558 | DP13: 3370.2308 | DQ13: 3509.1994 | DR13: 3593.7026 | DS13: 4050.578 | DT13: 3759.8296 | DU13: 3987.9801 | DV13: 4142.964 | DW13: -0.051175392 | DX13: 42791.391 | DY13: -0.083696357 | EA13: 4581.7313 | EB13: 1929.632 | EC13: 3583.4404 | ED13: 4146.1481 | EE13: 3837.421 | EF13: 4290.6517 | EG13: 3797.3827 | EH13: 3756.4526 | EI13: 4125.7984 | EJ13: 3773.6628 | EK13: 4511.2733 | EL13: 4366.4171
B14: 规上+规下周转量 (万吨公里) | C14: =C15+C16 | D14: =C14/T14-1 | E14: =E15+E16 | F14: =E14/V14-1 | G14: =G15+G16 | H14: =G14/X14-1 | I14: =I15+I16 | J14: =I14/Z14-1 | K14: =K15+K16 | L14: =K14/AB14-1 | M14: =M15+M16 | N14: =M14/AD14-1 | O14: =O15+O16 | P14: =O14/AF14-1 | Q14: =C14+E14+G14+I14+K14+M14+O14 | R14: =Q14/SUM(T14,V14,X14,Z14,AB14,AD14,AF14)-1 | T14: =T15+T16 | U14: =T14/AV14-1 | V14: =V15+V16 | W14: =V14/AX14-1 | X14: =X15+X16 | Y14: =X14/AZ14-1 | Z14: =Z15+Z16 | AA14: =Z14/BB14-1 | AB14: =AB15+AB16 | AC14: =AB14/BD14-1 | AD14: =AD15+AD16 | AE14: =AD14/BF14-1 | AF14: =AF15+AF16 | AG14: =AF14/BH14-1 | AH14: =AH15+AH16 | AI14: =AH14/BJ14-1 | AJ14: =AJ15+AJ16 | AK14: =AJ14/BL14-1 | AL14: =AL15+AL16 | AM14: =AL14/BN14-1 | AN14: =AN15+AN16 | AO14: =AN14/BP14-1 | AP14: =AP15+AP16 | AQ14: =AP14/BR14-1 | AR14: =T14+V14+X14+Z14+AB14+AD14+AF14+AH14+AJ14+AL14+AN14+AP14 | AS14: =AR14/SUM(AV14,AX14,AZ14,BB14,BD14,BF14,BH14,BJ14,BL14,BN14,BP14,BR14)-1 | AU14: =AV14+AX14+AZ14+BB14+BD14+BF14+BH14+BJ14+BL14+BN14+BP14 | AV14: =AV15+AV16 | AW14: =AV14/BW14-1 | AX14: =AX15+AX16 | AY14: =AX14/BY14-1 | AZ14: =AZ15+AZ16 | BA14: =AZ14/CA14-1 | BB14: =BB15+BB16 | BC14: =BB14/CC14-1 | BD14: =BD15+BD16 | BE14: =BD14/CE14-1 | BF14: =BF15+BF16 | BG14: =BF14/CG14-1 | BH14: =BH15+BH16 | BI14: =BH14/CI14-1 | BJ14: =BJ15+BJ16 | BK14: =BJ14/CK14-1 | BL14: =BL15+BL16 | BM14: =BL14/CM14-1 | BN14: =BN15+BN16 | BO14: =BN14/CO14-1 | BP14: =BP15+BP16 | BQ14: =BP14/CQ14-1 | BR14: =BR15+BR16 | BS14: =BR14/CS14-1 | BT14: =AV14+AX14+AZ14+BB14+BD14+BF14+BH14+BJ14+BL14+BN14+BP14+BR14 | BU14: =BT14/SUM(BW14,BY14,CA14,CC14,CE14,CG14,CI14,CK14,CM14,CO14,CQ14,CS14)-1 | BW14: =BW15+BW16 | BX14: =BW14/DK14-1 | BY14: =BY15+BY16 | BZ14: =BY14/DL14-1 | CA14: =SUM(CA15:CA16) | CB14: =CA14/DM14-1 | CC14: 597187.86 | CD14: =CC14/DN14-1 | CE14: 612547.13 | CF14: =CE14/DO14-1 | CG14: =CG15+CG16 | CH14: =CG14/DP14-1 | CI14: =CI15+CI16 | CJ14: =CI14/DQ14-1 | CK14: 656799.19 | CL14: =CK14/DR14-1 | CM14: =SUM(CM15:CM16) | CN14: =CM14/DS14-1 | CO14: =SUM(CO15:CO16) | CP14: =CO14/DT14-1 | CQ14: =CQ15+CQ16 | CR14: =CQ14/DV14-1 | CS14: =CS15+CS16 | CT14: =CS14/DV14-1 | CU14: =BW14+BY14+CA14+CC14+CE14+CG14+CI14+CK14+CM14+CO14+CQ14+CS14 | CV14: =CU14/SUM(DK14:DV14)-1 | CX14: =CS14/CQ14-1 | CY14: =CQ14/CO14-1 | DB14: =CU7/CU5 | DK14: 519815.51 | DL14: 360327.36 | DM14: 527130.31 | DN14: 504396.57 | DO14: 515752.5 | DP14: 492083.41 | DQ14: 509065.59 | DR14: 520493.1 | DS14: 594403.79 | DT14: 586210.21 | DU14: 591294.48 | DV14: 608823.5 | DW14: 0.016112404 | DX14: 6329796.3 | DY14: -0.052265989 | EA14: =EA15+EA16 | EB14: =EB15+EB16 | EC14: =EC15+EC16 | ED14: =ED15+ED16 | EE14: =EE15+EE16 | EF14: =EF15+EF16 | EG14: =EG15+EG16 | EH14: =EH15+EH16 | ... EL14: =EL15+EL16
B15: 规上货物周转量 (万吨公里) | C15: 165332.61 | D15: =C15/T15-1 | E15: 149830.21 | F15: =E15/V15-1 | G15: 212998.43 | H15: =G15/X15-1 | I15: 227544.83 | J15: =I15/Z15-1 | K15: 238395.12 | L15: =K15/AB15-1 | M15: 241659.53 | N15: =M15/AD15-1 | O15: 204809.56 | P15: =O15/AF15-1 | Q15: =C15+E15+G15+I15+K15+M15+O15 | R15: =Q15/SUM(T15,V15,X15,Z15,AB15,AD15,AF15)-1 | T15: 223768.79 | U15: =T15/AV15-1 | V15: 215756.59 | W15: =V15/AX15-1 | X15: 228032.26 | Y15: =X15/AZ15-1 | Z15: 231348.39 | AA15: =Z15/BB15-1 | AB15: 235218.1 | AC15: =AB15/BD15-1 | AD15: 243540.25 | AE15: =AD15/BF15-1 | AF15: 167430.52 | AG15: =AF15/BH15-1 | AH15: 144226.23 | AI15: =AH15/BJ15-1 | AJ15: 162619.79 | AK15: =AJ15/BL15-1 | AL15: 154248.88 | AM15: =AL15/BN15-1 | AN15: 189963.88 | AO15: =AN15/BP15-1 | AP15: 228375.1 | AQ15: =AP15/BR15-1 | AR15: =T15+V15+X15+Z15+AB15+AD15+AF15+AH15+AJ15+AL15+AN15+AP15 | AS15: =AR15/SUM(AV15,AX15,AZ15,BB15,BD15,BF15,BH15,BJ15,BL15,BN15,BP15,BR15)-1 | AU15: =AV15+AX15+AZ15+BB15+BD15+BF15+BH15+BJ15+BL15+BN15+BP15 | AV15: 180170.6 | AW15: =AV15/BW15-1 | AX15: 129426.48 | AY15: =AX15/BY15-1 | AZ15: 159012.94 | BA15: =AZ15/CA15-1 | BB15: 173812.2 | BC15: =BB15/CC15-1 | BD15: 173696.43 | BE15: =BD15/CE15-1 | BF15: 179078.9 | BG15: =BF15/CG15-1 | BH15: 202542.11 | BI15: =BH15/CI15-1 | BJ15: 205470.09 | BK15: =BJ15/CK15-1 | BL15: 205997.13 | BM15: =BL15/CM15-1 | BN15: 203771.58 | BO15: =BN15/CO15-1 | BP15: 221023.49 | BQ15: =BP15/CQ15-1 | BR15: 294139.99 | BS15: =BR15/CS15-1 | BT15: =AV15+AX15+AZ15+BB15+BD15+BF15+BH15+BJ15+BL15+BN15+BP15+BR15 | BU15: =BT15/SUM(BW15,BY15,CA15,CC15,CE15,CG15,CI15,CK15,CM15,CO15,CQ15,CS15)-1 | BW15: 82056.639 | BX15: =BW15/DK15-1 | BY15: 83946.71 | BZ15: =BY15/DL15-1 | CA15: 95454.96 | CB15: =CA15/DM15-1 | CC15: 102624.04 | CD15: =CC15/DN15-1 | CE15: 109978.63 | CF15: =CE15/DO15-1 | CG15: 119972.11 | CH15: =CG15/DP15-1 | CI15: 131297.07 | CJ15: =CI15/DQ15-1 | CK15: 135080.99 | CL15: =CK15/DR15-1 | CM15: 137003.91 | CN15: =CM15/DS15-1 | CO15: 140386.45 | CP15: =CO15/DT15-1 | CQ15: 145724.56 | CR15: =CQ15/DV15-1 | CS15: 155520.78 | CT15: =CS15/DV15-1 | CU15: =BW15+BY15+CA15+CC15+CE15+CG15+CI15+CK15+CM15+CO15+CQ15+CS15 | CV15: =CU15/SUM(DK15:DV15)-1 | CX15: =CS15/CQ15-1 | CY15: =CQ15/CO15-1 | DB15: =CU8/CU6 | DK15: 31664.369 | DL15: 29056.004 | DM15: 31802.224 | DN15: 26432.653 | DO15: 28521.518 | DP15: 28991.72 | DQ15: 30005.449 | DR15: 28472.126 | DS15: 28179.364 | DT15: 27965.431 | DU15: 24611.36 | DV15: 30880.499 | DW15: -0.089590155 | DX15: 346582.72 | DY15: -0.15931483 | EA15: 43194.122 | EB15: 28235.53 | EC15: 37322.587 | ED15: 35839.149 | EE15: 34720.017 | EF15: 34634.98 | EG15: 33474.004 | EH15: 31149.232 | EI15: 32160.23 | EJ15: 32968.479 | EK15: 34644.534 | EL15: 33919.338
B16: 规下货物周转量 (万吨公里) | C16: 522474.89 | D16: =C16/T16-1 | E16: 309473.87 | F16: =E16/V16-1 | G16: 462054.63 | H16: =G16/X16-1 | I16: 477015.93 | J16: =I16/Z16-1 | K16: 475743.78 | L16: =K16/AB16-1 | M16: 445444.36 | N16: =M16/AD16-1 | O16: 462751.81 | P16: =O16/AF16-1 | Q16: =C16+E16+G16+I16+K16+M16+O16 | R16: =Q16/SUM(T16,V16,X16,Z16,AB16,AD16,AF16)-1 | T16: 393031.41 | U16: =T16/AV16-1 | V16: 342631.6 | W16: =V16/AX16-1 | X16: 477427.62 | Y16: =X16/AZ16-1 | Z16: 484338.43 | AA16: =Z16/BB16-1 | AB16: 488220.3 | AC16: =AB16/BD16-1 | AD16: 434173.42 | AE16: =AD16/BF16-1 | AF16: 495075.48 | AG16: =AF16/BH16-1 | AH16: 515273.38 | AI16: =AH16/BJ16-1 | AJ16: 529763.85 | AK16: =AJ16/BL16-1 | AL16: 489544.51 | AM16: =AL16/BN16-1 | AN16: 476161.56 | AO16: =AN16/BP16-1 | AP16: 493249.5 | AQ16: =AP16/BR16-1 | AR16: =T16+V16+X16+Z16+AB16+AD16+AF16+AH16+AJ16+AL16+AN16+AP16 | AS16: =AR16/SUM(AV16,AX16,AZ16,BB16,BD16,BF16,BH16,BJ16,BL16,BN16,BP16,BR16)-1 | AU16: =AV16+AX16+AZ16+BB16+BD16+BF16+BH16+BJ16+BL16+BN16+BP16 | AV16: 456907.86 | AW16: =AV16/BW16-1 | AX16: 233539.54 | AY16: =AX16/BY16-1 | AZ16: 460898.08 | BA16: =AZ16/CA16-1 | BB16: 460477.13 | BC16: =BB16/CC16-1 | BD16: 472875.68 | BE16: =BD16/CE16-1 | BF16: 421365.25 | BG16: =BF16/CG16-1 | BH16: 435988.41 | BI16: =BH16/CI16-1 | BJ16: 457113.69 | BK16: =BJ16/CK16-1 | BL16: 478400.85 | BM16: =BL16/CM16-1 | BN16: 481074.92 | BO16: =BN16/CO16-1 | BP16: 473778.51 | BQ16: =BP16/CQ16-1 | BR16: 495292.45 | BS16: =BR16/CS16-1 | BT16: =AV16+AX16+AZ16+BB16+BD16+BF16+BH16+BJ16+BL16+BN16+BP16+BR16 | BU16: =BT16/SUM(BW16,BY16,CA16,CC16,CE16,CG16,CI16,CK16,CM16,CO16,CQ16,CS16)-1 | BW16: 378334.75 | BX16: =BW16/DK16-1 | BY16: 438823.74 | BZ16: =BY16/DL16-1 | CA16: 525538.1 | CB16: =CA16/DM16-1 | CC16: 494563.82 | CD16: =CC16/DN16-1 | CE16: 502568.5 | CF16: =CE16/DO16-1 | CG16: 487501.57 | CH16: =CG16/DP16-1 | CI16: 489756.4 | CJ16: =CI16/DQ16-1 | CK16: 521718.21 | CL16: =CK16/DR16-1 | CM16: 542958.29 | CN16: =CM16/DS16-1 | CO16: 515928.64 | CP16: =CO16/DT16-1 | CQ16: 528159.16 | CR16: =CQ16/DV16-1 | CS16: 563216.53 | CT16: =CS16/DV16-1 | CU16: =BW16+BY16+CA16+CC16+CE16+CG16+CI16+CK16+CM16+CO16+CQ16+CS16 | CV16: =CU16/SUM(DK16:DV16)-1 | CX16: =CS16/CQ16-1 | CY16: =CQ16/CO16-1 | DK16: 488151.14 | DL16: 331271.36 | DM16: 495328.09 | DN16: 477963.92 | DO16: 487230.98 | DP16: 463091.69 | DQ16: 479060.14 | DR16: 492020.97 | DS16: 566224.42 | DT16: 558244.78 | DU16: 566683.12 | DV16: 577943 | DW16: 0.022455368 | DX16: 5983213.6 | DY16: -0.045223556 | EA16: 639269.43 | EB16: 322682.26 | EC16: 470399.43 | ED16: 528325.35 | EE16: 505694.1 | EF16: 548627.74 | EG16: 492049.95 | EH16: 526394.1 | EI16: 569654.95 | EJ16: 504832.07 | EK16: 593432.62 | EL16: 565250.1 | EO16: =SUM(EA16:EL16)
A17: 黄石市 | B17: 规上+规下货运量 (万吨) | C17: 569.93509 | D17: =C17/T17-1 | E17: 411.12461 | F17: =E17/V17-1 | G17: 559.37453 | H17: =G17/X17-1 | I17: 632.22243 | J17: =I17/Z17-1 | K17: 628.24764 | L17: =K17/AB17-1 | M17: 601.69526 | N17: =M17/AD17-1 | O17: 560.58694 | P17: =O17/AF17-1 | Q17: =C17+E17+G17+I17+K17+M17+O17 | R17: =Q17/SUM(T17,V17,X17,Z17,AB17,AD17,AF17)-1 | T17: 480.63289 | U17: =T17/AV17-1 | V17: 488.30395 | W17: =V17/AX17-1 | X17: 583.013 | Y17: =X17/AZ17-1 | Z17: 641.16171 | AA17: =Z17/BB17-1 | AB17: 629.53724 | AC17: =AB17/BD17-1 | AD17: 576.76312 | AE17: =AD17/BF17-1 | AF17: 558.21601 | AG17: =AF17/BH17-1 | AH17: 571.96664 | AI17: =AH17/BJ17-1 | AJ17: 580.2096 | AK17: =AJ17/BL17-1 | AL17: 557.14353 | AM17: =AL17/BN17-1 | AN17: 582.4312 | AO17: =AN17/BP17-1 | AP17: 592.65485 | AQ17: =AP17/BR17-1 | AR17: =T17+V17+X17+Z17+AB17+AD17+AF17+AH17+AJ17+AL17+AN17+AP17 | AS17: =AR17/SUM(AV17,AX17,AZ17,BB17,BD17,BF17,BH17,BJ17,BL17,BN17,BP17,BR17)-1 | AU17: =AV17+AX17+AZ17+BB17+BD17+BF17+BH17+BJ17+BL17+BN17+BP17 | AV17: 525.21427 | AW17: =AV17/BW17-1 | AX17: 324.71209 | AY17: =AX17/BY17-1 | AZ17: 525.91806 | BA17: =AZ17/CA17-1 | BB17: 604.23437 | BC17: =BB17/CC17-1 | BD17: 613.67149 | BE17: =BD17/CE17-1 | BF17: 553.29103 | BG17: =BF17/CG17-1 | BH17: 547.75775 | BI17: =BH17/CI17-1 | BJ17: 575.35012 | BK17: =BJ17/CK17-1 | BL17: 563.30586 | BM17: =BL17/CM17-1 | BN17: 557.8774 | BO17: =BN17/CO17-1 | BP17: 564.73641 | BQ17: =BP17/CQ17-1 | BR17: 604.18924 | BS17: =BR17/CS17-1 | BT17: =AV17+AX17+AZ17+BB17+BD17+BF17+BH17+BJ17+BL17+BN17+BP17+BR17 | BU17: =BT17/SUM(BW17,BY17,CA17,CC17,CE17,CG17,CI17,CK17,CM17,CO17,CQ17,CS17)-1 | BW17: 299.50032 | BX17: =BW17/DK17-1 | BY17: 435.59366 | BZ17: =BY17/DL17-1 | CA17: 504.31431 | CB17: =CA17/DM17-1 | CC17: 538.35025 | CD17: =CC17/DN17-1 | CE17: 552.5703 | CF17: =CE17/DO17-1 | CG17: 545.57251 | CH17: =CG17/DP17-1 | CI17: 525.97666 | CJ17: =CI17/DQ17-1 | CK17: 564.60231 | CL17: =CK17/DR17-1 | CM17: 532.51459 | CN17: =CM17/DS17-1 | CO17: 538.89574 | CP17: =CO17/DT17-1 | CQ17: 551.03161 | CR17: =CQ17/DV17-1 | CS17: 543.48886 | CT17: =CS17/DV17-1 | CU17: =BW17+BY17+CA17+CC17+CE17+CG17+CI17+CK17+CM17+CO17+CQ17+CS17 | CV17: =CU17/SUM(DK17:DV17)-1 | CX17: =CS17/CQ17-1 | CY17: =CQ17/CO17-1 | DK17: 365.84215 | DL17: 331.68997 | DM17: 470.75145 | DN17: 442.85037 | DO17: 465.29276 | DP17: 431.81911 | DQ17: 446.02937 | DR17: 478.72302 | DS17: 489.06827 | DT17: 474.98413 | DU17: 496.7457 | DV17: 487.37921 | DW17: -0.063625183 | DX17: 5381.1755 | DY17: -0.10456908 | EA17: 509.03783 | EB17: 283.56333 | EC17: 467.80407 | ED17: 518.02636 | EE17: 533.24037 | EF17: 581.70238 | EG17: 525.40355 | EH17: 533.48166 | EI17: 516.57371 | EJ17: 489.23075 | EK17: 531.03331 | EL17: 520.49585 | EO17: =SUM(EA17:EL17)
B18: 规上货运量 (万吨) | C18: 146.2244 | D18: =C18/T18-1 | E18: 138.363 | F18: =E18/V18-1 | G18: 141.3944 | H18: =G18/X18-1 | I18: 153.0738 | J18: =I18/Z18-1 | K18: 145.4478 | L18: =K18/AB18-1 | M18: 152.4682 | N18: =M18/AD18-1 | O18: 133.0799 | P18: =O18/AF18-1 | Q18: =C18+E18+G18+I18+K18+M18+O18 | R18: =Q18/SUM(T18,V18,X18,Z18,AB18,AD18,AF18)-1 | T18: 215.0814 | U18: =T18/AV18-1 | V18: 233.5007 | W18: =V18/AX18-1 | X18: 234.7088 | Y18: =X18/AZ18-1 | Z18: 244.3226 | AA18: =Z18/BB18-1 | AB18: 224.6981 | AC18: =AB18/BD18-1 | AD18: 222.9137 | AE18: =AD18/BF18-1 | AF18: 197.0272 | AG18: =AF18/BH18-1 | AH18: 200.2692 | AI18: =AH18/BJ18-1 | AJ18: 237.2793 | AK18: =AJ18/BL18-1 | AL18: 226.4434 | AM18: =AL18/BN18-1 | AN18: 232.4916 | AO18: =AN18/BP18-1 | AP18: 247.7827 | AQ18: =AP18/BR18-1 | AR18: =T18+V18+X18+Z18+AB18+AD18+AF18+AH18+AJ18+AL18+AN18+AP18 | AS18: =AR18/SUM(AV18,AX18,AZ18,BB18,BD18,BF18,BH18,BJ18,BL18,BN18,BP18,BR18)-1 | AU18: =AV18+AX18+AZ18+BB18+BD18+BF18+BH18+BJ18+BL18+BN18+BP18 | AV18: 199.5413 | AW18: =AV18/BW18-1 | AX18: 184.107 | AY18: =AX18/BY18-1 | AZ18: 213.7702 | BA18: =AZ18/CA18-1 | BB18: 240.6408 | BC18: =BB18/CC18-1 | BD18: 242.6287 | BE18: =BD18/CE18-1 | BF18: 232.4824 | BG18: =BF18/CG18-1 | BH18: 228.5154 | BI18: =BH18/CI18-1 | BJ18: 241.4792 | BK18: =BJ18/CK18-1 | BL18: 236.1798 | BM18: =BL18/CM18-1 | BN18: 220.3632 | BO18: =BN18/CO18-1 | BP18: 208.6072 | BQ18: =BP18/CQ18-1 | BR18: 235.3121 | BS18: =BR18/CS18-1 | BT18: =AV18+AX18+AZ18+BB18+BD18+BF18+BH18+BJ18+BL18+BN18+BP18+BR18 | BU18: =BT18/SUM(BW18,BY18,CA18,CC18,CE18,CG18,CI18,CK18,CM18,CO18,CQ18,CS18)-1 | BW18: 91.1304 | BX18: =BW18/DK18-1 | BY18: 101.3522 | BZ18: =BY18/DL18-1 | CA18: 107.9145 | CB18: =CA18/DM18-1 | CC18: 230.7812 | CD18: =CC18/DN18-1 | CE18: 271.097 | CF18: =CE18/DO18-1 | CG18: 290.1972 | CH18: =CG18/DP18-1 | CI18: 199.9823 | CJ18: =CI18/DQ18-1 | CK18: 173.726 | CL18: =CK18/DR18-1 | CM18: 167.6153 | CN18: =CM18/DS18-1 | CO18: 151.216 | CP18: =CO18/DT18-1 | CQ18: 171.5616 | CR18: =CQ18/DV18-1 | CS18: 196.8561 | CT18: =CS18/DV18-1 | CU18: =BW18+BY18+CA18+CC18+CE18+CG18+CI18+CK18+CM18+CO18+CQ18+CS18 | CV18: =CU18/SUM(DK18:DV18)-1 | CX18: =CS18/CQ18-1 | CY18: =CQ18/CO18-1 | DJ18: 黄石市 | DK18: 33.4348 | DL18: 33.8666 | DM18: 30.4508 | DN18: 36.1481 | DO18: 28.6769 | DP18: 30.1699 | DQ18: 38.1869 | DR18: 26.6693 | DS18: 53.1762 | DT18: 41.4342 | DU18: 105.6138 | DV18: 49.1234 | DW18: -0.4632654 | DX18: 506.9509 | DY18: -0.64689091 | EA18: 116.4564 | EB18: 111.7571 | EC18: 134.45383 | ED18: 130.23113 | EE18: 127.0119 | EF18: 131.2854 | EG18: 126.5023 | EH18: 126.1601 | EI18: 125.5644 | EJ18: 123.4414 | EK18: 91.2912 | EL18: 91.5227 | EO18: =SUM(EA18:EL18)
B19: 规下货运量 (万吨) | C19: 423.71069 | D19: =C19/T19-1 | E19: 272.76161 | F19: =E19/V19-1 | G19: 417.98013 | H19: =G19/X19-1 | I19: 479.14863 | J19: =I19/Z19-1 | K19: 482.79984 | L19: =K19/AB19-1 | M19: 449.22706 | N19: =M19/AD19-1 | O19: 427.50704 | P19: =O19/AF19-1 | Q19: =C19+E19+G19+I19+K19+M19+O19 | R19: =Q19/SUM(T19,V19,X19,Z19,AB19,AD19,AF19)-1 | T19: 265.55149 | U19: =T19/AV19-1 | V19: 254.80325 | W19: =V19/AX19-1 | X19: 348.3042 | Y19: =X19/AZ19-1 | Z19: 396.83911 | AA19: =Z19/BB19-1 | AB19: 404.83914 | AC19: =AB19/BD19-1 | AD19: 353.84942 | AE19: =AD19/BF19-1 | AF19: 361.18881 | AG19: =AF19/BH19-1 | AH19: 371.69744 | AI19: =AH19/BJ19-1 | AJ19: 342.9303 | AK19: =AJ19/BL19-1 | AL19: 330.70013 | AM19: =AL19/BN19-1 | AN19: 349.9396 | AO19: =AN19/BP19-1 | AP19: 344.87215 | AQ19: =AP19/BR19-1 | AR19: =T19+V19+X19+Z19+AB19+AD19+AF19+AH19+AJ19+AL19+AN19+AP19 | AS19: =AR19/SUM(AV19,AX19,AZ19,BB19,BD19,BF19,BH19,BJ19,BL19,BN19,BP19,BR19)-1 | AU19: =AV19+AX19+AZ19+BB19+BD19+BF19+BH19+BJ19+BL19+BN19+BP19 | AV19: 325.67297 | AW19: =AV19/BW19-1 | AX19: 140.60509 | AY19: =AX19/BY19-1 | AZ19: 312.14786 | BA19: =AZ19/CA19-1 | BB19: 363.59357 | BC19: =BB19/CC19-1 | BD19: 371.04279 | BE19: =BD19/CE19-1 | BF19: 320.80863 | BG19: =BF19/CG19-1 | BH19: 319.24235 | BI19: =BH19/CI19-1 | BJ19: 333.87092 | BK19: =BJ19/CK19-1 | BL19: 327.12606 | BM19: =BL19/CM19-1 | BN19: 337.5142 | BO19: =BN19/CO19-1 | BP19: 356.12921 | BQ19: =BP19/CQ19-1 | BR19: 368.87714 | BS19: =BR19/CS19-1 | BT19: =AV19+AX19+AZ19+BB19+BD19+BF19+BH19+BJ19+BL19+BN19+BP19+BR19 | BU19: =BT19/SUM(BW19,BY19,CA19,CC19,CE19,CG19,CI19,CK19,CM19,CO19,CQ19,CS19)-1 | BW19: 208.36992 | BX19: =BW19/DK19-1 | BY19: 334.24146 | BZ19: =BY19/DL19-1 | CA19: 396.39981 | CB19: =CA19/DM19-1 | CC19: 307.56905 | CD19: =CC19/DN19-1 | CE19: 281.4733 | CF19: =CE19/DO19-1 | CG19: 255.37531 | CH19: =CG19/DP19-1 | CI19: 325.99436 | CJ19: =CI19/DQ19-1 | CK19: 390.87631 | CL19: =CK19/DR19-1 | CM19: 364.89929 | CN19: =CM19/DS19-1 | CO19: 387.67974 | CP19: =CO19/DT19-1 | CQ19: 379.47001 | CR19: =CQ19/DV19-1 | CS19: 346.63276 | CT19: =CS19/DV19-1 | CU19: =BW19+BY19+CA19+CC19+CE19+CG19+CI19+CK19+CM19+CO19+CQ19+CS19 | CV19: =CU19/SUM(DK19:DV19)-1 | CX19: =CS19/CQ19-1 | CY19: =CQ19/CO19-1 | DK19: 332.40735 | DL19: 297.82337 | DM19: 440.30065 | DN19: 406.70227 | DO19: 436.61586 | DP19: 401.64921 | DQ19: 407.84247 | DR19: 452.05372 | DS19: 435.89207 | DT19: 433.54993 | DU19: 391.1319 | DV19: 438.25581 | DW19: 0.021639247 | DX19: 4874.2246 | DY19: 0.065656946 | EA19: 392.58143 | EB19: 171.80623 | EC19: 333.35024 | ED19: 387.79523 | EE19: 406.22847 | EF19: 450.41698 | EG19: 398.90125 | EH19: 407.32156 | EI19: 391.00931 | EJ19: 365.78935 | EK19: 439.74211 | EL19: 428.97315 | EO19: =SUM(EA19:EL19)
B20: 规上+规下周转量 (万吨公里) | C20: =C21+C22 | D20: =C20/T20-1 | E20: =E21+E22 | F20: =E20/V20-1 | G20: =G21+G22 | H20: =G20/X20-1 | I20: =I21+I22 | J20: =I20/Z20-1 | K20: =K21+K22 | L20: =K20/AB20-1 | M20: =M21+M22 | N20: =M20/AD20-1 | O20: =O21+O22 | P20: =O20/AF20-1 | Q20: =C20+E20+G20+I20+K20+M20+O20 | R20: =Q20/SUM(T20,V20,X20,Z20,AB20,AD20,AF20)-1 | T20: =T21+T22 | U20: =T20/AV20-1 | V20: =V21+V22 | W20: =V20/AX20-1 | X20: =X21+X22 | Y20: =X20/AZ20-1 | Z20: =Z21+Z22 | AA20: =Z20/BB20-1 | AB20: =AB21+AB22 | AC20: =AB20/BD20-1 | AD20: =AD21+AD22 | AE20: =AD20/BF20-1 | AF20: =AF21+AF22 | AG20: =AF20/BH20-1 | AH20: =AH21+AH22 | AI20: =AH20/BJ20-1 | AJ20: =AJ21+AJ22 | AK20: =AJ20/BL20-1 | AL20: =AL21+AL22 | AM20: =AL20/BN20-1 | AN20: =AN21+AN22 | AO20: =AN20/BP20-1 | AP20: =AP21+AP22 | AQ20: =AP20/BR20-1 | AR20: =T20+V20+X20+Z20+AB20+AD20+AF20+AH20+AJ20+AL20+AN20+AP20 | AS20: =AR20/SUM(AV20,AX20,AZ20,BB20,BD20,BF20,BH20,BJ20,BL20,BN20,BP20,BR20)-1 | AU20: =AV20+AX20+AZ20+BB20+BD20+BF20+BH20+BJ20+BL20+BN20+BP20 | AV20: =AV21+AV22 | AW20: =AV20/BW20-1 | AX20: =AX21+AX22 | AY20: =AX20/BY20-1 | AZ20: =AZ21+AZ22 | BA20: =AZ20/CA20-1 | BB20: =BB21+BB22 | BC20: =BB20/CC20-1 | BD20: =BD21+BD22 | BE20: =BD20/CE20-1 | BF20: =BF21+BF22 | BG20: =BF20/CG20-1 | BH20: =BH21+BH22 | BI20: =BH20/CI20-1 | BJ20: =BJ21+BJ22 | BK20: =BJ20/CK20-1 | BL20: =BL21+BL22 | BM20: =BL20/CM20-1 | BN20: =BN21+BN22 | BO20: =BN20/CO20-1 | BP20: =BP21+BP22 | BQ20: =BP20/CQ20-1 | BR20: =BR21+BR22 | BS20: =BR20/CS20-1 | BT20: =AV20+AX20+AZ20+BB20+BD20+BF20+BH20+BJ20+BL20+BN20+BP20+BR20 | BU20: =BT20/SUM(BW20,BY20,CA20,CC20,CE20,CG20,CI20,CK20,CM20,CO20,CQ20,CS20)-1 | BW20: =BW21+BW22 | BX20: =BW20/DK20-1 | BY20: =BY21+BY22 | BZ20: =BY20/DL20-1 | CA20: =SUM(CA21:CA22) | CB20: =CA20/DM20-1 | CC20: 44439.439 | CD20: =CC20/DN20-1 | CE20: 44693.339 | CF20: =CE20/DO20-1 | CG20: =CG21+CG22 | CH20: =CG20/DP20-1 | CI20: =CI21+CI22 | CJ20: =CI20/DQ20-1 | CK20: 48643.485 | CL20: =CK20/DR20-1 | CM20: =SUM(CM21:CM22) | CN20: =CM20/DS20-1 | CO20: =SUM(CO21:CO22) | CP20: =CO20/DT20-1 | CQ20: =CQ21+CQ22 | CR20: =CQ20/DV20-1 | CS20: =CS21+CS22 | CT20: =CS20/DV20-1 | CU20: =BW20+BY20+CA20+CC20+CE20+CG20+CI20+CK20+CM20+CO20+CQ20+CS20 | CV20: =CU20/SUM(DK20:DV20)-1 | CX20: =CS20/CQ20-1 | CY20: =CQ20/CO20-1 | DK20: 31655.878 | DL20: 24237.21 | DM20: 36150.369 | DN20: 36799.051 | DO20: 37354.014 | DP20: 35048.998 | DQ20: 36920.005 | DR20: 39932.131 | DS20: 40249.709 | DT20: 41678.164 | DU20: 48866.702 | DV20: 45136.946 | DW20: 0.089376292 | DX20: 454029.18 | DY20: -0.024556351 | EA20: =EA21+EA22 | EB20: =EB21+EB22 | EC20: =EC21+EC22 | ED20: =ED21+ED22 | EE20: =EE21+EE22 | EF20: =EF21+EF22 | EG20: =EG21+EG22 | EH20: =EH21+EH22 | ... EL20: =EL21+EL22
B21: 规上货物周转量 (万吨公里) | C21: 18790.831 | D21: =C21/T21-1 | E21: 18331.502 | F21: =E21/V21-1 | G21: 17686.344 | H21: =G21/X21-1 | I21: 16648.408 | J21: =I21/Z21-1 | K21: 15402.928 | L21: =K21/AB21-1 | M21: 16044.6 | N21: =M21/AD21-1 | O21: 15366.326 | P21: =O21/AF21-1 | Q21: =C21+E21+G21+I21+K21+M21+O21 | R21: =Q21/SUM(T21,V21,X21,Z21,AB21,AD21,AF21)-1 | T21: 22905.014 | U21: =T21/AV21-1 | V21: 22339.126 | W21: =V21/AX21-1 | X21: 20346.423 | Y21: =X21/AZ21-1 | Z21: 21174.735 | AA21: =Z21/BB21-1 | AB21: 20026.525 | AC21: =AB21/BD21-1 | AD21: 20285.571 | AE21: =AD21/BF21-1 | AF21: 13930.644 | AG21: =AF21/BH21-1 | AH21: 13141.519 | AI21: =AH21/BJ21-1 | AJ21: 21230.292 | AK21: =AJ21/BL21-1 | AL21: 20153.559 | AM21: =AL21/BN21-1 | AN21: 21854.12 | AO21: =AN21/BP21-1 | AP21: 27481.376 | AQ21: =AP21/BR21-1 | AR21: =T21+V21+X21+Z21+AB21+AD21+AF21+AH21+AJ21+AL21+AN21+AP21 | AS21: =AR21/SUM(AV21,AX21,AZ21,BB21,BD21,BF21,BH21,BJ21,BL21,BN21,BP21,BR21)-1 | AU21: =AV21+AX21+AZ21+BB21+BD21+BF21+BH21+BJ21+BL21+BN21+BP21 | AV21: 18013.874 | AW21: =AV21/BW21-1 | AX21: 17155.515 | AY21: =AX21/BY21-1 | AZ21: 16803.094 | BA21: =AZ21/CA21-1 | BB21: 18398.706 | BC21: =BB21/CC21-1 | BD21: 19155.919 | BE21: =BD21/CE21-1 | BF21: 19802.728 | BG21: =BF21/CG21-1 | BH21: 19628.961 | BI21: =BH21/CI21-1 | BJ21: 20414.905 | BK21: =BJ21/CK21-1 | BL21: 20784.801 | BM21: =BL21/CM21-1 | BN21: 20338.527 | BO21: =BN21/CO21-1 | BP21: 21475.468 | BQ21: =BP21/CQ21-1 | BR21: 26731.013 | BS21: =BR21/CS21-1 | BT21: =AV21+AX21+AZ21+BB21+BD21+BF21+BH21+BJ21+BL21+BN21+BP21+BR21 | BU21: =BT21/SUM(BW21,BY21,CA21,CC21,CE21,CG21,CI21,CK21,CM21,CO21,CQ21,CS21)-1 | BW21: 8511.501 | BX21: =BW21/DK21-1 | BY21: 8928.2693 | BZ21: =BY21/DL21-1 | CA21: 12760.38 | CB21: =CA21/DM21-1 | CC21: 13801.184 | CD21: =CC21/DN21-1 | CE21: 14540.776 | CF21: =CE21/DO21-1 | CG21: 17440.859 | CH21: =CG21/DP21-1 | CI21: 12763.725 | CJ21: =CI21/DQ21-1 | CK21: 13734.301 | CL21: =CK21/DR21-1 | CM21: 14269.396 | CN21: =CM21/DS21-1 | CO21: 15619.705 | CP21: =CO21/DT21-1 | CQ21: 16459.24 | CR21: =CQ21/DV21-1 | CS21: 19582.015 | CT21: =CS21/DV21-1 | CU21: =BW21+BY21+CA21+CC21+CE21+CG21+CI21+CK21+CM21+CO21+CQ21+CS21 | CV21: =CU21/SUM(DK21:DV21)-1 | CX21: =CS21/CQ21-1 | CY21: =CQ21/CO21-1 | DK21: 1903.2883 | DL21: 2130.2988 | DM21: 1725.3818 | DN21: 1976.1608 | DO21: 1849.8676 | DP21: 1818.547 | DQ21: 2126.2045 | DR21: 1708.7346 | DS21: 2944.0374 | DT21: 3141.7798 | DU21: 15333.329 | DV21: 3794.4287 | DW21: 0.55142766 | DX21: 40452.058 | DY21: 0.10039681 | EA21: 3237.998 | EB21: 3002.1352 | EC21: 3766.6047 | ED21: 3609.6626 | EE21: 3346.6557 | EF21: 3182.3725 | EG21: 2933.6125 | EH21: 2950.7339 | EI21: 2918.4024 | EJ21: 2923.2801 | EK21: 2444.1137 | EL21: 2445.7658 | EO21: =SUM(EA21:EL21)
B22: 规下货物周转量 (万吨公里) | C22: 28717.404 | D22: =C22/T22-1 | E22: 17619.12 | F22: =E22/V22-1 | G22: 31463.715 | H22: =G22/X22-1 | I22: 34686.437 | J22: =I22/Z22-1 | K22: 35412.457 | L22: =K22/AB22-1 | M22: 33122.37 | N22: =M22/AD22-1 | O22: 31212.679 | P22: =O22/AF22-1 | Q22: =C22+E22+G22+I22+K22+M22+O22 | R22: =Q22/SUM(T22,V22,X22,Z22,AB22,AD22,AF22)-1 | T22: 18734.581 | U22: =T22/AV22-1 | V22: 19533.931 | W22: =V22/AX22-1 | X22: 30080.576 | Y22: =X22/AZ22-1 | Z22: 30521.719 | AA22: =Z22/BB22-1 | AB22: 31744.817 | AC22: =AB22/BD22-1 | AD22: 28270.614 | AE22: =AD22/BF22-1 | AF22: 31624.446 | AG22: =AF22/BH22-1 | AH22: 33593.564 | AI22: =AH22/BJ22-1 | AJ22: 28085.302 | AK22: =AJ22/BL22-1 | AL22: 27470.616 | AM22: =AL22/BN22-1 | AN22: 29272.734 | AO22: =AN22/BP22-1 | AP22: 26023.575 | AQ22: =AP22/BR22-1 | AR22: =T22+V22+X22+Z22+AB22+AD22+AF22+AH22+AJ22+AL22+AN22+AP22 | AS22: =AR22/SUM(AV22,AX22,AZ22,BB22,BD22,BF22,BH22,BJ22,BL22,BN22,BP22,BR22)-1 | AU22: =AV22+AX22+AZ22+BB22+BD22+BF22+BH22+BJ22+BL22+BN22+BP22 | AV22: 26345.818 | AW22: =AV22/BW22-1 | AX22: 11831.028 | AY22: =AX22/BY22-1 | AZ22: 29401.012 | BA22: =AZ22/CA22-1 | BB22: 30096.711 | BC22: =BB22/CC22-1 | BD22: 30042.307 | BE22: =BD22/CE22-1 | BF22: 25493.744 | BG22: =BF22/CG22-1 | BH22: 25909.578 | BI22: =BH22/CI22-1 | BJ22: 28227.328 | BK22: =BJ22/CK22-1 | BL22: 27064.105 | BM22: =BL22/CM22-1 | BN22: 28700.727 | BO22: =BN22/CO22-1 | BP22: 30677.806 | BQ22: =BP22/CQ22-1 | BR22: 30339.033 | BS22: =BR22/CS22-1 | BT22: =AV22+AX22+AZ22+BB22+BD22+BF22+BH22+BJ22+BL22+BN22+BP22+BR22 | BU22: =BT22/SUM(BW22,BY22,CA22,CC22,CE22,CG22,CI22,CK22,CM22,CO22,CQ22,CS22)-1 | BW22: 20456.667 | BX22: =BW22/DK22-1 | BY22: 27133.448 | BZ22: =BY22/DL22-1 | CA22: 31691.209 | CB22: =CA22/DM22-1 | CC22: 30638.255 | CD22: =CC22/DN22-1 | CE22: 30152.562 | CF22: =CE22/DO22-1 | CG22: 27131.177 | CH22: =CG22/DP22-1 | CI22: 31570.203 | CJ22: =CI22/DQ22-1 | CK22: 34909.184 | CL22: =CK22/DR22-1 | CM22: 32022.811 | CN22: =CM22/DS22-1 | CO22: 32120.668 | CP22: =CO22/DT22-1 | CQ22: 36173.848 | CR22: =CQ22/DV22-1 | CS22: 32513.281 | CT22: =CS22/DV22-1 | CU22: =BW22+BY22+CA22+CC22+CE22+CG22+CI22+CK22+CM22+CO22+CQ22+CS22 | CV22: =CU22/SUM(DK22:DV22)-1 | CX22: =CS22/CQ22-1 | CY22: =CQ22/CO22-1 | DK22: 29752.59 | DL22: 22106.911 | DM22: 34424.987 | DN22: 34822.89 | DO22: 35504.146 | DP22: 33230.451 | DQ22: 34793.8 | DR22: 38223.396 | DS22: 37305.672 | DT22: 38536.384 | DU22: 33533.373 | DV22: 41342.518 | DW22: 0.060391224 | DX22: 413577.12 | DY22: -0.03527123 | EA22: 37063.614 | EB22: 18640.682 | EC22: 30989.101 | ED22: 35413.673 | EE22: 36349.048 | EF22: 39843.367 | EG22: 36457.908 | EH22: 41541.196 | EI22: 37898.746 | EJ22: 34121.826 | EK22: 41390.669 | EL22: 38987.985 | EO22: =SUM(EA22:EL22)
A23: 十堰市 | B23: 规上+规下货运量 (万吨) | C23: 358.65571 | D23: =C23/T23-1 | E23: 237.36543 | F23: =E23/V23-1 | G23: 355.60202 | H23: =G23/X23-1 | I23: 366.87975 | J23: =I23/Z23-1 | K23: 365.51249 | L23: =K23/AB23-1 | M23: 341.79658 | N23: =M23/AD23-1 | O23: 325.09413 | P23: =O23/AF23-1 | Q23: =C23+E23+G23+I23+K23+M23+O23 | R23: =Q23/SUM(T23,V23,X23,Z23,AB23,AD23,AF23)-1 | T23: 275.33522 | U23: =T23/AV23-1 | V23: 259.68108 | W23: =V23/AX23-1 | X23: 351.65252 | Y23: =X23/AZ23-1 | Z23: 358.95196 | AA23: =Z23/BB23-1 | AB23: 344.78713 | AC23: =AB23/BD23-1 | AD23: 307.19102 | AE23: =AD23/BF23-1 | AF23: 311.14153 | AG23: =AF23/BH23-1 | AH23: 311.44339 | AI23: =AH23/BJ23-1 | AJ23: 329.085 | AK23: =AJ23/BL23-1 | AL23: 311.41603 | AM23: =AL23/BN23-1 | AN23: 351.15314 | AO23: =AN23/BP23-1 | AP23: 366.1713 | AQ23: =AP23/BR23-1 | AR23: =T23+V23+X23+Z23+AB23+AD23+AF23+AH23+AJ23+AL23+AN23+AP23 | AS23: =AR23/SUM(AV23,AX23,AZ23,BB23,BD23,BF23,BH23,BJ23,BL23,BN23,BP23,BR23)-1 | AU23: =AV23+AX23+AZ23+BB23+BD23+BF23+BH23+BJ23+BL23+BN23+BP23 | AV23: 295.96162 | AW23: =AV23/BW23-1 | AX23: 155.7222 | AY23: =AX23/BY23-1 | AZ23: 315.53967 | BA23: =AZ23/CA23-1 | BB23: 326.77646 | BC23: =BB23/CC23-1 | BD23: 324.08021 | BE23: =BD23/CE23-1 | BF23: 293.83547 | BG23: =BF23/CG23-1 | BH23: 294.65109 | BI23: =BH23/CI23-1 | BJ23: 306.85725 | BK23: =BJ23/CK23-1 | BL23: 311.51897 | BM23: =BL23/CM23-1 | BN23: 311.27608 | BO23: =BN23/CO23-1 | BP23: 327.5602 | BQ23: =BP23/CQ23-1 | BR23: 349.36406 | BS23: =BR23/CS23-1 | BT23: =AV23+AX23+AZ23+BB23+BD23+BF23+BH23+BJ23+BL23+BN23+BP23+BR23 | BU23: =BT23/SUM(BW23,BY23,CA23,CC23,CE23,CG23,CI23,CK23,CM23,CO23,CQ23,CS23)-1 | BW23: 173.74642 | BX23: =BW23/DK23-1 | BY23: 250.79449 | BZ23: =BY23/DL23-1 | CA23: 310.49637 | CB23: =CA23/DM23-1 | CC23: 297.07644 | CD23: =CC23/DN23-1 | CE23: 306.72844 | CF23: =CE23/DO23-1 | CG23: 291.57055 | CH23: =CG23/DP23-1 | CI23: 292.76841 | CJ23: =CI23/DQ23-1 | CK23: 297.11636 | CL23: =CK23/DR23-1 | CM23: 299.69014 | CN23: =CM23/DS23-1 | CO23: 300.51515 | CP23: =CO23/DT23-1 | CQ23: 322.94049 | CR23: =CQ23/DV23-1 | CS23: 310.26033 | CT23: =CS23/DV23-1 | CU23: =BW23+BY23+CA23+CC23+CE23+CG23+CI23+CK23+CM23+CO23+CQ23+CS23 | CV23: =CU23/SUM(DK23:DV23)-1 | CX23: =CS23/CQ23-1 | CY23: =CQ23/CO23-1 | DK23: 196.63861 | DL23: 172.47075 | DM23: 268.61985 | DN23: 238.37493 | DO23: 251.8924 | DP23: 234.81502 | DQ23: 244.6772 | DR23: 236.50337 | DS23: 270.26304 | DT23: 254.17585 | DU23: 280.12766 | DV23: 278.46955 | DW23: -0.095250974 | DX23: 2927.0282 | DY23: -0.11168147 | EA23: 256.78565 | EB23: 137.96745 | EC23: 258.92894 | ED23: 305.16843 | EE23: 292.64203 | EF23: 306.46666 | EG23: 282.70762 | EH23: 268.34729 | EI23: 289.72082 | EJ23: 276.60906 | EK23: 311.89056 | EL23: 307.78652 | EO23: =SUM(EA23:EL23)
B24: 规上货运量 (万吨) | C24: 12.1174 | D24: =C24/T24-1 | E24: 9.6443 | F24: =E24/V24-1 | G24: 12.6232 | H24: =G24/X24-1 | I24: 12.4025 | J24: =I24/Z24-1 | K24: 12.4069 | L24: =K24/AB24-1 | M24: 12.7324 | N24: =M24/AD24-1 | O24: 12.3819 | P24: =O24/AF24-1 | Q24: =C24+E24+G24+I24+K24+M24+O24 | R24: =Q24/SUM(T24,V24,X24,Z24,AB24,AD24,AF24)-1 | T24: 12.4871 | U24: =T24/AV24-1 | V24: 12.6352 | W24: =V24/AX24-1 | X24: 12.6382 | Y24: =X24/AZ24-1 | Z24: 12.8778 | AA24: =Z24/BB24-1 | AB24: 12.9119 | AC24: =AB24/BD24-1 | AD24: 12.7781 | AE24: =AD24/BF24-1 | AF24: 12.6832 | AG24: =AF24/BH24-1 | AH24: 12.6086 | AI24: =AH24/BJ24-1 | AJ24: 12.3113 | AK24: =AJ24/BL24-1 | AL24: 11.9473 | AM24: =AL24/BN24-1 | AN24: 12.675 | AO24: =AN24/BP24-1 | AP24: 13.0982 | AQ24: =AP24/BR24-1 | AR24: =T24+V24+X24+Z24+AB24+AD24+AF24+AH24+AJ24+AL24+AN24+AP24 | AS24: =AR24/SUM(AV24,AX24,AZ24,BB24,BD24,BF24,BH24,BJ24,BL24,BN24,BP24,BR24)-1 | AU24: =AV24+AX24+AZ24+BB24+BD24+BF24+BH24+BJ24+BL24+BN24+BP24 | AV24: 13.4803 | AW24: =AV24/BW24-1 | AX24: 12.0388 | AY24: =AX24/BY24-1 | AZ24: 12.9301 | BA24: =AZ24/CA24-1 | BB24: 14.8633 | BC24: =BB24/CC24-1 | BD24: 14.8473 | BE24: =BD24/CE24-1 | BF24: 14.8487 | BG24: =BF24/CG24-1 | BH24: 15.7384 | BI24: =BH24/CI24-1 | BJ24: 16.6248 | BK24: =BJ24/CK24-1 | BL24: 17.5034 | BM24: =BL24/CM24-1 | BN24: 17.6115 | BO24: =BN24/CO24-1 | BP24: 17.3951 | BQ24: =BP24/CQ24-1 | BR24: 18.5355 | BS24: =BR24/CS24-1 | BT24: =AV24+AX24+AZ24+BB24+BD24+BF24+BH24+BJ24+BL24+BN24+BP24+BR24 | BU24: =BT24/SUM(BW24,BY24,CA24,CC24,CE24,CG24,CI24,CK24,CM24,CO24,CQ24,CS24)-1 | BW24: 10.8482 | BX24: =BW24/DK24-1 | BY24: 13.7856 | BZ24: =BY24/DL24-1 | CA24: 15.8807 | CB24: =CA24/DM24-1 | CC24: 17.7147 | CD24: =CC24/DN24-1 | CE24: 16.7663 | CF24: =CE24/DO24-1 | CG24: 16.3111 | CH24: =CG24/DP24-1 | CI24: 12.7632 | CJ24: =CI24/DQ24-1 | CK24: 17.0019 | CL24: =CK24/DR24-1 | CM24: 16.1463 | CN24: =CM24/DS24-1 | CO24: 18.9374 | CP24: =CO24/DT24-1 | CQ24: 17.2238 | CR24: =CQ24/DV24-1 | CS24: 18.5078 | CT24: =CS24/DV24-1 | CU24: =BW24+BY24+CA24+CC24+CE24+CG24+CI24+CK24+CM24+CO24+CQ24+CS24 | CV24: =CU24/SUM(DK24:DV24)-1 | CX24: =CS24/CQ24-1 | CY24: =CQ24/CO24-1 | DJ24: 十堰市 | DK24: 8.3554 | DL24: 7.173 | DM24: 8.0282 | DN24: 8.4326 | DO24: 8.5604 | DP24: 8.1447 | DQ24: 7.8214 | DR24: 7.6844 | DS24: 8.1402 | DT24: 8.1092 | DU24: 7.0922 | DV24: 7.1948 | DW24: -0.64883372 | DX24: 94.7365 | DY24: -0.48985265 | EA24: 7.7461 | EB24: 6.8842 | EC24: 15.74859 | ED24: 16.4857 | EE24: 17.6823 | EF24: 16.5942 | EG24: 16.5411 | EH24: 16.6305 | EI24: 16.3572 | EJ24: 16.8031 | EK24: 17.7429 | EL24: 20.4883 | EO24: =SUM(EA24:EL24)
