{"text_format":"3","workbook":"xlsx","n_sheets":2,"sheets":["明细","汇总"],"not_rendered":{"defined_names":3},"read":"whole","date_system":"1900"}

{"sheet":"明细","index":0,"n_rows":118,"n_cols":20,"rows_kept":118,"merged":[[0,1,0,17],[1,7,1,9],[2,13,2,14],[2,15,2,17],[3,0,7,0],[3,1,7,1],[3,2,7,2],[3,3,7,3],[3,4,7,4],[3,5,7,5],[3,6,7,6],[3,7,7,7],[3,8,7,8],[3,9,7,9],[3,10,7,10],[3,11,4,17],[3,18,5,19],[5,11,7,11],[5,12,7,17],[6,18,7,18],[6,19,7,19],[8,0,8,5],[8,11,8,17],[9,0,9,1],[9,12,9,17],[10,0,10,2],[10,12,10,17],[11,12,11,17],[12,12,12,17],[13,0,13,1],[13,12,13,17],[14,0,14,2],[14,12,14,17],[15,0,15,2],[15,3,15,5],[15,12,15,17],[16,0,16,1],[16,12,16,17],[17,0,17,2],[17,12,17,17],[18,0,18,1],[18,12,18,17],[19,0,19,2],[19,12,19,17],[20,12,20,17],[21,0,21,2],[21,3,21,5],[21,12,21,17],[22,0,22,1],[22,12,22,17],[23,0,23,2],[23,12,23,17],[24,0,24,1],[24,12,24,17],[25,12,25,17],[26,12,26,17],[27,12,27,17],[28,12,28,17],[29,0,29,2],[29,12,29,17],[30,0,30,2],[30,3,30,5],[30,12,30,17],[31,0,31,1],[31,12,31,17],[32,0,32,2],[32,12,32,17],[33,0,33,1],[33,12,33,17],[34,12,34,17],[34,18,34,19],[35,12,35,17],[35,18,35,19],[36,0,36,2],[36,12,36,17],[37,12,37,17],[38,12,38,17],[39,12,39,17],[40,0,40,2],[40,3,40,5],[40,12,40,17],[41,0,41,1],[41,12,41,17],[42,0,42,2],[42,12,42,17],[43,0,43,1],[43,12,43,17],[44,12,44,17],[45,12,45,17],[46,12,46,17],[47,12,47,17],[48,0,48,2],[48,12,48,17],[49,12,49,17],[50,0,50,2],[50,3,50,5],[50,12,50,17],[51,0,51,1],[51,12,51,17],[52,0,52,2],[52,12,52,17],[53,0,53,1],[53,12,53,17],[54,12,54,17],[55,12,55,17],[56,12,56,17],[57,0,57,2],[57,3,57,5],[57,12,57,17],[58,0,58,2],[58,3,58,5],[58,12,58,17],[59,0,59,1],[59,12,59,17],[60,0,60,2],[60,12,60,17],[61,0,61,1],[61,12,61,17],[62,12,62,17],[63,12,63,17],[64,0,64,2],[64,12,64,17],[65,0,65,2],[65,3,65,5],[65,12,65,17],[66,0,66,1],[66,12,66,17],[67,0,67,2],[67,12,67,17],[68,12,68,17],[69,0,69,1],[69,12,69,17],[70,12,70,17],[71,0,71,2],[71,12,71,17],[72,12,72,17],[73,12,73,17],[74,12,74,17],[75,12,75,17],[76,12,76,17],[77,12,77,17],[78,12,78,17],[79,0,79,2],[79,3,79,5],[79,12,79,17],[80,0,80,1],[80,12,80,17],[81,0,81,2],[81,12,81,17],[82,0,82,1],[82,12,82,17],[83,12,83,17],[84,12,84,17],[85,12,85,17],[86,0,86,2],[86,12,86,17],[87,12,87,17],[88,12,88,17],[89,12,89,17],[90,12,90,17],[91,12,91,17],[92,12,92,17],[93,0,93,2],[93,3,93,5],[93,12,93,17],[94,0,94,1],[94,12,94,17],[95,0,95,2],[95,12,95,17],[96,0,96,1],[96,12,96,17],[97,12,97,17],[98,12,98,17],[99,0,99,2],[99,12,99,17],[100,12,100,17],[101,12,101,17],[102,12,102,17],[103,12,103,17],[104,12,104,17],[105,0,105,2],[105,3,105,5],[105,12,105,17],[106,0,106,1],[106,12,106,17],[107,0,107,2],[107,12,107,17],[108,12,108,17],[109,0,109,1],[109,12,109,17],[110,0,110,2],[110,12,110,17],[111,0,111,2],[111,3,111,5],[111,12,111,17],[112,0,112,1],[112,12,112,17],[113,0,113,2],[113,12,113,17],[114,0,114,1],[114,12,114,17],[115,12,115,17],[116,0,116,2],[116,12,116,17],[117,0,117,2],[117,3,117,5],[117,12,117,17]]}
[null,"湖北省道路客运站场投资统计报表（6月月报）"]
[]
["填报单位：湖北省道路运输事业发展中心"]
["序号","项目名称及战级","投资建设单位名称","建设性质","开工时间","建成时间","计划总投资（万元）","自开始建设累计完成投资（万元）","本年计划投资（万元）","自年初累计完成投资（万元）","其中：本月完成投资","项目建设阶段、进度情况",{"$nulls":6},"前期工作批复文件"]
[]
[{"$nulls":11},"建设阶段","形象进度"]
[{"$nulls":18},"工可","初设"]
[]
["合   计",{"$nulls":5},{"$f":"SUM(G10,G17,G23,G32,G42,G52,G60,G67,G81,G95,G107,G113)","v":{"v":783078.1665,"d":"783078.17"}},{"$f":"SUM(H10,H17,H23,H32,H42,H52,H60,H67,H81,H95,H107,H113)","v":617415.8},{"$f":"SUM(I10,I17,I23,I32,I42,I52,I60,I67,I81,I95,I107,I113)","v":{"v":66851.2,"d":"66851.20"}},{"$f":"SUM(J10,J17,J23,J32,J42,J52,J60,J67,J81,J95,J107,J113)","v":38050.4},{"$f":"SUM(K10,K17,K23,K32,K42,K52,K60,K67,K81,K95,K107,K113)","v":3003.1}]
["武汉市",{"$nulls":5},{"$f":"SUM(G11,G14,G15,G16)","v":{"v":324700,"d":"324700.00"}},{"$f":"SUM(H11,H14,H15,H16)","v":182785.4},{"$f":"SUM(I11,I14,I15,I16)","v":{"v":14600,"d":"14600.00"}},{"$f":"SUM(J11,J14,J15,J16)","v":{"v":9100,"d":"9100.0"}},{"$f":"SUM(K11,K14,K15,K16)","v":{"v":900,"d":"900.0"}}]
["一、使用交通部车购税资金建设项目",{"$nulls":5},{"$f":"SUM(G12:G13)","v":324700},182785.4,14600,{"v":9100,"d":"9100.0"},{"v":900,"d":"900.0"}]
[1,"汉口客运中心","武汉楚驰实业开发有限公司","改扩建",2018,2027,315700,177185.4,8000,{"v":3500,"d":"3500.0"},{"v":500,"d":"500.0"},"在建","形象进度完成情况(1)地下室主体结构:负三层、负二层全部完成:负一层结构完成60%，面积约 18000平方米，地下室主体结构整体完成率达 83%。(2)裙楼主体结构:一层、二层均完成 25%，每层完成面积约 5000平方米。\n(3)塔楼主体结构:1#塔楼一层核心简结构完成;2# 塔楼三层主体结构完成。\n(4)南侧栈桥:拆除完成。\n(5)北侧栈桥:拆除百分之五十。"]
[2,"武汉南（山坡）客运枢纽站","江夏经济发展投资集团有限公司","续建",2023,2026,9000,{"v":5600,"d":"5600.0"},6600,{"v":5600,"d":"5600.0"},{"v":400,"d":"400.0"},"收尾","项目规划总用地面积约28238.69m2(42.36亩)，净用地面积约24519.63m，总建筑面积约为6894.37m。计容建筑面积约6521.35m，其中站房约2681.47m，修理中心约753.92m'，配套楼约1600.64m，公厕约77.44m'，门房约25.84m'，架空连廊约180.63m，站台及停车罩棚约1051.69m，变配电室149.72m，消防水泵房及消防水池约203.35m。除上述单体外，还包含广场、停车场、配套道路、景观绿化智慧交通、光伏发电等配套工程。"]
["二、使用省燃油税返还资金建设项目"]
["三、农村综合运输服务站"]
["四、候车亭"]
["黄石市",{"$nulls":5},{"$f":"G18+G19+G20+G22","v":{"v":13646,"d":"13646.00"}},{"$f":"H18+H19+H20+H22","v":{"v":13646,"d":"13646.0"}},{"$f":"I18+I19+I20+I22","v":{"v":12811,"d":"12811.00"}},{"$f":"J18+J19+J20+J22","v":{"v":430,"d":"430.0"}},{"$f":"K18+K19+K20+K22","v":{"v":0,"d":"0.0"}}]
["一、使用交通部车购税资金建设项目"]
["二、使用省燃油税返还资金建设项目"]
["三、农村综合运输服务站",{"$nulls":5},{"$f":"SUM(G21)","v":13646},{"$f":"SUM(H21)","v":{"v":13646,"d":"13646.0"}},{"$f":"SUM(I21)","v":12811},{"$f":"SUM(J21)","v":{"v":430,"d":"430.0"}},{"$f":"SUM(K21)","v":{"v":0,"d":"0.0"}}]
[1,"阳新综合客运枢纽站","阳新县交建公司","新建",2021,2026,13646,{"v":13646,"d":"13646.0"},12811,{"v":430,"d":"430.0"},{"v":0,"d":"0.0"},"完工"]
["四、候车亭"]
["十堰市",{"$nulls":5},{"$f":"SUM(G24,G25,G30,G31)","v":{"v":20364,"d":"20364.00"}},{"$f":"SUM(H24,H25,H30,H31)","v":{"v":18414,"d":"18414.0"}},{"$f":"SUM(I24,I25,I30,I31)","v":{"v":2518,"d":"2518.00"}},{"$f":"SUM(J24,J25,J30,J31)","v":{"v":1598,"d":"1598.0"}},{"$f":"SUM(K24,K25,K30,K31)","v":{"v":0,"d":"0.0"}}]
["一、使用交通部车购税资金建设项目"]
["二、使用省燃油税返还资金建设项目",{"$nulls":5},{"$f":"SUM(G26:G29)","v":20364},{"$f":"SUM(H26:H29)","v":{"v":18414,"d":"18414.0"}},{"$f":"SUM(I26:I29)","v":2518},{"$f":"SUM(J26:J29)","v":{"v":1598,"d":"1598.0"}},{"$f":"SUM(K26:K29)","v":{"v":0,"d":"0.0"}}]
[1,"郧西县客运换乘中心","郧西县城乡发展投资开发有限公司","新建",2024,2026,9764,{"v":9764,"d":"9764.0"},918,{"v":918,"d":"918.0"},{"v":0,"d":"0.0"},"完工"]
[2,"丹江口市右岸汽车客运站","丹江口市交投公司","新建",2023,2024,9000,{"v":7970,"d":"7970.0"},0,{"v":0,"d":"0.0"},{"v":0,"d":"0.0"},"暂停施工","主体完工，待装修"]
[3,"竹山县客运中心站","二级","改扩建",2026,2027,800,340,800,340,0,"在建","完成停车场内公交车专业充电桩及站前广场社会车辆充电桩建设"]
[4,"竹山县高速客运站","二级","改扩建",2026,2027,800,340,800,340,0,"在建","完成充电桩安全防护及标识标线等辅助设施"]
["三、农村综合运输服务站"]
["四、候车亭"]
["宜昌市",{"$nulls":5},{"$f":"SUM(G33,G34,G37,G41)","v":{"v":57952,"d":"57952.00"}},{"$f":"SUM(H33,H34,H37,H41)","v":56848.9},{"$f":"SUM(I33,I34,I37,I41)","v":{"v":9013,"d":"9013.00"}},{"$f":"SUM(J33,J34,J37,J41)","v":{"v":10458,"d":"10458.0"}},{"$f":"SUM(K33,K34,K37,K41)","v":{"v":436,"d":"436.0"}}]
["一、使用交通部车购税资金建设项目"]
["二、使用省燃油税返还资金建设项目",{"$nulls":5},{"$f":"SUM(G35:G36)","v":50000},49999.9,3996,{"v":3609,"d":"3609.0"},{"v":0,"d":"0.0"}]
[1,"当阳市高铁综合客运站","当阳建投项目建设管理有限公司","新建",2024.9,2026,20000,19999.9,2000,{"v":2053,"d":"2053.0"},{"v":0,"d":"0.0"},"完工","建成投运",{"$nulls":5},"2402-420582-04-01-655698"]
[2,"宜昌北客运站","宜昌高铁新城建设有限责任公司","新建",2024.9,2026,30000,{"v":30000,"d":"30000.0"},1996,{"v":1556,"d":"1556.0"},{"v":0,"d":"0.0"},"完工","建成投运",{"$nulls":5},"2409-420506-04-01-137757"]
["三、农村综合运输服务站",{"$nulls":5},{"$f":"SUM(G38:G40)","v":7952},{"v":6849,"d":"6849.0"},5017,{"v":6849,"d":"6849.0"},{"v":436,"d":"436.0"}]
[3,"南阳客运站（综合服务中心）","兴山县城投置业有限公司","新建",2026.1,2027.12,1418,{"v":1418,"d":"1418.0"},1418,{"v":1418,"d":"1418.0"},{"v":0,"d":"0.0"},"收尾","主体完工",{"$nulls":5},"兴发改审批〔2025〕15号","兴发改审批〔2025〕35号"]
[4,"鲁家湾交通运输综合服务站","秭归县住保置业发展有限公司","新建",2026.1,2027.12,1599,{"v":1256,"d":"1256.0"},1599,{"v":1256,"d":"1256.0"},{"v":55,"d":"55.0"},"正式施工","主体施工",{"$nulls":5},"秭发改审批〔2024〕263号","秭发改审批〔2024〕263号"]
[5,"榛子客运站","兴山县旅游发展投资有限公司","新建",2026.1,2026.12,4935,{"v":4175,"d":"4175.0"},2000,{"v":4175,"d":"4175.0"},{"v":381,"d":"381.0"},"正式施工","主体施工",{"$nulls":5},"兴发改审批〔2025〕109号","兴发改审批〔2025〕144号"]
["四、候车亭"]
["襄阳市",{"$nulls":5},{"$f":"SUM(G43,G44,G49,G51)","v":{"v":29371.6165,"d":"29371.62"}},{"$f":"SUM(H43,H44,H49,H51)","v":27874.3},{"$f":"SUM(I43,I44,I49,I51)","v":{"v":1514,"d":"1514.0"}},{"$f":"SUM(J43,J44,J49,J51)","v":{"v":2420,"d":"2420.0"}},{"$f":"SUM(K43,K44,K49,K51)","v":486.2}]
["一、使用交通部车购税资金建设项目"]
["二、使用省燃油税返还资金建设项目",{"$nulls":5},{"$f":"SUM(G45:G48)","v":29168.66},{"$f":"SUM(H45:H48)","v":27671.3},{"$f":"SUM(I45:I48)","v":1514},{"$f":"SUM(J45:J48)","v":{"v":2217,"d":"2217.0"}},{"$f":"SUM(K45:K48)","v":486.2}]
[1,"南漳县公铁换乘中心(郑万高铁南漳综合客运枢纽)","南漳县交通运输局","新建",2022,2026,18074,{"v":18074,"d":"18074.0"},100,{"v":100,"d":"100.0"},{"v":0,"d":"0.0"},"完工","已完工",{"$nulls":5},"南发改审批[2022] 95号","南发改审批[2022] 96号"]
[2,"宜城市公铁换乘中心（宜城高铁新城综合客运枢纽项目）","宜城市交通运输局","新建",2025,2026,9264.01,7768.3,233,{"v":938,"d":"938.0"},{"v":226,"d":"226.0"},"收尾","公交换乘中心、客运换乘中心室内装修完成95%，弱电信息化建设完成90%，治安监控系统完成45%。",{"$nulls":5},"宜发改审批[2023]247号、宜发改审批[2025]42号","宜发改审批[2024]154号、宜发改审批[2025]44号"]
[3,"谷城县茨河客运站（公交首末站）","谷城县交通运输局","新建",2025,2027,930.65,{"v":929,"d":"929.0"},281,{"v":279,"d":"279.0"},67.4,"完工","已完工",{"$nulls":6},"谷发改审批[2025] 52号"]
[4,"谷城县汽车客运站共配中心建设","谷城县交通运输局","改扩建",2026,2026,900,{"v":900,"d":"900.0"},900,{"v":900,"d":"900.0"},192.8,"完工","已完工"]
["三、农村综合运输服务站",{"$nulls":5},{"$f":"SUM(G50:G50)","v":{"v":202.9565,"d":"202.96"}},{"v":203,"d":"203.0"},{"v":0,"d":"0.00"},{"v":203,"d":"203.0"},{"v":0,"d":"0.0"}]
[1,"襄州区程河镇埠口综合运输服务站","襄州区交通运输局","新建",2025,2025,{"v":202.9565,"d":"202.96"},{"v":203,"d":"203.0"},null,{"v":203,"d":"203.0"},{"v":0,"d":"0.0"},"完工","已竣工验收，投入使用",{"$nulls":6},"襄区发改审批[2024] 79号"]
["四、候车亭"]
["荆门市",{"$nulls":5},{"$f":"SUM(G53,G54,G58,G59)","v":160443.48},{"$f":"SUM(H53,H54,H58,H59)","v":157658.3},{"$f":"SUM(I53,I54,I58,I59)","v":6400},{"$f":"SUM(J53,J54,J58,J59)","v":3615.3},{"$f":"SUM(K53,K54,K58,K59)","v":669.8}]
["一、使用交通部车购税资金建设项目"]
["二、使用省燃油税返还资金建设项目",{"$nulls":5},{"$f":"SUM(G55:G57)","v":160443.48},157658.3,6400,3615.3,669.8]
[1,"钟祥市综合交通客运枢纽一期项目","钟祥厚德建设工程有限公司","续建",202302,2026,109953,{"v":109953,"d":"109953.0"},1200,{"v":1200,"d":"1200.0"},{"v":0,"d":"0.0"},"完工","已投入运营",{"$nulls":5},"钟审发字[2022]271号","钟审发字[2022]384号"]
[2,"京山南公铁综合客运枢纽","京山市京诚投资开发有限公司","续建",202312,2026,46490.48,45515.7,1200,225.7,{"v":0,"d":"0.0"},"完工","已投入运营",{"$nulls":5},"2023年10月17日京审批字〔2023〕294号","已完成未批复"]
[3,"京山南片换乘客运中心项目","京山市福刚公共汽车有限责任公司","新建",202512,2026,4000,2189.6,4000,2189.6,669.8,"在建","A座二至四层浇筑完成.B座一至三层浇筑完成",{"$nulls":5},"京审批字〔2020〕235号"]
["三、农村综合运输服务站"]
["四、候车亭"]
["孝感市",{"$nulls":5},{"$f":"SUM(G61,G62,G65,G66)","v":{"v":55878,"d":"55878.00"}},{"$f":"SUM(H61,H62,H65,H66)","v":{"v":51264,"d":"51264.0"}},{"$f":"SUM(I61,I62,I65,I66)","v":{"v":9673,"d":"9673.00"}},{"$f":"SUM(J61,J62,J65,J66)","v":{"v":2524,"d":"2524.0"}},{"$f":"SUM(K61,K62,K65,K66)","v":{"v":72,"d":"72.0"}}]
["一、使用交通部车购税资金建设项目"]
["二、使用省燃油税返还资金建设项目",{"$nulls":5},{"$f":"SUM(G63:G64)","v":55878},{"$f":"SUM(H63:H64)","v":51264},{"$f":"SUM(I63:I64)","v":9673},{"$f":"SUM(J63:J64)","v":{"v":2524,"d":"2524.0"}},{"$f":"SUM(K63:K64)","v":{"v":72,"d":"72.0"}}]
[1,"沿江高铁汉川北站站前广场(综合客运枢纽)","汉川市汉江国有资本投资运营有限公司","新建",2024,2026,49500,{"v":47575,"d":"47575.0"},4500,{"v":1161,"d":"1161.0"},{"v":52,"d":"52.0"},"在建","换乘中心内部装修及外墙施工，西广场电力施工完成、公交站台施工完成，商业综合体建设，整体形象进度完成约98%",{"$nulls":5},"川发改行审〔2023〕69号","川发改行审〔2023〕85号"]
[2,"孝感东城客运换乘中心(更名为汉十高铁孝感东综合交通枢纽)","孝感客运集团有限公司","新建",2025,2026,6378,{"v":3689,"d":"3689.0"},5173,{"v":1363,"d":"1363.0"},{"v":20,"d":"20.0"},"在建","主体钢筋混凝土工程累计完成98%，金属钢结构工程本月完成50%，累计完成80%",{"$nulls":5},"211-420900-04-01-933445","孝发改审批[2020]104号"]
["三、农村综合运输服务站"]
["四、候车亭"]
["黄冈市",{"$nulls":5},{"$f":"SUM(G68,G70,G72)","v":{"v":57453.7,"d":"57453.70"}},{"v":50005.5,"d":"50005.50"},{"v":3777.7,"d":"3777.70"},{"v":3777.7,"d":"3777.70"},{"v":0,"d":"0.00"}]
["一、使用交通部车购税资金建设项目",{"$nulls":5},{"$f":"SUM(G69:G69)","v":25900},{"$f":"SUM(H69:H69)","v":{"v":25900,"d":"25900.0"}},{"$f":"SUM(I69:I69)","v":100},{"$f":"SUM(J69:J69)","v":{"v":100,"d":"100.0"}},{"$f":"SUM(K69:K69)","v":{"v":0,"d":"0.0"}}]
[1,"武杭高铁黄冈西综合客运枢纽","黄冈市","新建",2021,2026,25900,{"v":25900,"d":"25900.0"},100,{"v":100,"d":"100.0"},{"v":0,"d":"0.0"},"完工","已完工",{"$nulls":5},"站房是按黄黄铁路一类设计变更。站区：黄发改审批[2021]211号。","站房：铁鉴函[2021]220号。站区还未批复"]
["二、使用省燃油税返还资金建设项目",{"$nulls":5},{"$f":"SUM(G71)","v":27993},20544.8,117,117,0]
[2,"黄黄高铁浠水综合客运枢纽","浠水县交通运输局","新建",2020,2026,27993,20544.8,117,{"v":117,"d":"117.0"},{"v":0,"d":"0.0"},"完工","已完工",{"$nulls":5},"浠发改交通[2020]2号","浠发改审批[2021]27号"]
["三、农村综合运输服务站",{"$nulls":5},{"$f":"SUM(G73:G79)","v":3560.7},{"$f":"SUM(H73:H79)","v":3560.7},{"$f":"SUM(I73:I79)","v":3560.7},{"$f":"SUM(J73:J79)","v":3560.7},{"$f":"SUM(K73:K79)","v":0}]
[3,"盐田河镇交通物流电商综合服务站","盐田河镇人民政府","新建",2023,2026,820.5,820.5,820.5,820.5,0,"完工","已完工"]
[4,"龟山镇交通物流电商综合服务站","龟山镇人民政府","新建",2023,2026,830.5,830.5,830.5,830.5,0,"完工","已完工"]
[5,"顺河镇交通物流电商综合服务站","麻城市交通物流事业发展中心","改建",2024,2026,155.4,155.4,155.4,155.4,0,"完工","已完工"]
[6,"铁门乡交通物流电商综合服务站","麻城宇通公交有限公司","新建",2025,2026,282.8,282.8,282.8,282.8,0,"完工","已完工",{"$nulls":6},"登记备案项目代码:2502-421181-04-01-411548"]
[7,"宋埠镇交通物流电商综合服务站","麻城宇通公交有限公司","新建",2025,2026,533.8,533.8,533.8,533.8,0,"完工","已完工",{"$nulls":6},"登记备案项目代码:2502-421181-04-01-411548"]
[8,"歧亭镇交通物流电商综合服务站","麻城宇通公交有限公司","新建",2025,2026,644.4,644.4,644.4,644.4,0,"完工","已完工",{"$nulls":6},"登记备案项目代码:2502-421181-04-01-411548"]
[9,"张家畈镇交通物流电商综合服务站","麻城市交通物流事业发展中心","新建",2025,2026,293.3,293.3,293.3,293.3,0,"完工","已完工",{"$nulls":5},"麻发改审批〔2024〕54号、麻发改审批〔2025〕23号","麻发改审批〔2025〕40号"]
["四、候车亭"]
["咸宁市",{"$nulls":5},{"$f":"SUM(G82,G83,G87,G94)","v":{"v":13727,"d":"13727.00"}},{"$f":"SUM(H82,H83,H87,H94)","v":11320.5},{"$f":"SUM(I82,I83,I87,I94)","v":{"v":2978,"d":"2978.00"}},{"$f":"SUM(J82,J83,J87,J94)","v":{"v":1310,"d":"1310.0"}},{"$f":"SUM(K82,K83,K87,K94)","v":{"v":260,"d":"260.0"}}]
["一、使用交通部车购税资金建设项目"]
["二、使用省燃油税返还资金建设项目",{"$nulls":5},{"$f":"SUM(G84:G86)","v":9471},8633.9,928,{"v":310,"d":"310.0"},{"v":170,"d":"170.0"}]
[1,"通山城西综合客运站（二级站）","通山县","新建",2023,2025,6081,{"v":6038,"d":"6038.0"},143,{"v":100,"d":"100.0"},{"v":20,"d":"20.0"},"在建","土建工程基础",{"$nulls":5},"通发改审批【2023】23号"]
[2,"通山县燕厦客运站（三级站）","通山县","续建",2022,2025,2190,1866.9,200,{"v":0,"d":"0.0"},{"v":0,"d":"0.0"},"暂停施工",{"$nulls":6},"通发改审批\n〔2021〕49号","通发改审批〔2021〕91号"]
[3,"通城县中心客运站（一级站）","通城县","改扩建",2025,2026,1200,{"v":729,"d":"729.0"},585,{"v":210,"d":"210.0"},{"v":150,"d":"150.0"},"在建","主体施工",{"$nulls":5},"隽发改审批【2022】425号","隽发改审批【2023】357号"]
["三、农村综合运输服务站",{"$nulls":5},{"$f":"SUM(G88:G93)","v":4256},{"$f":"SUM(H88:H93)","v":2686.6},{"$f":"SUM(I88:I93)","v":2050},{"$f":"SUM(J88:J93)","v":{"v":1000,"d":"1000.0"}},{"$f":"SUM(K88:K93)","v":{"v":90,"d":"90.0"}}]
[4,"桂花镇综合运输服务站","咸安区","新建",2025,2026,524,509.8,250,{"v":150,"d":"150.0"},{"v":0,"d":"0.0"},"在建","土建工程基础",{"$nulls":5},"咸安发改审批字【2024】29号","咸安发改审批字【2024】125号"]
[5,"马桥镇综合运输服务站","咸安区","新建",2025,2026,947,552.3,600,{"v":430,"d":"430.0"},{"v":70,"d":"70.0"},"在建","土建工程基础",{"$nulls":5},"咸安发改审批字【2024】29号","咸安发改审批字【2024】125号"]
[6,"高桥镇综合运输服务站","咸安区","新建",2025,2026,435,414.1,250,{"v":180,"d":"180.0"},{"v":20,"d":"20.0"},"在建","土建工程基础",{"$nulls":5},"咸安发改审批字【2024】29号","咸安发改审批字【2024】125号"]
[7,"大幕乡综合运输服务站","咸安区","新建",2025,2026,977,165.4,600,{"v":40,"d":"40.0"},{"v":0,"d":"0.0"},"暂停施工","重新选址",{"$nulls":5},"咸安发改审批字【2024】29号","咸安发改审批字【2024】125号"]
[8,"汀泗桥镇综合运输服务站","咸安区","改扩建",2025,2026,800,520.3,200,{"v":0,"d":"0.0"},{"v":0,"d":"0.0"},"在建",{"$nulls":6},"咸安发改审批字【2024】29号","咸安发改审批字【2024】125号"]
[9,"向阳湖镇综合运输服务站","咸安区","新建",2025,2026,573,524.7,150,{"v":200,"d":"200.0"},{"v":0,"d":"0.0"},"在建","土建工程基础",{"$nulls":5},"咸安发改审批字【2024】29号","咸安发改审批字【2024】125号"]
["四、候车亭"]
["恩施州",{"$nulls":5},{"$f":"SUM(G97,G100)","v":42316.46},{"v":40657.4,"d":"40657.40"},{"v":3196.5,"d":"3196.50"},{"v":2447.4,"d":"2447.40"},{"v":179.1,"d":"179.10"}]
["一、使用交通部车购税资金建设项目"]
["二、使用省燃油税返还资金建设项目",{"$nulls":5},{"$f":"SUM(G98:G99)","v":39220},{"$f":"SUM(H98:H99)","v":{"v":38310,"d":"38310.0"}},{"$f":"SUM(I98:I99)","v":100},{"$f":"SUM(J98:J99)","v":{"v":100,"d":"100.0"}},{"$f":"SUM(K98:K99)","v":{"v":0,"d":"0.0"}}]
[1,"咸丰县坪坝营旅游客运站","咸丰坪坝营旅游客运公司","续建",2018,2024,8000,{"v":7090,"d":"7090.0"},null,{"v":0,"d":"0.0"},{"v":0,"d":"0.0"},"在建","客运站主体砌墙砖及地面砖"]
[2,"郑万高铁巴东综合客运枢纽","巴东神农投资有限公司","新建",2020,2026,31220,{"v":31220,"d":"31220.0"},100,{"v":100,"d":"100.0"},{"v":0,"d":"0.0"},"建成","建成"]
["三、农村综合运输服务站",{"$nulls":5},{"$f":"SUM(G101:G105)","v":3096.46},2347.4,3096.5,2347.4,179.1]
[1,"恩施市新塘乡综合运输服务站","恩施市新塘乡人民政府","新建",2022,2024,1647.01,{"v":1647,"d":"1647.0"},1647,{"v":1647,"d":"1647.0"},{"v":0,"d":"0.0"},"建成","建成"]
[2,"来凤县三胡乡综合运输服务站","来凤天顺实业有限公司","新建",2023,2024,379.45,379.5,379.5,379.5,{"v":0,"d":"0.0"},"建成","建成"]
[3,"利川市团堡镇交通综合运输服务站","利川市玉龙运业有限责任公司","新建",2026,2026,350,5,350,5,0,"正式施工","地基平整"]
[4,"南坪乡交通综合运输服务站","利川市南坪乡南坪村民委员会","新建",2026,2026,320,275.9,320,275.9,179.1,"正式施工","已完成基础正负零、主体结构、内外墙粉刷涂料、外墙钢架玻璃雨棚、前后场地硬化及排水沟、门窗安装、室内水电安装、路基坝、围墙、室内地坪及化粪池等施工内容。"]
[5,"咸丰县活龙坪乡综合运输服务站","咸丰县淳毅运输有限公司","新建",2026,2026,400,40,400,40,0,"正式施工","场地平整"]
["四、候车亭"]
["仙桃市",{"$nulls":5},{"$f":"SUM(G108,G110,G111,G112)","v":{"v":1200,"d":"1200.00"}},{"$f":"SUM(H108,H110,H111,H112)","v":{"v":920,"d":"920.0"}},{"$f":"SUM(I108,I110,I111,I112)","v":{"v":370,"d":"370.00"}},{"$f":"SUM(J108,J110,J111,J112)","v":{"v":370,"d":"370.0"}},{"$f":"SUM(K108,K110,K111,K112)","v":{"v":0,"d":"0.0"}}]
["一、使用交通部车购税资金建设项目",{"$nulls":5},{"$f":"SUM(G109:G109)","v":1200},{"$f":"SUM(H109:H109)","v":{"v":920,"d":"920.0"}},{"$f":"SUM(I109:I109)","v":370},{"$f":"SUM(J109:J109)","v":{"v":370,"d":"370.0"}},{"$f":"SUM(K109:K109)","v":{"v":0,"d":"0.0"}}]
[1,"仙桃市毛嘴客运站","交通局","新建",2024.3,2026,1200,{"v":920,"d":"920.0"},370,{"v":370,"d":"370.0"},{"v":0,"d":"0.0"},"完工","完工",{"$nulls":5},"鄂交发【2023】22号"]
["二、使用省燃油税返还资金建设项目"]
["三、农村综合运输服务站"]
["四、候车亭"]
["林区",{"$nulls":5},{"$f":"SUM(G114,G115,G117,G118)","v":6025.91},{"$f":"SUM(H114,H115,H117,H118)","v":6021.5},{"$f":"SUM(I114,I115,I117,I118)","v":{"v":0,"d":"0.00"}},{"$f":"SUM(J114,J115,J117,J118)","v":{"v":0,"d":"0.0"}},{"$f":"SUM(K114,K115,K117,K118)","v":{"v":0,"d":"0.0"}}]
["一、使用交通部车购税资金建设项目"]
["二、使用省燃油税返还资金建设项目",{"$nulls":5},{"$f":"SUM(G116:G116)","v":6025.91},{"$f":"SUM(H116:H116)","v":6021.5},{"$f":"SUM(I116:I116)","v":0},{"$f":"SUM(J116:J116)","v":{"v":0,"d":"0.0"}},{"$f":"SUM(K116:K116)","v":{"v":0,"d":"0.0"}}]
[1,"神农架枢纽站","林区交投公司","续建",2019,2026,6025.91,6021.5,0,{"v":0,"d":"0.0"},{"v":0,"d":"0.0"},"建成","建成投产",{"$nulls":5},"神发改审批【2018】150号","神发改审批【2020】113号"]
["三、农村综合运输服务站"]
["四、候车亭"]

{"sheet":"汇总","index":1,"n_rows":24,"n_cols":5,"rows_kept":24,"merged":[[0,0,0,4],[1,0,1,4],[3,0,5,0],[3,1,5,1],[3,2,5,2],[3,3,5,3],[3,4,5,4]]}
["          湖北省道路客运站场建设投资完成情况汇总表"]
["2026-06-01"]
["       填报单位:省运管局",{"$nulls":3},"单位:万元"]
["单位名称","年度计划投资","自年初累计完成投资","本月完成投资","自年初累计完成投资占年度计划比例(%)"]
[]
[]
["合计",{"$f":"SUM(B8:B24)","v":{"v":72978.85,"d":"72,978.85"}},{"$f":"SUM(C8:C24)","v":{"v":38050.4,"d":"38050.40"}},{"$f":"SUM(D8:D24)","v":{"v":3003.1,"d":"3,003.10"}},{"$f":"C7/B7*100","v":{"v":52.138941624868,"d":"52.1"}}]
["武汉",19600,{"$f":"明细!J10","v":9100},{"$f":"明细!K10","v":900},{"$f":"C8/B8*100","v":{"v":46.4285714285714,"d":"46.4"}}]
["黄石",null,{"$f":"明细!J17","v":430},{"$f":"明细!K17","v":0},{"$error":"#DIV/0!"}]
["十堰",2518,{"$f":"明细!J23","v":1598},{"$f":"明细!K23","v":0},{"v":63.4630659253376,"d":"63.5"}]
["宜昌",7496,{"$f":"明细!J32","v":10458},{"$f":"明细!K32","v":436},{"v":139.514407684098,"d":"139.5"}]
["襄阳",2013.64,{"$f":"明细!J42","v":2420},{"$f":"明细!K42","v":{"v":486.2,"d":"486"}},{"v":120.180369877436,"d":"120.2"}]
["鄂州",1200,null,null,{"v":0,"d":"0.0"}]
["荆门",9090,{"$f":"明细!J52","v":{"v":3615.3,"d":"3615.30"}},{"$f":"明细!K52","v":{"v":669.8,"d":"670"}},{"v":39.7722772277228,"d":"39.8"}]
["孝感",9973,{"$f":"明细!J60","v":2524},{"$f":"明细!K60","v":72},{"v":25.3083324977439,"d":"25.3"}]
["荆州",2920.21,null,null,{"v":0,"d":"0.0"}]
["黄冈",14491,{"$f":"明细!J67","v":{"v":3777.7,"d":"3778"}},{"$f":"明细!K67","v":0},{"v":26.0692843834104,"d":"26.1"}]
["咸宁",2835,{"$f":"明细!J81","v":{"v":1310,"d":"1310.0"}},{"$f":"明细!K81","v":260},{"v":46.2081128747795,"d":"46.2"}]
["随州",208,null,null,{"v":0,"d":"0.0"}]
["恩施",null,{"$f":"明细!J95","v":{"v":2447.4,"d":"2447"}},{"$f":"明细!K95","v":{"v":179.1,"d":"179"}},{"$error":"#DIV/0!"}]
["仙桃",634,{"$f":"明细!J107","v":370},{"$f":"明细!K107","v":0},{"v":58.3596214511041,"d":"58.4"}]
["潜江",{"$nulls":3},{"$error":"#DIV/0!"}]
["天门",{"$nulls":3},{"$error":"#DIV/0!"}]
["林区",null,{"$f":"明细!J113","v":0},{"$f":"明细!K113","v":0},{"$error":"#DIV/0!"}]