{"text_format":"3","workbook":"xlsx","n_sheets":6,"sheets":["公路旅客6月报","运政车辆数","公路旅客分市州明细","中口径明细","中口径排名","中口径分析"],"not_rendered":{"external_links":1},"read":"whole","date_system":"1900"}

{"sheet":"公路旅客6月报","index":0,"n_rows":771,"n_cols":28,"rows_kept":771}
["所属地区","企业代码","企业名称","客运车辆_总计","核定载客位_总计","车辆数_客运班车（含定线旅游客运客车）","核定载客位_客运班车（含定线旅游客运客车）","车辆数_客运包车（含非定线旅游客运客车）","核定载客位_客运包车（含非定线旅游客运客车）","客运量_总计","旅客周转量_总计","客运量_一类客运班线（含定线旅游）","旅客周转量_一类客运班线（含定线旅游）","客运量_二类客运班线（含定线旅游）","旅客周转量_二类客运班线（含定线旅游）","客运量_三类客运班线（含定线旅游）","旅客周转量_三类客运班线（含定线旅游）","客运量_四类客运班线（含定线旅游）","旅客周转量_四类客运班线（含定线旅游）","客运量_客运包车（含非定线旅游）","旅客周转量_客运包车（含非定线旅游）","客运平均运距","一类客运班线平均运距","二类客运班线平均运距","三类客运班线平均运距","四类客运班线平均运距","旅游、包车平均运距",""]
["420200","42020000016","黄石市城市公交集团有限公司",21,877,0,0,21,877,3338,1068160,0,0,0,0,0,0,0,0,3338,1068160,320,0,0,0,0,320,""]
["420302","42030000002","十堰市交通经济开发有限公司",44,1227,44,1227,0,0,35081,3217396,0,0,377,67860,34704,3149536,0,0,0,0,{"v":91.7133,"d":"92"},0,180,{"v":90.7543,"d":"91"},0,0,""]
["420302","42030300002","十堰市城市公交集团有限公司",32,1483,0,0,32,1483,3590,1148086,0,0,0,0,0,0,0,0,3590,1148086,{"v":319.8011,"d":"320"},0,0,0,0,{"v":319.8011,"d":"320"},""]
["420304","42030400001","郧县天鸿汽车运输有限公司",56,1677,37,911,19,766,19791,1733234,752,340295,0,0,3708,239788,13021,694568,2310,458583,{"v":87.5769,"d":"88"},{"v":452.5199,"d":"453"},0,{"v":64.6677,"d":"65"},{"v":53.3421,"d":"53"},{"v":198.5208,"d":"199"},""]
["420323","42032300005","湖北省十堰亨运集团竹山有限责任公司",36,1319,36,1319,0,0,30165,4363643,1557,784731,2055,662052,18503,2377110,8050,539750,0,0,{"v":144.6591,"d":"145"},{"v":504.0019,"d":"504"},{"v":322.1664,"d":"322"},{"v":128.4716,"d":"128"},{"v":67.0497,"d":"67"},0,""]
["420325","42032500004","房县恒通发展有限责任公司",130,3351,126,3197,4,154,54098,3879872,172,111456,4474,1145344,13560,1572960,35644,998032,248,52080,{"v":71.7193,"d":"72"},648,256,116,28,210,""]
["420381","42038100002","湖北省十堰亨运集团武当山旅游运输有限公司",27,1058,8,199,19,859,7971,1450769,0,0,0,0,2507,131052,80,4750,5384,1314967,{"v":182.0059,"d":"182"},0,0,{"v":52.2744,"d":"52"},{"v":59.375,"d":"59"},{"v":244.2361,"d":"244"},""]
["420381","42038100003","丹江口市公共汽车公司",22,963,0,0,22,963,2024,246928,0,0,0,0,0,0,0,0,2024,246928,122,0,0,0,0,122,""]
["420506","42050600001","宜昌恒升客运联营有限公司",2,64,2,64,0,0,1510,38065,0,0,0,0,0,0,1510,38065,0,0,{"v":25.2086,"d":"25"},0,0,0,{"v":25.2086,"d":"25"},0,""]
["420525","42052500002","宜昌三峡运输集团远安县畅通汽车客运有限公司",44,1227,41,1116,3,111,166595,5216731,0,0,2219,589874,13520,1124188,149676,3403632,1180,99037,{"v":31.3139,"d":"31"},0,{"v":265.8288,"d":"266"},{"v":83.15,"d":"83"},{"v":22.74,"d":"23"},{"v":83.9297,"d":"84"},""]
["420525","42052500003","远安县全运公共交通运输有限公司",12,246,12,246,0,0,14926,409718,0,0,0,0,0,0,14926,409718,0,0,{"v":27.45,"d":"27"},0,0,0,{"v":27.45,"d":"27"},0,""]
["420526","42052600004","宜昌交运集团兴山客运有限公司",33,1095,33,1095,0,0,70293,3796408,0,0,550,67100,14527,1597970,55216,2131338,0,0,{"v":54.0083,"d":"54"},0,122,110,{"v":38.6,"d":"39"},0,""]
["420527","42052700017","宜昌交运集团秭归客运有限公司",15,550,15,550,0,0,29768,2530280,0,0,0,0,29768,2530280,0,0,0,0,85,0,0,85,0,0,""]
["420529","42052900001","宜昌交运集团五峰客运有限公司",21,499,21,499,0,0,36845,3868725,0,0,0,0,0,0,36845,3868725,0,0,105,0,0,0,105,0,""]
["420581","42058100006","宜昌交运集团宜都客运有限公司",26,728,26,728,0,0,19475,1191300,0,0,1325,174900,18150,1016400,0,0,0,0,{"v":61.1707,"d":"61"},0,132,56,0,0,""]
["420582","42058200007","当阳市永生汽车运输有限公司",61,1661,61,1661,0,0,284068,19507536,0,0,9697,3054555,159792,11984400,114579,4468581,0,0,{"v":68.6721,"d":"69"},0,315,75,39,0,""]
["420583","42058300005","枝江市安捷交通运输有限责任公司",22,476,14,373,8,103,16728,2916792,0,0,2550,300900,4896,254592,3060,183600,6222,2177700,{"v":174.3659,"d":"174"},0,118,52,60,350,""]
["420607","42060000024","襄阳四海联托运有限责任公司",40,1263,15,301,25,962,13929,3587169,0,0,0,0,0,0,10539,443427,3390,3143742,{"v":257.5324,"d":"258"},0,0,0,{"v":42.0749,"d":"42"},{"v":927.3575,"d":"927"},""]
["420625","42062500003","谷城县公共交通运输集团有限公司",53,1867,31,975,22,892,43622,6317495,2078,426064,5123,902300,28476,1817018,0,0,7945,3172113,{"v":144.8236,"d":"145"},{"v":205.0356,"d":"205"},{"v":176.1273,"d":"176"},{"v":63.8088,"d":"64"},0,{"v":399.259,"d":"399"},""]
["420682","42068200005","老河口市顺通运业有限责任公司",154,5257,152,5187,2,70,174195,8747245,625,45395,1070,297512,63350,4941378,107328,3219840,1822,243120,{"v":50.2152,"d":"50"},{"v":72.632,"d":"73"},{"v":278.0486,"d":"278"},{"v":78.0012,"d":"78"},30,{"v":133.4358,"d":"133"},""]
["420683","42068300005","枣阳市四达汽车运输有限公司",27,1363,3,54,24,1309,7362,553048,0,0,526,156748,1020,76500,0,0,5816,319800,{"v":75.122,"d":"75"},0,298,75,0,{"v":54.9862,"d":"55"},""]
["420700","42070000006","鄂州市华松汽车客运有限公司",18,794,0,0,18,794,16622,1246650,0,0,0,0,0,0,0,0,16622,1246650,75,0,0,0,0,75,""]
["420700","42070000007","鄂州市交通发展有限公司",101,2620,101,2620,0,0,57500,2970000,0,0,31500,1620000,26000,1350000,0,0,0,0,{"v":51.6522,"d":"52"},0,{"v":51.4286,"d":"51"},{"v":51.9231,"d":"52"},0,0,""]
["420700","42070000009","鄂州市大鹏客运有限公司",78,2043,65,1474,13,569,93166,6028466,0,0,10812,1120355,49619,2522895,19868,1236100,12867,1149116,{"v":64.7067,"d":"65"},0,{"v":103.6214,"d":"104"},{"v":50.8453,"d":"51"},{"v":62.2156,"d":"62"},{"v":89.3072,"d":"89"},""]
["420800","42080000002","荆门市五三易达汽车运输有限公司",16,436,16,436,0,0,3161,257198,28,10485,1946,182919,715,46296,472,17498,0,0,{"v":81.366,"d":"81"},{"v":374.4643,"d":"374"},{"v":93.9974,"d":"94"},{"v":64.7497,"d":"65"},{"v":37.072,"d":"37"},0,""]
["420800","42080400001","荆门万里交通建设有限公司",52,1606,26,726,26,880,24345,5671523,6257,4148485,5008,580856,3205,211598,0,0,9875,730584,{"v":232.9646,"d":"233"},{"v":663.015,"d":"663"},{"v":115.9856,"d":"116"},{"v":66.0212,"d":"66"},0,{"v":73.9832,"d":"74"},""]
["420881","42088100009","湖北省钟祥宇风运业有限公司",2,64,2,64,0,0,0,0,0,0,0,0,0,0,0,0,0,0,0,0,0,0,0,0,""]
["420901","42090100001","孝感汽车客运集团有限公司",53,1253,53,1253,0,0,18692,891784,0,0,9856,591360,8836,300424,0,0,0,0,{"v":47.7094,"d":"48"},0,60,34,0,0,""]
["420921","42092100004","孝昌县裕通汽车运输有限责任公司",27,927,15,421,12,506,24910,1181238,0,0,12316,566538,6138,283245,2146,98719,4310,232736,{"v":47.4202,"d":"47"},0,{"v":46.0002,"d":"46"},{"v":46.1461,"d":"46"},{"v":46.0014,"d":"46"},{"v":53.9991,"d":"54"},""]
["420922","42092200002","大悟交运汽车运输有限公司",41,1220,41,1220,0,0,24114,2099405,0,0,11755,1234275,12359,865130,0,0,0,0,{"v":87.0617,"d":"87"},0,105,70,0,0,""]
["420923","42092300003","云梦县永泰汽车客运有限公司",94,2051,94,2051,0,0,63996,2647017,0,0,29385,1707269,14519,399273,20092,540475,0,0,{"v":41.3622,"d":"41"},0,{"v":58.1,"d":"58"},{"v":27.5,"d":"28"},{"v":26.9,"d":"27"},0,""]
["420981","42098100003","应城市众达公共交通有限公司",7,119,7,119,0,0,13789,234866,0,0,0,0,0,0,13789,234866,0,0,{"v":17.0329,"d":"17"},0,0,0,{"v":17.0329,"d":"17"},0,""]
["420981","42098100005","应城八达运输有限公司",59,1233,59,1233,0,0,47702,4674796,0,0,47702,4674796,0,0,0,0,0,0,98,0,98,0,0,0,""]
["420984","42098400003","汉川盛达客运有限公司",43,1674,32,1189,11,485,41526,3466863,0,0,18957,1408040,16097,881146,0,0,6472,1177677,{"v":83.4866,"d":"83"},0,{"v":74.2755,"d":"74"},{"v":54.7398,"d":"55"},0,{"v":181.9649,"d":"182"},""]
["421000","42100000002","荆州先行运输集团有限公司",188,6176,188,6176,0,0,53299,4085279,3208,888771,12631,1394549,33572,1755766,3888,46193,0,0,{"v":76.6483,"d":"77"},{"v":277.0483,"d":"277"},{"v":110.4069,"d":"110"},{"v":52.2985,"d":"52"},{"v":11.8809,"d":"12"},0,""]
["421023","42102300030","监利市汽车运输总公司",113,2417,113,2417,0,0,55076,7386153,14251,3463178,13965,2024925,13855,1260805,13005,637245,0,0,{"v":134.1084,"d":"134"},{"v":243.013,"d":"243"},145,91,49,0,""]
["421081","42108100015","石首市幸福汽车客运有限公司",51,988,51,988,0,0,60660,1125650,0,0,0,0,0,0,60660,1125650,0,0,{"v":18.5567,"d":"19"},0,0,0,{"v":18.5567,"d":"19"},0,""]
["421083","42108300037","洪湖市运通汽车运输有限责任公司",36,835,36,835,0,0,17109,961432,0,0,224,18556,16885,942876,0,0,0,0,{"v":56.1945,"d":"56"},0,{"v":82.8393,"d":"83"},{"v":55.841,"d":"56"},0,0,""]
["421124","42112400004","黄冈市东方运输集团英山全顺有限公司",45,1441,45,1441,0,0,12679,3519747,2067,952703,3578,910318,2895,276934,0,0,4139,1379792,{"v":277.6045,"d":"278"},{"v":460.911,"d":"461"},{"v":254.4209,"d":"254"},{"v":95.6594,"d":"96"},0,{"v":333.3636,"d":"333"},""]
["421126","42112600021","蕲春县东昌汽车运输有限公司",6,170,6,170,0,0,9918,546581,0,0,0,0,0,0,9918,546581,0,0,{"v":55.11,"d":"55"},0,0,0,{"v":55.11,"d":"55"},0,""]
["421182","42118200012","武穴市公共汽车公司",5,92,5,92,0,0,9594,212411,0,0,0,0,0,0,9594,212411,0,0,{"v":22.14,"d":"22"},0,0,0,{"v":22.14,"d":"22"},0,""]
["421221","42122100005","嘉鱼交通建设集团鸿昌客运有限公司",57,1749,57,1749,0,0,114520,8328513,0,0,89560,7053607,24960,1274906,0,0,0,0,{"v":72.7254,"d":"73"},0,{"v":78.7585,"d":"79"},{"v":51.078,"d":"51"},0,0,""]
["421222","42122200003","湖北咸宁咸运集团通城恒通运输有限公司",94,1753,94,1753,0,0,8168,2564579,1652,1325824,5528,1158241,988,80514,0,0,0,0,{"v":313.9788,"d":"314"},{"v":802.5569,"d":"803"},{"v":209.5226,"d":"210"},{"v":81.4919,"d":"81"},0,0,""]
["421223","42122300003","湖北咸宁咸运集团崇阳天成运输有限公司",42,1490,42,1490,0,0,25753,3605504,1868,1329274,18565,2042150,5320,234080,0,0,0,0,{"v":140.0033,"d":"140"},{"v":711.6028,"d":"712"},110,44,0,0,""]
["421224","42122400002","通山县宏发出租车有限公司",0,0,0,0,0,0,0,0,0,0,0,0,0,0,0,0,0,0,0,0,0,0,0,0,""]
["421224","42122400003","湖北咸宁咸运集团通山奔阳运输有限公司",66,2010,54,1625,12,385,163323,11122608,497,35492,50094,5993885,50833,2455030,60271,2334131,1628,304070,{"v":68.1019,"d":"68"},{"v":71.4125,"d":"71"},{"v":119.6528,"d":"120"},{"v":48.296,"d":"48"},{"v":38.7273,"d":"39"},{"v":186.7752,"d":"187"},""]
["421303","42130300005","随州市公共交通有限责任公司",7,276,0,0,7,276,2057,412824,0,0,0,0,0,0,0,0,2057,412824,{"v":200.6923,"d":"201"},0,0,0,0,{"v":200.6923,"d":"201"},""]
["421381","42138100008","广水市恒泰汽车运输有限责任公司",133,3456,133,3456,0,0,128989,11388507,4553,4336190,27987,4254055,13421,953196,83028,1845066,0,0,{"v":88.2905,"d":"88"},{"v":952.3808,"d":"952"},{"v":152.0011,"d":"152"},{"v":71.0227,"d":"71"},{"v":22.2222,"d":"22"},0,""]
["422801","42280100005","恩施市双龙客运有限公司",37,455,37,455,0,0,34851,2465187,0,0,0,0,0,0,34851,2465187,0,0,{"v":70.735,"d":"71"},0,0,0,{"v":70.735,"d":"71"},0,""]
["422801","42280100010","恩施市公共汽车有限责任公司",29,627,0,0,29,627,5575,836250,0,0,0,0,0,0,0,0,5575,836250,150,0,0,0,0,150,""]
["422802","42280200001","利川市联吉客运联营有限责任公司",22,272,22,272,0,0,19128,493503,0,0,0,0,0,0,19128,493503,0,0,{"v":25.8,"d":"26"},0,0,0,{"v":25.8,"d":"26"},0,""]
["422802","42280200007","利川市时代出租汽车有限责任公司",64,1718,64,1718,0,0,72116,2479514,0,0,0,0,0,0,72116,2479514,0,0,{"v":34.3823,"d":"34"},0,0,0,{"v":34.3823,"d":"34"},0,""]
["422823","42282300005","巴东县东顺伟业出租车有限责任公司",6,60,6,60,0,0,785,9323,0,0,0,0,0,0,785,9323,0,0,{"v":11.8764,"d":"12"},0,0,0,{"v":11.8764,"d":"12"},0,""]
["422825","42282500001","宣恩县长兴客运有限公司",88,2057,87,2023,1,34,43546,5569997,443,325417,0,0,0,0,42946,5153520,157,91060,{"v":127.9106,"d":"128"},{"v":734.5756,"d":"735"},0,0,120,580,""]
["429005","42900500013","湖北潜江驰宇运输有限公司",32,860,29,715,3,145,4670,184698,930,56506,2620,79595,0,0,800,24304,320,24293,{"v":39.5499,"d":"40"},{"v":60.7591,"d":"61"},{"v":30.3798,"d":"30"},0,{"v":30.38,"d":"30"},{"v":75.9156,"d":"76"},""]
["429006","42900600011","湖北公路客运（集团）天门汉羽运输有限公司",40,908,37,763,3,145,4340,654350,390,146440,2764,396905,0,0,0,0,1186,111005,{"v":150.7719,"d":"151"},{"v":375.4872,"d":"375"},{"v":143.598,"d":"144"},0,0,{"v":93.5961,"d":"94"},""]
["420100","91420112725772163N","武汉永兴交通运输有限公司",24,612,24,612,0,0,6583,1024886,0,0,6583,1024886,0,0,0,0,0,0,{"v":155.6868,"d":"156"},0,{"v":155.6868,"d":"156"},0,0,0,""]
["420100","9142011255500489XP","武汉东兴达客运有限公司",51,1151,51,1151,0,0,6185,759886,0,0,6185,759886,0,0,0,0,0,0,{"v":122.8595,"d":"123"},0,{"v":122.8595,"d":"123"},0,0,0,""]
["420100","91420102737535579H","武汉市江滩旅游车服务集团有限公司",107,4353,36,1613,71,2740,48937,7340114,0,0,40577,3327314,0,0,0,0,8360,4012800,{"v":149.9911,"d":"150"},0,82,0,0,480,""]
["420100","91420105737515543P","武汉市伟业旅游汽车有限公司",21,823,0,0,21,823,15741,3201644,0,0,0,0,0,0,0,0,15741,3201644,{"v":203.3952,"d":"203"},0,0,0,0,{"v":203.3952,"d":"203"},""]
["420100","914201037924343671","武汉市天运旅游客运有限公司",23,1023,0,0,23,1023,2267,1740400,0,0,0,0,0,0,0,0,2267,1740400,{"v":767.7106,"d":"768"},0,0,0,0,{"v":767.7106,"d":"768"},""]
["420100","9142010274476162XY","武汉高氏旅游客运有限公司",55,2192,0,0,55,2192,76720,27619200,0,0,0,0,0,0,0,0,76720,27619200,360,0,0,0,0,360,""]
["420100","914201047414075023","武汉富华旅游汽车服务有限公司",56,2255,0,0,56,2255,5865,2569132,0,0,0,0,0,0,0,0,5865,2569132,{"v":438.0447,"d":"438"},0,0,0,0,{"v":438.0447,"d":"438"},""]
["420100","9142010373354649XG","武汉市三缘旅游客运有限责任公司",70,3044,34,1522,36,1522,21290,4427065,0,0,17005,1810005,0,0,0,0,4285,2617060,{"v":207.9411,"d":"208"},0,{"v":106.4396,"d":"106"},0,0,{"v":610.7491,"d":"611"},""]
["420100","91420102722706849K","武汉市一日游旅业有限责任公司",41,1693,0,0,41,1693,1960,42140,0,0,0,0,0,0,0,0,1960,42140,{"v":21.5,"d":"22"},0,0,0,0,{"v":21.5,"d":"22"},""]
["420100","91420102675816278D","武汉市欣洪祥旅游客运服务有限公司",21,914,0,0,21,914,2889,1276550,0,0,0,0,0,0,0,0,2889,1276550,{"v":441.8657,"d":"442"},0,0,0,0,{"v":441.8657,"d":"442"},""]
["420100","914201067963388316","武汉宏兴泰旅游客运有限公司",45,1908,0,0,45,1908,6045,453375,0,0,0,0,0,0,0,0,6045,453375,75,0,0,0,0,75,""]
["420100","91420106555010413D","武汉零加壹旅游客运有限公司",44,1716,0,0,44,1716,11565,3012683,0,0,0,0,0,0,0,0,11565,3012683,{"v":260.5,"d":"261"},0,0,0,0,{"v":260.5,"d":"261"},""]
["420100","91420104741438552N","武汉市创业旅游汽车服务有限责任公司",40,1584,0,0,40,1584,4760,1476160,0,0,0,0,0,0,0,0,4760,1476160,{"v":310.1176,"d":"310"},0,0,0,0,{"v":310.1176,"d":"310"},""]
["420100","91420103792431043U","武汉市国运旅游客运有限公司",55,2181,0,0,55,2181,5240,4014638,0,0,0,0,0,0,0,0,5240,4014638,{"v":766.1523,"d":"766"},0,0,0,0,{"v":766.1523,"d":"766"},""]
["420100","91420102778172882B","武汉市宏干线公路客运有限公司",22,841,22,841,0,0,27803,5195928,1701,1203195,26102,3992733,0,0,0,0,0,0,{"v":186.8837,"d":"187"},{"v":707.3457,"d":"707"},{"v":152.9666,"d":"153"},0,0,0,""]
["420100","914201007414249949","武汉荣达汽车旅游服务有限公司",59,2171,0,0,59,2171,5664,4958000,0,0,0,0,0,0,0,0,5664,4958000,{"v":875.3531,"d":"875"},0,0,0,0,{"v":875.3531,"d":"875"},""]
["420100","914201006953003751","武汉乐游旅游客运有限公司",39,1512,0,0,39,1512,17748,2423315,0,0,0,0,0,0,0,0,17748,2423315,{"v":136.5402,"d":"137"},0,0,0,0,{"v":136.5402,"d":"137"},""]
["420107","91420100751827703K","武汉石化交通运输有限公司",0,0,0,0,0,0,0,0,0,0,0,0,0,0,0,0,0,0,0,0,0,0,0,0,""]
["420100","9142010467582186X0","武汉全直通旅游客运有限公司",51,2090,0,0,51,2090,23853,6771530,0,0,0,0,0,0,0,0,23853,6771530,{"v":283.8859,"d":"284"},0,0,0,0,{"v":283.8859,"d":"284"},""]
["420100","91420104333509454N","武汉稳通公路客运有限公司",48,1152,48,1152,0,0,16370,2287493,1798,601800,14572,1685693,0,0,0,0,0,0,{"v":139.7369,"d":"140"},{"v":334.7052,"d":"335"},{"v":115.6803,"d":"116"},0,0,0,""]
["420100","914201007335585112","武汉外滩旅游车服务有限公司",58,2215,0,0,58,2215,7939,1997608,0,0,0,0,0,0,0,0,7939,1997608,{"v":251.6196,"d":"252"},0,0,0,0,{"v":251.6196,"d":"252"},""]
["420100","914201057997971791","武汉新力量旅游客运有限公司",63,2788,0,0,63,2788,11408,2320210,0,0,0,0,0,0,0,0,11408,2320210,{"v":203.3845,"d":"203"},0,0,0,0,{"v":203.3845,"d":"203"},""]
["420100","91420100789328088M","湖北东方国际旅行社有限公司",39,1652,0,0,39,1652,28947,3643559,0,0,0,0,0,0,0,0,28947,3643559,{"v":125.87,"d":"126"},0,0,0,0,{"v":125.87,"d":"126"},""]
["420103","914200001776095247","湖北捷龙交通运业有限公司",72,3456,0,0,72,3456,71953,5054869,0,0,0,0,0,0,0,0,71953,5054869,{"v":70.2524,"d":"70"},0,0,0,0,{"v":70.2524,"d":"70"},""]
["420100","91420106063006477G","湖北省全日通旅游客运有限公司",30,1191,0,0,30,1191,3800,890000,0,0,0,0,0,0,0,0,3800,890000,{"v":234.2105,"d":"234"},0,0,0,0,{"v":234.2105,"d":"234"},""]
["420115","91420115303578424A","武汉尧康公交有限公司",0,0,0,0,0,0,0,0,0,0,0,0,0,0,0,0,0,0,0,0,0,0,0,0,""]
["420200","91420200MA48YPET1D","黄石国顺客运有限公司",20,867,0,0,20,867,12382,1727275,0,0,0,0,0,0,0,0,12382,1727275,{"v":139.4989,"d":"139"},0,0,0,0,{"v":139.4989,"d":"139"},""]
["420200","914202005715444907","黄石雄钢旅游客运有限公司",21,954,0,0,21,954,1823,95631,0,0,0,0,0,0,0,0,1823,95631,{"v":52.458,"d":"52"},0,0,0,0,{"v":52.458,"d":"52"},""]
["420200","914202001784379633","黄石市交通运输集团有限责任公司",43,1013,42,965,1,48,10088,1118798,795,450960,4855,383785,4356,256688,0,0,82,27365,{"v":110.9038,"d":"111"},{"v":567.2453,"d":"567"},{"v":79.0494,"d":"79"},{"v":58.9275,"d":"59"},0,{"v":333.7195,"d":"334"},""]
["420200","91420200670358079Y","黄石市瑞捷贸易发展有限公司",20,935,0,0,20,935,11325,2362386,0,0,0,0,0,0,0,0,11325,2362386,{"v":208.5992,"d":"209"},0,0,0,0,{"v":208.5992,"d":"209"},""]
["420200","91420200722096008T","黄石市华龙客运有限公司",24,964,0,0,24,964,2627,465297,0,0,0,0,0,0,0,0,2627,465297,{"v":177.1211,"d":"177"},0,0,0,0,{"v":177.1211,"d":"177"},""]
["420200","914202005539036648","黄石佳美汽车服务有限公司",10,478,0,0,10,478,24913,319370,0,0,0,0,0,0,0,0,24913,319370,{"v":12.8194,"d":"13"},0,0,0,0,{"v":12.8194,"d":"13"},""]
["420222","914202227641460856","阳新县龙港客运联合有限公司",109,2398,109,2398,0,0,32100,1460100,0,0,600,105600,0,0,31500,1354500,0,0,{"v":45.486,"d":"45"},0,176,0,43,0,""]
["420222","91420222MA48B6TE7M","阳新大地旅游客运有限公司",20,769,0,0,20,769,13049,371470,0,0,0,0,0,0,0,0,13049,371470,{"v":28.4673,"d":"28"},0,0,0,0,{"v":28.4673,"d":"28"},""]
["420222","91420222331758094K","阳新县村村通客运有限公司",9,69,9,69,0,0,4568,68520,0,0,0,0,0,0,4568,68520,0,0,15,0,0,0,15,0,""]
["420222","91420200MA488GLQ5W","黄石市安鑫汽车运输有限公司",11,298,11,298,0,0,14725,859790,0,0,0,0,0,0,14725,859790,0,0,{"v":58.3898,"d":"58"},0,0,0,{"v":58.3898,"d":"58"},0,""]
["420222","91420222753424166E","阳新县隆发汽车运输有限公司",62,1295,62,1295,0,0,28112,573550,0,0,0,0,0,0,28112,573550,0,0,{"v":20.4023,"d":"20"},0,0,0,{"v":20.4023,"d":"20"},0,""]
["420222","914202220920277446","阳新县惠同汽车运输有限公司",38,855,38,855,0,0,5782,440068,0,0,0,0,0,0,5782,440068,0,0,{"v":76.11,"d":"76"},0,0,0,{"v":76.11,"d":"76"},0,""]
["420222","9142022288156098XY","阳新县汽车运输公司",30,727,30,727,0,0,25415,685640,0,0,5450,365885,19965,319755,0,0,0,0,{"v":26.9778,"d":"27"},0,{"v":67.1349,"d":"67"},{"v":16.0158,"d":"16"},0,0,""]
["420222","914202227446116138","阳新县兴运工贸有限责任公司",75,1839,75,1839,0,0,46628,734963,0,0,0,0,12199,152095,34429,582868,0,0,{"v":15.7623,"d":"16"},0,0,{"v":12.4678,"d":"12"},{"v":16.9296,"d":"17"},0,""]
["420222","91420222331831220U","阳新县百强运输有限公司",1,7,1,7,0,0,24,135,0,0,0,0,0,0,24,135,0,0,{"v":5.625,"d":"6"},0,0,0,{"v":5.625,"d":"6"},0,""]
["420281","91420281582497319H","大冶市佳泰客运有限公司",55,1190,55,1190,0,0,173087,1947823,0,0,0,0,0,0,173087,1947823,0,0,{"v":11.2534,"d":"11"},0,0,0,{"v":11.2534,"d":"11"},0,""]
["420281","91420281744649566G","大冶市安发客运有限公司",34,563,34,563,0,0,7823,134878,0,0,0,0,403,7254,7420,127624,0,0,{"v":17.2412,"d":"17"},0,0,18,{"v":17.2,"d":"17"},0,""]
["420281","9142028169177694XW","大冶市通达城乡运输有限公司",16,118,16,118,0,0,4578,45860,0,0,0,0,0,0,4578,45860,0,0,{"v":10.0175,"d":"10"},0,0,0,{"v":10.0175,"d":"10"},0,""]
["420281","914202817446489181","大冶市曙光客运有限责任公司",19,383,19,383,0,0,40956,943952,0,0,0,0,0,0,40956,943952,0,0,{"v":23.048,"d":"23"},0,0,0,{"v":23.048,"d":"23"},0,""]
["420281","91420281667679111P","大冶鸿星旅游客运有限公司",27,1206,0,0,27,1206,19945,190055,0,0,0,0,0,0,0,0,19945,190055,{"v":9.529,"d":"10"},0,0,0,0,{"v":9.529,"d":"10"},""]
["420281","91420281739147967U","大冶市利通客运有限公司",44,1176,44,1176,0,0,119035,1087247,0,0,0,0,0,0,119035,1087247,0,0,{"v":9.1338,"d":"9"},0,0,0,{"v":9.1338,"d":"9"},0,""]
["420281","91420281309805392E","大冶市正大旅游客运有限公司",33,1302,0,0,33,1302,7471,301556,0,0,0,0,0,0,0,0,7471,301556,{"v":40.3635,"d":"40"},0,0,0,0,{"v":40.3635,"d":"40"},""]
["420281","91420281751027298T","大冶市通顺汽车客运有限责任公司",87,2114,87,2114,0,0,82792,3433532,276,91273,9149,1004682,27625,778817,45742,1558760,0,0,{"v":41.4718,"d":"41"},{"v":330.6993,"d":"331"},{"v":109.8133,"d":"110"},{"v":28.1925,"d":"28"},{"v":34.0772,"d":"34"},0,""]
["420302","91420300MA4873MR9F","湖北省十堰亨运集团旅游运输有限公司",60,2270,16,557,44,1713,16565,1572877,0,0,0,0,5386,667705,804,42710,10375,862462,{"v":94.9518,"d":"95"},0,0,{"v":123.9705,"d":"124"},{"v":53.1219,"d":"53"},{"v":83.1289,"d":"83"},""]
["420302","914203007327141647","湖北省十堰亨运集团客运有限公司十堰公司",75,2533,74,2494,1,39,29239,5465807,2411,736217,2632,888219,24102,3776671,0,0,94,64700,{"v":186.9355,"d":"187"},{"v":305.3575,"d":"305"},{"v":337.4692,"d":"337"},{"v":156.6953,"d":"157"},0,{"v":688.2979,"d":"688"},""]
["420322","91420322757009365Y","郧西县杰锐达客运出租有限公司",38,573,38,573,0,0,22035,1560721,0,0,0,0,0,0,22035,1560721,0,0,{"v":70.8292,"d":"71"},0,0,0,{"v":70.8292,"d":"71"},0,""]
["420322","91420322730880601F","湖北省十堰亨运集团客运有限责任公司郧西公司",51,1334,47,1142,4,192,25272,3857017,1742,1689740,789,260370,16764,1475232,2657,199275,3320,232400,{"v":152.6202,"d":"153"},970,330,88,75,70,""]
["420323","914203237641338318","竹山县城乡运输有限责任公司",87,696,87,696,0,0,51335,3231374,0,0,0,0,0,0,51335,3231374,0,0,{"v":62.9468,"d":"63"},0,0,0,{"v":62.9468,"d":"63"},0,""]
["420324","91420324MA498E8B5D","湖北竹溪合众运输有限责任公司",45,1492,45,1492,0,0,14594,4630561,2678,2142720,2584,1162800,6248,1124550,3084,200491,0,0,{"v":317.2921,"d":"317"},{"v":800.1195,"d":"800"},450,{"v":179.9856,"d":"180"},{"v":65.0101,"d":"65"},0,""]
["420381","91420381747693773N","丹江口市金轮运输有限公司",101,3374,47,1138,54,2236,19576,1844600,258,18445,1310,24156,3551,239787,7712,431002,6745,1131210,{"v":94.2276,"d":"94"},{"v":71.4922,"d":"71"},{"v":18.4397,"d":"18"},{"v":67.5266,"d":"68"},{"v":55.8872,"d":"56"},{"v":167.7109,"d":"168"},""]
["420381","91420300MA48BQ2EXW","十堰市武当山特区金伟旅游服务有限公司",10,79,0,0,10,79,680,6920,0,0,0,0,0,0,0,0,680,6920,{"v":10.1765,"d":"10"},0,0,0,0,{"v":10.1765,"d":"10"},""]
["420381","91420300744628239R","湖北武当山旅游股份有限公司",137,5262,111,4372,26,890,98853,4736002,0,0,0,0,0,0,98569,4731312,284,4690,{"v":47.9095,"d":"48"},0,0,0,48,{"v":16.5141,"d":"17"},""]
["420503","91420500MA48BP5449","宜昌捷运汽车运输有限公司",32,1180,0,0,32,1180,10858,2095594,0,0,0,0,0,0,0,0,10858,2095594,193,0,0,0,0,193,""]
["420503","91420500550686895J","宜昌大通旅游客运有限公司",24,1074,0,0,24,1074,6990,525008,0,0,0,0,0,0,0,0,6990,525008,{"v":75.1084,"d":"75"},0,0,0,0,{"v":75.1084,"d":"75"},""]
["420502","91420500744646410J","宜昌市希望旅游汽车服务有限公司",23,889,0,0,23,889,3563,396985,0,0,0,0,0,0,0,0,3563,396985,{"v":111.4187,"d":"111"},0,0,0,0,{"v":111.4187,"d":"111"},""]
["420504","9142050055971264XK","宜昌市顺通旅游客运有限公司",96,4300,0,0,96,4300,187932,24611451,0,0,0,0,0,0,0,0,187932,24611451,{"v":130.9593,"d":"131"},0,0,0,0,{"v":130.9593,"d":"131"},""]
["420502","91420500565493594C","宜昌市鑫辉旅游汽车服务有限公司",33,1603,0,0,33,1603,6623,906652,0,0,0,0,0,0,0,0,6623,906652,{"v":136.8945,"d":"137"},0,0,0,0,{"v":136.8945,"d":"137"},""]
["420502","91420500MA48YR7C3B","宜昌乐游旅游客运有限公司",27,1027,0,0,27,1027,4277,299341,0,0,0,0,0,0,0,0,4277,299341,{"v":69.9885,"d":"70"},0,0,0,0,{"v":69.9885,"d":"70"},""]
["420502","91420500730845929Y","宜昌市葛洲坝鹏程运输有限责任公司",31,1317,21,997,10,320,12063,496220,0,0,0,0,0,0,7625,238590,4438,257630,{"v":41.1357,"d":"41"},0,0,0,{"v":31.2905,"d":"31"},{"v":58.0509,"d":"58"},""]
["420502","914205007809176017","宜昌新世纪旅游客运有限公司",17,699,0,0,17,699,2506,507465,0,0,0,0,0,0,0,0,2506,507465,{"v":202.5,"d":"203"},0,0,0,0,{"v":202.5,"d":"203"},""]
["420502","91420500591457028G","宜昌鹏程旅游客运有限公司",22,988,0,0,22,988,13280,1049470,0,0,0,0,0,0,0,0,13280,1049470,{"v":79.0264,"d":"79"},0,0,0,0,{"v":79.0264,"d":"79"},""]
["420503","91420500568314248U","宜昌佳途旅游客运有限公司",43,1633,0,0,43,1633,13556,3143198,0,0,0,0,0,0,0,0,13556,3143198,{"v":231.8677,"d":"232"},0,0,0,0,{"v":231.8677,"d":"232"},""]
["420502","914205007959186665","长江三峡旅游发展有限责任公司运输分公司",133,6166,0,0,133,6166,527250,16281800,0,0,0,0,0,0,0,0,527250,16281800,{"v":30.8806,"d":"31"},0,0,0,0,{"v":30.8806,"d":"31"},""]
["420503","9142050059715428XT","宜昌昭旅旅游运输有限公司",23,623,0,0,23,623,718,191235,0,0,0,0,0,0,0,0,718,191235,{"v":266.344,"d":"266"},0,0,0,0,{"v":266.344,"d":"266"},""]
["420506","914205067570065004","宜昌市龙兴客运有限公司",5,150,5,150,0,0,7214,72140,0,0,0,0,0,0,7214,72140,0,0,10,0,0,0,10,0,""]
["420506","914205065942358183","宜昌市鑫鹏旅游运输有限公司",37,1635,0,0,37,1635,17665,3497670,0,0,0,0,0,0,0,0,17665,3497670,198,0,0,0,0,198,""]
["420506","91420506737134046M","宜昌星通客运有限责任公司",28,772,28,772,0,0,23590,825650,0,0,0,0,0,0,23590,825650,0,0,35,0,0,0,35,0,""]
["420506","914205066951417578","宜昌樟村坪客运服务有限公司",5,112,5,112,0,0,738,25685,0,0,0,0,0,0,738,25685,0,0,{"v":34.8035,"d":"35"},0,0,0,{"v":34.8035,"d":"35"},0,""]
["420506","91420506741779509N","宜昌三峡运输集团有限责任公司",2,116,2,116,0,0,2088,93596,0,0,0,0,691,32541,1397,61055,0,0,{"v":44.8257,"d":"45"},0,0,{"v":47.0926,"d":"47"},{"v":43.7044,"d":"44"},0,""]
["420506","91420506055446173B","宜昌运泰旅游客运有限公司",34,1582,0,0,34,1582,45126,814927,0,0,0,0,0,0,0,0,45126,814927,{"v":18.0589,"d":"18"},0,0,0,0,{"v":18.0589,"d":"18"},""]
["420506","91420506739144336R","宜昌宝通客运有限责任公司",9,241,9,241,0,0,3600,199375,0,0,0,0,0,0,3600,199375,0,0,{"v":55.3819,"d":"55"},0,0,0,{"v":55.3819,"d":"55"},0,""]
["420506","914205067417530343","宜昌茶乡客运有限责任公司",15,430,14,403,1,27,2780,123868,0,0,0,0,0,0,2752,123542,28,326,{"v":44.5568,"d":"45"},0,0,0,{"v":44.8917,"d":"45"},{"v":11.6429,"d":"12"},""]
["420506","91420506780930814G","宜昌恒兴客运有限责任公司",20,560,20,560,0,0,11352,511438,0,0,0,0,0,0,11352,511438,0,0,{"v":45.0527,"d":"45"},0,0,0,{"v":45.0527,"d":"45"},0,""]
["420506","91420506182629175U","宜昌金通运输有限责任公司",9,209,9,209,0,0,3956,76324,0,0,0,0,0,0,3956,76324,0,0,{"v":19.2932,"d":"19"},0,0,0,{"v":19.2932,"d":"19"},0,""]
["420527","91420527MA4922XJ49","秭归县搏奕客运有限公司",42,1233,32,868,10,365,8335,536887,0,0,0,0,1590,165169,4198,193522,2547,178196,{"v":64.4136,"d":"64"},0,0,{"v":103.8799,"d":"104"},{"v":46.0986,"d":"46"},{"v":69.9631,"d":"70"},""]
["420527","91420527MA489BU1XE","秭归县金龙客运有限责任公司旅游客运分公司",18,722,0,0,18,722,2267,27204,0,0,0,0,0,0,0,0,2267,27204,12,0,0,0,0,12,""]
["420527","91420527082334708X","秭归县诚运客运服务有限公司",4,30,4,30,0,0,8039,182144,0,0,0,0,0,0,8039,182144,0,0,{"v":22.6575,"d":"23"},0,0,0,{"v":22.6575,"d":"23"},0,""]
["420527","91420527066119987J","秭归县泄滩乡安通客运有限责任公司",7,62,7,62,0,0,4062,182790,0,0,0,0,0,0,4062,182790,0,0,45,0,0,0,45,0,""]
["420527","91420527082318695M","秭归县志达客运有限责任公司",4,31,4,31,0,0,1355,73500,0,0,0,0,0,0,1355,73500,0,0,{"v":54.2435,"d":"54"},0,0,0,{"v":54.2435,"d":"54"},0,""]
["420527","914205273260737444","秭归县京通客运有限责任公司",7,57,7,57,0,0,2125,61843,0,0,0,0,0,0,2125,61843,0,0,{"v":29.1026,"d":"29"},0,0,0,{"v":29.1026,"d":"29"},0,""]
["420527","9142052706066161X3","秭归县成平客运有限责任公司",4,30,4,30,0,0,2005,67144,0,0,0,0,0,0,2005,67144,0,0,{"v":33.4883,"d":"33"},0,0,0,{"v":33.4883,"d":"33"},0,""]
["420527","91420527726124897Q","秭归县金龙客运有限责任公司",53,1528,53,1528,0,0,12414,1058002,0,0,118,13947,489,52301,11807,991754,0,0,{"v":85.2265,"d":"85"},0,{"v":118.1949,"d":"118"},{"v":106.955,"d":"107"},{"v":83.9971,"d":"84"},0,""]
["420527","9142052706065150XL","秭归县金路达客运有限公司",10,77,10,77,0,0,20739,456715,0,0,0,0,0,0,20739,456715,0,0,{"v":22.022,"d":"22"},0,0,0,{"v":22.022,"d":"22"},0,""]
["420527","91420527060693507X","秭归县水田坝乡吉顺客运有限公司",1,7,1,7,0,0,986,39461,0,0,0,0,0,0,986,39461,0,0,{"v":40.0213,"d":"40"},0,0,0,{"v":40.0213,"d":"40"},0,""]
["420527","914205270606762565","秭归县路通客运服务有限公司",7,51,7,51,0,0,4124,206200,0,0,0,0,0,0,4124,206200,0,0,50,0,0,0,50,0,""]
["420527","914205270684171528","秭归县九通客运有限公司",2,16,2,16,0,0,1670,62830,0,0,0,0,0,0,1670,62830,0,0,{"v":37.6228,"d":"38"},0,0,0,{"v":37.6228,"d":"38"},0,""]
["420527","91420527MA487CDH4R","秭归县志尚客运有限公司",5,35,5,35,0,0,3283,137833,0,0,0,0,0,0,3283,137833,0,0,{"v":41.9839,"d":"42"},0,0,0,{"v":41.9839,"d":"42"},0,""]
["420528","914205287417723902","长阳畅通客运有限公司",59,1241,59,1241,0,0,16680,1601707,0,0,49,13524,8238,790848,8393,797335,0,0,{"v":96.0256,"d":"96"},0,276,96,95,0,""]
["420528","914205287417510128","长阳利民客运有限责任公司",57,1038,57,1038,0,0,4213,271325,0,0,0,0,428,18310,3785,253015,0,0,{"v":64.4019,"d":"64"},0,0,{"v":42.7804,"d":"43"},{"v":66.8468,"d":"67"},0,""]
["420529","91420529744620691F","五峰纵横运输经营部",8,87,8,87,0,0,13724,441913,0,0,0,0,0,0,13724,441913,0,0,{"v":32.2,"d":"32"},0,0,0,{"v":32.2,"d":"32"},0,""]
["420529","91420529667665828P","五峰三农客运有限公司",37,581,37,581,0,0,30007,3066715,0,0,0,0,0,0,30007,3066715,0,0,{"v":102.2,"d":"102"},0,0,0,{"v":102.2,"d":"102"},0,""]
["420582","914205827371340708","当阳市金轮运输有限责任公司",41,742,41,742,0,0,74493,3792438,0,0,0,0,0,0,74493,3792438,0,0,{"v":50.91,"d":"51"},0,0,0,{"v":50.91,"d":"51"},0,""]
["420582","91420582682667944E","当阳市金埠汽车运输有限公司",13,304,13,304,0,0,11627,836849,0,0,0,0,4679,538085,6948,298764,0,0,{"v":71.9746,"d":"72"},0,0,115,43,0,""]
["420583","91420583760697808H","枝江畅通汽车客运有限责任公司",23,393,23,393,0,0,34261,2501053,0,0,0,0,34261,2501053,0,0,0,0,73,0,0,73,0,0,""]
["420583","91420583741767217T","枝江市双枝客运有限责任公司",16,219,16,219,0,0,30321,1697976,0,0,0,0,30321,1697976,0,0,0,0,56,0,0,56,0,0,""]
["420583","91420583682684111W","枝江市洲通客运有限公司",8,119,8,119,0,0,9037,243999,0,0,0,0,0,0,9037,243999,0,0,27,0,0,0,27,0,""]
["420602","914206007371122500","襄阳运鑫实业有限公司",26,827,26,827,0,0,22808,2068344,0,0,7956,1033125,14852,1035219,0,0,0,0,{"v":90.685,"d":"91"},0,{"v":129.8548,"d":"130"},{"v":69.7023,"d":"70"},0,0,""]
["420602","914206001793158109","湖北神州运业集团有限公司",118,3425,97,2453,21,972,40596,5644235,157,62486,15103,3428471,25212,2117814,0,0,124,35464,{"v":139.0343,"d":"139"},398,{"v":227.006,"d":"227"},{"v":84.0002,"d":"84"},0,286,""]
["420607","91420607773907261R","襄阳运通运输有限公司",13,366,13,366,0,0,5864,158907,0,0,0,0,0,0,5864,158907,0,0,{"v":27.0987,"d":"27"},0,0,0,{"v":27.0987,"d":"27"},0,""]
["420607","914206077674326509","湖北襄阳安达运输有限责任公司",30,1162,30,1162,0,0,36116,5432953,2998,3356400,0,0,33118,2076553,0,0,0,0,{"v":150.4306,"d":"150"},{"v":1119.5464,"d":"1120"},0,{"v":62.7016,"d":"63"},0,0,""]
["420624","91420600737149600B","湖北神州运业集团南漳水镜运输有限公司",119,3508,113,3293,6,215,220894,8972324,0,0,1524,367236,28261,1243516,188185,7151044,2924,210528,{"v":40.6182,"d":"41"},0,{"v":240.9685,"d":"241"},{"v":44.0011,"d":"44"},{"v":38.0001,"d":"38"},72,""]
["420626","9142062617981154XT","保康县楚通客运有限公司",38,1147,33,969,5,178,52948,4505602,953,109607,5821,989070,24012,2201104,21992,1164516,170,41305,{"v":85.0948,"d":"85"},{"v":115.0126,"d":"115"},{"v":169.9141,"d":"170"},{"v":91.6668,"d":"92"},{"v":52.9518,"d":"53"},{"v":242.9706,"d":"243"},""]
["420626","91420626747662221B","保康县神通客运有限公司",26,642,26,642,0,0,26700,1735500,0,0,0,0,0,0,26700,1735500,0,0,65,0,0,0,65,0,""]
["420683","760695431","枣阳市安达运业有限公司",14,340,14,340,0,0,7842,397114,0,0,0,0,0,0,7842,397114,0,0,{"v":50.6394,"d":"51"},0,0,0,{"v":50.6394,"d":"51"},0,""]
["420683","76066968X","枣阳市宏达客运有限公司",16,367,16,367,0,0,6632,146445,0,0,0,0,0,0,6632,146445,0,0,{"v":22.0816,"d":"22"},0,0,0,{"v":22.0816,"d":"22"},0,""]
["420683","91420683737915141X","枣阳金利客运有限责任公司",27,946,27,946,0,0,58618,3182448,1890,399656,5617,1212179,4481,511868,46630,1058745,0,0,{"v":54.2913,"d":"54"},{"v":211.4582,"d":"211"},{"v":215.8054,"d":"216"},{"v":114.2308,"d":"114"},{"v":22.7052,"d":"23"},0,""]
["420683","91420683753442137F","枣阳市益成运输有限公司",7,184,7,184,0,0,5451,158721,0,0,0,0,0,0,5451,158721,0,0,{"v":29.1178,"d":"29"},0,0,0,{"v":29.1178,"d":"29"},0,""]
["420683","91420683326110912W","枣阳市凯杰运输有限公司",11,219,11,219,0,0,25267,960146,0,0,0,0,0,0,25267,960146,0,0,38,0,0,0,38,0,""]
["420683","91420683MA48BG590U","枣阳恒盛达运业有限公司",14,358,14,358,0,0,4296,177301,0,0,0,0,0,0,4296,177301,0,0,{"v":41.2712,"d":"41"},0,0,0,{"v":41.2712,"d":"41"},0,""]
["420683","91420683055404029B","枣阳市鑫俊运输有限公司",25,1004,0,0,25,1004,15121,2945781,0,0,0,0,0,0,0,0,15121,2945781,{"v":194.8139,"d":"195"},0,0,0,0,{"v":194.8139,"d":"195"},""]
["420683","91420683751032716X","枣阳市宏兴运输有限公司",98,3608,62,2037,36,1571,56672,3391873,3784,401772,42431,2526041,8426,241144,0,0,2031,222916,{"v":59.8509,"d":"60"},{"v":106.1765,"d":"106"},{"v":59.5329,"d":"60"},{"v":28.619,"d":"29"},0,{"v":109.7568,"d":"110"},""]
["420683","91420683050009951k","枣阳市绿景客运有限公司",12,243,12,243,0,0,3123,87581,0,0,0,0,0,0,3123,87581,0,0,{"v":28.0439,"d":"28"},0,0,0,{"v":28.0439,"d":"28"},0,""]
["420684","91420684732707589J","宜城市顺达汽车运输有限公司",83,2103,81,2007,2,96,88297,4146483,0,0,4148,886044,33830,1603075,43354,770459,6965,886905,{"v":46.9606,"d":"47"},0,{"v":213.6075,"d":"214"},{"v":47.3862,"d":"47"},{"v":17.7713,"d":"18"},{"v":127.3374,"d":"127"},""]
["420700","914207007674431737","鄂州市华铭旅游客运有限公司",46,2095,0,0,46,2095,40624,2234320,0,0,0,0,0,0,0,0,40624,2234320,55,0,0,0,0,55,""]
["420700","91420700714682592W","鄂州市华联客运有限公司",14,427,12,360,2,67,58697,1018311,0,0,0,0,50892,1006255,0,0,7805,12056,{"v":17.3486,"d":"17"},0,0,{"v":19.7724,"d":"20"},0,{"v":1.5447,"d":"2"},""]
["420700","91420700739131981P","鄂州市大兴联运有限责任公司",3,57,3,57,0,0,3252,128584,0,0,0,0,0,0,3252,128584,0,0,{"v":39.54,"d":"40"},0,0,0,{"v":39.54,"d":"40"},0,""]
["420700","9142070078815141XE","鄂州市英发客运有限公司",14,297,14,297,0,0,15300,158000,0,0,0,0,0,0,15300,158000,0,0,{"v":10.3268,"d":"10"},0,0,0,{"v":10.3268,"d":"10"},0,""]
["420700","914207007606760549","鄂州市顺安旅游客运有限公司",57,1723,37,900,20,823,115327,4703867,0,0,0,0,43646,1183041,23595,287359,48086,3233467,{"v":40.7872,"d":"41"},0,0,{"v":27.1054,"d":"27"},{"v":12.1788,"d":"12"},{"v":67.2434,"d":"67"},""]
["420702","91420700757014412J","鄂州市强盛旅游客运有限公司",11,209,11,209,0,0,32774,750606,0,0,0,0,29651,687953,3123,62653,0,0,{"v":22.9025,"d":"23"},0,0,{"v":23.2017,"d":"23"},{"v":20.0618,"d":"20"},0,""]
["420704","9142070058248354XQ","鄂州市傲龙客运有限责任公司",0,0,0,0,0,0,0,0,0,0,0,0,0,0,0,0,0,0,0,0,0,0,0,0,""]
["420704","91420700691767891L","鄂州市银顺运输有限责任公司",1,9,1,9,0,0,518,3626,0,0,0,0,0,0,518,3626,0,0,7,0,0,0,7,0,""]
["420800","91420800726134462J","荆门市富鑫运输服务有限公司",74,1327,74,1327,0,0,13337,682855,0,0,4826,337820,4715,212175,3796,132860,0,0,{"v":51.2,"d":"51"},0,70,45,35,0,""]
["420602","91420600573705454x","襄阳恒达运业有限公司",0,0,0,0,0,0,0,0,0,0,0,0,0,0,0,0,0,0,0,0,0,0,0,0,""]
["420800","91420800798782194D","湖北荆门华凯旅游运输有限公司",7,293,0,0,7,293,1200,397912,0,0,0,0,0,0,0,0,1200,397912,{"v":331.5933,"d":"332"},0,0,0,0,{"v":331.5933,"d":"332"},""]
["420802","9142080088022997X5","荆门市东通汽车运输有限公司",18,234,18,234,0,0,9269,232212,0,0,0,0,7323,203785,1946,28427,0,0,{"v":25.0525,"d":"25"},0,0,{"v":27.8281,"d":"28"},{"v":14.6079,"d":"15"},0,""]
["420802","9142080076410212X7","荆门市金马客运有限公司",25,971,13,521,12,450,6854,836586,0,0,0,0,0,0,4969,124225,1885,712361,{"v":122.0581,"d":"122"},0,0,0,25,{"v":377.9103,"d":"378"},""]
["420802","91420800706927094K","荆门市仙居客运有限责任公司",14,382,14,382,0,0,7875,226916,0,0,0,0,0,0,7875,226916,0,0,{"v":28.8147,"d":"29"},0,0,0,{"v":28.8147,"d":"29"},0,""]
["420821","91420821722016311M","京山市福刚公共汽车有限责任公司",78,1602,78,1602,0,0,49758,1741530,0,0,0,0,0,0,49758,1741530,0,0,35,0,0,0,35,0,""]
["420821","91420821760655640R","京山京杨客运有限责任公司",16,304,16,304,0,0,14300,643500,0,0,0,0,0,0,14300,643500,0,0,45,0,0,0,45,0,""]
["420821","91420821757007984W","京山京顺汽车运输有限公司",70,1318,70,1318,0,0,66769,3339786,0,0,0,0,0,0,66769,3339786,0,0,{"v":50.02,"d":"50"},0,0,0,{"v":50.02,"d":"50"},0,""]
["420821","914208217606651794","京山春风汽运有限公司",57,1399,57,1399,0,0,16180,2219545,624,386880,12196,1756225,560,25200,2800,51240,0,0,{"v":137.1783,"d":"137"},620,{"v":144.0001,"d":"144"},45,{"v":18.3,"d":"18"},0,""]
["420822","784494343","荆门市建平运输有限公司",34,476,23,377,11,99,5032,210668,0,0,4018,150611,0,0,0,0,1014,60057,{"v":41.8657,"d":"42"},0,{"v":37.4841,"d":"37"},0,0,{"v":59.2278,"d":"59"},""]
["420881","91420881691792763L","钟祥市恒通运业有限公司",15,278,15,278,0,0,17224,428147,0,0,17224,428147,0,0,0,0,0,0,{"v":24.8576,"d":"25"},0,{"v":24.8576,"d":"25"},0,0,0,""]
["420881","91420881182071028T","钟祥市同安汽车运输有限责任公司",10,190,10,190,0,0,3601,64818,0,0,0,0,0,0,3601,64818,0,0,18,0,0,0,18,0,""]
["420881","9142088169511234XP","钟祥市圣达运业有限公司",13,344,13,344,0,0,3040,74121,0,0,1688,43695,1352,30426,0,0,0,0,{"v":24.3819,"d":"24"},0,{"v":25.8857,"d":"26"},{"v":22.5044,"d":"23"},0,0,""]
["420881","91420881182082675P","钟祥市客店汽车运输有限责任公司",0,0,0,0,0,0,0,0,0,0,0,0,0,0,0,0,0,0,0,0,0,0,0,0,""]
["420881","914208816917617131","湖北省钟祥市安达客运有限公司",4,120,4,120,0,0,3088,157488,0,0,3088,157488,0,0,0,0,0,0,51,0,51,0,0,0,""]
["420901","91420900MA48YKYQ0A","孝感市捷达旅游客运有限责任公司",29,1249,0,0,29,1249,18356,2970158,0,0,0,0,0,0,0,0,18356,2970158,{"v":161.8086,"d":"162"},0,0,0,0,{"v":161.8086,"d":"162"},""]
["420901","91420900MA494DE17B","湖北仙旅旅游客运有限公司",20,928,0,0,20,928,31235,4357907,0,0,0,0,0,0,0,0,31235,4357907,{"v":139.52,"d":"140"},0,0,0,0,{"v":139.52,"d":"140"},""]
["420901","91420900773944310T","孝感汽车客运集团有限公司安吉旅游分公司",34,1627,0,0,34,1627,19500,256180,0,0,0,0,0,0,0,0,19500,256180,{"v":13.1374,"d":"13"},0,0,0,0,{"v":13.1374,"d":"13"},""]
["420902","91420902180861341G","孝感市孝南区肖港汽车运输公司",2,38,2,38,0,0,2855,93077,0,0,0,0,0,0,2855,93077,0,0,{"v":32.6014,"d":"33"},0,0,0,{"v":32.6014,"d":"33"},0,""]
["420921","91420902068416782K","孝感源通运输有限公司",2,38,2,38,0,0,615,17133,0,0,0,0,0,0,615,17133,0,0,{"v":27.8585,"d":"28"},0,0,0,{"v":27.8585,"d":"28"},0,""]
["420921","91420921MA48YTR75U","孝昌县大路客运有限公司",1,19,1,19,0,0,1203,43977,0,0,0,0,1203,43977,0,0,0,0,{"v":36.5561,"d":"37"},0,0,{"v":36.5561,"d":"37"},0,0,""]
["420921","914209211808666605","孝昌县周巷镇汽车客运公司",29,697,29,697,0,0,10764,356290,0,0,0,0,5121,226208,5643,130082,0,0,{"v":33.1001,"d":"33"},0,0,{"v":44.1726,"d":"44"},{"v":23.0519,"d":"23"},0,""]
["420921","91420921MA494QUM6K","孝昌县祥和汽车运输有限公司",1,28,1,28,0,0,424,11309,0,0,0,0,424,11309,0,0,0,0,{"v":26.6722,"d":"27"},0,0,{"v":26.6722,"d":"27"},0,0,""]
["420921","91420921773904511P","孝昌县白沙平强汽车客运联营有限公司",17,332,17,332,0,0,8247,336955,0,0,0,0,0,0,8247,336955,0,0,{"v":40.8579,"d":"41"},0,0,0,{"v":40.8579,"d":"41"},0,""]
["420922","91420922793250703J","大悟鑫源客运旅游有限责任公司",25,1114,0,0,25,1114,8329,2714166,0,0,0,0,0,0,0,0,8329,2714166,{"v":325.8694,"d":"326"},0,0,0,0,{"v":325.8694,"d":"326"},""]
["420922","914209227707531998","大悟县广大客运有限责任公司",19,201,19,201,0,0,10162,152430,0,0,10162,152430,0,0,0,0,0,0,15,0,15,0,0,0,""]
["420981","91420981MA48ADAF8C","应城市风顺客运有限公司",1,19,1,19,0,0,276,3987,0,0,0,0,0,0,276,3987,0,0,{"v":14.4457,"d":"14"},0,0,0,{"v":14.4457,"d":"14"},0,""]
["420981","91420981MA487RD142","应城市鑫安运输有限公司",7,133,7,133,0,0,4387,83342,0,0,0,0,0,0,4387,83342,0,0,{"v":18.9975,"d":"19"},0,0,0,{"v":18.9975,"d":"19"},0,""]
["420981","91420981MA48A5JM0D","应城三合客运有限公司",7,133,7,133,0,0,4256,79590,0,0,0,0,0,0,4256,79590,0,0,{"v":18.7007,"d":"19"},0,0,0,{"v":18.7007,"d":"19"},0,""]
["420981","91420981MA48A87J8A","应城两河客运有限公司",4,70,4,70,0,0,3340,66251,0,0,0,0,0,0,3340,66251,0,0,{"v":19.8356,"d":"20"},0,0,0,{"v":19.8356,"d":"20"},0,""]
["420981","914230981MA487XNH5","应城市顺安客运有限公司",11,207,11,207,0,0,2457,33648,0,0,0,0,0,0,2457,33648,0,0,{"v":13.6947,"d":"14"},0,0,0,{"v":13.6947,"d":"14"},0,""]
["420981","91420981MA4887JN3N","应城市安通农村客运有限责任公司",12,224,12,224,0,0,20668,422552,0,0,0,0,0,0,20668,422552,0,0,{"v":20.4447,"d":"20"},0,0,0,{"v":20.4447,"d":"20"},0,""]
["420981","91420981MA4884PA7D","应城市杨河客运有限公司",12,228,12,228,0,0,29968,539424,0,0,0,0,0,0,29968,539424,0,0,18,0,0,0,18,0,""]
["420981","91420981MA487YU89C","应城市义安农村客运有限公司",22,416,22,416,0,0,5527,151706,0,0,0,0,0,0,5527,151706,0,0,{"v":27.4482,"d":"27"},0,0,0,{"v":27.4482,"d":"27"},0,""]
["420981","91420981MA487TWL42","应城市睿安客运有限公司",34,646,34,646,0,0,49538,1119559,0,0,0,0,0,0,49538,1119559,0,0,{"v":22.6,"d":"23"},0,0,0,{"v":22.6,"d":"23"},0,""]
["420981","91420981MA489N7U3H","应城市汤应客运有限公司",15,285,15,285,0,0,9943,211069,0,0,0,0,0,0,9943,211069,0,0,{"v":21.2279,"d":"21"},0,0,0,{"v":21.2279,"d":"21"},0,""]
["420981","91420981MA487KQXXF","应城市南天客运有限责任公司",0,0,0,0,0,0,0,0,0,0,0,0,0,0,0,0,0,0,0,0,0,0,0,0,""]
["420981","91420981MA48A65N22","应城市人安农村客运有限公司",3,55,3,55,0,0,1782,32076,0,0,0,0,0,0,1782,32076,0,0,18,0,0,0,18,0,""]
["420981","91420981MA48A5JQ3R","应城市好前途运输有限公司",0,0,0,0,0,0,0,0,0,0,0,0,0,0,0,0,0,0,0,0,0,0,0,0,""]
["420981","91420981MA487XT04P","应城市北田客运有限公司",12,228,12,228,0,0,3912,82152,0,0,0,0,0,0,3912,82152,0,0,21,0,0,0,21,0,""]
["420982","91420982737146098X","安陆市涢安汽车运输有限公司",28,722,28,722,0,0,19351,563740,0,0,9073,382699,5916,118970,4362,62071,0,0,{"v":29.1323,"d":"29"},0,{"v":42.18,"d":"42"},{"v":20.1099,"d":"20"},{"v":14.2299,"d":"14"},0,""]
["420984","91420984722058116L","湖北省国营中洲垸农场汽车队",10,247,10,247,0,0,3412,99394,0,0,0,0,0,0,3412,99394,0,0,{"v":29.1307,"d":"29"},0,0,0,{"v":29.1307,"d":"29"},0,""]
["420984","91420984MA4870BT7G","汉川安通交运集团公路客运有限公司",36,684,36,684,0,0,9081,168689,0,0,0,0,0,0,9081,168689,0,0,{"v":18.576,"d":"19"},0,0,0,{"v":18.576,"d":"19"},0,""]
["420984","91420984585459473C","湖北金发达运输有限公司",41,797,41,797,0,0,11422,189757,0,0,0,0,0,0,11422,189757,0,0,{"v":16.6133,"d":"17"},0,0,0,{"v":16.6133,"d":"17"},0,""]
["420984","914209843261026486","汉川市里潭宏达客运有限责任公司",9,171,9,171,0,0,2999,52399,0,0,0,0,0,0,2999,52399,0,0,{"v":17.4722,"d":"17"},0,0,0,{"v":17.4722,"d":"17"},0,""]
["420984","914209843260827399","汉川市振腾客运服务有限公司",6,114,6,114,0,0,3007,51254,0,0,0,0,0,0,3007,51254,0,0,{"v":17.0449,"d":"17"},0,0,0,{"v":17.0449,"d":"17"},0,""]
["420984","91420984068413696E","汉川市一六鑫客运有限公司",16,304,16,304,0,0,8708,172759,0,0,0,0,0,0,8708,172759,0,0,{"v":19.8391,"d":"20"},0,0,0,{"v":19.8391,"d":"20"},0,""]
["420984","914209843260829156","汉川市瑞达客运服务有限公司",1,26,1,26,0,0,527,11051,0,0,0,0,0,0,527,11051,0,0,{"v":20.9696,"d":"21"},0,0,0,{"v":20.9696,"d":"21"},0,""]
["420984","91420984326071482Q","汉川昌盛客运有限公司",5,95,5,95,0,0,2147,32542,0,0,0,0,0,0,2147,32542,0,0,{"v":15.157,"d":"15"},0,0,0,{"v":15.157,"d":"15"},0,""]
["420984","91420984790598042K","汉川市兴发客运有限公司",8,175,8,175,0,0,4606,73858,0,0,0,0,0,0,4606,73858,0,0,{"v":16.0352,"d":"16"},0,0,0,{"v":16.0352,"d":"16"},0,""]
["421000","91421000MA487Y379N","荆州市东盛实创旅游运输有限公司",48,2244,0,0,48,2244,2677,1070800,0,0,0,0,0,0,0,0,2677,1070800,400,0,0,0,0,400,""]
["421000","9142100073791275X8","荆州市顺捷运输有限公司",42,1428,42,1428,0,0,149269,12668837,0,0,76236,7389966,61604,5057938,11429,220933,0,0,{"v":84.8725,"d":"85"},0,{"v":96.9354,"d":"97"},{"v":82.1041,"d":"82"},{"v":19.3309,"d":"19"},0,""]
["421022","91421000706806153U","湖北通运运输股份有限公司",125,3303,101,2271,24,1032,41336,2110000,186,139500,1860,372000,18900,850500,18500,370000,1890,378000,{"v":51.0451,"d":"51"},750,200,45,20,200,""]
["421022","91421022271755595C","公安县宏泰汽车运输有限公司",155,3098,155,3098,0,0,175505,9469664,18152,3118375,12275,1901567,35331,1219499,109747,3230223,0,0,{"v":53.9567,"d":"54"},{"v":171.7924,"d":"172"},{"v":154.9138,"d":"155"},{"v":34.5164,"d":"35"},{"v":29.4334,"d":"29"},0,""]
["421023","91421023739119050B","监利永通客运有限公司",9,377,9,377,0,0,7177,1175783,4142,844968,3035,330815,0,0,0,0,0,0,{"v":163.8265,"d":"164"},204,109,0,0,0,""]
["421023","914210230500224867","监利恒发汽车运输有限公司",1,19,1,19,0,0,1098,30744,0,0,0,0,0,0,1098,30744,0,0,28,0,0,0,28,0,""]
["421023","91421023316429874J","监利安捷运输有限公司",0,0,0,0,0,0,0,0,0,0,0,0,0,0,0,0,0,0,0,0,0,0,0,0,""]
["421023","91421023780929178T","监利县惠民通村客运有限公司",11,197,11,197,0,0,4012,112336,0,0,0,0,0,0,4012,112336,0,0,28,0,0,0,28,0,""]
["421023","91421023182012466B","监利市尺八运输公司",139,2918,139,2918,0,0,124664,6309087,0,0,0,0,4015,517935,120649,5791152,0,0,{"v":50.6087,"d":"51"},0,0,129,48,0,""]
["421023","914210236980454378","监利县宏图客运有限公司",2,38,2,38,0,0,2280,38760,0,0,0,0,0,0,2280,38760,0,0,17,0,0,0,17,0,""]
["421023","91421023757038975D","监利县天发中巴客运代理服务有限公司",70,1251,70,1251,0,0,63869,2682498,0,0,0,0,0,0,63869,2682498,0,0,42,0,0,0,42,0,""]
["421023","9142102318202386X8","湖北省国营人民大垸农场汽车运输公司",75,1738,75,1738,0,0,81000,5950800,0,0,0,0,14040,1263600,66960,4687200,0,0,{"v":73.4667,"d":"73"},0,0,90,70,0,""]
["421024","91421024739118146R","江陵永通客运有限公司",24,829,24,829,0,0,18812,1599291,1286,900542,1390,285540,8681,225640,7455,187569,0,0,{"v":85.0144,"d":"85"},{"v":700.2659,"d":"700"},{"v":205.4245,"d":"205"},{"v":25.9924,"d":"26"},{"v":25.1602,"d":"25"},0,""]
["421024","91421024706971837B","江陵县资福寺客运有限责任公司",14,397,14,397,0,0,37100,630700,0,0,0,0,37100,630700,0,0,0,0,17,0,0,17,0,0,""]
["421024","91421024706980864M","江陵县马家寨兴达客运有限责任公司",15,435,15,435,0,0,8260,223600,0,0,0,0,8260,223600,0,0,0,0,{"v":27.0702,"d":"27"},0,0,{"v":27.0702,"d":"27"},0,0,""]
["421024","91421024767424845T","江陵县万通客运有限公司",2,74,2,74,0,0,2586,56192,0,0,0,0,958,15188,1628,41004,0,0,{"v":21.7293,"d":"22"},0,0,{"v":15.8539,"d":"16"},{"v":25.1867,"d":"25"},0,""]
["421024","914210247641018132","江陵友联客运有限公司",12,369,12,369,0,0,23582,585066,0,0,5353,256944,18229,328122,0,0,0,0,{"v":24.8099,"d":"25"},0,48,18,0,0,""]
["421081","91421081730872329B","荆州神通集团石首市捷达汽车运输有限公司",167,2310,167,2310,0,0,13683,1298746,2316,473833,4527,533381,3512,213742,3328,77790,0,0,{"v":94.9168,"d":"95"},{"v":204.5911,"d":"205"},{"v":117.8222,"d":"118"},{"v":60.8605,"d":"61"},{"v":23.3744,"d":"23"},0,""]
["421081","91421081788199456N","石首市东兴客运有限责任公司",34,646,34,646,0,0,57125,2015357,0,0,0,0,0,0,57125,2015357,0,0,{"v":35.2798,"d":"35"},0,0,0,{"v":35.2798,"d":"35"},0,""]
["421081","914210811817303512","石首市调关汽车客运有限责任公司",20,498,20,498,0,0,34116,1194060,0,0,0,0,0,0,34116,1194060,0,0,35,0,0,0,35,0,""]
["421083","91421083780928132R","洪湖市天虎运业有限公司",0,0,0,0,0,0,0,0,0,0,0,0,0,0,0,0,0,0,0,0,0,0,0,0,""]
["421083","91421083747660568N","洪湖市黄家口公路客运有限公司",6,114,6,114,0,0,9207,303229,0,0,0,0,0,0,9207,303229,0,0,{"v":32.9346,"d":"33"},0,0,0,{"v":32.9346,"d":"33"},0,""]
["421083","91421083784476516Y","洪湖市神驰客运有限公司",13,221,13,221,0,0,18568,434491,0,0,0,0,0,0,18568,434491,0,0,{"v":23.4,"d":"23"},0,0,0,{"v":23.4,"d":"23"},0,""]
["421083","91421083770780154F","洪湖市鹏程客运有限公司",23,476,23,476,0,0,22985,1314742,0,0,0,0,0,0,22985,1314742,0,0,{"v":57.2,"d":"57"},0,0,0,{"v":57.2,"d":"57"},0,""]
["421087","91421087691798217l","松滋市楚龙运输有限公司",0,0,0,0,0,0,0,0,0,0,0,0,0,0,0,0,0,0,0,0,0,0,0,0,""]
["421087","91421087MA488MNH0Q","湖北宜昌交运松滋有限公司",34,1040,34,1040,0,0,1904,261280,134,53600,1652,198240,118,9440,0,0,0,0,{"v":137.2269,"d":"137"},400,120,80,0,0,""]
["421102","91421100343468609M","黄冈市圣运旅游客运有限公司",21,863,0,0,21,863,18671,1605792,0,0,0,0,0,0,0,0,18671,1605792,{"v":86.0046,"d":"86"},0,0,0,0,{"v":86.0046,"d":"86"},""]
["421102","914211027641372859","黄冈市温馨旅游客运有限公司",15,649,0,0,15,649,7510,504420,0,0,0,0,0,0,0,0,7510,504420,{"v":67.1664,"d":"67"},0,0,0,0,{"v":67.1664,"d":"67"},""]
["421102","91421100739149305Q","黄冈市光大客运有限公司",10,289,10,289,0,0,12123,535527,0,0,0,0,0,0,12123,535527,0,0,{"v":44.1745,"d":"44"},0,0,0,{"v":44.1745,"d":"44"},0,""]
["421102","91421100732719395Y","黄冈市东方运输集团有限公司",43,1140,43,1140,0,0,5470,549140,30,32560,2020,226980,3420,289600,0,0,0,0,{"v":100.3912,"d":"100"},{"v":1085.3333,"d":"1085"},{"v":112.3663,"d":"112"},{"v":84.6784,"d":"85"},0,0,""]
["421102","9142110079594416X2","黄冈市东方运输集团旅游运输有限公司",16,734,0,0,16,734,11211,773062,0,0,0,0,0,0,0,0,11211,773062,{"v":68.9557,"d":"69"},0,0,0,0,{"v":68.9557,"d":"69"},""]
["421102","91421100582470108W","黄冈市东方运输集团华东客运有限公司",4,91,4,91,0,0,3897,159258,0,0,0,0,0,0,3897,159258,0,0,{"v":40.8668,"d":"41"},0,0,0,{"v":40.8668,"d":"41"},0,""]
["421121","91421121582480234E","黄冈市东方运输集团华东客运有限公司团风分公司",16,374,16,374,0,0,24697,348145,0,0,0,0,24697,348145,0,0,0,0,{"v":14.0967,"d":"14"},0,0,{"v":14.0967,"d":"14"},0,0,""]
["421121","91421121741770432U","黄冈市光大客运有限公司团风分公司",14,396,14,396,0,0,20825,927819,0,0,0,0,20825,927819,0,0,0,0,{"v":44.5531,"d":"45"},0,0,{"v":44.5531,"d":"45"},0,0,""]
["421121","914211217417501593","团风县山河运输有限公司",10,240,10,240,0,0,26801,1123753,0,0,0,0,26801,1123753,0,0,0,0,{"v":41.9295,"d":"42"},0,0,{"v":41.9295,"d":"42"},0,0,""]
["421121","91421121793294044J","黄冈市东方运输集团团风长安有限公司",22,731,22,731,0,0,32800,1928639,0,0,32800,1928639,0,0,0,0,0,0,{"v":58.8,"d":"59"},0,{"v":58.8,"d":"59"},0,0,0,""]
["421122","914211227327385459","红安县通达客运有限公司",32,754,32,754,0,0,26523,2394625,34,3842,19056,1962768,3558,284640,3875,143375,0,0,{"v":90.2848,"d":"90"},113,103,80,37,0,""]
["421122","9142112274769352XA","红安县天台山旅游客运有限责任公司",1,19,1,19,0,0,188,12784,0,0,0,0,188,12784,0,0,0,0,68,0,0,68,0,0,""]
["421123","91421123565492305M","罗田县兴安客运运输有限责任公司",12,153,12,153,0,0,15430,212110,0,0,0,0,0,0,15430,212110,0,0,{"v":13.7466,"d":"14"},0,0,0,{"v":13.7466,"d":"14"},0,""]
["421123","9142112318056294X9","罗田交投汽车运输有限公司",5,60,5,60,0,0,2910,208690,0,0,0,0,0,0,2910,208690,0,0,{"v":71.7148,"d":"72"},0,0,0,{"v":71.7148,"d":"72"},0,""]
["421123","914211237534099868","罗田县胜利开源汽车运输有限公司",13,133,13,133,0,0,17123,475760,0,0,0,0,0,0,17123,475760,0,0,{"v":27.7849,"d":"28"},0,0,0,{"v":27.7849,"d":"28"},0,""]
["421123","91421123770768833L","罗田县顺达客运旅游有限责任公司",10,164,10,164,0,0,8780,237975,0,0,0,0,5768,156139,3012,81836,0,0,{"v":27.1042,"d":"27"},0,0,{"v":27.0699,"d":"27"},{"v":27.17,"d":"27"},0,""]
["421123","9142112372832565X4","罗田县运通物资发展有限责任公司",7,110,7,110,0,0,37453,1223530,0,0,0,0,0,0,37453,1223530,0,0,{"v":32.6684,"d":"33"},0,0,0,{"v":32.6684,"d":"33"},0,""]
["421123","91421123MA4878CD41","罗田县兴昌运输有限责任公司",14,120,14,120,0,0,33410,484532,0,0,0,0,0,0,33410,484532,0,0,{"v":14.5026,"d":"15"},0,0,0,{"v":14.5026,"d":"15"},0,""]
["421123","91421123679770879M","罗田县富通客运有限公司",2,14,2,14,0,0,2102,63210,0,0,0,0,0,0,2102,63210,0,0,{"v":30.0714,"d":"30"},0,0,0,{"v":30.0714,"d":"30"},0,""]
["421123","91421123732739150R","罗田县金塔实业有限责任公司",25,854,25,854,0,0,42510,904210,0,0,0,0,0,0,42510,904210,0,0,{"v":21.2705,"d":"21"},0,0,0,{"v":21.2705,"d":"21"},0,""]
["421123","9142112375700154X9","罗田县旺达汽车运输有限公司",5,65,5,65,0,0,15442,224520,0,0,0,0,0,0,15442,224520,0,0,{"v":14.5396,"d":"15"},0,0,0,{"v":14.5396,"d":"15"},0,""]
["421123","91421123735200388E","黄冈市东方运输集团罗田连通有限公司",53,1764,53,1764,0,0,36963,3902607,1594,514257,23228,2883801,12141,504549,0,0,0,0,{"v":105.5814,"d":"106"},{"v":322.6205,"d":"323"},{"v":124.1519,"d":"124"},{"v":41.5574,"d":"42"},0,0,""]
["421124","91421124798756527W","黄冈市东方运输集团旅游运输有限公司英山分公司",3,142,0,0,3,142,431,180780,0,0,0,0,0,0,0,0,431,180780,{"v":419.4432,"d":"419"},0,0,0,0,{"v":419.4432,"d":"419"},""]
["421124","91421124MA494GWQ4T","英山县安楚客运有限公司",2,28,2,28,0,0,687,8118,0,0,0,0,0,0,687,8118,0,0,{"v":11.8166,"d":"12"},0,0,0,{"v":11.8166,"d":"12"},0,""]
["421124","91421124MA4893RHX6","英山县金孔城乡客运有限公司",23,357,23,357,0,0,4239,58432,0,0,0,0,0,0,4239,58432,0,0,{"v":13.7844,"d":"14"},0,0,0,{"v":13.7844,"d":"14"},0,""]
["421124","91421124MA492E2A61","英山县顺际客运有限公司",8,147,8,147,0,0,7257,212652,0,0,0,0,0,0,7257,212652,0,0,{"v":29.303,"d":"29"},0,0,0,{"v":29.303,"d":"29"},0,""]
["421124","91421124793294220T","英山县兴和客运有限公司",9,151,9,151,0,0,9935,319275,0,0,0,0,0,0,9935,319275,0,0,{"v":32.1364,"d":"32"},0,0,0,{"v":32.1364,"d":"32"},0,""]
["421124","914211243097454069","英山县全顺城乡客运有限公司",8,112,8,112,0,0,4973,215028,0,0,0,0,0,0,4973,215028,0,0,{"v":43.2391,"d":"43"},0,0,0,{"v":43.2391,"d":"43"},0,""]
["421124","91421124767406225T","英山南河富民客运有限公司",3,42,3,42,0,0,1382,7524,0,0,0,0,0,0,1382,7524,0,0,{"v":5.4443,"d":"5"},0,0,0,{"v":5.4443,"d":"5"},0,""]
["421125","914211253434370959","浠水县为民汽车运输有限公司",10,90,10,90,0,0,1670,18290,0,0,0,0,0,0,1670,18290,0,0,{"v":10.9521,"d":"11"},0,0,0,{"v":10.9521,"d":"11"},0,""]
["421125","91421125739136221J","浠水县汽总运输有限责任公司",12,186,12,186,0,0,5256,101370,0,0,0,0,0,0,5256,101370,0,0,{"v":19.2865,"d":"19"},0,0,0,{"v":19.2865,"d":"19"},0,""]
["421125","91421125060664984E","浠水县洪盛汽车客运有限公司",9,171,9,171,0,0,5102,127550,0,0,0,0,0,0,5102,127550,0,0,25,0,0,0,25,0,""]
["421125","9142112533184905XH","浠水县国雄农村客运有限公司",1,11,1,11,0,0,901,16653,0,0,0,0,0,0,901,16653,0,0,{"v":18.4828,"d":"18"},0,0,0,{"v":18.4828,"d":"18"},0,""]
["421125","914211257351931813","黄冈市东方运输集团浠水环通有限公司",71,2285,71,2285,0,0,38900,4193043,872,959233,18616,2457344,19412,776466,0,0,0,0,{"v":107.7903,"d":"108"},{"v":1100.0378,"d":"1100"},{"v":132.0017,"d":"132"},{"v":39.9993,"d":"40"},0,0,""]
["421126","91421126MA48WCQ04J","蕲春县蕲州运发客运有限公司",8,66,8,66,0,0,4766,104232,0,0,0,0,0,0,4766,104232,0,0,{"v":21.8699,"d":"22"},0,0,0,{"v":21.8699,"d":"22"},0,""]
["421126","91421126670350034E","蕲春县亨达汽车运输有限公司",2,38,2,38,0,0,4498,188996,0,0,0,0,0,0,4498,188996,0,0,{"v":42.0178,"d":"42"},0,0,0,{"v":42.0178,"d":"42"},0,""]
["421126","91421126673655343U","蕲春县惠农乡村客运有限公司",11,104,11,104,0,0,7268,202946,0,0,0,0,0,0,7268,202946,0,0,{"v":27.9232,"d":"28"},0,0,0,{"v":27.9232,"d":"28"},0,""]
["421126","914211265882451043","蕲春县横车汽车联运有限公司",20,302,20,302,0,0,21489,869602,0,0,0,0,0,0,21489,869602,0,0,{"v":40.4673,"d":"40"},0,0,0,{"v":40.4673,"d":"40"},0,""]
["421126","914211267570150792","蕲春县福兴运输有限公司",5,93,5,93,0,0,4298,137072,0,0,0,0,0,0,4298,137072,0,0,{"v":31.892,"d":"32"},0,0,0,{"v":31.892,"d":"32"},0,""]
["421126","91421126MA48A31D7A","蕲春县鸿通客运有限责任公司",8,186,8,186,0,0,9735,469252,0,0,0,0,0,0,9735,469252,0,0,{"v":48.2026,"d":"48"},0,0,0,{"v":48.2026,"d":"48"},0,""]
["421126","914211263318096219","蕲春县惠民村村通客运有限责任公司",82,657,82,657,0,0,57106,1900056,0,0,0,0,0,0,57106,1900056,0,0,{"v":33.2724,"d":"33"},0,0,0,{"v":33.2724,"d":"33"},0,""]
["421126","91421126MA48AQR33K","蕲春益民客运有限责任公司",9,75,9,75,0,0,5232,160628,0,0,0,0,0,0,5232,160628,0,0,{"v":30.7011,"d":"31"},0,0,0,{"v":30.7011,"d":"31"},0,""]
["421126","914211267570168721","蕲春县正通客运有限公司",5,95,5,95,0,0,4862,153028,0,0,0,0,0,0,4862,153028,0,0,{"v":31.4743,"d":"31"},0,0,0,{"v":31.4743,"d":"31"},0,""]
["421126","914211267446101941","蕲春县顺达汽车客运有限责任公司",26,750,26,750,0,0,40691,1339660,0,0,0,0,0,0,40691,1339660,0,0,{"v":32.9228,"d":"33"},0,0,0,{"v":32.9228,"d":"33"},0,""]
["421126","91421126747661624N","蕲春县运通旅游运输有限公司",56,1618,40,1005,16,613,124190,5584966,0,0,6228,872696,2150,185862,106826,3955856,8986,570552,{"v":44.9711,"d":"45"},0,{"v":140.1246,"d":"140"},{"v":86.4474,"d":"86"},{"v":37.0308,"d":"37"},{"v":63.4934,"d":"63"},""]
["421126","91421126739104713W","黄冈市东方运输集团蕲春晨光有限公司",86,2407,86,2407,0,0,63848,6684915,3169,2498817,12637,1707356,11016,438509,37026,2040233,0,0,{"v":104.7005,"d":"105"},{"v":788.5191,"d":"789"},{"v":135.1077,"d":"135"},{"v":39.8066,"d":"40"},{"v":55.1027,"d":"55"},0,""]
["421127","9142112775103130XM","黄梅县新业运输有限公司",9,177,9,177,0,0,2965,60926,0,0,0,0,0,0,2965,60926,0,0,{"v":20.5484,"d":"21"},0,0,0,{"v":20.5484,"d":"21"},0,""]
["421127","91421127790579116U","黄梅县都得利客运有限公司",2,38,2,38,0,0,459,7611,0,0,0,0,0,0,459,7611,0,0,{"v":16.5817,"d":"17"},0,0,0,{"v":16.5817,"d":"17"},0,""]
["421127","91421127795943773H","黄梅县群兴客运有限公司",2,26,2,26,0,0,2550,69400,0,0,0,0,0,0,2550,69400,0,0,{"v":27.2157,"d":"27"},0,0,0,{"v":27.2157,"d":"27"},0,""]
["421127","91421127316525508B","黄梅县军友客运有限责任公司",1,7,1,7,0,0,67,720,0,0,0,0,0,0,67,720,0,0,{"v":10.7463,"d":"11"},0,0,0,{"v":10.7463,"d":"11"},0,""]
["421127","91421127737929586C","黄梅县宏达客运有限责任公司",20,320,20,320,0,0,2389,32584,0,0,0,0,1639,22079,750,10505,0,0,{"v":13.6392,"d":"14"},0,0,{"v":13.471,"d":"13"},{"v":14.0067,"d":"14"},0,""]
["421127","91421127777561739Y","黄梅县胜兴运输有限责任公司",13,247,13,247,0,0,2810,49780,0,0,0,0,0,0,2810,49780,0,0,{"v":17.7153,"d":"18"},0,0,0,{"v":17.7153,"d":"18"},0,""]
["421127","91421127741782337J","黄梅县宏发运输有限公司",52,1521,52,1521,0,0,47296,2641415,0,0,0,0,0,0,47296,2641415,0,0,{"v":55.8486,"d":"56"},0,0,0,{"v":55.8486,"d":"56"},0,""]
["421127","91421127726128417E","湖北省黄梅县安利达运输有限公司",24,416,24,416,0,0,5770,245387,0,0,0,0,0,0,5770,245387,0,0,{"v":42.5281,"d":"43"},0,0,0,{"v":42.5281,"d":"43"},0,""]
["421127","91421127665495466F","黄梅县兴发运输有限公司",7,73,7,73,0,0,489,13976,0,0,0,0,0,0,489,13976,0,0,{"v":28.5808,"d":"29"},0,0,0,{"v":28.5808,"d":"29"},0,""]
["421127","91421127MA487ADU5G","湖北明珠运输集团城通客运有限公司",11,176,11,176,0,0,3177,81179,0,0,0,0,0,0,3177,81179,0,0,{"v":25.5521,"d":"26"},0,0,0,{"v":25.5521,"d":"26"},0,""]
["421127","91421127735191274F","湖北明珠运输集团有限公司",49,1283,49,1283,0,0,17524,3424920,152,121448,11526,2766240,5846,537232,0,0,0,0,{"v":195.4417,"d":"195"},799,240,{"v":91.8974,"d":"92"},0,0,""]
["421181","9142118173793879XN","黄冈市东方运输集团麻城宇通有限公司",69,2338,59,2013,10,325,9282,1103080,41,45100,4237,508440,4194,293580,0,0,810,255960,{"v":118.8408,"d":"119"},1100,120,70,0,316,""]
["421182","91421182732724338E","黄冈市东方运输集团武穴宏森有限公司",2,114,2,114,0,0,2264,739196,2264,739196,0,0,0,0,0,0,0,0,{"v":326.5,"d":"327"},{"v":326.5,"d":"327"},0,0,0,0,""]
["421182","91421182MA48CRQ14Q","武穴市安广公路运输服务有限公司",0,0,0,0,0,0,0,0,0,0,0,0,0,0,0,0,0,0,0,0,0,0,0,0,""]
["421200","91421200MA4877JT7D","咸宁市枫丹公共交通控股有限公司",22,970,0,0,22,970,3548,753932,0,0,0,0,0,0,0,0,3548,753932,{"v":212.4949,"d":"212"},0,0,0,0,{"v":212.4949,"d":"212"},""]
["421281","91421200MA488JMN5B","湖北万通缘国际旅游发展有限公司",31,1207,0,0,31,1207,9824,2802745,0,0,0,0,0,0,0,0,9824,2802745,{"v":285.2957,"d":"285"},0,0,0,0,{"v":285.2957,"d":"285"},""]
["421202","91421200MA490D2437","湖北咸宁咸运集团客运服务有限公司",62,1987,62,1987,0,0,131276,14010563,0,0,44381,7810221,68114,5566149,18781,634193,0,0,{"v":106.726,"d":"107"},0,{"v":175.9812,"d":"176"},{"v":81.7181,"d":"82"},{"v":33.7678,"d":"34"},0,""]
["421202","91421200579871322P","湖北咸宁咸运运输集团有限公司旅游客运分公司",21,1109,0,0,21,1109,3454,1511267,0,0,0,0,0,0,0,0,3454,1511267,{"v":437.5411,"d":"438"},0,0,0,0,{"v":437.5411,"d":"438"},""]
["421202","91421202751006753U","咸宁市兴泰运输有限责任公司",28,1051,0,0,28,1051,21660,476520,0,0,0,0,0,0,0,0,21660,476520,22,0,0,0,0,22,""]
["421202","914212027220618842","湖北咸宁咸运集团咸安安达运输有限公司",31,1273,0,0,31,1273,3601,1177674,0,0,0,0,0,0,0,0,3601,1177674,{"v":327.0408,"d":"327"},0,0,0,0,{"v":327.0408,"d":"327"},""]
["421223","91421223MA492C7Y9K","崇阳天发旅游客运有限公司",32,1285,0,0,32,1285,8657,4876528,0,0,0,0,0,0,0,0,8657,4876528,{"v":563.3046,"d":"563"},0,0,0,0,{"v":563.3046,"d":"563"},""]
["421224","914212247739112951","通山县新兴汽车客运有限公司",0,0,0,0,0,0,0,0,0,0,0,0,0,0,0,0,0,0,0,0,0,0,0,0,""]
["421224","91421224744625476A","通山县九宫山万利汽车客运有限公司",26,472,26,472,0,0,15088,528080,0,0,0,0,0,0,15088,528080,0,0,35,0,0,0,35,0,""]
["421303","91421300MA490HU50Y","随州市天成汽车运输有限公司",44,1329,44,1329,0,0,88335,6696701,0,0,0,0,88335,6696701,0,0,0,0,{"v":75.8103,"d":"76"},0,0,{"v":75.8103,"d":"76"},0,0,""]
["421303","91421300764118586J","随州市顺捷汽车运输有限公司",64,1921,64,1921,0,0,135849,6569021,0,0,0,0,135849,6569021,0,0,0,0,{"v":48.3553,"d":"48"},0,0,{"v":48.3553,"d":"48"},0,0,""]
["421303","91421300744640553C","湖北通宇运业有限公司",96,2778,85,2277,11,501,207126,13337520,2327,665920,30102,5573060,114995,5358218,57814,1079106,1888,661216,{"v":64.3933,"d":"64"},{"v":286.171,"d":"286"},{"v":185.1392,"d":"185"},{"v":46.5952,"d":"47"},{"v":18.6651,"d":"19"},{"v":350.2203,"d":"350"},""]
["421303","914213007641330737","湖北捷龙恒通运业有限公司",93,2678,79,2214,14,464,49716,3803974,527,340190,6992,879884,40056,2203152,0,0,2141,380748,{"v":76.5141,"d":"77"},{"v":645.5218,"d":"646"},{"v":125.8415,"d":"126"},{"v":55.0018,"d":"55"},0,{"v":177.8365,"d":"178"},""]
["421303","91421300676458193D","随州市凯昌旅游客运有限公司",22,849,0,0,22,849,8282,2403100,0,0,0,0,0,0,0,0,8282,2403100,{"v":290.1594,"d":"290"},0,0,0,0,{"v":290.1594,"d":"290"},""]
["421321","91421321767405732N","随县宏运汽车运输有限公司",23,354,23,354,0,0,16708,432069,0,0,0,0,0,0,16708,432069,0,0,{"v":25.86,"d":"26"},0,0,0,{"v":25.86,"d":"26"},0,""]
["421381","91421381757006682X","湖北通宇运业有限公司广水分公司",46,1135,46,1135,0,0,57130,3553822,8729,626654,15587,1954453,7150,335478,25664,637237,0,0,{"v":62.2059,"d":"62"},{"v":71.7899,"d":"72"},{"v":125.3899,"d":"125"},{"v":46.92,"d":"47"},{"v":24.83,"d":"25"},0,""]
["421381","91421381MADRXKJD74","广水市应李客运联营有限公司",9,162,9,162,0,0,16273,390544,0,0,0,0,0,0,16273,390544,0,0,{"v":23.9995,"d":"24"},0,0,0,{"v":23.9995,"d":"24"},0,""]
["421381","91421381MADQRT6M9F","广水市荣福客运联营有限公司",45,630,45,630,0,0,60011,1224714,0,0,0,0,0,0,60011,1224714,0,0,{"v":20.4082,"d":"20"},0,0,0,{"v":20.4082,"d":"20"},0,""]
["421381","91421381770758686A","广水市吴店平安客运有限公司",46,791,46,791,0,0,45828,1580617,0,0,0,0,0,0,45828,1580617,0,0,{"v":34.4902,"d":"34"},0,0,0,{"v":34.4902,"d":"34"},0,""]
["421381","91421381760681507F","广水市马坪长鸿客运有限责任公司",19,333,19,333,0,0,36355,1533966,0,0,0,0,0,0,36355,1533966,0,0,{"v":42.1941,"d":"42"},0,0,0,{"v":42.1941,"d":"42"},0,""]
["421381","91421381MA48BFLF9U","广水市华运客运有限公司",35,660,35,660,0,0,63532,2703489,0,0,0,0,0,0,63532,2703489,0,0,{"v":42.5532,"d":"43"},0,0,0,{"v":42.5532,"d":"43"},0,""]
["421381","91421381764100239E","广水市应通客运有限责任公司",11,184,11,184,0,0,34718,597850,0,0,0,0,0,0,34718,597850,0,0,{"v":17.2202,"d":"17"},0,0,0,{"v":17.2202,"d":"17"},0,""]
["421381","91421381760697509Q","广水市阳泰客运有限公司",32,544,32,544,0,0,52760,1266240,0,0,0,0,0,0,52760,1266240,0,0,24,0,0,0,24,0,""]
["422801","91422801741794231B","恩施市富盛汽车运输有限公司",7,133,7,133,0,0,5018,95342,0,0,0,0,0,0,5018,95342,0,0,19,0,0,0,19,0,""]
["422801","91422800695148799N","恩施鑫达客运有限公司",49,2102,0,0,49,2102,30228,2798810,0,0,0,0,0,0,0,0,30228,2798810,{"v":92.59,"d":"93"},0,0,0,0,{"v":92.59,"d":"93"},""]
["422801","914228017417632838","恩施市东升客运有限公司",65,1054,65,1054,0,0,17050,511500,0,0,0,0,1288,38640,15762,472860,0,0,30,0,0,30,30,0,""]
["422801","91422801667682521G","恩施市宇捷旅行社有限公司",13,470,0,0,13,470,766,404520,0,0,0,0,0,0,0,0,766,404520,{"v":528.094,"d":"528"},0,0,0,0,{"v":528.094,"d":"528"},""]
["422801","91422801060669339J","恩施市程安旅游客运有限公司",22,192,22,192,0,0,2000,22000,0,0,0,0,0,0,2000,22000,0,0,11,0,0,0,11,0,""]
["422801","91422801331800176R","恩施市容森客运有限公司",9,81,9,81,0,0,4729,47290,0,0,0,0,0,0,4729,47290,0,0,10,0,0,0,10,0,""]
["422801","91422801670364225R","恩施市清江旅游客运有限公司",2,18,2,18,0,0,432,5184,0,0,0,0,0,0,432,5184,0,0,12,0,0,0,12,0,""]
["422801","91422801795913929X","恩施市永盛客运有限公司",34,480,34,480,0,0,5543,310408,0,0,0,0,0,0,5543,310408,0,0,56,0,0,0,56,0,""]
["422801","91422800788195068M","湖北省鄂旅投旅游发展股份有限公司",12,444,0,0,12,444,104668,837344,0,0,0,0,0,0,0,0,104668,837344,8,0,0,0,0,8,""]
["422801","914228015683225202","恩施巴山旅游运输有限责任公司",23,1275,0,0,23,1275,1265,376320,0,0,0,0,0,0,0,0,1265,376320,{"v":297.4862,"d":"297"},0,0,0,0,{"v":297.4862,"d":"297"},""]
["422801","914228017905508070","恩施市旗胜汽车运输有限责任公司",17,430,17,430,0,0,18242,409653,0,0,0,0,0,0,18242,409653,0,0,{"v":22.4566,"d":"22"},0,0,0,{"v":22.4566,"d":"22"},0,""]
["422801","91422800559706768P","恩施州交运运输集团昌隆旅游客运有限责任公司",33,928,0,0,33,928,5862,617563,0,0,0,0,0,0,0,0,5862,617563,{"v":105.3502,"d":"105"},0,0,0,0,{"v":105.3502,"d":"105"},""]
["422801","91422801676471419A","恩施市永福汽车营运有限公司",10,149,10,149,0,0,15784,277459,0,0,0,0,0,0,15784,277459,0,0,{"v":17.5785,"d":"18"},0,0,0,{"v":17.5785,"d":"18"},0,""]
["422801","914228017417535013","恩施市顺安公路运输有限公司",93,1435,93,1435,0,0,12109,397175,0,0,0,0,5894,193323,6215,203852,0,0,{"v":32.8,"d":"33"},0,0,{"v":32.8,"d":"33"},{"v":32.8,"d":"33"},0,""]
["422801","91422800665491289Y","恩施州运通旅游客运有限公司",24,695,0,0,24,695,389,69545,0,0,0,0,0,0,0,0,389,69545,{"v":178.7789,"d":"179"},0,0,0,0,{"v":178.7789,"d":"179"},""]
["422801","91422801741755056R","恩施市广通运业有限公司",94,1554,94,1554,0,0,29309,2037991,0,0,0,0,2412,191995,26897,1845996,0,0,{"v":69.5346,"d":"70"},0,0,{"v":79.5999,"d":"80"},{"v":68.632,"d":"69"},0,""]
["422801","91422801744615315L","恩施市西凤客运有限公司",30,656,30,656,0,0,4740,307114,0,0,0,0,0,0,4740,307114,0,0,{"v":64.792,"d":"65"},0,0,0,{"v":64.792,"d":"65"},0,""]
["422801","91422801741799569C","恩施市星火客运有限责任公司",21,473,21,473,0,0,10127,366405,0,0,0,0,299,22425,9828,343980,0,0,{"v":36.181,"d":"36"},0,0,75,35,0,""]
["422802","91422802780937645C","利川市玉龙运业有限责任公司",60,1059,60,1059,0,0,76557,924581,0,0,0,0,0,0,76557,924581,0,0,{"v":12.077,"d":"12"},0,0,0,{"v":12.077,"d":"12"},0,""]
["422802","91422802090595756E","利川市正通运业有限责任公司",18,171,18,171,0,0,7415,134211,0,0,0,0,0,0,7415,134211,0,0,{"v":18.0999,"d":"18"},0,0,0,{"v":18.0999,"d":"18"},0,""]
["422802","91422802679777747C","利川市腾龙旅游客运有限责任公司",21,830,0,0,21,830,3458,380380,0,0,0,0,0,0,0,0,3458,380380,110,0,0,0,0,110,""]
["422802","91422802MADLCYPD3U","恩施州昌安长途轿车客运有限责任公司利川分公司",13,71,13,71,0,0,2196,150623,0,0,0,0,0,0,2196,150623,0,0,{"v":68.5897,"d":"69"},0,0,0,{"v":68.5897,"d":"69"},0,""]
["422802","91422802343400938U","利川市利源运输服务有限责任公司",22,189,22,189,0,0,11556,138672,0,0,0,0,0,0,11556,138672,0,0,12,0,0,0,12,0,""]
["422802","91422802753429581L","恩施联运运输集团有限公司",143,4550,133,4000,10,550,95383,4767568,40246,4024600,0,0,3012,120480,49271,394168,2854,228320,{"v":49.9834,"d":"50"},100,0,40,8,80,""]
["422802","914228027417644624","利川市鹏程运业有限责任公司",68,1596,68,1596,0,0,29458,1169923,0,0,0,0,0,0,29458,1169923,0,0,{"v":39.715,"d":"40"},0,0,0,{"v":39.715,"d":"40"},0,""]
["422802","91422802331887507B","利川市毛坝客货运输综合服务有限公司",1,16,1,16,0,0,893,17860,0,0,0,0,0,0,893,17860,0,0,20,0,0,0,20,0,""]
["422802","91422802326053460A","利川市龙渠运业有限公司",14,113,14,113,0,0,3809,45708,0,0,0,0,0,0,3809,45708,0,0,12,0,0,0,12,0,""]
["422802","914228023317908877","利川市祥和客运有限公司",3,27,3,27,0,0,322,3685,0,0,0,0,0,0,322,3685,0,0,{"v":11.4441,"d":"11"},0,0,0,{"v":11.4441,"d":"11"},0,""]
["422802","91422802082315654R","恩联集团利川君城旅游客运有限公司",25,1025,0,0,25,1025,3450,1335150,0,0,0,0,0,0,0,0,3450,1335150,387,0,0,0,0,387,""]
["422802","91422802083801902X","利川市运通运业有限责任公司",24,605,20,499,4,106,3793,356790,2445,244500,0,0,669,66900,648,38880,31,6510,{"v":94.0654,"d":"94"},100,0,100,60,210,""]
["422822","91422822MADBYQW51H","恩施州昌安长途轿车客运有限责任公司建始分公司",9,45,9,45,0,0,3688,240826,0,0,0,0,3688,240826,0,0,0,0,{"v":65.2999,"d":"65"},0,0,{"v":65.2999,"d":"65"},0,0,""]
["422822","91422822741795621M","建始县平安客运有限责任公司",24,472,21,397,3,75,25770,1351166,0,0,0,0,211,12660,25416,1321632,143,16874,{"v":52.4317,"d":"52"},0,0,60,52,118,""]
["422822","91422822741771857A","建始县运通快客有限责任公司",11,199,11,199,0,0,10135,324558,0,0,0,0,0,0,10135,324558,0,0,{"v":32.0235,"d":"32"},0,0,0,{"v":32.0235,"d":"32"},0,""]
["422822","914228227674162559","建始县祥太客运有限责任公司",21,303,21,303,0,0,7658,185324,0,0,0,0,0,0,7658,185324,0,0,{"v":24.2001,"d":"24"},0,0,0,{"v":24.2001,"d":"24"},0,""]
["422822","91422822790564854X","建始县兴农道路客运有限责任公司",12,188,12,188,0,0,6230,96028,0,0,0,0,0,0,6230,96028,0,0,{"v":15.4138,"d":"15"},0,0,0,{"v":15.4138,"d":"15"},0,""]
["422822","91422822784488867Q","建始县万和客运有限责任公司",44,1021,28,605,16,416,19130,795845,0,0,0,0,437,28636,17615,383849,1078,383360,{"v":41.6019,"d":"42"},0,0,{"v":65.5286,"d":"66"},{"v":21.791,"d":"22"},{"v":355.6215,"d":"356"},""]
["422822","91422822777587218G","建始县跃发客运有限责任公司",4,74,4,74,0,0,1203,73623,0,0,0,0,1203,73623,0,0,0,0,{"v":61.1995,"d":"61"},0,0,{"v":61.1995,"d":"61"},0,0,""]
["422822","914228227775980562","湖北建始永昌运输集团永兴客运有限责任公司",23,308,23,308,0,0,10223,572408,0,0,0,0,499,35527,9724,536881,0,0,{"v":55.9922,"d":"56"},0,0,{"v":71.1964,"d":"71"},{"v":55.2119,"d":"55"},0,""]
["422822","914228225597440350","湖北建始永昌运输集团有限公司",76,1640,69,1256,7,384,38262,4828571,0,0,0,0,2316,188892,33621,2404913,2325,2234766,{"v":126.1976,"d":"126"},0,0,{"v":81.5596,"d":"82"},{"v":71.5301,"d":"72"},{"v":961.1897,"d":"961"},""]
["422823","91422823691755452Y","巴东县吉安汽车客运有限公司",41,821,23,215,18,606,14874,568879,0,0,0,0,0,0,7465,279936,7409,288943,{"v":38.2465,"d":"38"},0,0,0,{"v":37.4998,"d":"37"},{"v":38.9989,"d":"39"},""]
["422823","91422823741782484T","巴东县捷龙客运有限责任公司",115,1872,115,1872,0,0,17357,1254757,0,0,1510,295960,2590,404040,12966,544572,291,10185,{"v":72.2911,"d":"72"},0,196,156,42,35,""]
["422823","91422823741796093N","巴东县万通客运有限责任公司",53,715,53,715,0,0,15700,882217,0,0,3497,498646,499,17835,11704,365736,0,0,{"v":56.1922,"d":"56"},0,{"v":142.5925,"d":"143"},{"v":35.7415,"d":"36"},{"v":31.2488,"d":"31"},0,""]
["422823","91422823735190028T","巴东顺发客运有限责任公司",50,973,48,887,2,86,7590,1108156,0,0,2460,473156,2158,339137,2697,199026,275,96837,{"v":146.0021,"d":"146"},0,{"v":192.3398,"d":"192"},{"v":157.1534,"d":"157"},{"v":73.7953,"d":"74"},{"v":352.1345,"d":"352"},""]
["422825","91422825MA492K8Y7X","宣恩顺盈运输有限公司",31,1275,0,0,31,1275,6733,902222,0,0,0,0,0,0,0,0,6733,902222,134,0,0,0,0,134,""]
["422825","914228257775621410","恩施州昌安长途轿车客运有限责任公司宣恩客运分公司",14,78,14,78,0,0,2849,159544,0,0,0,0,0,0,2849,159544,0,0,56,0,0,0,56,0,""]
["422825","914228256654847678","宣恩县长胜道路运输有限公司",20,333,20,333,0,0,18792,794149,0,0,0,0,0,0,18792,794149,0,0,{"v":42.26,"d":"42"},0,0,0,{"v":42.26,"d":"42"},0,""]
["422825","91422825665471886F","宣恩县长大道路运输有限公司",120,2215,120,2215,0,0,40362,1816290,0,0,0,0,0,0,40362,1816290,0,0,45,0,0,0,45,0,""]
["422826","914228267641362747","恩施州昌安长途轿车客运有限责任公司咸丰客运分公司",14,92,14,92,0,0,2466,198656,0,0,0,0,2466,198656,0,0,0,0,{"v":80.558,"d":"81"},0,0,{"v":80.558,"d":"81"},0,0,""]
["422826","91422826562745856A","咸丰坪坝营运输有限责任公司",7,123,5,93,2,30,2892,279692,0,0,0,0,0,0,1459,94835,1433,184857,{"v":96.7123,"d":"97"},0,0,0,65,129,""]
["422826","91422826667685132T","咸丰县华兴汽车客运有限公司",15,335,15,335,0,0,4253,103899,0,0,0,0,0,0,4253,103899,0,0,{"v":24.4296,"d":"24"},0,0,0,{"v":24.4296,"d":"24"},0,""]
["422826","91422826767404254R","咸丰县畅达运输有限公司",70,1692,62,1368,8,324,35778,1501592,0,0,0,0,2986,149300,32562,1335042,230,17250,{"v":41.9697,"d":"42"},0,0,50,41,75,""]
["422826","91422826753402637E","咸丰县恒通运输有限公司",98,2479,98,2479,0,0,28860,3972560,0,0,1252,562850,12215,732755,14076,703815,1317,1973140,{"v":137.6493,"d":"138"},0,{"v":449.5607,"d":"450"},{"v":59.9881,"d":"60"},{"v":50.0011,"d":"50"},{"v":1498.208,"d":"1498"},""]
["422827","91422827MA492MEE7T","恩施新旅线旅游运输有限公司",23,1054,0,0,23,1054,3652,376156,0,0,0,0,0,0,0,0,3652,376156,103,0,0,0,0,103,""]
["422827","91422827MA4945QH23","恩施州军海旅游客运有限公司",7,348,0,0,7,348,2052,412452,0,0,0,0,0,0,0,0,2052,412452,201,0,0,0,0,201,""]
["422827","91422827757017103B","恩施州昌安长途轿车客运有限责任公司来凤县分公司",17,111,17,111,0,0,5067,543684,0,0,0,0,5067,543684,0,0,0,0,{"v":107.299,"d":"107"},0,0,{"v":107.299,"d":"107"},0,0,""]
["422827","9142282734337360X9","来凤县民生客运有限公司",106,888,106,888,0,0,79489,874379,0,0,0,0,0,0,79489,874379,0,0,11,0,0,0,11,0,""]
["422827","914228277641038007","来凤县长安客运有限责任公司",22,364,22,364,0,0,25110,731857,0,0,0,0,0,0,25110,731857,0,0,{"v":29.146,"d":"29"},0,0,0,{"v":29.146,"d":"29"},0,""]
["422827","914228277606560966","来凤县中华城乡公交有限责任公司",32,557,32,557,0,0,47703,1025615,0,0,0,0,0,0,47703,1025615,0,0,{"v":21.5,"d":"22"},0,0,0,{"v":21.5,"d":"22"},0,""]
["422827","91422827777567380D","来凤民生能源集团凤翔客运有限公司",77,3092,31,531,46,2561,16144,12050852,2454,2164837,0,0,4122,403392,0,0,9568,9482623,{"v":746.4601,"d":"746"},{"v":882.1667,"d":"882"},0,{"v":97.8632,"d":"98"},0,{"v":991.0768,"d":"991"},""]
["422827","914228277739065173","来凤县强盛公交有限责任公司",32,718,32,718,0,0,77118,1975595,0,0,0,0,0,0,77118,1975595,0,0,{"v":25.6178,"d":"26"},0,0,0,{"v":25.6178,"d":"26"},0,""]
["422827","914228277775649051","华中出行（来凤）客运有限公司",16,369,16,369,0,0,9654,117324,0,0,0,0,0,0,9654,117324,0,0,{"v":12.1529,"d":"12"},0,0,0,{"v":12.1529,"d":"12"},0,""]
["422827","9142282774179555X2","来凤县平安客运有限公司",42,700,42,700,0,0,38866,1266686,0,0,0,0,34965,1223775,3901,42911,0,0,{"v":32.5911,"d":"33"},0,0,35,11,0,""]
["422827","91422827095469222U","来凤县金凤客运有限公司",17,299,17,299,0,0,3025,301862,0,0,0,0,3025,301862,0,0,0,0,{"v":99.7891,"d":"100"},0,0,{"v":99.7891,"d":"100"},0,0,""]
["422827","914228277146777699","恩施州来凤强发快客有限公司",55,2640,29,1102,26,1538,6876,6637280,1672,2090000,0,0,1775,197710,437,44070,2992,4305500,{"v":965.2821,"d":"965"},1250,0,{"v":111.3859,"d":"111"},{"v":100.8467,"d":"101"},{"v":1439.004,"d":"1439"},""]
["422828","91422828060666058Y","鹤峰县永强汽车客运有限公司",3,35,3,35,0,0,803,39443,0,0,0,0,0,0,803,39443,0,0,{"v":49.1196,"d":"49"},0,0,0,{"v":49.1196,"d":"49"},0,""]
["422828","914228287351960242","鹤峰县益通汽运有限公司",57,1308,55,1210,2,98,7250,811900,342,74556,301,110166,1845,295200,4664,323158,98,8820,{"v":111.9862,"d":"112"},218,366,160,{"v":69.2877,"d":"69"},90,""]
["422828","914228286764801390","鹤峰县宜达客运有限公司",14,240,14,240,0,0,3385,319577,0,0,0,0,843,139095,2542,180482,0,0,{"v":94.4097,"d":"94"},0,0,165,71,0,""]
["422828","9142282874766370XK","湖北省鹤峰县万众汽车客运有限公司",43,532,34,425,9,107,13582,1157997,0,0,0,0,0,0,12458,1106927,1124,51070,{"v":85.2597,"d":"85"},0,0,0,{"v":88.8527,"d":"89"},{"v":45.4359,"d":"45"},""]
["422828","91422828777559452B","鹤峰县畅达汽车客运有限责任公司",13,155,13,155,0,0,3710,90153,0,0,0,0,0,0,3710,90153,0,0,{"v":24.3,"d":"24"},0,0,0,{"v":24.3,"d":"24"},0,""]
["429004","91429004764125348Q","仙桃市顺通运业有限公司",4,36,4,36,0,0,2782,74518,0,0,0,0,0,0,2782,74518,0,0,{"v":26.7858,"d":"27"},0,0,0,{"v":26.7858,"d":"27"},0,""]
["429004","91429004741762467F","仙桃市高客运输有限公司",11,320,11,320,0,0,7080,233590,130,25090,0,0,0,0,6950,208500,0,0,{"v":32.9929,"d":"33"},193,0,0,30,0,""]
["429004","91429004757011035N","仙桃市沙湖运业有限公司",3,109,3,109,0,0,750,31000,0,0,0,0,0,0,750,31000,0,0,{"v":41.3333,"d":"41"},0,0,0,{"v":41.3333,"d":"41"},0,""]
["429004","91429004181688771B","仙桃市仙运交通运输有限公司",65,1514,65,1514,0,0,52880,1893464,1100,364100,21333,981318,0,0,30447,548046,0,0,{"v":35.8068,"d":"36"},331,46,0,18,0,""]
["429004","9142900466767760X0","湖北顺捷旅游运输有限公司",30,1530,0,0,30,1530,25006,2585238,0,0,0,0,0,0,0,0,25006,2585238,{"v":103.3847,"d":"103"},0,0,0,0,{"v":103.3847,"d":"103"},""]
["429004","91429004181663937H","仙桃市天顺运输有限公司",29,687,29,687,0,0,3640,125030,0,0,790,25280,0,0,2850,99750,0,0,{"v":34.3489,"d":"34"},0,32,0,35,0,""]
["429005","91429005793277332B","潜江市环宇汽车运输有限公司",29,421,29,421,0,0,2156,23512,0,0,0,0,0,0,2156,23512,0,0,{"v":10.9054,"d":"11"},0,0,0,{"v":10.9054,"d":"11"},0,""]
["429005","91429005MA48NLBE9J","湖北潜江驰宇运输有限公司旅游客运中心",38,1611,0,0,38,1611,13750,1545000,0,0,0,0,0,0,0,0,13750,1545000,{"v":112.3636,"d":"112"},0,0,0,0,{"v":112.3636,"d":"112"},""]
["429006","91429006588208215J","天门市易达运输有限公司",10,170,10,170,0,0,9604,305407,0,0,0,0,0,0,9604,305407,0,0,{"v":31.8,"d":"32"},0,0,0,{"v":31.8,"d":"32"},0,""]
["429006","91429006616189489L","天门市大鹏汽运商贸有限公司",3,66,3,66,0,0,5128,76920,0,0,0,0,0,0,5128,76920,0,0,15,0,0,0,15,0,""]
["429021","91429021730887328A","湖北神农架中和旅游有限公司",75,2812,0,0,75,2812,5689,271067,0,0,0,0,0,0,0,0,5689,271067,{"v":47.6476,"d":"48"},0,0,0,0,{"v":47.6476,"d":"48"},""]
["429021","91429021331765163U","神农架九运客运有限公司",6,54,6,54,0,0,198,19228,0,0,0,0,0,0,198,19228,0,0,{"v":97.1111,"d":"97"},0,0,0,{"v":97.1111,"d":"97"},0,""]
["429021","91429021MA4887LAXA","神农架大九湖旅游客运有限公司",42,1775,0,0,42,1775,9589,163013,0,0,0,0,0,0,0,0,9589,163013,17,0,0,0,0,17,""]
["429021","914290210740780627","湖北合众运输有限责任公司",27,698,25,662,2,36,2371,203215,0,0,682,90899,701,63547,615,28428,373,20341,{"v":85.7086,"d":"86"},0,{"v":133.283,"d":"133"},{"v":90.6519,"d":"91"},{"v":46.2244,"d":"46"},{"v":54.5335,"d":"55"},""]
["421083","914200007068019184","湖北永通运输股份有限公司",156,4332,149,4049,7,283,12642,1457037,365,87610,7346,983332,991,173944,2640,147151,1300,65000,{"v":115.2537,"d":"115"},{"v":240.0274,"d":"240"},{"v":133.8595,"d":"134"},{"v":175.5237,"d":"176"},{"v":55.739,"d":"56"},50,""]
["420581","91420581MA4902U68L","宜都三江旅游有限公司",25,1020,0,0,25,1020,4225,1835099,0,0,0,0,0,0,0,0,4225,1835099,{"v":434.343,"d":"434"},0,0,0,0,{"v":434.343,"d":"434"},""]
["420581","91420581MA494XCN95","宜都鑫顺旅游客运有限责任公司",21,864,0,0,21,864,8428,205129,0,0,0,0,0,0,0,0,8428,205129,{"v":24.339,"d":"24"},0,0,0,0,{"v":24.339,"d":"24"},""]
["422801","91422801MA49B4HQ42","恩施州昌安长途轿车客运有限责任公司",92,506,92,506,0,0,24100,2305800,0,0,0,0,24100,2305800,0,0,0,0,{"v":95.6763,"d":"96"},0,0,{"v":95.6763,"d":"96"},0,0,""]
["422823","91422823MA49D651XD","恩施州昌安长途轿车客运有限责任公司巴东分公司",15,117,15,117,0,0,3513,595541,0,0,0,0,2901,569543,612,25998,0,0,{"v":169.5249,"d":"170"},0,0,{"v":196.3264,"d":"196"},{"v":42.4804,"d":"42"},0,""]
["422801","91422801331875338H","湖北奥昇文旅发展有限公司",6,108,0,0,6,108,38441,230646,0,0,0,0,0,0,0,0,38441,230646,6,0,0,0,0,6,""]
["422801","91422801MA4943BTX2","恩施州硒雅途旅游客运有限公司",23,627,0,0,23,627,2405,312650,0,0,0,0,0,0,0,0,2405,312650,130,0,0,0,0,130,""]
["422801","91422801MA49B4KK48","恩施州昌运客运有限责任公司",81,1764,81,1764,0,0,8775,1744700,3040,1045800,285,79500,5400,616600,50,2800,0,0,{"v":198.8262,"d":"199"},{"v":344.0132,"d":"344"},{"v":278.9474,"d":"279"},{"v":114.1852,"d":"114"},56,0,""]
["422801","91422801MA495FBW2Y","恩施畅达旅游客运有限公司",36,1911,0,0,36,1911,18369,2563574,0,0,0,0,0,0,0,0,18369,2563574,{"v":139.5598,"d":"140"},0,0,0,0,{"v":139.5598,"d":"140"},""]
["422801","91422801MA4964F95K","恩施州华伟客运有限公司",20,855,0,0,20,855,1093,27325,0,0,0,0,0,0,0,0,1093,27325,25,0,0,0,0,25,""]
["420506","91420506MA492J4A23","宜昌君再来旅游客运有限公司",27,1082,0,0,27,1082,5916,1419840,0,0,0,0,0,0,0,0,5916,1419840,240,0,0,0,0,240,""]
["420506","91420506MA495C803E","宜昌百里荒客运有限公司",10,390,0,0,10,390,6233,34280,0,0,0,0,0,0,0,0,6233,34280,{"v":5.4998,"d":"5"},0,0,0,0,{"v":5.4998,"d":"5"},""]
["421222","91421222MA48YPKU8Q","通城骏捷旅游客运有限公司",27,1015,0,0,27,1015,7682,3551389,0,0,0,0,0,0,0,0,7682,3551389,{"v":462.3001,"d":"462"},0,0,0,0,{"v":462.3001,"d":"462"},""]
["420602","91420600083800942T","湖北旅运汽车服务有限公司",41,1559,0,0,41,1559,11340,4944240,0,0,0,0,0,0,0,0,11340,4944240,436,0,0,0,0,436,""]
["420502","91420500MA49562Q1W","宜昌泓晨旅游客运有限公司",38,1303,0,0,38,1303,21083,8517092,0,0,0,0,0,0,0,0,21083,8517092,{"v":403.9791,"d":"404"},0,0,0,0,{"v":403.9791,"d":"404"},""]
["420502","91420500MA4956JH60","宜昌楚宇旅游汽车服务有限公司",37,878,0,0,37,878,7638,679782,0,0,0,0,0,0,0,0,7638,679782,89,0,0,0,0,89,""]
["421121","91421121780916393K","黄冈市温馨旅游客运有限公司团风分公司",3,131,0,0,3,131,840,155100,0,0,0,0,0,0,0,0,840,155100,{"v":184.6429,"d":"185"},0,0,0,0,{"v":184.6429,"d":"185"},""]
["420502","91420500MA496JUY6Y","宜昌优途旅游客运有限公司",33,1242,0,0,33,1242,5803,1745184,0,0,0,0,0,0,0,0,5803,1745184,{"v":300.7382,"d":"301"},0,0,0,0,{"v":300.7382,"d":"301"},""]
["420502","91420500MA495PAP6K","宜昌顺风旅游客运有限公司",6,280,0,0,6,280,1685,227475,0,0,0,0,0,0,0,0,1685,227475,135,0,0,0,0,135,""]
["422823","91422823MA49779X7M","巴东骏达客运发展有限公司",63,1032,54,840,9,192,26405,1056182,0,0,0,0,0,0,24099,963950,2306,92232,{"v":39.9993,"d":"40"},0,0,0,{"v":39.9996,"d":"40"},{"v":39.9965,"d":"40"},""]
["420800","91420800180116966D","荆门市顺通客运有限责任公司",51,1394,40,910,11,484,6320,820500,1450,290000,1410,211500,1350,108000,0,0,2110,211000,{"v":129.8259,"d":"130"},200,150,80,0,100,""]
["420506","91420506MA491NJ60D","宜昌鑫力量旅游运输有限公司",21,737,0,0,21,737,4068,939708,0,0,0,0,0,0,0,0,4068,939708,231,0,0,0,0,231,""]
["420506","91420506MA499G2U34","宜昌市恒腾客运有限公司",10,220,10,220,0,0,1290,76110,0,0,0,0,0,0,1290,76110,0,0,59,0,0,0,59,0,""]
["420100","914201020908340595","武汉长通顺捷旅游客运有限公司",69,2779,0,0,69,2779,6315,4925700,0,0,0,0,0,0,0,0,6315,4925700,780,0,0,0,0,780,""]
["420100","914201037680659878","湖北捷龙交通运业有限公司武汉旅游客运分公司",27,1327,0,0,27,1327,1679,323428,0,0,0,0,0,0,0,0,1679,323428,{"v":192.6313,"d":"193"},0,0,0,0,{"v":192.6313,"d":"193"},""]
["420100","91420115679122185U","武汉武威汽车服务有限公司",22,1067,0,0,22,1067,16417,2763948,0,0,0,0,0,0,0,0,16417,2763948,{"v":168.3589,"d":"168"},0,0,0,0,{"v":168.3589,"d":"168"},""]
["422823","91422823MA4949KW8P","国网电动汽车服务湖北有限公司巴东运营服务分公司",2,66,0,0,2,66,240,22590,0,0,0,0,0,0,0,0,240,22590,{"v":94.125,"d":"94"},0,0,0,0,{"v":94.125,"d":"94"},""]
["421281","91421281MA49AQFM3R","赤壁市交投集团恒昌运输有限公司",35,1049,19,341,16,708,3426,386020,0,0,1561,234150,494,54340,901,27030,470,70500,{"v":112.6737,"d":"113"},0,150,110,30,150,""]
["420503","91420500MA49A3T852","宜昌交运集团客运有限公司",185,5212,185,5212,0,0,183399,15776450,3960,1075035,10169,1877394,169270,12824021,0,0,0,0,{"v":86.0226,"d":"86"},{"v":271.4735,"d":"271"},{"v":184.6193,"d":"185"},{"v":75.7607,"d":"76"},0,0,""]
["420503","91420500MA49A3B3X2","宜昌交运集团旅游客运有限公司",114,5543,0,0,114,5543,156478,15031918,0,0,0,0,0,0,0,0,156478,15031918,{"v":96.0641,"d":"96"},0,0,0,0,{"v":96.0641,"d":"96"},""]
["421124","91421124MA48G68309","湖北百姓国际旅行社有限公司",18,651,2,51,16,600,3893,2047793,0,0,0,0,0,0,0,0,3893,2047793,{"v":526.0193,"d":"526"},0,0,0,0,{"v":526.0193,"d":"526"},""]
["420583","91420583MA494Q1U7E","枝江市兴征程旅游客运有限公司",27,607,0,0,27,607,6958,3107598,0,0,0,0,0,0,0,0,6958,3107598,{"v":446.6223,"d":"447"},0,0,0,0,{"v":446.6223,"d":"447"},""]
["420700","91420700MA494Y2693","湖北鹏辰客运有限公司",43,1635,0,0,43,1635,20127,379280,0,0,0,0,0,0,0,0,20127,379280,{"v":18.8443,"d":"19"},0,0,0,0,{"v":18.8443,"d":"19"},""]
["420704","91420700MA49D59P9D","鄂州市三山振兴客运有限公司",8,180,4,76,4,104,6370,113900,0,0,0,0,0,0,3500,34900,2870,79000,{"v":17.8807,"d":"18"},0,0,0,{"v":9.9714,"d":"10"},{"v":27.5261,"d":"28"},""]
["421000","91421000MA494U3J0U","荆州市顺程旅游运输有限公司",54,2434,0,0,54,2434,14940,4482000,0,0,0,0,0,0,0,0,14940,4482000,300,0,0,0,0,300,""]
["422801","91422801MA496F3483","湖北兴宏驰旅游客运有限公司",41,1404,0,0,41,1404,615,43050,0,0,0,0,0,0,0,0,615,43050,70,0,0,0,0,70,""]
["420322","914203227809248796","湖北卓越集团五龙河旅游开发有限公司",5,210,0,0,5,210,4980,99600,0,0,0,0,0,0,0,0,4980,99600,20,0,0,0,0,20,""]
["422801","91422801MA49EXWH1U","恩施州丰联旅游客运有限公司",95,3573,0,0,95,3573,7277,3063819,0,0,0,0,0,0,0,0,7277,3063819,{"v":421.0278,"d":"421"},0,0,0,0,{"v":421.0278,"d":"421"},""]
["422801","91422801MA49438J9T","恩施州天峰旅游客运有限公司",10,72,10,72,0,0,1100,12100,0,0,0,0,0,0,1100,12100,0,0,11,0,0,0,11,0,""]
["422801","91422801MA495MCB6T","湖北硒旅线旅游运输有限公司",82,2035,0,0,82,2035,13978,1048350,0,0,0,0,0,0,0,0,13978,1048350,75,0,0,0,0,75,""]
["422801","91422801MA49CH3Y15","恩施州双盈旅游运输有限公司",67,2177,0,0,67,2177,8746,1294408,0,0,0,0,0,0,0,0,8746,1294408,148,0,0,0,0,148,""]
["422801","91422801MA496JYC1L","恩施州欣驰客运有限公司",36,1164,0,0,36,1164,7754,1450133,0,0,0,0,0,0,0,0,7754,1450133,{"v":187.0174,"d":"187"},0,0,0,0,{"v":187.0174,"d":"187"},""]
["420200","91420200MA491UX85B","黄石快乐旅游客运有限公司",27,1099,0,0,27,1099,3825,314033,0,0,0,0,0,0,0,0,3825,314033,{"v":82.1001,"d":"82"},0,0,0,0,{"v":82.1001,"d":"82"},""]
["420506","91420506MA49B0NN7Q","宜昌市诚达客运有限责任公司",9,142,9,142,0,0,6980,244300,0,0,0,0,0,0,6980,244300,0,0,35,0,0,0,35,0,""]
["421123","91421123343534274F","罗田县路路发运输有限公司",7,83,7,83,0,0,14210,174120,0,0,0,0,0,0,14210,174120,0,0,{"v":12.2533,"d":"12"},0,0,0,{"v":12.2533,"d":"12"},0,""]
["421123","91421123MA495WHM5C","罗田罗九旅游客运有限公司",3,31,3,31,0,0,9851,137420,0,0,0,0,0,0,9851,137420,0,0,{"v":13.9499,"d":"14"},0,0,0,{"v":13.9499,"d":"14"},0,""]
["421303","91421303MA495UEM00","随州路路顺运输有限公司",2,20,2,20,0,0,3387,35564,0,0,0,0,0,0,3387,35564,0,0,{"v":10.5001,"d":"11"},0,0,0,{"v":10.5001,"d":"11"},0,""]
["420602","91420600MA493F2R3T","湖北鑫俊客运有限公司",58,2666,0,0,58,2666,21627,10314306,0,0,0,0,0,0,0,0,21627,10314306,{"v":476.918,"d":"477"},0,0,0,0,{"v":476.918,"d":"477"},""]
["420822","91420822662297640C","湖北荆门华凯旅游运输有限公司沙洋分公司",1,61,0,0,1,61,420,3792,0,0,0,0,0,0,0,0,420,3792,{"v":9.0286,"d":"9"},0,0,0,0,{"v":9.0286,"d":"9"},""]
["420700","91420700MA49GD03XL","湖北华捷旅游客运有限公司",21,821,0,0,21,821,11900,1499400,0,0,0,0,0,0,0,0,11900,1499400,126,0,0,0,0,126,""]
["420923","91420923MA49CATA1Q","云梦县云魏汽车运输有限责任公司",5,75,5,75,0,0,1337,26740,0,0,0,0,0,0,1337,26740,0,0,20,0,0,0,20,0,""]
["421303","91421303MA492JK7XF","随州市曾都区惠祥农村客运有限公司",8,112,8,112,0,0,23898,298730,0,0,0,0,0,0,23898,298730,0,0,{"v":12.5002,"d":"13"},0,0,0,{"v":12.5002,"d":"13"},0,""]
["422823","91422823331912872R","巴东神之旅旅游汽车运输有限公司",4,134,0,0,4,134,1464,33672,0,0,0,0,0,0,0,0,1464,33672,23,0,0,0,0,23,""]
["421125","91421125MA49F74F1J","浠水县众诚道路客运有限公司",4,72,4,72,0,0,3118,74845,0,0,0,0,0,0,3118,74845,0,0,{"v":24.0042,"d":"24"},0,0,0,{"v":24.0042,"d":"24"},0,""]
["421000","91421000588223773G","荆州文化旅游投资股份有限公司",10,446,0,0,10,446,5940,267300,0,0,0,0,0,0,0,0,5940,267300,45,0,0,0,0,45,""]
["420923","91420923MA48BK8H60","云梦县梦辛汽车运输有限公司",4,68,4,68,0,0,4323,129691,0,0,0,0,0,0,4323,129691,0,0,{"v":30.0002,"d":"30"},0,0,0,{"v":30.0002,"d":"30"},0,""]
["420381","91420381182213698F","丹江口市汽车运输总公司",91,1804,91,1804,0,0,11941,912482,307,34998,2824,299344,715,60060,8095,518080,0,0,{"v":76.4159,"d":"76"},114,106,84,64,0,""]
["421321","91421300MA49FN4TX4","鄂旅投随州星程旅游服务有限公司",6,191,0,0,6,191,2929,117160,0,0,0,0,0,0,0,0,2929,117160,40,0,0,0,0,40,""]
["421303","91421300MA494PPCXK","随州市昌顺汽车运输有限公司",4,55,4,55,0,0,3991,119730,0,0,0,0,0,0,3991,119730,0,0,30,0,0,0,30,0,""]
["421023","914210235715472458","监利县荆南汽车客运有限公司",3,60,3,60,0,0,15136,427384,0,0,0,0,0,0,15136,427384,0,0,{"v":28.2363,"d":"28"},0,0,0,{"v":28.2363,"d":"28"},0,""]
["421182","91421182MA499T326B","湖北云中横岗旅游开发有限公司",0,0,0,0,0,0,0,0,0,0,0,0,0,0,0,0,0,0,0,0,0,0,0,0,""]
["420526","91420526MA49FCPR76","兴山县九通客运有限公司",43,1659,12,590,31,1069,57535,2465625,0,0,0,0,0,0,42860,1071500,14675,1394125,{"v":42.8543,"d":"43"},0,0,0,25,95,""]
["421321","91421321MA496AMJ8C","随县乐通汽车运输有限公司",4,76,4,76,0,0,4256,148960,0,0,0,0,0,0,4256,148960,0,0,35,0,0,0,35,0,""]
["421303","91421303MA497J1N7B","随州市智顺运输有限公司",6,47,6,47,0,0,5626,48102,0,0,0,0,0,0,5626,48102,0,0,{"v":8.5499,"d":"9"},0,0,0,{"v":8.5499,"d":"9"},0,""]
["422823","91422823080916608Q","巴东神农溪景区旅游发展有限公司",6,266,0,0,6,266,804,40200,0,0,0,0,0,0,0,0,804,40200,50,0,0,0,0,50,""]
["421182","91421182MA492FE70N","湖北晶利汽车运输有限公司",0,0,0,0,0,0,0,0,0,0,0,0,0,0,0,0,0,0,0,0,0,0,0,0,""]
["420602","91420600667678346Q","襄阳运鑫实业有限公司旅游客运分公司",32,1227,0,0,32,1227,8857,3612521,0,0,0,0,0,0,0,0,8857,3612521,{"v":407.8719,"d":"408"},0,0,0,0,{"v":407.8719,"d":"408"},""]
["421303","91421303MA491QTG4N","随州市朱大安客运有限公司",8,60,8,60,0,0,5144,69444,0,0,0,0,0,0,5144,69444,0,0,{"v":13.5,"d":"14"},0,0,0,{"v":13.5,"d":"14"},0,""]
["421123","91421123MA4956RD4F","罗田骏捷汽车运输有限公司",5,41,5,41,0,0,12126,138512,0,0,0,0,0,0,12126,138512,0,0,{"v":11.4227,"d":"11"},0,0,0,{"v":11.4227,"d":"11"},0,""]
["421303","91421300MA4923KE3E","湖北辉鸿旅游客运有限公司",18,748,0,0,18,748,5098,1540052,0,0,0,0,0,0,0,0,5098,1540052,{"v":302.0894,"d":"302"},0,0,0,0,{"v":302.0894,"d":"302"},""]
["420984","91420984MA498BDN7H","汉川市鸿志客运有限公司",13,274,13,274,0,0,7817,123585,0,0,0,0,0,0,7817,123585,0,0,{"v":15.8098,"d":"16"},0,0,0,{"v":15.8098,"d":"16"},0,""]
["429004","91429004MA4928GU29","湖北顺捷旅游运输有限公司江汉分公司",31,1854,0,0,31,1854,7281,217688,0,0,0,0,0,0,0,0,7281,217688,{"v":29.8981,"d":"30"},0,0,0,0,{"v":29.8981,"d":"30"},""]
["421123","91421123MA4953BWX7","罗田县安腾汽车运输有限公司",1,19,1,19,0,0,4240,43450,0,0,0,0,0,0,4240,43450,0,0,{"v":10.2476,"d":"10"},0,0,0,{"v":10.2476,"d":"10"},0,""]
["421182","91421182MA492BB2XD","武穴市宏森优行运输有限公司",49,1000,49,1000,0,0,54678,2218833,0,0,0,0,0,0,54678,2218833,0,0,{"v":40.58,"d":"41"},0,0,0,{"v":40.58,"d":"41"},0,""]
["420602","91420600MA48BAT976","襄阳市钱程似锦汽车运输服务有限公司",36,1360,0,0,36,1360,16054,2912540,0,0,0,0,0,0,0,0,16054,2912540,{"v":181.4215,"d":"181"},0,0,0,0,{"v":181.4215,"d":"181"},""]
["420100","91420111MA4L0BRF8Y","湖北公路客运集团股份有限公司运营管理分公司",77,2429,77,2429,0,0,3930,684252,3930,684252,0,0,0,0,0,0,0,0,{"v":174.1099,"d":"174"},{"v":174.1099,"d":"174"},0,0,0,0,""]
["429021","91429021MA497QRK7H","湖北神农旅游客运有限公司",17,609,8,290,9,319,7086,801304,0,0,0,0,0,0,3824,214144,3262,587160,{"v":113.0827,"d":"113"},0,0,0,56,180,""]
["422802","914228027534177830","利川腾龙风景区旅游资源开发有限公司",13,542,2,46,11,496,24409,268499,0,0,0,0,0,0,0,0,24409,268499,11,0,0,0,0,11,""]
["420700","91420700MA48X4T58A","鄂州市天龙汽车服务有限公司",10,272,0,0,10,272,5106,357420,0,0,0,0,0,0,0,0,5106,357420,70,0,0,0,0,70,""]
["422826","91422826MA499DYA59","恩施友桥客运有限公司",32,1546,0,0,32,1546,8812,701212,0,0,0,0,0,0,0,0,8812,701212,{"v":79.5747,"d":"80"},0,0,0,0,{"v":79.5747,"d":"80"},""]
["429021","91429021MA497E1J0A","神农架航旅客运有限公司",17,543,17,543,0,0,6527,510896,0,0,0,0,0,0,6527,510896,0,0,{"v":78.2742,"d":"78"},0,0,0,{"v":78.2742,"d":"78"},0,""]
["420684","91420684MA49G2YF4Y","湖北冠兴汽车服务有限公司",37,1875,0,0,37,1875,9423,9287480,0,0,0,0,0,0,0,0,9423,9287480,{"v":985.6182,"d":"986"},0,0,0,0,{"v":985.6182,"d":"986"},""]
["420607","914206077905709205","湖北襄阳安达运输有限责任公司旅游分公司",44,1913,0,0,44,1913,26458,7223200,0,0,0,0,0,0,0,0,26458,7223200,{"v":273.0063,"d":"273"},0,0,0,0,{"v":273.0063,"d":"273"},""]
["421303","91421303MA49N66B2A","随州市黄刚农村客运有限公司",6,46,6,46,0,0,7309,82226,0,0,0,0,0,0,7309,82226,0,0,{"v":11.25,"d":"11"},0,0,0,{"v":11.25,"d":"11"},0,""]
["421303","91421303MA49A1Q64G","随州市万东客运有限公司",1,7,1,7,0,0,1005,15075,0,0,0,0,0,0,1005,15075,0,0,15,0,0,0,15,0,""]
["420502","91420500MA48A31437","湖北启程旅游客运有限公司",27,627,0,0,27,627,10600,2936600,0,0,0,0,0,0,0,0,10600,2936600,{"v":277.0377,"d":"277"},0,0,0,0,{"v":277.0377,"d":"277"},""]
["422801","91422801MA49ENNT5W","恩施州众祥旅游运输有限责任公司",96,3168,0,0,96,3168,17820,2673000,0,0,0,0,0,0,0,0,17820,2673000,150,0,0,0,0,150,""]
["422828","91422828MA491TPR74","恩施顺通旅游客运有限公司",4,114,0,0,4,114,832,21968,0,0,0,0,0,0,0,0,832,21968,{"v":26.4038,"d":"26"},0,0,0,0,{"v":26.4038,"d":"26"},""]
["420901","914209000770441757","孝感市孝南区俊杰校车服务股份有限公司",11,463,0,0,11,463,2315,373225,0,0,0,0,0,0,0,0,2315,373225,{"v":161.2203,"d":"161"},0,0,0,0,{"v":161.2203,"d":"161"},""]
["420528","91420528MA49C0E821","长阳安通客运有限公司",56,635,56,635,0,0,33358,1451073,0,0,0,0,0,0,33358,1451073,0,0,{"v":43.5,"d":"44"},0,0,0,{"v":43.5,"d":"44"},0,""]
["420901","91420902MA4927GUXP","孝感市祥和旅游客运有限公司",65,3142,0,0,65,3142,23269,7159130,0,0,0,0,0,0,0,0,23269,7159130,{"v":307.6681,"d":"308"},0,0,0,0,{"v":307.6681,"d":"308"},""]
["422801","91422801MA49NN9R9C","恩施州新起航旅游客运有限公司",36,1097,0,0,36,1097,5939,252621,0,0,0,0,0,0,0,0,5939,252621,{"v":42.5359,"d":"43"},0,0,0,0,{"v":42.5359,"d":"43"},""]
["420984","91420984MA49DPQP1U","汉川鼎通客运服务有限公司",1,19,1,19,0,0,515,14196,0,0,0,0,0,0,515,14196,0,0,{"v":27.565,"d":"28"},0,0,0,{"v":27.565,"d":"28"},0,""]
["422828","91422828MA49D8A84A","恩施州昌安长途轿车客运有限责任公司鹤峰分公司",12,84,12,84,0,0,2886,398980,0,0,0,0,2886,398980,0,0,0,0,{"v":138.2467,"d":"138"},0,0,{"v":138.2467,"d":"138"},0,0,""]
["422828","91422828691773407J","鹤峰县同惠汽车客运有限公司",5,47,5,47,0,0,3991,63856,0,0,0,0,0,0,3991,63856,0,0,16,0,0,0,16,0,""]
["421087","91421087MA48H3T745","湖北宜昌交运松滋有限公司运务分公司",40,1186,40,1186,0,0,21516,1075800,0,0,21516,1075800,0,0,0,0,0,0,50,0,50,0,0,0,""]
["420602","91420600MA49FEQ91N","湖北襄旅客运有限公司",42,1676,0,0,42,1676,13979,9395400,0,0,0,0,0,0,0,0,13979,9395400,{"v":672.1082,"d":"672"},0,0,0,0,{"v":672.1082,"d":"672"},""]
["420683","91420683757000870N","枣阳市九通汽车运业有限公司",9,168,9,168,0,0,2774,51808,0,0,0,0,0,0,2774,51808,0,0,{"v":18.6763,"d":"19"},0,0,0,{"v":18.6763,"d":"19"},0,""]
["420683","91420683793271416E","枣阳华鑫运业有限公司",26,626,26,626,0,0,21032,841280,0,0,0,0,0,0,21032,841280,0,0,40,0,0,0,40,0,""]
["422826","91422826MA49J1C72M","恩施鑫达客运有限公司咸丰分公司",14,534,0,0,14,534,4952,198080,0,0,0,0,0,0,0,0,4952,198080,40,0,0,0,0,40,""]
["421127","91421100741792818K","湖北省龙感湖旭龙汽运有限公司",15,285,15,285,0,0,1763,164453,658,46718,583,112515,0,0,522,5220,0,0,{"v":93.2802,"d":"93"},71,{"v":192.9931,"d":"193"},0,10,0,""]
["420881","91420881MA48XJQA00","湖北骏达旅游运输有限公司",28,1119,0,0,28,1119,4238,443687,0,0,0,0,0,0,0,0,4238,443687,{"v":104.6925,"d":"105"},0,0,0,0,{"v":104.6925,"d":"105"},""]
["420881","91420881665481267G","湖北荆门华凯旅游运输有限公司钟祥分公司",1,60,0,0,1,60,315,30100,0,0,0,0,0,0,0,0,315,30100,{"v":95.5556,"d":"96"},0,0,0,0,{"v":95.5556,"d":"96"},""]
["421182","91421182MA4993HN69","武穴市保达汽车通勤服务有限公司",42,1736,0,0,42,1736,39751,961179,0,0,0,0,0,0,0,0,39751,961179,{"v":24.18,"d":"24"},0,0,0,0,{"v":24.18,"d":"24"},""]
["420529","91420529MA49P81J2Y","五峰顺捷客运有限公司",11,133,11,133,0,0,14938,642334,0,0,0,0,0,0,14938,642334,0,0,43,0,0,0,43,0,""]
["421126","91421126795946181H","黄冈市东方运输集团旅游运输有限公司蕲春分公司",19,895,0,0,19,895,5987,380375,0,0,0,0,0,0,0,0,5987,380375,{"v":63.5335,"d":"64"},0,0,0,0,{"v":63.5335,"d":"64"},""]
["420704","91420700MA48AWCT7P","鄂州市大鹏客运有限公司一分公司",0,0,0,0,0,0,0,0,0,0,0,0,0,0,0,0,0,0,0,0,0,0,0,0,""]
["420704","91420700MA48B8425J","鄂州市大兴联运有限责任公司鄂城分公司",0,0,0,0,0,0,0,0,0,0,0,0,0,0,0,0,0,0,0,0,0,0,0,0,""]
["420626","91420626MA49QQPX4J","保康尧治河文旅客运有限公司",3,115,0,0,3,115,3360,67200,0,0,0,0,0,0,0,0,3360,67200,20,0,0,0,0,20,""]
["420800","91420800MA495K7A05","荆门市文化旅游发展有限公司",0,0,0,0,0,0,0,0,0,0,0,0,0,0,0,0,0,0,0,0,0,0,0,0,""]
["420800","91420800777577343D","荆门市旭冉运输有限公司",0,0,0,0,0,0,0,0,0,0,0,0,0,0,0,0,0,0,0,0,0,0,0,0,""]
["421102","91421100579894348C","黄冈市鸿辉汽车通勤服务有限公司",19,737,0,0,19,737,9785,1456211,0,0,0,0,0,0,0,0,9785,1456211,{"v":148.8207,"d":"149"},0,0,0,0,{"v":148.8207,"d":"149"},""]
["421126","91421126MA49NHCG1X","湖北晨瑞客运运输有限公司",22,669,0,0,22,669,7558,476798,0,0,0,0,0,0,0,0,7558,476798,{"v":63.0852,"d":"63"},0,0,0,0,{"v":63.0852,"d":"63"},""]
["420100","91420100744754892Y","湖北公路客运集团股份有限公司旅游运输分公司",5,191,0,0,5,191,1300,227500,0,0,0,0,0,0,0,0,1300,227500,175,0,0,0,0,175,""]
["420821","914208216622981331","湖北荆门华凯旅游运输有限公司京山分公司",0,0,0,0,0,0,0,0,0,0,0,0,0,0,0,0,0,0,0,0,0,0,0,0,""]
["421125","91421125798761967R","黄冈市东方运输集团旅游运输有限公司浠水分公司",19,828,0,0,19,828,5840,1022584,0,0,0,0,0,0,0,0,5840,1022584,{"v":175.1,"d":"175"},0,0,0,0,{"v":175.1,"d":"175"},""]
["422825","91422825MA49PK855G","宣恩彭家寨旅游客运有限公司",15,562,0,0,15,562,2673,35134,0,0,0,0,0,0,0,0,2673,35134,{"v":13.144,"d":"13"},0,0,0,0,{"v":13.144,"d":"13"},""]
["421123","91421123MA499DEE07","湖北安捷公交有限公司",24,682,0,0,24,682,6726,98262,0,0,0,0,0,0,0,0,6726,98262,{"v":14.6093,"d":"15"},0,0,0,0,{"v":14.6093,"d":"15"},""]
["421123","914211235914736186","罗田县大别山客运有限公司",4,39,4,39,0,0,9350,175320,0,0,0,0,0,0,9350,175320,0,0,{"v":18.7508,"d":"19"},0,0,0,{"v":18.7508,"d":"19"},0,""]
["422828","91422828183415195E","鹤峰县景发客运联营有限公司",17,393,17,393,0,0,4274,82492,0,0,0,0,2353,39857,1801,34235,120,8400,{"v":19.3009,"d":"19"},0,0,{"v":16.9388,"d":"17"},{"v":19.0089,"d":"19"},70,""]
["420804","91420800MA4988TU83","荆门风行汽车运输有限公司",30,212,0,0,30,212,3358,839500,0,0,0,0,0,0,0,0,3358,839500,250,0,0,0,0,250,""]
["421303","91421303MA499G2D4F","湖北捷龙恒通运业有限公司旅游运输分公司",0,0,0,0,0,0,0,0,0,0,0,0,0,0,0,0,0,0,0,0,0,0,0,0,""]
["421321","91421321553944992B","湖北通宇运业有限公司随县分公司",0,0,0,0,0,0,0,0,0,0,0,0,0,0,0,0,0,0,0,0,0,0,0,0,""]
["421123","9142112379875736XJ","黄冈市东方运输集团旅游运输有限公司罗田分公司",3,150,0,0,3,150,0,0,0,0,0,0,0,0,0,0,0,0,0,0,0,0,0,0,""]
["420802","91420800MA4999P99H","湖北群艺运输有限公司",7,272,0,0,7,272,82,434,0,0,0,0,0,0,0,0,82,434,{"v":5.2927,"d":"5"},0,0,0,0,{"v":5.2927,"d":"5"},""]
["420821","91420821MA49CEK540","荆门京源旅游客运有限公司",12,482,0,0,12,482,1346,307277,0,0,0,0,0,0,0,0,1346,307277,{"v":228.289,"d":"228"},0,0,0,0,{"v":228.289,"d":"228"},""]
["421321","9142132155394495XT","随州市顺捷汽车运输有限公司随县分公司",0,0,0,0,0,0,0,0,0,0,0,0,0,0,0,0,0,0,0,0,0,0,0,0,""]
["420804","91420800698039483Q","荆门市学安接送服务有限公司",33,1037,33,1037,0,0,11803,295075,0,0,0,0,0,0,11803,295075,0,0,25,0,0,0,25,0,""]
["421321","9142132155065800XW","湖北捷龙恒通运业有限公司随县分公司",0,0,0,0,0,0,0,0,0,0,0,0,0,0,0,0,0,0,0,0,0,0,0,0,""]
["422801","91422801MA49RCNA0R","恩施安驰旅游客运有限责任公司",40,1617,0,0,40,1617,5800,2431000,0,0,0,0,0,0,0,0,5800,2431000,{"v":419.1379,"d":"419"},0,0,0,0,{"v":419.1379,"d":"419"},""]
["420506","91420506MA4F15E65T","湖北寰鹏客运有限公司",25,1020,0,0,25,1020,36945,6871770,0,0,0,0,0,0,0,0,36945,6871770,186,0,0,0,0,186,""]
["420984","91420984MA497TN9X0","汉川安运运输有限公司",11,294,11,294,0,0,4492,89297,0,0,0,0,0,0,4492,89297,0,0,{"v":19.8791,"d":"20"},0,0,0,{"v":19.8791,"d":"20"},0,""]
["420200","91420200MA4F2YFW9R","鄂旅投黄石客运服务有限公司",11,393,11,393,0,0,7360,58880,0,0,0,0,0,0,7360,58880,0,0,8,0,0,0,8,0,""]
["421181","914211816622616564","黄冈市东方运输集团旅游运输有限公司麻城分公司",3,160,0,0,3,160,1070,556900,0,0,0,0,0,0,0,0,1070,556900,{"v":520.4673,"d":"520"},0,0,0,0,{"v":520.4673,"d":"520"},""]
["420602","91420600MA4F2XL45E","襄阳古隆中旅游服务有限公司",2,34,0,0,2,34,415,4150,0,0,0,0,0,0,0,0,415,4150,10,0,0,0,0,10,""]
["420626","91420626676499366X","保康县神达旅游客运有限公司",1,7,1,7,0,0,208,12480,0,0,0,0,0,0,208,12480,0,0,60,0,0,0,60,0,""]
["421023","91421023MA49E5DU0N","监利市顺通旅游客运有限公司",45,1516,0,0,45,1516,4750,2137500,0,0,0,0,0,0,0,0,4750,2137500,450,0,0,0,0,450,""]
["429006","91429006MA4F0U6H7U","湖北侨美运输有限公司",23,1080,0,0,23,1080,8554,4355240,0,0,0,0,0,0,0,0,8554,4355240,{"v":509.1466,"d":"509"},0,0,0,0,{"v":509.1466,"d":"509"},""]
["422828","91422828MA4F3KMN72","湖北硒之行客运有限公司",13,440,0,0,13,440,17670,318060,0,0,0,0,0,0,0,0,17670,318060,18,0,0,0,0,18,""]
["422801","91422823MA49P9CN8W","湖北鸿益旅游客运有限责任公司",26,1196,0,0,26,1196,2550,561000,0,0,0,0,0,0,0,0,2550,561000,220,0,0,0,0,220,""]
["420683","91420683MA48C4GK3Y","枣阳市平林华融汇客运有限公司",19,371,19,371,0,0,4009,173766,0,0,0,0,0,0,4009,173766,0,0,{"v":43.344,"d":"43"},0,0,0,{"v":43.344,"d":"43"},0,""]
["422801","91422801MA4F2LMD2L","恩施州开运客运有限公司",80,1989,0,0,80,1989,4911,392880,0,0,0,0,0,0,0,0,4911,392880,80,0,0,0,0,80,""]
["422801","91422801MA4F2GGK84","恩施州军成客运有限公司",34,1108,0,0,34,1108,7084,1536019,0,0,0,0,0,0,0,0,7084,1536019,{"v":216.8293,"d":"217"},0,0,0,0,{"v":216.8293,"d":"217"},""]
["421083","91421083MA4F0Y254J","湖北玲辉旅游客运有限公司",49,1806,0,0,49,1806,9229,3629311,0,0,0,0,0,0,0,0,9229,3629311,{"v":393.2507,"d":"393"},0,0,0,0,{"v":393.2507,"d":"393"},""]
["422801","91422801MA49QN55XE","恩施市宏安礼宾旅游运输有限公司",69,2151,0,0,69,2151,3422,3413809,0,0,0,0,0,0,0,0,3422,3413809,{"v":997.6064,"d":"998"},0,0,0,0,{"v":997.6064,"d":"998"},""]
["420381","91420381MA499YPP85","湖北韵龙旅游运输有限公司",38,1193,0,0,38,1193,5143,3557500,0,0,0,0,0,0,0,0,5143,3557500,{"v":691.7169,"d":"692"},0,0,0,0,{"v":691.7169,"d":"692"},""]
["420100","91420105MA4F5Q3R68","武汉市宏干线公路客运有限公司金地分公司",16,684,16,684,0,0,11397,4120000,5454,2908700,5943,1211300,0,0,0,0,0,0,{"v":361.4986,"d":"361"},{"v":533.315,"d":"533"},{"v":203.8196,"d":"204"},0,0,0,""]
["420100","91420112MA7E9B6A1F","武汉市宏干线公路客运有限公司鑫运达分公司",13,402,13,402,0,0,9400,1442840,7560,914760,1840,528080,0,0,0,0,0,0,{"v":153.4936,"d":"153"},121,287,0,0,0,""]
["420703","91420700MA495AGB9Y","鄂州市顺安旅游客运有限公司庙岭分公司",0,0,0,0,0,0,0,0,0,0,0,0,0,0,0,0,0,0,0,0,0,0,0,0,""]
["420703","91420700MA48AWCW17","鄂州市大鹏客运有限公司二分公司",0,0,0,0,0,0,0,0,0,0,0,0,0,0,0,0,0,0,0,0,0,0,0,0,""]
["420700","91420700MA4930UC8K","鄂州市大鹏客运有限公司旅游客运分公司",28,1122,0,0,28,1122,23712,905698,0,0,0,0,0,0,0,0,23712,905698,{"v":38.1958,"d":"38"},0,0,0,0,{"v":38.1958,"d":"38"},""]
["420222","91420222MA49LMFL4Q","阳新县益乐城乡运输有限公司",9,144,9,144,0,0,4298,134752,0,0,0,0,0,0,4298,134752,0,0,{"v":31.3523,"d":"31"},0,0,0,{"v":31.3523,"d":"31"},0,""]
["420303","91420303MA48B9FE6E","十堰公交集团校车运营管理有限公司",11,550,0,0,11,550,4996,626569,0,0,0,0,0,0,0,0,4996,626569,{"v":125.4141,"d":"125"},0,0,0,0,{"v":125.4141,"d":"125"},""]
["421182","91421182MA49A0PN47","武穴市融兴通勤服务有限公司",19,834,0,0,19,834,25524,669750,0,0,0,0,0,0,0,0,25524,669750,{"v":26.24,"d":"26"},0,0,0,0,{"v":26.24,"d":"26"},""]
["420100","91420100MA49AWX04P","湖北三源互通科技有限公司",23,512,0,0,23,512,1550,23868,0,0,0,0,0,0,0,0,1550,23868,{"v":15.3987,"d":"15"},0,0,0,0,{"v":15.3987,"d":"15"},""]
["421083","91421083MA49Q37R87","洪湖市春泰客运有限公司",19,145,0,0,19,145,2040,277440,0,0,0,0,0,0,0,0,2040,277440,136,0,0,0,0,136,""]
["420100","91420100MA49KLU18M","武汉吟海通达汽车服务有限公司",11,508,0,0,11,508,12021,288632,0,0,0,0,0,0,0,0,12021,288632,{"v":24.0106,"d":"24"},0,0,0,0,{"v":24.0106,"d":"24"},""]
["421023","91421023MABTT80Q66","监利市伟邦运输有限公司",2,53,2,53,0,0,1890,132300,0,0,0,0,0,0,1890,132300,0,0,70,0,0,0,70,0,""]
["420100","91420106778184701A","武汉市宏干线公路客运有限公司武昌分公司",7,261,7,261,0,0,3380,365040,0,0,3380,365040,0,0,0,0,0,0,108,0,108,0,0,0,""]
["420821","91420821MA49GX7L6W","湖北众人旅客运输有限公司",13,101,0,0,13,101,4639,749980,0,0,0,0,0,0,0,0,4639,749980,{"v":161.6685,"d":"162"},0,0,0,0,{"v":161.6685,"d":"162"},""]
["422802","91422802MABQG7TL3T","恩施鑫达客运有限公司利川分公司",8,362,0,0,8,362,510,610320,0,0,0,0,0,0,0,0,510,610320,{"v":1196.7059,"d":"1197"},0,0,0,0,{"v":1196.7059,"d":"1197"},""]
["420626","914206265882086370","湖北荆山楚源生态文化旅游开发有限公司",2,78,2,78,0,0,116,2900,0,0,0,0,0,0,116,2900,0,0,25,0,0,0,25,0,""]
["420503","91420500MA491F0P3Q","宜昌市新旅运汽车服务有限公司",20,1040,0,0,20,1040,4014,284781,0,0,0,0,0,0,0,0,4014,284781,{"v":70.9469,"d":"71"},0,0,0,0,{"v":70.9469,"d":"71"},""]
["420526","91420526MAC397W62Y","宜昌森杰客运联营有限公司",55,460,55,460,0,0,17480,769120,0,0,0,0,0,0,17480,769120,0,0,44,0,0,0,44,0,""]
["420200","91420200MA7HMTRX68","黄石鑫三盛旅游客运有限公司",21,917,0,0,21,917,4261,1879365,0,0,0,0,0,0,0,0,4261,1879365,{"v":441.062,"d":"441"},0,0,0,0,{"v":441.062,"d":"441"},""]
["420527","91420527MA499B5F6B","湖北三峡橙谷农旅体综合开发有限公司",4,76,4,76,0,0,13452,163785,0,0,0,0,0,0,13452,163785,0,0,{"v":12.1755,"d":"12"},0,0,0,{"v":12.1755,"d":"12"},0,""]
["420281","91420281MAC3FD287U","大冶市城发公交旅游服务有限公司",20,786,0,0,20,786,3641,138358,0,0,0,0,0,0,0,0,3641,138358,38,0,0,0,0,38,""]
["420324","91420324MA49P2098L","十堰竹溪亨运农村客运有限公司",100,800,100,800,0,0,27360,1942560,0,0,0,0,0,0,27360,1942560,0,0,71,0,0,0,71,0,""]
["420506","91420506MACDHB4B97","宜昌市飞途运输有限公司",28,926,0,0,28,926,6476,3268748,0,0,0,0,0,0,0,0,6476,3268748,{"v":504.748,"d":"505"},0,0,0,0,{"v":504.748,"d":"505"},""]
["422801","91422801MABY0WRN5A","恩施市桃花源旅游客运有限公司",20,861,0,0,20,861,2100,315000,0,0,0,0,0,0,0,0,2100,315000,150,0,0,0,0,150,""]
["422801","91422801MA7G9DGB0Q","湖北省美途旅游客运有限公司",42,318,0,0,42,318,1080,118800,0,0,0,0,0,0,0,0,1080,118800,110,0,0,0,0,110,""]
["421125","91421125MACK2JNQ91","湖北省三角山昊宇旅游客运有限公司",14,458,0,0,14,458,335,10050,0,0,0,0,0,0,0,0,335,10050,30,0,0,0,0,30,""]
["420506","91420506MACHQGUL22","宜昌沃达旅游客运有限公司",36,1055,0,0,36,1055,3425,446512,0,0,0,0,0,0,0,0,3425,446512,{"v":130.3685,"d":"130"},0,0,0,0,{"v":130.3685,"d":"130"},""]
["420200","91420200MA49FTX700","黄石市交通运输集团天一新能源有限公司",12,405,0,0,12,405,3860,559816,0,0,0,0,0,0,0,0,3860,559816,{"v":145.0301,"d":"145"},0,0,0,0,{"v":145.0301,"d":"145"},""]
["420802","91420800MA495LU910","湖北华轩汽车运输服务有限公司",19,799,0,0,19,799,9365,69246,0,0,0,0,0,0,0,0,9365,69246,{"v":7.3941,"d":"7"},0,0,0,0,{"v":7.3941,"d":"7"},""]
["420683","91420683MA48RPTJ71","枣阳市坐兴客客运有限公司",19,397,19,397,0,0,3031,98119,0,0,0,0,0,0,3031,98119,0,0,{"v":32.3718,"d":"32"},0,0,0,{"v":32.3718,"d":"32"},0,""]
["420822","91420822MAC53M9D3Y","湖北致诚旅游客运有限公司",20,692,0,0,20,692,3044,1196292,0,0,0,0,0,0,0,0,3044,1196292,393,0,0,0,0,393,""]
["421125","91421125MAD1YT3T2U","浠水县辰和客运联营有限责任公司",6,114,6,114,0,0,9981,259506,0,0,0,0,0,0,9981,259506,0,0,26,0,0,0,26,0,""]
["420881","91420881MACK1P8G2T","湖北省亚迪达旅游客运有限公司",12,540,0,0,12,540,1385,602713,0,0,0,0,0,0,0,0,1385,602713,{"v":435.1718,"d":"435"},0,0,0,0,{"v":435.1718,"d":"435"},""]
["422801","91422801MACA7NDH0Y","恩施州众鑫旅游客运有限公司",120,3972,0,0,120,3972,8115,1071953,0,0,0,0,0,0,0,0,8115,1071953,{"v":132.0953,"d":"132"},0,0,0,0,{"v":132.0953,"d":"132"},""]
["420683","91420683MA4953PD3M","枣阳市树生公共汽车服务有限公司",5,80,5,80,0,0,1727,33624,0,0,0,0,0,0,1727,33624,0,0,{"v":19.4696,"d":"19"},0,0,0,{"v":19.4696,"d":"19"},0,""]
["421127","91421127MACG3KB391","湖北明珠集团旅游客运有限公司",29,1337,0,0,29,1337,6008,1186510,0,0,0,0,0,0,0,0,6008,1186510,{"v":197.4883,"d":"197"},0,0,0,0,{"v":197.4883,"d":"197"},""]
["422801","91422801MACG61CH4M","恩施州顺驰旅游客运有限公司",43,1389,0,0,43,1389,4316,513350,0,0,0,0,0,0,0,0,4316,513350,{"v":118.9411,"d":"119"},0,0,0,0,{"v":118.9411,"d":"119"},""]
["420702","91420702MAC99A257G","鄂州市梁子湖区新征程客运联营有限公司",9,63,9,63,0,0,1210,30250,0,0,0,0,0,0,1210,30250,0,0,25,0,0,0,25,0,""]
["420602","91420600MACMRPDH6Y","湖北三丰旅游有限公司",46,1607,0,0,46,1607,4921,3007733,0,0,0,0,0,0,0,0,4921,3007733,{"v":611.2036,"d":"611"},0,0,0,0,{"v":611.2036,"d":"611"},""]
["422801","91422801MAC9Q1C405","恩施州客顺旅游客运有限公司",18,403,0,0,18,403,98,11585,0,0,0,0,0,0,0,0,98,11585,{"v":118.2143,"d":"118"},0,0,0,0,{"v":118.2143,"d":"118"},""]
["422801","91422801MACKTQY96J","恩施州中诚旅游客运有限公司",22,811,0,0,22,811,110,4950,0,0,0,0,0,0,0,0,110,4950,45,0,0,0,0,45,""]
["420506","91420500MA4930E59B","宜昌鸿盛汽车运输有限公司",13,502,0,0,13,502,7140,278460,0,0,0,0,0,0,0,0,7140,278460,39,0,0,0,0,39,""]
["421202","91421202MABLP5FNX1","湖北恒烁智能科技有限公司",0,0,0,0,0,0,0,0,0,0,0,0,0,0,0,0,0,0,0,0,0,0,0,0,""]
["422802","91422802MAD27PRM0E","利川市安欣旅游客运有限责任公司",42,1069,4,36,38,1033,5160,509502,0,0,0,0,722,65702,0,0,4438,443800,{"v":98.7407,"d":"99"},0,0,91,0,100,""]
["422801","91422801MACF56989L","恩施市恒达旅游客运有限公司",20,783,0,0,20,783,10026,581508,0,0,0,0,0,0,0,0,10026,581508,58,0,0,0,0,58,""]
["420200","91420202MADKQ0W98D","黄石市致达汽车服务有限公司",10,435,0,0,10,435,6544,568798,0,0,0,0,0,0,0,0,6544,568798,{"v":86.919,"d":"87"},0,0,0,0,{"v":86.919,"d":"87"},""]
["421181","91421181MACF4Q4HX5","麻城市启航旅游开发有限公司",20,788,0,0,20,788,9402,4166120,0,0,0,0,0,0,0,0,9402,4166120,{"v":443.11,"d":"443"},0,0,0,0,{"v":443.11,"d":"443"},""]
["420581","914205817068727832","宜都华运运输有限公司",26,668,20,380,6,288,7705,1233350,0,0,0,0,0,0,3205,544850,4500,688500,{"v":160.0714,"d":"160"},0,0,0,170,153,""]
["420200","91420204MADL7LGN5R","黄石市东楚国跃国际旅行社有限公司",10,335,0,0,10,335,2486,267108,0,0,0,0,0,0,0,0,2486,267108,{"v":107.4449,"d":"107"},0,0,0,0,{"v":107.4449,"d":"107"},""]
["422801","91422801MAD599CH4G","恩施市宇捷旅游客运有限公司",32,1089,0,0,32,1089,3240,2592000,0,0,0,0,0,0,0,0,3240,2592000,800,0,0,0,0,800,""]
["420100","91420112MA4KLD1F16","武汉亚投新能科技有限公司",16,616,0,0,16,616,6173,147449,0,0,0,0,0,0,0,0,6173,147449,{"v":23.8861,"d":"24"},0,0,0,0,{"v":23.8861,"d":"24"},""]
["420115","91420115551955559C","武汉鑫龙通勤汽车服务有限公司",24,1105,0,0,24,1105,33320,2114514,0,0,0,0,0,0,0,0,33320,2114514,{"v":63.4608,"d":"63"},0,0,0,0,{"v":63.4608,"d":"63"},""]
["420100","914201065519629783","武汉永兴泰汽车通勤服务有限责任公司",8,299,0,0,8,299,3485,111520,0,0,0,0,0,0,0,0,3485,111520,32,0,0,0,0,32,""]
["420100","91420114090806592K","武汉市胜宇达汽车服务有限公司",48,2054,0,0,48,2054,11328,146846,0,0,0,0,0,0,0,0,11328,146846,{"v":12.9631,"d":"13"},0,0,0,0,{"v":12.9631,"d":"13"},""]
["420100","91420104796307787W","武汉开心通勤汽车服务有限公司",10,480,0,0,10,480,8589,101768,0,0,0,0,0,0,0,0,8589,101768,{"v":11.8486,"d":"12"},0,0,0,0,{"v":11.8486,"d":"12"},""]
["420100","91420105597900393M","武汉震亚汽车租赁服务有限公司",14,461,0,0,14,461,5377,97531,0,0,0,0,0,0,0,0,5377,97531,{"v":18.1386,"d":"18"},0,0,0,0,{"v":18.1386,"d":"18"},""]
["422825","91422825MABTPX0BX3","湖北郝运旅游客运有限公司",24,614,0,0,24,614,1542,166536,0,0,0,0,0,0,0,0,1542,166536,108,0,0,0,0,108,""]
["420100","914201116888270724","武汉磊锋通勤汽车服务有限公司",13,412,0,0,13,412,4052,197690,0,0,0,0,0,0,0,0,4052,197690,{"v":48.7883,"d":"49"},0,0,0,0,{"v":48.7883,"d":"49"},""]
["420100","91420116MA4K23GH2N","武汉市恒昌鸿顺通勤汽车服务有限公司",10,335,0,0,10,335,3360,172134,0,0,0,0,0,0,0,0,3360,172134,{"v":51.2304,"d":"51"},0,0,0,0,{"v":51.2304,"d":"51"},""]
["420100","914201065910566977","武汉中盛建运汽车服务有限公司",10,444,0,0,10,444,3433,147928,0,0,0,0,0,0,0,0,3433,147928,{"v":43.09,"d":"43"},0,0,0,0,{"v":43.09,"d":"43"},""]
["422801","91422801MADEDNB23C","恩施州胜鑫旅游客运有限责任公司",25,722,0,0,25,722,2180,166536,0,0,0,0,0,0,0,0,2180,166536,{"v":76.3927,"d":"76"},0,0,0,0,{"v":76.3927,"d":"76"},""]
["420100","91420100682302849G","武汉易达顺汽车服务有限公司",15,599,0,0,15,599,9415,271400,0,0,0,0,0,0,0,0,9415,271400,{"v":28.8263,"d":"29"},0,0,0,0,{"v":28.8263,"d":"29"},""]
["420100","914201056667667741","武汉长荣联合商务有限公司",10,480,0,0,10,480,11130,233026,0,0,0,0,0,0,0,0,11130,233026,{"v":20.9367,"d":"21"},0,0,0,0,{"v":20.9367,"d":"21"},""]
["420100","914201060520246611","武汉新纬度汽车服务有限公司",10,480,0,0,10,480,13200,897600,0,0,0,0,0,0,0,0,13200,897600,68,0,0,0,0,68,""]
["420115","91420115MA4F0PJR85","武汉顺福程汽车服务有限公司",14,621,0,0,14,621,22325,970463,0,0,0,0,0,0,0,0,22325,970463,{"v":43.4698,"d":"43"},0,0,0,0,{"v":43.4698,"d":"43"},""]
["420100","91420102685423486D","武汉瑞晟捷汽车运输服务有限公司",23,1135,0,0,23,1135,17003,732681,0,0,0,0,0,0,0,0,17003,732681,{"v":43.0913,"d":"43"},0,0,0,0,{"v":43.0913,"d":"43"},""]
["420100","914201066983262120","武汉凯德通勤汽车服务有限公司",30,1374,0,0,30,1374,31987,1449651,0,0,0,0,0,0,0,0,31987,1449651,{"v":45.32,"d":"45"},0,0,0,0,{"v":45.32,"d":"45"},""]
["420115","91420115MA4K2NF60A","武汉凯盛捷汽车服务有限公司",9,404,0,0,9,404,17889,303375,0,0,0,0,0,0,0,0,17889,303375,{"v":16.9587,"d":"17"},0,0,0,0,{"v":16.9587,"d":"17"},""]
["420100","91420112MA4K2H7N24","武汉杰龙文化传播有限公司",14,459,0,0,14,459,1485,45441,0,0,0,0,0,0,0,0,1485,45441,{"v":30.6,"d":"31"},0,0,0,0,{"v":30.6,"d":"31"},""]
["421000","91421000MA4911CW92","荆州先行旅游客运有限公司",56,2313,0,0,56,2313,12692,8871708,0,0,0,0,0,0,0,0,12692,8871708,699,0,0,0,0,699,""]
["420115","91420115562332701D","武汉金星联合商务有限公司",55,2511,0,0,55,2511,303276,6745379,0,0,0,0,0,0,0,0,303276,6745379,{"v":22.2417,"d":"22"},0,0,0,0,{"v":22.2417,"d":"22"},""]
["420100","91420114063032480Q","武汉恒诚汽车服务有限公司",18,864,0,0,18,864,9874,983593,0,0,0,0,0,0,0,0,9874,983593,{"v":99.6144,"d":"100"},0,0,0,0,{"v":99.6144,"d":"100"},""]
["420100","91420100MAC8X3RA85","湖北新角色出行服务有限公司",25,1062,0,0,25,1062,25688,547523,0,0,0,0,0,0,0,0,25688,547523,{"v":21.3143,"d":"21"},0,0,0,0,{"v":21.3143,"d":"21"},""]
["420100","914201055848885403","武汉鑫顺鑫汽车通勤服务有限公司",17,744,0,0,17,744,11160,370512,0,0,0,0,0,0,0,0,11160,370512,{"v":33.2,"d":"33"},0,0,0,0,{"v":33.2,"d":"33"},""]
["420100","91420100591093498H","武汉顺福隆通勤汽车服务有限公司",12,547,0,0,12,547,51748,834414,0,0,0,0,0,0,0,0,51748,834414,{"v":16.1246,"d":"16"},0,0,0,0,{"v":16.1246,"d":"16"},""]
["420502","91420500MA49985G6J","宜昌辉腾汽车服务有限公司",14,268,0,0,14,268,2012,184266,0,0,0,0,0,0,0,0,2012,184266,{"v":91.5835,"d":"92"},0,0,0,0,{"v":91.5835,"d":"92"},""]
["420115","91420115MA49GH4YXW","武汉畅瑞达科技有限公司",15,706,0,0,15,706,15166,505679,0,0,0,0,0,0,0,0,15166,505679,{"v":33.3429,"d":"33"},0,0,0,0,{"v":33.3429,"d":"33"},""]
["420100","91420107303334526J","武汉绿岛梦缘运输代理服务有限公司",6,240,0,0,6,240,6360,287472,0,0,0,0,0,0,0,0,6360,287472,{"v":45.2,"d":"45"},0,0,0,0,{"v":45.2,"d":"45"},""]
["420100","91420102MA4K473L49","武汉久鼎汉辉汽车服务有限公司",50,2376,0,0,50,2376,285120,1568880,0,0,0,0,0,0,0,0,285120,1568880,{"v":5.5025,"d":"6"},0,0,0,0,{"v":5.5025,"d":"6"},""]
["420100","91420104679110512X","武汉市和畅汽车服务有限公司",16,656,0,0,16,656,4500,245000,0,0,0,0,0,0,0,0,4500,245000,{"v":54.4444,"d":"54"},0,0,0,0,{"v":54.4444,"d":"54"},""]
["420115","914201153033866172","武汉鑫长运通勤服务有限公司",17,796,0,0,17,796,24282,839515,0,0,0,0,0,0,0,0,24282,839515,{"v":34.5736,"d":"35"},0,0,0,0,{"v":34.5736,"d":"35"},""]
["420100","91420104748343708U","武汉市光大通勤汽车服务有限公司",53,2427,0,0,53,2427,60102,2448822,0,0,0,0,0,0,0,0,60102,2448822,{"v":40.7444,"d":"41"},0,0,0,0,{"v":40.7444,"d":"41"},""]
["420100","91420106055734386X","武汉驰骋安达商务有限公司",55,2322,0,0,55,2322,9542,496532,0,0,0,0,0,0,0,0,9542,496532,{"v":52.0365,"d":"52"},0,0,0,0,{"v":52.0365,"d":"52"},""]
["420100","91420112333510818Y","武汉福鑫运业汽车服务有限公司",19,856,0,0,19,856,25830,1293690,0,0,0,0,0,0,0,0,25830,1293690,{"v":50.0848,"d":"50"},0,0,0,0,{"v":50.0848,"d":"50"},""]
["420100","914201116727929015","武汉光迁汽车服务有限公司",10,411,0,0,10,411,10985,339797,0,0,0,0,0,0,0,0,10985,339797,{"v":30.9328,"d":"31"},0,0,0,0,{"v":30.9328,"d":"31"},""]
["420100","91420112MA4K2AUNXN","武汉凯美途商务服务有限公司",10,460,0,0,10,460,2568,95362,0,0,0,0,0,0,0,0,2568,95362,{"v":37.1347,"d":"37"},0,0,0,0,{"v":37.1347,"d":"37"},""]
["420115","91420115MA4KNPTC9W","武汉欣达远汽车服务有限公司",12,510,0,0,12,510,4288,163875,0,0,0,0,0,0,0,0,4288,163875,{"v":38.2171,"d":"38"},0,0,0,0,{"v":38.2171,"d":"38"},""]
["420100","914201050668374601","武汉吉顺通汽车服务有限公司",10,438,0,0,10,438,13271,944335,0,0,0,0,0,0,0,0,13271,944335,{"v":71.1578,"d":"71"},0,0,0,0,{"v":71.1578,"d":"71"},""]
["420115","91420111303745245J","武汉鸿发腾辉汽车通勤服务有限公司",11,446,0,0,11,446,6884,254158,0,0,0,0,0,0,0,0,6884,254158,{"v":36.9201,"d":"37"},0,0,0,0,{"v":36.9201,"d":"37"},""]
["420100","91420106MA4K2FXE9A","武汉今朝翔商务服务有限公司",10,436,0,0,10,436,5669,340140,0,0,0,0,0,0,0,0,5669,340140,60,0,0,0,0,60,""]
["420115","91420115MA4KNW021A","武汉巴通旅游客运有限公司",16,714,0,0,16,714,22032,804168,0,0,0,0,0,0,0,0,22032,804168,{"v":36.5,"d":"37"},0,0,0,0,{"v":36.5,"d":"37"},""]
["420100","91420100MA4KXMG55G","武汉言智行汽车服务有限公司",10,480,0,0,10,480,13456,626947,0,0,0,0,0,0,0,0,13456,626947,{"v":46.5924,"d":"47"},0,0,0,0,{"v":46.5924,"d":"47"},""]
["420115","91420115303770387F","武汉欣启程汽车服务有限公司",15,692,0,0,15,692,17692,455683,0,0,0,0,0,0,0,0,17692,455683,{"v":25.7564,"d":"26"},0,0,0,0,{"v":25.7564,"d":"26"},""]
["420100","914201005519761659","武汉捷安顺达汽车服务有限公司",25,1103,0,0,25,1103,56641,2227567,0,0,0,0,0,0,0,0,56641,2227567,{"v":39.3278,"d":"39"},0,0,0,0,{"v":39.3278,"d":"39"},""]
["420100","91420116090804167P","武汉兴荣昌汽车租赁有限公司",16,585,0,0,16,585,17115,821520,0,0,0,0,0,0,0,0,17115,821520,48,0,0,0,0,48,""]
["420100","914201047819851122","武汉安信新能源运营管理有限公司",10,480,0,0,10,480,14528,236409,0,0,0,0,0,0,0,0,14528,236409,{"v":16.2726,"d":"16"},0,0,0,0,{"v":16.2726,"d":"16"},""]
["420100","91420100303659697Q","武汉弛力汽车服务有限公司",12,576,0,0,12,576,10395,311850,0,0,0,0,0,0,0,0,10395,311850,30,0,0,0,0,30,""]
["420800","91420802MACAA7LX53","湖北安杰运输有限公司",20,899,0,0,20,899,6400,1862219,0,0,0,0,0,0,0,0,6400,1862219,{"v":290.9717,"d":"291"},0,0,0,0,{"v":290.9717,"d":"291"},""]
["420100","914201000630449916","武汉远成宏运汽车服务有限公司",22,821,0,0,22,821,48944,885202,0,0,0,0,0,0,0,0,48944,885202,{"v":18.086,"d":"18"},0,0,0,0,{"v":18.086,"d":"18"},""]
["420115","91420115MA49JU9PXR","武汉青苗雅瑞校车服务有限公司",20,960,0,0,20,960,29631,1059471,0,0,0,0,0,0,0,0,29631,1059471,{"v":35.7555,"d":"36"},0,0,0,0,{"v":35.7555,"d":"36"},""]
["420100","9142010472826982XQ","武汉市全球通通勤汽车服务有限公司",137,6072,0,0,137,6072,153111,4470621,0,0,0,0,0,0,0,0,153111,4470621,{"v":29.1986,"d":"29"},0,0,0,0,{"v":29.1986,"d":"29"},""]
["420100","91420105672794907G","武汉市诚安汽车服务有限公司",11,430,0,0,11,430,7770,260505,0,0,0,0,0,0,0,0,7770,260505,{"v":33.527,"d":"34"},0,0,0,0,{"v":33.527,"d":"34"},""]
["420100","91420112717957985G","武汉市长带运输有限公司",38,1532,0,0,38,1532,72900,1268477,0,0,0,0,0,0,0,0,72900,1268477,{"v":17.4002,"d":"17"},0,0,0,0,{"v":17.4002,"d":"17"},""]
["422801","91422801MACM69JQX3","湖北翎航旅游客运有限责任公司",69,579,0,0,69,579,215,64500,0,0,0,0,0,0,0,0,215,64500,300,0,0,0,0,300,""]
["420821","91420821MADLRHP532","京山鸿途运输有限公司",6,54,0,0,6,54,1263,192053,0,0,0,0,0,0,0,0,1263,192053,{"v":152.061,"d":"152"},0,0,0,0,{"v":152.061,"d":"152"},""]
["420100","914201110866110125","武汉嘉辉天实通勤汽车服务有限公司",16,726,0,0,16,726,11358,503479,0,0,0,0,0,0,0,0,11358,503479,{"v":44.3281,"d":"44"},0,0,0,0,{"v":44.3281,"d":"44"},""]
["420100","91420112565586432J","武汉凯达顺汽车服务有限公司",14,630,0,0,14,630,17480,521898,0,0,0,0,0,0,0,0,17480,521898,{"v":29.8569,"d":"30"},0,0,0,0,{"v":29.8569,"d":"30"},""]
["420115","9142010605201122XF","武汉阳光旅业汽车服务有限公司",16,552,0,0,16,552,22438,938912,0,0,0,0,0,0,0,0,22438,938912,{"v":41.8447,"d":"42"},0,0,0,0,{"v":41.8447,"d":"42"},""]
["420100","91420107MA4F1NYF5K","武汉新分子贸易有限公司",11,448,0,0,11,448,9636,592792,0,0,0,0,0,0,0,0,9636,592792,{"v":61.5185,"d":"62"},0,0,0,0,{"v":61.5185,"d":"62"},""]
["420100","914201005910523545","武汉鑫乐驰通勤服务有限公司",10,388,0,0,10,388,12850,486000,0,0,0,0,0,0,0,0,12850,486000,{"v":37.821,"d":"38"},0,0,0,0,{"v":37.821,"d":"38"},""]
["420100","91420000177604168W","湖北汽车工业进出口有限责任公司",63,2949,0,0,63,2949,151003,3447556,0,0,0,0,0,0,0,0,151003,3447556,{"v":22.831,"d":"23"},0,0,0,0,{"v":22.831,"d":"23"},""]
["420100","91420112574924149H","武汉欣运达旅游汽车服务有限公司",10,480,0,0,10,480,6768,419622,0,0,0,0,0,0,0,0,6768,419622,{"v":62.0009,"d":"62"},0,0,0,0,{"v":62.0009,"d":"62"},""]
["421202","91421202MA49LQY202","湖北万通缘国际旅游发展有限公司咸宁分公司",11,508,0,0,11,508,6678,1503742,0,0,0,0,0,0,0,0,6678,1503742,{"v":225.1785,"d":"225"},0,0,0,0,{"v":225.1785,"d":"225"},""]
["420100","91420111MA49D98E3P","武汉市恩骏达汽车服务有限责任公司",9,311,0,0,9,311,5431,172209,0,0,0,0,0,0,0,0,5431,172209,{"v":31.7085,"d":"32"},0,0,0,0,{"v":31.7085,"d":"32"},""]
["420100","914201120960141070","武汉园博汽车管理服务有限公司",13,555,0,0,13,555,10049,395449,0,0,0,0,0,0,0,0,10049,395449,{"v":39.3521,"d":"39"},0,0,0,0,{"v":39.3521,"d":"39"},""]
["420100","91420105558416494J","武汉裕腾汽车服务有限公司",15,540,0,0,15,540,21600,604800,0,0,0,0,0,0,0,0,21600,604800,28,0,0,0,0,28,""]
["420100","914201055749051409","武汉鼎盛通汽车租赁服务有限公司",11,433,0,0,11,433,9901,331855,0,0,0,0,0,0,0,0,9901,331855,{"v":33.5173,"d":"34"},0,0,0,0,{"v":33.5173,"d":"34"},""]
["420100","91420112MA49CHQJ5D","武汉市捷运通新能源有限责任公司",122,5612,0,0,122,5612,58997,4963891,0,0,0,0,0,0,0,0,58997,4963891,{"v":84.138,"d":"84"},0,0,0,0,{"v":84.138,"d":"84"},""]
["420115","91420115MA4KR9AR9H","武汉市夏东汽车服务有限公司",11,270,0,0,11,270,4011,109540,0,0,0,0,0,0,0,0,4011,109540,{"v":27.3099,"d":"27"},0,0,0,0,{"v":27.3099,"d":"27"},""]
["420100","91420105MA49R1GM4W","武汉楚运汽车租赁有限公司",12,577,0,0,12,577,10045,303673,0,0,0,0,0,0,0,0,10045,303673,{"v":30.2313,"d":"30"},0,0,0,0,{"v":30.2313,"d":"30"},""]
["420100","91420111303446966Y","武汉市拓城汽车租赁有限公司",23,877,0,0,23,877,20901,1280000,0,0,0,0,0,0,0,0,20901,1280000,{"v":61.2411,"d":"61"},0,0,0,0,{"v":61.2411,"d":"61"},""]
["420902","91420902MADEGGRJ1W","湖北久安旅游客运有限公司",4,94,0,0,4,94,1459,103196,0,0,0,0,0,0,0,0,1459,103196,{"v":70.7306,"d":"71"},0,0,0,0,{"v":70.7306,"d":"71"},""]
["420100","91420111MA4KY0F62G","武汉迈事通贸易有限公司",18,843,0,0,18,843,10829,181289,0,0,0,0,0,0,0,0,10829,181289,{"v":16.7411,"d":"17"},0,0,0,0,{"v":16.7411,"d":"17"},""]
["420100","91420114MA49DD842J","武汉明辰校车服务有限公司",1,19,0,0,1,19,588,29400,0,0,0,0,0,0,0,0,588,29400,50,0,0,0,0,50,""]
["422801","91422801MACJD8X84T","恩施州安鹏旅游客运有限公司",32,802,0,0,32,802,793,83265,0,0,0,0,0,0,0,0,793,83265,105,0,0,0,0,105,""]
["420100","91420104565575194C","武汉添福田汽车通勤有限公司",10,480,0,0,10,480,11215,345714,0,0,0,0,0,0,0,0,11215,345714,{"v":30.826,"d":"31"},0,0,0,0,{"v":30.826,"d":"31"},""]
["420822","91420803MACKAUCU5R","湖北安杰运输有限公司沙洋分公司",5,253,0,0,5,253,765,16568,0,0,0,0,0,0,0,0,765,16568,{"v":21.6575,"d":"22"},0,0,0,0,{"v":21.6575,"d":"22"},""]
["420100","914201005655611472","武汉市浩程旅游客运有限公司",71,3131,0,0,71,3131,75069,1951794,0,0,0,0,0,0,0,0,75069,1951794,26,0,0,0,0,26,""]
["420100","91420113086646899Q","武汉泽欣四海商务发展有限公司",14,505,0,0,14,505,10348,253180,0,0,0,0,0,0,0,0,10348,253180,{"v":24.4666,"d":"24"},0,0,0,0,{"v":24.4666,"d":"24"},""]
["422801","91422801MACWJP173L","湖北安旭旅游客运有限公司",26,858,0,0,26,858,9395,1959669,0,0,0,0,0,0,0,0,9395,1959669,{"v":208.5864,"d":"209"},0,0,0,0,{"v":208.5864,"d":"209"},""]
["420802","91420802MAD95RTH3H","荆门市栗姚荆运输有限公司",1,9,1,9,0,0,645,32250,0,0,0,0,0,0,645,32250,0,0,50,0,0,0,50,0,""]
["420100","91420107077732912W","武汉钢东实通勤有限公司",9,366,0,0,9,366,10287,451231,0,0,0,0,0,0,0,0,10287,451231,{"v":43.8642,"d":"44"},0,0,0,0,{"v":43.8642,"d":"44"},""]
["420881","91420881MACHTEWL68","湖北泓途旅游客运有限公司",29,1022,0,0,29,1022,8603,989742,0,0,0,0,0,0,0,0,8603,989742,{"v":115.0461,"d":"115"},0,0,0,0,{"v":115.0461,"d":"115"},""]
["420100","91420106731056446X","武汉市鑫泽汽车租赁服务有限责任公司",14,620,0,0,14,620,22043,753390,0,0,0,0,0,0,0,0,22043,753390,{"v":34.1782,"d":"34"},0,0,0,0,{"v":34.1782,"d":"34"},""]
["420100","91420100796320930G","武汉市铁龙通勤汽车服务有限公司",196,8992,0,0,196,8992,281585,6054077,0,0,0,0,0,0,0,0,281585,6054077,{"v":21.5,"d":"22"},0,0,0,0,{"v":21.5,"d":"22"},""]
["420804","91420804MABWELR36R","荆门风驰汽车运输服务有限公司",18,128,0,0,18,128,1700,442000,0,0,0,0,0,0,0,0,1700,442000,260,0,0,0,0,260,""]
["421182","91421182MA7H77JQ6M","武穴市公共车辆租赁服务有限公司",3,64,0,0,3,64,698,67462,0,0,0,0,0,0,0,0,698,67462,{"v":96.6504,"d":"97"},0,0,0,0,{"v":96.6504,"d":"97"},""]
["421087","914210871819230065","荆州神通汽车运输集团有限公司",66,1508,66,1508,0,0,159523,3988075,0,0,0,0,0,0,159523,3988075,0,0,25,0,0,0,25,0,""]
["420100","91420107MA49FXWF08","武汉扬光路尚城市物流有限责任公司",179,8432,0,0,179,8432,219765,5494125,0,0,0,0,0,0,0,0,219765,5494125,25,0,0,0,0,25,""]
["420881","91420881MACTKEWX6J","钟祥市聚达运输有限责任公司",269,4683,269,4683,0,0,3526,97475,29,19900,80,9235,0,0,3417,68340,0,0,{"v":27.6446,"d":"28"},{"v":686.2069,"d":"686"},{"v":115.4375,"d":"115"},0,20,0,""]
["421182","91421182MACU6R6196","武穴市顺通客运联营有限公司",0,0,0,0,0,0,0,0,0,0,0,0,0,0,0,0,0,0,0,0,0,0,0,0,""]
["420100","914201020557328660","武汉馨鑫吉祥汽车通勤服务有限公司",11,415,0,0,11,415,9668,276540,0,0,0,0,0,0,0,0,9668,276540,{"v":28.6036,"d":"29"},0,0,0,0,{"v":28.6036,"d":"29"},""]
["420100","914201000557339572","武汉暴风城物流有限公司",10,470,0,0,10,470,19176,335580,0,0,0,0,0,0,0,0,19176,335580,{"v":17.5,"d":"18"},0,0,0,0,{"v":17.5,"d":"18"},""]
["420100","91420113744786886T","武汉市雄翔通勤汽车运输有限公司",82,3525,0,0,82,3525,105750,2115000,0,0,0,0,0,0,0,0,105750,2115000,20,0,0,0,0,20,""]
["420581","91420581L01798483X","宜都市玉发商贸有限责任公司",21,342,0,0,21,342,266,1765,0,0,0,0,0,0,0,0,266,1765,{"v":6.6353,"d":"7"},0,0,0,0,{"v":6.6353,"d":"7"},""]
["420527","91420527MA49997F3Y","秭归县归鸿旅游综合开发有限公司",3,32,3,32,0,0,868,26040,0,0,0,0,0,0,868,26040,0,0,30,0,0,0,30,0,""]
["420322","91420322MAD3N0AU85","湖北韵龙旅游运输有限公司郧西分公司",4,137,0,0,4,137,379,60970,0,0,0,0,0,0,0,0,379,60970,{"v":160.8707,"d":"161"},0,0,0,0,{"v":160.8707,"d":"161"},""]
["421181","91421181MA48JG8932","麻城龟峰山旅游经营管理有限公司",10,120,10,120,0,0,6415,33358,0,0,0,0,0,0,6415,33358,0,0,{"v":5.2,"d":"5"},0,0,0,{"v":5.2,"d":"5"},0,""]
["429006","91429006MA488X7L1C","天门盛迦旅游咨询有限公司",28,1308,0,0,28,1308,16036,16745720,0,0,0,0,0,0,0,0,16036,16745720,{"v":1044.2579,"d":"1044"},0,0,0,0,{"v":1044.2579,"d":"1044"},""]
["421321","91421300MA495LFF51","随州自在小镇文旅发展有限公司",20,840,0,0,20,840,8636,361522,0,0,0,0,0,0,0,0,8636,361522,{"v":41.8622,"d":"42"},0,0,0,0,{"v":41.8622,"d":"42"},""]
["421126","91421126MAE5J4D20Q","湖北省黄冈市蕲春县李山村旅游客运有限责任公司",3,23,3,23,0,0,2218,57698,0,0,0,0,0,0,2218,57698,0,0,{"v":26.0135,"d":"26"},0,0,0,{"v":26.0135,"d":"26"},0,""]
["420504","91420504MAE95CQJ1N","宜昌锦运运输有限公司",16,228,16,228,0,0,6010,34320,0,0,0,0,0,0,6010,34320,0,0,{"v":5.7105,"d":"6"},0,0,0,{"v":5.7105,"d":"6"},0,""]
["420503","91420500MA49CH9CXL","宜昌市环游汽车客运有限公司",20,676,0,0,20,676,5196,1174575,0,0,0,0,0,0,0,0,5196,1174575,{"v":226.0537,"d":"226"},0,0,0,0,{"v":226.0537,"d":"226"},""]
["421121","91421121MADX0KUJ1C","湖北韵龙旅游运输有限公司团风分公司",5,204,0,0,5,204,567,191592,0,0,0,0,0,0,0,0,567,191592,{"v":337.9048,"d":"338"},0,0,0,0,{"v":337.9048,"d":"338"},""]
["422801","91422801MACRXLXJ60","湖北省兴程旅游客运有限公司",27,899,0,0,27,899,432,204001,0,0,0,0,0,0,0,0,432,204001,{"v":472.2245,"d":"472"},0,0,0,0,{"v":472.2245,"d":"472"},""]
["420800","91420800MA49ELNJ88","荆门市兆祥运输有限公司",27,550,27,550,0,0,17310,1975915,0,0,273,109709,0,0,17037,1866206,0,0,{"v":114.1488,"d":"114"},0,{"v":401.8645,"d":"402"},0,{"v":109.5384,"d":"110"},0,""]
["422801","91422801MAE2GPG52E","恩施州环楚旅游客运有限公司",20,612,0,0,20,612,194,77800,0,0,0,0,0,0,0,0,194,77800,{"v":401.0309,"d":"401"},0,0,0,0,{"v":401.0309,"d":"401"},""]
["422801","91422801MA497NF17B","恩施侠客行旅游客运有限公司",96,2247,0,0,96,2247,30258,2002732,0,0,0,0,0,0,0,0,30258,2002732,{"v":66.1885,"d":"66"},0,0,0,0,{"v":66.1885,"d":"66"},""]
["420100","91420112MA4KWA7U46","武汉临空港经济技术开发区汽车服务有限公司",10,266,0,0,10,266,2726,255598,0,0,0,0,0,0,0,0,2726,255598,{"v":93.763,"d":"94"},0,0,0,0,{"v":93.763,"d":"94"},""]
["420100","91420113MA4K4PL06W","武汉熹正运输有限公司",10,419,0,0,10,419,5984,384956,0,0,0,0,0,0,0,0,5984,384956,{"v":64.3309,"d":"64"},0,0,0,0,{"v":64.3309,"d":"64"},""]
["420100","91420111MA4KY26Q4L","湖北众行智慧出行科技有限公司",20,850,0,0,20,850,14318,409495,0,0,0,0,0,0,0,0,14318,409495,{"v":28.6,"d":"29"},0,0,0,0,{"v":28.6,"d":"29"},""]
["420100","91420106666795065R","湖北红光汽车服务有限公司",10,460,0,0,10,460,1448,50680,0,0,0,0,0,0,0,0,1448,50680,35,0,0,0,0,35,""]
["420100","914201056823112862","武汉盛合通勤汽车服务有限公司",10,480,0,0,10,480,3748,118703,0,0,0,0,0,0,0,0,3748,118703,{"v":31.671,"d":"32"},0,0,0,0,{"v":31.671,"d":"32"},""]
["420100","914201025945010390","武汉永泰欣汽车信息服务有限公司",4,134,0,0,4,134,2680,94604,0,0,0,0,0,0,0,0,2680,94604,{"v":35.3,"d":"35"},0,0,0,0,{"v":35.3,"d":"35"},""]
["420100","91420107MAC2UWCB87","湖北融通新能源汽车服务有限责任公司",0,0,0,0,0,0,0,0,0,0,0,0,0,0,0,0,0,0,0,0,0,0,0,0,""]
["420100","914201110520124099","武汉市彭浩翔通勤车服务有限公司",24,1010,0,0,24,1010,62010,1205430,0,0,0,0,0,0,0,0,62010,1205430,{"v":19.4393,"d":"19"},0,0,0,0,{"v":19.4393,"d":"19"},""]
["420100","9142011266954865X7","武汉市顺和路通汽车服务有限公司",15,646,0,0,15,646,367,7124,0,0,0,0,0,0,0,0,367,7124,{"v":19.4114,"d":"19"},0,0,0,0,{"v":19.4114,"d":"19"},""]
["420100","91420112737532634D","武汉东方立信商务有限公司",10,364,0,0,10,364,6223,252807,0,0,0,0,0,0,0,0,6223,252807,{"v":40.6246,"d":"41"},0,0,0,0,{"v":40.6246,"d":"41"},""]
["420100","91420115MA49LN9H6P","武汉星旅商务服务有限公司",16,637,0,0,16,637,955,22991,0,0,0,0,0,0,0,0,955,22991,{"v":24.0743,"d":"24"},0,0,0,0,{"v":24.0743,"d":"24"},""]
["420100","91420106MA4KL3GL9B","湖北鑫隆泰格科技有限公司",10,460,0,0,10,460,1780,288271,0,0,0,0,0,0,0,0,1780,288271,{"v":161.95,"d":"162"},0,0,0,0,{"v":161.95,"d":"162"},""]
["420602","91420602MAECCM7W54","武汉亚投新能科技有限公司襄阳分公司",12,548,0,0,12,548,40374,403740,0,0,0,0,0,0,0,0,40374,403740,10,0,0,0,0,10,""]
["420222","91420222MA49CGM523","阳新县旺辉汽车运输有限公司",1,25,1,25,0,0,1659,57550,0,0,0,0,0,0,1659,57550,0,0,{"v":34.6896,"d":"35"},0,0,0,{"v":34.6896,"d":"35"},0,""]
["420222","91420222MA4F360N9L","阳新县隆发欣悦运输有限公司",18,289,18,289,0,0,8989,189667,0,0,0,0,0,0,8989,189667,0,0,{"v":21.0999,"d":"21"},0,0,0,{"v":21.0999,"d":"21"},0,""]
["420100","91420106MA4KR71EXH","湖北恒意通汽车服务有限公司",10,460,0,0,10,460,1221,35409,0,0,0,0,0,0,0,0,1221,35409,29,0,0,0,0,29,""]
["420100","914201025818454812","武汉鑫萌生商务服务有限公司",10,382,0,0,10,382,4573,193296,0,0,0,0,0,0,0,0,4573,193296,{"v":42.269,"d":"42"},0,0,0,0,{"v":42.269,"d":"42"},""]
["420100","91420107333581034D","武汉钢驰蓝星通勤有限公司",10,470,0,0,10,470,6500,630500,0,0,0,0,0,0,0,0,6500,630500,97,0,0,0,0,97,""]
["420506","91420503MADJ95KF03","宜昌美途旅游客运有限公司",9,73,0,0,9,73,1061,246046,0,0,0,0,0,0,0,0,1061,246046,{"v":231.9001,"d":"232"},0,0,0,0,{"v":231.9001,"d":"232"},""]
["420100","91420106MA4L0L9T50","武汉杰洋天勤科技有限公司",10,467,0,0,10,467,12245,67348,0,0,0,0,0,0,0,0,12245,67348,{"v":5.5,"d":"6"},0,0,0,0,{"v":5.5,"d":"6"},""]
["420503","91420503MACXRCG51F","宜昌归真旅游服务有限责任公司",17,693,0,0,17,693,3013,190473,0,0,0,0,0,0,0,0,3013,190473,{"v":63.2171,"d":"63"},0,0,0,0,{"v":63.2171,"d":"63"},""]
["420527","91420527MAECTW367X","湖北迅通汽车服务有限公司",20,802,0,0,20,802,8300,755600,0,0,0,0,0,0,0,0,8300,755600,{"v":91.0361,"d":"91"},0,0,0,0,{"v":91.0361,"d":"91"},""]
["421122","91421122MADAD90M5C","黄冈市鸿辉汽车通勤服务有限公司红安分公司",8,320,0,0,8,320,1500,90000,0,0,0,0,0,0,0,0,1500,90000,60,0,0,0,0,60,""]
["421126","91421126MAEEE1AH7F","孝感市祥和旅游客运有限公司蕲春分公司",8,352,0,0,8,352,2958,1769818,0,0,0,0,0,0,0,0,2958,1769818,{"v":598.3158,"d":"598"},0,0,0,0,{"v":598.3158,"d":"598"},""]
["420902","91420902MAETH3TL63","湖北未来之星研途运输服务有限公司",10,480,0,0,10,480,10272,1109376,0,0,0,0,0,0,0,0,10272,1109376,108,0,0,0,0,108,""]
["420115","91420115303320669K","武汉金通诚汽车服务有限责任公司",10,388,0,0,10,388,12100,706524,0,0,0,0,0,0,0,0,12100,706524,{"v":58.3904,"d":"58"},0,0,0,0,{"v":58.3904,"d":"58"},""]
["420503","91420503MAEX98P531","宜昌市九州行汽车服务有限责任公司",0,0,0,0,0,0,0,0,0,0,0,0,0,0,0,0,0,0,0,0,0,0,0,0,""]
["421127","91421127MACUA97R0F","湖北鄂东通勤汽车运输服务有限公司",1,11,0,0,1,11,142,4550,0,0,0,0,0,0,0,0,142,4550,{"v":32.0423,"d":"32"},0,0,0,0,{"v":32.0423,"d":"32"},""]
["420981","91420981MACF6DH09C","湖北凯邦旅游客运有限公司",20,684,0,0,20,684,1968,1784976,0,0,0,0,0,0,0,0,1968,1784976,907,0,0,0,0,907,""]
["420822","91420803MAERW8QK2A","沙洋海豚汽车运输服务有限公司",63,1228,63,1228,0,0,18122,2189824,738,703842,2966,432968,7349,633045,7069,419969,0,0,{"v":120.8379,"d":"121"},{"v":953.7154,"d":"954"},{"v":145.9771,"d":"146"},{"v":86.1403,"d":"86"},{"v":59.41,"d":"59"},0,""]
["420281","91420281MACH4TWRX2","大冶市德润旅游客运有限公司",20,796,0,0,20,796,3531,48810,0,0,0,0,0,0,0,0,3531,48810,{"v":13.8233,"d":"14"},0,0,0,0,{"v":13.8233,"d":"14"},""]
["420802","91420800MA497ULD2H","湖北宏胜新能源汽车运营有限公司",12,539,0,0,12,539,2046,21404,0,0,0,0,0,0,0,0,2046,21404,{"v":10.4614,"d":"10"},0,0,0,0,{"v":10.4614,"d":"10"},""]
["420323","91420323MAEWCF462Y","湖北省十堰竹山亨运旅游有限公司",10,376,0,0,10,376,2968,242456,0,0,0,0,0,0,0,0,2968,242456,{"v":81.69,"d":"82"},0,0,0,0,{"v":81.69,"d":"82"},""]
["420504","91420500MAK4026F3W","湖北仟宇旅游客运有限公司",6,209,0,0,6,209,3274,629201,0,0,0,0,0,0,0,0,3274,629201,{"v":192.1811,"d":"192"},0,0,0,0,{"v":192.1811,"d":"192"},""]
["420325","91420325MAE3R7QJ24","湖北畅利旅游客运有限公司",38,1077,38,1077,0,0,85480,4644486,0,0,0,0,13998,1427796,71482,3216690,0,0,{"v":54.3342,"d":"54"},0,0,102,45,0,""]
["420100","91420113MA4KXJYW2K","武汉通广成汽车服务有限公司",2,95,0,0,2,95,1710,68400,0,0,0,0,0,0,0,0,1710,68400,40,0,0,0,0,40,""]
["420381","91420383MAEH19LP6P","湖北韵龙旅游运输有限公司武当山分公司",14,294,0,0,14,294,1031,355695,0,0,0,0,0,0,0,0,1031,355695,345,0,0,0,0,345,""]
["420100","42010000046","武汉市公共交通集团有限责任公司",54,2592,0,0,54,2592,79380,4365900,0,0,0,0,0,0,0,0,79380,4365900,55,0,0,0,0,55,""]
["421182","91421182MAERFYT9XY","武穴市公共交通运输有限公司",118,3574,79,2071,39,1503,108818,16650798,0,0,31564,5286339,29542,3089502,5126,157214,42586,8117743,{"v":153.0151,"d":"153"},0,{"v":167.48,"d":"167"},{"v":104.58,"d":"105"},{"v":30.6699,"d":"31"},{"v":190.62,"d":"191"},""]
["","","","","","","","","","","","","","","","","","","","","","","","","","","",""]

{"sheet":"运政车辆数","index":1,"n_rows":768,"n_cols":4,"rows_kept":768}
["企业代码","企业名称","车辆数","载客位数"]
["42020000016\t","黄石市城市公交集团有限公司",21,877]
["42030000002\t","十堰市交通经济开发有限公司",44,1732]
["42030300002\t","十堰市城市公交集团有限公司",32,1483]
["42030400001\t","郧县天鸿汽车运输有限公司",56,1984]
["42032300005\t","湖北省十堰亨运集团竹山有限责任公司",34,1319]
["42032500004\t","房县恒通发展有限责任公司",130,3321]
["42038100002\t","湖北省十堰亨运集团武当山旅游运输有限公司",27,1303]
["42038100003\t","丹江口市公共汽车公司",22,963]
["42050600001\t","宜昌恒升客运联营有限公司",2,64]
["42052500002\t","宜昌三峡运输集团远安县畅通汽车客运有限公司",43,1240]
["42052500003\t","远安县全运公共交通运输有限公司",12,246]
["42052600004\t","宜昌交运集团兴山客运有限公司",33,1095]
["42052700017\t","宜昌交运集团秭归客运有限公司",13,507]
["42052900001\t","宜昌交运集团五峰客运有限公司",21,499]
["42058100006\t","宜昌交运集团宜都客运有限公司",26,720]
["42058200007\t","当阳市永生汽车运输有限公司",60,1661]
["42058300005\t","枝江市安捷交通运输有限责任公司",23,575]
["42060000024\t","襄阳四海联托运有限责任公司",40,1263]
["42062500003\t","谷城县公共交通运输集团有限公司",53,1867]
["42068200005\t","老河口市顺通运业有限责任公司",154,5292]
["42068300005\t","枣阳市四达汽车运输有限公司",27,1863]
["42070000006\t","鄂州市华松汽车客运有限公司",18,794]
["42070000007\t","鄂州市交通发展有限公司",93,2749]
["42070000009\t","鄂州市大鹏客运有限公司",10,743]
["42080000002\t","荆门市五三易达汽车运输有限公司",16,436]
["42080400001\t","荆门万里交通建设有限公司",52,2116]
["42088100009\t","湖北省钟祥宇风运业有限公司",2,64]
["42090100001\t","孝感汽车客运集团有限公司",53,1253]
["42092100004\t","孝昌县裕通汽车运输有限责任公司",27,926]
["42092200002\t","大悟交运汽车运输有限公司",41,1220]
["42092300003\t","云梦县永泰汽车客运有限公司",95,2070]
["42098100003\t","应城市众达公共交通有限公司",7,119]
["42098100005\t","应城八达运输有限公司",54,1117]
["42098400003\t","汉川盛达客运有限公司",43,1674]
["42100000002\t","荆州先行运输集团有限公司",185,5156]
["42102300030\t","监利市汽车运输总公司",113,2417]
["42108100015\t","石首市幸福汽车客运有限公司",51,988]
["42108300037\t","洪湖市运通汽车运输有限责任公司",36,1155]
["42112400004\t","黄冈市东方运输集团英山全顺有限公司",45,1441]
["42112600021\t","蕲春县东昌汽车运输有限公司",5,170]
["42118200012\t","武穴市公共汽车公司",5,92]
["42122100005\t","嘉鱼交通建设集团鸿昌客运有限公司",57,2444]
["42122200003\t","湖北咸宁咸运集团通城恒通运输有限公司",94,1773]
["42122300003\t","湖北咸宁咸运集团崇阳天成运输有限公司",38,1304]
["42122400002\t","通山县宏发出租车有限公司",{"$error":"#N/A"},125]
["42122400003\t","湖北咸宁咸运集团通山奔阳运输有限公司",44,1316]
["42130300005\t","随州市公共交通有限责任公司",7,276]
["42138100008\t","广水市恒泰汽车运输有限责任公司",133,3456]
["42280100005\t","恩施市双龙客运有限公司",37,455]
["42280100010\t","恩施市公共汽车有限责任公司",29,627]
["42280200001\t","利川市联吉客运联营有限责任公司",22,272]
["42280200007\t","利川市时代出租汽车有限责任公司",64,2698]
["42282300005\t","巴东县东顺伟业出租车有限责任公司",6,410]
["42282500001\t","宣恩县长兴客运有限公司",88,2104]
["42900500013\t","湖北潜江驰宇运输有限公司",32,860]
["42900600011\t","湖北公路客运（集团）天门汉羽运输有限公司",42,997]
["76066968X\t","枣阳市宏达客运有限公司",16,367]
["760695431\t","枣阳市安达运业有限公司",14,340]
["784494343\t","荆门市建平运输有限公司",34,476]
["91420000177604168W\t","湖北汽车工业进出口有限责任公司",63,2949]
["914200001776095247\t","湖北捷龙交通运业有限公司",72,3556]
["914200007068019184\t","湖北永通运输股份有限公司",153,4248]
["914201000557339572\t","武汉暴风城物流有限公司",10,489]
["914201000630449916\t","武汉远成宏运汽车服务有限公司",22,871]
["91420100303659697Q\t","武汉弛力汽车服务有限公司",12,576]
["914201005519761659\t","武汉捷安顺达汽车服务有限公司",25,1103]
["914201005655611472\t","武汉市浩程旅游客运有限公司",71,3131]
["914201005910523545\t","武汉鑫乐驰通勤服务有限公司",10,423]
["91420100591093498H\t","武汉顺福隆通勤汽车服务有限公司",12,547]
["91420100682302849G\t","武汉易达顺汽车服务有限公司",15,599]
["914201006953003751\t","武汉乐游旅游客运有限公司",39,1512]
["914201007335585112\t","武汉外滩旅游车服务有限公司",58,2215]
["914201007414249949\t","武汉荣达汽车旅游服务有限公司",59,2171]
["91420100744754892Y\t","湖北公路客运集团股份有限公司旅游运输分公司",7,205]
["91420100751827703K\t","武汉石化交通运输有限公司",10,527]
["91420100789328088M\t","湖北东方国际旅行社有限公司",39,1652]
["91420100796320930G\t","武汉市铁龙通勤汽车服务有限公司",196,8992]
["91420100MA49AWX04P\t","湖北三源互通科技有限公司",23,590]
["91420100MA49KLU18M\t","武汉吟海通达汽车服务有限公司",11,508]
["91420100MA4KXMG55G\t","武汉言智行汽车服务有限公司",10,480]
["91420100MAC8X3RA85\t","湖北新角色出行服务有限公司",25,1062]
["914201020557328660\t","武汉馨鑫吉祥汽车通勤服务有限公司",11,415]
["914201020908340595\t","武汉长通顺捷旅游客运有限公司",70,2800]
["914201025818454812\t","武汉鑫萌生商务服务有限公司",10,382]
["914201025945010390\t","武汉永泰欣汽车信息服务有限公司",4,134]
["91420102675816278D\t","武汉市欣洪祥旅游客运服务有限公司",21,914]
["91420102685423486D\t","武汉瑞晟捷汽车运输服务有限公司",23,1135]
["91420102722706849K\t","武汉市一日游旅业有限责任公司",41,1684]
["91420102737535579H\t","武汉市江滩旅游车服务集团有限公司",107,4353]
["9142010274476162XY\t","武汉高氏旅游客运有限公司",55,2192]
["91420102778172882B\t","武汉市宏干线公路客运有限公司",22,836]
["91420102MA4K473L49\t","武汉久鼎汉辉汽车服务有限公司",50,2376]
["9142010373354649XG\t","武汉市三缘旅游客运有限责任公司",70,3044]
["914201037680659878\t","湖北捷龙交通运业有限公司武汉旅游客运分公司",27,1327]
["91420103792431043U\t","武汉市国运旅游客运有限公司",55,2181]
["914201037924343671\t","武汉市天运旅游客运有限公司",23,1023]
["91420104333509454N\t","武汉稳通公路客运有限公司",48,1152]
["91420104565575194C\t","武汉添福田汽车通勤有限公司",10,480]
["9142010467582186X0\t","武汉全直通旅游客运有限公司",51,2090]
["91420104679110512X\t","武汉市和畅汽车服务有限公司",16,656]
["9142010472826982XQ\t","武汉市全球通通勤汽车服务有限公司",137,6072]
["914201047414075023\t","武汉富华旅游汽车服务有限公司",56,2255]
["91420104741438552N\t","武汉市创业旅游汽车服务有限责任公司",40,1584]
["91420104748343708U\t","武汉市光大通勤汽车服务有限公司",53,2427]
["914201047819851122\t","武汉安信新能源运营管理有限公司",10,480]
["91420104796307787W\t","武汉开心通勤汽车服务有限公司",10,480]
["914201050668374601\t","武汉吉顺通汽车服务有限公司",10,438]
["91420105558416494J\t","武汉裕腾汽车服务有限公司",16,578]
["914201055749051409\t","武汉鼎盛通汽车租赁服务有限公司",11,492]
["914201055848885403\t","武汉鑫顺鑫汽车通勤服务有限公司",17,744]
["91420105597900393M\t","武汉震亚汽车租赁服务有限公司",14,461]
["914201056667667741\t","武汉长荣联合商务有限公司",10,480]
["91420105672794907G\t","武汉市诚安汽车服务有限公司",11,430]
["914201056823112862\t","武汉盛合通勤汽车服务有限公司",10,480]
["91420105737515543P\t","武汉市伟业旅游汽车有限公司",21,823]
["914201057997971791\t","武汉新力量旅游客运有限公司",65,2879]
["91420105MA49R1GM4W\t","武汉楚运汽车租赁有限公司",12,575]
["91420105MA4F5Q3R68\t","武汉市宏干线公路客运有限公司金地分公司",16,684]
["9142010605201122XF\t","武汉阳光旅业汽车服务有限公司",16,552]
["914201060520246611\t","武汉新纬度汽车服务有限公司",10,480]
["91420106055734386X\t","武汉驰骋安达商务有限公司",55,2352]
["91420106063006477G\t","湖北省全日通旅游客运有限公司",30,1191]
["914201065519629783\t","武汉永兴泰汽车通勤服务有限责任公司",8,299]
["91420106555010413D\t","武汉零加壹旅游客运有限公司",44,1716]
["914201065910566977\t","武汉中盛建运汽车服务有限公司",10,444]
["91420106666795065R\t","湖北红光汽车服务有限公司",10,460]
["914201066983262120\t","武汉凯德通勤汽车服务有限公司",30,1374]
["91420106731056446X\t","武汉市鑫泽汽车租赁服务有限责任公司",14,686]
["91420106778184701A\t","武汉市宏干线公路客运有限公司武昌分公司",7,261]
["914201067963388316\t","武汉宏兴泰旅游客运有限公司",45,1908]
["91420106MA4K2FXE9A\t","武汉今朝翔商务服务有限公司",10,436]
["91420106MA4KL3GL9B\t","湖北鑫隆泰格科技有限公司",10,460]
["91420106MA4KR71EXH\t","湖北恒意通汽车服务有限公司",6,283]
["91420106MA4L0L9T50\t","武汉杰洋天勤科技有限公司",10,465]
["91420107077732912W\t","武汉钢东实通勤有限公司",9,366]
["91420107303334526J\t","武汉绿岛梦缘运输代理服务有限公司",6,240]
["91420107333581034D\t","武汉钢驰蓝星通勤有限公司",10,470]
["91420107MA49FXWF08\t","武汉扬光路尚城市物流有限责任公司",179,8505]
["91420107MA4F1NYF5K\t","武汉新分子贸易有限公司",11,448]
["91420107MAC2UWCB87\t","湖北融通新能源汽车服务有限责任公司",0,{"$error":"#N/A"}]
["914201110520124099\t","武汉市彭浩翔通勤车服务有限公司",24,1010]
["914201110866110125\t","武汉嘉辉天实通勤汽车服务有限公司",16,726]
["91420111303446966Y\t","武汉市拓城汽车租赁有限公司",23,877]
["91420111303745245J\t","武汉鸿发腾辉汽车通勤服务有限公司",11,446]
["914201116727929015\t","武汉光迁汽车服务有限公司",10,411]
["914201116888270724\t","武汉磊锋通勤汽车服务有限公司",13,412]
["91420111MA49D98E3P\t","武汉市恩骏达汽车服务有限责任公司",9,311]
["91420111MA4KY0F62G\t","武汉迈事通贸易有限公司",18,843]
["91420111MA4KY26Q4L\t","湖北众行智慧出行科技有限公司",20,850]
["91420111MA4L0BRF8Y\t","湖北公路客运集团股份有限公司运营管理分公司",77,2504]
["914201120960141070\t","武汉园博汽车管理服务有限公司",13,606]
["91420112333510818Y\t","武汉福鑫运业汽车服务有限公司",19,856]
["9142011255500489XP\t","武汉东兴达客运有限公司",51,1151]
["91420112565586432J\t","武汉凯达顺汽车服务有限公司",14,633]
["91420112574924149H\t","武汉欣运达旅游汽车服务有限公司",10,480]
["9142011266954865X7\t","武汉市顺和路通汽车服务有限公司",15,646]
["91420112717957985G\t","武汉市长带运输有限公司",38,1532]
["91420112725772163N\t","武汉永兴交通运输有限公司",24,592]
["91420112737532634D\t","武汉东方立信商务有限公司",10,364]
["91420112MA49CHQJ5D\t","武汉市捷运通新能源有限责任公司",122,5612]
["91420112MA4K2AUNXN\t","武汉凯美途商务服务有限公司",10,460]
["91420112MA4K2H7N24\t","武汉杰龙文化传播有限公司",14,459]
["91420112MA4KLD1F16\t","武汉亚投新能科技有限公司",16,616]
["91420112MA4KWA7U46\t","武汉临空港经济技术开发区汽车服务有限公司",10,266]
["91420112MA7E9B6A1F\t","武汉市宏干线公路客运有限公司鑫运达分公司",13,402]
["91420113086646899Q\t","武汉泽欣四海商务发展有限公司",14,505]
["91420113744786886T\t","武汉市雄翔通勤汽车运输有限公司",82,3589]
["91420113MA4K4PL06W\t","武汉熹正运输有限公司",10,419]
["91420114063032480Q\t","武汉恒诚汽车服务有限公司",18,864]
["91420114090806592K\t","武汉市胜宇达汽车服务有限公司",48,2102]
["91420114MA49DD842J\t","武汉明辰校车服务有限公司",1,19]
["91420115303320669K\t","武汉金通诚汽车服务有限责任公司",10,388]
["914201153033866172\t","武汉鑫长运通勤服务有限公司",17,796]
["91420115303578424A\t","武汉尧康公交有限公司",26,2316]
["91420115303770387F\t","武汉欣启程汽车服务有限公司",15,692]
["91420115551955559C\t","武汉鑫龙通勤汽车服务有限公司",24,1057]
["91420115562332701D\t","武汉金星联合商务有限公司",55,2511]
["91420115679122185U\t","武汉武威汽车服务有限公司",22,1067]
["91420115MA49GH4YXW\t","武汉畅瑞达科技有限公司",15,706]
["91420115MA49JU9PXR\t","武汉青苗雅瑞校车服务有限公司",20,960]
["91420115MA49LN9H6P\t","武汉星旅商务服务有限公司",16,637]
["91420115MA4F0PJR85\t","武汉顺福程汽车服务有限公司",14,621]
["91420115MA4K2NF60A\t","武汉凯盛捷汽车服务有限公司",10,452]
["91420115MA4KNPTC9W\t","武汉欣达远汽车服务有限公司",12,510]
["91420115MA4KNW021A\t","武汉巴通旅游客运有限公司",16,714]
["91420115MA4KR9AR9H\t","武汉市夏东汽车服务有限公司",11,270]
["91420116090804167P\t","武汉兴荣昌汽车租赁有限公司",16,585]
["91420116MA4K23GH2N\t","武汉市恒昌鸿顺通勤汽车服务有限公司",10,335]
["914202001784379633\t","黄石市交通运输集团有限责任公司",43,1013]
["914202005539036648\t","黄石佳美汽车服务有限公司",10,478]
["914202005715444907\t","黄石雄钢旅游客运有限公司",21,954]
["91420200670358079Y\t","黄石市瑞捷贸易发展有限公司",20,935]
["91420200722096008T\t","黄石市华龙客运有限公司",24,964]
["91420200MA488GLQ5W\t","黄石市安鑫汽车运输有限公司",11,298]
["91420200MA48YPET1D\t","黄石国顺客运有限公司",20,867]
["91420200MA491UX85B\t","黄石快乐旅游客运有限公司",27,1099]
["91420200MA49FTX700\t","黄石市交通运输集团天一新能源有限公司",12,405]
["91420200MA4F2YFW9R\t","鄂旅投黄石客运服务有限公司",11,393]
["91420200MA7HMTRX68\t","黄石鑫三盛旅游客运有限公司",21,917]
["91420202MADKQ0W98D\t","黄石市致达汽车服务有限公司",10,435]
["91420204MADL7LGN5R\t","黄石市东楚国跃国际旅行社有限公司",10,335]
["914202220920277446\t","阳新县惠同汽车运输有限公司",38,855]
["91420222331758094K\t","阳新县村村通客运有限公司",9,69]
["91420222331831220U\t","阳新县百强运输有限公司",1,7]
["914202227446116138\t","阳新县兴运工贸有限责任公司",74,1839]
["91420222753424166E\t","阳新县隆发汽车运输有限公司",61,1295]
["914202227641460856\t","阳新县龙港客运联合有限公司",107,2398]
["9142022288156098XY\t","阳新县汽车运输公司",{"$error":"#N/A"},{"$error":"#N/A"}]
["91420222MA48B6TE7M\t","阳新大地旅游客运有限公司",20,769]
["91420222MA49CGM523\t","阳新县旺辉汽车运输有限公司",1,25]
["91420222MA49LMFL4Q\t","阳新县益乐城乡运输有限公司",9,144]
["91420222MA4F360N9L\t","阳新县隆发欣悦运输有限公司",18,289]
["91420281309805392E\t","大冶市正大旅游客运有限公司",33,1302]
["91420281582497319H\t","大冶市佳泰客运有限公司",55,1190]
["91420281667679111P\t","大冶鸿星旅游客运有限公司",27,1206]
["9142028169177694XW\t","大冶市通达城乡运输有限公司",16,118]
["91420281739147967U\t","大冶市利通客运有限公司",31,1176]
["914202817446489181\t","大冶市曙光客运有限责任公司",14,383]
["91420281744649566G\t","大冶市安发客运有限公司",34,563]
["91420281751027298T\t","大冶市通顺汽车客运有限责任公司",82,2114]
["91420281MAC3FD287U\t","大冶市城发公交旅游服务有限公司",20,786]
["91420281MACH4TWRX2\t","大冶市德润旅游客运有限公司",20,796]
["914203007327141647\t","湖北省十堰亨运集团客运有限公司十堰公司",75,2533]
["91420300744628239R\t","湖北武当山旅游股份有限公司",137,5262]
["91420300MA4873MR9F\t","湖北省十堰亨运集团旅游运输有限公司",57,2294]
["91420300MA48BQ2EXW\t","十堰市武当山特区金伟旅游服务有限公司",10,79]
["91420303MA48B9FE6E\t","十堰公交集团校车运营管理有限公司",11,550]
["91420322730880601F\t","湖北省十堰亨运集团客运有限责任公司郧西公司",51,1334]
["91420322757009365Y\t","郧西县杰锐达客运出租有限公司",38,573]
["914203227809248796\t","湖北卓越集团五龙河旅游开发有限公司",5,210]
["91420322MAD3N0AU85\t","湖北韵龙旅游运输有限公司郧西分公司",4,137]
["914203237641338318\t","竹山县城乡运输有限责任公司",87,696]
["91420323MAEWCF462Y\t","湖北省十堰竹山亨运旅游有限公司",10,376]
["91420324MA498E8B5D\t","湖北竹溪合众运输有限责任公司",43,1492]
["91420324MA49P2098L\t","十堰竹溪亨运农村客运有限公司",100,809]
["91420325MAE3R7QJ24\t","湖北畅利旅游客运有限公司",38,1081]
["91420381182213698F\t","丹江口市汽车运输总公司",91,1804]
["91420381747693773N\t","丹江口市金轮运输有限公司",101,3374]
["91420381MA499YPP85\t","湖北韵龙旅游运输有限公司",38,1193]
["91420383MAEH19LP6P\t","湖北韵龙旅游运输有限公司武当山分公司",14,294]
["91420500550686895J\t","宜昌大通旅游客运有限公司",24,1074]
["9142050055971264XK\t","宜昌市顺通旅游客运有限公司",96,4300]
["91420500565493594C\t","宜昌市鑫辉旅游汽车服务有限公司",33,1603]
["91420500568314248U\t","宜昌佳途旅游客运有限公司",43,1633]
["91420500591457028G\t","宜昌鹏程旅游客运有限公司",22,988]
["9142050059715428XT\t","宜昌昭旅旅游运输有限公司",22,623]
["91420500730845929Y\t","宜昌市葛洲坝鹏程运输有限责任公司",21,1317]
["91420500744646410J\t","宜昌市希望旅游汽车服务有限公司",27,920]
["914205007809176017\t","宜昌新世纪旅游客运有限公司",17,699]
["914205007959186665\t","长江三峡旅游发展有限责任公司运输分公司",133,6166]
["91420500MA48A31437\t","湖北启程旅游客运有限公司",27,637]
["91420500MA48BP5449\t","宜昌捷运汽车运输有限公司",32,1180]
["91420500MA48YR7C3B\t","宜昌乐游旅游客运有限公司",27,1027]
["91420500MA491F0P3Q\t","宜昌市新旅运汽车服务有限公司",20,1040]
["91420500MA4930E59B\t","宜昌鸿盛汽车运输有限公司",13,502]
["91420500MA49562Q1W\t","宜昌泓晨旅游客运有限公司",38,1303]
["91420500MA4956JH60\t","宜昌楚宇旅游汽车服务有限公司",37,878]
["91420500MA495PAP6K\t","宜昌顺风旅游客运有限公司",6,280]
["91420500MA496JUY6Y\t","宜昌优途旅游客运有限公司",33,1242]
["91420500MA49985G6J\t","宜昌辉腾汽车服务有限公司",14,273]
["91420500MA49A3B3X2\t","宜昌交运集团旅游客运有限公司",114,5543]
["91420500MA49A3T852\t","宜昌交运集团客运有限公司",185,5212]
["91420500MA49CH9CXL\t","宜昌市环游汽车客运有限公司",20,676]
["91420500MAK4026F3W\t","湖北仟宇旅游客运有限公司",6,209]
["91420503MACXRCG51F\t","宜昌归真旅游服务有限责任公司",17,693]
["91420503MADJ95KF03\t","宜昌美途旅游客运有限公司",9,73]
["91420503MAEX98P531\t","宜昌市九州行汽车服务有限责任公司",9,155]
["91420504MAE95CQJ1N\t","宜昌锦运运输有限公司",16,228]
["91420506055446173B\t","宜昌运泰旅游客运有限公司",34,1582]
["91420506182629175U\t","宜昌金通运输有限责任公司",7,168]
["914205065942358183\t","宜昌市鑫鹏旅游运输有限公司",37,1635]
["914205066951417578\t","宜昌樟村坪客运服务有限公司",5,112]
["91420506737134046M\t","宜昌星通客运有限责任公司",29,781]
["91420506739144336R\t","宜昌宝通客运有限责任公司",9,241]
["914205067417530343\t","宜昌茶乡客运有限责任公司",15,430]
["91420506741779509N\t","宜昌三峡运输集团有限责任公司",2,116]
["914205067570065004\t","宜昌市龙兴客运有限公司",5,150]
["91420506780930814G\t","宜昌恒兴客运有限责任公司",20,580]
["91420506MA491NJ60D\t","宜昌鑫力量旅游运输有限公司",21,737]
["91420506MA492J4A23\t","宜昌君再来旅游客运有限公司",27,1082]
["91420506MA495C803E\t","宜昌百里荒客运有限公司",10,390]
["91420506MA499G2U34\t","宜昌市恒腾客运有限公司",10,220]
["91420506MA49B0NN7Q\t","宜昌市诚达客运有限责任公司",9,142]
["91420506MA4F15E65T\t","湖北寰鹏客运有限公司",25,1020]
["91420506MACDHB4B97\t","宜昌市飞途运输有限公司",28,926]
["91420506MACHQGUL22\t","宜昌沃达旅游客运有限公司",36,1055]
["91420526MA49FCPR76\t","兴山县九通客运有限公司",43,1659]
["91420526MAC397W62Y\t","宜昌森杰客运联营有限公司",55,460]
["9142052706065150XL\t","秭归县金路达客运有限公司",10,77]
["9142052706066161X3\t","秭归县成平客运有限责任公司",4,30]
["914205270606762565\t","秭归县路通客运服务有限公司",7,51]
["91420527060693507X\t","秭归县水田坝乡吉顺客运有限公司",1,7]
["91420527066119987J\t","秭归县泄滩乡安通客运有限责任公司",7,62]
["914205270684171528\t","秭归县九通客运有限公司",2,16]
["91420527082318695M\t","秭归县志达客运有限责任公司",4,30]
["91420527082334708X\t","秭归县诚运客运服务有限公司",4,30]
["914205273260737444\t","秭归县京通客运有限责任公司",7,57]
["91420527726124897Q\t","秭归县金龙客运有限责任公司",54,1531]
["91420527MA487CDH4R\t","秭归县志尚客运有限公司",5,35]
["91420527MA489BU1XE\t","秭归县金龙客运有限责任公司旅游客运分公司",18,740]
["91420527MA4922XJ49\t","秭归县搏奕客运有限公司",40,1175]
["91420527MA49997F3Y\t","秭归县归鸿旅游综合开发有限公司",3,35]
["91420527MA499B5F6B\t","湖北三峡橙谷农旅体综合开发有限公司",4,76]
["91420527MAECTW367X\t","湖北迅通汽车服务有限公司",20,822]
["914205287417510128\t","长阳利民客运有限责任公司",38,1038]
["914205287417723902\t","长阳畅通客运有限公司",59,1268]
["91420528MA49C0E821\t","长阳安通客运有限公司",56,635]
["91420529667665828P\t","五峰三农客运有限公司",34,524]
["91420529744620691F\t","五峰纵横运输经营部",8,87]
["91420529MA49P81J2Y\t","五峰顺捷客运有限公司",11,129]
["914205817068727832\t","宜都华运运输有限公司",26,668]
["91420581L01798483X\t","宜都市玉发商贸有限责任公司",20,323]
["91420581MA4902U68L\t","宜都三江旅游有限公司",25,1020]
["91420581MA494XCN95\t","宜都鑫顺旅游客运有限责任公司",20,833]
["91420582682667944E\t","当阳市金埠汽车运输有限公司",13,304]
["914205827371340708\t","当阳市金轮运输有限责任公司",37,723]
["91420583682684111W\t","枝江市洲通客运有限公司",8,119]
["91420583741767217T\t","枝江市双枝客运有限责任公司",16,219]
["91420583760697808H\t","枝江畅通汽车客运有限责任公司",23,393]
["91420583MA494Q1U7E\t","枝江市兴征程旅游客运有限公司",27,607]
["91420600083800942T\t","湖北旅运汽车服务有限公司",41,1600]
["914206001793158109\t","湖北神州运业集团有限公司",118,3473]
["91420600573705454x\t","襄阳恒达运业有限公司",2,137]
["91420600667678346Q\t","襄阳运鑫实业有限公司旅游客运分公司",36,1347]
["914206007371122500\t","襄阳运鑫实业有限公司",23,717]
["91420600737149600B\t","湖北神州运业集团南漳水镜运输有限公司",119,3508]
["91420600MA48BAT976\t","襄阳市钱程似锦汽车运输服务有限公司",36,1369]
["91420600MA493F2R3T\t","湖北鑫俊客运有限公司",57,2672]
["91420600MA49FEQ91N\t","湖北襄旅客运有限公司",45,1871]
["91420600MA4F2XL45E\t","襄阳古隆中旅游服务有限公司",2,34]
["91420600MACMRPDH6Y\t","湖北三丰旅游有限公司",46,1653]
["91420602MAECCM7W54\t","武汉亚投新能科技有限公司襄阳分公司",12,548]
["914206077674326509\t","湖北襄阳安达运输有限责任公司",29,1162]
["91420607773907261R\t","襄阳运通运输有限公司",13,366]
["914206077905709205\t","湖北襄阳安达运输有限责任公司旅游分公司",44,1913]
["9142062617981154XT\t","保康县楚通客运有限公司",38,1147]
["914206265882086370\t","湖北荆山楚源生态文化旅游开发有限公司",2,78]
["91420626676499366X\t","保康县神达旅游客运有限公司",1,7]
["91420626747662221B\t","保康县神通客运有限公司",26,642]
["91420626MA49QQPX4J\t","保康尧治河文旅客运有限公司",3,115]
["91420683050009951k\t","枣阳市绿景客运有限公司",12,271]
["91420683055404029B\t","枣阳市鑫俊运输有限公司",25,984]
["91420683326110912W\t","枣阳市凯杰运输有限公司",11,219]
["91420683737915141X\t","枣阳金利客运有限责任公司",21,946]
["91420683751032716X\t","枣阳市宏兴运输有限公司",97,3561]
["91420683753442137F\t","枣阳市益成运输有限公司",{"$error":"#N/A"},{"$error":"#N/A"}]
["91420683757000870N\t","枣阳市九通汽车运业有限公司",9,175]
["91420683793271416E\t","枣阳华鑫运业有限公司",26,580]
["91420683MA48BG590U\t","枣阳恒盛达运业有限公司",14,342]
["91420683MA48C4GK3Y\t","枣阳市平林华融汇客运有限公司",19,390]
["91420683MA48RPTJ71\t","枣阳市坐兴客客运有限公司",19,375]
["91420683MA4953PD3M\t","枣阳市树生公共汽车服务有限公司",5,80]
["91420684732707589J\t","宜城市顺达汽车运输有限公司",83,2139]
["91420684MA49G2YF4Y\t","湖北冠兴汽车服务有限公司",37,1845]
["9142070058248354XQ\t","鄂州市傲龙客运有限责任公司",0,{"$error":"#N/A"}]
["91420700691767891L\t","鄂州市银顺运输有限责任公司",1,9]
["91420700714682592W\t","鄂州市华联客运有限公司",34,809]
["91420700739131981P\t","鄂州市大兴联运有限责任公司",2,114]
["91420700757014412J\t","鄂州市强盛旅游客运有限公司",11,209]
["914207007606760549\t","鄂州市顺安旅游客运有限公司",20,838]
["914207007674431737\t","鄂州市华铭旅游客运有限公司",46,2095]
["9142070078815141XE\t","鄂州市英发客运有限公司",10,297]
["91420700MA48AWCT7P\t","鄂州市大鹏客运有限公司一分公司",6,438]
["91420700MA48AWCW17\t","鄂州市大鹏客运有限公司二分公司",11,376]
["91420700MA48B8425J\t","鄂州市大兴联运有限责任公司鄂城分公司",2,38]
["91420700MA48X4T58A\t","鄂州市天龙汽车服务有限公司",10,272]
["91420700MA4930UC8K\t","鄂州市大鹏客运有限公司旅游客运分公司",21,913]
["91420700MA494Y2693\t","湖北鹏辰客运有限公司",43,1635]
["91420700MA495AGB9Y\t","鄂州市顺安旅游客运有限公司庙岭分公司",23,857]
["91420700MA49D59P9D\t","鄂州市三山振兴客运有限公司",10,223]
["91420700MA49GD03XL\t","湖北华捷旅游客运有限公司",21,821]
["91420702MAC99A257G\t","鄂州市梁子湖区新征程客运联营有限公司",9,63]
["91420800180116966D\t","荆门市顺通客运有限责任公司",51,1386]
["91420800698039483Q\t","荆门市学安接送服务有限公司",32,1037]
["91420800706927094K\t","荆门市仙居客运有限责任公司",14,382]
["91420800726134462J\t","荆门市富鑫运输服务有限公司",74,1327]
["9142080076410212X7\t","荆门市金马客运有限公司",25,971]
["91420800777577343D\t","荆门市旭冉运输有限公司",0,29]
["91420800798782194D\t","湖北荆门华凯旅游运输有限公司",7,293]
["9142080088022997X5\t","荆门市东通汽车运输有限公司",18,234]
["91420800MA495K7A05\t","荆门市文化旅游发展有限公司",{"$error":"#N/A"},{"$error":"#N/A"}]
["91420800MA495LU910\t","湖北华轩汽车运输服务有限公司",19,799]
["91420800MA497ULD2H\t","湖北宏胜新能源汽车运营有限公司",12,539]
["91420800MA4988TU83\t","荆门风行汽车运输有限公司",30,212]
["91420800MA4999P99H\t","湖北群艺运输有限公司",7,272]
["91420800MA49ELNJ88\t","荆门市兆祥运输有限公司",27,550]
["91420802MACAA7LX53\t","湖北安杰运输有限公司",20,899]
["91420802MAD95RTH3H\t","荆门市栗姚荆运输有限公司",1,9]
["91420803MACKAUCU5R\t","湖北安杰运输有限公司沙洋分公司",5,253]
["91420803MAERW8QK2A\t","沙洋海豚汽车运输服务有限公司",63,1228]
["91420804MABWELR36R\t","荆门风驰汽车运输服务有限公司",18,128]
["914208216622981331\t","湖北荆门华凯旅游运输有限公司京山分公司",0,{"$error":"#N/A"}]
["91420821722016311M\t","京山市福刚公共汽车有限责任公司",78,1602]
["91420821757007984W\t","京山京顺汽车运输有限公司",70,1318]
["91420821760655640R\t","京山京杨客运有限责任公司",15,304]
["914208217606651794\t","京山春风汽运有限公司",57,1399]
["91420821MA49CEK540\t","荆门京源旅游客运有限公司",12,482]
["91420821MA49GX7L6W\t","湖北众人旅客运输有限公司",13,101]
["91420821MADLRHP532\t","京山鸿途运输有限公司",6,54]
["91420822662297640C\t","湖北荆门华凯旅游运输有限公司沙洋分公司",1,61]
["91420822MAC53M9D3Y\t","湖北致诚旅游客运有限公司",20,692]
["91420881182071028T\t","钟祥市同安汽车运输有限责任公司",10,190]
["91420881182082675P\t","钟祥市客店汽车运输有限责任公司",5,95]
["91420881665481267G\t","湖北荆门华凯旅游运输有限公司钟祥分公司",1,60]
["914208816917617131\t","湖北省钟祥市安达客运有限公司",4,120]
["91420881691792763L\t","钟祥市恒通运业有限公司",15,278]
["9142088169511234XP\t","钟祥市圣达运业有限公司",13,344]
["91420881MA48XJQA00\t","湖北骏达旅游运输有限公司",28,1119]
["91420881MACHTEWL68\t","湖北泓途旅游客运有限公司",29,1022]
["91420881MACK1P8G2T\t","湖北省亚迪达旅游客运有限公司",12,540]
["91420881MACTKEWX6J\t","钟祥市聚达运输有限责任公司",240,4683]
["914209000770441757\t","孝感市孝南区俊杰校车服务股份有限公司",11,463]
["91420900773944310T\t","孝感汽车客运集团有限公司安吉旅游分公司",34,1627]
["91420900MA48YKYQ0A\t","孝感市捷达旅游客运有限责任公司",29,1249]
["91420900MA494DE17B\t","湖北仙旅旅游客运有限公司",20,928]
["91420902068416782K\t","孝感源通运输有限公司",2,38]
["91420902180861341G\t","孝感市孝南区肖港汽车运输公司",2,38]
["91420902MA4927GUXP\t","孝感市祥和旅游客运有限公司",65,3142]
["91420902MADEGGRJ1W\t","湖北久安旅游客运有限公司",4,94]
["91420902MAETH3TL63\t","湖北未来之星研途运输服务有限公司",10,480]
["914209211808666605\t","孝昌县周巷镇汽车客运公司",29,711]
["91420921773904511P\t","孝昌县白沙平强汽车客运联营有限公司",17,332]
["91420921MA48YTR75U\t","孝昌县大路客运有限公司",1,19]
["91420921MA494QUM6K\t","孝昌县祥和汽车运输有限公司",1,28]
["914209227707531998\t","大悟县广大客运有限责任公司",19,201]
["91420922793250703J\t","大悟鑫源客运旅游有限责任公司",25,1114]
["91420923MA48BK8H60\t","云梦县梦辛汽车运输有限公司",8,138]
["91420923MA49CATA1Q\t","云梦县云魏汽车运输有限责任公司",5,75]
["91420981MA487KQXXF\t","应城市南天客运有限责任公司",25,494]
["91420981MA487RD142\t","应城市鑫安运输有限公司",7,133]
["91420981MA487TWL42\t","应城市睿安客运有限公司",34,646]
["91420981MA487XT04P\t","应城市北田客运有限公司",12,228]
["91420981MA487YU89C\t","应城市义安农村客运有限公司",22,416]
["91420981MA4884PA7D\t","应城市杨河客运有限公司",12,228]
["91420981MA4887JN3N\t","应城市安通农村客运有限责任公司",12,224]
["91420981MA489N7U3H\t","应城市汤应客运有限公司",15,285]
["91420981MA48A5JM0D\t","应城三合客运有限公司",7,133]
["91420981MA48A5JQ3R\t","应城市好前途运输有限公司",5,95]
["91420981MA48A65N22\t","应城市人安农村客运有限公司",3,55]
["91420981MA48A87J8A\t","应城两河客运有限公司",4,70]
["91420981MA48ADAF8C\t","应城市风顺客运有限公司",1,19]
["91420981MACF6DH09C\t","湖北凯邦旅游客运有限公司",20,684]
["91420982737146098X\t","安陆市涢安汽车运输有限公司",26,668]
["91420984068413696E\t","汉川市一六鑫客运有限公司",16,304]
["91420984326071482Q\t","汉川昌盛客运有限公司",5,95]
["914209843260827399\t","汉川市振腾客运服务有限公司",6,114]
["914209843260829156\t","汉川市瑞达客运服务有限公司",1,26]
["914209843261026486\t","汉川市里潭宏达客运有限责任公司",9,171]
["91420984585459473C\t","湖北金发达运输有限公司",41,797]
["91420984722058116L\t","湖北省国营中洲垸农场汽车队",10,247]
["91420984790598042K\t","汉川市兴发客运有限公司",8,232]
["91420984MA4870BT7G\t","汉川安通交运集团公路客运有限公司",34,684]
["91420984MA497TN9X0\t","汉川安运运输有限公司",11,459]
["91420984MA498BDN7H\t","汉川市鸿志客运有限公司",13,274]
["91420984MA49DPQP1U\t","汉川鼎通客运服务有限公司",1,19]
["91421000588223773G\t","荆州文化旅游投资股份有限公司",10,446]
["91421000706806153U\t","湖北通运运输股份有限公司",125,3322]
["9142100073791275X8\t","荆州市顺捷运输有限公司",41,1412]
["91421000MA487Y379N\t","荆州市东盛实创旅游运输有限公司",47,2030]
["91421000MA4911CW92\t","荆州先行旅游客运有限公司",67,2401]
["91421000MA494U3J0U\t","荆州市顺程旅游运输有限公司",54,2434]
["91421022271755595C\t","公安县宏泰汽车运输有限公司",155,3428]
["914210230500224867\t","监利恒发汽车运输有限公司",1,19]
["91421023182012466B\t","监利市尺八运输公司",127,2677]
["9142102318202386X8\t","湖北省国营人民大垸农场汽车运输公司",71,1669]
["91421023316429874J\t","监利安捷运输有限公司",0,{"$error":"#N/A"}]
["914210235715472458\t","监利县荆南汽车客运有限公司",4,79]
["914210236980454378\t","监利县宏图客运有限公司",2,38]
["91421023739119050B\t","监利永通客运有限公司",9,377]
["91421023757038975D\t","监利县天发中巴客运代理服务有限公司",72,1266]
["91421023780929178T\t","监利县惠民通村客运有限公司",8,152]
["91421023MA49E5DU0N\t","监利市顺通旅游客运有限公司",46,1515]
["91421023MABTT80Q66\t","监利市伟邦运输有限公司",2,53]
["91421024706971837B\t","江陵县资福寺客运有限责任公司",14,397]
["91421024706980864M\t","江陵县马家寨兴达客运有限责任公司",15,435]
["91421024739118146R\t","江陵永通客运有限公司",24,829]
["914210247641018132\t","江陵友联客运有限公司",12,369]
["91421024767424845T\t","江陵县万通客运有限公司",2,74]
["914210811817303512\t","石首市调关汽车客运有限责任公司",21,547]
["91421081730872329B\t","荆州神通集团石首市捷达汽车运输有限公司",162,2197]
["91421081788199456N\t","石首市东兴客运有限责任公司",34,629]
["91421083747660568N\t","洪湖市黄家口公路客运有限公司",6,114]
["91421083770780154F\t","洪湖市鹏程客运有限公司",21,476]
["91421083780928132R\t","洪湖市天虎运业有限公司",3,84]
["91421083784476516Y\t","洪湖市神驰客运有限公司",13,221]
["91421083MA49Q37R87\t","洪湖市春泰客运有限公司",19,145]
["91421083MA4F0Y254J\t","湖北玲辉旅游客运有限公司",49,1806]
["914210871819230065\t","荆州神通汽车运输集团有限公司",66,1508]
["91421087691798217l\t","松滋市楚龙运输有限公司",{"$error":"#N/A"},{"$error":"#N/A"}]
["91421087MA488MNH0Q\t","湖北宜昌交运松滋有限公司",34,1040]
["91421087MA48H3T745\t","湖北宜昌交运松滋有限公司运务分公司",40,1186]
["91421100343468609M\t","黄冈市圣运旅游客运有限公司",21,863]
["91421100579894348C\t","黄冈市鸿辉汽车通勤服务有限公司",19,740]
["91421100582470108W\t","黄冈市东方运输集团华东客运有限公司",3,91]
["91421100732719395Y\t","黄冈市东方运输集团有限公司",42,1139]
["91421100739149305Q\t","黄冈市光大客运有限公司",10,289]
["91421100741792818K\t","湖北省龙感湖旭龙汽运有限公司",8,148]
["9142110079594416X2\t","黄冈市东方运输集团旅游运输有限公司",17,790]
["914211027641372859\t","黄冈市温馨旅游客运有限公司",15,649]
["91421121582480234E\t","黄冈市东方运输集团华东客运有限公司团风分公司",16,374]
["914211217417501593\t","团风县山河运输有限公司",10,240]
["91421121741770432U\t","黄冈市光大客运有限公司团风分公司",14,396]
["91421121780916393K\t","黄冈市温馨旅游客运有限公司团风分公司",3,131]
["91421121793294044J\t","黄冈市东方运输集团团风长安有限公司",22,731]
["91421121MADX0KUJ1C\t","湖北韵龙旅游运输有限公司团风分公司",{"$error":"#N/A"},{"$error":"#N/A"}]
["914211227327385459\t","红安县通达客运有限公司",31,747]
["9142112274769352XA\t","红安县天台山旅游客运有限责任公司",1,19]
["91421122MADAD90M5C\t","黄冈市鸿辉汽车通勤服务有限公司红安分公司",9,366]
["9142112318056294X9\t","罗田交投汽车运输有限公司",5,60]
["91421123343534274F\t","罗田县路路发运输有限公司",7,83]
["91421123565492305M\t","罗田县兴安客运运输有限责任公司",12,153]
["914211235914736186\t","罗田县大别山客运有限公司",4,39]
["91421123679770879M\t","罗田县富通客运有限公司",2,14]
["9142112372832565X4\t","罗田县运通物资发展有限责任公司",7,110]
["91421123732739150R\t","罗田县金塔实业有限责任公司",25,817]
["91421123735200388E\t","黄冈市东方运输集团罗田连通有限公司",58,1953]
["914211237534099868\t","罗田县胜利开源汽车运输有限公司",13,153]
["9142112375700154X9\t","罗田县旺达汽车运输有限公司",5,65]
["91421123770768833L\t","罗田县顺达客运旅游有限责任公司",10,164]
["9142112379875736XJ\t","黄冈市东方运输集团旅游运输有限公司罗田分公司",3,150]
["91421123MA4878CD41\t","罗田县兴昌运输有限责任公司",14,120]
["91421123MA4953BWX7\t","罗田县安腾汽车运输有限公司",1,19]
["91421123MA4956RD4F\t","罗田骏捷汽车运输有限公司",5,41]
["91421123MA495WHM5C\t","罗田罗九旅游客运有限公司",3,31]
["91421123MA499DEE07\t","湖北安捷公交有限公司",24,682]
["914211243097454069\t","英山县全顺城乡客运有限公司",8,112]
["91421124767406225T\t","英山南河富民客运有限公司",3,56]
["91421124793294220T\t","英山县兴和客运有限公司",9,151]
["91421124798756527W\t","黄冈市东方运输集团旅游运输有限公司英山分公司",3,142]
["91421124MA4893RHX6\t","英山县金孔城乡客运有限公司",23,357]
["91421124MA48G68309\t","湖北百姓国际旅行社有限公司",18,651]
["91421124MA492E2A61\t","英山县顺际客运有限公司",8,147]
["91421124MA494GWQ4T\t","英山县安楚客运有限公司",2,28]
["91421125060664984E\t","浠水县洪盛汽车客运有限公司",9,171]
["9142112533184905XH\t","浠水县国雄农村客运有限公司",1,55]
["914211253434370959\t","浠水县为民汽车运输有限公司",10,90]
["914211257351931813\t","黄冈市东方运输集团浠水环通有限公司",71,2285]
["91421125739136221J\t","浠水县汽总运输有限责任公司",11,172]
["91421125798761967R\t","黄冈市东方运输集团旅游运输有限公司浠水分公司",18,779]
["91421125MA49F74F1J\t","浠水县众诚道路客运有限公司",4,72]
["91421125MACK2JNQ91\t","湖北省三角山昊宇旅游客运有限公司",14,468]
["91421125MAD1YT3T2U\t","浠水县辰和客运联营有限责任公司",6,114]
["914211263318096219\t","蕲春县惠民村村通客运有限责任公司",82,657]
["914211265882451043\t","蕲春县横车汽车联运有限公司",20,302]
["91421126670350034E\t","蕲春县亨达汽车运输有限公司",2,38]
["91421126673655343U\t","蕲春县惠农乡村客运有限公司",11,104]
["91421126739104713W\t","黄冈市东方运输集团蕲春晨光有限公司",86,2407]
["914211267446101941\t","蕲春县顺达汽车客运有限责任公司",26,750]
["91421126747661624N\t","蕲春县运通旅游运输有限公司",56,1618]
["914211267570150792\t","蕲春县福兴运输有限公司",5,93]
["914211267570168721\t","蕲春县正通客运有限公司",5,95]
["91421126795946181H\t","黄冈市东方运输集团旅游运输有限公司蕲春分公司",19,895]
["91421126MA48A31D7A\t","蕲春县鸿通客运有限责任公司",8,186]
["91421126MA48AQR33K\t","蕲春益民客运有限责任公司",9,75]
["91421126MA48WCQ04J\t","蕲春县蕲州运发客运有限公司",8,66]
["91421126MA49NHCG1X\t","湖北晨瑞客运运输有限公司",22,669]
["91421126MAE5J4D20Q\t","湖北省黄冈市蕲春县李山村旅游客运有限责任公司",3,23]
["91421126MAEEE1AH7F\t","孝感市祥和旅游客运有限公司蕲春分公司",8,352]
["91421127316525508B\t","黄梅县军友客运有限责任公司",1,7]
["91421127665495466F\t","黄梅县兴发运输有限公司",2,34]
["91421127726128417E\t","湖北省黄梅县安利达运输有限公司",18,315]
["91421127735191274F\t","湖北明珠运输集团有限公司",36,1101]
["91421127737929586C\t","黄梅县宏达客运有限责任公司",21,329]
["91421127741782337J\t","黄梅县宏发运输有限公司",52,1521]
["9142112775103130XM\t","黄梅县新业运输有限公司",9,171]
["91421127777561739Y\t","黄梅县胜兴运输有限责任公司",9,171]
["91421127790579116U\t","黄梅县都得利客运有限公司",2,38]
["91421127795943773H\t","黄梅县群兴客运有限公司",2,26]
["91421127MA487ADU5G\t","湖北明珠运输集团城通客运有限公司",1,19]
["91421127MACG3KB391\t","湖北明珠集团旅游客运有限公司",29,1337]
["91421127MACUA97R0F\t","湖北鄂东通勤汽车运输服务有限公司",1,11]
["914211816622616564\t","黄冈市东方运输集团旅游运输有限公司麻城分公司",3,160]
["9142118173793879XN\t","黄冈市东方运输集团麻城宇通有限公司",52,1764]
["91421181MA48JG8932\t","麻城龟峰山旅游经营管理有限公司",10,120]
["91421181MACF4Q4HX5\t","麻城市启航旅游开发有限公司",20,788]
["91421182732724338E\t","黄冈市东方运输集团武穴宏森有限公司",2,114]
["91421182MA48CRQ14Q\t","武穴市安广公路运输服务有限公司",{"$error":"#N/A"},{"$error":"#N/A"}]
["91421182MA492BB2XD\t","武穴市宏森优行运输有限公司",47,952]
["91421182MA492FE70N\t","湖北晶利汽车运输有限公司",{"$error":"#N/A"},{"$error":"#N/A"}]
["91421182MA4993HN69\t","武穴市保达汽车通勤服务有限公司",54,2289]
["91421182MA499T326B\t","湖北云中横岗旅游开发有限公司",7,72]
["91421182MA49A0PN47\t","武穴市融兴通勤服务有限公司",19,834]
["91421182MA7H77JQ6M\t","武穴市公共车辆租赁服务有限公司",3,64]
["91421182MACU6R6196\t","武穴市顺通客运联营有限公司",{"$error":"#N/A"},{"$error":"#N/A"}]
["91421182MAERFYT9XY\t","武穴市公共交通运输有限公司",136,4334]
["91421200579871322P\t","湖北咸宁咸运运输集团有限公司旅游客运分公司",21,1054]
["91421200MA4877JT7D\t","咸宁市枫丹公共交通控股有限公司",22,970]
["91421200MA488JMN5B\t","湖北万通缘国际旅游发展有限公司",33,1260]
["91421200MA490D2437\t","湖北咸宁咸运集团客运服务有限公司",40,1298]
["914212027220618842\t","湖北咸宁咸运集团咸安安达运输有限公司",31,1273]
["91421202751006753U\t","咸宁市兴泰运输有限责任公司",28,1051]
["91421202MA49LQY202\t","湖北万通缘国际旅游发展有限公司咸宁分公司",11,508]
["91421202MABLP5FNX1\t","湖北恒烁智能科技有限公司",3,124]
["91421222MA48YPKU8Q\t","通城骏捷旅游客运有限公司",27,1015]
["91421223MA492C7Y9K\t","崇阳天发旅游客运有限公司",32,1370]
["91421224744625476A\t","通山县九宫山万利汽车客运有限公司",27,491]
["914212247739112951\t","通山县新兴汽车客运有限公司",{"$error":"#N/A"},{"$error":"#N/A"}]
["91421281MA49AQFM3R\t","赤壁市交投集团恒昌运输有限公司",1,7]
["91421300676458193D\t","随州市凯昌旅游客运有限公司",22,849]
["91421300744640553C\t","湖北通宇运业有限公司",55,1763]
["91421300764118586J\t","随州市顺捷汽车运输有限公司",33,982]
["914213007641330737\t","湖北捷龙恒通运业有限公司",57,1545]
["91421300MA490HU50Y\t","随州市天成汽车运输有限公司",44,1345]
["91421300MA4923KE3E\t","湖北辉鸿旅游客运有限公司",18,748]
["91421300MA494PPCXK\t","随州市昌顺汽车运输有限公司",4,55]
["91421300MA495LFF51\t","随州自在小镇文旅发展有限公司",20,840]
["91421300MA49FN4TX4\t","鄂旅投随州星程旅游服务有限公司",6,191]
["91421303MA491QTG4N\t","随州市朱大安客运有限公司",7,60]
["91421303MA492JK7XF\t","随州市曾都区惠祥农村客运有限公司",8,112]
["91421303MA495UEM00\t","随州路路顺运输有限公司",2,20]
["91421303MA497J1N7B\t","随州市智顺运输有限公司",6,47]
["91421303MA499G2D4F\t","湖北捷龙恒通运业有限公司旅游运输分公司",14,464]
["91421303MA49A1Q64G\t","随州市万东客运有限公司",1,7]
["91421303MA49N66B2A\t","随州市黄刚农村客运有限公司",6,46]
["9142132155065800XW\t","湖北捷龙恒通运业有限公司随县分公司",22,669]
["9142132155394495XT\t","随州市顺捷汽车运输有限公司随县分公司",31,939]
["91421321553944992B\t","湖北通宇运业有限公司随县分公司",41,1064]
["91421321767405732N\t","随县宏运汽车运输有限公司",23,354]
["91421321MA496AMJ8C\t","随县乐通汽车运输有限公司",4,76]
["91421381757006682X\t","湖北通宇运业有限公司广水分公司",46,1135]
["91421381760681507F\t","广水市马坪长鸿客运有限责任公司",19,333]
["91421381760697509Q\t","广水市阳泰客运有限公司",32,544]
["91421381764100239E\t","广水市应通客运有限责任公司",11,184]
["91421381770758686A\t","广水市吴店平安客运有限公司",46,791]
["91421381MA48BFLF9U\t","广水市华运客运有限公司",35,660]
["91421381MADQRT6M9F\t","广水市荣福客运联营有限公司",45,632]
["91421381MADRXKJD74\t","广水市应李客运联营有限公司",9,162]
["91422800559706768P\t","恩施州交运运输集团昌隆旅游客运有限责任公司",33,928]
["91422800665491289Y\t","恩施州运通旅游客运有限公司",24,695]
["91422800695148799N\t","恩施鑫达客运有限公司",55,2480]
["91422800788195068M\t","湖北省鄂旅投旅游发展股份有限公司",12,444]
["91422801060669339J\t","恩施市程安旅游客运有限公司",22,180]
["91422801331800176R\t","恩施市容森客运有限公司",9,81]
["91422801331875338H\t","湖北奥昇文旅发展有限公司",6,114]
["914228015683225202\t","恩施巴山旅游运输有限责任公司",22,1275]
["91422801667682521G\t","恩施市宇捷旅行社有限公司",14,529]
["91422801670364225R\t","恩施市清江旅游客运有限公司",8,66]
["91422801676471419A\t","恩施市永福汽车营运有限公司",11,159]
["914228017417535013\t","恩施市顺安公路运输有限公司",94,1394]
["91422801741755056R\t","恩施市广通运业有限公司",94,1554]
["914228017417632838\t","恩施市东升客运有限公司",65,1054]
["91422801741794231B\t","恩施市富盛汽车运输有限公司",7,133]
["91422801741799569C\t","恩施市星火客运有限责任公司",21,473]
["91422801744615315L\t","恩施市西凤客运有限公司",31,673]
["914228017905508070\t","恩施市旗胜汽车运输有限责任公司",17,430]
["91422801795913929X\t","恩施市永盛客运有限公司",34,609]
["91422801MA49438J9T\t","恩施州天峰旅游客运有限公司",10,70]
["91422801MA4943BTX2\t","恩施州硒雅途旅游客运有限公司",23,627]
["91422801MA495FBW2Y\t","恩施畅达旅游客运有限公司",36,1911]
["91422801MA495MCB6T\t","湖北硒旅线旅游运输有限公司",82,2035]
["91422801MA4964F95K\t","恩施州华伟客运有限公司",20,855]
["91422801MA496F3483\t","湖北兴宏驰旅游客运有限公司",41,1404]
["91422801MA496JYC1L\t","恩施州欣驰客运有限公司",36,1164]
["91422801MA497NF17B\t","恩施侠客行旅游客运有限公司",96,2245]
["91422801MA49B4HQ42\t","恩施州昌安长途轿车客运有限责任公司",93,605]
["91422801MA49B4KK48\t","恩施州昌运客运有限责任公司",82,1781]
["91422801MA49CH3Y15\t","恩施州双盈旅游运输有限公司",71,2317]
["91422801MA49ENNT5W\t","恩施州众祥旅游运输有限责任公司",95,3077]
["91422801MA49EXWH1U\t","恩施州丰联旅游客运有限公司",90,2731]
["91422801MA49NN9R9C\t","恩施州新起航旅游客运有限公司",36,963]
["91422801MA49QN55XE\t","恩施市宏安礼宾旅游运输有限公司",69,2151]
["91422801MA49RCNA0R\t","恩施安驰旅游客运有限责任公司",42,1730]
["91422801MA4F2GGK84\t","恩施州军成客运有限公司",34,1091]
["91422801MA4F2LMD2L\t","恩施州开运客运有限公司",80,2007]
["91422801MA7G9DGB0Q\t","湖北省美途旅游客运有限公司",43,325]
["91422801MABY0WRN5A\t","恩施市桃花源旅游客运有限公司",20,861]
["91422801MAC9Q1C405\t","恩施州客顺旅游客运有限公司",17,385]
["91422801MACA7NDH0Y\t","恩施州众鑫旅游客运有限公司",117,3827]
["91422801MACF56989L\t","恩施市恒达旅游客运有限公司",20,783]
["91422801MACG61CH4M\t","恩施州顺驰旅游客运有限公司",47,1521]
["91422801MACJD8X84T\t","恩施州安鹏旅游客运有限公司",31,985]
["91422801MACKTQY96J\t","恩施州中诚旅游客运有限公司",18,667]
["91422801MACM69JQX3\t","湖北翎航旅游客运有限责任公司",69,579]
["91422801MACRXLXJ60\t","湖北省兴程旅游客运有限公司",27,899]
["91422801MACWJP173L\t","湖北安旭旅游客运有限公司",26,858]
["91422801MAD599CH4G\t","恩施市宇捷旅游客运有限公司",35,1189]
["91422801MADEDNB23C\t","恩施州胜鑫旅游客运有限责任公司",26,770]
["91422801MAE2GPG52E\t","恩施州环楚旅游客运有限公司",20,652]
["91422802082315654R\t","恩联集团利川君城旅游客运有限公司",25,1025]
["91422802083801902X\t","利川市运通运业有限责任公司",25,527]
["91422802090595756E\t","利川市正通运业有限责任公司",17,163]
["91422802326053460A\t","利川市龙渠运业有限公司",14,113]
["914228023317908877\t","利川市祥和客运有限公司",3,27]
["91422802331887507B\t","利川市毛坝客货运输综合服务有限公司",1,21]
["91422802343400938U\t","利川市利源运输服务有限责任公司",22,189]
["91422802679777747C\t","利川市腾龙旅游客运有限责任公司",21,830]
["914228027417644624\t","利川市鹏程运业有限责任公司",70,1658]
["914228027534177830\t","利川腾龙风景区旅游资源开发有限公司",13,542]
["91422802753429581L\t","恩施联运运输集团有限公司",143,4511]
["91422802780937645C\t","利川市玉龙运业有限责任公司",61,1068]
["91422802MABQG7TL3T\t","恩施鑫达客运有限公司利川分公司",8,362]
["91422802MAD27PRM0E\t","利川市安欣旅游客运有限责任公司",42,1069]
["91422802MADLCYPD3U\t","恩施州昌安长途轿车客运有限责任公司利川分公司",13,72]
["914228225597440350\t","湖北建始永昌运输集团有限公司",75,1614]
["91422822741771857A\t","建始县运通快客有限责任公司",11,199]
["91422822741795621M\t","建始县平安客运有限责任公司",24,499]
["914228227674162559\t","建始县祥太客运有限责任公司",21,303]
["91422822777587218G\t","建始县跃发客运有限责任公司",4,74]
["914228227775980562\t","湖北建始永昌运输集团永兴客运有限责任公司",22,279]
["91422822784488867Q\t","建始县万和客运有限责任公司",44,1024]
["91422822790564854X\t","建始县兴农道路客运有限责任公司",12,188]
["91422822MADBYQW51H\t","恩施州昌安长途轿车客运有限责任公司建始分公司",9,45]
["91422823080916608Q\t","巴东神农溪景区旅游发展有限公司",6,266]
["91422823331912872R\t","巴东神之旅旅游汽车运输有限公司",4,134]
["91422823691755452Y\t","巴东县吉安汽车客运有限公司",41,822]
["91422823735190028T\t","巴东顺发客运有限责任公司",50,885]
["91422823741782484T\t","巴东县捷龙客运有限责任公司",110,1883]
["91422823741796093N\t","巴东县万通客运有限责任公司",53,710]
["91422823MA4949KW8P\t","国网电动汽车服务湖北有限公司巴东运营服务分公司",2,468]
["91422823MA49779X7M\t","巴东骏达客运发展有限公司",66,1087]
["91422823MA49D651XD\t","恩施州昌安长途轿车客运有限责任公司巴东分公司",15,121]
["91422823MA49P9CN8W\t","湖北鸿益旅游客运有限责任公司",26,1196]
["91422825665471886F\t","宣恩县长大道路运输有限公司",120,2214]
["914228256654847678\t","宣恩县长胜道路运输有限公司",21,342]
["914228257775621410\t","恩施州昌安长途轿车客运有限责任公司宣恩客运分公司",14,78]
["91422825MA492K8Y7X\t","宣恩顺盈运输有限公司",31,1275]
["91422825MA49PK855G\t","宣恩彭家寨旅游客运有限公司",15,562]
["91422825MABTPX0BX3\t","湖北郝运旅游客运有限公司",24,614]
["91422826562745856A\t","咸丰坪坝营运输有限责任公司",7,123]
["91422826667685132T\t","咸丰县华兴汽车客运有限公司",15,335]
["91422826753402637E\t","咸丰县恒通运输有限公司",98,2479]
["914228267641362747\t","恩施州昌安长途轿车客运有限责任公司咸丰客运分公司",14,92]
["91422826767404254R\t","咸丰县畅达运输有限公司",70,1692]
["91422826MA499DYA59\t","恩施友桥客运有限公司",32,1546]
["91422826MA49J1C72M\t","恩施鑫达客运有限公司咸丰分公司",14,534]
["91422827095469222U\t","来凤县金凤客运有限公司",17,299]
["9142282734337360X9\t","来凤县民生客运有限公司",106,888]
["914228277146777699\t","恩施州来凤强发快客有限公司",50,2640]
["9142282774179555X2\t","来凤县平安客运有限公司",41,700]
["91422827757017103B\t","恩施州昌安长途轿车客运有限责任公司来凤县分公司",17,111]
["914228277606560966\t","来凤县中华城乡公交有限责任公司",25,557]
["914228277641038007\t","来凤县长安客运有限责任公司",22,364]
["914228277739065173\t","来凤县强盛公交有限责任公司",32,718]
["914228277775649051\t","华中出行（来凤）客运有限公司",16,369]
["91422827777567380D\t","来凤民生能源集团凤翔客运有限公司",77,3277]
["91422827MA492MEE7T\t","恩施新旅线旅游运输有限公司",23,1054]
["91422827MA4945QH23\t","恩施州军海旅游客运有限公司",7,163]
["91422828060666058Y\t","鹤峰县永强汽车客运有限公司",4,44]
["91422828183415195E\t","鹤峰县景发客运联营有限公司",17,393]
["914228286764801390\t","鹤峰县宜达客运有限公司",15,255]
["91422828691773407J\t","鹤峰县同惠汽车客运有限公司",5,47]
["914228287351960242\t","鹤峰县益通汽运有限公司",57,1308]
["9142282874766370XK\t","湖北省鹤峰县万众汽车客运有限公司",43,532]
["91422828777559452B\t","鹤峰县畅达汽车客运有限责任公司",13,155]
["91422828MA491TPR74\t","恩施顺通旅游客运有限公司",4,114]
["91422828MA49D8A84A\t","恩施州昌安长途轿车客运有限责任公司鹤峰分公司",12,84]
["91422828MA4F3KMN72\t","湖北硒之行客运有限公司",14,488]
["914230981MA487XNH5\t","应城市顺安客运有限公司",11,207]
["91429004181663937H\t","仙桃市天顺运输有限公司",29,687]
["91429004181688771B\t","仙桃市仙运交通运输有限公司",64,1441]
["9142900466767760X0\t","湖北顺捷旅游运输有限公司",34,1728]
["91429004741762467F\t","仙桃市高客运输有限公司",11,320]
["91429004757011035N\t","仙桃市沙湖运业有限公司",1,109]
["91429004764125348Q\t","仙桃市顺通运业有限公司",4,36]
["91429004MA4928GU29\t","湖北顺捷旅游运输有限公司江汉分公司",31,1854]
["91429005793277332B\t","潜江市环宇汽车运输有限公司",29,421]
["91429005MA48NLBE9J\t","湖北潜江驰宇运输有限公司旅游客运中心",38,1611]
["91429006588208215J\t","天门市易达运输有限公司",10,170]
["91429006616189489L\t","天门市大鹏汽运商贸有限公司",{"$error":"#N/A"},{"$error":"#N/A"}]
["91429006MA488X7L1C\t","天门盛迦旅游咨询有限公司",28,1308]
["91429006MA4F0U6H7U\t","湖北侨美运输有限公司",23,1080]
["914290210740780627\t","湖北合众运输有限责任公司",27,698]
["91429021331765163U\t","神农架九运客运有限公司",6,54]
["91429021730887328A\t","湖北神农架中和旅游有限公司",75,2812]
["91429021MA4887LAXA\t","神农架大九湖旅游客运有限公司",42,1775]
["91429021MA497E1J0A\t","神农架航旅客运有限公司",17,543]
["91429021MA497QRK7H\t","湖北神农旅游客运有限公司",17,609]

{"sheet":"公路旅客分市州明细","index":2,"n_rows":57,"n_cols":284,"rows_kept":57,"merged":[[0,0,0,1],[1,0,2,0],[1,1,2,1],[1,2,2,2],[1,3,2,3],[1,4,2,4],[1,5,2,5],[1,6,2,6],[1,7,2,7],[1,8,2,8],[1,9,2,9],[1,10,2,10],[1,11,2,11],[1,12,2,12],[1,13,2,13],[1,14,2,14],[1,15,2,15],[1,17,2,17],[1,18,2,18],[1,19,2,19],[1,20,2,20],[1,21,2,21],[1,22,2,22],[1,23,2,23],[1,24,2,24],[1,25,2,25],[1,26,2,26],[1,27,2,27],[1,28,2,28],[1,29,2,29],[1,30,2,30],[1,31,2,31],[1,32,2,32],[1,33,2,33],[1,34,2,34],[1,35,2,35],[1,36,2,36],[1,37,2,37],[1,38,2,38],[1,39,2,39],[1,40,2,40],[1,41,2,41],[1,42,2,42],[1,44,2,44],[1,45,2,45],[1,46,2,46],[1,47,2,47],[1,48,2,48],[1,49,2,49],[1,50,2,50],[1,51,2,51],[1,52,2,52],[1,53,2,53],[1,54,2,54],[1,55,2,55],[1,56,2,56],[1,57,2,57],[1,58,2,58],[1,59,2,59],[1,60,2,60],[1,61,2,61],[1,62,2,62],[1,63,2,63],[1,64,2,64],[1,65,2,65],[1,66,2,66],[1,67,2,67],[1,68,2,68],[1,69,2,69],[1,70,2,70],[1,71,2,71],[1,72,2,72],[1,73,2,73],[1,74,2,74],[1,75,2,75],[1,76,2,76],[1,77,2,77],[1,78,2,78],[1,79,2,79],[1,80,2,80],[1,81,2,81],[1,82,2,82],[1,83,2,83],[1,84,2,84],[1,85,2,85],[1,86,2,86],[1,87,2,87],[1,88,2,88],[1,89,2,89],[1,90,2,90],[1,91,2,91],[1,92,2,92],[1,93,2,93],[1,94,2,94],[1,95,2,95],[1,96,2,96],[1,99,2,99],[1,100,2,100],[1,101,2,101],[1,102,2,102],[1,103,2,103],[1,104,2,104],[1,105,2,105],[1,106,2,106],[1,107,2,107],[1,108,2,108],[1,109,2,109],[1,110,2,110],[1,111,2,111],[1,112,2,112],[1,114,2,114],[1,115,2,115],[1,116,2,116],[1,117,2,117],[1,118,2,118],[1,119,2,119],[1,120,2,120],[1,121,2,121],[1,122,2,122],[1,123,2,123],[1,124,2,124],[1,125,2,125],[1,126,2,126],[1,127,2,127],[1,128,2,128],[1,129,2,129],[1,130,2,130],[1,131,2,131],[1,132,2,132],[1,133,2,133],[1,134,2,134],[1,135,2,135],[1,136,2,136],[1,137,2,137],[1,138,2,138],[1,139,2,139],[1,140,2,140],[1,141,2,141],[1,142,2,142],[1,143,2,143],[1,144,2,144],[1,145,2,145],[1,146,2,146],[1,147,2,147],[1,148,2,148],[1,149,2,149],[1,150,2,150],[1,151,2,151],[1,152,2,152],[1,153,2,153],[1,154,2,154],[1,155,2,155],[1,156,2,156],[1,157,2,157],[1,158,2,158],[1,159,2,159],[1,160,2,160],[1,161,2,161],[1,162,2,162],[1,163,2,163],[1,164,2,164],[1,165,2,165],[1,166,2,166],[1,167,2,167],[1,168,2,168],[1,169,2,169],[1,170,2,170],[1,171,2,171],[1,172,2,172],[1,173,2,173],[1,174,2,174],[1,175,2,175],[1,176,2,176],[1,177,2,177],[1,178,2,178],[1,179,2,179],[1,180,2,180],[1,181,2,181],[1,182,2,182],[1,183,2,183],[1,186,1,187],[1,188,1,189],[1,190,1,191],[1,192,1,193],[1,194,1,195],[1,196,1,197],[1,198,1,199],[1,200,1,201],[1,202,1,203],[1,204,1,205],[1,206,1,207],[1,208,1,209],[1,211,1,212],[1,215,1,216],[1,217,1,218],[1,219,1,220],[1,221,1,222],[1,223,1,224],[1,226,1,227],[1,228,1,229],[1,230,1,231],[1,232,1,233],[1,234,1,235],[1,236,1,237],[1,238,1,239],[1,240,1,241],[1,243,1,244],[1,245,1,246],[1,247,1,248],[1,249,1,250],[1,251,1,252],[1,253,1,254],[1,255,1,256],[1,257,1,258],[1,259,1,260],[1,261,1,262],[1,263,1,264],[1,265,1,266],[3,0,6,0],[7,0,8,0],[9,0,12,0],[13,0,16,0],[17,0,20,0],[21,0,24,0],[25,0,26,0],[27,0,30,0],[31,0,34,0],[35,0,36,0],[37,0,40,0],[37,185,38,185],[41,0,42,0],[43,0,46,0],[47,0,48,0],[49,0,50,0],[51,0,52,0],[53,0,54,0],[55,0,56,0]]}
["公路班线客运量",{"$nulls":181}," "]
["地区 名称","指标","2026年1月","1月与去年同比","2026年2月","2月与去年同比","2026年3月","3月与去年同比","2026年4月","4月与去年同比","2026年5月","5月与去年同比","2026年6月","6月与去年同比","2026年累计","累计与去年同比",null,"2025年1月","1月与去年同比","2025年2月","2月与去年同比","2025年3月","3月与去年同比","2025年4月","4月与去年同比","2025年5月","5月与去年同比","2025年6月","6月与去年同比","2025-07-01","7月与去年同比","2025-08-01","8月与去年同比","2025-09-01","9月与去年同比","2025-10-01","10月与去年同比","2025-11-01","11月与去年同比","2025-12-01","12月与去年同比","累计","累计同比",null,"2024年1月","1月与去年同比","2024年2月","2月与去年同比","2024年3月","3月与去年同比","2024年4月","4月与去年同比","2024年5月","5月与去年同比","2024年6月","6月与去年同比","2024年7月","7月与去年同比","2024年8月","8月与去年同比","2024年9月","9月与去年同比","2024年10月","10月与去年同比","2024年11月","11月与去年同比","2024年12月","12月与去年同比","累计","累计同比",null,"2023年1月","1月与去年同比","2023年2月","2月与去年同比","2023年3月","3月与去年同比","2023年4月","4月与去年同比","2023年5月","5月与去年同比","2023年6月","6月与去年同比","2023年7月","7月与去年同比","2023年8月","8月与去年同比","2023年9月","9月与去年同比","2023-10-01","10月与去年同比","2023-11-01","11月与去年同比","2023-12-01","12月与去年同比","累计","累计同比",null,null,"2022年1月","2022年2月","2022年3月","2022年4月","2022年5月","2022年6月","2022年7月","2022年8月","2022年9月","2022年10月","2022年11月","2022年12月","累计","累计同比",null,"2021年1月","1月与去年同比","2021年2月","2月与去年同比","2021年3月","3月与去年同比","1-3月累计","2021年4月","4月与去年同比","2021-05-01","5月与去年同比","2021-06-01","6月与去年同比","2021-07-01","7月与去年同比","2021-08-01","8月与去年同比","2021-09-01","9月与去年同比","2021-10-01","10月与去年同比","2021-11-01","11月与去年同比","2021-12-01","12月与去年同比","累计","累计同比","2020-01-01","1月与去年同比","2020年2月","2月与去年同比","2020年3月","3月与去年同比","2020年4月","4月与去年同比","2020年5月","5月与去年同比","2020年6月","6月与去年同比","2020年7月","7月与去年同比","2020年8月","8月与去年同比","2020年9月","9月与去年同比","2020年10月","10月于去年同比","2020年11月","11月于去年同比","2020年12月","12月于去年同比","累计","累计同比","2019-01-01","2019-02-02","2019-03-03","2019-04-04","2019-05-04","2019-06-04","2019-07-04","2019-08-04","2019-09-04","2019-10-04","10月与去年同期比","2019-11-04","11月与去年同期比","2019-12-04","12月与去年同期比","累计","累计同比","部专调反馈数据",null,"2018-01-01",null,"2018-02-01",null,"2018-03-01",null,"2018-04-01",null,"2018-05-01",null,"2018-06-02",null,"2018-07-03",null,"2018-08-03",null,"2018-09-03",null,"2018-10-03",null,"2018-11-03",null,"2018-12-03",null,null,"2018年1-12月累计",{"$nulls":3},"2017-01-01",null,"2017-02-01",null,"2017-03-01",null,"2017-04-02",null,"2017-05-02",null,"1-5月合计","2017-06-02",null,"2017-07-02",null,"2017-08-02",null,"2017-09-02",null,"2017-10-02",null,"2017-11-02",null,"2017-12-02",null,"累计",null,null,"2016-01-01",null,"2016-02-01",null,"2016-03-01",null,"2016-04-01",null,"2016-05-01",null,"2016-06-01",null,"2016-07-01",null,"2016-08-02",null,"2016-09-02",null,"2016-10-02",null,"2016-11-02",null,"2016-12-02"]
[{"$nulls":97},"环比",{"$nulls":88},"1月","同比","2月","同比","3月","同比","4月","同比","5月","同比","6月","同比","7月","同比","8月","同比","9月","同比","10月","同比","11月","同比","12月","同比",null,"累计","同比","平均运距56公里",null,"1月","同比","2月","同比","3月","同比","4月","同比","5月","同比",null,"6月","同比","7月","同比","8月","同比","9月","同比","10月","同比","11月","同比","12月","同比","累计","同比",null,"1月","同比","2月","同比","3月","同比","4月","同比","5月","同比","6月","同比","7月","同比","8月","同比","9月","同比","10月","同比","11月","同比","12月","同比","2015全年","2015-01-01","2015-02-01","2015-03-01","2015-04-01","2015-05-01","2015-06-01","2015-07-01","2015-08-01","2015-09-01","2015-10-01","2015-11-01","2015-12-01","2015年全年","预估2016年全年"]
["全省","客运量            （万人）",{"$f":"C8+C10+C14+C36+C18+C22+C26+C28+C38+C32+C42+C44+C48+C50+C52+C54+C56","v":{"v":1473.3801,"d":"1473.38"}},{"$f":"C4/R4-1","v":{"v":-0.127219049178382,"d":"-12.72%"}},{"v":1543.1715,"d":"1543.17"},{"v":-0.102741642382914,"d":"-10.27%"},{"v":1575.6657,"d":"1575.67"},{"v":-0.0849203354617905,"d":"-8.49%"},{"$f":"I8+I10+I14+I36+I18+I22+I26+I28+I38+I32+I42+I44+I48+I50+I52+I54+I56","v":{"v":1662.9693,"d":"1662.97"}},{"$f":"I4/X4-1","v":{"v":-0.0886191475718898,"d":"-8.86%"}},{"v":1699.6399,"d":"1699.64"},{"v":-0.0619150767173846,"d":"-6.19%"},{"v":1618.5128,"d":"1618.51"},{"v":-0.0579329681972091,"d":"-5.79%"},{"$f":"G4+E4+C4+I4+K4+M4","v":{"v":9573.3393,"d":"9573.34"}},{"$f":"O4/SUM(R4+T4+V4+X4+Z4+AB4)-1","v":{"v":-0.0869003167121795,"d":"-8.69%"}},null,{"$f":"R8+R10+R14+R36+R18+R22+R26+R28+R38+R32+R42+R44+R48+R50+R52+R54+R56","v":{"v":1688.1442,"d":"1688.14"}},{"$f":"R4/AS4-1","v":{"v":0.190499721053353,"d":"19.05%"}},{"v":1719.8742,"d":"1719.87"},{"v":0.170584463846713,"d":"17.06%"},{"v":1721.8891,"d":"1721.89"},{"v":0.19615960797894,"d":"19.62%"},{"$f":"X8+X10+X14+X36+X18+X22+X26+X28+X38+X32+X42+X44+X48+X50+X52+X54+X56","v":1824.67},{"$f":"X4/AY4-1","v":{"v":0.177125571694591,"d":"17.71%"}},{"v":1811.8188,"d":"1811.82"},{"v":0.129176853074476,"d":"12.92%"},{"v":1718.0442,"d":"1718.04"},{"v":0.128947823384797,"d":"12.89%"},{"$f":"AD8+AD10+AD14+AD36+AD18+AD22+AD26+AD28+AD38+AD32+AD42+AD44+AD48+AD50+AD52+AD54+AD56","v":{"v":1781.8881,"d":"1781.89"}},{"$f":"AD4/BE4-1","v":{"v":0.151867270183039,"d":"15.19%"}},{"v":1784.7773,"d":"1784.78"},{"v":0.108549342128963,"d":"10.85%"},{"v":1666.8001,"d":"1666.80"},{"v":0.0974185383397246,"d":"9.74%"},{"$f":"AJ8+AJ10+AJ14+AJ36+AJ18+AJ22+AJ26+AJ28+AJ38+AJ32+AJ42+AJ44+AJ48+AJ50+AJ52+AJ54+AJ56","v":{"v":1723.7631,"d":"1723.76"}},{"$f":"AJ4/BK4-1","v":{"v":-0.085402999547626,"d":"-8.54%"}},{"v":1638.517,"d":"1638.52"},{"v":-0.0654879941405538,"d":"-6.55%"},{"v":1550.368,"d":"1550.37"},{"v":-0.0600194572227875,"d":"-6.00%"},{"$f":"V4+R4+T4+X4+Z4+AB4+AD4+AF4+AH4+AJ4+AL4+AN4","v":{"v":20630.5541,"d":"20630.55"}},{"$f":"AP4/(AS4+AU4+AW4+AY4+BA4+BC4+BE4+BG4+BI4+BK4+BM4+BO4)-1","v":{"v":0.0877383748500005,"d":"8.77%"}},null,{"$f":"AS8+AS10+AS14+AS36+AS18+AS22+AS26+AS28+AS38+AS32+AS42+AS44+AS48+AS50+AS52+AS54+AS56","v":{"v":1418.0131,"d":"1418.01"}},{"v":0.000594000174855447,"d":"0.06%"},{"v":1469.244,"d":"1469.24"},{"$f":"AU4/BV4-1","v":{"v":-0.00757772635030696,"d":"-0.76%"}},{"v":1439.5145,"d":"1439.51"},{"v":-0.0701055211274484,"d":"-7.01%"},{"$f":"AY8+AY10+AY14+AY36+AY18+AY22+AY26+AY28+AY38+AY32+AY42+AY44+AY48+AY50+AY52+AY54+AY56","v":{"v":1550.1065,"d":"1550.11"}},{"v":-0.0370367494333663,"d":"-3.70%"},{"v":1604.5483,"d":"1604.55"},{"$f":"BA4/CB4-1","v":{"v":-0.0130711090846208,"d":"-1.31%"}},{"v":1521.8101,"d":"1521.81"},{"v":-0.048443639168071,"d":"-4.84%"},{"$f":"BE8+BE10+BE14+BE36+BE18+BE22+BE26+BE28+BE38+BE32+BE42+BE44+BE48+BE50+BE52+BE54+BE56","v":{"v":1546.9561,"d":"1546.96"}},{"v":-0.0797757706234081,"d":"-7.98%"},{"v":1610.0116,"d":"1610.01"},{"$f":"BG4/CH4-1","v":{"v":-0.0473961945941365,"d":"-4.74%"}},{"v":1518.8372,"d":"1518.84"},{"v":-0.024644212241931,"d":"-2.46%"},{"$f":"BK8+BK10+BK14+BK36+BK18+BK22+BK26+BK28+BK38+BK32+BK42+BK44+BK48+BK50+BK52+BK54+BK56","v":{"v":1884.7242,"d":"1884.72"}},{"v":0.156001316010281,"d":"15.60%"},{"v":1753.3397,"d":"1753.34"},{"$f":"BM4/CN4-1","v":{"v":0.163322293090999,"d":"16.33%"}},{"v":1649.3618,"d":"1649.36"},{"v":0.172572903070962,"d":"17.26%"},{"$f":"AS4+AU4+AW4+AY4+BA4+BC4+BE4+BG4+BI4+BK4+BM4+BO4","v":{"v":18966.4671,"d":"18966.47"}},{"v":0.011379728608101,"d":"1.14%"},null,{"$f":"BT8+BT10+BT14+BT36+BT18+BT22+BT26+BT28+BT38+BT32+BT42+BT44+BT48+BT50+BT52+BT54+BT56","v":{"v":1417.1713,"d":"1417.17"}},{"$f":"BT4/CV4-1","v":{"v":-0.143042171197301,"d":"-14.30%"}},{"$f":"BV8+BV10+BV14+BV36+BV18+BV22+BV26+BV28+BV38+BV32+BV42+BV44+BV48+BV50+BV52+BV54+BV56","v":{"v":1480.46254,"d":"1480.46"}},{"$f":"BV4/CW4-1","v":{"v":-0.134227724162476,"d":"-13.42%"}},{"$f":"SUM(BX8,BX10,BX18,BX14,BX36,BX22,BX26,BX28,BX38,BX32,BX42,BX44,BX48,BX52,BX50,BX54,BX56)","v":{"v":1548.0407,"d":"1548.04"}},{"$f":"BX4/CX4-1","v":{"v":0.00428639964033439,"d":"0.43%"}},1609.7255,{"v":0.200779685072039,"d":"20.08%"},{"$f":"SUM(CB8,CB10,CB18,CB14,CB36,CB22,CB26,CB28,CB38,CB32,CB42,CB44,CB48,CB52,CB50,CB54,CB56)","v":1625.7993},{"$f":"CB4/CZ4-1","v":{"v":0.128703338132188,"d":"12.87%"}},1599.2853,{"$f":"CD4/DA4-1","v":{"v":0.0593215590113703,"d":"5.93%"}},1681.0643,{"$f":"CF4/DB4-1","v":{"v":0.0212292128422105,"d":"2.12%"}},{"$f":"SUM(CH8,CH10,CH18,CH14,CH36,CH22,CH26,CH28,CH38,CH32,CH42,CH44,CH48,CH52,CH50,CH54,CH56)","v":{"v":1690.1167,"d":"1690.12"}},{"$f":"CH4/DC4-1","v":{"v":0.073586749220846,"d":"7.36%"}},{"v":1557.2135,"d":"1557.21"},{"$f":"CJ4/DD4-1","v":{"v":-0.0523573501945565,"d":"-5.24%"}},{"v":1630.3824,"d":"1630.38"},{"$f":"CL4/DE4-1","v":{"v":0.261346281974591,"d":"26.13%"}},{"$f":"SUM(CN8,CN10,CN18,CN14,CN36,CN22,CN26,CN28,CN38,CN32,CN42,CN44,CN48,CN52,CN50,CN54,CN56)","v":{"v":1507.1831,"d":"1507.18"}},{"$f":"CN4/DF4-1","v":{"v":0.447443488616092,"d":"44.74%"}},{"$f":"SUM(CP8,CP10,CP18,CP14,CP36,CP22,CP26,CP28,CP38,CP32,CP42,CP44,CP48,CP52,CP50,CP54,CP56)","v":{"v":1406.6177,"d":"1406.62"}},{"$f":"CP4/DG4-1","v":{"v":0.380706668309176,"d":"38.07%"}},{"$f":"BT4+BV4+BX4+BZ4+CB4+CD4+CF4+CH4+CJ4+CL4+CN4+CP4","v":{"v":18753.06234,"d":"18753.0623"}},{"$f":"CR4/SUM(CV4:DG4)-1","v":{"v":0.0770129057626028,"d":"7.70%"}},{"$f":"CP4/CN4-1","v":{"v":-0.0667240761922023,"d":"-6.67%"}},null,{"v":1653.7235,"d":"1653.72"},{"v":1709.9907,"d":"1709.99"},{"v":1541.4335,"d":"1541.43"},{"v":1340.5669,"d":"1340.57"},{"v":1440.4133,"d":"1440.41"},{"v":1509.726,"d":"1509.73"},{"v":1646.1185,"d":"1646.12"},{"v":1574.2712,"d":"1574.27"},{"v":1643.2497,"d":"1643.25"},{"v":1292.5732,"d":"1292.57"},{"v":1041.2725,"d":"1041.27"},{"v":1018.7665,"d":"1018.77"},{"v":17412.1055,"d":"17412.11"},{"v":-0.174718613432535,"d":"-17.47%"},null,{"$f":"DK8+DK10+DK14+DK36+DK18+DK22+DK26+DK28+DK38+DK32+DK42+DK44+DK48+DK50+DK52+DK54+DK56","v":{"v":1810.6723,"d":"1,810.6723"}},{"$f":"(DK4-DT4)/DT4","v":{"v":-0.0915680046028864,"d":"-9.16%"}},1904.8374,null,1851.3825,{"$f":"(DO4-EP4)/EP4","v":{"v":8.84905229771721,"d":"884.91%"}},{"$f":"DK4+DM4+DO4","v":{"v":5566.8922,"d":"5566.89"}},{"$f":"DR8+DR10+DR14+DR36+DR18+DR22+DR26+DR28+DR38+DR32+DR42+DR44+DR48+DR50+DR52+DR54+DR56","v":1950.9743},{"$f":"(DR4-ER4)/ER4","v":{"v":0.666065161683036,"d":"66.61%"}},1993.1842,{"v":0.536367459584089,"d":"53.64%"},1872.4959,{"v":0.417218121510164,"d":"41.72%"},{"$f":"DX8+DX10+DX14+DX36+DX18+DX22+DX26+DX28+DX38+DX32+DX42+DX44+DX48+DX50+DX52+DX54+DX56","v":1905.9223},{"$f":"(DX4-EX4)/EX4","v":{"v":0.211088956331092,"d":"21.11%"}},1299.9739,{"v":-0.319355102190412,"d":"-31.94%"},1593.5258,{"v":-0.29070517452799,"d":"-29.07%"},{"$f":"ED8+ED10+ED14+ED36+ED18+ED22+ED26+ED28+ED38+ED32+ED42+ED44+ED48+ED50+ED52+ED54+ED56","v":1727.6503},{"$f":"(ED4-FD4)/FD4","v":{"v":-0.250062333823496,"d":"-25.01%"}},1602.9103,{"v":-0.25905138107516,"d":"-25.91%"},1584.8571,{"v":-0.200279397617324,"d":"-20.03%"},{"$f":"EJ8+EJ10+EJ14+EJ36+EJ18+EJ22+EJ26+EJ28+EJ38+EJ32+EJ42+EJ44+EJ48+EJ50+EJ52+EJ54+EJ56","v":21098.3863},{"$f":"(EJ4-FJ4)/FJ4","v":{"v":-0.0291050326310545,"d":"-2.91%"}},5574.2123,{"$f":"(EL4-FL4)/FL4","v":{"v":-0.114925893506554,"d":"-11.49%"}},{"v":0,"d":"0.0000"},{"$f":"(EN4-FM4)/FM4","v":{"v":-1,"d":"-100.00%"}},{"$f":"EP8+EP10+EP14+EP36+EP18+EP22+EP26+EP28+EP38+EP32+EP42+EP44+EP48+EP50+EP52+EP54+EP56","v":187.9757},{"$f":"(EP4-FN4)/FN4","v":{"v":-0.97066002744204,"d":"-97.07%"}},1171.0072,{"$f":"(ER4-FO4)/FO4","v":{"v":-0.787486991597966,"d":"-78.75%"}},1297.3356,{"$f":"(ET4-FP4)/FP4","v":{"v":-0.764105844310529,"d":"-76.41%"}},{"$f":"EV8+EV10+EV14+EV36+EV18+EV22+EV26+EV28+EV38+EV32+EV42+EV44+EV48+EV50+EV52+EV54+EV56","v":1321.2475},{"$f":"(EV4-FQ4)/FQ4","v":{"v":-0.752653094264632,"d":"-75.27%"}},1573.7261,{"$f":"(EX4-FR4)/FR4","v":{"v":-0.70892206493037,"d":"-70.89%"}},{"v":1909.915,"d":"1909.9150"},{"$f":"(EZ4-FS4)/FS4","v":{"v":-0.641419659841184,"d":"-64.14%"}},{"$f":"FB8+FB10+FB14+FB36+FB18+FB22+FB26+FB28+FB38+FB32+FB42+FB44+FB48+FB50+FB52+FB54+FB56","v":2246.6339},{"$f":"(FB4-FT4)/FT4","v":{"v":-0.592688545182706,"d":"-59.27%"}},2303.7252,{"$f":"(FD4-FU4)/FU4","v":{"v":-0.607095186046845,"d":"-60.71%"}},2163.3218,{"v":-0.581615180820178,"d":"-58.16%"},{"$f":"FH8+FH10+FH14+FH36+FH18+FH22+FH26+FH28+FH38+FH32+FH42+FH44+FH48+FH50+FH52+FH54+FH56","v":1981.7635},{"v":-0.63086082334305,"d":"-63.09%"},{"$f":"EL4+EN4+EP4+ER4+ET4+EV4+EX4+EZ4+FB4+FD4+FF4+FH4","v":21730.8638},{"$f":"(FJ4-(FL4+FM4+FN4+FO4+FP4+FQ4+FR4+FS4+FT4+FU4+FW4+FY4))/(FL4+FM4+FN4+FO4+FP4+FQ4+FR4+FS4+FT4+FU4+FW4+FY4)","v":{"v":-0.687704788911308,"d":"-68.77%"}},{"v":6298.0176,"d":"6298"},{"v":7876.7121,"d":"7877"},{"v":6406.8124,"d":"6406.81"},{"v":5510.2848,"d":"5510.28"},{"v":5499.6513,"d":"5499.65"},{"v":5341.6779,"d":"5341.68"},5406.5455,5326.3238,5515.7641,5863.3163,{"$f":"(FU4-GW4)/GW4","v":{"v":-0.135367919297062,"d":"-13.54%"}},{"$f":"FW8+FW10+FW14+FW36+FW18+FW22+FW26+FW28+FW38+FW32+FW42+FW44+FW48+FW50+FW52+FW54+FW56","v":5170.6508},{"v":-0.135959178825383,"d":"-13.60%"},{"$f":"FY8+FY10+FY14+FY36+FY18+FY22+FY26+FY28+FY38+FY32+FY42+FY44+FY48+FY50+FY52+FY54+FY56","v":5368.6079},{"v":-0.152569190936333,"d":"-15.26%"},{"$f":"FL4+FM4+FN4+FO4+FP4+FQ4+FR4+FS4+FT4+FU4+FW4+FY4","v":{"v":69584.3645,"d":"69584.36"}},{"$f":"(GA4-HC4)/HC4","v":{"v":-0.140820283510831,"d":"-14.08%"}},null,"运距",{"$f":"GE8+GE10+GE14+GE36+GE18+GE22+GE26+GE28+GE38+GE32+GE42+GE44+GE48+GE50+GE52+GE54+GE56","v":{"v":6904.8885,"d":"6905"}},{"$f":"(GE4-HH4)/HH4","v":{"v":-0.0698736727957256,"d":"-6.99%"}},{"v":8810.2863,"d":"8810"},{"v":-0.0971558474285596,"d":"-9.72%"},{"v":7469.6404,"d":"7470"},{"v":-0.0580658363728881,"d":"-5.81%"},{"$f":"GK8+GK10+GK14+GK36+GK18+GK22+GK26+GK28+GK38+GK32+GK42+GK44+GK48+GK50+GK52+GK54+GK56","v":{"v":6445.2436,"d":"6445"}},{"$f":"(GK4-HN4)/HN4","v":{"v":-0.0437439382222287,"d":"-4.37%"}},{"v":6467.6248,"d":"6468"},{"$f":"(GM4-HP4)/HP4","v":{"v":-0.0678010423851553,"d":"-6.78%"}},{"v":6521.3565,"d":"6521"},{"$f":"(GO4-HS4)/HS4","v":{"v":-0.0614464382112407,"d":"-6.14%"}},{"$f":"GQ8+GQ10+GQ14+GQ36+GQ18+GQ22+GQ26+GQ28+GQ38+GQ32+GQ42+GQ44+GQ48+GQ50+GQ52+GQ54+GQ56","v":{"v":6468.1192,"d":"6468"}},{"v":-0.0694402992284165,"d":"-6.94%"},{"v":6372.5114,"d":"6373"},{"v":-0.0767385442111851,"d":"-7.67%"},{"v":6428.9208,"d":"6429"},{"$f":"(GU4-HY4)/HY4","v":{"v":-0.0571307488454,"d":"-5.71%"}},{"$f":"GW8+GW10+GW14+GW36+GW18+GW22+GW26+GW28+GW38+GW32+GW42+GW44+GW48+GW50+GW52+GW54+GW56","v":{"v":6781.2847,"d":"6781"}},{"v":-0.061931851774468,"d":"-6.19%"},{"v":5984.2668,"d":"5984"},{"v":-0.0495298956375081,"d":"-4.95%"},{"v":6335.1578,"d":"6335"},{"$f":"(HA4-IE4)/IE4","v":{"v":-0.0734241241966287,"d":"-7.34%"}},{"$f":"GE4+GG4+GI4+GK4+GM4+GO4+GQ4+GS4+GU4+GW4+GY4+HA4","v":{"v":80989.3008,"d":"80989"}},{"$f":"HA4+GY4+GW4+GU4+GS4+GQ4+GO4+GM4+GK4+GI4+GG4+GE4","v":{"v":80989.3008,"d":"80989"}},{"$f":"(HD4-IG4)/IG4","v":{"v":-0.0666445353064507,"d":"-6.66%"}},"8.1亿人",null,{"$f":"HH8+HH10+HH14+HH36+HH18+HH22+HH26+HH28+HH38+HH32+HH42+HH44+HH48+HH50+HH52+HH54+HH56","v":{"v":7423.6029,"d":"7424"}},{"$f":"(HH4-IJ4)/IJ4","v":{"v":0.00297737004482723,"d":"0.30%"}},{"v":9758.3689,"d":"9758.37"},{"v":-0.0486937776416002,"d":"-4.87%"},{"v":7930.1088,"d":"7930.11"},{"v":-0.0312292111879251,"d":"-3.12%"},{"$f":"HN8+HN10+HN14+HN36+HN18+HN22+HN26+HN28+HN38+HN32+HN42+HN44+HN48+HN50+HN52+HN54+HN56","v":{"v":6740.0813,"d":"6740.08"}},{"$f":"(HN4-IP4)/IP4","v":{"v":-0.0300643610730382,"d":"-3.01%"}},{"v":6938.0305,"d":"6938.03"},{"$f":"(HP4-IR4)/IR4","v":{"v":-0.0193406017524637,"d":"-1.93%"}},{"$f":"HP4+HN4+HL4+HJ4+HH4","v":38790.1924},{"v":6948.3051,"d":"6948.31"},{"$f":"(HS4-IT4)/IT4","v":{"v":-0.0218565895253045,"d":"-2.19%"}},{"$f":"HU8+HU10+HU14+HU36+HU18+HU22+HU26+HU28+HU38+HU32+HU42+HU44+HU48+HU50+HU52+HU54+HU56","v":{"v":6950.7837,"d":"6950.78"}},{"v":-0.0147916116654004,"d":"-1.48%"},{"v":6902.1742,"d":"6902.17"},{"v":-0.00579619728227665,"d":"-0.58%"},{"v":6818.4648,"d":"6818.46"},{"$f":"(HY4-IZ4)/IZ4","v":{"v":-0.00370459859075154,"d":"-0.37%"}},{"$f":"IA8+IA10+IA14+IA36+IA18+IA22+IA26+IA28+IA38+IA32+IA42+IA44+IA48+IA50+IA52+IA54+IA56","v":{"v":7228.9894,"d":"7228.99"}},{"v":-4.86242542522425E-3,"d":"-0.49%"},{"v":6296.1126,"d":"6296.11"},{"v":0.00487970747246556,"d":"0.49%"},{"v":6837.1711,"d":"6837.17"},{"$f":"(IE4-JF4)/JF4","v":{"v":-0.00580204756320562,"d":"-0.58%"}},{"$f":"HH4+HJ4+HL4+HN4+HP4+HS4+HU4+HW4+HY4+IA4+IC4+IE4","v":{"v":86772.1933,"d":"86772"}},{"$f":"(IG4-#REF!)/#REF!","v":{"$error":"#REF!"}},null,7401.5657,{"$f":"IJ4/JI4-1","v":{"v":2.19433354699339E-3,"d":"0.22%"}},10257.863,{"$f":"IL4/JJ4-1","v":{"v":0.00669388907381441,"d":"0.67%"}},8185.7431,{"$f":"(IN4-JK4)/JK4","v":{"v":-0.000122837949147755,"d":"-0.01%"}},{"v":6948.9985,"d":"6949.00"},{"$f":"(IP4-JL4)/JL4","v":{"v":0.0327518493572662,"d":"3.28%"}},{"v":7074.8626,"d":"7074.86"},{"$f":"(IR4-JM4)/JM4","v":{"v":0.0316677609572725,"d":"3.17%"}},{"v":7103.5648,"d":"7103.56"},{"$f":"(IT4-JN4)/JN4","v":{"v":0.0233634791451866,"d":"2.34%"}},{"v":7055.1406,"d":"7055.14"},{"$f":"(IV4-JO4)/JO4","v":{"v":0.0101967198893125,"d":"1.02%"}},{"v":6942.4138,"d":"6942.41"},{"$f":"(IX4-JP4)/JP4","v":{"v":0.0179671304397214,"d":"1.80%"}},{"v":6843.8184,"d":"6843.82"},{"$f":"(IZ4-JQ4)/JQ4","v":{"v":-0.00325499661221797,"d":"-0.33%"}},{"v":7264.31157329072,"d":"7264.31"},{"$f":"(JB4-JR4)/JR4","v":{"v":-0.00210442887200888,"d":"-0.21%"}},{"v":6265.53860445283,"d":"6265.54"},{"$f":"(JD4-JS4)/JS4","v":{"v":-0.0174251871942186,"d":"-1.74%"}},{"$f":"JF8+JF10+JF14+JF36+JF18+JF22+JF26+JF28+JF38+JF32+JF42+JF44+JF48+JF50+JF52+JF54+JF56","v":{"v":6877.0722,"d":"6877.07"}},{"$f":"(JF4-JT4)/JT4","v":{"v":-0.0627536758645054,"d":"-6.28%"}},{"$f":"SUM(JI4:JT4)","v":{"v":87953.2597264507,"d":"87953"}},{"v":7385.35975732788,"d":"7385"},{"v":10189.6545825241,"d":"10190"},{"v":8186.74874342583,"d":"8187"},{"v":6728.62363240958,"d":"6729"},{"v":6857.69476157258,"d":"6858"},{"v":6941.38978453051,"d":"6941"},{"v":6983.9274480846,"d":"6984"},{"v":6819.88012422479,"d":"6820"},{"v":6866.1677527742,"d":"6866"},{"v":7279.63103902682,"d":"7280"},{"v":6376.65297623632,"d":"6377"},{"v":7337.52912431354,"d":"7338"},{"$f":"#REF!+JT4","v":{"$error":"#REF!"}},88020,{"$f":"(JV4-JU4)/JU4*100","v":{"$error":"#REF!"}},{"$f":"JV4-JU4","v":{"$error":"#REF!"}}]
[null,"旅客周转量        （万人公里）",{"$f":"C9+C11+C15+C37+C19+C23+C27+C29+C39+C33+C43+C45+C49+C51+C53+C55+C57","v":{"v":91471.0814,"d":"91471.08"}},{"$f":"C5/R5-1","v":{"v":-0.118590713389346,"d":"-11.86%"}},{"v":110843.064818,"d":"110843.06"},{"v":-0.0138149892582627,"d":"-1.38%"},{"v":115505.520273,"d":"115505.52"},{"v":0.0202075740990877,"d":"2.02%"},{"$f":"I9+I11+I15+I37+I19+I23+I27+I29+I39+I33+I43+I45+I49+I51+I53+I55+I57","v":{"v":121466.090109,"d":"121466.09"}},{"$f":"I5/X5-1","v":{"v":-0.0369579718746879,"d":"-3.70%"}},{"v":121944.200395,"d":"121944.20"},{"v":0.0154038975781232,"d":"1.54%"},{"v":112912.972275,"d":"112912.97"},{"v":0.0120279694419552,"d":"1.20%"},{"v":674142.92927,"d":"674142.93"},{"v":-0.0189782360655351,"d":"-1.90%"},null,{"$f":"R9+R11+R15+R37+R19+R23+R27+R29+R39+R33+R43+R45+R49+R51+R53+R55+R57","v":{"v":103778.21381,"d":"103778.21"}},{"$f":"R5/AS5-1","v":{"v":0.182729441967362,"d":"18.27%"}},{"v":112395.81175,"d":"112395.81"},{"v":0.101866076377529,"d":"10.19%"},{"v":113217.6659,"d":"113217.67"},{"v":0.120661756352596,"d":"12.07%"},{"$f":"X9+X11+X15+X37+X19+X23+X27+X29+X39+X33+X43+X45+X49+X51+X53+X55+X57","v":{"v":126127.506964,"d":"126127.51"}},{"$f":"X5/AY5-1","v":{"v":0.109669325483287,"d":"10.97%"}},{"v":120094.2804,"d":"120094.28"},{"v":0.0646012696213658,"d":"6.46%"},{"v":111570.9997,"d":"111571.00"},{"v":0.0853360260891394,"d":"8.53%"},{"$f":"AD9+AD11+AD15+AD37+AD19+AD23+AD27+AD29+AD39+AD33+AD43+AD45+AD49+AD51+AD53+AD55+AD57","v":{"v":115657.7872,"d":"115657.79"}},{"$f":"AD5/BE5-1","v":{"v":0.0635823815878949,"d":"6.36%"}},115659.11,{"v":0.0417686289270236,"d":"4.18%"},{"v":110618.6519,"d":"110618.65"},{"v":0.0481350053771268,"d":"4.81%"},{"$f":"AJ9+AJ11+AJ15+AJ37+AJ19+AJ23+AJ27+AJ29+AJ39+AJ33+AJ43+AJ45+AJ49+AJ51+AJ53+AJ55+AJ57","v":{"v":117451.749341,"d":"117451.75"}},{"$f":"AJ5/BK5-1","v":{"v":-0.054160377829737,"d":"-5.42%"}},{"v":111181.804692,"d":"111181.80"},{"v":-0.0188148630091605,"d":"-1.88%"},{"v":98094.606772,"d":"98094.61"},{"v":0.0300557827688894,"d":"3.01%"},{"v":1355848.188429,"d":"1355848.19"},{"v":0.06085415812465,"d":"6.09%"},null,{"$f":"AS9+AS11+AS15+AS37+AS19+AS23+AS27+AS29+AS39+AS33+AS43+AS45+AS49+AS51+AS53+AS55+AS57","v":{"v":87744.6778,"d":"87744.68"}},{"v":0.15100766529451,"d":"15.10%"},{"v":102004.966084,"d":"102004.97"},{"$f":"AU5/BV5-1","v":{"v":0.100107267425007,"d":"10.01%"}},{"v":101027.5092,"d":"101027.51"},{"v":2.38100677637965E-3,"d":"0.24%"},{"$f":"AY9+AY11+AY15+AY37+AY19+AY23+AY27+AY29+AY39+AY33+AY43+AY45+AY49+AY51+AY53+AY55+AY57","v":{"v":113662.2452,"d":"113662.25"}},{"v":0.0810017325530483,"d":"8.10%"},{"v":112806.816812,"d":"112806.82"},{"$f":"BA5/CB5-1","v":{"v":0.0927211214119887,"d":"9.27%"}},{"v":102798.5776,"d":"102798.58"},{"v":0.0264419846733275,"d":"2.64%"},{"$f":"BE9+BE11+BE15+BE37+BE19+BE23+BE27+BE29+BE39+BE33+BE43+BE45+BE49+BE51+BE53+BE55+BE57","v":{"v":108743.609524,"d":"108743.61"}},{"v":-0.0670089338917055,"d":"-6.70%"},{"v":111021.87836,"d":"111021.88"},{"$f":"BG5/CH5-1","v":{"v":0.021883212357414,"d":"2.19%"}},{"v":105538.55308,"d":"105538.55"},{"v":0.03860940587355,"d":"3.86%"},{"$f":"BK9+BK11+BK15+BK37+BK19+BK23+BK27+BK29+BK39+BK33+BK43+BK45+BK49+BK51+BK53+BK55+BK57","v":{"v":124177.235324,"d":"124177.24"}},{"v":0.146862236638992,"d":"14.69%"},{"v":113313.788092,"d":"113313.79"},{"$f":"BM5/CN5-1","v":{"v":0.124150011546979,"d":"12.42%"}},{"v":95232.324708,"d":"95232.32"},{"v":0.0936608024263423,"d":"9.37%"},{"v":1278072.181784,"d":"1278072.18"},{"v":0.0639617209413343,"d":"6.40%"},{"$f":"BQ5/BQ4","v":{"v":67.3858855761282,"d":"67.39"}},{"$f":"BT9+BT11+BT15+BT37+BT19+BT23+BT27+BT29+BT39+BT33+BT43+BT45+BT49+BT51+BT53+BT55+BT57","v":{"v":76232.9222,"d":"76232.92"}},{"v":-0.205576003580244,"d":"-20.56%"},{"$f":"BV9+BV11+BV15+BV37+BV19+BV23+BV27+BV29+BV39+BV33+BV43+BV45+BV49+BV51+BV53+BV55+BV57","v":{"v":92722.7454126,"d":"92722.75"}},{"v":-0.140645200381868,"d":"-14.06%"},{"$f":"SUM(BX9,BX11,BX19,BX15,BX37,BX23,BX27,BX29,BX39,BX33,BX43,BX45,BX49,BX53,BX51,BX55,BX57)","v":{"v":100787.5334,"d":"100787.53"}},{"v":0.244634454424184,"d":"24.46%"},105145.2942,{"v":0.524638736568044,"d":"52.46%"},{"$f":"SUM(CB9,CB11,CB19,CB15,CB37,CB23,CB27,CB29,CB39,CB33,CB43,CB45,CB49,CB53,CB51,CB55,CB57)","v":103234.7729},{"v":0.355244122821047,"d":"35.52%"},100150.4022,{"v":0.144790356849295,"d":"14.48%"},116553.7522,{"v":0.166409341365137,"d":"16.64%"},{"$f":"SUM(CH9,CH11,CH19,CH15,CH37,CH23,CH27,CH29,CH39,CH33,CH43,CH45,CH49,CH53,CH51,CH55,CH57)","v":{"v":108644.3901,"d":"108644.39"}},{"v":0.21777065014292,"d":"21.78%"},{"v":101615.2487,"d":"101615.25"},{"v":0.0844265836259435,"d":"8.44%"},{"v":108275.6336,"d":"108275.63"},{"v":0.681495630976561,"d":"68.15%"},{"$f":"SUM(CN9,CN11,CN19,CN15,CN37,CN23,CN27,CN29,CN39,CN33,CN43,CN45,CN49,CN53,CN51,CN55,CN57)","v":{"v":100799.5258,"d":"100799.53"}},{"v":1.05078216670826,"d":"105.08%"},{"$f":"SUM(CP9,CP11,CP19,CP15,CP37,CP23,CP27,CP29,CP39,CP33,CP43,CP45,CP49,CP53,CP51,CP55,CP57)","v":{"v":87076.6553,"d":"87076.66"}},{"v":0.793827589461003,"d":"79.38%"},{"v":1201238.8760126,"d":"1201238.8760"},{"v":0.248183730603696,"d":"24.82%"},{"v":-0.136140228746989,"d":"-13.61%"},null,{"v":95959.99434,"d":"95959.99"},{"v":107898.09454,"d":"107898.09"},{"v":80977.618,"d":"80977.62"},{"v":68964.07108,"d":"68964.07"},{"v":76174.30038,"d":"76174.30"},{"v":87483.61794,"d":"87483.62"},{"v":99925.25614,"d":"99925.26"},{"v":89215.80602,"d":"89215.81"},{"v":93704.1292,"d":"93704.13"},{"v":64392.4561,"d":"64392.46"},{"v":49151.7468,"d":"49151.75"},{"v":48542.3771,"d":"48542.38"},{"v":962389.46764,"d":"962389.47"},{"v":-0.251671980641173,"d":"-25.17%"},null,{"$f":"DK9+DK11+DK15+DK37+DK19+DK23+DK27+DK29+DK39+DK33+DK43+DK45+DK49+DK51+DK53+DK55+DK57","v":{"v":102498.2281,"d":"102,498.2281"}},{"v":-0.233234545853398,"d":"-23.32%"},109132.1284,null,121229.1178,{"v":2.96318080491281,"d":"296.32%"},{"v":332859.4743,"d":"332859.47"},{"$f":"DR9+DR11+DR15+DR37+DR19+DR23+DR27+DR29+DR39+DR33+DR43+DR45+DR49+DR51+DR53+DR55+DR57","v":132411.9805},{"$f":"(DR5-ER5)/ER5","v":{"v":0.67188507929065,"d":"67.19%"}},133676.1164,{"v":0.652000071554147,"d":"65.20%"},117476.9914,{"v":0.264562880972174,"d":"26.46%"},{"$f":"DX9+DX11+DX15+DX37+DX19+DX23+DX27+DX29+DX39+DX33+DX43+DX45+DX49+DX51+DX53+DX55+DX57","v":{"v":121203.449,"d":"121203.4490"}},{"$f":"(DX5-EX5)/EX5","v":{"v":0.241662039993684,"d":"24.17%"}},67326.3311,{"v":-0.448113842260349,"d":"-44.81%"},93602.6346,{"v":-0.288636632048261,"d":"-28.86%"},{"$f":"ED9+ED11+ED15+ED37+ED19+ED23+ED27+ED29+ED39+ED33+ED43+ED45+ED49+ED51+ED53+ED55+ED57","v":104645.5504},{"$f":"(ED5-FD5)/FD5","v":{"v":-0.277751471583386,"d":"-27.78%"}},92614.0055,{"v":-0.319953348335464,"d":"-32.00%"},90236.4312,{"v":-0.212079134140892,"d":"-21.21%"},{"$f":"EJ9+EJ11+EJ15+EJ37+EJ19+EJ23+EJ27+EJ29+EJ39+EJ33+EJ43+EJ45+EJ49+EJ51+EJ53+EJ55+EJ57","v":1286052.9644},{"v":-0.0227655309708239,"d":"-2.28%"},{"v":285617.524,"d":"285617.5240"},{"v":-0.10762745105077,"d":"-10.76%"},{"v":0,"d":"0.0000"},{"v":-1,"d":"-100.00%"},{"$f":"EP9+EP11+EP15+EP37+EP19+EP23+EP27+EP29+EP39+EP33+EP43+EP45+EP49+EP51+EP53+EP55+EP57","v":30588.8436},{"v":-0.910850066948856,"d":"-91.09%"},79199.2118,{"v":-0.737941766280418,"d":"-73.79%"},80917.7425,{"v":-0.749311346383234,"d":"-74.93%"},{"$f":"EV9+EV11+EV15+EV37+EV19+EV23+EV27+EV29+EV39+EV33+EV43+EV45+EV49+EV51+EV53+EV55+EV57","v":92899.2881},{"v":-0.688297963935324,"d":"-68.83%"},97613.8797,{"v":-0.692051321177222,"d":"-69.21%"},121993.1505,{"v":-0.611553499512938,"d":"-61.16%"},{"$f":"FB9+FB11+FB15+FB37+FB19+FB23+FB27+FB29+FB39+FB33+FB43+FB45+FB49+FB51+FB53+FB55+FB57","v":{"v":131582.028,"d":"131582.0280"}},{"v":-0.604772896197844,"d":"-60.48%"},144888.5616,{"$f":"(FD5-FU5)/FU5","v":{"v":-0.564678831961915,"d":"-56.47%"}},136187.7237,{"v":-0.530377451099637,"d":"-53.04%"},{"$f":"FH9+FH11+FH15+FH37+FH19+FH23+FH27+FH29+FH39+FH33+FH43+FH45+FH49+FH51+FH53+FH55+FH57","v":114524.7386},{"v":-0.675577582693327,"d":"-67.56%"},1316012.6921,{"v":-0.664361621464649,"d":"-66.44%"},{"v":320065.3408,"d":"320065"},{"v":394902.5146,"d":"394903"},{"v":343116.8432,"d":"343116.84"},{"v":302219.8947,"d":"302219.89"},{"v":322781.8305,"d":"322781.83"},{"v":298038.7593,"d":"298038.76"},316980.9985,314053.9311,332927.6427,332831.4179,{"$f":"(FU5-GW5)/GW5","v":{"v":-0.135003953499528,"d":"-13.50%"}},{"$f":"FW9+FW11+FW15+FW37+FW19+FW23+FW27+FW29+FW39+FW33+FW43+FW45+FW49+FW51+FW53+FW55+FW57","v":289994.0048},{"v":-0.140109465035282,"d":"-14.01%"},{"$f":"FY9+FY11+FY15+FY37+FY19+FY23+FY27+FY29+FY39+FY33+FY43+FY45+FY49+FY51+FY53+FY55+FY57","v":353011.1746},{"v":-0.160003242979664,"d":"-16.00%"},{"v":3920924.3527,"d":"3920924.35"},{"v":-0.135290856082262,"d":"-13.53%"},null,{"$f":"GA5/GA4","v":{"v":56.3477784251374,"d":"56"}},{"$f":"GE9+GE11+GE15+GE37+GE19+GE23+GE27+GE29+GE39+GE33+GE43+GE45+GE49+GE51+GE53+GE55+GE57","v":{"v":332918.1087,"d":"332918"}},{"$f":"(GE5-HH5)/HH5","v":{"v":-0.0803300471668697,"d":"-8.03%"}},{"v":433472.6378,"d":"433473"},{"v":-0.138224599653026,"d":"-13.82%"},{"v":398323.448,"d":"398323"},{"v":-0.00787204647503979,"d":"-0.79%"},{"$f":"GK9+GK11+GK15+GK37+GK19+GK23+GK27+GK29+GK39+GK33+GK43+GK45+GK49+GK51+GK53+GK55+GK57","v":{"v":349434.2543,"d":"349434"}},{"v":-0.0471676022048676,"d":"-4.72%"},{"v":376117.4867,"d":"376117"},{"v":-0.0704867169588348,"d":"-7.05%"},{"v":358955.1863,"d":"358955"},{"$f":"(GO5-HS5)/HS5","v":{"v":-0.053798070446021,"d":"-5.38%"}},{"$f":"GQ9+GQ11+GQ15+GQ37+GQ19+GQ23+GQ27+GQ29+GQ39+GQ33+GQ43+GQ45+GQ49+GQ51+GQ53+GQ55+GQ57","v":{"v":379117.177,"d":"379117"}},{"v":-0.0402224233553038,"d":"-4.02%"},{"v":377373.667,"d":"377374"},{"v":-0.0552890211301066,"d":"-5.53%"},{"v":386397.0012,"d":"386397"},{"$f":"(GU5-HY5)/HY5","v":{"v":-0.0535659879070277,"d":"-5.36%"}},{"$f":"GW9+GW11+GW15+GW37+GW19+GW23+GW27+GW29+GW39+GW33+GW43+GW45+GW49+GW51+GW53+GW55+GW57","v":{"v":384777.9643,"d":"384778"}},{"v":-0.0294053981451905,"d":"-2.94%"},{"v":337245.2574,"d":"337245"},{"v":-0.0262309732608655,"d":"-2.62%"},{"v":420253.0208,"d":"420253"},{"v":-0.0864491022108358,"d":"-8.64%"},{"v":4534385.2095,"d":"4534385"},{"v":4534385.2095,"d":"4534385"},{"$f":"(HD5-IG5)/IG5","v":{"v":-0.0597894537642748,"d":"-5.98%"}},"453.4亿人公里",null,{"$f":"HH9+HH11+HH15+HH37+HH19+HH23+HH27+HH29+HH39+HH33+HH43+HH45+HH49+HH51+HH53+HH55+HH57","v":{"v":361997.3749,"d":"361997"}},{"$f":"(HH5-IJ5)/IJ5","v":{"v":-0.00533070960972442,"d":"-0.53%"}},{"v":502999.5491,"d":"502999.55"},{"v":-0.0572405589390477,"d":"-5.72%"},{"v":401483.9483,"d":"401483.95"},{"v":-0.0231081209466396,"d":"-2.31%"},{"$f":"HN9+HN11+HN15+HN37+HN19+HN23+HN27+HN29+HN39+HN33+HN43+HN45+HN49+HN51+HN53+HN55+HN57","v":{"v":366732.1295,"d":"366732.13"}},{"v":-0.0113060658784,"d":"-1.13%"},{"v":404639.1736,"d":"404639.17"},{"v":-0.0192818722262763,"d":"-1.93%"},{"$f":"HP5+HN5+HL5+HJ5+HH5","v":2037852.1754},{"v":379364.251,"d":"379364.25"},{"$f":"(HS5-IT5)/IT5","v":{"v":-0.0085258736773876,"d":"-0.85%"}},{"$f":"HU9+HU11+HU15+HU37+HU19+HU23+HU27+HU29+HU39+HU33+HU43+HU45+HU49+HU51+HU53+HU55+HU57","v":{"v":395005.2452,"d":"395005.25"}},{"v":-7.16622901740201E-3,"d":"-0.72%"},{"v":399459.3854,"d":"399459.39"},{"v":0.00103726374841458,"d":"0.10%"},{"v":408266.1826,"d":"408266.18"},{"$f":"(HY5-IZ5)/IZ5","v":{"v":-0.00153637321667691,"d":"-0.15%"}},{"$f":"IA9+IA11+IA15+IA37+IA19+IA23+IA27+IA29+IA39+IA33+IA43+IA45+IA49+IA51+IA53+IA55+IA57","v":{"v":396435.3022,"d":"396435.30"}},{"v":0.00168684816162374,"d":"0.17%"},{"v":346329.8258,"d":"346329.83"},{"v":0.0175459700035642,"d":"1.75%"},{"v":460021.4633,"d":"460021.46"},{"v":0.00717890833058674,"d":"0.72%"},{"v":4822733.8309,"d":"4822734"},{"$f":"(IG5-#REF!)/#REF!","v":{"$error":"#REF!"}},null,363937.4196,{"v":0.0124590179372852,"d":"1.25%"},533539.6573,{"v":0.00786946716825443,"d":"0.79%"},410980.9457,{"v":0.0162717789437021,"d":"1.63%"},{"v":370925.8415,"d":"370925.84"},{"v":0.0281316259091449,"d":"2.81%"},{"v":412594.7733,"d":"412594.77"},{"v":0.017540668619539,"d":"1.75%"},{"v":382626.476,"d":"382626.48"},{"v":0.0235790456296762,"d":"2.36%"},{"v":397856.3751,"d":"397856.38"},{"v":-2.90490115037306e-05,"d":"-0.00%"},399045.47,{"v":0.0215625944475901,"d":"2.16%"},{"v":408894.397,"d":"408894.40"},{"v":-0.00963255340790282,"d":"-0.96%"},{"v":395767.702179149,"d":"395767.70"},{"v":-0.0146613770477852,"d":"-1.47%"},{"v":340357.916015123,"d":"340357.92"},{"v":-0.0233162949484423,"d":"-2.33%"},{"$f":"JF9+JF11+JF15+JF37+JF19+JF23+JF27+JF29+JF39+JF33+JF43+JF45+JF49+JF51+JF53+JF55+JF57","v":{"v":456742.5504,"d":"456742.55"}},{"v":-0.101075490885312,"d":"-10.11%"},{"$f":"SUM(JI5:JT5)","v":{"v":4892905.257484,"d":"4892905"}},{"v":359458.914536078,"d":"359459"},{"v":529373.767814449,"d":"529374"},{"v":404400.628075265,"d":"404401"},{"v":360776.60890161,"d":"360777"},{"v":405482.341909491,"d":"405482"},{"v":373812.337829385,"d":"373812"},{"v":397867.932770156,"d":"397868"},{"v":390622.632591382,"d":"390623"},{"v":412871.402838437,"d":"412871"},{"v":401656.540158116,"d":"401657"},{"v":348483.254358335,"d":"348483"},{"v":508098.895701293,"d":"508099"},{"$f":"#REF!+JT5","v":{"$error":"#REF!"}},4896760,{"$f":"(JV5-JU5)/JU5*100","v":{"$error":"#REF!"}},{"$f":"JV5-JU5","v":{"$error":"#REF!"}}]
[null,"其中个体客运量     （万人）",{"$f":"C12+C24+C30+C34+C40+C46","v":{"v":21.825,"d":"21.83"}},{"$f":"C6/R6-1","v":{"v":-0.571905213047035,"d":"-57.19%"}},{"v":21.064,"d":"21.06"},{"v":-0.540068256106694,"d":"-54.01%"},{"v":20.141,"d":"20.14"},{"v":-0.517712528794533,"d":"-51.77%"},{"$f":"I12+I24+I30+I34+I40+I46","v":{"v":19.5338,"d":"19.53"}},{"$f":"I6/X6-1","v":{"v":-0.489931168464921,"d":"-48.99%"}},{"v":19.8869,"d":"19.89"},{"v":-0.486268654403046,"d":"-48.63%"},{"v":20.2908,"d":"20.29"},{"v":-0.453530367054755,"d":"-45.35%"},{"v":122.7415,"d":"122.74"},{"v":-0.514239410477325,"d":"-51.42%"},null,{"$f":"R12+R24+R30+R34+R40+R46","v":{"v":50.9817,"d":"50.98"}},{"$f":"R6/AS6-1","v":{"v":-0.27031819821264,"d":"-27.03%"}},{"$f":"T12+T16+T20+T24+T30+T40+T34+T46","v":{"v":45.7981,"d":"45.80"}},{"v":-0.305072272447248,"d":"-30.51%"},{"v":41.7614,"d":"41.76"},{"v":-0.270185016575822,"d":"-27.02%"},{"v":38.2964,"d":"38.30"},{"$f":"X6/AY6-1","v":{"v":-0.315833948187861,"d":"-31.58%"}},{"$f":"Z12+Z16+Z20+Z24+Z30+Z40+Z34+Z46","v":{"v":38.7107,"d":"38.71"}},{"v":-0.336969572403635,"d":"-33.70%"},{"v":37.1307,"d":"37.13"},{"v":-0.334615811939774,"d":"-33.46%"},{"v":34.3952,"d":"34.40"},{"$f":"AD6/BE6-1","v":{"v":-0.340107132442098,"d":"-34.01%"}},{"$f":"AF12+AF16+AF20+AF24+AF30+AF40+AF34+AF46","v":{"v":32.565,"d":"32.57"}},{"v":-0.365361791525295,"d":"-36.54%"},{"v":33.0834,"d":"33.08"},{"v":-0.457382319173364,"d":"-45.74%"},{"v":29.0252,"d":"29.03"},{"$f":"AJ6/BK6-1","v":{"v":-0.532884540797688,"d":"-53.29%"}},{"$f":"AL12+AL16+AL20+AL24+AL30+AL40+AL34+AL46","v":{"v":28.5132,"d":"28.51"}},{"v":-0.524017634911917,"d":"-52.40%"},{"$f":"AN12+AN16+AN20+AN24+AN30+AN40+AN34+AN46","v":{"v":27.0206,"d":"27.02"}},{"v":-0.512352441161449,"d":"-51.24%"},{"v":437.2816,"d":"437.28"},{"v":-0.379753936487138,"d":"-37.98%"},null,69.8684,{"v":-0.219123256622293,"d":"-21.91%"},{"$f":"AU12+AU16+AU20+AU24+AU30+AU40+AU34+AU46","v":{"v":65.9034,"d":"65.90"}},{"$f":"AU6/BV6-1","v":{"v":-0.261678710354809,"d":"-26.17%"}},{"v":57.2219,"d":"57.22"},{"v":-0.347573663465452,"d":"-34.76%"},{"v":55.9753,"d":"55.98"},{"v":-0.363739181634866,"d":"-36.37%"},{"$f":"BA12+BA16+BA20+BA24+BA30+BA40+BA34+BA46","v":{"v":58.3845,"d":"58.38"}},{"$f":"BA6/CB6-1","v":{"v":-0.346561879894392,"d":"-34.66%"}},{"v":55.8034,"d":"55.80"},{"v":-0.384917057040507,"d":"-38.49%"},{"v":52.1224,"d":"52.12"},{"v":-0.429847820570038,"d":"-42.98%"},{"$f":"BG12+BG16+BG20+BG24+BG30+BG40+BG34+BG46","v":{"v":51.3127,"d":"51.31"}},{"$f":"BG6/CH6-1","v":{"v":-0.351271155905448,"d":"-35.13%"}},60.97,{"v":-0.237040513061161,"d":"-23.70%"},{"v":62.1371,"d":"62.14"},{"v":-0.220678445247409,"d":"-22.07%"},{"$f":"BM12+BM16+BM20+BM24+BM30+BM40+BM34+BM46","v":{"v":59.9039,"d":"59.90"}},{"$f":"BM6/CN6-1","v":{"v":-0.134051392655384,"d":"-13.41%"}},{"$f":"BO12+BO16+BO20+BO24+BO30+BO40+BO34+BO46","v":{"v":55.4101,"d":"55.41"}},{"v":-0.13714012532546,"d":"-13.71%"},{"v":705.0131,"d":"705.01"},{"v":-0.293606847954575,"d":"-29.36%"},null,{"$f":"BT12+BT16+BT20+BT24+BT30+BT40+BT34+BT46","v":89.4743},{"v":-0.0451073575600661,"d":"-4.51%"},{"$f":"BV12+BV16+BV20+BV24+BV30+BV40+BV34+BV46","v":{"v":89.26114,"d":"89.2611"}},{"v":-0.0931040824019124,"d":"-9.31%"},{"$f":"SUM(BX12,BX16,BX20,BX24,BX30,BX40,BX34,BX46)","v":87.7063},{"v":0.0102899335352999,"d":"1.03%"},{"$f":"SUM(BZ12,BZ16,BZ20,BZ24,BZ30,BZ40,BZ34,BZ46)","v":87.9754},{"v":0.07984229893974,"d":"7.98%"},{"$f":"CB12+CB16+CB20+CB24+CB30+CB40+CB34+CB46","v":89.3497},{"v":0.021263147306988,"d":"2.13%"},{"v":90.725,"d":"90.7250"},{"v":0.0889787785673133,"d":"8.90%"},91.4184,{"v":0.0761372799453799,"d":"7.61%"},{"$f":"CH12+CH16+CH20+CH24+CH30+CH40+CH34+CH46","v":{"v":79.0973,"d":"79.10"}},{"v":-0.0492210197843306,"d":"-4.92%"},{"$f":"CJ12+CJ16+CJ20+CJ24+CJ30+CJ40+CJ46+CJ34","v":{"v":79.9125,"d":"79.91"}},{"v":-0.0432035574329298,"d":"-4.32%"},{"v":79.7323,"d":"79.73"},{"v":-0.0645262342782053,"d":"-6.45%"},{"v":69.1772,"d":"69.18"},{"v":0.0266695557448626,"d":"2.67%"},{"$f":"CP12+CP16+CP20+CP24+CP30+CP40+CP46+CP34","v":{"v":64.2168,"d":"64.22"}},{"v":-0.0568752258060725,"d":"-5.69%"},{"v":998.04634,"d":"998.0463"},{"v":-0.00550985730127618,"d":"-0.55%"},{"v":-0.0717057065044551,"d":"-7.17%"},null,{"v":93.7009,"d":"93.70"},{"v":98.4249,"d":"98.42"},{"v":86.813,"d":"86.81"},{"v":81.4706,"d":"81.47"},{"v":87.4894,"d":"87.49"},{"v":83.312,"d":"83.31"},{"v":84.9505,"d":"84.95"},{"v":83.1921,"d":"83.19"},{"v":83.5209,"d":"83.52"},{"v":85.232,"d":"85.23"},{"v":67.3802,"d":"67.38"},{"v":68.0894,"d":"68.09"},{"v":1003.5759,"d":"1003.58"},{"v":-0.220430266643953,"d":"-22.04%"},null,{"$f":"DK12+DK16+DK20+DK24+DK30+DK40+DK34+DK46","v":122.9998},null,136.7121,null,121.3927,{"$error":"#DIV/0!"},{"v":381.1046,"d":"381.10"},{"$f":"DR12+DR16+DR20+DR24+DR30+DR40+DR34+DR46","v":111.0344},{"$f":"(DR6-ER6)/ER6","v":{"$error":"#DIV/0!"}},{"v":121.601,"d":"121.6010"},{"$error":"#DIV/0!"},109.9823,{"$error":"#DIV/0!"},{"$f":"DX12+DX16+DX20+DX24+DX30+DX40+DX34+DX46","v":109.8008},{"$f":"(DX6-EX6)/EX6","v":{"$error":"#DIV/0!"}},87.1102,{"$error":"#DIV/0!"},95.1574,{"$error":"#DIV/0!"},{"$f":"ED12+ED16+ED20+ED24+ED30+ED40+ED34+ED46","v":93.7887},{"$f":"(ED6-FD6)/FD6","v":{"$error":"#DIV/0!"}},89.8158,{"$error":"#DIV/0!"},87.9507,{"$error":"#DIV/0!"},{"$f":"EJ12+EJ16+EJ20+EJ24+EJ30+EJ40+EJ34+EJ46","v":{"v":1287.3459,"d":"1,287.3459"}},{"$error":"#DIV/0!"},{"$nulls":24},{"v":0,"d":"0.0000"}]
[null,"其中个体旅客周转量（万人公里）",{"$f":"C13+C17+C21+C25+C31+C41+C35+C47","v":{"v":584.2728,"d":"584.27"}},{"$f":"C7/R7-1","v":{"v":-0.594141094570805,"d":"-59.41%"}},{"v":527.405018,"d":"527.41"},{"v":-0.551387756098461,"d":"-55.14%"},{"v":498.893973,"d":"498.89"},{"v":-0.536195784267169,"d":"-53.62%"},{"$f":"I13+I17+I21+I25+I31+I41+I35+I47","v":{"v":484.204209,"d":"484.20"}},{"$f":"I7/X7-1","v":{"v":-0.511246948756971,"d":"-51.12%"}},{"v":493.894595,"d":"493.89"},{"v":-0.507662128117107,"d":"-50.77%"},{"v":496.603575,"d":"496.60"},{"v":-0.475010949526673,"d":"-47.50%"},{"v":3085.27417,"d":"3085.27"},{"v":-0.53469682765293,"d":"-53.47%"},null,{"v":1439.59586,"d":"1439.60"},{"$f":"R7/AS7-1","v":{"v":-0.164648091038997,"d":"-16.46%"}},{"v":1175.6367,"d":"1175.64"},{"v":-0.281355372120605,"d":"-28.14%"},{"$f":"V13+V17+V21+V25+V31+V41+V35+V47","v":{"v":1075.6564,"d":"1075.66"}},{"v":-0.277149457037068,"d":"-27.71%"},{"v":990.692964,"d":"990.69"},{"$f":"X7/AY7-1","v":{"v":-0.321862691518507,"d":"-32.19%"}},{"v":1003.1619,"d":"1003.16"},{"v":-0.32766354613584,"d":"-32.77%"},{"$f":"AB13+AB17+AB21+AB25+AB31+AB41+AB35+AB47","v":{"v":945.9313,"d":"945.93"}},{"v":-0.324623219840612,"d":"-32.46%"},{"v":884.9951,"d":"885.00"},{"$f":"AD7/BE7-1","v":{"v":-0.304942075185415,"d":"-30.49%"}},{"v":809.8752,"d":"809.88"},{"v":-0.378235516090612,"d":"-37.82%"},{"$f":"AH13+AH17+AH21+AH25+AH31+AH41+AH35+AH47","v":{"v":832.0023,"d":"832.00"}},{"v":-0.503775080283244,"d":"-50.38%"},{"v":721.564141,"d":"721.56"},{"$f":"AJ7/BK7-1","v":{"v":-0.574772469984322,"d":"-57.48%"}},{"v":737.074641,"d":"737.07"},{"v":-0.53522953633206,"d":"-53.52%"},{"$f":"AN13+AN17+AN21+AN25+AN31+AN41+AN35+AN47","v":{"v":708.414172,"d":"708.41"}},{"v":-0.498913484523493,"d":"-49.89%"},{"v":11324.600678,"d":"11324.60"},{"v":-0.376051266692647,"d":"-37.61%"},null,1723.3406,{"v":-0.225322149249974,"d":"-22.53%"},{"$f":"AU13+AU17+AU21+AU25+AU31+AU41+AU35+AU47","v":{"v":1635.908284,"d":"1635.91"}},{"$f":"AU7/BV7-1","v":{"v":-0.268267151507042,"d":"-26.83%"}},{"v":1488.0758,"d":"1488.08"},{"v":-0.331175044463582,"d":"-33.12%"},{"v":1460.9032,"d":"1460.90"},{"v":-0.355238550621453,"d":"-35.52%"},{"$f":"BA13+BA17+BA21+BA25+BA31+BA41+BA35+BA47","v":{"v":1492.053412,"d":"1492.05"}},{"$f":"BA7/CB7-1","v":{"v":-0.353008648386318,"d":"-35.30%"}},{"v":1400.5979,"d":"1400.60"},{"v":-0.357866026885217,"d":"-35.79%"},{"v":1273.268124,"d":"1273.27"},{"v":-0.370340518659933,"d":"-37.03%"},{"$f":"BG13+BG17+BG21+BG25+BG31+BG41+BG35+BG47","v":{"v":1302.54336,"d":"1302.54"}},{"$f":"BG7/CH7-1","v":{"v":-0.332077821599079,"d":"-33.21%"}},{"v":1676.66368,"d":"1676.66"},{"v":-0.125074305327764,"d":"-12.51%"},{"v":1696.889524,"d":"1696.89"},{"v":-0.162104633922296,"d":"-16.21%"},{"$f":"BM13+BM17+BM21+BM25+BM31+BM41+BM35+BM47","v":{"v":1585.889592,"d":"1585.89"}},{"$f":"BM7/CN7-1","v":{"v":-0.102944260451625,"d":"-10.29%"}},{"$f":"BO13+BO17+BO21+BO25+BO31+BO41+BO35+BO47","v":{"v":1413.756208,"d":"1413.76"}},{"v":-0.105392717742027,"d":"-10.54%"},{"v":18149.889684,"d":"18149.89"},{"v":-0.265195268206837,"d":"-26.52%"},null,{"$f":"BT13+BT17+BT21+BT25+BT31+BT41+BT35+BT47","v":{"v":2224.59,"d":"2224.5900"}},{"v":-0.088334998388248,"d":"-8.83%"},{"$f":"BV13+BV17+BV21+BV25+BV31+BV41+BV35+BV47","v":{"v":2235.6633126,"d":"2235.6633"}},{"v":-0.0950910050545565,"d":"-9.51%"},{"$f":"SUM(BX13,BX17,BX21,BX25,BX31,BX41,BX35,BX47)","v":2224.9107},{"v":0.0690922725167438,"d":"6.91%"},2265.8042,{"v":0.169916213335731,"d":"16.99%"},2306.1412,{"v":0.119586901806172,"d":"11.96%"},{"$f":"SUM(CD13,CD17,CD21,CD25,CD31,CD41,CD35,CD47)","v":2181.1615},{"v":0.0891472470678267,"d":"8.91%"},2022.1535,{"v":-0.048058763023952,"d":"-4.81%"},{"v":1950.1424,"d":"1950.14"},{"v":0.00571170562222245,"d":"0.57%"},{"$f":"SUM(CJ13,CJ17,CJ21,CJ25,CJ31,CJ41,CJ35,CJ47)","v":{"v":1916.3498,"d":"1916.35"}},{"v":-0.0761440838384084,"d":"-7.61%"},{"v":2025.1807,"d":"2025.18"},{"v":-0.0198508234744769,"d":"-1.99%"},{"v":1767.883,"d":"1767.88"},{"v":0.176016405184154,"d":"17.60%"},{"$f":"SUM(CP13,CP17,CP21,CP25,CP31,CP41,CP35,CP47)","v":{"v":1580.3093,"d":"1580.31"}},{"v":-0.0208682158208624,"d":"-2.09%"},{"v":24700.2896126,"d":"24700.2896"},{"v":0.0159670291863803,"d":"1.60%"},{"v":-0.106100743092162,"d":"-10.61%"},null,{"v":2440.13974,"d":"2440.14"},{"v":2470.59464,"d":"2470.59"},{"v":2081.1213,"d":"2081.12"},{"v":1936.72348,"d":"1936.72"},{"v":2059.81438,"d":"2059.81"},{"v":2002.63234,"d":"2002.63"},{"v":2124.24194,"d":"2124.24"},{"v":1939.06702,"d":"1939.07"},{"v":2074.2951,"d":"2074.30"},{"v":2066.1964,"d":"2066.20"},{"v":1503.2809,"d":"1503.28"},{"v":1613.9904,"d":"1613.99"},{"v":24312.09764,"d":"24312.10"},{"v":-0.260829304597618,"d":"-26.08%"},null,{"$f":"DK13+DK17+DK21+DK25+DK31+DK41+DK35+DK47","v":{"v":3325.0447,"d":"3,325.0447"}},null,{"v":3870.8858,"d":"3,870.8858"},null,{"v":3401.49,"d":"3,401.4900"},{"$error":"#DIV/0!"},{"v":10597.4205,"d":"10597.42"},{"$f":"DR13+DR17+DR21+DR25+DR31+DR41+DR35+DR47","v":{"v":2760.0995,"d":"2,760.0995"}},{"$f":"(DR7-ER7)/ER7","v":{"$error":"#DIV/0!"}},{"v":3101.4784,"d":"3,101.4784"},{"$error":"#DIV/0!"},{"v":2696.0046,"d":"2,696.0046"},{"$error":"#DIV/0!"},{"$f":"DX13+DX17+DX21+DX25+DX31+DX41+DX35+DX47","v":{"v":2575.3929,"d":"2,575.3929"}},{"$f":"(DX7-EX7)/EX7","v":{"$error":"#DIV/0!"}},{"v":2100.1407,"d":"2,100.1407"},{"$error":"#DIV/0!"},{"v":2338.1611,"d":"2,338.1611"},{"$error":"#DIV/0!"},{"$f":"ED13+ED17+ED21+ED25+ED31+ED41+ED35+ED47","v":{"v":2334.3781,"d":"2,334.3781"}},{"$f":"(ED7-FD7)/FD7","v":{"$error":"#DIV/0!"}},{"v":2206.7666,"d":"2,206.7666"},{"$error":"#DIV/0!"},{"v":2181.204,"d":"2,181.2040"},{"$error":"#DIV/0!"},{"$f":"EJ13+EJ17+EJ21+EJ25+EJ31+EJ41+EJ35+EJ47","v":{"v":32891.0464,"d":"32,891.0464"}},{"$error":"#DIV/0!"},{"$nulls":24},{"v":0,"d":"0.0000"}]
["武汉市","客运量            （万人）",323.8804,{"$f":"C8/R8-1","v":{"v":0.269273033663832,"d":"26.93%"}},236.0855,{"v":-0.0655707987386608,"d":"-6.56%"},326.996,{"v":0.0543625671559786,"d":"5.44%"},335.787,{"$f":"I8/X8-1","v":{"v":-0.00401701007856359,"d":"-0.40%"}},327.5977,{"v":0.0430536469563378,"d":"4.31%"},341.1759,{"v":0.0575044727044147,"d":"5.75%"},{"v":1891.5225,"d":"1891.52"},{"v":0.0556556349965185,"d":"5.57%"},null,255.17,{"$f":"R8/AS8-1","v":{"v":5.77132674696621,"d":"577.13%"}},{"v":252.6521,"d":"252.65"},{"v":6.8376246285186,"d":"683.76%"},310.1362,{"v":4.97432553480443,"d":"497.43%"},337.1413,{"$f":"X8/AY8-1","v":{"v":4.70989463986004,"d":"470.99%"}},314.0756,{"v":4.34352100910392,"d":"434.35%"},322.6236,{"v":4.97571732071844,"d":"497.57%"},346.4243,{"$f":"AD8/BE8-1","v":{"v":6.0320683670466,"d":"603.21%"}},324.3908,{"v":6.35603397840294,"d":"635.60%"},349.4122,{"v":5.51611254913955,"d":"551.61%"},330.8522,{"$f":"AJ8/BK8-1","v":{"v":0.108624731432125,"d":"10.86%"}},355.1516,{"v":0.161030607394602,"d":"16.10%"},354.3792,{"v":0.179245524743481,"d":"17.92%"},{"v":3852.4091,"d":"3852.41"},{"v":1.86324648603918,"d":"186.32%"},null,{"v":37.6839,"d":"37.68"},{"v":1.33887164846077,"d":"133.89%"},32.2358,{"$f":"AU8/BV8-1","v":{"v":0.0693084414722818,"d":"6.93%"}},51.9115,{"v":0.00168647405357736,"d":"0.17%"},{"v":59.0451,"d":"59.05"},{"v":0.14416071124064,"d":"14.42%"},{"v":58.7769,"d":"58.78"},{"$f":"BA8/CB8-1","v":{"v":0.140844906396483,"d":"14.08%"}},{"v":53.9891,"d":"53.99"},{"v":0.101076825811188,"d":"10.11%"},{"v":49.2635,"d":"49.26"},{"v":0.113173652694611,"d":"11.32%"},{"v":44.0986,"d":"44.10"},{"$f":"BG8/CH8-1","v":{"v":0.0741713272404854,"d":"7.42%"}},{"v":53.6228,"d":"53.62"},{"v":0.250566713620717,"d":"25.06%"},{"v":298.4348,"d":"298.43"},{"v":4.55316385505402,"d":"455.32%"},{"v":305.8934,"d":"305.89"},{"$f":"BM8/CN8-1","v":{"v":4.61285682043792,"d":"461.29%"}},{"v":300.5135,"d":"300.51"},{"v":5.18330356701947,"d":"518.33%"},{"v":1345.4689,"d":"1345.47"},{"v":1.51362705057766,"d":"151.36%"},null,{"v":16.112,"d":"16.11"},{"v":-0.61491395793499,"d":"-61.49%"},{"v":30.1464,"d":"30.15"},{"v":-0.235249201545412,"d":"-23.52%"},{"v":51.8241,"d":"51.82"},{"v":0.859760999066963,"d":"85.98%"},51.6056,{"v":1.47317898409382,"d":"147.32%"},51.5205,{"v":0.895355467672216,"d":"89.54%"},{"v":49.033,"d":"49.0330"},{"v":0.408921377629893,"d":"40.89%"},44.255,{"v":0.22909729184777,"d":"22.91%"},{"v":41.0536,"d":"41.05"},{"v":0.387635075527373,"d":"38.76%"},{"v":42.8788,"d":"42.88"},{"v":0.491742653274933,"d":"49.17%"},{"v":53.7414,"d":"53.74"},{"v":1.78333152064138,"d":"178.33%"},{"v":54.4987,"d":"54.50"},{"v":2.76102108982499,"d":"276.10%"},{"v":48.6008,"d":"48.60"},{"v":3.40715652402586,"d":"340.72%"},535.2699,{"v":0.61645470078656,"d":"61.65%"},{"v":-0.108220930040533,"d":"-10.82%"},null,41.84,{"v":39.4199,"d":"39.42"},{"v":27.866,"d":"27.87"},{"v":20.8661,"d":"20.87"},{"v":27.1825,"d":"27.18"},{"v":34.8018,"d":"34.80"},{"v":36.0061,"d":"36.01"},{"v":29.5853,"d":"29.59"},{"v":28.7441,"d":"28.74"},{"v":19.3083,"d":"19.31"},{"v":14.4904,"d":"14.49"},{"v":11.0277,"d":"11.03"},{"v":331.1382,"d":"331.14"},{"v":-0.427603773956712,"d":"-42.76%"},null,34.234,{"v":-0.468663665994102,"d":"-46.87%"},30.7588,null,{"v":46.278,"d":"46.2780"},{"$error":"#DIV/0!"},{"v":111.2708,"d":"111.27"},{"v":64.37,"d":"64.3700"},{"$f":"(DR8-ER8)/ER8","v":{"v":4.45046570702794,"d":"445.05%"}},{"v":64.43,"d":"64.4300"},{"v":1.174353228626,"d":"117.44%"},{"v":63.33,"d":"63.3300"},{"v":0.361349957007738,"d":"36.13%"},{"v":61,"d":"61.0000"},{"$f":"(DX8-EX8)/EX8","v":{"v":0.0760275180807903,"d":"7.60%"}},22.8109,{"v":-0.676487023117288,"d":"-67.65%"},47.2808,{"v":-0.31297878523685,"d":"-31.30%"},49.4189,{"$f":"(ED8-FD8)/FD8","v":{"v":-0.586279614901632,"d":"-58.63%"}},49.061,{"v":-0.435561435803037,"d":"-43.56%"},45.5398,{"v":-0.354045390070922,"d":"-35.40%"},{"$f":"DK8+DM8+DO8+DR8+DT8+DV8+DX8+DZ8+EB8+ED8+EF8+EH8","v":578.5122},{"v":-0.279428407584065,"d":"-27.94%"},{"v":242,"d":"242.0000"},{"v":-0.632218844984802,"d":"-63.22%"},{"v":0,"d":"0.0000"},{"v":-1,"d":"-100.00%"},{"v":0,"d":"0.0000"},{"v":-1,"d":"-100.00%"},{"v":11.81,"d":"11.8100"},{"v":-0.972014218009479,"d":"-97.20%"},29.6318,{"v":-0.925734837092732,"d":"-92.57%"},{"v":46.52,"d":"46.5200"},{"v":-0.876931216931217,"d":"-87.69%"},{"v":56.69,"d":"56.6900"},{"v":-0.848422459893048,"d":"-84.84%"},{"v":70.51,"d":"70.5100"},{"v":-0.776867088607595,"d":"-77.69%"},{"v":68.82,"d":"68.8200"},{"v":-0.802808022922636,"d":"-80.28%"},{"v":119.45,"d":"119.4500"},{"$f":"(FD8-FU8)/FU8","v":{"v":-0.660653409090909,"d":"-66.07%"}},{"v":86.92,"d":"86.9200"},{"v":-0.701305841924399,"d":"-70.13%"},{"v":70.5,"d":"70.5000"},{"v":-0.601694915254237,"d":"-60.17%"},802.8518,{"v":-0.835582265001024,"d":"-83.56%"},658,680,487,422,399,378,"374.0000","316.0000","349.0000","352.0000",{"$f":"(FU8-GW8)/GW8","v":{"v":-0.542857142857143,"d":"-54.29%"}},"291.0000",{"v":-0.61558784676354,"d":"-61.56%"},"177.0000",{"v":-0.714516129032258,"d":"-71.45%"},{"v":4883,"d":"4883.00"},{"v":-0.449306417051991,"d":"-44.93%"},null,null,729,{"$f":"(GE8-HH8)/HH8","v":{"v":-0.151338766006985,"d":"-15.13%"}},832,{"v":-0.22962962962963,"d":"-22.96%"},780,{"v":-0.152173913043478,"d":"-15.22%"},808,{"v":-0.0403800475059382,"d":"-4.04%"},715,{"v":-0.180045871559633,"d":"-18.00%"},758,{"$f":"(GO8-HS8)/HS8","v":{"v":-0.115519253208868,"d":"-11.55%"}},716,{"v":-0.157647058823529,"d":"-15.76%"},672,{"v":-0.220417633410673,"d":"-22.04%"},710,{"$f":"(GU8-HY8)/HY8","v":{"v":-0.164705882352941,"d":"-16.47%"}},770,{"v":-0.153846153846154,"d":"-15.38%"},757,{"v":-0.0768292682926829,"d":"-7.68%"},620,{"v":-0.154160982264666,"d":"-15.42%"},8867,8867,null,"平均运距181公里",null,859,{"$f":"(HH8-IJ8)/IJ8","v":{"v":-0.0471436494731004,"d":"-4.71%"}},{"v":1080,"d":"1080.00"},{"v":-0.146959859722288,"d":"-14.70%"},{"v":920,"d":"920.00"},{"v":-0.1015625,"d":"-10.16%"},{"v":842,"d":"842.00"},{"v":-0.148634984833165,"d":"-14.86%"},{"v":872,"d":"872.00"},{"v":-0.101956745623069,"d":"-10.20%"},null,{"v":857,"d":"857.00"},{"$f":"(HS8-IT8)/IT8","v":{"v":-0.138693467336683,"d":"-13.87%"}},{"v":850,"d":"850.00"},{"v":-0.08207343412527,"d":"-8.21%"},{"v":862,"d":"862.00"},{"v":-0.0325476992143659,"d":"-3.25%"},{"v":850,"d":"850.00"},{"$f":"(HY8-IZ8)/IZ8","v":{"v":-0.0252293577981651,"d":"-2.52%"}},{"v":910,"d":"910.00"},{"v":-0.0530697190426639,"d":"-5.31%"},{"v":820,"d":"820.00"},{"v":-0.0352941176470588,"d":"-3.53%"},{"v":733,"d":"733.00"},{"v":-0.124253285543608,"d":"-12.43%"},10455,null,null,{"v":901.5,"d":"902"},{"v":-0.118912051941148,"d":"-11.89%"},{"v":1266.06,"d":"1266"},{"v":-0.0979144982406229,"d":"-9.79%"},1024,{"v":-0.0917650720140466,"d":"-9.18%"},{"v":989,"d":"989.00"},{"v":0.111711501165781,"d":"11.17%"},{"v":971,"d":"971.00"},{"v":0.0956868243790501,"d":"9.57%"},{"v":995,"d":"995.00"},{"v":0.0516252216350743,"d":"5.16%"},{"v":926,"d":"926.00"},{"v":-0.0177051488198589,"d":"-1.77%"},891,{"v":-0.0210920295329428,"d":"-2.11%"},872,{"v":-0.0462267098656394,"d":"-4.62%"},961,{"v":0.020779119959806,"d":"2.08%"},850,{"v":0.0054155377749541,"d":"0.54%"},837,{"v":-0.16748212972239,"d":"-16.75%"},{"v":11835.4805546127,"d":"11835"},{"v":1023.16687225846,"d":"1023"},{"v":1403.48115287381,"d":"1403"},{"v":1127.46159440351,"d":"1127"},{"v":889.619293281484,"d":"890"},{"v":886.202132210805,"d":"886"},{"v":946.154561083051,"d":"946"},{"v":942.690475153659,"d":"943"},{"v":910.197921439832,"d":"910"},{"v":914.263388396166,"d":"914"},{"v":941.437752016166,"d":"941"},{"v":845.421587457363,"d":"845"},{"v":1005.38382403839,"d":"1005"}]
[null,"旅客周转量        （万人公里）",15634.2955,{"$f":"C9/R9-1","v":{"v":0.253039780263583,"d":"25.30%"}},13762.8961,{"v":3.02935663820847E-3,"d":"0.30%"},18904.2637,{"v":2.2293088181482E-3,"d":"0.22%"},21448.6084,{"$f":"I9/X9-1","v":{"v":-0.0372618341517161,"d":"-3.73%"}},20903.5122,{"v":0.0643527344014612,"d":"6.44%"},19301.074,{"v":0.0721535342416146,"d":"7.22%"},{"v":109954.6499,"d":"109954.65"},{"v":0.0473747177392114,"d":"4.74%"},null,{"v":12477.0943,"d":"12477.09"},{"$f":"R9/AS9-1","v":{"v":0.695796392130401,"d":"69.58%"}},{"v":13721.3293,"d":"13721.33"},{"v":0.596851205097959,"d":"59.69%"},18862.214,{"v":0.594526529815541,"d":"59.45%"},22278.7557,{"$f":"X9/AY9-1","v":{"v":0.579840843844377,"d":"57.98%"}},19639.6472,{"v":0.499652714204078,"d":"49.97%"},18002.1549,{"v":0.61426558936543,"d":"61.43%"},18986.7293,{"$f":"AD9/BE9-1","v":{"v":0.614652434368805,"d":"61.47%"}},17983.9839,{"v":0.724806072074727,"d":"72.48%"},19399.7794,{"v":0.789828873622603,"d":"78.98%"},21001.8897,{"$f":"AJ9/BK9-1","v":{"v":0.0562325799542138,"d":"5.62%"}},20735.7868,{"v":0.134339670434614,"d":"13.43%"},18221.526,{"v":0.269495257236862,"d":"26.95%"},{"v":221310.8905,"d":"221310.89"},{"v":0.459146405622463,"d":"45.91%"},null,{"v":7357.6606,"d":"7357.66"},{"v":1.29728637935462,"d":"129.73%"},8592.7413,{"$f":"AU9/BV9-1","v":{"v":0.322290223296808,"d":"32.23%"}},11829.351,{"v":-0.0876481498132152,"d":"-8.76%"},{"v":14101.8988,"d":"14101.90"},{"v":0.153235495649322,"d":"15.32%"},{"v":13096.1302,"d":"13096.13"},{"$f":"BA9/CB9-1","v":{"v":0.210125470819001,"d":"21.01%"}},{"v":11151.9164,"d":"11151.92"},{"v":0.0722623617984364,"d":"7.23%"},{"v":11759.0194,"d":"11759.02"},{"v":0.134376423484989,"d":"13.44%"},{"v":10426.6701,"d":"10426.67"},{"$f":"BG9/CH9-1","v":{"v":0.0506550986891294,"d":"5.07%"}},{"v":10838.9018,"d":"10838.90"},{"v":0.0260117588506528,"d":"2.60%"},{"v":19883.7738,"d":"19883.77"},{"v":0.704572530969239,"d":"70.46%"},{"v":18280.0508,"d":"18280.05"},{"$f":"BM9/CN9-1","v":{"v":0.65564084779227,"d":"65.56%"}},{"v":14353.3628,"d":"14353.36"},{"v":0.732078810453836,"d":"73.21%"},{"v":151671.477,"d":"151671.48"},{"v":0.285738465873091,"d":"28.57%"},null,{"v":3202.7616,"d":"3202.76"},{"v":-0.515988206823917,"d":"-51.60%"},{"v":6498.3777,"d":"6498.38"},{"v":0.0717107290694139,"d":"7.17%"},{"v":12965.7774,"d":"12965.78"},{"v":3.20292747384746,"d":"320.29%"},12228.1172,{"v":4.10035681717594,"d":"410.04%"},10822.1259,{"v":1.77732547745858,"d":"177.73%"},10400.3617,{"v":0.369012484946487,"d":"36.90%"},10366.0647,{"v":0.237501808160792,"d":"23.75%"},{"v":9923.9704,"d":"9923.97"},{"v":0.699309039774001,"d":"69.93%"},{"v":10564.1107,"d":"10564.11"},{"v":1.18304556379991,"d":"118.30%"},{"v":11664.962,"d":"11664.96"},{"v":3.38957815546126,"d":"338.96%"},{"v":11041.0726,"d":"11041.07"},{"v":4.39209050330714,"d":"439.21%"},{"v":8286.7839,"d":"8286.78"},{"v":3.52337143464756,"d":"352.34%"},117964.4858,{"v":1.13512232235439,"d":"113.51%"},{"v":-0.249458435768278,"d":"-24.95%"},null,{"v":6617.1148,"d":"6617.11"},{"v":6063.5557,"d":"6063.56"},{"v":3084.9396,"d":"3084.94"},{"v":2397.5023,"d":"2397.50"},{"v":3896.5998,"d":"3896.60"},{"v":7596.9809,"d":"7596.98"},{"v":8376.6057,"d":"8376.61"},{"v":5840.0033,"d":"5840.00"},{"v":4839.1618,"d":"4839.16"},{"v":2657.4221,"d":"2657.42"},{"v":2047.6423,"d":"2047.64"},{"v":1831.9928,"d":"1831.99"},{"v":55249.5211,"d":"55249.52"},{"v":-0.475364942964781,"d":"-47.54%"},null,{"v":4523.3012,"d":"4,523.30"},{"v":-0.649191969877346,"d":"-64.92%"},5241.8177,null,9511.3416,{"$error":"#DIV/0!"},{"v":19276.4605,"d":"19276.46"},14974.0656,{"$f":"(DR9-ER9)/ER9","v":{"v":8.03260118954264,"d":"803.26%"}},{"v":12893.95,"d":"12893.9500"},{"v":2.98860653558637,"d":"298.86%"},{"v":11748.48,"d":"11748.4800"},{"v":1.28398129031506,"d":"128.40%"},{"v":11974.4,"d":"11974.4000"},{"$f":"(DX9-EX9)/EX9","v":{"v":0.89244076245083,"d":"89.24%"}},3146.1531,{"v":-0.625512799911442,"d":"-62.55%"},7805.1603,{"v":-0.0109145272826116,"d":"-1.09%"},8218.7359,{"$f":"(ED9-FD9)/FD9","v":{"v":-0.419828681954391,"d":"-41.98%"}},7682.7804,{"v":-0.266761240595655,"d":"-26.68%"},7590.2016,{"v":-0.0468043551972271,"d":"-4.68%"},105310.3874,{"v":0.0808030690104621,"d":"8.08%"},{"v":32176,"d":"32176.0000"},{"v":-0.341478889093551,"d":"-34.15%"},{"v":0,"d":"0.0000"},{"v":-1,"d":"-100.00%"},{"v":0,"d":"0.0000"},{"v":-1,"d":"-100.00%"},{"v":1657.78,"d":"1657.7800"},{"v":-0.956432682452498,"d":"-95.64%"},3232.6954,{"v":-0.909119917910657,"d":"-90.91%"},{"v":5143.86,"d":"5143.8600"},{"v":-0.85180466724287,"d":"-85.18%"},{"v":6327.49,"d":"6327.4900"},{"v":-0.810763824505787,"d":"-81.08%"},{"v":8401.23,"d":"8401.2300"},{"v":-0.761457451943553,"d":"-76.15%"},{"v":7891.29,"d":"7891.2900"},{"v":-0.770395123512468,"d":"-77.04%"},{"v":14166.05,"d":"14166.0500"},{"$f":"(FD9-FU9)/FU9","v":{"v":-0.665057691398307,"d":"-66.51%"}},{"v":10477.87,"d":"10477.8700"},{"v":-0.660976185853879,"d":"-66.10%"},{"v":7962.9,"d":"7962.9000"},{"v":-0.646046139485265,"d":"-64.60%"},97437.1654,{"v":-0.775860181359784,"d":"-77.59%"},48861,42276,36525,38051,35571,34710,"33,437.0000","35,219.0000","34,369.0000","42,294.0000",{"$f":"(FU9-GW9)/GW9","v":{"v":-0.388549949400029,"d":"-38.85%"}},"30,906.0000",{"v":-0.485063063363268,"d":"-48.51%"},"22,497.0000",{"v":-0.508724040792261,"d":"-50.87%"},{"v":434716,"d":"434716.00"},{"v":-0.351034544531693,"d":"-35.10%"},null,null,43743,{"$f":"(GE9-HH9)/HH9","v":{"v":-0.241691947646702,"d":"-24.17%"}},52486,{"v":-0.472502512562814,"d":"-47.25%"},53040,{"v":-0.0669528198993773,"d":"-6.70%"},57218,{"v":-0.144467703349282,"d":"-14.45%"},53423,{"v":-0.136318810120443,"d":"-13.63%"},58100,{"$f":"(GO9-HS9)/HS9","v":{"v":-0.107101692049978,"d":"-10.71%"}},59610,{"v":-0.0227868852459016,"d":"-2.28%"},61763,{"v":-0.0563042415352646,"d":"-5.63%"},55495,{"$f":"(GU9-HY9)/HY9","v":{"v":-0.0625844594594595,"d":"-6.26%"}},69170,{"v":0.0202064896755162,"d":"2.02%"},60019,{"v":0.025965811965812,"d":"2.60%"},45793,{"v":-0.135687592012382,"d":"-13.57%"},669860,669860,{"$nulls":3},57685,{"$f":"(HH9-IJ9)/IJ9","v":{"v":-0.0824987653456992,"d":"-8.25%"}},{"v":99500,"d":"99500.00"},{"v":-0.14874562320504,"d":"-14.87%"},{"v":56846,"d":"56846.00"},{"v":-0.0624886616640554,"d":"-6.25%"},{"v":66880,"d":"66880.00"},{"v":-0.0463697028460617,"d":"-4.64%"},{"v":61855,"d":"61855.00"},{"v":-0.0681961977644542,"d":"-6.82%"},null,{"v":65069,"d":"65069.00"},{"$f":"(HS9-IT9)/IT9","v":{"v":-0.0420745800638921,"d":"-4.21%"}},{"v":61000,"d":"61000.00"},{"v":-0.0231403635198975,"d":"-2.31%"},{"v":65448,"d":"65448.00"},{"v":-0.00616515321772406,"d":"-0.62%"},{"v":59200,"d":"59200.00"},{"$f":"(HY9-IZ9)/IZ9","v":{"v":-0.00442291845349209,"d":"-0.44%"}},{"v":67800,"d":"67800.00"},{"v":-0.0186997047415041,"d":"-1.87%"},{"v":58500,"d":"58500.00"},{"v":-0.00847457627118644,"d":"-0.85%"},{"v":52982,"d":"52982.00"},{"v":-0.00278562017692452,"d":"-0.28%"},772765,null,null,{"v":62871.85,"d":"62872"},{"v":-0.0356908135649632,"d":"-3.57%"},{"v":116886.33,"d":"116886"},{"v":-0.0962192183740249,"d":"-9.62%"},60635,{"v":0.0608618183523233,"d":"6.09%"},{"v":70132,"d":"70132.00"},{"v":0.100001270462883,"d":"10.00%"},{"v":66382,"d":"66382.00"},{"v":0.134885390799636,"d":"13.49%"},{"v":67927,"d":"67927.00"},{"v":0.138423723833994,"d":"13.84%"},{"v":62445,"d":"62445.00"},{"v":-0.0386841680696279,"d":"-3.87%"},65854,{"v":0.0365028299451639,"d":"3.65%"},{"v":59463,"d":"59,463.00"},{"v":0.01345720089267,"d":"1.35%"},{"v":69092,"d":"69,092.00"},{"v":-0.0461714743257888,"d":"-4.62%"},{"v":59000,"d":"59,000.00"},{"v":0.00693333333333333,"d":"0.69%"},{"v":53130,"d":"53,130.00"},{"v":-0.100812112380715,"d":"-10.08%"},{"v":810884.7,"d":"810885"},{"v":65198.85,"d":"65199"},{"v":129330.4,"d":"129330"},{"v":57156.36,"d":"57156"},{"v":63756.29,"d":"63756"},{"v":58492.25,"d":"58492"},{"v":59667.59,"d":"59668"},{"v":64957.84,"d":"64958"},{"v":63534.8,"d":"63535"},{"v":58673.42,"d":"58673"},{"v":72436.5,"d":"72437"},{"v":58593.75,"d":"58594"},{"v":59086.65,"d":"59087"}]
["黄石市","客运量            （万人）",75.4816,{"$f":"C10/R10-1","v":{"v":-0.230021585052861,"d":"-23.00%"}},84.6235,{"v":-0.126873579371049,"d":"-12.69%"},79.3692,{"v":-0.142625663804762,"d":"-14.26%"},78.3745,{"$f":"I10/X10-1","v":{"v":-0.156693982603306,"d":"-15.67%"}},75.5822,{"v":-0.171472199963387,"d":"-17.15%"},74.7909,{"v":-0.140449089546681,"d":"-14.04%"},{"v":468.2219,"d":"468.22"},{"v":-0.161939177027683,"d":"-16.19%"},null,{"v":98.0308,"d":"98.03"},{"$f":"R10/AS10-1","v":{"v":-0.0195665045125776,"d":"-1.96%"}},{"v":96.9201,"d":"96.92"},{"v":-0.0829836494601701,"d":"-8.30%"},92.5724,{"v":-0.020566822865474,"d":"-2.06%"},92.9372,{"$f":"X10/AY10-1","v":{"v":-0.0403708942971903,"d":"-4.04%"}},91.2247,{"v":-0.0443132127734023,"d":"-4.43%"},87.0116,{"v":-0.029643235117325,"d":"-2.96%"},86.8392,{"$f":"AD10/BE10-1","v":{"v":-0.0226457013009376,"d":"-2.26%"}},84.9174,{"v":-0.0143533672261299,"d":"-1.44%"},84.3078,{"v":-0.0112818371803383,"d":"-1.13%"},84.4888,{"$f":"AJ10/BK10-1","v":{"v":-0.0417185568296529,"d":"-4.17%"}},82.6305,{"v":-0.0400954903464138,"d":"-4.01%"},77.1923,{"v":-0.0934391093207748,"d":"-9.34%"},{"v":1059.0728,"d":"1059.07"},{"v":-0.0388126894504738,"d":"-3.88%"},null,{"v":99.9872,"d":"99.99"},{"v":-0.23338396202618,"d":"-23.34%"},105.6907,{"$f":"AU10/BV10-1","v":{"v":-0.163152177183478,"d":"-16.32%"}},94.5163,{"v":-0.191753890884214,"d":"-19.18%"},{"v":96.847,"d":"96.85"},{"v":-0.122209291364846,"d":"-12.22%"},{"v":95.4546,"d":"95.45"},{"$f":"BA10/CB10-1","v":{"v":-0.100220857091417,"d":"-10.02%"}},{"v":89.6697,"d":"89.67"},{"v":-0.1449124168821,"d":"-14.49%"},{"v":88.8513,"d":"88.85"},{"v":-0.137650678416833,"d":"-13.77%"},{"v":86.154,"d":"86.15"},{"$f":"BG10/CH10-1","v":{"v":-0.186434339847852,"d":"-18.64%"}},{"v":85.2698,"d":"85.27"},{"v":-0.162784623949305,"d":"-16.28%"},{"v":88.167,"d":"88.17"},{"v":-0.154238496168187,"d":"-15.42%"},{"v":86.082,"d":"86.08"},{"$f":"BM10/CN10-1","v":{"v":-0.159438375707084,"d":"-15.94%"}},{"v":85.1485,"d":"85.15"},{"v":-0.143713803295076,"d":"-14.37%"},{"v":1101.8381,"d":"1101.84"},{"v":-0.160069972945248,"d":"-16.01%"},null,{"v":130.4267,"d":"130.43"},{"v":-0.0204506656793068,"d":"-2.05%"},{"v":126.2962,"d":"126.30"},{"v":-0.0784191823004459,"d":"-7.84%"},116.94,{"v":-0.0891253531450258,"d":"-8.91%"},110.3304,{"v":-0.0294788250693164,"d":"-2.95%"},106.0867,{"v":-0.096069753650257,"d":"-9.61%"},104.8661,{"v":-0.095458666176728,"d":"-9.55%"},103.034,{"v":-0.121777753532826,"d":"-12.18%"},{"v":105.8968,"d":"105.90"},{"v":-0.104952744471923,"d":"-10.50%"},{"$f":"100.995+0.8543","v":{"v":101.8493,"d":"101.85"}},{"v":-0.137300226666712,"d":"-13.73%"},{"$f":"103.2384+CL12","v":{"v":104.2457,"d":"104.25"}},{"v":-0.128275477983971,"d":"-12.83%"},{"v":102.4101,"d":"102.41"},{"v":-0.0156272978846724,"d":"-1.56%"},{"v":99.4393,"d":"99.44"},{"v":-0.137904966010988,"d":"-13.79%"},1311.8213,{"v":-0.0878808181766729,"d":"-8.79%"},{"v":-0.0290088575247949,"d":"-2.90%"},null,{"v":133.1497,"d":"133.15"},{"v":137.043,"d":"137.04"},{"v":128.3821,"d":"128.38"},{"v":113.6816,"d":"113.68"},{"v":117.3616,"d":"117.36"},{"v":115.9329,"d":"115.93"},{"v":117.3211,"d":"117.32"},{"v":118.3142,"d":"118.31"},{"v":118.0588,"d":"118.06"},{"v":119.5856,"d":"119.59"},{"v":104.0359,"d":"104.04"},{"v":115.3461,"d":"115.35"},{"v":1438.2126,"d":"1438.21"},{"v":-0.104342945837697,"d":"-10.43%"},null,136.862,{"v":0.000769248768616964,"d":"0.08%"},147.0029,null,136.2224,{"$error":"#DIV/0!"},{"v":420.0873,"d":"420.09"},136.2181,{"$f":"(DR10-ER10)/ER10","v":{"v":0.566085306967119,"d":"56.61%"}},136.7568,{"v":0.961796012049921,"d":"96.18%"},{"v":133.481,"d":"133.4810"},{"v":0.729252493846353,"d":"72.93%"},132.9982,{"$f":"(DX10-EX10)/EX10","v":{"v":0.384532583801791,"d":"38.45%"}},119.4692,{"v":-0.104764331210191,"d":"-10.48%"},129.9068,{"v":-0.0766451062619944,"d":"-7.66%"},133.9978,{"$f":"(ED10-FD10)/FD10","v":{"v":-0.209778852391343,"d":"-20.98%"}},130.2118,{"v":-0.0820458230525202,"d":"-8.20%"},132.6356,{"v":0.0259560643564357,"d":"2.60%"},1605.7626,{"v":0.308519345480622,"d":"30.85%"},{"v":182.38,"d":"182.3800"},{"v":-0.0715267525327089,"d":"-7.15%"},{"v":0,"d":"0.0000"},{"v":-1,"d":"-100.00%"},{"v":0,"d":"0.0000"},{"v":-1,"d":"-100.00%"},{"v":86.98,"d":"86.9800"},{"v":-0.560485093481556,"d":"-56.05%"},{"v":69.71,"d":"69.7100"},{"v":-0.602927773980406,"d":"-60.29%"},{"v":77.19,"d":"77.1900"},{"v":-0.603666050523721,"d":"-60.37%"},{"v":96.06,"d":"96.0600"},{"v":-0.493728259723833,"d":"-49.37%"},{"v":133.45,"d":"133.4500"},{"v":-0.230880064549594,"d":"-23.09%"},{"v":140.69,"d":"140.6900"},{"v":-0.338738484677571,"d":"-33.87%"},{"v":169.57,"d":"169.5700"},{"$f":"(FD10-FU10)/FU10","v":{"v":-0.279774040095141,"d":"-27.98%"}},{"v":141.85,"d":"141.8500"},{"v":-0.396562725996512,"d":"-39.66%"},{"v":129.28,"d":"129.2800"},{"v":-0.386688173063238,"d":"-38.67%"},{"v":1227.16,"d":"1227.1600"},{"v":-0.533205777299337,"d":"-53.32%"},{"v":196.43,"d":"196"},{"v":303.96,"d":"304"},{"v":302.99,"d":"303"},{"v":197.9,"d":"198"},{"v":175.56,"d":"176"},{"v":194.76,"d":"195"},"189.7400","173.5100","212.7600","235.4400",{"$f":"(FU10-GW10)/GW10","v":{"v":-0.0658254969646471,"d":"-6.58%"}},"235.0700",{"v":0.0840212128199216,"d":"8.40%"},"210.7900",{"v":-0.1766015625,"d":"-17.66%"},2628.91,{"v":-0.143649630281117,"d":"-14.36%"},null,null,{"v":197.65,"d":"198"},{"$f":"(GE10-HH10)/HH10","v":{"v":-0.334511784511784,"d":"-33.45%"}},{"v":390.42,"d":"390"},{"v":-0.0349038414001088,"d":"-3.49%"},{"v":319.85,"d":"320"},{"v":-0.00987493808816245,"d":"-0.99%"},{"v":220.29,"d":"220"},{"v":-0.1394921875,"d":"-13.95%"},{"v":217.09,"d":"217"},{"v":-0.155291828793774,"d":"-15.53%"},251.01,{"$f":"(GO10-HS10)/HS10","v":{"v":-0.0853071933532542,"d":"-8.53%"}},{"v":253.04,"d":"253"},{"v":-0.0731135531135531,"d":"-7.31%"},{"v":245.8,"d":"246"},{"v":-0.0582375478927203,"d":"-5.82%"},{"v":249.87,"d":"250"},{"$f":"(GU10-HY10)/HY10","v":{"v":-0.0462977099236641,"d":"-4.63%"}},{"v":252.03,"d":"252"},{"v":-0.0717127071823204,"d":"-7.17%"},{"v":216.85,"d":"217"},{"v":-0.103925619834711,"d":"-10.39%"},256,{"v":-0.135135135135135,"d":"-13.51%"},{"v":3069.9,"d":"3070"},{"v":3069.9,"d":"3070"},{"$nulls":3},297,{"$f":"(HH10-IJ10)/IJ10","v":{"v":0.0102040816326531,"d":"1.02%"}},404.54,{"v":0.00782262082710524,"d":"0.78%"},323.04,{"v":-1.73053152039556E-3,"d":"-0.17%"},{"v":256,"d":"256.00"},{"v":0.00392156862745098,"d":"0.39%"},{"v":257,"d":"257.00"},{"v":0.0118110236220472,"d":"1.18%"},null,274.42,{"$f":"(HS10-IT10)/IT10","v":{"v":0.0126199261992621,"d":"1.26%"}},{"v":273,"d":"273.00"},{"v":0.0111111111111111,"d":"1.11%"},{"v":261,"d":"261.00"},{"v":0.00384615384615385,"d":"0.38%"},{"v":262,"d":"262.00"},{"$f":"(HY10-IZ10)/IZ10","v":{"v":0.00769230769230769,"d":"0.77%"}},{"v":271.5,"d":"271.50"},{"v":0.00929368029739777,"d":"0.93%"},{"v":242,"d":"242.00"},{"v":0.0125523012552301,"d":"1.26%"},{"v":296,"d":"296.00"},{"v":0.00680272108843537,"d":"0.68%"},{"v":3417.5,"d":"3418"},null,null,294,{"v":0.0191686227423367,"d":"1.92%"},{"v":401.4,"d":"401"},{"v":0.0151220892010353,"d":"1.51%"},{"v":323.6,"d":"324"},{"v":0.0187346313643275,"d":"1.87%"},"255",{"v":0.0225046409795886,"d":"2.25%"},"254.0000",{"v":0.0253994552104633,"d":"2.54%"},"271.0000",{"v":0.0178918061501894,"d":"1.79%"},{"v":270,"d":"270.00"},{"v":0.0190779312714999,"d":"1.91%"},260,{"v":0.0177867545721463,"d":"1.78%"},260,{"v":0.0135520285703045,"d":"1.36%"},269,{"v":0.0221405412397809,"d":"2.21%"},{"v":239,"d":"239.00"},{"v":0.00809862192039158,"d":"0.81%"},294,{"v":0.0385693747428214,"d":"3.86%"},{"v":3325.13244600489,"d":"3325"},{"v":288.470419358984,"d":"288"},{"v":395.420417179501,"d":"395"},{"v":317.648963760683,"d":"318"},{"v":249.387621121898,"d":"249"},{"v":247.708343035804,"d":"248"},{"v":266.236547305514,"d":"266"},{"v":264.945390057777,"d":"265"},{"v":255.456262161024,"d":"255"},{"v":256.523585046493,"d":"257"},{"v":263.173202849114,"d":"263"},{"v":237.079978886107,"d":"237"},{"v":283.081715241991,"d":"283"}]
[null,"旅客周转量        （万人公里）",2072.6875,{"$f":"C11/R11-1","v":{"v":-0.190975033386582,"d":"-19.10%"}},2381.0712,{"v":-0.0687650128307908,"d":"-6.88%"},2528.9262,{"v":-0.0921752267097382,"d":"-9.22%"},2913.672,{"$f":"I11/X11-1","v":{"v":-0.0607622124731215,"d":"-6.08%"}},2547.6156,{"v":-0.0571552286928602,"d":"-5.72%"},2470.4711,{"v":-0.00676617052237261,"d":"-0.68%"},{"v":14914.4436,"d":"14914.44"},{"v":-0.0791320114773759,"d":"-7.91%"},null,{"v":2561.9574,"d":"2561.96"},{"$f":"R11/AS11-1","v":{"v":0.0222229865303722,"d":"2.22%"}},{"v":2556.8962,"d":"2556.90"},{"v":0.0334251638451573,"d":"3.34%"},2785.6986,{"v":0.000791954227890912,"d":"0.08%"},3102.1665,{"$f":"X11/AY11-1","v":{"v":-0.00726405618007842,"d":"-0.73%"}},2702.052,{"v":-0.0872530757999774,"d":"-8.73%"},2487.3006,{"v":-0.0323817664402862,"d":"-3.24%"},2434.3376,{"$f":"AD11/BE11-1","v":{"v":-0.12995961020591,"d":"-13.00%"}},2571.1196,{"v":-0.039412875811763,"d":"-3.94%"},2439.2523,{"v":-0.0614232807516671,"d":"-6.14%"},2622.7803,{"$f":"AJ11/BK11-1","v":{"v":-0.0975133360198009,"d":"-9.75%"}},2698.1026,{"v":-0.0119243162807403,"d":"-1.19%"},2490.7552,{"v":0.0715517594449513,"d":"7.16%"},{"v":31452.4189,"d":"31452.42"},{"v":-0.030874577610514,"d":"-3.09%"},null,{"v":2506.2608,"d":"2506.26"},{"v":-0.0458361038072546,"d":"-4.58%"},2474.1958,{"$f":"AU11/BV11-1","v":{"v":-0.0885063931390373,"d":"-8.85%"}},2783.4942,{"v":-0.153946624574347,"d":"-15.39%"},{"v":3124.8657,"d":"3124.87"},{"v":-0.0416569601512119,"d":"-4.17%"},{"v":2960.3518,"d":"2960.35"},{"$f":"BA11/CB11-1","v":{"v":-0.0852384455165865,"d":"-8.52%"}},{"v":2570.5392,"d":"2570.54"},{"v":-0.16387334798384,"d":"-16.39%"},{"v":2797.9593,"d":"2797.96"},{"v":-0.0928411186670238,"d":"-9.28%"},{"v":2676.6126,"d":"2676.61"},{"$f":"BG11/CH11-1","v":{"v":-0.157181454993446,"d":"-15.72%"}},{"v":2598.8843,"d":"2598.88"},{"v":-0.146701005463425,"d":"-14.67%"},{"v":2906.1707,"d":"2906.17"},{"v":-0.0867813456539174,"d":"-8.68%"},{"v":2730.6639,"d":"2730.66"},{"$f":"BM11/CN11-1","v":{"v":-0.0886325338957117,"d":"-8.86%"}},{"v":2324.4376,"d":"2324.44"},{"v":-0.109856771362881,"d":"-10.99%"},{"v":32454.4359,"d":"32454.44"},{"v":-0.105888445551904,"d":"-10.59%"},null,{"v":2626.6565,"d":"2626.66"},{"v":-0.166480631404789,"d":"-16.65%"},{"v":2714.4412,"d":"2714.44"},{"v":-0.183282555545436,"d":"-18.33%"},{"v":3289.9747,"d":"3289.97"},{"v":0.116506063896267,"d":"11.65%"},3260.6964,{"v":0.33881687578749,"d":"33.88%"},3236.2005,{"v":0.20474944904555,"d":"20.47%"},3074.3419,{"v":0.0656147046516637,"d":"6.56%"},3084.3101,{"v":0.0395095585494436,"d":"3.95%"},{"v":3175.7875,"d":"3175.79"},{"v":0.107048003293479,"d":"10.70%"},{"$f":"3030.8088+CJ13","v":{"v":3045.6901,"d":"3045.69"}},{"v":0.0656124380471026,"d":"6.56%"},{"$f":"3166.7203+CL13","v":{"v":3182.3383,"d":"3182.34"}},{"v":0.153567646759023,"d":"15.36%"},{"v":2996.2271,"d":"2996.23"},{"v":0.356425911167537,"d":"35.64%"},{"v":2611.3074,"d":"2611.31"},{"v":0.165024262086841,"d":"16.50%"},36297.9717,{"v":0.089006671591652,"d":"8.90%"},{"v":-0.128468132472335,"d":"-12.85%"},null,{"v":3151.2843,"d":"3151.28"},{"v":3323.5989,"d":"3323.60"},{"v":2946.6698,"d":"2946.67"},{"v":2435.5059,"d":"2435.51"},{"v":2686.2021,"d":"2686.20"},{"v":2885.0408,"d":"2885.04"},{"v":2967.082,"d":"2967.08"},{"v":2868.699,"d":"2868.70"},{"v":2858.1593,"d":"2858.16"},{"v":2758.6924,"d":"2758.69"},{"v":2208.9132,"d":"2208.91"},{"v":2241.4189,"d":"2241.42"},{"v":33331.2666,"d":"33331.27"},{"v":-0.269766497222783,"d":"-26.98%"},null,{"v":3672.927,"d":"3,672.93"},{"v":-0.202082967641247,"d":"-20.21%"},3872.4619,null,4065.4968,{"$error":"#DIV/0!"},{"v":11610.8857,"d":"11610.89"},4491.6433,{"$f":"(DR11-ER11)/ER11","v":{"v":-0.318676850920663,"d":"-31.87%"}},{"v":4603.144,"d":"4603.1440"},{"v":-0.201684336124952,"d":"-20.17%"},4315.5691,{"v":-0.361763651502357,"d":"-36.18%"},4242.8576,{"$f":"(DX11-EX11)/EX11","v":{"v":-0.48203005132262,"d":"-48.20%"}},{"v":2625.003,"d":"2625.0030"},{"v":-0.754142069194177,"d":"-75.41%"},3382.5641,{"v":-0.693548366347039,"d":"-69.35%"},3573.7885,{"$f":"(ED11-FD11)/FD11","v":{"v":-0.689014577325437,"d":"-68.90%"}},3406.4255,{"v":-0.653749578168009,"d":"-65.37%"},3392.7883,{"v":-0.615335358249094,"d":"-61.53%"},45644.6691,{"v":-0.48335695454459,"d":"-48.34%"},{"v":9172.2,"d":"9172.2000"},{"v":-0.337900268530015,"d":"-33.79%"},{"v":0,"d":"0.0000"},{"v":-1,"d":"-100.00%"},{"v":0,"d":"0.0000"},{"v":-1,"d":"-100.00%"},{"v":6592.53,"d":"6592.5300"},{"v":-0.439105465559488,"d":"-43.91%"},{"v":5766.07,"d":"5766.0700"},{"v":-0.594869106931195,"d":"-59.49%"},{"v":6761.71,"d":"6761.7100"},{"v":-0.470104526012385,"d":"-47.01%"},{"v":8191.32,"d":"8191.3200"},{"v":-0.366954801364808,"d":"-36.70%"},{"v":10676.91,"d":"10676.9100"},{"v":-0.1536834145282,"d":"-15.37%"},{"v":11037.84,"d":"11037.8400"},{"v":-0.217100064828856,"d":"-21.71%"},{"v":11491.82,"d":"11491.8200"},{"$f":"(FD11-FU11)/FU11","v":{"v":-0.075090142296053,"d":"-7.51%"}},{"v":9838.04,"d":"9838.0400"},{"v":-0.0964543462408134,"d":"-9.65%"},{"v":8820.12,"d":"8820.1200"},{"v":-0.233315716640126,"d":"-23.33%"},{"v":88348.56,"d":"88348.5600"},{"v":-0.458885598527606,"d":"-45.89%"},{"v":13853.2,"d":"13853"},{"v":20994.09,"d":"20994"},{"v":15206.29,"d":"15206"},{"v":11753.6,"d":"11754"},{"v":14232.61,"d":"14233"},{"v":12760.46,"d":"12760"},"12,939.5500","12,615.7400","14,098.6600","12,424.8000",{"$f":"(FU11-GW11)/GW11","v":{"v":-0.1708004957258,"d":"-17.08%"}},"10,888.2600",{"v":-0.163900211016473,"d":"-16.39%"},"11,504.2400",{"v":-0.477474269414896,"d":"-47.75%"},{"v":163271.5,"d":"163271.50"},{"v":-0.198446472259198,"d":"-19.84%"},null,null,14828,{"$f":"(GE11-HH11)/HH11","v":{"v":-0.0619345859429367,"d":"-6.19%"}},{"v":23149.8,"d":"23150"},{"v":0.08,"d":"8.00%"},{"v":20101.39,"d":"20101"},{"v":0.0565998759500857,"d":"5.66%"},{"v":14566.05,"d":"14566"},{"v":-0.0655000962340412,"d":"-6.55%"},{"v":16714.01,"d":"16714"},{"v":-0.120130027374184,"d":"-12.01%"},15769.04,{"$f":"(GO11-HS11)/HS11","v":{"v":-0.110320236510122,"d":"-11.03%"}},{"v":16136.31,"d":"16136"},{"v":-0.0985301675977654,"d":"-9.85%"},{"v":15599.72,"d":"15600"},{"v":-0.118560289298226,"d":"-11.86%"},{"v":16806.13,"d":"16806"},{"$f":"(GU11-HY11)/HY11","v":{"v":-0.105200191672878,"d":"-10.52%"}},{"v":14984.09,"d":"14984"},{"v":-0.120600387346675,"d":"-12.06%"},{"v":13022.68,"d":"13023"},{"v":-0.112110179314106,"d":"-11.21%"},{"v":22016.6,"d":"22017"},{"v":-0.139001212310821,"d":"-13.90%"},{"v":203693.82,"d":"203694"},{"v":203693.82,"d":"203694"},{"$nulls":3},15807,{"$f":"(HH11-IJ11)/IJ11","v":{"v":0.00938697318007663,"d":"0.94%"}},{"v":21435,"d":"21435.00"},{"v":0.00233808744447042,"d":"0.23%"},{"v":19024.6,"d":"19024.60"},{"v":0.00621991854868559,"d":"0.62%"},{"v":15587,"d":"15587.00"},{"v":0.00250836120401338,"d":"0.25%"},{"v":18996,"d":"18996.00"},{"v":0.0186068958121079,"d":"1.86%"},null,{"v":17724.4,"d":"17724.40"},{"$f":"(HS11-IT11)/IT11","v":{"v":0.00918977395661342,"d":"0.92%"}},{"v":17900,"d":"17900.00"},{"v":0.00981608936026176,"d":"0.98%"},{"v":17698,"d":"17698.00"},{"v":0.032796451914099,"d":"3.28%"},{"v":18782,"d":"18782.00"},{"$f":"(HY11-IZ11)/IZ11","v":{"v":0.00459991442019683,"d":"0.46%"}},{"v":17039,"d":"17039.00"},{"v":0.00501356612008965,"d":"0.50%"},{"v":14667,"d":"14667.00"},{"v":0.00458904109589041,"d":"0.46%"},{"v":25571,"d":"25571.00"},{"v":0.0131943894127902,"d":"1.32%"},220231,null,null,15660,{"v":0.0238501700919951,"d":"2.39%"},21385,{"v":0.0139297476787692,"d":"1.39%"},18907,{"v":0.021785929069172,"d":"2.18%"},"15548",{"v":0.0166499080980566,"d":"1.66%"},"18,649.0000",{"v":0.0270760472671101,"d":"2.71%"},"17,563.0000",{"v":0.0663024635178369,"d":"6.63%"},{"v":17726,"d":"17726.00"},{"v":0.0164026614561444,"d":"1.64%"},17136,{"v":0.00892102005150318,"d":"0.89%"},{"v":18696,"d":"18,696.00"},{"v":0.00113168072108111,"d":"0.11%"},{"v":16954,"d":"16,954.00"},{"v":0.0282024186197061,"d":"2.82%"},{"v":14600,"d":"14600.00"},{"v":0.0089518199821723,"d":"0.90%"},{"v":25238,"d":"25,238.00"},{"v":0.0178903992261927,"d":"1.79%"},{"v":213665.09863394,"d":"213665"},{"v":15295.2067181792,"d":"15295"},{"v":21091.2048383604,"d":"21091"},{"v":18503.8758727319,"d":"18504"},{"v":15293.3668474796,"d":"15293"},{"v":18157.3701865817,"d":"18157"},{"v":16470.9363439506,"d":"16471"},{"v":17439.9385914682,"d":"17440"},{"v":16984.4811035112,"d":"16984"},{"v":18674.866014163,"d":"18675"},{"v":16488.9711334852,"d":"16489"},{"v":14470.4630199864,"d":"14470"},{"v":24794.4179640422,"d":"24794"}]
[null,"其中个体客运量     （万人）",{"v":0.4467,"d":"0.45"},{"$f":"C12/R12-1","v":{"v":-0.459397313324458,"d":"-45.94%"}},0.4823,{"v":-0.478819969742814,"d":"-47.88%"},0.4978,{"v":-0.527659170699307,"d":"-52.77%"},0.4917,{"$f":"I12/X12-1","v":{"v":-0.51808291678918,"d":"-51.81%"}},0.4937,{"v":-0.529854299590515,"d":"-52.99%"},0.4869,{"v":-0.407880335643926,"d":"-40.79%"},{"v":2.8991,"d":"2.90"},{"v":-0.491234227752137,"d":"-49.12%"},null,{"v":0.8263,"d":"0.83"},{"$f":"R12/AS12-1","v":{"v":0.088525885917534,"d":"8.85%"}},{"v":0.9254,"d":"0.93"},{"v":0.138533464566929,"d":"13.85%"},{"v":1.0539,"d":"1.05"},{"v":0.321339017051154,"d":"32.13%"},{"v":1.0203,"d":"1.02"},{"$f":"X12/AY12-1","v":{"v":0.255290354330709,"d":"25.53%"}},{"v":1.0501,"d":"1.05"},{"v":0.345419602818706,"d":"34.54%"},{"v":0.8223,"d":"0.82"},{"v":0.0968387354941977,"d":"9.68%"},{"v":0.7358,"d":"0.74"},{"$f":"AD12/BE12-1","v":{"v":-0.0492311668174183,"d":"-4.92%"}},{"v":0.7165,"d":"0.72"},{"v":-0.117719492673316,"d":"-11.77%"},{"v":0.7582,"d":"0.76"},{"v":-0.147131608548931,"d":"-14.71%"},{"v":0.7732,"d":"0.77"},{"$f":"AJ12/BK12-1","v":{"v":-0.0729016786570743,"d":"-7.29%"}},0.4269,{"v":-0.477734279422559,"d":"-47.77%"},0.4303,{"v":-0.413919912830291,"d":"-41.39%"},{"v":9.5392,"d":"9.54"},{"v":-0.00354117266089349,"d":"-0.35%"},null,{"v":0.7591,"d":"0.76"},{"v":1.37887809464118,"d":"137.89%"},0.8128,{"$f":"AU12/BV12-1","v":{"v":1.48714810281518,"d":"148.71%"}},0.7976,{"v":1.4074856625415,"d":"140.75%"},{"v":0.8128,"d":"0.81"},{"v":1.44671884406984,"d":"144.67%"},{"v":0.7805,"d":"0.78"},{"$f":"BA12/CB12-1","v":{"v":1.15726920950802,"d":"115.73%"}},{"v":0.7497,"d":"0.75"},{"v":0.91543178334185,"d":"91.54%"},{"v":0.7739,"d":"0.77"},{"v":0.0631954938865229,"d":"6.32%"},{"v":0.8121,"d":"0.81"},{"$f":"BG12/CH12-1","v":{"v":-0.0215662650602408,"d":"-2.16%"}},{"v":0.889,"d":"0.89"},{"v":0.040618049865387,"d":"4.06%"},{"v":0.834,"d":"0.83"},{"v":-0.172044078228929,"d":"-17.20%"},{"v":0.8174,"d":"0.82"},{"$f":"BM12/CN12-1","v":{"v":-0.243708364174685,"d":"-24.37%"}},{"v":0.7342,"d":"0.73"},{"v":-0.282937786893251,"d":"-28.29%"},{"v":9.5731,"d":"9.57"},{"v":0.261809985764749,"d":"26.18%"},null,{"v":0.3191,"d":"0.32"},{"v":-0.14012395580706,"d":"-14.01%"},{"v":0.3268,"d":"0.33"},{"v":-0.107347719202404,"d":"-10.73%"},{"v":0.3313,"d":"0.33"},{"v":0.0923178371249587,"d":"9.23%"},0.3322,{"v":0.208439432520917,"d":"20.84%"},0.3618,{"v":0.308972503617945,"d":"30.90%"},0.3914,{"v":0.548259493670886,"d":"54.83%"},{"v":0.7279,"d":"0.73"},{"v":1.83892355694228,"d":"183.89%"},0.83,{"v":2.16793893129771,"d":"216.79%"},{"v":0.8543,"d":"0.85"},{"v":2.20924117205109,"d":"220.92%"},{"v":1.0073,"d":"1.01"},{"v":2.63514976542764,"d":"263.51%"},{"v":1.0808,"d":"1.08"},{"v":4.82641509433962,"d":"482.64%"},{"v":1.0239,"d":"1.02"},{"v":2.70039754246476,"d":"270.04%"},7.5868,{"v":1.25227846222354,"d":"125.23%"},{"v":-0.0526461880088822,"d":"-5.26%"},null,{"v":0.3711,"d":"0.37"},{"v":0.3661,"d":"0.37"},{"v":0.3033,"d":"0.30"},{"v":0.2749,"d":"0.27"},{"v":0.2764,"d":"0.28"},{"v":0.2528,"d":"0.25"},{"v":0.2564,"d":"0.26"},{"v":0.262,"d":"0.26"},{"v":0.2662,"d":"0.27"},{"v":0.2771,"d":"0.28"},{"v":0.1855,"d":"0.19"},{"v":0.2767,"d":"0.28"},{"v":3.3685,"d":"3.37"},{"v":-0.3531693453924,"d":"-35.32%"},null,{"v":0.4461,"d":"0.45"},null,0.4663,null,0.4701,{"$error":"#DIV/0!"},{"v":1.3825,"d":"1.38"},0.4662,{"$f":"(DR12-ER12)/ER12","v":{"$error":"#DIV/0!"}},0.4568,{"$error":"#DIV/0!"},0.4097,{"$error":"#DIV/0!"},0.4089,{"$f":"(DX12-EX12)/EX12","v":{"$error":"#DIV/0!"}},0.4246,{"$error":"#DIV/0!"},0.4596,{"$error":"#DIV/0!"},0.4038,{"$f":"(ED12-FD12)/FD12","v":{"$error":"#DIV/0!"}},0.4041,{"$error":"#DIV/0!"},0.3915,{"$error":"#DIV/0!"},5.2077,{"$error":"#DIV/0!"},{"$nulls":24},{"v":0,"d":"0.0000"}]
[null,"其中个体旅客周转量（万人公里）",{"v":4.9843,"d":"4.98"},{"$f":"C13/R13-1","v":{"v":-0.609141951976914,"d":"-60.91%"}},5.2579,{"v":-0.62002254758842,"d":"-62.00%"},5.3201,{"v":-0.631819345730361,"d":"-63.18%"},5.2381,{"$f":"I13/X13-1","v":{"v":-0.629140057489982,"d":"-62.91%"}},5.2894,{"v":-0.631161658775374,"d":"-63.12%"},5.1518,{"v":-0.597889462140666,"d":"-59.79%"},{"v":31.2416,"d":"31.24"},{"v":-0.620467927902318,"d":"-62.05%"},null,{"v":12.7522,"d":"12.75"},{"$f":"R13/AS13-1","v":{"v":-0.0570410245792541,"d":"-5.70%"}},{"v":13.8374,"d":"13.84"},{"v":-0.0487863560434726,"d":"-4.88%"},{"v":14.4497,"d":"14.45"},{"v":0.0274830763979748,"d":"2.75%"},{"v":14.1242,"d":"14.12"},{"$f":"X13/AY13-1","v":{"v":-0.0290710863333585,"d":"-2.91%"}},{"v":14.3407,"d":"14.34"},{"v":0.0218686314469354,"d":"2.19%"},{"v":12.8119,"d":"12.81"},{"v":-0.0610415689493433,"d":"-6.10%"},{"v":10.3506,"d":"10.35"},{"$f":"AD13/BE13-1","v":{"v":-0.229401648314833,"d":"-22.94%"}},{"v":10.1374,"d":"10.14"},{"v":-0.264793124705371,"d":"-26.48%"},{"v":10.2922,"d":"10.29"},{"v":-0.290975475337559,"d":"-29.10%"},{"v":10.3424,"d":"10.34"},{"$f":"AJ13/BK13-1","v":{"v":-0.255127909656603,"d":"-25.51%"}},{"v":10.3424,"d":"10.34"},{"v":-0.250702755962558,"d":"-25.07%"},{"v":4.9604,"d":"4.96"},{"v":-0.573563040525438,"d":"-57.36%"},{"v":138.7415,"d":"138.74"},{"v":-0.16125605897381,"d":"-16.13%"},null,{"v":13.5236,"d":"13.52"},{"v":0.350563750212218,"d":"35.06%"},14.5471,{"$f":"AU13/BV13-1","v":{"v":0.485125367526952,"d":"48.51%"}},14.0632,{"v":0.415492390691682,"d":"41.55%"},{"v":14.5471,"d":"14.55"},{"v":0.482355938248332,"d":"48.24%"},{"v":14.0338,"d":"14.03"},{"$f":"BA13/CB13-1","v":{"v":0.262770504341566,"d":"26.28%"}},{"v":13.6448,"d":"13.64"},{"v":0.182904204594712,"d":"18.29%"},{"v":13.4319,"d":"13.43"},{"v":-0.0343501297655593,"d":"-3.44%"},{"v":13.7885,"d":"13.79"},{"$f":"BG13/CH13-1","v":{"v":-0.123911123536251,"d":"-12.39%"}},{"v":14.516,"d":"14.52"},{"v":-0.0245475865683777,"d":"-2.45%"},{"v":13.8848,"d":"13.88"},{"v":-0.110974516583429,"d":"-11.10%"},{"v":13.8028,"d":"13.80"},{"$f":"BM13/CN13-1","v":{"v":-0.126963143813132,"d":"-12.70%"}},{"v":11.6322,"d":"11.63"},{"v":-0.316231579071121,"d":"-31.62%"},{"v":165.4158,"d":"165.42"},{"v":0.06599241890145,"d":"6.60%"},null,{"v":10.0133,"d":"10.01"},{"v":-0.181839722848645,"d":"-18.18%"},{"v":9.7952,"d":"9.80"},{"v":-0.18247297917623,"d":"-18.25%"},{"v":9.9352,"d":"9.94"},{"v":0.0641246719862905,"d":"6.41%"},{"v":9.8135,"d":"9.81"},{"v":0.236393186514136,"d":"23.64%"},11.1135,{"v":0.367243245903253,"d":"36.72%"},{"v":11.535,"d":"11.5350"},{"v":0.50502981355114,"d":"50.50%"},13.9097,{"v":0.778506584835699,"d":"77.85%"},{"v":15.7387,"d":"15.74"},{"v":0.924258170214327,"d":"92.43%"},{"v":14.8813,"d":"14.88"},{"v":0.784221569450273,"d":"78.42%"},{"v":15.618,"d":"15.62"},{"v":0.725154919309408,"d":"72.52%"},{"v":15.8101,"d":"15.81"},{"v":1.61856336021995,"d":"161.86%"},{"v":17.0119,"d":"17.01"},{"v":0.880495219145526,"d":"88.05%"},155.1754,{"v":0.467177108408673,"d":"46.72%"},{"v":0.0760146994642665,"d":"7.60%"},null,{"v":12.2388,"d":"12.24"},{"v":11.9815,"d":"11.98"},{"v":9.3365,"d":"9.34"},{"v":7.9372,"d":"7.94"},{"v":8.1284,"d":"8.13"},{"v":7.6643,"d":"7.66"},{"v":7.821,"d":"7.82"},{"v":8.1791,"d":"8.18"},{"v":8.3405,"d":"8.34"},{"v":9.0531,"d":"9.05"},{"v":6.0377,"d":"6.04"},{"v":9.0465,"d":"9.05"},{"v":105.7646,"d":"105.76"},{"v":-0.310017875083178,"d":"-31.00%"},null,{"v":15.8825,"d":"15.88"},null,16.4391,null,16.7722,{"$error":"#DIV/0!"},{"v":49.0938,"d":"49.09"},12.5393,{"$f":"(DR13-ER13)/ER13","v":{"$error":"#DIV/0!"}},9.8554,{"$error":"#DIV/0!"},10.2418,{"$error":"#DIV/0!"},10.2487,{"$f":"(DX13-EX13)/EX13","v":{"$error":"#DIV/0!"}},10.3983,{"$error":"#DIV/0!"},10.5409,{"$error":"#DIV/0!"},13.8743,{"$f":"(ED13-FD13)/FD13","v":{"$error":"#DIV/0!"}},13.4026,{"$error":"#DIV/0!"},13.0909,{"$error":"#DIV/0!"},{"v":153.286,"d":"153.2860"},{"$error":"#DIV/0!"},{"$nulls":24},{"v":0,"d":"0.0000"}]
["十堰市","客运量            （万人）",44.2561,{"$f":"C14/R14-1","v":{"v":-0.13555044661954,"d":"-13.56%"}},64.7578,{"v":-0.0777239116316694,"d":"-7.77%"},60.4028,{"v":0.0425582226241907,"d":"4.26%"},68.256,{"$f":"I14/X14-1","v":{"v":0.0571066166734036,"d":"5.71%"}},66.0753,{"v":0.0327799668949218,"d":"3.28%"},57.5147,{"v":-0.063067920803047,"d":"-6.31%"},{"v":361.2627,"d":"361.26"},{"v":-0.0217132752565121,"d":"-2.17%"},null,{"v":51.1957,"d":"51.20"},{"$f":"R14/AS14-1","v":{"v":0.0203407666352433,"d":"2.03%"}},{"v":70.2152,"d":"70.22"},{"v":0.0474487017878853,"d":"4.74%"},57.9371,{"v":0.0215336819722194,"d":"2.15%"},64.5687,{"$f":"X14/AY14-1","v":{"v":0.00209828738156403,"d":"0.21%"}},63.9781,{"v":0.031450667689872,"d":"3.15%"},61.3862,{"v":0.0449568645608494,"d":"4.50%"},52.2756,{"$f":"AD14/BE14-1","v":{"v":-0.0667954364098234,"d":"-6.68%"}},60.4119,{"v":-0.0114851310178715,"d":"-1.15%"},52.0508,{"v":-0.0505542452615084,"d":"-5.06%"},57.7711,{"$f":"AJ14/BK14-1","v":{"v":-0.163188831528509,"d":"-16.32%"}},49.1361,{"v":-0.0503615058588881,"d":"-5.04%"},41.2319,{"v":-0.125920571188719,"d":"-12.59%"},{"v":682.1584,"d":"682.16"},{"v":-0.0241436882265097,"d":"-2.41%"},null,{"v":50.1751,"d":"50.18"},{"v":-0.0499911010803666,"d":"-5.00%"},67.0345,{"$f":"AU14/BV14-1","v":{"v":0.152023166089519,"d":"15.20%"}},56.7158,{"v":-0.0348825930772543,"d":"-3.49%"},{"v":64.4335,"d":"64.43"},{"v":0.112679680322717,"d":"11.27%"},{"v":62.0273,"d":"62.03"},{"$f":"BA14/CB14-1","v":{"v":0.00522975596632991,"d":"0.52%"}},{"v":58.7452,"d":"58.75"},{"v":-0.0187595104587904,"d":"-1.88%"},{"v":56.0173,"d":"56.02"},{"v":-0.122794352540292,"d":"-12.28%"},{"v":61.1138,"d":"61.11"},{"$f":"BG14/CH14-1","v":{"v":-0.0990537040285761,"d":"-9.91%"}},{"v":54.8223,"d":"54.82"},{"v":-0.0203568524789365,"d":"-2.04%"},{"v":69.0372,"d":"69.04"},{"v":0.112190123918213,"d":"11.22%"},{"v":51.7419,"d":"51.74"},{"$f":"BM14/CN14-1","v":{"v":-0.00199054491166961,"d":"-0.20%"}},{"v":47.1718,"d":"47.17"},{"v":-0.0276562194028467,"d":"-2.77%"},{"v":699.0357,"d":"699.04"},{"v":-4.29264392118323E-4,"d":"-0.04%"},null,{"v":52.8154,"d":"52.82"},{"v":0.111287855355876,"d":"11.13%"},{"v":58.1885,"d":"58.19"},{"v":0.00685732676728001,"d":"0.69%"},{"v":58.7657,"d":"58.77"},{"v":0.262646186108372,"d":"26.26%"},57.9084,{"v":0.320550856637257,"d":"32.06%"},61.7046,{"v":0.369813079962705,"d":"36.98%"},59.8683,{"v":0.336053720391521,"d":"33.61%"},63.8588,{"v":0.188539479757597,"d":"18.85%"},{"v":67.8329,"d":"67.83"},{"v":0.506932303133032,"d":"50.69%"},{"$f":"55.9615+CJ16","v":{"v":55.9615,"d":"55.96"}},{"v":0.335029510136505,"d":"33.50%"},{"$f":"62.0732+CL16","v":{"v":62.0732,"d":"62.07"}},{"v":0.829330252680345,"d":"82.93%"},{"v":51.8451,"d":"51.85"},{"v":0.868520827777097,"d":"86.85%"},{"v":48.5135,"d":"48.51"},{"v":0.662719520721659,"d":"66.27%"},699.3359,{"v":0.352460392330688,"d":"35.25%"},{"v":-0.0642606533693638,"d":"-6.43%"},null,{"v":47.5263,"d":"47.53"},{"v":57.7922,"d":"57.79"},{"v":46.5417,"d":"46.54"},{"v":43.8517,"d":"43.85"},{"v":45.046,"d":"45.05"},{"v":44.8098,"d":"44.81"},{"v":53.7288,"d":"53.73"},{"v":45.0139,"d":"45.01"},{"v":41.9178,"d":"41.92"},{"v":33.9322,"d":"33.93"},{"v":27.7466,"d":"27.75"},{"v":29.1772,"d":"29.18"},{"v":517.0842,"d":"517.08"},{"v":-0.255004989357095,"d":"-25.50%"},null,56.7426,{"$f":"(DK14-DT14)/DT14","v":{"v":-0.275240255659611,"d":"-27.52%"}},57.0941,null,60.0695,{"v":3.4340569707617,"d":"343.41%"},{"v":173.9062,"d":"173.91"},{"v":67.945,"d":"67.9450"},{"$f":"(DR14-ER14)/ER14","v":{"v":1.6416979650236,"d":"164.17%"}},78.2916,{"v":2.26215,"d":"226.22%"},57.8819,{"v":2.85879333333333,"d":"285.88%"},63.3864,{"$f":"(DX14-EX14)/EX14","v":{"v":1.11288,"d":"111.29%"}},42.1833,{"v":-0.204088679245283,"d":"-20.41%"},53.9917,{"v":-0.452984932483911,"d":"-45.30%"},62.0602,{"$f":"(ED14-FD14)/FD14","v":{"v":-0.309545398411937,"d":"-30.95%"}},47.9142,{"v":-0.388712261936353,"d":"-38.87%"},46.5169,{"v":-0.254151982272904,"d":"-25.42%"},694.0774,{"v":-0.110844792847377,"d":"-11.08%"},{"v":290,"d":"290.0000"},{"$f":"(EL14-FL14)/FL14","v":{"v":-0.0235690235690236,"d":"-2.36%"}},{"v":0,"d":"0.0000"},{"$f":"(EN14-FM14)/FM14","v":{"v":-1,"d":"-100.00%"}},13.5473,{"$f":"(EP14-FN14)/FN14","v":{"v":-0.957128797468354,"d":"-95.71%"}},25.7202,{"$f":"(ER14-FO14)/FO14","v":{"v":-0.8971192,"d":"-89.71%"}},{"v":24,"d":"24.0000"},{"$f":"(ET14-FP14)/FP14","v":{"v":-0.900414937759336,"d":"-90.04%"}},{"v":15,"d":"15.0000"},{"$f":"(EV14-FQ14)/FQ14","v":{"v":-0.943396226415094,"d":"-94.34%"}},{"v":30,"d":"30.0000"},{"$f":"(EX14-FR14)/FR14","v":{"v":-0.886792452830189,"d":"-88.68%"}},{"v":53,"d":"53.0000"},{"$f":"(EZ14-FS14)/FS14","v":{"v":-0.792156862745098,"d":"-79.22%"}},98.7024,{"$f":"(FB14-FT14)/FT14","v":{"v":-0.600395141700405,"d":"-60.04%"}},89.8831,{"$f":"(FD14-FU14)/FU14","v":{"v":-0.650260311284047,"d":"-65.03%"}},78.3824,{"v":-0.656217543859649,"d":"-65.62%"},62.3678,{"v":-0.772380291970803,"d":"-77.24%"},780.6032,{"$f":"(FJ14-(FL14+FM14+FN14+FO14+FP14+FQ14+FR14+FS14+FT14+FU14+FW14+FY14))/(FL14+FM14+FN14+FO14+FP14+FQ14+FR14+FS14+FT14+FU14+FW14+FY14)","v":{"v":-0.761866015863331,"d":"-76.19%"}},297,383,316,250,241,265,265,"255.0000","247.0000","257.0000",{"$f":"(FU14-GW14)/GW14","v":{"v":-0.0228136882129278,"d":"-2.28%"}},"228.0000",{"v":-0.0214592274678112,"d":"-2.15%"},"274.0000",{"v":-0.0214285714285714,"d":"-2.14%"},{"$f":"FL14+FM14+FN14+FO14+FP14+FQ14+FR14+FS14+FT14+FU14+FW14+FY14","v":{"v":3278,"d":"3278.00"}},{"$f":"(GA14-HC14)/HC14","v":{"v":-0.0238237045860631,"d":"-2.38%"}},null,null,304,{"$f":"(GE14-HH14)/HH14","v":{"v":0.0133333333333333,"d":"1.33%"}},394,{"v":-0.0295566502463054,"d":"-2.96%"},324,{"v":-0.0121951219512195,"d":"-1.22%"},256,{"$f":"(GK14-HN14)/HN14","v":{"v":-0.0115830115830116,"d":"-1.16%"}},246,{"$f":"(GM14-HP14)/HP14","v":{"v":-0.0120481927710843,"d":"-1.20%"}},271,{"$f":"(GO14-HS14)/HS14","v":{"v":-0.0109489051094891,"d":"-1.09%"}},272,{"v":-0.0109090909090909,"d":"-1.09%"},262,{"v":0.00769230769230769,"d":"0.77%"},253,{"$f":"(GU14-HY14)/HY14","v":{"v":-0.0155642023346304,"d":"-1.56%"}},263,{"v":-0.0112781954887218,"d":"-1.13%"},233,{"v":-0.0127118644067797,"d":"-1.27%"},280,{"$f":"(HA14-IE14)/IE14","v":{"v":-0.0106007067137809,"d":"-1.06%"}},{"$f":"GE14+GG14+GI14+GK14+GM14+GO14+GQ14+GS14+GU14+GW14+GY14+HA14","v":3358},{"$f":"HA14+GY14+GW14+GU14+GS14+GQ14+GO14+GM14+GK14+GI14+GG14+GE14","v":3358},{"$nulls":3},300,{"$f":"(HH14-IJ14)/IJ14","v":{"v":0.0273972602739726,"d":"2.74%"}},{"v":406,"d":"406.00"},{"v":0.0278481012658228,"d":"2.78%"},{"v":328,"d":"328.00"},{"v":0.0218068535825545,"d":"2.18%"},{"v":259,"d":"259.00"},{"$f":"(HN14-IP14)/IP14","v":{"v":0.0237154150197628,"d":"2.37%"}},{"v":249,"d":"249.00"},{"$f":"(HP14-IR14)/IR14","v":{"v":0,"d":"0.00%"}},null,{"v":274,"d":"274.00"},{"$f":"(HS14-IT14)/IT14","v":{"v":0.0223880597014925,"d":"2.24%"}},{"v":275,"d":"275.00"},{"v":0.0223048327137546,"d":"2.23%"},260,{"v":0,"d":"0.00%"},257,{"$f":"(HY14-IZ14)/IZ14","v":{"v":0.0239043824701195,"d":"2.39%"}},266,{"v":0.0230769230769231,"d":"2.31%"},236,{"v":0.019746791686471,"d":"1.97%"},283,{"$f":"(IE14-JF14)/JF14","v":{"v":0.0216606498194946,"d":"2.17%"}},{"$f":"HH14+HJ14+HL14+HN14+HP14+HS14+HU14+HW14+HY14+IA14+IC14+IE14","v":3393},null,null,292,{"$f":"IJ14/JI14-1","v":{"v":0.0465587417840641,"d":"4.66%"}},395,{"$f":"IL14/JJ14-1","v":{"v":0.0329085535729885,"d":"3.29%"}},321,{"$f":"(IN14-JK14)/JK14","v":{"v":0.0449184595321107,"d":"4.49%"}},{"v":253,"d":"253.00"},{"$f":"(IP14-JL14)/JL14","v":{"v":0.0497172411560072,"d":"4.97%"}},{"v":249,"d":"249.00"},{"$f":"(IR14-JM14)/JM14","v":{"v":0.0405464978389961,"d":"4.05%"}},{"v":268,"d":"268.00"},{"$f":"(IT14-JN14)/JN14","v":{"v":0.0410383760647186,"d":"4.10%"}},{"v":269,"d":"269.00"},{"$f":"(IV14-JO14)/JO14","v":{"v":0.0501888947273727,"d":"5.02%"}},260,{"$f":"(IX14-JP14)/JP14","v":{"v":0.0529616438056871,"d":"5.30%"}},251,{"$f":"(IZ14-JQ14)/JQ14","v":{"v":0.0123239712050013,"d":"1.23%"}},260,{"$f":"(JB14-JR14)/JR14","v":{"v":0.0226536341686447,"d":"2.27%"}},231.43,{"$f":"(JD14-JS14)/JS14","v":{"v":0.0100211867977085,"d":"1.00%"}},277,{"$f":"(JF14-JT14)/JT14","v":{"v":0.0118812724316012,"d":"1.19%"}},{"v":3214.50900115643,"d":"3215"},{"v":279.009661227643,"d":"279"},{"v":382.415266708398,"d":"382"},{"v":307.201004127859,"d":"307"},{"v":241.017285494313,"d":"241"},{"v":239.297331274597,"d":"239"},{"v":257.435274396973,"d":"257"},{"v":256.144395880164,"d":"256"},{"v":246.922574558642,"d":"247"},{"v":247.944341080086,"d":"248"},{"v":254.240528085899,"d":"254"},{"v":229.133807315224,"d":"229"},{"v":273.747531006632,"d":"274"}]
[null,"旅客周转量        （万人公里）",4442.6528,{"$f":"C15/R15-1","v":{"v":-0.16493417849426,"d":"-16.49%"}},6222.1126,{"v":-0.0774537543883538,"d":"-7.75%"},5800.6944,{"v":0.119223040392092,"d":"11.92%"},6318.1348,{"$f":"I15/X15-1","v":{"v":0.00475011802938075,"d":"0.48%"}},6328.6093,{"v":0.0475888111865888,"d":"4.76%"},5538.8125,{"v":-0.125731762741486,"d":"-12.57%"},{"v":34651.0164,"d":"34651.02"},{"v":-0.0351175392297171,"d":"-3.51%"},null,{"v":5320.1229,"d":"5320.12"},{"$f":"R15/AS15-1","v":{"v":-0.0166716694496187,"d":"-1.67%"}},{"v":6744.4994,"d":"6744.50"},{"v":-0.013559120692855,"d":"-1.36%"},5182.7868,{"v":-0.1095356725612,"d":"-10.95%"},6288.2648,{"$f":"X15/AY15-1","v":{"v":-0.0262724567878209,"d":"-2.63%"}},6041.1196,{"v":-0.0204254836559501,"d":"-2.04%"},6335.3697,{"v":0.125103337863379,"d":"12.51%"},5145.913,{"$f":"AD15/BE15-1","v":{"v":-0.161088227491939,"d":"-16.11%"}},6061.8412,{"v":-0.045287956853571,"d":"-4.53%"},5254.1807,{"v":-0.0739933037249321,"d":"-7.40%"},5743.0441,{"$f":"AJ15/BK15-1","v":{"v":-0.190949885301862,"d":"-19.09%"}},4862.8408,{"v":-0.0547961713851564,"d":"-5.48%"},4174.5837,{"v":-0.108854567533092,"d":"-10.89%"},{"v":67154.5667,"d":"67154.57"},{"v":-0.0595784170180674,"d":"-5.96%"},null,{"v":5410.322,"d":"5410.32"},{"v":0.0796637460673444,"d":"7.97%"},6837.2059,{"$f":"AU15/BV15-1","v":{"v":0.176817645282042,"d":"17.68%"}},5820.3194,{"v":0.0299882495761707,"d":"3.00%"},{"v":6457.9305,"d":"6457.93"},{"v":0.0715072891652324,"d":"7.15%"},{"v":6167.0853,"d":"6167.09"},{"$f":"BA15/CB15-1","v":{"v":0.0229840960602452,"d":"2.30%"}},{"v":5630.9225,"d":"5630.92"},{"v":-0.0673755802938237,"d":"-6.74%"},{"v":6134.0336,"d":"6134.03"},{"v":-0.0887504512212972,"d":"-8.88%"},{"v":6349.3922,"d":"6349.39"},{"$f":"BG15/CH15-1","v":{"v":-0.0760057039917027,"d":"-7.60%"}},{"v":5674.0202,"d":"5674.02"},{"v":-0.0149214220338169,"d":"-1.49%"},{"v":7098.5023,"d":"7098.50"},{"v":0.106494888294557,"d":"10.65%"},{"v":5144.7536,"d":"5144.75"},{"$f":"BM15/CN15-1","v":{"v":-0.0422888000000149,"d":"-4.23%"}},{"v":4684.5145,"d":"4684.51"},{"v":-0.0596121354204117,"d":"-5.96%"},{"v":71409.002,"d":"71409.00"},{"v":0.01007273717333,"d":"1.01%"},null,{"v":5011.1176,"d":"5011.12"},{"v":0.0234220289168856,"d":"2.34%"},{"v":5809.9111,"d":"5809.91"},{"v":-0.0641076723710097,"d":"-6.41%"},5650.86,{"v":0.176979387416518,"d":"17.70%"},{"v":6026.959,"d":"6026.9590"},{"v":0.388531239124308,"d":"38.85%"},6028.5251,{"v":0.393568280932209,"d":"39.36%"},6037.7172,{"v":0.277350274863197,"d":"27.74%"},6731.4531,{"v":0.208087467470114,"d":"20.81%"},{"v":6871.679,"d":"6871.68"},{"v":0.63737369479649,"d":"63.74%"},{"v":5759.9671,"d":"5759.97"},{"v":0.43669907622216,"d":"43.67%"},{"$f":"6415.3051+CL17","v":{"v":6415.3051,"d":"6415.31"}},{"v":1.31299891159017,"d":"131.30%"},{"v":5371.9259,"d":"5371.93"},{"v":1.26818551902328,"d":"126.82%"},{"v":4981.4706,"d":"4981.47"},{"v":0.82391485579088,"d":"82.39%"},70696.8908,{"v":0.38757915969586,"d":"38.76%"},{"v":-0.0726844165888439,"d":"-7.27%"},null,{"v":4896.4332,"d":"4896.43"},{"v":6207.8841,"d":"6207.88"},{"v":4801.1546,"d":"4801.15"},{"v":4340.5282,"d":"4340.53"},{"v":4325.9632,"d":"4325.96"},{"v":4726.7514,"d":"4726.75"},{"v":5571.9915,"d":"5571.99"},{"v":4196.7689,"d":"4196.77"},{"v":4009.1674,"d":"4009.17"},{"v":2773.5876,"d":"2773.59"},{"v":2368.3803,"d":"2368.38"},{"v":2731.1969,"d":"2731.20"},{"v":50949.8073,"d":"50949.81"},{"v":-0.323352265163024,"d":"-32.34%"},null,{"v":5392.7653,"d":"5,392.77"},{"v":-0.39476945823718,"d":"-39.48%"},5654.4842,null,7178.2246,{"v":7.83106424650422,"d":"783.11%"},{"v":18225.4741,"d":"18225.47"},7298.0344,{"$f":"(DR15-ER15)/ER15","v":{"v":3.72911978393118,"d":"372.91%"}},8910.2663,{"v":5.18768493055556,"d":"518.77%"},6669.3579,{"v":5.84036707692308,"d":"584.04%"},7174.8116,{"$f":"(DX15-EX15)/EX15","v":{"v":2.67939056410256,"d":"267.94%"}},4355.0407,{"v":0.0956077232704401,"d":"9.56%"},6233.7504,{"v":-0.268884325233962,"d":"-26.89%"},6550.7219,{"$f":"(ED15-FD15)/FD15","v":{"v":-0.358206064435202,"d":"-35.82%"}},5049.7519,{"v":-0.577295389804739,"d":"-57.73%"},4830.1792,{"v":-0.165454786683039,"d":"-16.55%"},75297.3884,{"v":0.0918775686232203,"d":"9.19%"},{"v":21798,"d":"21798.0000"},{"v":-0.0217654714356236,"d":"-2.18%"},{"v":0,"d":"0.0000"},{"v":-1,"d":"-100.00%"},{"v":812.838,"d":"812.8380"},{"v":-0.969222340022719,"d":"-96.92%"},{"v":1543.212,"d":"1543.2120"},{"v":-0.928316053511706,"d":"-92.83%"},{"v":1440,"d":"1440.0000"},{"v":-0.942446043165468,"d":"-94.24%"},{"v":975,"d":"975.0000"},{"v":-0.958141931052247,"d":"-95.81%"},{"v":1950,"d":"1950.0000"},{"v":-0.920615534929165,"d":"-92.06%"},{"v":3975,"d":"3975.0000"},{"v":-0.830519314402661,"d":"-83.05%"},8526.3531,{"v":-0.670275219459376,"d":"-67.03%"},10206.8928,{"$f":"(FD15-FU15)/FU15","v":{"v":-0.552191778177511,"d":"-55.22%"}},11946.2901,{"v":-0.391891570374141,"d":"-39.19%"},5787.7981,{"v":-0.835105467236467,"d":"-83.51%"},68961.3841,{"v":-0.768924043681057,"d":"-76.89%"},22283,28487,26410,21528,25020,23293,24564,"23,454.0000","25,859.0000","22,793.0000",{"$f":"(FU15-GW15)/GW15","v":{"v":-0.0205405869966912,"d":"-2.05%"}},"19,645.0000",{"v":-0.0209319710939447,"d":"-2.09%"},"35,100.0000",{"v":-0.0185935970921292,"d":"-1.86%"},{"v":298436,"d":"298436.00"},{"v":-0.0199628918115692,"d":"-2.00%"},null,null,22731,{"$f":"(GE15-HH15)/HH15","v":{"v":0.0207463289775024,"d":"2.07%"}},29093,{"v":-0.0305241760805092,"d":"-3.05%"},26898,{"v":-0.0158428158501335,"d":"-1.58%"},21963,{"v":-0.0158182469976698,"d":"-1.58%"},25496,{"v":-0.0141901558210571,"d":"-1.42%"},{"v":23696,"d":"23,696.00"},{"$f":"(GO15-HS15)/HS15","v":{"v":-0.0125020836806134,"d":"-1.25%"}},25063,{"v":-0.0125290571687483,"d":"-1.25%"},24031,{"v":0.00704018773833969,"d":"0.70%"},26443,{"$f":"(GU15-HY15)/HY15","v":{"v":-0.0131736080011942,"d":"-1.32%"}},23271,{"v":-0.0120988283239939,"d":"-1.21%"},20065,{"v":-0.0113815530153725,"d":"-1.14%"},35765,{"v":-0.01012980543024,"d":"-1.01%"},304515,304515,{"$nulls":3},22269,{"$f":"(HH15-IJ15)/IJ15","v":{"v":0.0340360326894502,"d":"3.40%"}},{"v":30009,"d":"30009.00"},{"v":0.0360435007767996,"d":"3.60%"},{"v":27331,"d":"27331.00"},{"v":0.0308139096326469,"d":"3.08%"},{"v":22316,"d":"22316.00"},{"v":0.0347289840960727,"d":"3.47%"},{"v":25863,"d":"25863.00"},{"v":0,"d":"0.00%"},null,{"v":23996,"d":"23996.00"},{"$f":"(HS15-IT15)/IT15","v":{"v":0.02389486260454,"d":"2.39%"}},{"v":25381,"d":"25381.00"},{"v":0.0301148585575713,"d":"3.01%"},{"v":23863,"d":"23,863.00"},{"v":0,"d":"0.00%"},{"v":26796,"d":"26,796.00"},{"$f":"(HY15-IZ15)/IZ15","v":{"v":0.0306153846153846,"d":"3.06%"}},{"v":23556,"d":"23,556.00"},{"v":0.0354285714285714,"d":"3.54%"},{"v":20296,"d":"20,296.00"},{"v":0.0323520495463877,"d":"3.24%"},{"v":36131,"d":"36,131.00"},{"v":0.0320194230219937,"d":"3.20%"},307807,null,null,21536,{"v":0.0508837273622147,"d":"5.09%"},28965,{"v":0.0417903356792124,"d":"4.18%"},26514,{"v":0.051955888157175,"d":"5.20%"},{"v":21567,"d":"21567.00"},{"v":0.0534695049351196,"d":"5.35%"},{"v":25863,"d":"25863.00"},{"v":0.0506826535516364,"d":"5.07%"},{"v":23436,"d":"23436.00"},{"v":0.053391532905643,"d":"5.34%"},{"v":24639,"d":"24639.00"},{"v":0.0471713302968887,"d":"4.72%"},{"v":23863,"d":"23,863.00"},{"v":0.0433247637641838,"d":"4.33%"},{"v":26000,"d":"26,000.00"},{"v":0.0246970606107421,"d":"2.47%"},{"v":22750,"d":"22,750.00"},{"v":0.0387472805373244,"d":"3.87%"},19659.96,{"v":0.0199997456388545,"d":"2.00%"},{"v":35010,"d":"35,010.00"},{"v":0.0227897985137899,"d":"2.28%"},{"v":288017.012762623,"d":"288017"},{"v":20493.2281652669,"d":"20493"},{"v":27803.0991534547,"d":"27803"},{"v":25204.4789125592,"d":"25204"},{"v":20472.3533989038,"d":"20472"},{"v":24615.4249454628,"d":"24615"},{"v":22248.1378176212,"d":"22248"},{"v":23529.1010049086,"d":"23529"},{"v":22872.0728471021,"d":"22872"},{"v":25373.3527687719,"d":"25373"},{"v":21901.3810445134,"d":"21901"},{"v":19274.475394782,"d":"19274"},{"v":34229.9073092759,"d":"34230"}]
[null,"其中个体客运量     （万人）",{"$nulls":12},{"v":0,"d":"0.00"},{"$error":"#DIV/0!"},{"$nulls":25},{"v":0,"d":"0.00"},{"$error":"#DIV/0!"},{"$nulls":25},{"v":0,"d":"0.00"},{"$f":"BQ16/CR16-1","v":{"$error":"#DIV/0!"}},null,{"v":0,"d":"0.00"},{"v":-1,"d":"-100.00%"},{"v":0,"d":"0.00"},{"v":-1,"d":"-100.00%"},{"v":0,"d":"0.00"},{"v":-1,"d":"-100.00%"},{"v":0,"d":"0.0000"},{"v":-1,"d":"-100.00%"},{"v":0,"d":"0.0000"},{"v":-1,"d":"-100.00%"},{"v":0,"d":"0.0000"},{"$error":"#DIV/0!"},{"v":0,"d":"0.00"},{"$error":"#DIV/0!"},{"v":0,"d":"0.00"},{"$error":"#DIV/0!"},{"v":0,"d":"0.00"},{"$error":"#DIV/0!"},{"v":0,"d":"0.00"},{"$error":"#DIV/0!"},null,{"$error":"#DIV/0!"},null,{"$error":"#DIV/0!"},{"v":0,"d":"0.0000"},{"v":-1,"d":"-100.00%"},{"$error":"#DIV/0!"},null,{"v":0.7055,"d":"0.71"},{"v":0.7614,"d":"0.76"},{"v":0.7332,"d":"0.73"},{"v":3.3697,"d":"3.37"},{"v":3.3036,"d":"3.30"},{"v":0,"d":"0.00"},{"v":0,"d":"0.00"},{"v":0,"d":"0.00"},{"v":0,"d":"0.00"},{"v":0,"d":"0.00"},{"v":0,"d":"0.00"},{"v":0,"d":"0.00"},{"v":8.8734,"d":"8.87"},{"v":-0.569976786674873,"d":"-57.00%"},null,{"v":2.5287,"d":"2.53"},null,5.6719,null,2.7322,{"$error":"#DIV/0!"},{"v":10.9328,"d":"10.93"},2.7331,{"$f":"(DR16-ER16)/ER16","v":{"$error":"#DIV/0!"}},2.7296,{"$error":"#DIV/0!"},0.5744,{"$error":"#DIV/0!"},0.5941,{"$f":"(DX16-EX16)/EX16","v":{"$error":"#DIV/0!"}},0.6231,{"$error":"#DIV/0!"},0.5341,{"$error":"#DIV/0!"},0.6231,{"$f":"(ED16-FD16)/FD16","v":{"$error":"#DIV/0!"}},0.6583,{"$error":"#DIV/0!"},0.6321,{"$error":"#DIV/0!"},20.6347,{"$error":"#DIV/0!"},{"$nulls":24},{"v":0,"d":"0.0000"}]
[null,"其中个体旅客周转量（万人公里）",{"$nulls":12},{"v":0,"d":"0.00"},{"$error":"#DIV/0!"},{"$nulls":25},{"v":0,"d":"0.00"},{"$error":"#DIV/0!"},{"$nulls":25},{"v":0,"d":"0.00"},{"$error":"#DIV/0!"},null,{"v":0,"d":"0.00"},{"v":-1,"d":"-100.00%"},{"v":0,"d":"0.00"},{"v":-1,"d":"-100.00%"},{"v":0,"d":"0.00"},{"v":-1,"d":"-100.00%"},{"v":0,"d":"0.00"},{"v":-1,"d":"-100.00%"},{"v":0,"d":"0.00"},{"v":-1,"d":"-100.00%"},{"v":0,"d":"0.00"},{"$error":"#DIV/0!"},0,{"$error":"#DIV/0!"},{"v":0,"d":"0.00"},{"$error":"#DIV/0!"},{"v":0,"d":"0.00"},{"$error":"#DIV/0!"},{"v":0,"d":"0.00"},{"$error":"#DIV/0!"},null,{"$error":"#DIV/0!"},null,{"$error":"#DIV/0!"},{"v":0,"d":"0.0000"},{"v":-1,"d":"-100.00%"},{"$error":"#DIV/0!"},null,{"v":49.0306,"d":"49.03"},{"v":50.5894,"d":"50.59"},{"v":47.2015,"d":"47.20"},{"v":105.1155,"d":"105.12"},{"v":106.6182,"d":"106.62"},{"v":0,"d":"0.00"},{"v":0,"d":"0.00"},{"v":0,"d":"0.00"},{"v":0,"d":"0.00"},{"v":0,"d":"0.00"},{"v":0,"d":"0.00"},{"v":0,"d":"0.00"},{"v":358.5552,"d":"358.56"},{"v":-0.634664762528917,"d":"-63.47%"},null,{"v":250.7314,"d":"250.73"},null,{"v":198.547,"d":"198.5470"},null,89.9426,{"$error":"#DIV/0!"},{"v":539.221,"d":"539.22"},86.0926,{"$f":"(DR17-ER17)/ER17","v":{"$error":"#DIV/0!"}},86.0753,{"$error":"#DIV/0!"},34.4831,{"$error":"#DIV/0!"},36.0915,{"$f":"(DX17-EX17)/EX17","v":{"$error":"#DIV/0!"}},40.4664,{"$error":"#DIV/0!"},34.6839,{"$error":"#DIV/0!"},40.4664,{"$f":"(ED17-FD17)/FD17","v":{"$error":"#DIV/0!"}},42.7766,{"$error":"#DIV/0!"},41.0848,{"$error":"#DIV/0!"},981.4416,{"$error":"#DIV/0!"},{"$nulls":24},{"v":0,"d":"0.0000"}]
["宜昌市","客运量            （万人）",178.5701,{"$f":"C18/R18-1","v":{"v":-0.280402929000628,"d":"-28.04%"}},215.5515,{"v":-0.144885295223768,"d":"-14.49%"},211.3526,{"v":-0.107595583423058,"d":"-10.76%"},243.5999,{"$f":"I18/X18-1","v":{"v":-0.0672002824439057,"d":"-6.72%"}},277.3764,{"v":0.0502417200288368,"d":"5.02%"},250.6952,{"v":0.0911252863877883,"d":"9.11%"},{"v":1377.1457,"d":"1377.15"},{"v":-0.0770270466803999,"d":"-7.70%"},null,{"v":248.1529,"d":"248.15"},{"$f":"R18/AS18-1","v":{"v":0.222662372247687,"d":"22.27%"}},{"v":252.0732,"d":"252.07"},{"v":0.191134859685367,"d":"19.11%"},236.835,{"v":0.0597483559100653,"d":"5.97%"},261.1492,{"$f":"X18/AY18-1","v":{"v":-0.0425839716737435,"d":"-4.26%"}},264.1072,{"v":-0.0766208952092929,"d":"-7.66%"},229.7584,{"v":-0.158123381805577,"d":"-15.81%"},250.0405,{"$f":"AD18/BE18-1","v":{"v":-0.127215031251113,"d":"-12.72%"}},270.8413,{"v":-0.121594264379268,"d":"-12.16%"},233.6322,{"v":-0.167069408208797,"d":"-16.71%"},265.9381,{"$f":"AJ18/BK18-1","v":{"v":-0.136215450726024,"d":"-13.62%"}},236.3336,{"v":-0.137549821951072,"d":"-13.75%"},200.5632,{"v":-0.142563257181602,"d":"-14.26%"},{"v":2949.4248,"d":"2949.42"},{"v":-0.0669009381340973,"d":"-6.69%"},null,{"v":202.9611,"d":"202.96"},{"v":0.106148475756808,"d":"10.61%"},211.6244,{"$f":"AU18/BV18-1","v":{"v":0.0678678963560939,"d":"6.79%"}},223.4823,{"v":-0.0577471754419768,"d":"-5.77%"},{"v":272.7646,"d":"272.76"},{"v":0.0553018195099095,"d":"5.53%"},{"v":286.0225,"d":"286.02"},{"$f":"BA18/CB18-1","v":{"v":0.0822657835668976,"d":"8.23%"}},{"v":272.9122,"d":"272.91"},{"v":0.08732516023285,"d":"8.73%"},{"v":286.4858,"d":"286.49"},{"v":0.0341476973280486,"d":"3.41%"},{"v":308.3328,"d":"308.33"},{"$f":"BG18/CH18-1","v":{"v":0.0961642244085503,"d":"9.62%"}},{"v":280.4942,"d":"280.49"},{"v":0.130419222924489,"d":"13.04%"},{"v":307.8755,"d":"307.88"},{"v":0.1776391409703,"d":"17.76%"},{"v":274.0258,"d":"274.03"},{"$f":"BM18/CN18-1","v":{"v":0.18959385706422,"d":"18.96%"}},{"v":233.9102,"d":"233.91"},{"$f":"BO18/CP18-1","v":{"v":0.165472429233896,"d":"16.55%"}},{"v":3160.8914,"d":"3160.89"},{"v":0.093161746116998,"d":"9.32%"},null,{"v":183.4845,"d":"183.48"},{"v":-0.0911263654069819,"d":"-9.11%"},{"v":198.1747,"d":"198.17"},{"v":-0.0772310043401755,"d":"-7.72%"},{"v":237.1787,"d":"237.18"},{"v":0.173099094723399,"d":"17.31%"},258.4707,{"v":0.352412092405594,"d":"35.24%"},264.2812,{"v":0.349889340019073,"d":"34.99%"},250.9941,{"v":0.158955124295087,"d":"15.90%"},277.026,{"v":0.0892859319539365,"d":"8.93%"},{"v":281.2834,"d":"281.28"},{"v":0.0835537421213328,"d":"8.36%"},{"$f":"244.9769+CJ20","v":{"v":248.1329,"d":"248.13"}},{"v":0.03191140295975,"d":"3.19%"},{"$f":"257.9596+CL20","v":{"v":261.4345,"d":"261.43"}},{"v":0.294257108316114,"d":"29.43%"},{"v":230.3524,"d":"230.35"},{"v":0.399263776849062,"d":"39.93%"},{"v":200.6999,"d":"200.70"},{"v":0.403339768515249,"d":"40.33%"},{"v":2891.513,"d":"2891.5130"},{"v":0.162979069608057,"d":"16.30%"},{"v":-0.128726681380354,"d":"-12.87%"},null,{"v":201.8812,"d":"201.88"},{"v":214.7609,"d":"214.76"},{"v":202.1813,"d":"202.18"},{"v":191.1183,"d":"191.12"},{"v":195.7799,"d":"195.78"},{"v":216.5693,"d":"216.57"},{"v":254.3189,"d":"254.32"},{"v":259.5934,"d":"259.59"},{"v":240.4595,"d":"240.46"},{"v":201.9958,"d":"202.00"},{"v":164.624,"d":"164.62"},{"v":143.0159,"d":"143.02"},{"v":2486.2984,"d":"2486.30"},{"v":-0.0693561615900887,"d":"-6.94%"},null,211.98,{"v":-0.233666057277298,"d":"-23.37%"},{"v":211.75,"d":"211.7500"},null,219.8359,{"v":5.07281491712707,"d":"507.28%"},{"v":643.5659,"d":"643.57"},{"v":259.14,"d":"259.1400"},{"$f":"(DR18-ER18)/ER18","v":{"v":0.919555555555555,"d":"91.96%"}},276.6157,{"v":0.49522,"d":"49.52%"},249.8223,{"v":0.784445,"d":"78.44%"},248.9417,{"$f":"(DX18-EX18)/EX18","v":{"v":-0.1109225,"d":"-11.09%"}},159.1078,{"v":-0.39959320754717,"d":"-39.96%"},196.6046,{"v":-0.494056460536813,"d":"-49.41%"},236.2855,{"$f":"(ED18-FD18)/FD18","v":{"v":-0.364823924731183,"d":"-36.48%"}},204.8715,{"v":-0.404443313953488,"d":"-40.44%"},196.6346,{"v":-0.2134616,"d":"-21.35%"},2671.5896,{"v":-0.151550405076236,"d":"-15.16%"},{"v":753,"d":"753.0000"},{"v":-0.0528301886792453,"d":"-5.28%"},{"v":0,"d":"0.0000"},{"v":-1,"d":"-100.00%"},{"v":36.2,"d":"36.2000"},{"v":-0.956956004756243,"d":"-95.70%"},{"v":135,"d":"135.0000"},{"v":-0.8125,"d":"-81.25%"},{"v":185,"d":"185.0000"},{"v":-0.758169934640523,"d":"-75.82%"},{"v":140,"d":"140.0000"},{"v":-0.80309423347398,"d":"-80.31%"},{"v":280,"d":"280.0000"},{"v":-0.627163781624501,"d":"-62.72%"},{"v":265,"d":"265.0000"},{"v":-0.652230971128609,"d":"-65.22%"},{"v":388.59,"d":"388.5900"},{"v":-0.466222527472528,"d":"-46.62%"},{"v":372,"d":"372.0000"},{"$f":"(FD18-FU18)/FU18","v":{"v":-0.588039867109635,"d":"-58.80%"}},{"v":344,"d":"344.0000"},{"v":-0.512747875354108,"d":"-51.27%"},{"v":250,"d":"250.0000"},{"v":-0.643874643874644,"d":"-64.39%"},{"v":3148.79,"d":"3148.7900"},{"v":-0.667940227363803,"d":"-66.79%"},795,{"v":1098.6,"d":"1099"},841,720,765,711,"751.0000","762.0000","728.0000","903.0000",{"$f":"(FU18-GW18)/GW18","v":{"v":-0.0661840744570838,"d":"-6.62%"}},"706.0000",{"v":-0.0491582491582492,"d":"-4.92%"},"702.0000",{"v":-0.046195652173913,"d":"-4.62%"},{"v":9482.6,"d":"9482.60"},{"v":-0.10249396621078,"d":"-10.25%"},null,null,854,{"$f":"(GE18-HH18)/HH18","v":{"v":-0.0573951434878587,"d":"-5.74%"}},1185,{"v":-0.0481927710843374,"d":"-4.82%"},954,{"v":-0.0488534396809571,"d":"-4.89%"},804,{"v":-0.046828689982217,"d":"-4.68%"},897,{"v":-0.0452368281000532,"d":"-4.52%"},880,{"$f":"(GO18-HS18)/HS18","v":{"v":0,"d":"0.00%"}},862,{"v":-0.0325476992143659,"d":"-3.25%"},858,{"v":-0.0305084745762712,"d":"-3.05%"},826,{"$f":"(GU18-HY18)/HY18","v":{"v":-0.0154946364719905,"d":"-1.55%"}},967,{"v":-0.0463510848126233,"d":"-4.64%"},{"v":742.5,"d":"743"},{"v":-0.0456298200514139,"d":"-4.56%"},736,{"v":-0.0958230958230958,"d":"-9.58%"},{"v":10565.5,"d":"10566"},{"v":10565.5,"d":"10566"},{"$nulls":3},906,{"$f":"(HH18-IJ18)/IJ18","v":{"v":0.0214205186020293,"d":"2.14%"}},{"v":1245,"d":"1245.00"},{"v":0.0196560196560197,"d":"1.97%"},{"v":1003,"d":"1003.00"},{"v":0.0136432541687721,"d":"1.36%"},{"v":843.5,"d":"843.50"},{"v":0.0101796407185629,"d":"1.02%"},{"v":939.5,"d":"939.50"},{"v":0.011302475780409,"d":"1.13%"},null,{"v":880,"d":"880.00"},{"$f":"(HS18-IT18)/IT18","v":{"v":0.0109132682366456,"d":"1.09%"}},{"v":891,"d":"891.00"},{"v":0.0113507377979569,"d":"1.14%"},{"v":885,"d":"885.00"},{"v":0.0102739726027397,"d":"1.03%"},{"v":839,"d":"839.00"},{"$f":"(HY18-IZ18)/IZ18","v":{"v":0.00962695547533093,"d":"0.96%"}},{"v":1014,"d":"1014.00"},{"v":0.0109670987038883,"d":"1.10%"},{"v":778,"d":"778.00"},{"v":0.0103896103896104,"d":"1.04%"},{"v":814,"d":"814.00"},{"v":0.00992555831265509,"d":"0.99%"},11038,null,null,887,{"v":0.0386880912222558,"d":"3.87%"},1221,{"v":0.036309283683996,"d":"3.63%"},{"v":989.5,"d":"990"},{"v":0.0345873151962527,"d":"3.46%"},{"v":835,"d":"835.00"},{"v":0.0207523053125575,"d":"2.08%"},{"v":929,"d":"929.00"},{"v":0.022002200220022,"d":"2.20%"},{"v":870.5,"d":"870.50"},{"v":0.0209634187685035,"d":"2.10%"},{"v":881,"d":"881.00"},{"v":0.0151640855457227,"d":"1.52%"},876,{"v":0.020979020979021,"d":"2.10%"},831,{"v":0.0209745744544341,"d":"2.10%"},{"v":1003,"d":"1,003.00"},{"v":0.00804020100502513,"d":"0.80%"},{"v":770,"d":"770.00"},{"v":-0.0368980612883052,"d":"-3.69%"},806,{"v":-0.0927816485260515,"d":"-9.28%"},{"v":10790.9498926917,"d":"10791"},{"v":853.961846194116,"d":"854"},{"v":1178.21968713765,"d":"1178"},{"v":956.42,"d":"956"},{"v":818.024113836628,"d":"818"},909,{"v":852.626043203395,"d":"853"},{"v":867.84,"d":"868"},858,{"v":813.928202319878,"d":"814"},995,{"v":799.5,"d":"800"},{"v":888.43,"d":"888"}]
[null,"旅客周转量        （万人公里）",12032.7491,{"$f":"C19/R19-1","v":{"v":-0.234380455005864,"d":"-23.44%"}},14351.0886,{"v":-0.104303956130376,"d":"-10.43%"},14986.0133,{"v":-0.0984382547192663,"d":"-9.84%"},17342.3056,{"$f":"I19/X19-1","v":{"v":-0.0675679981340935,"d":"-6.76%"}},19384.3163,{"v":0.0848847032185804,"d":"8.49%"},18766.1584,{"v":0.141169836004102,"d":"14.12%"},{"v":96862.6313,"d":"96862.63"},{"v":-0.0435418537040315,"d":"-4.35%"},null,{"v":15716.3557,"d":"15716.36"},{"$f":"R19/AS19-1","v":{"v":0.204049567720287,"d":"20.40%"}},{"v":16022.2753,"d":"16022.28"},{"v":0.0856026479088883,"d":"8.56%"},16622.2817,{"v":0.0497034495921773,"d":"4.97%"},18599.003,{"$f":"X19/AY19-1","v":{"v":-0.0348345532640676,"d":"-3.48%"}},17867.628,{"v":-0.0511938617188323,"d":"-5.12%"},16444.6674,{"v":-0.0570810741644616,"d":"-5.71%"},17393.9704,{"$f":"AD19/BE19-1","v":{"v":-0.0793936033571653,"d":"-7.94%"}},18710.6664,{"v":-0.0599832607620372,"d":"-6.00%"},17273.6802,{"v":-0.0736724800899176,"d":"-7.37%"},18570.5124,{"$f":"AJ19/BK19-1","v":{"v":-0.0754711137526032,"d":"-7.55%"}},17276.7181,{"v":-0.0874487270473198,"d":"-8.74%"},13873.2427,{"v":0.0351159459548955,"d":"3.51%"},{"v":204371.0013,"d":"204371.00"},{"v":-0.0224133634566943,"d":"-2.24%"},null,{"v":13052.9142,"d":"13052.91"},{"v":0.397211805000572,"d":"39.72%"},14758.8764,{"$f":"AU19/BV19-1","v":{"v":0.185780614255249,"d":"18.58%"}},15835.2168,{"v":0.135372206372838,"d":"13.54%"},{"v":19270.2744,"d":"19270.27"},{"v":0.280112313475445,"d":"28.01%"},{"v":18831.6952,"d":"18831.70"},{"$f":"BA19/CB19-1","v":{"v":0.171482968099421,"d":"17.15%"}},{"v":17440.1711,"d":"17440.17"},{"v":0.152351977859624,"d":"15.24%"},{"v":18894.036,"d":"18894.04"},{"v":0.0718481099610817,"d":"7.18%"},{"v":19904.6098,"d":"19904.61"},{"$f":"BG19/CH19-1","v":{"v":0.124441851684099,"d":"12.44%"}},{"v":18647.4868,"d":"18647.49"},{"v":0.15886510996331,"d":"15.89%"},{"v":20086.4599,"d":"20086.46"},{"v":0.199204035948599,"d":"19.92%"},{"v":18932.3259,"d":"18932.33"},{"v":0.216255178792472,"d":"21.63%"},{"v":13402.5978,"d":"13402.60"},{"v":0.0389059755365995,"d":"3.89%"},{"v":209056.6643,"d":"209056.66"},{"v":0.170294386081084,"d":"17.03%"},null,{"v":9342.1156,"d":"9342.12"},{"v":-0.237386454986966,"d":"-23.74%"},{"v":12446.5489,"d":"12446.55"},{"v":-0.159395141846422,"d":"-15.94%"},{"v":13947.1591,"d":"13947.16"},{"v":0.24119077632149,"d":"24.12%"},{"v":15053.581,"d":"15053.5810"},{"v":0.505848554874323,"d":"50.58%"},16075.0909,{"v":0.529243799258257,"d":"52.92%"},15134.4133,{"v":0.192183875012001,"d":"19.22%"},17627.5312,{"v":0.0897030057500983,"d":"8.97%"},{"v":17701.7689,"d":"17701.77"},{"v":0.154442057821463,"d":"15.44%"},{"$f":"16047.9452+CJ21","v":{"v":16091.1625,"d":"16091.16"}},{"v":0.284294347362939,"d":"28.43%"},{"$f":"16715.5265+CL21","v":{"v":16749.8268,"d":"16749.83"}},{"v":0.609016804389843,"d":"60.90%"},{"v":15566.0804,"d":"15566.08"},{"v":1.04482620525173,"d":"104.48%"},{"v":12900.6841,"d":"12900.68"},{"v":0.98884994221464,"d":"98.88%"},178635.9627,{"v":0.275560290506568,"d":"27.56%"},{"v":-0.171231050560422,"d":"-17.12%"},null,{"v":12250.1307,"d":"12250.13"},{"v":14806.6583,"d":"14806.66"},{"v":11236.9181,"d":"11236.92"},{"v":9996.743,"d":"9996.74"},{"v":10511.7908,"d":"10511.79"},{"v":12694.6972,"d":"12694.70"},{"v":16176.4546,"d":"16176.45"},{"v":15333.614,"d":"15333.61"},{"v":12529.1858,"d":"12529.19"},{"v":10409.9763,"d":"10409.98"},{"v":7612.4222,"d":"7612.42"},{"v":6486.5045,"d":"6486.50"},{"v":140045.0955,"d":"140045.10"},{"v":-0.188667829438015,"d":"-18.87%"},null,{"v":13248.4,"d":"13,248.40"},{"v":-0.285148671745109,"d":"-28.51%"},{"v":12525.49,"d":"12525.4900"},null,15217.2374,{"v":1.7388836213103,"d":"173.89%"},{"v":40991.1274,"d":"40991.13"},{"v":19166.71,"d":"19166.7100"},{"$f":"(DR19-ER19)/ER19","v":{"v":1.47888127263321,"d":"147.89%"}},18533.0844,{"v":1.00466029204976,"d":"100.47%"},18196.1231,{"v":0.997379045005489,"d":"99.74%"},16168.4584,{"$f":"(DX19-EX19)/EX19","v":{"v":0.179748879970814,"d":"17.97%"}},9015.3316,{"v":-0.397974517529215,"d":"-39.80%"},11638.7635,{"v":-0.372493900844582,"d":"-37.25%"},14994.4387,{"$f":"(ED19-FD19)/FD19","v":{"v":-0.0879295194647202,"d":"-8.79%"}},{"v":12488.986,"d":"12488.9860"},{"v":-0.374017041752293,"d":"-37.40%"},11418.2705,{"v":-0.113075151468075,"d":"-11.31%"},172611.2936,{"v":0.0657935897883156,"d":"6.58%"},{"v":33820,"d":"33820.0000"},{"v":-0.0515984296130118,"d":"-5.16%"},{"v":0,"d":"0.0000"},{"v":-1,"d":"-100.00%"},{"v":5556,"d":"5556.0000"},{"v":-0.85650826446281,"d":"-85.65%"},{"v":7732,"d":"7732.0000"},{"v":-0.789634063392736,"d":"-78.96%"},{"v":9245,"d":"9245.0000"},{"v":-0.757476390346275,"d":"-75.75%"},{"v":9110,"d":"9110.0000"},{"v":-0.745424060360486,"d":"-74.54%"},{"v":13705,"d":"13705.0000"},{"v":-0.634240725914065,"d":"-63.42%"},{"v":14975,"d":"14975.0000"},{"v":-0.622890959456056,"d":"-62.29%"},{"v":18547.65,"d":"18547.6500"},{"v":-0.537810864689758,"d":"-53.78%"},{"v":16440,"d":"16440.0000"},{"$f":"(FD19-FU19)/FU19","v":{"v":-0.672379434037465,"d":"-67.24%"}},{"v":19951,"d":"19951.0000"},{"v":-0.505673934588702,"d":"-50.57%"},{"v":12874,"d":"12874.0000"},{"v":-0.662277019937041,"d":"-66.23%"},{"v":161955.65,"d":"161955.6500"},{"v":-0.664851159373804,"d":"-66.49%"},35660,52225,38720,36755,38120,35785,"37,470.0000","39,710.0000","40,130.0000","50,180.0000",{"$f":"(FU19-GW19)/GW19","v":{"v":-0.0178117048346056,"d":"-1.78%"}},"40,360.0000",{"v":-0.0528000600800755,"d":"-5.28%"},"38,120.0000",{"v":-0.0488784650315627,"d":"-4.89%"},{"v":483235,"d":"483235.00"},{"v":-0.0815638436049962,"d":"-8.16%"},null,null,37950,{"$f":"(GE19-HH19)/HH19","v":{"v":-0.0594795539033457,"d":"-5.95%"}},54650,{"v":-0.0569456427955134,"d":"-5.69%"},42358,{"v":-0.050056066382597,"d":"-5.01%"},40385,{"v":-0.0470740915526192,"d":"-4.71%"},44523,{"v":-0.0431334622823984,"d":"-4.31%"},42750,{"$f":"(GO19-HS19)/HS19","v":{"v":0,"d":"0.00%"}},41510,{"v":-0.0346511627906977,"d":"-3.47%"},44145,{"v":-0.0310579455662862,"d":"-3.11%"},44100,{"$f":"(GU19-HY19)/HY19","v":{"v":-0.0204353620613061,"d":"-2.04%"}},51090,{"v":-0.0446896035901271,"d":"-4.47%"},{"v":42609.8,"d":"42610"},{"v":-0.0471869409660107,"d":"-4.72%"},40079,{"v":-0.094873532068654,"d":"-9.49%"},{"v":526149.8,"d":"526150"},{"v":526149.8,"d":"526150"},{"$nulls":3},40350,{"$f":"(HH19-IJ19)/IJ19","v":{"v":0.0302303017923709,"d":"3.02%"}},{"v":57950,"d":"57950.00"},{"v":0.0229479258605472,"d":"2.29%"},{"v":44590,"d":"44590.00"},{"v":0.0154862218173537,"d":"1.55%"},{"v":42380,"d":"42380.00"},{"v":0.0126158845455414,"d":"1.26%"},{"v":46530,"d":"46530.00"},{"v":0.0108624809906583,"d":"1.09%"},null,{"v":42750,"d":"42750.00"},{"$f":"(HS19-IT19)/IT19","v":{"v":0.0118103713521573,"d":"1.18%"}},{"v":43000,"d":"43000.00"},{"v":0.0105757931844888,"d":"1.06%"},{"v":45560,"d":"45560.00"},{"v":0.016057091882248,"d":"1.61%"},{"v":45020,"d":"45020.00"},{"$f":"(HY19-IZ19)/IZ19","v":{"v":0.0149926727539173,"d":"1.50%"}},{"v":53480,"d":"53480.00"},{"v":0.0119205298013245,"d":"1.19%"},{"v":44720,"d":"44720.00"},{"v":0.0106214689265537,"d":"1.06%"},{"v":44280,"d":"44280.00"},{"v":0.0107281442593015,"d":"1.07%"},550610,null,null,39166,{"v":0.0434591547963066,"d":"4.35%"},56650,{"v":0.0436876287949408,"d":"4.37%"},43910,{"v":0.0398153999070199,"d":"3.98%"},{"v":41852,"d":"41852.00"},{"v":0.0289797521160251,"d":"2.90%"},{"v":46030,"d":"46030.00"},{"v":0.040423610242881,"d":"4.04%"},{"v":42251,"d":"42251.00"},{"v":0.0281418263648178,"d":"2.81%"},{"v":42550,"d":"42550.00"},{"v":0.0244747818082259,"d":"2.45%"},{"v":44840,"d":"44,840.00"},{"v":0.0403736435583377,"d":"4.04%"},{"v":44355,"d":"44,355.00"},{"v":0.0287941442693038,"d":"2.88%"},{"v":52850,"d":"52,850.00"},{"v":0.0174737606825056,"d":"1.75%"},{"v":44250,"d":"44,250.00"},{"v":-0.0419174641666306,"d":"-4.19%"},{"v":43810,"d":"43,810.00"},{"v":-0.102290889717635,"d":"-10.23%"},{"v":534728.860542579,"d":"534729"},{"v":37534.7705944902,"d":"37535"},{"v":54278.6926251191,"d":"54279"},{"v":42228.649435204,"d":"42229"},{"v":40673.29790886,"d":"40673"},{"v":44241.595006917,"d":"44242"},{"v":41094.5250125521,"d":"41095"},{"v":41533.4772076069,"d":"41533"},{"v":43099.9,"d":"43100"},{"v":43113.5813195194,"d":"43114"},{"v":51942.37143231,"d":"51942"},46186,48802]
[null,"其中个体客运量     （万人）",{"$nulls":12},{"v":0,"d":"0.00"},{"$error":"#DIV/0!"},{"$nulls":25},{"v":0,"d":"0.00"},{"v":-1,"d":"-100.00%"},null,{"v":0.0254,"d":"0.03"},{"v":-0.995074846816102,"d":"-99.51%"},0.0153,{"$f":"AU20/BV20-1","v":{"v":-0.996916379466715,"d":"-99.69%"}},null,{"v":-1,"d":"-100.00%"},null,{"v":-1,"d":"-100.00%"},null,{"$f":"BA20/CB20-1","v":{"v":-1,"d":"-100.00%"}},null,{"v":-1,"d":"-100.00%"},null,{"v":-1,"d":"-100.00%"},null,{"$f":"BG20/CH20-1","v":{"v":-1,"d":"-100.00%"}},null,{"v":-1,"d":"-100.00%"},null,{"v":-1,"d":"-100.00%"},null,{"v":-1,"d":"-100.00%"},null,{"v":-1,"d":"-100.00%"},{"v":0.0407,"d":"0.04"},{"v":-0.99910500078065,"d":"-99.91%"},null,{"v":5.1572,"d":"5.16"},{"v":-0.205533475059309,"d":"-20.55%"},{"v":4.9617,"d":"4.96"},{"v":-0.168016499823935,"d":"-16.80%"},{"v":5.0897,"d":"5.09"},{"v":-0.296478036104277,"d":"-29.65%"},5.2064,{"v":-0.14060281931927,"d":"-14.06%"},5.0463,{"v":-0.346241044708443,"d":"-34.62%"},5.0557,{"v":-0.291462286627239,"d":"-29.15%"},{"v":4.0577,"d":"4.06"},{"v":-0.382624572080639,"d":"-38.26%"},{"v":3.203,"d":"3.20"},{"v":-0.522873188243881,"d":"-52.29%"},{"v":3.156,"d":"3.16"},{"v":-0.501484804448095,"d":"-50.15%"},{"v":3.4749,"d":"3.47"},{"v":-0.420598926201354,"d":"-42.06%"},{"v":0.8082,"d":"0.81"},{"v":-0.863068008539189,"d":"-86.31%"},{"v":0.2581,"d":"0.26"},{"v":-0.95095486935867,"d":"-95.10%"},45.4749,{"v":-0.412322452497845,"d":"-41.23%"},{"v":-0.680648354367731,"d":"-68.06%"},null,{"v":6.4914,"d":"6.49"},{"v":5.9637,"d":"5.96"},{"v":7.2346,"d":"7.23"},{"v":6.0582,"d":"6.06"},{"v":7.7189,"d":"7.72"},{"v":7.1354,"d":"7.14"},{"v":6.5725,"d":"6.57"},{"v":6.7131,"d":"6.71"},{"v":6.3308,"d":"6.33"},{"v":5.9974,"d":"6.00"},{"v":5.9022,"d":"5.90"},{"v":5.2625,"d":"5.26"},{"v":77.3807,"d":"77.38"},{"v":-0.105129557287149,"d":"-10.51%"},null,9.71,null,6.5494,null,{"v":6.625,"d":"6.6250"},{"$error":"#DIV/0!"},{"v":22.8844,"d":"22.88"},{"v":8.13,"d":"8.1300"},{"$f":"(DR20-ER20)/ER20","v":{"$error":"#DIV/0!"}},6.8826,{"$error":"#DIV/0!"},7.4525,{"$error":"#DIV/0!"},6.7351,{"$f":"(DX20-EX20)/EX20","v":{"$error":"#DIV/0!"}},6.5642,{"$error":"#DIV/0!"},5.8838,{"$error":"#DIV/0!"},7.2076,{"$f":"(ED20-FD20)/FD20","v":{"$error":"#DIV/0!"}},7.2012,{"$error":"#DIV/0!"},{"v":7.53,"d":"7.5300"},{"$error":"#DIV/0!"},86.4714,{"$error":"#DIV/0!"},{"$nulls":24},{"v":0,"d":"0.0000"}]
[null,"其中个体旅客周转量（万人公里）",{"$nulls":12},{"v":0,"d":"0.00"},{"$error":"#DIV/0!"},{"$nulls":25},{"v":0,"d":"0.00"},{"v":-1,"d":"-100.00%"},null,{"v":0.5596,"d":"0.56"},{"v":-0.992343717292171,"d":"-99.23%"},0.4879,{"$f":"AU21/BV21-1","v":{"v":-0.993193027003272,"d":"-99.32%"}},null,{"v":-1,"d":"-100.00%"},null,{"v":-1,"d":"-100.00%"},null,{"$f":"BA21/CB21-1","v":{"v":-1,"d":"-100.00%"}},null,{"v":-1,"d":"-100.00%"},null,{"v":-1,"d":"-100.00%"},null,{"$f":"BG21/CH21-1","v":{"v":-1,"d":"-100.00%"}},null,{"v":-1,"d":"-100.00%"},null,{"v":-1,"d":"-100.00%"},null,{"v":-1,"d":"-100.00%"},null,{"v":-1,"d":"-100.00%"},{"v":1.0475,"d":"1.05"},{"v":-0.998362883225984,"d":"-99.84%"},null,{"v":73.0903,"d":"73.09"},{"v":-0.0963162892369473,"d":"-9.63%"},{"v":71.6765,"d":"71.68"},{"v":-0.0446063207283098,"d":"-4.46%"},{"v":76.5988,"d":"76.60"},{"v":-0.0281042152516437,"d":"-2.81%"},71.4834,{"v":-1.5559789258438E-3,"d":"-0.16%"},69.8492,{"v":-0.138450228741926,"d":"-13.85%"},69.3744,{"v":-0.113411468816734,"d":"-11.34%"},68.8137,{"v":-0.143433822897879,"d":"-14.34%"},{"v":45.303,"d":"45.30"},{"v":-0.460061498855835,"d":"-46.01%"},{"v":43.2173,"d":"43.22"},{"v":-0.455682316252966,"d":"-45.57%"},{"v":34.3003,"d":"34.30"},{"v":-0.581408091811169,"d":"-58.14%"},{"v":11.6255,"d":"11.63"},{"v":-0.85674943010289,"d":"-85.67%"},{"v":4.512,"d":"4.51"},{"v":-0.93002503093973,"d":"-93.00%"},639.8444,{"v":-0.31702563207037,"d":"-31.70%"},{"v":-0.611887660745774,"d":"-61.19%"},null,{"v":80.8804,"d":"80.88"},{"v":75.023,"d":"75.02"},{"v":78.8138,"d":"78.81"},{"v":71.5948,"d":"71.59"},{"v":81.0739,"d":"81.07"},{"v":78.2487,"d":"78.25"},{"v":80.3367,"d":"80.34"},{"v":83.904,"d":"83.90"},{"v":79.3972,"d":"79.40"},{"v":81.9421,"d":"81.94"},{"v":81.155,"d":"81.16"},{"v":64.4802,"d":"64.48"},{"v":936.8498,"d":"936.85"},{"v":-0.0838152061183967,"d":"-8.38%"},null,{"v":112.8,"d":"112.80"},null,77.5388,null,76.3128,{"$error":"#DIV/0!"},{"v":266.6516,"d":"266.65"},{"v":88.54,"d":"88.5400"},{"$f":"(DR21-ER21)/ER21","v":{"$error":"#DIV/0!"}},86.3014,{"$error":"#DIV/0!"},{"v":86.143,"d":"86.1430"},{"$error":"#DIV/0!"},{"v":79.762,"d":"79.7620"},{"$f":"(DX21-EX21)/EX21","v":{"$error":"#DIV/0!"}},76.3516,{"$error":"#DIV/0!"},84.5831,{"$error":"#DIV/0!"},84.8139,{"$f":"(ED21-FD21)/FD21","v":{"$error":"#DIV/0!"}},84.8685,{"$error":"#DIV/0!"},84.5404,{"$error":"#DIV/0!"},1022.5555,{"$error":"#DIV/0!"},{"$nulls":24},{"v":0,"d":"0.0000"}]
["襄阳市","客运量            （万人）",103.0089,{"$f":"C22/R22-1","v":{"v":-0.280793181670608,"d":"-28.08%"}},126.6864,{"v":-0.136090865447563,"d":"-13.61%"},116.5618,{"v":-0.189586317180004,"d":"-18.96%"},121.936,{"$f":"I22/X22-1","v":{"v":-0.173723630829238,"d":"-17.37%"}},120.2889,{"v":-0.164652295230648,"d":"-16.47%"},113.3073,{"v":-0.104405519288819,"d":"-10.44%"},{"v":701.7893,"d":"701.79"},{"v":-0.176097372734277,"d":"-17.61%"},null,{"v":143.2257,"d":"143.23"},{"$f":"R22/AS22-1","v":{"v":0.00345682091579813,"d":"0.35%"}},{"v":146.6432,"d":"146.64"},{"v":-0.0451928292056274,"d":"-4.52%"},143.83,{"v":0.0243878814123064,"d":"2.44%"},147.5729,{"$f":"X22/AY22-1","v":{"v":0.00614845051274582,"d":"0.61%"}},143.9986,{"v":-0.0278188295770092,"d":"-2.78%"},126.5163,{"v":-0.0280791325898009,"d":"-2.81%"},124.775,{"$f":"AD22/BE22-1","v":{"v":-0.00547179812133602,"d":"-0.55%"}},124.0754,{"v":-0.0273966374644903,"d":"-2.74%"},117.619,{"v":9.94836204895044e-05,"d":"0.01%"},129.5702,{"$f":"AJ22/BK22-1","v":{"v":0.0401171364191353,"d":"4.01%"}},114.6044,{"v":-0.0928078892603185,"d":"-9.28%"},104.8242,{"v":-0.164800650157759,"d":"-16.48%"},{"v":1567.2549,"d":"1567.25"},{"v":-0.0257827218498242,"d":"-2.58%"},null,{"v":142.7323,"d":"142.73"},{"v":0.0229616171606517,"d":"2.30%"},153.5841,{"$f":"AU22/BV22-1","v":{"v":0.12162082224194,"d":"12.16%"}},140.4058,{"v":0.0167179470097489,"d":"1.67%"},{"v":146.6711,"d":"146.67"},{"v":0.0643364691608153,"d":"6.43%"},{"v":148.1191,"d":"148.12"},{"$f":"BA22/CB22-1","v":{"v":0.00730388159823092,"d":"0.73%"}},{"v":130.1714,"d":"130.17"},{"v":-0.113247263541959,"d":"-11.32%"},{"v":125.4615,"d":"125.46"},{"v":-0.144672435138776,"d":"-14.47%"},{"v":127.5704,"d":"127.57"},{"$f":"BG22/CH22-1","v":{"v":-0.138659399838495,"d":"-13.87%"}},{"v":117.6073,"d":"117.61"},{"v":-0.192697800787208,"d":"-19.27%"},{"v":124.5727,"d":"124.57"},{"v":-0.193196625967923,"d":"-19.32%"},{"v":126.3287,"d":"126.33"},{"v":-0.140607642160388,"d":"-14.06%"},{"v":125.508,"d":"125.51"},{"v":-0.115679379168989,"d":"-11.57%"},{"v":1608.7324,"d":"1608.73"},{"v":-0.0700952660611551,"d":"-7.01%"},null,{"v":139.5285,"d":"139.53"},{"v":-0.257527769175018,"d":"-25.75%"},{"v":136.9305,"d":"136.93"},{"v":-0.241518840098043,"d":"-24.15%"},{"v":138.0971,"d":"138.10"},{"v":-0.179558152190703,"d":"-17.96%"},137.8052,{"v":-0.100689597563992,"d":"-10.07%"},147.0451,{"v":-0.0876154169280436,"d":"-8.76%"},146.7956,{"v":-0.0984638419734162,"d":"-9.85%"},146.6824,{"v":-0.10155155611934,"d":"-10.16%"},{"v":148.1068,"d":"148.11"},{"v":0.101532703829975,"d":"10.15%"},{"$f":"137.3068+CJ24","v":{"v":145.6794,"d":"145.68"}},{"v":-0.0196224373331035,"d":"-1.96%"},{"$f":"145.8193+CL24","v":{"v":154.4028,"d":"154.40"}},{"v":0.209963208068365,"d":"21.00%"},{"v":146.9977,"d":"147.00"},{"v":0.5147390537782,"d":"51.47%"},{"v":141.9259,"d":"141.93"},{"v":0.709647809363884,"d":"70.96%"},{"v":1729.997,"d":"1729.9970"},{"v":-0.0214876038667257,"d":"-2.15%"},{"v":-0.0345025806526225,"d":"-3.45%"},null,{"v":187.9242,"d":"187.92"},{"v":180.5325,"d":"180.53"},{"v":168.3204,"d":"168.32"},{"v":153.2343,"d":"153.23"},{"v":161.1657,"d":"161.17"},{"v":162.8283,"d":"162.83"},{"v":163.2619,"d":"163.26"},{"v":134.4552,"d":"134.46"},{"v":148.5952,"d":"148.60"},{"v":127.6095,"d":"127.61"},{"v":97.0449,"d":"97.04"},{"v":83.0147,"d":"83.01"},{"v":1767.9868,"d":"1767.99"},{"v":-0.230121260290455,"d":"-23.01%"},null,215.1658,{"$f":"(DK22-DT22)/DT22","v":{"v":0.114799607271182,"d":"11.48%"}},216.1841,null,222.0238,{"v":17.5019833333333,"d":"1750.20%"},{"v":653.3737,"d":"653.37"},222.4096,{"$f":"(DR22-ER22)/ER22","v":{"v":4.4246243902439,"d":"442.46%"}},193.0085,{"v":3.67332929782082,"d":"367.33%"},191.5433,{"v":4.39558591549296,"d":"439.56%"},196.7099,{"$f":"(DX22-EX22)/EX22","v":{"v":3.73137850085146,"d":"373.14%"}},163.6623,{"v":-0.272763588389798,"d":"-27.28%"},162.8224,{"v":-0.247152473189276,"d":"-24.72%"},173.8615,{"$f":"(ED22-FD22)/FD22","v":{"v":-0.302948271638547,"d":"-30.29%"}},169.8856,{"v":-0.287803086643855,"d":"-28.78%"},169.1716,{"v":-0.264852622096452,"d":"-26.49%"},2296.4484,{"v":0.0973202278864939,"d":"9.73%"},{"v":762,"d":"762.0000"},{"$f":"(EL22-FL22)/FL22","v":{"v":-0.0522388059701493,"d":"-5.22%"}},{"v":0,"d":"0.0000"},{"$f":"(EN22-FM22)/FM22","v":{"v":-1,"d":"-100.00%"}},{"v":12,"d":"12.0000"},{"$f":"(EP22-FN22)/FN22","v":{"v":-0.985576923076923,"d":"-98.56%"}},{"v":41,"d":"41.0000"},{"$f":"(ER22-FO22)/FO22","v":{"v":-0.946959896507115,"d":"-94.70%"}},{"v":41.3,"d":"41.3000"},{"$f":"(ET22-FP22)/FP22","v":{"v":-0.945079787234043,"d":"-94.51%"}},{"v":35.5,"d":"35.5000"},{"$f":"(EV22-FQ22)/FQ22","v":{"v":-0.946975354742345,"d":"-94.70%"}},41.5756,{"$f":"(EX22-FR22)/FR22","v":{"v":-0.940775498575499,"d":"-94.08%"}},225.0469,{"$f":"(EZ22-FS22)/FS22","v":{"v":-0.715490644753477,"d":"-71.55%"}},216.2754,{"$f":"(FB22-FT22)/FT22","v":{"v":-0.738165375302663,"d":"-73.82%"}},249.4241,{"$f":"(FD22-FU22)/FU22","v":{"v":-0.703066547619048,"d":"-70.31%"}},238.5374,{"v":-0.678953701211305,"d":"-67.90%"},230.1193,{"v":-0.664059416058394,"d":"-66.41%"},2092.7787,{"$f":"(FJ22-(FL22+FM22+FN22+FO22+FP22+FQ22+FR22+FS22+FT22+FU22+FW22+FY22))/(FL22+FM22+FN22+FO22+FP22+FQ22+FR22+FS22+FT22+FU22+FW22+FY22)","v":{"v":-0.781261698458322,"d":"-78.13%"}},804,1150,832,773,752,{"v":669.5,"d":"670"},702,"791.0000","826.0000","840.0000",{"$f":"(FU22-GW22)/GW22","v":{"v":-0.0889370932754881,"d":"-8.89%"}},"743.0000",{"v":-0.0412903225806452,"d":"-4.13%"},"685.0000",{"v":-0.0805369127516778,"d":"-8.05%"},{"$f":"FL22+FM22+FN22+FO22+FP22+FQ22+FR22+FS22+FT22+FU22+FW22+FY22","v":{"v":9567.5,"d":"9567.50"}},{"$f":"(GA22-HC22)/HC22","v":{"v":-0.100714352852712,"d":"-10.07%"}},null,null,864,{"$f":"(GE22-HH22)/HH22","v":{"v":-0.0577971646673937,"d":"-5.78%"}},1240,{"v":-0.0476190476190476,"d":"-4.76%"},945,{"v":-0.0492957746478873,"d":"-4.93%"},863,{"$f":"(GK22-HN22)/HN22","v":{"v":-0.0474613686534216,"d":"-4.75%"}},884,{"$f":"(GM22-HP22)/HP22","v":{"v":-0.0443243243243243,"d":"-4.43%"}},795,{"$f":"(GO22-HS22)/HS22","v":{"v":-0.0444711538461538,"d":"-4.45%"}},807,{"v":-0.0312124849939976,"d":"-3.12%"},890,{"v":-0.0315560391730141,"d":"-3.16%"},909,{"$f":"(GU22-HY22)/HY22","v":{"v":-0.0172972972972973,"d":"-1.73%"}},922,{"v":-0.046535677352637,"d":"-4.65%"},775,{"v":-0.0455665024630542,"d":"-4.56%"},745,{"$f":"(HA22-IE22)/IE22","v":{"v":-0.0485312899106003,"d":"-4.85%"}},{"$f":"GE22+GG22+GI22+GK22+GM22+GO22+GQ22+GS22+GU22+GW22+GY22+HA22","v":10639},{"$f":"HA22+GY22+GW22+GU22+GS22+GQ22+GO22+GM22+GK22+GI22+GG22+GE22","v":10639},{"$nulls":3},917,{"$f":"(HH22-IJ22)/IJ22","v":{"v":0.0211581291759465,"d":"2.12%"}},{"v":1302,"d":"1302.00"},{"v":0.0203761755485893,"d":"2.04%"},{"v":994,"d":"994.00"},{"v":0.0132517838939857,"d":"1.33%"},{"v":906,"d":"906.00"},{"$f":"(HN22-IP22)/IP22","v":{"v":0.0100334448160535,"d":"1.00%"}},{"v":925,"d":"925.00"},{"$f":"(HP22-IR22)/IR22","v":{"v":0.0109289617486339,"d":"1.09%"}},null,{"v":832,"d":"832.00"},{"$f":"(HS22-IT22)/IT22","v":{"v":0.0109356014580802,"d":"1.09%"}},{"v":833,"d":"833.00"},{"v":0.0109223300970874,"d":"1.09%"},{"v":919,"d":"919.00"},{"v":0.011001100110011,"d":"1.10%"},{"v":925,"d":"925.00"},{"$f":"(HY22-IZ22)/IZ22","v":{"v":0.00982532751091703,"d":"0.98%"}},{"v":967,"d":"967.00"},{"v":0.0104493207941484,"d":"1.04%"},{"v":812,"d":"812.00"},{"v":0.0112079701120797,"d":"1.12%"},{"v":783,"d":"783.00"},{"$f":"(IE22-JF22)/JF22","v":{"v":0.0103225806451613,"d":"1.03%"}},{"$f":"HH22+HJ22+HL22+HN22+HP22+HS22+HU22+HW22+HY22+IA22+IC22+IE22","v":11115},null,null,898,{"$f":"IJ22/JI22-1","v":{"v":0.0387507229612494,"d":"3.88%"}},1276,{"$f":"IL22/JJ22-1","v":{"v":0.0366735453260323,"d":"3.67%"}},981,{"$f":"(IN22-JK22)/JK22","v":{"v":0.0347773804626436,"d":"3.48%"}},{"v":897,"d":"897.00"},{"$f":"(IP22-JL22)/JL22","v":{"v":0.020789093698051,"d":"2.08%"}},{"v":915,"d":"915.00"},{"$f":"(IR22-JM22)/JM22","v":{"v":0.0216749706211158,"d":"2.17%"}},{"v":823,"d":"823.00"},{"$f":"(IT22-JN22)/JN22","v":{"v":0.0204334672419779,"d":"2.04%"}},{"v":824,"d":"824.00"},{"$f":"(IV22-JO22)/JO22","v":{"v":0.0146908517738618,"d":"1.47%"}},909,{"$f":"(IX22-JP22)/JP22","v":{"v":0.0206032781406317,"d":"2.06%"}},916,{"$f":"(IZ22-JQ22)/JQ22","v":{"v":0.0215294229904736,"d":"2.15%"}},957,{"$f":"(JB22-JR22)/JR22","v":{"v":0.00663582038230219,"d":"0.66%"}},803,{"$f":"(JD22-JS22)/JS22","v":{"v":-0.0357434940620441,"d":"-3.57%"}},775,{"$f":"(JF22-JT22)/JT22","v":{"v":-0.0969997087095835,"d":"-9.70%"}},{"v":10865.3518376415,"d":"10865"},{"v":864.5,"d":"865"},{"v":1230.86,"d":"1231"},{"v":948.03,"d":"948"},{"v":878.731958969511,"d":"879"},{"v":895.588153093088,"d":"896"},{"v":806.52,"d":"807"},{"v":812.07,"d":"812"},{"v":890.649696575584,"d":"891"},{"v":896.694680921141,"d":"897"},{"v":950.691382745101,"d":"951"},{"v":832.765965337099,"d":"833"},{"v":858.25,"d":"858"}]
[null,"旅客周转量        （万人公里）",10120.8517,{"$f":"C23/R23-1","v":{"v":-0.33648557238818,"d":"-33.65%"}},16615.7551,{"v":0.0435188242178062,"d":"4.35%"},15869.8464,{"v":0.122628715685888,"d":"12.26%"},14345.6508,{"$f":"I23/X23-1","v":{"v":-0.0648356664435271,"d":"-6.48%"}},14014.5296,{"v":-0.035094332316707,"d":"-3.51%"},11627.7753,{"v":-0.111133791855893,"d":"-11.11%"},{"v":82594.4089,"d":"82594.41"},{"v":-0.0641773858483679,"d":"-6.42%"},null,{"v":15253.4011,"d":"15253.40"},{"$f":"R23/AS23-1","v":{"v":0.366097192953212,"d":"36.61%"}},{"v":15922.813,"d":"15922.81"},{"v":0.169993199419713,"d":"17.00%"},14136.3268,{"v":0.116004554797501,"d":"11.60%"},15340.245864,{"$f":"X23/AY23-1","v":{"v":0.137657196749319,"d":"13.77%"}},14524.2484,{"v":0.13551530336932,"d":"13.55%"},13081.581,{"v":0.149055578608552,"d":"14.91%"},13740.179,{"$f":"AD23/BE23-1","v":{"v":0.0949947163383904,"d":"9.50%"}},13762.2386,{"v":0.0529207717802074,"d":"5.29%"},12615.6868,{"v":0.151832946973992,"d":"15.18%"},14007.3104,{"$f":"AJ23/BK23-1","v":{"v":0.113111329159723,"d":"11.31%"}},12472.8922,{"v":-0.00174460439928115,"d":"-0.17%"},10530.509172,{"v":-0.0313438065622217,"d":"-3.13%"},{"v":165387.432336,"d":"165387.43"},{"v":0.120338146197508,"d":"12.03%"},null,{"v":11165.6778,"d":"11165.68"},{"v":0.0794309720710105,"d":"7.94%"},13609.320984,{"$f":"AU23/BV23-1","v":{"v":0.0584729213134825,"d":"5.85%"}},12666.9078,{"v":0.109756729426479,"d":"10.98%"},{"v":13484.067,"d":"13484.07"},{"v":0.167908052174985,"d":"16.79%"},{"v":12790.887412,"d":"12790.89"},{"$f":"BA23/CB23-1","v":{"v":0.114466056363848,"d":"11.45%"}},{"v":11384.6373,"d":"11384.64"},{"v":-1.53567565295354E-3,"d":"-0.15%"},{"v":12548.169224,"d":"12548.17"},{"v":-0.126266077274192,"d":"-12.63%"},{"v":13070.53576,"d":"13070.54"},{"$f":"BG23/CH23-1","v":{"v":-0.0491302302595723,"d":"-4.91%"}},{"v":10952.70528,"d":"10952.71"},{"v":-0.0992486604016449,"d":"-9.92%"},{"v":12583.925824,"d":"12583.93"},{"v":-0.0525062134658109,"d":"-5.25%"},{"v":12494.690492,"d":"12494.69"},{"v":1.13732594331717E-3,"d":"0.11%"},{"v":10871.255708,"d":"10871.26"},{"v":0.0353697756509044,"d":"3.54%"},{"v":147622.780584,"d":"147622.78"},{"v":0.0141083388257099,"d":"1.41%"},null,{"v":10344.0406,"d":"10344.04"},{"v":-0.230635226388192,"d":"-23.06%"},{"v":12857.5051,"d":"12857.51"},{"v":-0.161110499655568,"d":"-16.11%"},{"v":11414.1302,"d":"11414.13"},{"v":0.135209057094616,"d":"13.52%"},11545.4868,{"v":0.225719598180512,"d":"22.57%"},{"v":11477.144,"d":"11477.1440"},{"v":0.0756298098087866,"d":"7.56%"},11402.1473,{"v":-0.00215327151314271,"d":"-0.22%"},14361.5452,{"v":0.141881704608111,"d":"14.19%"},{"v":13745.8737,"d":"13745.87"},{"v":0.419018645958646,"d":"41.90%"},{"$f":"11938.0841+CJ25","v":{"v":12159.5215,"d":"12159.52"}},{"v":0.197500664584857,"d":"19.75%"},{"$f":"13053.922+CL25","v":{"v":13281.2753,"d":"13281.28"}},{"v":0.812760961158597,"d":"81.28%"},{"v":12480.4961,"d":"12480.50"},{"v":1.53078171056483,"d":"153.08%"},{"v":10499.8774,"d":"10499.88"},{"v":1.29122619238167,"d":"129.12%"},145569.0432,{"v":0.217118508000257,"d":"21.71%"},{"v":-0.158697113009795,"d":"-15.87%"},null,{"v":13444.9106,"d":"13444.91"},{"v":15326.8161,"d":"15326.82"},{"v":10054.6504,"d":"10054.65"},{"v":9419.354,"d":"9419.35"},{"v":10670.1617,"d":"10670.16"},{"v":11426.7522,"d":"11426.75"},{"v":12577.0867,"d":"12577.09"},{"v":9686.8873,"d":"9686.89"},{"v":10154.0833,"d":"10154.08"},{"v":7326.5453,"d":"7326.55"},{"v":4931.4787,"d":"4931.48"},{"v":4582.6455,"d":"4582.65"},{"v":119601.3718,"d":"119601.37"},{"v":-0.264840484170258,"d":"-26.48%"},null,{"v":13714.2232,"d":"13,714.22"},{"v":-0.144122912384126,"d":"-14.41%"},14269.0026,null,16754.9696,{"v":4.40482890322581,"d":"440.48%"},{"v":44738.1954,"d":"44738.20"},{"v":16683.606,"d":"16683.6060"},{"$f":"(DR23-ER23)/ER23","v":{"v":1.71278146341463,"d":"171.28%"}},16023.5896,{"v":1.58653585149314,"d":"158.65%"},12515.6255,{"v":1.35035220657277,"d":"135.04%"},15539.8946,{"$f":"(DX23-EX23)/EX23","v":{"v":2.11478659758769,"d":"211.48%"}},8724.4377,{"v":-0.475175699491057,"d":"-47.52%"},12040.6236,{"v":-0.333282985147239,"d":"-33.33%"},13418.4503,{"$f":"(ED23-FD23)/FD23","v":{"v":-0.337513835562687,"d":"-33.75%"}},{"v":11625.881,"d":"11625.8810"},{"v":-0.391773860776229,"d":"-39.18%"},11377.3433,{"v":-0.381227216685792,"d":"-38.12%"},{"v":162687.647,"d":"162687.6470"},{"v":0.0514073309409839,"d":"5.14%"},{"v":36535,"d":"36535.0000"},{"v":-0.0519008693395614,"d":"-5.19%"},{"v":0,"d":"0.0000"},{"v":-1,"d":"-100.00%"},{"v":3100,"d":"3100.0000"},{"v":-0.920030955759061,"d":"-92.00%"},{"v":6150,"d":"6150.0000"},{"v":-0.831020744607776,"d":"-83.10%"},{"v":6195,"d":"6195.0000"},{"v":-0.841515515874031,"d":"-84.15%"},{"v":5325,"d":"5325.0000"},{"v":-0.845679012345679,"d":"-84.57%"},{"v":4989.072,"d":"4989.0720"},{"v":-0.875587341961547,"d":"-87.56%"},16623.5399,{"v":-0.586118762604257,"d":"-58.61%"},18059.5715,{"v":-0.57526877939793,"d":"-57.53%"},20254.6876,{"$f":"(FD23-FU23)/FU23","v":{"v":-0.498906815764083,"d":"-49.89%"}},19114.4054,{"v":-0.480713809122769,"d":"-48.07%"},18386.9485,{"v":-0.508225721468881,"d":"-50.82%"},154733.2249,{"v":-0.672143418850142,"d":"-67.21%"},38535,47259,38765,36395,39089,34506,40101,"40,165.0000","42,520.0000","40,421.0000",{"$f":"(FU23-GW23)/GW23","v":{"v":-0.0796885316818834,"d":"-7.97%"}},"36,809.0000",{"v":0.0210824156009875,"d":"2.11%"},"37,389.0000",{"v":-0.0710576660289697,"d":"-7.11%"},{"v":471954,"d":"471954.00"},{"v":-0.0816210967524747,"d":"-8.16%"},null,null,41007,{"$f":"(GE23-HH23)/HH23","v":{"v":-0.0594724770642202,"d":"-5.95%"}},49390,{"v":-0.0566866572443562,"d":"-5.67%"},42379,{"v":-0.0501176734282192,"d":"-5.01%"},39975,{"v":-0.0471479989512073,"d":"-4.71%"},45531,{"v":-0.0434864813764417,"d":"-4.35%"},39306,{"$f":"(GO23-HS23)/HS23","v":{"v":-0.0484882229054201,"d":"-4.85%"}},44406,{"v":-0.0354280252840107,"d":"-3.54%"},44596,{"v":-0.0314902488815532,"d":"-3.15%"},47090,{"$f":"(GU23-HY23)/HY23","v":{"v":-0.0218113834648941,"d":"-2.18%"}},43921,{"v":-0.0452164083389492,"d":"-4.52%"},36049,{"v":-0.0475573991386827,"d":"-4.76%"},40249,{"v":-0.0473158492709714,"d":"-4.73%"},513899,513899,{"$nulls":3},43600,{"$f":"(HH23-IJ23)/IJ23","v":{"v":0.0302457466918715,"d":"3.02%"}},{"v":52358,"d":"52358.00"},{"v":0.0223975317802816,"d":"2.24%"},{"v":44615,"d":"44615.00"},{"v":0.0156161078103303,"d":"1.56%"},{"v":41953,"d":"41953.00"},{"v":0.0126237026309438,"d":"1.26%"},{"v":47601,"d":"47601.00"},{"v":0.0112574382158055,"d":"1.13%"},null,{"v":41309,"d":"41309.00"},{"$f":"(HS23-IT23)/IT23","v":{"v":0.0119794218520333,"d":"1.20%"}},{"v":46037,"d":"46037.00"},{"v":0.0111355150450253,"d":"1.11%"},{"v":46046,"d":"46046.00"},{"v":0.0159073359073359,"d":"1.59%"},{"v":48140,"d":"48140.00"},{"$f":"(HY23-IZ23)/IZ23","v":{"v":0.0147340907653717,"d":"1.47%"}},{"v":46001,"d":"46001.00"},{"v":0.0109887694775939,"d":"1.10%"},{"v":37849,"d":"37849.00"},{"v":0.0109241452991453,"d":"1.09%"},{"v":42248,"d":"42248.00"},{"v":0.0102826534028409,"d":"1.03%"},537757,null,null,42320,{"v":0.0435481623861549,"d":"4.35%"},51211,{"v":0.0436051748437578,"d":"4.36%"},43929,{"v":0.0401150711203452,"d":"4.01%"},{"v":41430,"d":"41430.00"},{"v":0.029112536751609,"d":"2.91%"},{"v":47071.1,"d":"47071.10"},{"v":0.0403242187499383,"d":"4.03%"},{"v":40820,"d":"40820.00"},{"v":0.0278850974539321,"d":"2.79%"},{"v":45530,"d":"45530.00"},{"v":0.0255220922712129,"d":"2.55%"},{"v":45325,"d":"45,325.00"},{"v":0.0398404746265184,"d":"3.98%"},{"v":47441,"d":"47,441.00"},{"v":0.0297346806575082,"d":"2.97%"},{"v":45501,"d":"45,501.00"},{"v":0.0152018632786083,"d":"1.52%"},37440,{"v":-0.0530226384246182,"d":"-5.30%"},{"v":41818,"d":"41,818.00"},{"v":-0.10448668914908,"d":"-10.45%"},{"v":522186.728934273,"d":"522187"},{"v":40553.95,"d":"40554"},{"v":49071.24,"d":"49071"},{"v":42234.75,"d":"42235"},{"v":40257.9878491945,"d":"40258"},{"v":45246.5675138862,"d":"45247"},{"v":39712.61,"d":"39713"},{"v":44396.898265902,"d":"44397"},{"v":43588.4167869879,"d":"43588"},{"v":46071.0908267243,"d":"46071"},{"v":44819.6576915786,"d":"44820"},{"v":39536.32,"d":"39536"},{"v":46697.24,"d":"46697"}]
[null,"其中个体客运量     （万人）",{"v":2.489,"d":"2.49"},{"$f":"C24/R24-1","v":{"v":-0.275463569411696,"d":"-27.55%"}},2.6698,{"v":-0.217778559081187,"d":"-21.78%"},2.4174,{"v":-0.254625061667489,"d":"-25.46%"},2.2694,{"$f":"I24/X24-1","v":{"v":-0.298702101359703,"d":"-29.87%"}},2.2832,{"v":-0.303286442281285,"d":"-30.33%"},2.7015,{"v":-0.155675709463683,"d":"-15.57%"},{"v":14.8303,"d":"14.83"},{"v":-0.251157576889867,"d":"-25.12%"},null,{"v":3.4353,"d":"3.44"},{"$f":"R24/AS24-1","v":{"v":-0.608441425217134,"d":"-60.84%"}},{"v":3.4131,"d":"3.41"},{"v":-0.541545776918117,"d":"-54.15%"},{"v":3.2432,"d":"3.24"},{"v":-0.553911117835578,"d":"-55.39%"},3.236,{"$f":"X24/AY24-1","v":{"v":-0.546664425205234,"d":"-54.67%"}},{"v":3.2771,"d":"3.28"},{"v":-0.538579595055053,"d":"-53.86%"},{"v":3.1996,"d":"3.20"},{"v":-0.473507536365431,"d":"-47.35%"},{"v":3.2093,"d":"3.21"},{"$f":"AD24/BE24-1","v":{"v":-0.412033050583515,"d":"-41.20%"}},{"v":2.8792,"d":"2.88"},{"v":-0.422322987098975,"d":"-42.23%"},{"v":2.7959,"d":"2.80"},{"v":-0.399247958745165,"d":"-39.92%"},{"v":2.7006,"d":"2.70"},{"$f":"AJ24/BK24-1","v":{"v":-0.340303393018541,"d":"-34.03%"}},2.7076,{"v":-0.340863722673937,"d":"-34.09%"},2.3867,{"v":-0.405850136918098,"d":"-40.59%"},{"v":36.4836,"d":"36.48"},{"v":-0.487020711182351,"d":"-48.70%"},null,{"v":8.7734,"d":"8.77"},{"v":0.196182425523212,"d":"19.62%"},7.4448,{"$f":"AU24/BV24-1","v":{"v":-4.19999464968845E-3,"d":"-0.42%"}},7.2703,{"v":-0.143562257038521,"d":"-14.36%"},{"v":7.1382,"d":"7.14"},{"v":-0.142990923498055,"d":"-14.30%"},{"v":7.1022,"d":"7.10"},{"$f":"BA24/CB24-1","v":{"v":-0.151023238022377,"d":"-15.10%"}},{"v":6.0772,"d":"6.08"},{"v":-0.268159922928709,"d":"-26.82%"},{"v":5.4583,"d":"5.46"},{"v":-0.334524085295229,"d":"-33.45%"},{"v":4.9841,"d":"4.98"},{"$f":"BG24/CH24-1","v":{"v":-0.388986281889397,"d":"-38.90%"}},{"v":4.654,"d":"4.65"},{"v":-0.444139216014141,"d":"-44.41%"},{"v":4.0937,"d":"4.09"},{"v":-0.523073338381779,"d":"-52.31%"},{"v":4.1078,"d":"4.11"},{"v":-0.505495431508746,"d":"-50.55%"},{"v":4.017,"d":"4.02"},{"v":-0.531003724416527,"d":"-53.10%"},{"v":71.121,"d":"71.12"},{"v":-0.277855284721249,"d":"-27.79%"},null,{"v":7.3345,"d":"7.33"},{"v":-0.335384252924599,"d":"-33.54%"},{"v":7.4762,"d":"7.48"},{"v":-0.325392743383594,"d":"-32.54%"},{"v":8.489,"d":"8.49"},{"v":0.0183296945850628,"d":"1.83%"},8.3292,{"v":0.0547430004178855,"d":"5.47%"},8.3656,{"v":0.0483470763678289,"d":"4.83%"},{"v":8.304,"d":"8.3040"},{"v":0.0348308305813447,"d":"3.48%"},{"v":8.2021,"d":"8.20"},{"v":0.0145965537289248,"d":"1.46%"},{"v":8.1571,"d":"8.16"},{"v":0.0323221585228495,"d":"3.23%"},{"v":8.3726,"d":"8.37"},{"v":0.0567995355060207,"d":"5.68%"},{"v":8.5835,"d":"8.58"},{"v":0.404897130792019,"d":"40.49%"},{"v":8.3069,"d":"8.31"},{"v":0.237877388012994,"d":"23.79%"},{"v":8.5651,"d":"8.57"},{"v":0.391590440137126,"d":"39.16%"},98.4858,{"v":0.0128220158578349,"d":"1.28%"},{"v":0.0310825939881303,"d":"3.11%"},null,{"v":11.0357,"d":"11.04"},{"v":11.0823,"d":"11.08"},{"v":8.3362,"d":"8.34"},{"v":7.8969,"d":"7.90"},{"v":7.9798,"d":"7.98"},{"v":8.0245,"d":"8.02"},{"v":8.0841,"d":"8.08"},{"v":7.9017,"d":"7.90"},{"v":7.9226,"d":"7.92"},{"v":6.1097,"d":"6.11"},{"v":6.7106,"d":"6.71"},{"v":6.1549,"d":"6.15"},{"v":97.239,"d":"97.24"},{"v":-0.368045685229703,"d":"-36.80%"},null,{"v":16.8359,"d":"16.84"},null,6.9496,null,15.1574,{"$error":"#DIV/0!"},{"v":38.9429,"d":"38.94"},14.1785,{"$f":"(DR24-ER24)/ER24","v":{"$error":"#DIV/0!"}},14.5509,{"$error":"#DIV/0!"},{"v":14.488,"d":"14.4880"},{"$error":"#DIV/0!"},13.5446,{"$f":"(DX24-EX24)/EX24","v":{"$error":"#DIV/0!"}},12.8728,{"$error":"#DIV/0!"},11.0832,{"$error":"#DIV/0!"},11.4646,{"$f":"(ED24-FD24)/FD24","v":{"$error":"#DIV/0!"}},11.3672,{"$error":"#DIV/0!"},11.3776,{"$error":"#DIV/0!"},153.8703,{"$error":"#DIV/0!"},{"$nulls":24},{"v":0,"d":"0.0000"}]
[null,"其中个体旅客周转量（万人公里）",{"v":57.3524,"d":"57.35"},{"$f":"C25/R25-1","v":{"v":-0.419686635397095,"d":"-41.97%"}},60.8606,{"v":-0.391885964254918,"d":"-39.19%"},55.2767,{"v":-0.395529626612282,"d":"-39.55%"},51.9476,{"$f":"I25/X25-1","v":{"v":-0.433240155674029,"d":"-43.32%"}},51.8758,{"v":-0.443630295217278,"d":"-44.36%"},57.4551,{"v":-0.373847114557825,"d":"-37.38%"},{"v":334.7682,"d":"334.77"},{"v":-0.40959375987565,"d":"-40.96%"},null,{"v":98.830052,"d":"98.83"},{"$f":"R25/AS25-1","v":{"v":-0.575350800529705,"d":"-57.54%"}},{"v":100.0809,"d":"100.08"},{"v":-0.507361900231798,"d":"-50.74%"},{"v":91.4465,"d":"91.45"},{"v":-0.542666886715077,"d":"-54.27%"},{"v":91.657164,"d":"91.66"},{"$f":"X25/AY25-1","v":{"v":-0.532514533504842,"d":"-53.25%"}},{"v":93.2398,"d":"93.24"},{"v":-0.518898178285779,"d":"-51.89%"},{"v":91.7589,"d":"91.76"},{"v":-0.440497923793148,"d":"-44.05%"},{"v":91.0824,"d":"91.08"},{"$f":"AD25/BE25-1","v":{"v":-0.392216832956066,"d":"-39.22%"}},{"v":72.1659,"d":"72.17"},{"v":-0.48371636024609,"d":"-48.37%"},{"v":70.5554,"d":"70.56"},{"v":-0.476687023009471,"d":"-47.67%"},{"v":69.445,"d":"69.45"},{"$f":"AJ25/BK25-1","v":{"v":-0.389948887652242,"d":"-38.99%"}},{"v":69.445,"d":"69.45"},{"v":-0.397638392069828,"d":"-39.76%"},{"v":54.622672,"d":"54.62"},{"v":-0.513476123392096,"d":"-51.35%"},{"v":994.329688,"d":"994.33"},{"v":-0.491539784514337,"d":"-49.15%"},null,{"v":232.7334,"d":"232.73"},{"v":0.445099382117738,"d":"44.51%"},203.152984,{"$f":"AU25/BV25-1","v":{"v":0.224930352140446,"d":"22.49%"}},199.956,{"v":-0.118463178480831,"d":"-11.85%"},{"v":196.0642,"d":"196.06"},{"v":-0.11108521810725,"d":"-11.11%"},{"v":193.804712,"d":"193.80"},{"$f":"BA25/CB25-1","v":{"v":-0.130334036946892,"d":"-13.03%"}},{"v":164.001,"d":"164.00"},{"v":-0.252288939323617,"d":"-25.23%"},{"v":149.860024,"d":"149.86"},{"v":-0.307544583799059,"d":"-30.75%"},{"v":139.77956,"d":"139.78"},{"$f":"BG25/CH25-1","v":{"v":-0.34828718534989,"d":"-34.83%"}},{"v":134.82448,"d":"134.82"},{"v":-0.391139527469163,"d":"-39.11%"},{"v":113.834724,"d":"113.83"},{"v":-0.49930472089035,"d":"-49.93%"},{"v":115.287892,"d":"115.29"},{"v":-0.471673394793076,"d":"-47.17%"},{"v":112.271308,"d":"112.27"},{"v":-0.504097177622751,"d":"-50.41%"},{"v":1955.570284,"d":"1955.57"},{"v":-0.230326341316254,"d":"-23.03%"},null,{"v":161.0501,"d":"161.05"},{"v":-0.474865113294399,"d":"-47.49%"},{"v":165.8486,"d":"165.85"},{"v":-0.46293351847738,"d":"-46.29%"},{"v":226.8266,"d":"226.83"},{"v":0.293137880334922,"d":"29.31%"},220.5658,{"v":0.293064674983585,"d":"29.31%"},222.8496,{"v":0.298357721644656,"d":"29.84%"},219.3374,{"v":0.271852209647613,"d":"27.19%"},216.4183,{"v":0.243116051498793,"d":"24.31%"},{"v":214.4803,"d":"214.48"},{"v":0.253807364763432,"d":"25.38%"},{"v":221.4374,"d":"221.44"},{"v":0.301316787736074,"d":"30.13%"},{"v":227.3533,"d":"227.35"},{"v":0.757284877753181,"d":"75.73%"},{"v":218.2133,"d":"218.21"},{"v":0.461825696954269,"d":"46.18%"},{"v":226.3978,"d":"226.40"},{"v":0.648366034010257,"d":"64.84%"},2540.7785,{"v":0.135855106793323,"d":"13.59%"},{"v":0.0375068797364779,"d":"3.75%"},null,{"v":306.6833,"d":"306.68"},{"v":308.8046,"d":"308.80"},{"v":175.4079,"d":"175.41"},{"v":170.576,"d":"170.58"},{"v":171.6396,"d":"171.64"},{"v":172.4551,"d":"172.46"},{"v":174.0934,"d":"174.09"},{"v":171.0632,"d":"171.06"},{"v":170.1641,"d":"170.16"},{"v":129.3776,"d":"129.38"},{"v":149.2745,"d":"149.27"},{"v":137.3468,"d":"137.35"},{"v":2236.8861,"d":"2236.89"},{"v":-0.501400051676933,"d":"-50.14%"},null,{"v":517.5942,"d":"517.59"},null,260.6436,null,435.9805,{"$error":"#DIV/0!"},{"v":1214.2183,"d":"1214.22"},422.9915,{"$f":"(DR25-ER25)/ER25","v":{"$error":"#DIV/0!"}},418.4388,{"$error":"#DIV/0!"},412.4421,{"$error":"#DIV/0!"},386.2965,{"$f":"(DX25-EX25)/EX25","v":{"$error":"#DIV/0!"}},365.4591,{"$error":"#DIV/0!"},309.3693,{"$error":"#DIV/0!"},321.0472,{"$f":"(ED25-FD25)/FD25","v":{"$error":"#DIV/0!"}},317.4131,{"$error":"#DIV/0!"},318.6585,{"$error":"#DIV/0!"},4486.3344,{"$error":"#DIV/0!"},{"$nulls":24},{"v":0,"d":"0.0000"}]
["鄂州市","客运量            （万人）",58.6181,{"$f":"C26/R26-1","v":{"v":0.0612934004674766,"d":"6.13%"}},51.2609,{"v":-0.00459633070278997,"d":"-0.46%"},51.4017,{"v":-0.0202014810861298,"d":"-2.02%"},51.5443,{"$f":"I26/X26-1","v":{"v":-0.0244750414005205,"d":"-2.45%"}},51.6972,{"v":-0.0248037712144962,"d":"-2.48%"},50.2205,{"v":-0.0746227678859339,"d":"-7.46%"},{"v":314.7427,"d":"314.74"},{"v":-0.0143089025550897,"d":"-1.43%"},null,{"v":55.2327,"d":"55.23"},{"$f":"R26/AS26-1","v":{"v":0.178332792872747,"d":"17.83%"}},{"v":51.4976,"d":"51.50"},{"v":0.101392738596311,"d":"10.14%"},52.4615,{"v":0.0501247062497248,"d":"5.01%"},52.8375,{"$f":"X26/AY26-1","v":{"v":0.0461421189142099,"d":"4.61%"}},53.0121,{"v":0.0182611301271192,"d":"1.83%"},54.2703,{"v":-0.0448884125383442,"d":"-4.49%"},50.3549,{"$f":"AD26/BE26-1","v":{"v":-0.0697001160221403,"d":"-6.97%"}},48.9525,{"v":-0.091087167623189,"d":"-9.11%"},49.2128,{"v":-0.0659261818085191,"d":"-6.59%"},49.5826,{"$f":"AJ26/BK26-1","v":{"v":-0.11487935106457,"d":"-11.49%"}},52.5038,{"v":-0.141501397207547,"d":"-14.15%"},60.2661,{"v":0.0350216137214929,"d":"3.50%"},{"v":630.1844,"d":"630.18"},{"v":-0.013875716158802,"d":"-1.39%"},null,{"v":46.8736,"d":"46.87"},{"v":0.232928526149387,"d":"23.29%"},46.7568,{"$f":"AU26/BV26-1","v":{"v":0.0891100178890878,"d":"8.91%"}},49.9574,{"v":-0.0125493405122914,"d":"-1.25%"},{"v":50.507,"d":"50.51"},{"v":-0.066200016269903,"d":"-6.62%"},{"v":52.0614,"d":"52.06"},{"$f":"BA26/CB26-1","v":{"v":-0.0538780687710014,"d":"-5.39%"}},{"v":56.8209,"d":"56.82"},{"v":-0.165391468091638,"d":"-16.54%"},{"v":54.1276,"d":"54.13"},{"v":-0.116582640642265,"d":"-11.66%"},{"v":53.8583,"d":"53.86"},{"$f":"BG26/CH26-1","v":{"v":-0.0275143051635818,"d":"-2.75%"}},{"v":52.6862,"d":"52.69"},{"v":-0.0128697789710547,"d":"-1.29%"},{"v":56.0179,"d":"56.02"},{"v":-0.0198675844306726,"d":"-1.99%"},{"v":61.1577,"d":"61.16"},{"v":0.184012901502142,"d":"18.40%"},{"v":58.2269,"d":"58.23"},{"v":0.178150349133893,"d":"17.82%"},{"v":639.0517,"d":"639.05"},{"v":0.00323552604457156,"d":"0.32%"},null,{"v":38.0181,"d":"38.02"},{"v":-0.113726962043612,"d":"-11.37%"},{"v":42.9312,"d":"42.93"},{"v":0.0458270401948844,"d":"4.58%"},{"v":50.5923,"d":"50.59"},{"v":0.154292637184375,"d":"15.43%"},54.0876,{"v":1.69036320768795,"d":"169.04%"},55.0261,{"v":0.413041580212421,"d":"41.30%"},68.0809,{"v":0.513894602485618,"d":"51.39%"},61.2707,{"v":0.178398265983779,"d":"17.84%"},{"v":55.3821,"d":"55.38"},{"v":0.138989262482031,"d":"13.90%"},{"v":53.3731,"d":"53.37"},{"v":0.263471990758276,"d":"26.35%"},{"v":57.1534,"d":"57.15"},{"v":0.326255749086876,"d":"32.63%"},{"v":51.6529,"d":"51.65"},{"v":0.587576108705207,"d":"58.76%"},{"v":49.4223,"d":"49.42"},{"v":0.765895716240697,"d":"76.59%"},636.9907,{"v":0.331860320311856,"d":"33.19%"},{"v":-0.043184409781445,"d":"-4.32%"},null,{"v":42.8966,"d":"42.90"},41.05,{"v":43.8297,"d":"43.83"},{"v":20.1042,"d":"20.10"},{"v":38.9416,"d":"38.94"},{"v":44.9707,"d":"44.97"},{"v":51.9949,"d":"51.99"},{"v":48.6239,"d":"48.62"},{"v":42.2432,"d":"42.24"},{"v":43.0938,"d":"43.09"},{"v":32.5357,"d":"32.54"},{"v":27.9871,"d":"27.99"},{"v":478.2714,"d":"478.27"},{"v":-0.153855231063703,"d":"-15.39%"},null,53.1155,{"v":-0.0247934946452735,"d":"-2.48%"},54.4053,null,52.8281,{"v":60.428023255814,"d":"6042.80%"},{"v":160.3489,"d":"160.35"},55.2734,{"$f":"(DR26-ER26)/ER26","v":{"v":0.436157663626679,"d":"43.62%"}},54.4659,{"v":0.944752308384452,"d":"94.48%"},50.5827,{"v":0.479342081789388,"d":"47.93%"},48.1378,{"$f":"(DX26-EX26)/EX26","v":{"v":0.377100861371042,"d":"37.71%"}},25.4038,{"v":-0.542317580483305,"d":"-54.23%"},41.1191,{"v":-0.139513957045907,"d":"-13.95%"},45.1472,{"$f":"(ED26-FD26)/FD26","v":{"v":-0.273712388355512,"d":"-27.37%"}},42.9876,{"v":-0.155997094221821,"d":"-15.60%"},41.7695,{"v":-0.135665154700614,"d":"-13.57%"},565.2359,{"v":0.090443158279964,"d":"9.04%"},117.1407,{"v":-0.157699874310072,"d":"-15.77%"},{"v":0,"d":"0.0000"},{"v":-1,"d":"-100.00%"},{"v":0.86,"d":"0.8600"},{"v":-0.994397043723907,"d":"-99.44%"},{"v":38.487,"d":"38.4870"},{"v":-0.674799701897614,"d":"-67.48%"},28.0066,{"v":-0.778799797807475,"d":"-77.88%"},34.1927,{"v":-0.698600130634494,"d":"-69.86%"},34.9559,{"v":-0.692700247380701,"d":"-69.27%"},55.5053,{"v":-0.479193173672022,"d":"-47.92%"},47.7859,{"v":-0.550375613005694,"d":"-55.04%"},62.1616,{"$f":"(FD26-FU26)/FU26","v":{"v":-0.448273413605,"d":"-44.83%"}},{"v":50.933,"d":"50.9330"},{"v":-0.469447916666667,"d":"-46.94%"},48.3256,{"v":-0.565729690869878,"d":"-56.57%"},518.3543,{"v":-0.650001421319372,"d":"-65.00%"},{"v":139.0724,"d":"139"},{"v":183.4942,"d":"183"},{"v":153.4904,"d":"153"},{"v":118.3486,"d":"118"},{"v":126.612,"d":"127"},{"v":113.4463,"d":"113"},"113.7518","106.5756","106.2796","112.6674",{"$f":"(FU26-GW26)/GW26","v":{"v":-0.279099810540985,"d":"-27.91%"}},"96.0000",{"v":-0.276564767799898,"d":"-27.66%"},"111.2800",{"v":-0.269000373776768,"d":"-26.90%"},{"v":1481.0183,"d":"1481.02"},{"v":-0.201696597463798,"d":"-20.17%"},null,null,{"v":148.8679,"d":"149"},{"$f":"(GE26-HH26)/HH26","v":{"v":-0.0460243511694971,"d":"-4.60%"}},{"v":203.0791,"d":"203"},{"v":-0.0886174056536667,"d":"-8.86%"},{"v":179.6681,"d":"180"},{"v":-0.0395105498856242,"d":"-3.95%"},{"v":142.1434,"d":"142"},{"v":-0.0496561822017042,"d":"-4.97%"},{"v":153.6181,"d":"154"},{"v":-0.042793194164219,"d":"-4.28%"},151.161,{"$f":"(GO26-HS26)/HS26","v":{"v":-0.0424114651400422,"d":"-4.24%"}},{"v":151.1451,"d":"151"},{"v":-0.0298082854426727,"d":"-2.98%"},{"v":142.9969,"d":"143"},{"v":-0.0523253656247763,"d":"-5.23%"},{"v":141.3105,"d":"141"},{"$f":"(GU26-HY26)/HY26","v":{"v":-0.0670406589517829,"d":"-6.70%"}},{"v":156.2871,"d":"156"},{"v":-0.0501025645700948,"d":"-5.01%"},{"v":132.7002,"d":"133"},{"v":-0.0521360122057841,"d":"-5.21%"},{"v":152.2299,"d":"152"},{"v":-0.0668448017771829,"d":"-6.68%"},{"v":1855.2073,"d":"1855"},{"v":1855.2073,"d":"1855"},{"$nulls":3},{"v":156.05,"d":"156"},{"$f":"(HH26-IJ26)/IJ26","v":{"v":-0.0173792582331087,"d":"-1.74%"}},{"v":222.8253,"d":"222.83"},{"v":-0.0465327342747111,"d":"-4.65%"},{"v":187.0589,"d":"187.06"},{"v":-0.0459099255330001,"d":"-4.59%"},{"v":149.5705,"d":"149.57"},{"v":-0.0485942370078239,"d":"-4.86%"},{"v":160.4858,"d":"160.49"},{"v":0.00801331574649836,"d":"0.80%"},null,{"v":157.8559,"d":"157.86"},{"$f":"(HS26-IT26)/IT26","v":{"v":-0.0150012479720454,"d":"-1.50%"}},{"v":155.7889,"d":"155.79"},{"v":-0.0289896534530041,"d":"-2.90%"},{"v":150.8924,"d":"150.89"},{"v":-0.0390855250589059,"d":"-3.91%"},{"v":151.4648,"d":"151.46"},{"$f":"(HY26-IZ26)/IZ26","v":{"v":-0.0469716227269868,"d":"-4.70%"}},{"v":164.5305,"d":"164.53"},{"v":-0.0321735294117648,"d":"-3.22%"},{"v":139.9992,"d":"140.00"},{"v":-0.0472356063699469,"d":"-4.72%"},163.1346,{"v":-0.0405878755087158,"d":"-4.06%"},{"v":1959.6568,"d":"1960"},null,null,{"v":158.81,"d":"159"},{"v":-0.109294448296568,"d":"-10.93%"},{"v":233.7,"d":"234"},{"v":-0.0499920969517051,"d":"-5.00%"},{"v":196.06,"d":"196"},{"v":-0.00801408803859501,"d":"-0.80%"},157.21,{"v":-0.0322083046920692,"d":"-3.22%"},159.21,{"v":-0.0383431103603814,"d":"-3.83%"},160.26,{"v":-0.0436724394127063,"d":"-4.37%"},160.44,{"v":-0.048429657012823,"d":"-4.84%"},157.03,{"v":-0.0462515360735421,"d":"-4.63%"},158.93,{"v":-0.0412189651207432,"d":"-4.12%"},170,{"v":-0.032685920504509,"d":"-3.27%"},146.94,{"v":-0.0455015815947586,"d":"-4.55%"},170.036,{"v":-0.0401154339405157,"d":"-4.01%"},{"v":2123.36168546811,"d":"2123"},{"v":178.296856572055,"d":"178"},{"v":245.997953543466,"d":"246"},{"v":197.643935902618,"d":"198"},{"v":162.441980812802,"d":"162"},{"v":165.558009010536,"d":"166"},{"v":167.578564714356,"d":"168"},{"v":168.605506868095,"d":"169"},{"v":164.64508823797,"d":"165"},{"v":165.76256122965,"d":"166"},{"v":175.744366388903,"d":"176"},{"v":153.944728630881,"d":"154"},{"v":177.142133556779,"d":"177"}]
[null,"旅客周转量        （万人公里）",2574.3453,{"$f":"C27/R27-1","v":{"v":0.129495724550224,"d":"12.95%"}},2270.4778,{"v":0.0930844269981448,"d":"9.31%"},2312.8897,{"v":0.0582582718060787,"d":"5.83%"},2341.8271,{"$f":"I27/X27-1","v":{"v":0.0320148744506605,"d":"3.20%"}},2329.9036,{"v":0.0449958862236755,"d":"4.50%"},2252.8378,{"v":-0.0307461038824146,"d":"-3.07%"},{"v":14082.2813,"d":"14082.28"},{"v":0.0536723398877645,"d":"5.37%"},null,{"v":2279.1988,"d":"2279.20"},{"$f":"R27/AS27-1","v":{"v":0.147362454366242,"d":"14.74%"}},{"v":2077.1294,"d":"2077.13"},{"v":0.114477681627351,"d":"11.45%"},2185.5626,{"v":0.0643295882309314,"d":"6.43%"},2269.1796,{"$f":"X27/AY27-1","v":{"v":0.0616915623536283,"d":"6.17%"}},2229.5816,{"v":0.0112998358211744,"d":"1.13%"},2324.301,{"v":-0.0720794688957723,"d":"-7.21%"},2217.5578,{"$f":"AD27/BE27-1","v":{"v":-0.0565924283464996,"d":"-5.66%"}},2185.8589,{"v":-0.0700957786600006,"d":"-7.01%"},2215.595,{"v":-0.0513909146969619,"d":"-5.14%"},2222.7273,{"$f":"AJ27/BK27-1","v":{"v":-0.0873269968618756,"d":"-8.73%"}},2449.5953,{"v":-0.0968519389589312,"d":"-9.69%"},2678.3547,{"v":0.0572681606068974,"d":"5.73%"},{"v":27334.642,"d":"27334.64"},{"v":-0.00486764617320534,"d":"-0.49%"},null,{"v":1986.468,"d":"1986.47"},{"v":0.28065630486313,"d":"28.07%"},1863.7694,{"$f":"AU27/BV27-1","v":{"v":0.045457447029305,"d":"4.55%"}},2053.4641,{"v":-0.0934229521861095,"d":"-9.34%"},{"v":2137.3247,"d":"2137.32"},{"v":-0.112111190161044,"d":"-11.21%"},{"v":2204.6692,"d":"2204.67"},{"$f":"BA27/CB27-1","v":{"v":-0.0908232319497931,"d":"-9.08%"}},{"v":2504.8492,"d":"2504.85"},{"v":-0.166556077582762,"d":"-16.66%"},{"v":2350.583,"d":"2350.58"},{"v":-0.0883135268473556,"d":"-8.83%"},{"v":2350.628,"d":"2350.63"},{"$f":"BG27/CH27-1","v":{"v":0.0192189379428109,"d":"1.92%"}},{"v":2335.6249,"d":"2335.62"},{"v":0.0102210040337474,"d":"1.02%"},{"v":2435.4038,"d":"2435.40"},{"v":-0.0154538813590224,"d":"-1.55%"},{"v":2712.2854,"d":"2712.29"},{"v":0.210657017186262,"d":"21.07%"},{"v":2533.2785,"d":"2533.28"},{"v":0.184619345742084,"d":"18.46%"},{"v":27468.3482,"d":"27468.35"},{"v":-0.000623609075107501,"d":"-0.06%"},null,{"v":1551.1328,"d":"1551.13"},{"v":-0.0909228476422778,"d":"-9.09%"},{"v":1782.731,"d":"1782.73"},{"v":0.130975208239005,"d":"13.10%"},{"v":2265.074,"d":"2265.07"},{"v":0.234300846452052,"d":"23.43%"},2407.1986,{"v":1.67566789197774,"d":"167.57%"},2424.9071,{"v":0.464047914901566,"d":"46.40%"},3005.4202,{"v":0.358472023502213,"d":"35.85%"},2578.28,{"v":0.142951578427354,"d":"14.30%"},{"v":2306.3033,"d":"2306.30"},{"v":0.0767574832156939,"d":"7.68%"},{"v":2311.994,"d":"2311.99"},{"v":0.298712591629832,"d":"29.87%"},{"v":2473.631,"d":"2473.63"},{"v":0.328718722108322,"d":"32.87%"},{"v":2240.3417,"d":"2240.34"},{"v":0.650619687371687,"d":"65.06%"},{"v":2138.4747,"d":"2138.47"},{"v":0.846518677474606,"d":"84.65%"},27485.4884,{"v":0.344628586770323,"d":"34.46%"},{"v":-0.0454694031718464,"d":"-4.55%"},null,{"v":1706.2719,"d":"1706.27"},{"v":1576.2777,"d":"1576.28"},{"v":1835.1069,"d":"1835.11"},{"v":899.6627,"d":"899.66"},{"v":1656.3031,"d":"1656.30"},{"v":2212.3534,"d":"2212.35"},{"v":2255.8086,"d":"2255.81"},{"v":2141.8967,"d":"2141.90"},{"v":1780.2199,"d":"1780.22"},{"v":1861.6664,"d":"1861.67"},{"v":1357.2731,"d":"1357.27"},{"v":1158.1116,"d":"1158.11"},{"v":20440.952,"d":"20440.95"},{"v":-0.15453972637142,"d":"-15.45%"},null,{"v":2399.8951,"d":"2,399.90"},{"v":0.0234473507781589,"d":"2.34%"},2414.3381,null,2226.0953,{"v":14.2003776032776,"d":"1420.04%"},{"v":7040.3285,"d":"7040.33"},2352.4863,{"$f":"(DR27-ER27)/ER27","v":{"v":0.139184288937364,"d":"13.92%"}},2344.9131,{"v":0.358232462252192,"d":"35.82%"},2147.4335,{"v":0.238597341827231,"d":"23.86%"},2019.0132,{"$f":"(DX27-EX27)/EX27","v":{"v":0.143531654635308,"d":"14.35%"}},1090.1195,{"v":-0.681067895834735,"d":"-68.11%"},1675.3286,{"v":-0.38498382494324,"d":"-38.50%"},1958.0613,{"$f":"(ED27-FD27)/FD27","v":{"v":-0.46127386034306,"d":"-46.13%"}},{"v":1823.711,"d":"1823.7110"},{"v":-0.357041439640298,"d":"-35.70%"},1725.9113,{"v":-0.336022069206214,"d":"-33.60%"},24177.3063,{"v":-0.160767556704607,"d":"-16.08%"},6159.0481,{"v":-0.168199992493735,"d":"-16.82%"},{"v":0,"d":"0.0000"},{"v":-1,"d":"-100.00%"},{"v":146.45,"d":"146.4500"},{"v":-0.982105351738831,"d":"-98.21%"},2065.0621,{"v":-0.695399996808065,"d":"-69.54%"},1726.4446,{"v":-0.79139999837851,"d":"-79.14%"},1733.7624,{"v":-0.735999999269104,"d":"-73.60%"},1765.5945,{"v":-0.740699999391988,"d":"-74.07%"},{"v":3418.03,"d":"3418.0300"},{"v":-0.480781693465013,"d":"-48.08%"},2724.0399,{"v":-0.615476697876308,"d":"-61.55%"},3634.6135,{"$f":"(FD27-FU27)/FU27","v":{"v":-0.44265825661249,"d":"-44.27%"}},2836.4363,{"v":-0.474734018518519,"d":"-47.47%"},2599.3504,{"v":-0.728761077922417,"d":"-72.88%"},28808.8318,{"v":-0.676534092814025,"d":"-67.65%"},{"v":7404.4819,"d":"7404"},{"v":9870.3624,"d":"9870"},{"v":8184.0111,"d":"8184"},{"v":6779.5866,"d":"6780"},{"v":8276.3403,"d":"8276"},{"v":6567.2818,"d":"6567"},"6,809.0802","6,583.0306","7,084.1998","6,521.3373",{"$f":"(FU27-GW27)/GW27","v":{"v":-0.289798977330752,"d":"-28.98%"}},"5,400.0000",{"v":-0.297442214784795,"d":"-29.74%"},"9,583.2500",{"v":-0.267136661238358,"d":"-26.71%"},{"v":89062.962,"d":"89062.96"},{"v":-0.234381266731439,"d":"-23.44%"},null,null,{"v":8294.1915,"d":"8294"},{"$f":"(GE27-HH27)/HH27","v":{"v":-0.0423274231651191,"d":"-4.23%"}},{"v":11176.4331,"d":"11176"},{"v":-0.0883201698751969,"d":"-8.83%"},{"v":10213.9597,"d":"10214"},{"v":-0.0429309923911495,"d":"-4.29%"},{"v":8461.9337,"d":"8462"},{"v":-0.0445081677350938,"d":"-4.45%"},{"v":10452.3092,"d":"10452"},{"v":-0.0428852292449617,"d":"-4.29%"},9229.6049,{"$f":"(GO27-HS27)/HS27","v":{"v":-0.0472864860845281,"d":"-4.73%"}},{"v":9565.4776,"d":"9565"},{"v":-0.030194582932356,"d":"-3.02%"},{"v":9181.3011,"d":"9181"},{"v":-0.0502495638025472,"d":"-5.02%"},{"v":9807.8437,"d":"9808"},{"$f":"(GU27-HY27)/HY27","v":{"v":-0.0640308172382734,"d":"-6.40%"}},{"v":9182.3823,"d":"9182"},{"v":-0.0468986374373382,"d":"-4.69%"},{"v":7686.2005,"d":"7686"},{"v":-0.0513139489795485,"d":"-5.13%"},{"v":13076.4489,"d":"13076"},{"v":-0.0563123801315746,"d":"-5.63%"},{"v":116328.0862,"d":"116328"},{"v":116328.0862,"d":"116328"},{"$nulls":3},{"v":8660.78,"d":"8661"},{"$f":"(HH27-IJ27)/IJ27","v":{"v":-0.0119705078082664,"d":"-1.20%"}},{"v":12259.1646,"d":"12259.16"},{"v":-0.0123047658334065,"d":"-1.23%"},{"v":10672.1246,"d":"10672.12"},{"v":-0.0420786972709615,"d":"-4.21%"},{"v":8856.1026,"d":"8856.10"},{"v":-0.0430800665600552,"d":"-4.31%"},{"v":10920.6435,"d":"10920.64"},{"v":0.0262383439067869,"d":"2.62%"},null,{"v":9687.7023,"d":"9687.70"},{"$f":"(HS27-IT27)/IT27","v":{"v":-0.0274367734163236,"d":"-2.74%"}},{"v":9863.2957,"d":"9863.30"},{"v":-0.0209924276337274,"d":"-2.10%"},{"v":9667.067,"d":"9667.07"},{"v":-0.0274903348279183,"d":"-2.75%"},{"v":10478.8105,"d":"10478.81"},{"$f":"(HY27-IZ27)/IZ27","v":{"v":-0.0378962701394474,"d":"-3.79%"}},{"v":9634.2138,"d":"9634.21"},{"v":-0.0300606274162371,"d":"-3.01%"},{"v":8101.9432,"d":"8101.94"},{"v":-0.041746961233177,"d":"-4.17%"},{"v":13856.7558,"d":"13,856.76"},{"v":-0.0427099541183526,"d":"-4.27%"},{"v":122658.6036,"d":"122659"},null,null,{"v":8765.71,"d":"8766"},{"v":-0.0595919445032559,"d":"-5.96%"},{"v":12411.89,"d":"12412"},{"v":-0.0400001713244083,"d":"-4.00%"},{"v":11140.92,"d":"11141"},{"v":-0.00600022853019971,"d":"-0.60%"},{"v":9254.8,"d":"9254.80"},{"v":-0.00732721261901362,"d":"-0.73%"},10641.43,{"v":-0.0341535108208919,"d":"-3.42%"},{"v":9961,"d":"9961.00"},{"v":-4.68295729191129E-3,"d":"-0.47%"},10074.79,{"v":-0.0496624089014702,"d":"-4.97%"},{"v":9940.33,"d":"9,940.33"},{"v":-0.0378598907931624,"d":"-3.79%"},10891.56,{"v":-0.0380499410116439,"d":"-3.80%"},{"v":9932.8,"d":"9,932.80"},{"v":-0.0146464141095178,"d":"-1.46%"},{"v":8454.91,"d":"8,454.91"},{"v":-0.0432857062305756,"d":"-4.33%"},{"v":14474.9816,"d":"14,474.98"},{"v":-0.0312949036107623,"d":"-3.13%"},{"v":129922.731563765,"d":"129923"},{"v":9321.17706644884,"d":"9321"},{"v":12929.0543906902,"d":"12929"},{"v":11208.1715909514,"d":"11208"},{"v":9323.11242702377,"d":"9323"},{"v":11017.7239542946,"d":"11018"},{"v":10007.8664109858,"d":"10008"},{"v":10601.2748462935,"d":"10601"},{"v":10331.4786535555,"d":"10331"},{"v":11322.3757285843,"d":"11322"},{"v":10080.4423328135,"d":"10080"},{"v":8837.44505027506,"d":"8837"},{"v":14942.6091118486,"d":"14943"}]
["荆门市","客运量            （万人）",39.055,{"$f":"C28/R28-1","v":{"v":-0.339186550572406,"d":"-33.92%"}},40.8426,{"v":-0.273060267726037,"d":"-27.31%"},40.7877,{"v":-0.260702653029042,"d":"-26.07%"},41.5487,{"$f":"I28/X28-1","v":{"v":-0.255338253691165,"d":"-25.53%"}},41.3523,{"v":-0.140797486738682,"d":"-14.08%"},35.2665,{"v":-0.294585350242029,"d":"-29.46%"},{"v":238.8528,"d":"238.85"},{"v":-0.263651573319374,"d":"-26.37%"},null,{"v":59.1014,"d":"59.10"},{"$f":"R28/AS28-1","v":{"v":-0.124247255743379,"d":"-12.42%"}},{"v":56.1843,"d":"56.18"},{"v":-0.106757944841993,"d":"-10.68%"},55.1709,{"v":-0.112327299231082,"d":"-11.23%"},55.7954,{"$f":"X28/AY28-1","v":{"v":-0.116188080544397,"d":"-11.62%"}},48.1287,{"v":-0.24924306119934,"d":"-24.92%"},49.994,{"v":-0.190280909067351,"d":"-19.03%"},48.8363,{"$f":"AD28/BE28-1","v":{"v":-0.223851064742782,"d":"-22.39%"}},47.4127,{"v":-0.24349805978913,"d":"-24.35%"},47.5084,{"v":-0.229347737927231,"d":"-22.93%"},48.6599,{"$f":"AJ28/BK28-1","v":{"v":-0.272865701037506,"d":"-27.29%"}},46.5076,{"v":-0.237667808612127,"d":"-23.77%"},45.0386,{"v":-0.204655663825895,"d":"-20.47%"},{"v":608.3382,"d":"608.34"},{"v":-0.192451227209884,"d":"-19.25%"},null,{"v":67.4864,"d":"67.49"},{"v":0.239581286081381,"d":"23.96%"},62.8993,{"$f":"AU28/BV28-1","v":{"v":0.136552215126974,"d":"13.66%"}},62.1523,{"v":0.0403294784819619,"d":"4.03%"},{"v":63.1304,"d":"63.13"},{"v":0.0145015105740181,"d":"1.45%"},{"v":64.1069,"d":"64.11"},{"$f":"BA28/CB28-1","v":{"v":0.0263459133895707,"d":"2.63%"}},{"v":61.7424,"d":"61.74"},{"v":-0.029070151436524,"d":"-2.91%"},{"v":62.9213,"d":"62.92"},{"v":-0.014049349790576,"d":"-1.40%"},{"v":62.6736,"d":"62.67"},{"$f":"BG28/CH28-1","v":{"v":-0.0350083837203394,"d":"-3.50%"}},{"v":61.647,"d":"61.65"},{"v":-0.0519740352808924,"d":"-5.20%"},{"v":66.9201,"d":"66.92"},{"v":-0.0332482924405098,"d":"-3.32%"},{"v":61.007,"d":"61.01"},{"v":-0.129941826883995,"d":"-12.99%"},{"v":56.6278,"d":"56.63"},{"v":-0.158393945789131,"d":"-15.84%"},{"v":753.3145,"d":"753.31"},{"v":-0.00647696496622718,"d":"-0.65%"},null,{"v":54.4429,"d":"54.44"},{"v":-0.0643202590340533,"d":"-6.43%"},{"v":55.3422,"d":"55.34"},{"v":-0.0625860687601526,"d":"-6.26%"},{"v":59.7429,"d":"59.74"},{"v":0.0782029139302325,"d":"7.82%"},{"v":62.228,"d":"62.2280"},{"v":0.205641880110048,"d":"20.56%"},62.4613,{"v":0.120054584937498,"d":"12.01%"},{"v":63.591,"d":"63.5910"},{"v":0.0572561981272612,"d":"5.73%"},63.8179,{"v":0.0370756170331705,"d":"3.71%"},{"v":64.9473,"d":"64.95"},{"v":0.0507758591400267,"d":"5.08%"},{"$f":"58.8355+CJ30","v":{"v":65.0267,"d":"65.03"}},{"v":0.0683443190704951,"d":"6.83%"},{"$f":"62.4026+CL30","v":{"v":69.2216,"d":"69.22"}},{"v":0.58311987704918,"d":"58.31%"},{"v":70.1183,"d":"70.12"},{"v":0.669272687018067,"d":"66.93%"},{"v":67.2854,"d":"67.29"},{"v":0.675070390627528,"d":"67.51%"},758.2255,{"v":0.166015348072018,"d":"16.60%"},{"v":-0.0404017210913558,"d":"-4.04%"},null,{"v":58.1854,"d":"58.19"},{"v":59.0371,"d":"59.04"},{"v":55.4097,"d":"55.41"},{"v":51.614,"d":"51.61"},{"v":55.7663,"d":"55.77"},{"v":60.1472,"d":"60.15"},{"v":61.5364,"d":"61.54"},{"v":61.8089,"d":"61.81"},{"v":60.8668,"d":"60.87"},{"v":43.7248,"d":"43.72"},{"v":42.0053,"d":"42.01"},{"v":40.1687,"d":"40.17"},{"v":650.2706,"d":"650.27"},{"v":0.121126439056618,"d":"12.11%"},null,{"v":50.2478,"d":"50.25"},{"v":-1.55982061069471E-3,"d":"-0.16%"},46.5906,null,49.1175,{"v":3.29194956353055,"d":"329.19%"},{"v":145.9559,"d":"145.96"},49.2572,{"$f":"(DR28-ER28)/ER28","v":{"v":0.633152966764807,"d":"63.32%"}},50.3263,{"v":-0.0471084535817004,"d":"-4.71%"},49.0023,{"v":-0.400825354902608,"d":"-40.08%"},49.8045,{"$f":"(DX28-EX28)/EX28","v":{"v":-0.415120928675862,"d":"-41.51%"}},15.1727,{"v":-0.734169053813741,"d":"-73.42%"},49.9943,{"v":-0.10331202559798,"d":"-10.33%"},55.0004,{"$f":"(ED28-FD28)/FD28","v":{"v":-0.110149720265465,"d":"-11.01%"}},53.9605,{"v":-0.0786078843523592,"d":"-7.86%"},61.5413,{"v":0.0832104171873735,"d":"8.32%"},580.0154,{"v":-0.178539547242848,"d":"-17.85%"},154.7052,{"v":-0.0366754651916529,"d":"-3.67%"},{"v":0,"d":"0.0000"},{"v":-1,"d":"-100.00%"},11.4441,{"v":-0.928682755075015,"d":"-92.87%"},30.1608,{"v":-0.80156441517992,"d":"-80.16%"},52.8143,{"v":-0.648341894910661,"d":"-64.83%"},{"v":81.783,"d":"81.7830"},{"v":-0.459406400028556,"d":"-45.94%"},85.1535,{"v":-0.429841975966634,"d":"-42.98%"},57.0765,{"v":-0.617998666795168,"d":"-61.80%"},55.7544,{"v":-0.626361077603538,"d":"-62.64%"},61.8086,{"$f":"(FD28-FU28)/FU28","v":{"v":-0.594378527365796,"d":"-59.44%"}},58.5641,{"v":-0.612247384210383,"d":"-61.22%"},56.8138,{"v":-0.605443282358987,"d":"-60.54%"},706.0783,{"v":-0.614956852956168,"d":"-61.50%"},{"v":160.5951,"d":"161"},{"v":163.8446,"d":"164"},{"v":160.4675,"d":"160"},{"v":151.9929,"d":"152"},{"v":150.1865,"d":"150"},{"v":151.2837,"d":"151"},"149.3507","149.4144","149.2200","152.3800",{"$f":"(FU28-GW28)/GW28","v":{"v":-0.0979193775063551,"d":"-9.79%"}},"151.0347",{"v":-0.0920956530991199,"d":"-9.21%"},"143.9940",{"v":-0.0990785817654666,"d":"-9.91%"},{"v":1833.7641,"d":"1833.76"},{"v":-0.173220652647272,"d":"-17.32%"},null,null,{"v":262.7942,"d":"263"},{"$f":"(GE28-HH28)/HH28","v":{"v":0,"d":"0.00%"}},{"v":202.0814,"d":"202"},{"v":-0.42196743097367,"d":"-42.20%"},{"v":200.005,"d":"200"},{"v":-0.295429069447116,"d":"-29.54%"},{"v":184.6344,"d":"185"},{"v":-0.177922561910355,"d":"-17.79%"},{"v":183.255,"d":"183"},{"v":-0.171292454557993,"d":"-17.13%"},181.5575,{"$f":"(GO28-HS28)/HS28","v":{"v":-0.237153361344538,"d":"-23.72%"}},{"v":169.7079,"d":"170"},{"v":-0.268500431034483,"d":"-26.85%"},{"v":169.8955,"d":"170"},{"v":-0.236424719101124,"d":"-23.64%"},{"v":168.9242,"d":"169"},{"$f":"(GU28-HY28)/HY28","v":{"v":-0.257605269588239,"d":"-25.76%"}},{"v":168.9206,"d":"169"},{"v":-0.292177355622209,"d":"-29.22%"},{"v":166.3553,"d":"166"},{"v":-0.199198501944776,"d":"-19.92%"},{"v":159.8297,"d":"160"},{"v":-0.302767994011375,"d":"-30.28%"},{"v":2217.9607,"d":"2218"},{"v":2217.9607,"d":"2218"},{"$nulls":3},{"v":262.7942,"d":"263"},{"$f":"(HH28-IJ28)/IJ28","v":{"v":0.0080001227424498,"d":"0.80%"}},{"v":349.6021,"d":"349.60"},{"v":-0.0120000576518242,"d":"-1.20%"},{"v":283.8678,"d":"283.87"},{"v":-0.00800015096602539,"d":"-0.80%"},224.5949,{"v":-0.00400005498966955,"d":"-0.40%"},221.1335,{"v":-1.00020374520731E-3,"d":"-0.10%"},null,238,{"$f":"(HS28-IT28)/IT28","v":{"v":-0.00410617901902787,"d":"-0.41%"}},{"v":232,"d":"232.00"},{"v":-0.00646397960852968,"d":"-0.65%"},{"v":222.5,"d":"222.50"},{"v":-0.000893134182521822,"d":"-0.09%"},{"v":227.5396,"d":"227.54"},{"$f":"(HY28-IZ28)/IZ28","v":{"v":0.0138045003303759,"d":"1.38%"}},{"v":238.6482,"d":"238.65"},{"v":0.0453076351142456,"d":"4.53%"},{"v":207.736,"d":"207.74"},{"$error":"#REF!"},{"v":229.2346,"d":"229.23"},{"v":-0.076945440488678,"d":"-7.69%"},{"v":2937.6509,"d":"2938"},null,null,{"v":260.7085,"d":"261"},{"v":0.0500000278446802,"d":"5.00%"},{"v":353.8483,"d":"354"},{"v":0.0389997416253702,"d":"3.90%"},{"v":286.1571,"d":"286"},{"v":0.0459435070308328,"d":"4.59%"},{"v":225.4969,"d":"225.50"},{"v":0.0450001691295887,"d":"4.50%"},{"v":221.3549,"d":"221.35"},{"v":0.0300001528416434,"d":"3.00%"},{"v":238.9813,"d":"238.98"},{"v":0.0409999377325844,"d":"4.10%"},{"v":233.5094,"d":"233.51"},{"v":0.0209999870337504,"d":"2.10%"},222.6989,{"v":0.00860556369608534,"d":"0.86%"},224.4413,{"v":0.0120001323794882,"d":"1.20%"},{"v":228.304273290721,"d":"228"},{"v":0,"d":"0.00%"},{"$f":"JS28*#REF!","v":{"$error":"#REF!"}},{"$error":"#REF!"},248.3435,{"v":0.0179998898655098,"d":"1.80%"},{"v":2871.32422566205,"d":"2871"},{"v":248.29380293937,"d":"248"},{"v":340.566302207596,"d":"341"},{"v":273.587529418608,"d":"274"},{"v":215.786472252749,"d":"216"},{"v":214.90763801278,"d":"215"},{"v":229.56898587384,"d":"230"},{"v":228.7065650984,"d":"229"},{"v":220.798801846689,"d":"221"},{"v":221.779911700483,"d":"222"},{"v":228.304273290721,"d":"228"},{"v":205.071559064453,"d":"205"},{"v":243.952383956357,"d":"244"}]
[null,"旅客周转量        （万人公里）",2914.7385,{"$f":"C29/R29-1","v":{"v":-0.288585165740723,"d":"-28.86%"}},3370.793718,{"v":-0.146439565856293,"d":"-14.64%"},3406.832473,{"v":-0.199467070043567,"d":"-19.95%"},3476.813709,{"$f":"I29/X29-1","v":{"v":-0.237051830282796,"d":"-23.71%"}},3514.446795,{"v":-0.0775268960298409,"d":"-7.75%"},3038.760275,{"v":-0.192301246176285,"d":"-19.23%"},{"v":19722.38547,"d":"19722.39"},{"v":-0.192732328226819,"d":"-19.27%"},null,{"v":4097.1011,"d":"4097.10"},{"$f":"R29/AS29-1","v":{"v":-0.02819078518468,"d":"-2.82%"}},{"v":3949.0979,"d":"3949.10"},{"v":-0.0720586297782656,"d":"-7.21%"},4255.7056,{"v":-0.0285273636045149,"d":"-2.85%"},4557.0772,{"$f":"X29/AY29-1","v":{"v":-0.0373947531404016,"d":"-3.74%"}},3809.8095,{"v":-0.20312199783163,"d":"-20.31%"},3762.2446,{"v":-0.135034877186501,"d":"-13.50%"},3863.2014,{"$f":"AD29/BE29-1","v":{"v":-0.147066223046473,"d":"-14.71%"}},3833.8786,{"v":-0.166638459579142,"d":"-16.66%"},4060.267,{"v":-0.0869129109602758,"d":"-8.69%"},3956.287441,{"$f":"AJ29/BK29-1","v":{"v":-0.264870761275633,"d":"-26.49%"}},3699.532092,{"v":-0.220925584181761,"d":"-22.09%"},3376.6286,{"v":-0.173149634332527,"d":"-17.31%"},{"v":47220.831033,"d":"47220.83"},{"v":-0.133684640600996,"d":"-13.37%"},null,{"v":4215.9521,"d":"4215.95"},{"v":0.383358850512859,"d":"38.34%"},4255.7623,{"$f":"AU29/BV29-1","v":{"v":0.187171532491403,"d":"18.72%"}},4380.6747,{"v":0.0609113180834269,"d":"6.09%"},{"v":4734.108,"d":"4734.11"},{"v":-0.022187735424,"d":"-2.22%"},{"v":4780.9194,"d":"4780.92"},{"$f":"BA29/CB29-1","v":{"v":0.0337753127050058,"d":"3.38%"}},{"v":4349.5911,"d":"4349.59"},{"v":-0.0942834040004453,"d":"-9.43%"},{"v":4529.3099,"d":"4529.31"},{"v":-0.0217161139244116,"d":"-2.17%"},{"v":4600.4986,"d":"4600.50"},{"$f":"BG29/CH29-1","v":{"v":-0.0194265712268571,"d":"-1.94%"}},{"v":4446.7467,"d":"4446.75"},{"v":-0.0325954918209417,"d":"-3.26%"},{"v":5381.7577,"d":"5381.76"},{"v":0.101906109032028,"d":"10.19%"},{"v":4748.6248,"d":"4748.62"},{"v":-0.121175327752643,"d":"-12.12%"},{"v":4083.7239,"d":"4083.72"},{"v":-0.0873040618989146,"d":"-8.73%"},{"v":54507.6692,"d":"54507.67"},{"v":0.0148505893778517,"d":"1.49%"},null,3047.62,{"v":-0.224401644276047,"d":"-22.44%"},{"v":3584.7914,"d":"3584.79"},{"v":-0.132642825552558,"d":"-13.26%"},{"v":4129.162,"d":"4129.16"},{"v":0.199345367270949,"d":"19.93%"},4841.5306,{"v":0.525584320625248,"d":"52.56%"},4624.7181,{"v":0.323991138561161,"d":"32.40%"},4802.3754,{"v":0.158086728291871,"d":"15.81%"},4629.8523,{"v":0.0163122797813713,"d":"1.63%"},{"v":4691.6411,"d":"4691.64"},{"v":0.0611147480467571,"d":"6.11%"},{"$f":"4424.2155+CJ31","v":{"v":4596.5743,"d":"4596.57"}},{"v":0.112038922886325,"d":"11.20%"},{"$f":"4700.3884+CL31","v":{"v":4884.0438,"d":"4884.04"}},{"v":0.863687444254914,"d":"86.37%"},{"v":5403.3813,"d":"5403.38"},{"v":1.18292893890073,"d":"118.29%"},{"v":4474.3531,"d":"4474.35"},{"v":1.01679955202998,"d":"101.68%"},53710.0434,{"v":0.256565796045484,"d":"25.66%"},{"v":-0.171934599544178,"d":"-17.19%"},null,{"v":3929.37914,"d":"3929.38"},{"v":4133.00484,"d":"4133.00"},{"v":3442.8465,"d":"3442.85"},{"v":3173.55818,"d":"3173.56"},{"v":3493.01288,"d":"3493.01"},{"v":4146.81844,"d":"4146.82"},{"v":4555.54104,"d":"4555.54"},{"v":4421.42672,"d":"4421.43"},{"v":4133.4653,"d":"4133.47"},{"v":2620.6346,"d":"2620.63"},{"v":2475.2896,"d":"2475.29"},{"v":2218.5413,"d":"2218.54"},{"v":42743.51854,"d":"42743.52"},{"v":0.0157908283273866,"d":"1.58%"},null,{"v":2758.5838,"d":"2,758.58"},{"v":-0.259032511462353,"d":"-25.90%"},2938.5911,null,3740.5654,{"v":1.1556706430281,"d":"115.57%"},{"v":9437.7403,"d":"9437.74"},3528.9356,{"$f":"(DR29-ER29)/ER29","v":{"v":-0.158499058271963,"d":"-15.85%"}},3722.9485,{"v":-0.20565207595983,"d":"-20.57%"},3134.1738,{"v":-0.502790824388176,"d":"-50.28%"},{"v":3439.86,"d":"3439.8600"},{"$f":"(DX29-EX29)/EX29","v":{"v":-0.46596373041317,"d":"-46.60%"}},954.0851,{"v":-0.681940315056356,"d":"-68.19%"},4061.8927,{"v":0.375912514583466,"d":"37.59%"},4970.1535,{"$f":"(ED29-FD29)/FD29","v":{"v":0.490346168535794,"d":"49.03%"}},4496.2061,{"v":0.389837133453828,"d":"38.98%"},4333.0598,{"v":0.436545641107249,"d":"43.65%"},42079.0554,{"v":-0.14568978946648,"d":"-14.57%"},10356.4748,{"v":-0.020943743705638,"d":"-2.09%"},{"v":0,"d":"0.0000"},{"v":-1,"d":"-100.00%"},1735.2212,{"v":-0.831582712405701,"d":"-83.16%"},4193.6205,{"v":-0.582040242602447,"d":"-58.20%"},4686.7983,{"v":-0.520217960837762,"d":"-52.02%"},6303.5317,{"v":-0.377659427530115,"d":"-37.77%"},6441.2479,{"v":-0.332416388655723,"d":"-33.24%"},2999.7046,{"v":-0.69882849514407,"d":"-69.88%"},2952.1446,{"v":-0.700408666403651,"d":"-70.04%"},3334.8987,{"$f":"(FD29-FU29)/FU29","v":{"v":-0.715757366322595,"d":"-71.58%"}},3235.0597,{"v":-0.717525309265222,"d":"-71.75%"},{"v":3016.305,"d":"3016.3050"},{"v":-0.698420077968724,"d":"-69.84%"},{"v":49255.007,"d":"49255.0070"},{"v":-0.603248243184397,"d":"-60.32%"},{"v":10578.0181,"d":"10578"},{"v":10684.1858,"d":"10684"},{"v":10303.1062,"d":"10303"},{"v":10033.5509,"d":"10034"},{"v":9768.5989,"d":"9769"},{"v":10128.7494,"d":"10129"},"9,648.6010","9,960.1209","9,853.9052","11,732.5774",{"$f":"(FU29-GW29)/GW29","v":{"v":-0.0935284492780381,"d":"-9.35%"}},"11,452.5648",{"v":-0.104683642487977,"d":"-10.47%"},"10,001.6771",{"v":-0.0421035697801711,"d":"-4.21%"},{"v":124145.6557,"d":"124145.66"},{"v":-0.227616073995524,"d":"-22.76%"},null,null,{"v":13134.6475,"d":"13135"},{"$f":"(GE29-HH29)/HH29","v":{"v":0,"d":"0.00%"}},{"v":15709.4386,"d":"15709"},{"v":-0.113747949044407,"d":"-11.37%"},{"v":15668.8191,"d":"15669"},{"v":0.00329003403964386,"d":"0.33%"},{"v":13630.4838,"d":"13630"},{"v":0.0617102680719379,"d":"6.17%"},{"v":13845.4423,"d":"13845"},{"v":-0.0878824732640673,"d":"-8.79%"},13686.7384,{"$f":"(GO29-HS29)/HS29","v":{"v":-0.0021333916593759,"d":"-0.21%"}},{"v":12921.94,"d":"12922"},{"v":-0.105748096885813,"d":"-10.57%"},{"v":13019.3806,"d":"13019"},{"v":-0.0633539136690647,"d":"-6.34%"},{"v":12937.5499,"d":"12938"},{"$f":"(GU29-HY29)/HY29","v":{"v":-0.188085608450409,"d":"-18.81%"}},{"v":12943.1281,"d":"12943"},{"v":-0.0791287518657544,"d":"-7.91%"},{"v":12791.6403,"d":"12792"},{"v":0.113339329102281,"d":"11.33%"},{"v":10441.2928,"d":"10441"},{"v":-0.474605840010225,"d":"-47.46%"},{"v":160730.5014,"d":"160731"},{"v":160730.5014,"d":"160731"},{"$nulls":3},{"v":13134.6475,"d":"13135"},{"$f":"(HH29-IJ29)/IJ29","v":{"v":0.00799999736002044,"d":"0.80%"}},{"v":17725.7007,"d":"17725.70"},{"v":-0.00600000104302775,"d":"-0.60%"},{"v":15617.4372,"d":"15617.44"},{"v":-0.00899999775370311,"d":"-0.90%"},12838.233,{"v":-0.00499999740365356,"d":"-0.50%"},{"v":15179.4499,"d":"15,179.45"},{"v":-0.0030000015829098,"d":"-0.30%"},null,{"v":13716,"d":"13,716.00"},{"$f":"(HS29-IT29)/IT29","v":{"v":-0.00300798509483851,"d":"-0.30%"}},{"v":14450,"d":"14450.00"},{"v":-2.96116394355121E-3,"d":"-0.30%"},{"v":13900,"d":"13900.00"},{"v":-0.000906558700556385,"d":"-0.09%"},{"v":15934.6232,"d":"15934.62"},{"$f":"(HY29-IZ29)/IZ29","v":{"v":0.0315602627608932,"d":"3.16%"}},{"v":14055.307,"d":"14055.31"},{"v":0.0521670643657664,"d":"5.22%"},{"v":11489.4354,"d":"11489.44"},{"$error":"#REF!"},{"v":19873.2563,"d":"19873.26"},{"v":-0.0318132900588247,"d":"-3.18%"},{"v":177914.0902,"d":"177914"},null,null,{"v":13030.4043,"d":"13030"},{"v":0.0499999994195137,"d":"5.00%"},{"v":17832.6969,"d":"17833"},{"v":0.0449999890117465,"d":"4.50%"},{"v":15759.2706,"d":"15759"},{"v":0.0466774455275081,"d":"4.67%"},{"v":12902.7467,"d":"12902.75"},{"v":0.0400000001012515,"d":"4.00%"},{"v":15225.1253,"d":"15225.13"},{"v":0.0313548095046155,"d":"3.14%"},{"v":13757.382,"d":"13757.38"},{"v":0.0280000337905088,"d":"2.80%"},{"v":14492.9159,"d":"14492.92"},{"v":0.0230011017185439,"d":"2.30%"},{"v":13912.6126,"d":"13,912.61"},{"v":0.00870003222592733,"d":"0.87%"},{"v":15447.1084,"d":"15,447.11"},{"v":0.0170000005564652,"d":"1.70%"},{"v":13358.4365791495,"d":"13358"},{"v":0,"d":"0.00%"},{"$f":"JS29*#REF!","v":{"$error":"#REF!"}},{"$error":"#REF!"},{"v":20526.2643,"d":"20,526.26"},{"v":0.0150000020330966,"d":"1.50%"},{"v":173541.333920607,"d":"173541"},{"v":12409.9088640036,"d":"12410"},{"v":17064.7819019255,"d":"17065"},{"v":15056.4729060896,"d":"15056"},{"v":12406.4872103306,"d":"12406"},{"v":14762.2575273712,"d":"14762"},{"v":13382.6668752849,"d":"13383"},{"v":14167.0579588363,"d":"14167"},{"v":13792.6163929019,"d":"13793"},{"v":15188.8971401651,"d":"15189"},{"v":13358.4365791495,"d":"13358"},{"v":11728.8301124455,"d":"11729"},{"v":20222.9204521033,"d":"20223"}]
[null,"其中个体客运量     （万人）",{"v":0.0976,"d":"0.10"},{"$f":"C30/R30-1","v":{"v":-0.882987651360748,"d":"-88.30%"}},0.0712,{"v":-0.914638532550054,"d":"-91.46%"},0.0872,{"v":-0.650780937124549,"d":"-65.08%"},0.0945,{"$f":"I30/X30-1","v":{"v":-0.661532951289398,"d":"-66.15%"}},0.1012,{"v":-0.661198526950117,"d":"-66.12%"},0.0937,{"v":-0.71441633648278,"d":"-71.44%"},{"v":0.5454,"d":"0.55"},{"v":-0.806862849251036,"d":"-80.69%"},null,{"v":0.8341,"d":"0.83"},{"$f":"R30/AS30-1","v":{"v":-0.851960314502245,"d":"-85.20%"}},{"v":0.8341,"d":"0.83"},{"v":-0.725335879873551,"d":"-72.53%"},{"v":0.2497,"d":"0.25"},{"v":-0.800319872051179,"d":"-80.03%"},{"v":0.2792,"d":"0.28"},{"$f":"X30/AY30-1","v":{"v":-0.78729239676977,"d":"-78.73%"}},{"v":0.2987,"d":"0.30"},{"v":-0.7866885667357,"d":"-78.67%"},{"v":0.3281,"d":"0.33"},{"v":-0.760388519681589,"d":"-76.04%"},{"v":0.2797,"d":"0.28"},{"$f":"AD30/BE30-1","v":{"v":-0.797612156295224,"d":"-79.76%"}},{"v":0.2587,"d":"0.26"},{"v":-0.813132042762208,"d":"-81.31%"},{"v":0.2766,"d":"0.28"},{"v":-0.808222977189212,"d":"-80.82%"},{"v":0.0923,"d":"0.09"},{"$f":"AJ30/BK30-1","v":{"v":-0.937466124661247,"d":"-93.75%"}},0.0857,{"v":-0.942347796838211,"d":"-94.23%"},0.0862,{"v":-0.913139862958484,"d":"-91.31%"},{"v":3.9031,"d":"3.90"},{"v":-0.823926125752231,"d":"-82.39%"},null,{"v":5.6343,"d":"5.63"},{"v":-1.18773267151218E-3,"d":"-0.12%"},3.0368,{"$f":"AU30/BV30-1","v":{"v":-0.467181331695763,"d":"-46.72%"}},1.2505,{"v":-0.787011173184358,"d":"-78.70%"},{"v":1.3126,"d":"1.31"},{"v":-0.77822083298133,"d":"-77.82%"},{"v":1.4003,"d":"1.40"},{"$f":"BA30/CB30-1","v":{"v":-0.773381236749688,"d":"-77.34%"}},{"v":1.3693,"d":"1.37"},{"v":-0.773065513183845,"d":"-77.31%"},{"v":1.382,"d":"1.38"},{"v":-0.764224174699309,"d":"-76.42%"},{"v":1.3844,"d":"1.38"},{"$f":"BG30/CH30-1","v":{"v":-0.768711574445335,"d":"-76.87%"}},{"v":1.4423,"d":"1.44"},{"v":-0.767040315286213,"d":"-76.70%"},{"v":1.476,"d":"1.48"},{"v":-0.783545974483062,"d":"-78.35%"},{"v":1.4865,"d":"1.49"},{"v":-0.763717573753815,"d":"-76.37%"},{"v":0.9924,"d":"0.99"},{"v":-0.837596347390643,"d":"-83.76%"},{"v":22.1674,"d":"22.17"},{"v":-0.694674005267044,"d":"-69.47%"},null,{"v":5.641,"d":"5.64"},{"v":7.60958485958486,"d":"760.96%"},{"v":5.6995,"d":"5.70"},{"v":8.05832803560076,"d":"805.83%"},{"v":5.8712,"d":"5.87"},{"v":8.39843124699856,"d":"839.84%"},5.9185,{"v":1.29987565088987,"d":"129.99%"},6.1791,{"v":1.54713714497712,"d":"154.71%"},6.0339,{"v":1.449021836188,"d":"144.90%"},{"v":5.8615,"d":"5.86"},{"v":0.892393620455866,"d":"89.24%"},{"v":5.9856,"d":"5.99"},{"v":0.0641823418554208,"d":"6.42%"},{"v":6.1912,"d":"6.19"},{"v":0.106757239899893,"d":"10.68%"},{"v":6.819,"d":"6.82"},{"v":0.219551454018672,"d":"21.96%"},{"v":6.2912,"d":"6.29"},{"v":0.132814750792279,"d":"13.28%"},{"v":6.1107,"d":"6.11"},{"v":0.119380838981499,"d":"11.94%"},72.6024,{"v":0.801897141382203,"d":"80.19%"},{"v":-0.0286908697863684,"d":"-2.87%"},null,{"v":0.6552,"d":"0.66"},{"v":0.6292,"d":"0.63"},{"v":0.6247,"d":"0.62"},{"v":2.5734,"d":"2.57"},{"v":2.4259,"d":"2.43"},{"v":2.4638,"d":"2.46"},{"v":3.0974,"d":"3.10"},{"v":5.6246,"d":"5.62"},{"v":5.594,"d":"5.59"},{"v":5.5914,"d":"5.59"},{"v":5.5536,"d":"5.55"},{"v":5.459,"d":"5.46"},{"v":40.2922,"d":"40.29"},{"v":3.46653881541753,"d":"346.65%"},null,{"v":0.8761,"d":"0.88"},null,{"v":0.98,"d":"0.9800"},null,0.7928,{"$error":"#DIV/0!"},{"v":2.6489,"d":"2.65"},0.9352,{"$f":"(DR30-ER30)/ER30","v":{"$error":"#DIV/0!"}},0.9784,{"$error":"#DIV/0!"},0.8724,{"$error":"#DIV/0!"},0.8964,{"$f":"(DX30-EX30)/EX30","v":{"$error":"#DIV/0!"}},{"v":0,"d":"0.0000"},{"$error":"#DIV/0!"},0.6084,{"$error":"#DIV/0!"},0.6736,{"$f":"(ED30-FD30)/FD30","v":{"$error":"#DIV/0!"}},0.7028,{"$error":"#DIV/0!"},0.7048,{"$error":"#DIV/0!"},9.0209,{"$error":"#DIV/0!"},{"$nulls":24},{"v":0,"d":"0.0000"}]
[null,"其中个体旅客周转量（万人公里）",{"v":2.5782,"d":"2.58"},{"$f":"C31/R31-1","v":{"v":-0.827311819314391,"d":"-82.73%"}},1.880818,{"v":-0.874022558909028,"d":"-87.40%"},2.303473,{"v":-0.651263701326228,"d":"-65.13%"},2.496309,{"$f":"I31/X31-1","v":{"v":-0.662007798854543,"d":"-66.20%"}},2.673295,{"v":-0.661629643693437,"d":"-66.16%"},2.475175,{"v":-0.714506101640176,"d":"-71.45%"},{"v":14.40727,"d":"14.41"},{"v":-0.761551154569287,"d":"-76.16%"},null,{"v":14.9298,"d":"14.93"},{"$f":"R31/AS31-1","v":{"v":-0.901098398806011,"d":"-90.11%"}},{"v":14.9298,"d":"14.93"},{"v":-0.834202679667068,"d":"-83.42%"},{"v":6.6052,"d":"6.61"},{"v":-0.850045745446455,"d":"-85.00%"},{"v":7.3857,"d":"7.39"},{"$f":"X31/AY31-1","v":{"v":-0.837740400458722,"d":"-83.77%"}},{"v":7.9005,"d":"7.90"},{"v":-0.836256691806928,"d":"-83.63%"},{"v":8.6698,"d":"8.67"},{"v":-0.816761141475498,"d":"-81.68%"},{"v":7.3901,"d":"7.39"},{"$f":"AD31/BE31-1","v":{"v":-0.844920100307428,"d":"-84.49%"}},{"v":6.8364,"d":"6.84"},{"v":-0.857465426546658,"d":"-85.75%"},{"v":7.3068,"d":"7.31"},{"v":-0.853675534087905,"d":"-85.37%"},{"v":2.438241,"d":"2.44"},{"$f":"AJ31/BK31-1","v":{"v":-0.952552973708228,"d":"-95.26%"}},{"v":2.438241,"d":"2.44"},{"v":-0.95314958178894,"d":"-95.31%"},{"v":2.2771,"d":"2.28"},{"v":-0.910227398167568,"d":"-91.02%"},{"v":89.107682,"d":"89.11"},{"v":-0.872791121899854,"d":"-87.28%"},null,{"v":150.9561,"d":"150.96"},{"v":-0.026273115000271,"d":"-2.63%"},90.0485,{"$f":"AU31/BV31-1","v":{"v":-0.426115158714782,"d":"-42.61%"}},44.0481,{"v":-0.724641549725442,"d":"-72.46%"},{"v":45.5178,"d":"45.52"},{"v":-0.717327447763289,"d":"-71.73%"},{"v":48.2493,"d":"48.25"},{"$f":"BA31/CB31-1","v":{"v":-0.708723217239489,"d":"-70.87%"}},{"v":47.3142,"d":"47.31"},{"v":-0.718885910251109,"d":"-71.89%"},{"v":47.6535,"d":"47.65"},{"v":-0.710950560102097,"d":"-71.10%"},{"v":47.9631,"d":"47.96"},{"$f":"BG31/CH31-1","v":{"v":-0.712166366209219,"d":"-71.22%"}},{"v":49.9356,"d":"49.94"},{"v":-0.710281111263249,"d":"-71.03%"},{"v":51.3887,"d":"51.39"},{"v":-0.720189550647572,"d":"-72.02%"},{"v":52.0431,"d":"52.04"},{"v":-0.70053220842039,"d":"-70.05%"},{"v":25.3652,"d":"25.37"},{"v":-0.842373164685653,"d":"-84.24%"},{"v":700.4832,"d":"700.48"},{"v":-0.647840220899216,"d":"-64.78%"},null,{"v":155.0292,"d":"155.03"},{"v":18.680149896413,"d":"1868.01%"},{"v":156.9104,"d":"156.91"},{"v":19.6857347760974,"d":"1968.57%"},{"v":159.9664,"d":"159.97"},{"v":20.3408041836762,"d":"2034.08%"},161.0266,{"v":1.0603893774148,"d":"106.04%"},165.6476,{"v":1.56626688198936,"d":"156.63%"},168.3096,{"v":1.33355803351203,"d":"133.36%"},164.8628,{"v":0.928471599333901,"d":"92.85%"},{"v":166.6348,"d":"166.63"},{"v":0.110757082163927,"d":"11.08%"},{"v":172.3588,"d":"172.36"},{"v":0.110707420384033,"d":"11.07%"},{"v":183.6554,"d":"183.66"},{"v":0.185137337020175,"d":"18.51%"},{"v":173.7853,"d":"173.79"},{"v":0.131917296612168,"d":"13.19%"},{"v":160.9193,"d":"160.92"},{"v":0.0766245279042461,"d":"7.66%"},1989.1062,{"v":0.830852710986363,"d":"83.09%"},{"v":-0.0740338797355128,"d":"-7.40%"},null,{"v":7.87744,"d":"7.88"},{"v":7.58544,"d":"7.59"},{"v":7.4958,"d":"7.50"},{"v":78.15348,"d":"78.15"},{"v":64.54808,"d":"64.55"},{"v":72.12574,"d":"72.13"},{"v":85.48884,"d":"85.49"},{"v":150.01912,"d":"150.02"},{"v":155.1793,"d":"155.18"},{"v":154.9655,"d":"154.97"},{"v":153.5318,"d":"153.53"},{"v":149.4665,"d":"149.47"},{"v":1086.43704,"d":"1086.44"},{"v":8.88829663878549,"d":"888.83%"},null,{"v":10.5879,"d":"10.59"},null,{"v":11.885,"d":"11.8850"},null,8.9493,{"$error":"#DIV/0!"},{"v":31.4222,"d":"31.42"},11.2088,{"$f":"(DR31-ER31)/ER31","v":{"$error":"#DIV/0!"}},12.1689,{"$error":"#DIV/0!"},{"v":10.785,"d":"10.7850"},{"$error":"#DIV/0!"},11.4597,{"$f":"(DX31-EX31)/EX31","v":{"$error":"#DIV/0!"}},{"v":0,"d":"0.0000"},{"$error":"#DIV/0!"},7.6579,{"$error":"#DIV/0!"},8.1785,{"$f":"(ED31-FD31)/FD31","v":{"$error":"#DIV/0!"}},{"v":8.483,"d":"8.4830"},{"$error":"#DIV/0!"},{"v":8.507,"d":"8.5070"},{"$error":"#DIV/0!"},{"v":109.871,"d":"109.8710"},{"$error":"#DIV/0!"},{"$nulls":24},{"v":0,"d":"0.0000"}]
["孝感市","客运量            （万人）",59.3255,{"$f":"C32/R32-1","v":{"v":-0.194619984659558,"d":"-19.46%"}},60.7363,{"v":-0.159569713331332,"d":"-15.96%"},56.7931,{"v":-0.238385986745233,"d":"-23.84%"},61.8497,{"$f":"I32/X32-1","v":{"v":-0.212850766726525,"d":"-21.29%"}},62.0998,{"v":-0.294334888604551,"d":"-29.43%"},62.8884,{"v":-0.135023168874896,"d":"-13.50%"},{"v":363.6928,"d":"363.69"},{"v":-0.208985854986424,"d":"-20.90%"},null,{"v":73.6615,"d":"73.66"},{"$f":"R32/AS32-1","v":{"v":-0.176084568733907,"d":"-17.61%"}},{"v":72.2681,"d":"72.27"},{"v":-0.151141238212921,"d":"-15.11%"},74.5694,{"v":-0.158369365617357,"d":"-15.84%"},78.5743,{"$f":"X32/AY32-1","v":{"v":-0.160810712668427,"d":"-16.08%"}},88.0018,{"v":-0.0512150129215403,"d":"-5.12%"},72.7053,{"v":-0.152618881118881,"d":"-15.26%"},66.0679,{"$f":"AD32/BE32-1","v":{"v":-0.192063208663921,"d":"-19.21%"}},64.5414,{"v":-0.183146400176175,"d":"-18.31%"},66.3654,{"v":-0.142599124064959,"d":"-14.26%"},69.6476,{"$f":"AJ32/BK32-1","v":{"v":-0.191636838024671,"d":"-19.16%"}},65.118,{"v":-0.229349980768662,"d":"-22.93%"},62.5022,{"v":-0.164985117218603,"d":"-16.50%"},{"v":854.0229,"d":"854.02"},{"v":-0.16191817066755,"d":"-16.19%"},null,{"v":89.4042,"d":"89.40"},{"v":-0.00802089493615121,"d":"-0.80%"},85.1356,{"$f":"AU32/BV32-1","v":{"v":-0.0669492485780487,"d":"-6.69%"}},88.6011,{"v":-0.136569436106932,"d":"-13.66%"},{"v":93.6312,"d":"93.63"},{"v":-0.109823193357843,"d":"-10.98%"},{"v":92.7521,"d":"92.75"},{"$f":"BA32/CB32-1","v":{"v":-0.112420945051727,"d":"-11.24%"}},{"v":85.8,"d":"85.80"},{"v":-0.191468389523767,"d":"-19.15%"},{"v":81.7736,"d":"81.77"},{"v":-0.258441353518462,"d":"-25.84%"},{"v":79.0122,"d":"79.01"},{"$f":"BG32/CH32-1","v":{"v":-0.223106171222593,"d":"-22.31%"}},{"v":77.403,"d":"77.40"},{"v":-0.247839078784345,"d":"-24.78%"},{"v":86.1588,"d":"86.16"},{"v":-0.208728354754722,"d":"-20.87%"},{"v":84.4975,"d":"84.50"},{"v":-0.176189515165874,"d":"-17.62%"},{"v":74.8516,"d":"74.85"},{"v":-0.215923791726156,"d":"-21.59%"},{"v":1019.0209,"d":"1019.02"},{"v":-0.165824704448504,"d":"-16.58%"},null,{"v":90.1271,"d":"90.13"},{"v":-0.296793452860706,"d":"-29.68%"},{"v":91.24434,"d":"91.24"},{"v":-0.314391532642247,"d":"-31.44%"},{"v":102.6152,"d":"102.62"},{"v":-0.132988044442567,"d":"-13.30%"},105.1827,{"v":0.193630276895143,"d":"19.36%"},104.5001,{"v":0.00213661074845639,"d":"0.21%"},106.1183,{"v":0.00400207010150888,"d":"0.40%"},110.2726,{"v":0.0652134433780003,"d":"6.52%"},{"v":101.7027,"d":"101.70"},{"v":0.0300551373775511,"d":"3.01%"},{"$f":"90.7712+CJ34","v":{"v":102.9075,"d":"102.91"}},{"v":0.522496238421217,"d":"52.25%"},{"$f":"96.9351+CL34","v":{"v":108.8865,"d":"108.89"}},{"v":0.712779009957057,"d":"71.28%"},{"v":102.5691,"d":"102.57"},{"v":1.69090169740536,"d":"169.09%"},{"v":95.4647,"d":"95.46"},{"v":1.13435775673186,"d":"113.44%"},{"v":1221.59084,"d":"1221.5908"},{"v":0.116664162014779,"d":"11.67%"},{"v":-0.0692645250860153,"d":"-6.93%"},null,{"v":128.1659,"d":"128.17"},{"v":133.0852,"d":"133.09"},{"v":118.355,"d":"118.36"},88.12,{"v":104.2773,"d":"104.28"},{"v":105.6953,"d":"105.70"},{"v":103.5216,"d":"103.52"},{"v":98.7352,"d":"98.74"},{"v":67.5913,"d":"67.59"},{"v":63.573,"d":"63.57"},{"v":38.117,"d":"38.12"},{"v":44.7276,"d":"44.73"},{"v":1093.9644,"d":"1093.96"},{"v":-0.341006817729204,"d":"-34.10%"},null,153.2798,{"$f":"(DK32-DT32)/DT32","v":{"v":0.0143765295412401,"d":"1.44%"}},{"v":158.168,"d":"158.1680"},null,142.5601,{"v":1.78166048780488,"d":"178.17%"},{"v":454.0079,"d":"454.01"},145.3739,{"$f":"(DR32-ER32)/ER32","v":{"v":-0.278827760690545,"d":"-27.88%"}},151.1074,{"v":-0.269942023383902,"d":"-26.99%"},142.0322,{"v":-0.346918337318374,"d":"-34.69%"},140.3826,{"$f":"(DX32-EX32)/EX32","v":{"v":-0.350951962642748,"d":"-35.10%"}},107.8136,{"v":-0.0985484949832776,"d":"-9.85%"},124.9627,{"v":-0.199829032464622,"d":"-19.98%"},139.1247,{"$f":"(ED32-FD32)/FD32","v":{"v":-0.207402153478038,"d":"-20.74%"}},130.4864,{"v":-0.182876823846202,"d":"-18.29%"},124.7628,{"v":-0.156894174888498,"d":"-15.69%"},1660.0542,{"v":-0.224059810882439,"d":"-22.41%"},{"v":486.86,"d":"486.8600"},{"$f":"(EL32-FL32)/FL32","v":{"v":-0.096516785124427,"d":"-9.65%"}},{"v":0,"d":"0.0000"},{"$f":"(EN32-FM32)/FM32","v":{"v":-1,"d":"-100.00%"}},{"v":51.25,"d":"51.2500"},{"$f":"(EP32-FN32)/FN32","v":{"v":-0.908374155254407,"d":"-90.84%"}},{"v":201.58,"d":"201.5800"},{"$f":"(ER32-FO32)/FO32","v":{"v":-0.546766795575142,"d":"-54.68%"}},{"v":206.98,"d":"206.9800"},{"$f":"(ET32-FP32)/FP32","v":{"v":-0.516232324412762,"d":"-51.62%"}},{"v":217.48,"d":"217.4800"},{"$f":"(EV32-FQ32)/FQ32","v":{"v":-0.51541889483066,"d":"-51.54%"}},{"v":216.29,"d":"216.2900"},{"$f":"(EX32-FR32)/FR32","v":{"v":-0.515099204125098,"d":"-51.51%"}},{"v":119.6,"d":"119.6000"},{"$f":"(EZ32-FS32)/FS32","v":{"v":-0.718707370995814,"d":"-71.87%"}},{"v":156.17,"d":"156.1700"},{"$f":"(FB32-FT32)/FT32","v":{"v":-0.649740955884002,"d":"-64.97%"}},{"v":175.53,"d":"175.5300"},{"$f":"(FD32-FU32)/FU32","v":{"v":-0.614296073304181,"d":"-61.43%"}},{"v":159.69,"d":"159.6900"},{"v":-0.608823457364721,"d":"-60.88%"},{"v":147.98,"d":"147.9800"},{"v":-0.691051818447534,"d":"-69.11%"},{"v":2139.41,"d":"2139.4100"},{"$f":"(FJ32-(FL32+FM32+FN32+FO32+FP32+FQ32+FR32+FS32+FT32+FU32+FW32+FY32))/(FL32+FM32+FN32+FO32+FP32+FQ32+FR32+FS32+FT32+FU32+FW32+FY32)","v":{"v":-0.630877821371512,"d":"-63.09%"}},{"v":538.87,"d":"539"},{"v":716.92,"d":"717"},{"v":559.34,"d":"559"},{"v":444.76,"d":"445"},{"v":427.85,"d":"428"},{"v":448.8,"d":"449"},446.05,"425.1800","445.8700","455.0900",{"$f":"(FU32-GW32)/GW32","v":{"v":-0.106492843539552,"d":"-10.65%"}},"408.2300",{"v":-0.106815446887649,"d":"-10.68%"},"478.9800",{"v":-0.107213420316869,"d":"-10.72%"},{"$f":"FL32+FM32+FN32+FO32+FP32+FQ32+FR32+FS32+FT32+FU32+FW32+FY32","v":5795.94},{"$f":"(GA32-HC32)/HC32","v":{"v":-0.112050409585543,"d":"-11.21%"}},null,null,{"v":580.38,"d":"580"},{"$f":"(GE32-HH32)/HH32","v":{"v":-0.0162050378004544,"d":"-1.62%"}},{"v":786.27,"d":"786"},{"v":-0.0385899270019442,"d":"-3.86%"},{"v":616.05,"d":"616"},{"v":-0.040211261022653,"d":"-4.02%"},{"v":493.37,"d":"493"},{"$f":"(GK32-HN32)/HN32","v":{"v":-0.0404908691339778,"d":"-4.05%"}},{"v":492.19,"d":"492"},{"$f":"(GM32-HP32)/HP32","v":{"v":-0.0402098243013981,"d":"-4.02%"}},521.76,{"$f":"(GO32-HS32)/HS32","v":{"v":-0.05231037489102,"d":"-5.23%"}},{"v":528.62,"d":"529"},{"v":-0.0358048335613315,"d":"-3.58%"},{"v":507.98,"d":"508"},{"v":-0.04311790080434,"d":"-4.31%"},{"v":497.83,"d":"498"},{"$f":"(GU32-HY32)/HY32","v":{"v":-0.0581034548000151,"d":"-5.81%"}},{"v":509.33,"d":"509"},{"v":-0.0588354860764639,"d":"-5.88%"},{"v":457.05,"d":"457"},{"v":-0.0591032608695652,"d":"-5.91%"},{"v":536.5,"d":"537"},{"$f":"(HA32-IE32)/IE32","v":{"v":-0.0576477200871216,"d":"-5.76%"}},{"$f":"GE32+GG32+GI32+GK32+GM32+GO32+GQ32+GS32+GU32+GW32+GY32+HA32","v":{"v":6527.33,"d":"6527"}},{"$f":"HA32+GY32+GW32+GU32+GS32+GQ32+GO32+GM32+GK32+GI32+GG32+GE32","v":{"v":6527.33,"d":"6527"}},{"$nulls":3},{"v":589.94,"d":"590"},{"$f":"(HH32-IJ32)/IJ32","v":{"v":-0.0201959807340973,"d":"-2.02%"}},817.83,{"v":-0.0106097265908541,"d":"-1.06%"},641.86,{"v":-0.0154011351434269,"d":"-1.54%"},514.19,{"$f":"(HN32-IP32)/IP32","v":{"v":-0.0175964845242643,"d":"-1.76%"}},512.81,{"$f":"(HP32-IR32)/IR32","v":{"v":-0.0192962325492447,"d":"-1.93%"}},null,550.56,{"$f":"(HS32-IT32)/IT32","v":{"v":-0.0194835262689226,"d":"-1.95%"}},548.25,{"v":-0.0195990772697198,"d":"-1.96%"},530.87,{"v":-0.0167071070032784,"d":"-1.67%"},528.54,{"$f":"(HY32-IZ32)/IZ32","v":{"v":-0.0118161761956401,"d":"-1.18%"}},541.17,{"v":-0.0153025947086868,"d":"-1.53%"},485.76,{"v":-0.013104162857317,"d":"-1.31%"},569.32,{"$f":"(IE32-JF32)/JF32","v":{"v":-0.0138912945577995,"d":"-1.39%"}},{"$f":"HH32+HJ32+HL32+HN32+HP32+HS32+HU32+HW32+HY32+IA32+IC32+IE32","v":{"v":6831.1,"d":"6831"}},null,null,{"v":602.1,"d":"602"},{"$f":"IJ32/JI32-1","v":{"v":0.00257466601899026,"d":"0.26%"}},{"v":826.6,"d":"827"},{"$f":"IL32/JJ32-1","v":{"v":0.00355178736095429,"d":"0.36%"}},{"v":651.9,"d":"652"},{"$f":"(IN32-JK32)/JK32","v":{"v":-0.014783971824458,"d":"-1.48%"}},{"v":523.4,"d":"523.40"},{"$f":"(IP32-JL32)/JL32","v":{"v":3.42893767106824E-3,"d":"0.34%"}},{"v":522.9,"d":"522.90"},{"$f":"(IR32-JM32)/JM32","v":{"v":0.00687894319188602,"d":"0.69%"}},{"v":561.5,"d":"561.50"},{"$f":"(IT32-JN32)/JN32","v":{"v":0.0114411208829533,"d":"1.14%"}},559.21,{"$f":"(IV32-JO32)/JO32","v":{"v":0.011242417157427,"d":"1.12%"}},539.89,{"$f":"(IX32-JP32)/JP32","v":{"v":0.0114205053467772,"d":"1.14%"}},534.86,{"$f":"(IZ32-JQ32)/JQ32","v":{"v":-0.00240493301376988,"d":"-0.24%"}},549.58,{"$f":"(JB32-JR32)/JR32","v":{"v":-0.00385423209785484,"d":"-0.39%"}},492.21,{"$f":"(JD32-JS32)/JS32","v":{"v":-0.00709849202279486,"d":"-0.71%"}},577.34,{"$f":"(JF32-JT32)/JT32","v":{"v":-0.0214082360737665,"d":"-2.14%"}},{"v":6942.33981585278,"d":"6942"},{"v":600.553774603951,"d":"601"},{"v":823.674483380389,"d":"824"},{"v":661.682292367098,"d":"662"},{"v":521.611426928545,"d":"522"},{"v":519.327575112819,"d":"519"},{"v":555.148479142147,"d":"555"},{"v":552.993021764181,"d":"553"},{"v":533.793804995967,"d":"534"},{"v":536.149403400551,"d":"536"},{"v":551.706404532943,"d":"552"},{"v":495.728927839739,"d":"496"},{"v":589.970221784454,"d":"590"}]
[null,"旅客周转量        （万人公里）",2820.2439,{"$f":"C33/R33-1","v":{"v":-0.0637120114872203,"d":"-6.37%"}},2880.7429,{"v":-0.0501748455774035,"d":"-5.02%"},3223.1066,{"v":-0.132084155701053,"d":"-13.21%"},3740.0259,{"$f":"I33/X33-1","v":{"v":-0.122717918350702,"d":"-12.27%"}},3834.7599,{"v":-0.213665149003482,"d":"-21.37%"},4215.6505,{"v":0.0924055557055636,"d":"9.24%"},{"v":20714.5297,"d":"20714.53"},{"v":-0.0897789311125214,"d":"-8.98%"},null,{"v":3012.15431,"d":"3012.15"},{"$f":"R33/AS33-1","v":{"v":-0.0616477642925111,"d":"-6.16%"}},{"v":3032.91915,"d":"3032.92"},{"v":-0.0778028153031528,"d":"-7.78%"},3713.6165,{"v":-0.0767689692729214,"d":"-7.68%"},4263.1965,{"$f":"X33/AY33-1","v":{"v":-0.150641720073858,"d":"-15.06%"}},4876.7518,{"v":0.0652863039848803,"d":"6.53%"},3859.0526,{"v":0.0251967831628375,"d":"2.52%"},3570.2202,{"$f":"AD33/BE33-1","v":{"v":-0.0367772457327007,"d":"-3.68%"}},3408.068,{"v":-0.00891138969283167,"d":"-0.89%"},3530.7566,{"v":0.0204612392363326,"d":"2.05%"},3837.5662,{"$f":"AJ33/BK33-1","v":{"v":-0.114907271443536,"d":"-11.49%"}},4288.0104,{"v":-0.00795569940677154,"d":"-0.80%"},3095.6344,{"v":-0.0559796101668488,"d":"-5.60%"},{"v":44487.94666,"d":"44487.95"},{"v":-0.0417294361778934,"d":"-4.17%"},null,{"v":3210.0465,"d":"3210.05"},{"v":0.108768588357007,"d":"10.88%"},3288.7968,{"$f":"AU33/BV33-1","v":{"v":-0.123084217526718,"d":"-12.31%"}},4022.413,{"v":-0.212950653218127,"d":"-21.30%"},{"v":5019.3147,"d":"5019.31"},{"v":-0.160569618900426,"d":"-16.06%"},{"v":4577.879,"d":"4577.88"},{"$f":"BA33/CB33-1","v":{"v":0.0253367680857846,"d":"2.53%"}},{"v":3764.2067,"d":"3764.21"},{"v":-0.226932667458517,"d":"-22.69%"},{"v":3706.5364,"d":"3706.54"},{"v":-0.22991773362475,"d":"-22.99%"},{"v":3438.7117,"d":"3438.71"},{"$f":"BG33/CH33-1","v":{"v":-0.257320049586412,"d":"-25.73%"}},{"v":3459.9615,"d":"3459.96"},{"v":-0.256858520439539,"d":"-25.69%"},{"v":4335.7787,"d":"4335.78"},{"v":-0.169899736536928,"d":"-16.99%"},{"v":4322.3981,"d":"4322.40"},{"v":-0.111433967235902,"d":"-11.14%"},{"v":3279.2029,"d":"3279.20"},{"v":-0.187516984527158,"d":"-18.75%"},{"v":46425.246,"d":"46425.25"},{"v":-0.160370475003501,"d":"-16.04%"},null,{"v":2895.1456,"d":"2895.15"},{"v":-0.380004291567926,"d":"-38.00%"},{"v":3750.4135126,"d":"3750.41"},{"v":-0.327474088532883,"d":"-32.75%"},{"v":5110.7507,"d":"5110.75"},{"v":0.136504014727818,"d":"13.65%"},5979.4294,{"v":0.949103973660203,"d":"94.91%"},4464.7565,{"v":0.232716013097818,"d":"23.27%"},4869.1835,{"v":0.184372452685751,"d":"18.44%"},4813.1694,{"v":0.158686232311759,"d":"15.87%"},{"v":4630.1394,"d":"4630.14"},{"v":0.275422502662261,"d":"27.54%"},{"$f":"4460.9907+CJ35","v":{"v":4655.8584,"d":"4655.86"}},{"v":1.14486121966525,"d":"114.49%"},{"$f":"5022.4635+CL35","v":{"v":5223.1988,"d":"5223.20"}},{"v":1.64019722427417,"d":"164.02%"},{"v":4864.4647,"d":"4864.46"},{"v":2.85102081885908,"d":"285.10%"},{"v":4036.0264,"d":"4036.03"},{"v":1.68996604573246,"d":"169.00%"},{"v":55292.5363126,"d":"55292.5363"},{"v":0.374039344787199,"d":"37.40%"},{"v":-0.170304103553265,"d":"-17.03%"},null,{"v":4669.622,"d":"4669.62"},{"v":5576.6082,"d":"5576.61"},{"v":4496.9051,"d":"4496.91"},{"v":3067.7837,"d":"3067.78"},{"v":3621.8857,"d":"3621.89"},{"v":4111.1928,"d":"4111.19"},{"v":4153.9886,"d":"4153.99"},{"v":3630.2789,"d":"3630.28"},{"v":2170.7038,"d":"2170.70"},{"v":1978.3366,"d":"1978.34"},{"v":1263.1624,"d":"1263.16"},{"v":1500.4005,"d":"1500.40"},{"v":40240.8683,"d":"40240.87"},{"v":-0.367672673545035,"d":"-36.77%"},null,{"v":5800.9441,"d":"5,800.94"},{"v":-0.0878278216201734,"d":"-8.78%"},5920.4927,null,5533.9084,{"v":1.52949761170152,"d":"152.95%"},{"v":17255.3452,"d":"17255.35"},5985.4238,{"$f":"(DR33-ER33)/ER33","v":{"v":-0.339759462226105,"d":"-33.98%"}},6359.4837,{"v":-0.354584678057751,"d":"-35.46%"},5787.4575,{"v":-0.338979696962083,"d":"-33.90%"},5620.9966,{"$f":"(DX33-EX33)/EX33","v":{"v":-0.4021621937821,"d":"-40.22%"}},3407.2583,{"v":-0.600312230198949,"d":"-60.03%"},4483.1789,{"v":-0.502510220160682,"d":"-50.25%"},5366.2515,{"$f":"(ED33-FD33)/FD33","v":{"v":-0.452316573944514,"d":"-45.23%"}},{"v":4903.162,"d":"4903.1620"},{"v":-0.460716300831831,"d":"-46.07%"},4470.7423,{"v":-0.477992111867216,"d":"-47.80%"},63639.2998,{"v":-0.376504205786992,"d":"-37.65%"},{"v":17813.4,"d":"17813.4000"},{"v":-0.0917008212394361,"d":"-9.17%"},{"v":0,"d":"0.0000"},{"v":-1,"d":"-100.00%"},{"v":2187.75,"d":"2187.7500"},{"v":-0.901697352310129,"d":"-90.17%"},{"v":9065.52,"d":"9065.5200"},{"v":-0.523300412362243,"d":"-52.33%"},{"v":9853.32,"d":"9853.3200"},{"v":-0.537879256878824,"d":"-53.79%"},{"v":8755.34,"d":"8755.3400"},{"v":-0.53210025651988,"d":"-53.21%"},{"v":9402.21,"d":"9402.2100"},{"v":-0.531799523842485,"d":"-53.18%"},{"v":8524.8,"d":"8524.8000"},{"v":-0.562554393339792,"d":"-56.26%"},{"v":9011.6,"d":"9011.6000"},{"v":-0.598943820714768,"d":"-59.89%"},{"v":9798.09,"d":"9798.0900"},{"$f":"(FD33-FU33)/FU33","v":{"v":-0.503578981287359,"d":"-50.36%"}},{"v":9091.99,"d":"9091.9900"},{"v":-0.472553858505978,"d":"-47.26%"},{"v":8564.511,"d":"8564.5110"},{"v":-0.702836073770256,"d":"-70.28%"},{"v":102068.531,"d":"102068.5310"},{"v":-0.601190050855545,"d":"-60.12%"},{"v":19611.82,"d":"19612"},{"v":27179.48,"d":"27,179"},{"v":22255.25,"d":"22,255"},{"v":19017.26,"d":"19,017"},{"v":21321.96,"d":"21,322"},{"v":18712,"d":"18,712"},20081.59,"19,487.6800","22,469.6700","19,737.4600",{"$f":"(FU33-GW33)/GW33","v":{"v":-0.10770008354521,"d":"-10.77%"}},"17,237.7600",{"v":-0.108100472809569,"d":"-10.81%"},"28,820.8300",{"v":-0.108600121860318,"d":"-10.86%"},255932.76,{"v":-0.106898052009777,"d":"-10.69%"},null,null,{"v":20970.74,"d":"20971"},{"$f":"(GE33-HH33)/HH33","v":{"v":-0.0187001909653411,"d":"-1.87%"}},{"v":28751.57,"d":"28752"},{"v":-0.0441222379550187,"d":"-4.41%"},{"v":23766.82,"d":"23767"},{"v":-0.0511001245273331,"d":"-5.11%"},{"v":20585.91,"d":"20586"},{"v":-0.0513003316269631,"d":"-5.13%"},{"v":24373.98,"d":"24374"},{"v":-0.0508001845905809,"d":"-5.08%"},21914.15,{"$f":"(GO33-HS33)/HS33","v":{"v":-0.0634002007046889,"d":"-6.34%"}},{"v":23980.89,"d":"23981"},{"v":-0.0312000190682494,"d":"-3.12%"},{"v":23308.65,"d":"23309"},{"v":-0.038399814517167,"d":"-3.84%"},{"v":25134.53,"d":"25135"},{"$f":"(GU33-HY33)/HY33","v":{"v":-0.0476000474409007,"d":"-4.76%"}},{"v":22119.76,"d":"22120"},{"v":-0.0492597942991934,"d":"-4.93%"},{"v":19327.02,"d":"19327"},{"v":-0.0496000377661517,"d":"-4.96%"},{"v":32332.1,"d":"32332"},{"v":-0.0487011038234259,"d":"-4.87%"},{"v":286566.12,"d":"286566"},{"v":286566.12,"d":"286566"},{"$nulls":3},{"v":21370.37,"d":"21370"},{"$f":"(HH33-IJ33)/IJ33","v":{"v":-0.0294004369212044,"d":"-2.94%"}},30078.71,{"v":-0.0121999198691635,"d":"-1.22%"},25046.71,{"v":-0.0218001241949784,"d":"-2.18%"},21699.08,{"v":-0.0214002236894323,"d":"-2.14%"},25678.45,{"v":-0.0225999345315581,"d":"-2.26%"},null,23397.56,{"$f":"(HS33-IT33)/IT33","v":{"v":-0.022401049566093,"d":"-2.24%"}},24753.19,{"v":-0.0225001342655045,"d":"-2.25%"},24239.44,{"v":-0.017389048337144,"d":"-1.74%"},26390.73,{"$f":"(HY33-IZ33)/IZ33","v":{"v":-0.0122002434434219,"d":"-1.22%"}},23265.83,{"v":-0.0148001256810191,"d":"-1.48%"},20335.67,{"v":-0.0137000718784527,"d":"-1.37%"},33987.32,{"v":-0.0141499062802936,"d":"-1.41%"},{"v":300243.06,"d":"300243"},null,null,{"v":22017.7,"d":"22018"},{"v":1.15219562728797E-3,"d":"0.12%"},{"v":30450.2,"d":"30450"},{"v":2.88951100412049E-3,"d":"0.29%"},{"v":25604.9,"d":"25605"},{"v":-0.0364383381521766,"d":"-3.64%"},{"v":22173.6,"d":"22173.60"},{"v":0.00829514772823211,"d":"0.83%"},{"v":26272.2,"d":"26272.20"},{"v":0.00718094644572499,"d":"0.72%"},{"v":23933.7,"d":"23933.70"},{"v":0.0112003847267695,"d":"1.12%"},25322.96,{"v":0.0103612795094798,"d":"1.04%"},{"v":24668.4,"d":"24,668.40"},{"v":0.0104984254118663,"d":"1.05%"},{"v":26716.68,"d":"26,716.68"},{"v":-0.00399476057443023,"d":"-0.40%"},{"v":23615.34,"d":"23,615.34"},{"v":-0.00458222603916684,"d":"-0.46%"},{"v":20618.14,"d":"20,618.14"},{"v":-0.00948348883642634,"d":"-0.95%"},{"v":34475.14,"d":"34,475.14"},{"v":-0.0307964902407774,"d":"-3.08%"},{"v":307082.079457663,"d":"307082"},{"v":21992.3604984,"d":"21992"},{"v":30362.4673165765,"d":"30362"},{"v":26573.1826138635,"d":"26573"},{"v":21991.1799138961,"d":"21991"},{"v":26084.885831799,"d":"26085"},{"v":23668.6025455449,"d":"23669"},{"v":25063.2724289415,"d":"25063"},{"v":24412.1112706786,"d":"24412"},{"v":26823.8347977049,"d":"26824"},{"v":23724.0489548755,"d":"23724"},{"v":20815.5439789485,"d":"20816"},{"v":35570.5893064343,"d":"35571"}]
[null,"其中个体客运量     （万人）",{"v":2.3455,"d":"2.35"},{"$f":"C34/R34-1","v":{"v":-0.651656691369759,"d":"-65.17%"}},2.41,{"v":-0.633571537175004,"d":"-63.36%"},2.159,{"v":-0.644269425953997,"d":"-64.43%"},2.0569,{"$f":"I34/X34-1","v":{"v":-0.61273134637471,"d":"-61.27%"}},2.0727,{"v":-0.612260550733313,"d":"-61.23%"},2.3384,{"v":-0.54633815113008,"d":"-54.63%"},{"v":13.3825,"d":"13.38"},{"v":-0.619717029118323,"d":"-61.97%"},null,{"v":6.7333,"d":"6.73"},{"$f":"R34/AS34-1","v":{"v":-0.340990281189747,"d":"-34.10%"}},{"v":6.577,"d":"6.58"},{"v":-0.33457440888718,"d":"-33.46%"},{"v":6.0692,"d":"6.07"},{"v":-0.34355091666216,"d":"-34.36%"},{"v":5.3113,"d":"5.31"},{"$f":"X34/AY34-1","v":{"v":-0.391763910997103,"d":"-39.18%"}},{"v":5.3456,"d":"5.35"},{"v":-0.40473486113895,"d":"-40.47%"},{"v":5.1545,"d":"5.15"},{"v":-0.42685110026353,"d":"-42.69%"},{"v":4.6544,"d":"4.65"},{"$f":"AD34/BE34-1","v":{"v":-0.453208336270294,"d":"-45.32%"}},{"v":4.6356,"d":"4.64"},{"v":-0.434779427902553,"d":"-43.48%"},{"v":4.6952,"d":"4.70"},{"v":-0.437815055617419,"d":"-43.78%"},{"v":4.8767,"d":"4.88"},{"$f":"AJ34/BK34-1","v":{"v":-0.435521396409431,"d":"-43.55%"}},4.6494,{"v":-0.431453831761987,"d":"-43.15%"},4.2354,{"v":-0.488978173525899,"d":"-48.90%"},{"v":62.9376,"d":"62.94"},{"v":-0.407494994017297,"d":"-40.75%"},null,{"v":10.2173,"d":"10.22"},{"v":-0.211828778166053,"d":"-21.18%"},9.8839,{"$f":"AU34/BV34-1","v":{"v":-0.124112494727253,"d":"-12.41%"}},9.2455,{"v":-0.197209270016585,"d":"-19.72%"},{"v":8.7323,"d":"8.73"},{"v":-0.220838203670822,"d":"-22.08%"},{"v":8.9802,"d":"8.98"},{"$f":"BA34/CB34-1","v":{"v":-0.225170191287241,"d":"-22.52%"}},{"v":8.9933,"d":"8.99"},{"v":-0.216741131694232,"d":"-21.67%"},{"v":8.5122,"d":"8.51"},{"v":-0.543899694582864,"d":"-54.39%"},{"v":8.2014,"d":"8.20"},{"$f":"BG34/CH34-1","v":{"v":-0.294120684758192,"d":"-29.41%"}},{"v":8.3517,"d":"8.35"},{"v":-0.311841335497639,"d":"-31.18%"},{"v":8.6393,"d":"8.64"},{"v":-0.277130712719849,"d":"-27.71%"},{"v":8.1777,"d":"8.18"},{"v":-0.200756465138099,"d":"-20.08%"},{"v":8.2881,"d":"8.29"},{"v":-0.176059488423418,"d":"-17.61%"},{"v":106.2229,"d":"106.22"},{"v":-0.265928948395564,"d":"-26.59%"},null,{"v":12.9633,"d":"12.96"},{"v":-0.120219617637278,"d":"-12.02%"},{"v":11.28444,"d":"11.28"},{"v":-0.260487702581377,"d":"-26.05%"},{"v":11.5167,"d":"11.52"},{"v":-0.181139480813123,"d":"-18.11%"},11.2073,{"v":-0.196672663804288,"d":"-19.67%"},11.5899,{"v":-0.175747274395318,"d":"-17.57%"},11.4819,{"v":-0.190982497674812,"d":"-19.10%"},{"v":18.663,"d":"18.66"},{"v":0.348745781330173,"d":"34.87%"},{"v":11.6187,"d":"11.62"},{"v":-0.146010348984212,"d":"-14.60%"},{"v":12.1363,"d":"12.14"},{"v":0.268306701919761,"d":"26.83%"},{"v":11.9514,"d":"11.95"},{"v":0.205811431165817,"d":"20.58%"},{"v":10.2318,"d":"10.23"},{"v":0.0980446867420748,"d":"9.80%"},{"v":10.0591,"d":"10.06"},{"v":0.152931872363836,"d":"15.29%"},{"v":144.70384,"d":"144.7038"},{"v":-0.0431462790156372,"d":"-4.31%"},{"v":-0.0168787505619733,"d":"-1.69%"},null,{"v":14.7347,"d":"14.73"},{"v":15.2593,"d":"15.26"},{"v":14.0643,"d":"14.06"},{"v":13.9511,"d":"13.95"},{"v":14.0611,"d":"14.06"},{"v":14.1924,"d":"14.19"},{"v":13.8373,"d":"13.84"},{"v":13.6052,"d":"13.61"},{"v":9.5689,"d":"9.57"},{"v":9.9115,"d":"9.91"},{"v":9.3182,"d":"9.32"},{"v":8.7248,"d":"8.72"},{"v":151.2288,"d":"151.23"},{"v":-0.292396205121103,"d":"-29.24%"},null,{"v":23.5578,"d":"23.56"},null,25.1988,null,19.6029,{"$error":"#DIV/0!"},{"v":68.3595,"d":"68.36"},18.0871,{"$f":"(DR34-ER34)/ER34","v":{"$error":"#DIV/0!"}},16.8053,{"$error":"#DIV/0!"},17.0148,{"$error":"#DIV/0!"},17.0767,{"$f":"(DX34-EX34)/EX34","v":{"$error":"#DIV/0!"}},16.4853,{"$error":"#DIV/0!"},15.7735,{"$error":"#DIV/0!"},{"v":15.498,"d":"15.4980"},{"$f":"(ED34-FD34)/FD34","v":{"$error":"#DIV/0!"}},14.3214,{"$error":"#DIV/0!"},{"v":14.298,"d":"14.2980"},{"$error":"#DIV/0!"},213.7196,{"$error":"#DIV/0!"},{"$nulls":24},{"v":0,"d":"0.0000"}]
[null,"其中个体旅客周转量（万人公里）",{"v":51.1698,"d":"51.17"},{"$f":"C35/R35-1","v":{"v":-0.578402135045187,"d":"-57.84%"}},53.2252,{"v":-0.557554852393455,"d":"-55.76%"},43.9387,{"v":-0.587270768343464,"d":"-58.73%"},41.1799,{"$f":"I35/X35-1","v":{"v":-0.571739078436001,"d":"-57.17%"}},41.8882,{"v":-0.570038758735086,"d":"-57.00%"},49.6743,{"v":-0.458575392872169,"d":"-45.86%"},{"v":281.0761,"d":"281.08"},{"v":-0.556280562748749,"d":"-55.63%"},null,{"v":121.371108,"d":"121.37"},{"$f":"R35/AS35-1","v":{"v":-0.288695846846836,"d":"-28.87%"}},{"v":120.29785,"d":"120.30"},{"v":-0.254714187385425,"d":"-25.47%"},{"v":106.4589,"d":"106.46"},{"v":-0.296120889147482,"d":"-29.61%"},{"v":96.1561,"d":"96.16"},{"$f":"X35/AY35-1","v":{"v":-0.333413979463659,"d":"-33.34%"}},{"v":97.4232,"d":"97.42"},{"v":-0.335741549085464,"d":"-33.57%"},{"v":91.7474,"d":"91.75"},{"v":-0.379884016437764,"d":"-37.99%"},{"v":88.4355,"d":"88.44"},{"$f":"AD35/BE35-1","v":{"v":-0.380410908517682,"d":"-38.04%"}},{"v":85.2391,"d":"85.24"},{"v":-0.395567685930136,"d":"-39.56%"},{"v":86.6438,"d":"86.64"},{"v":-0.397607081004528,"d":"-39.76%"},{"v":88.9152,"d":"88.92"},{"$f":"AJ35/BK35-1","v":{"v":-0.408648090705457,"d":"-40.86%"}},{"v":104.4257,"d":"104.43"},{"v":-0.239816669105352,"d":"-23.98%"},{"v":90.2429,"d":"90.24"},{"v":-0.3570015746685,"d":"-35.70%"},{"v":1177.356758,"d":"1177.36"},{"v":-0.337753148009902,"d":"-33.78%"},null,{"v":170.6318,"d":"170.63"},{"v":-0.193699553593157,"d":"-19.37%"},161.4117,{"$f":"AU35/BV35-1","v":{"v":-0.113918601501539,"d":"-11.39%"}},151.246,{"v":-0.215265296634969,"d":"-21.53%"},{"v":144.2516,"d":"144.25"},{"v":-0.213748055512859,"d":"-21.37%"},{"v":146.6646,"d":"146.66"},{"$f":"BA35/CB35-1","v":{"v":-0.229618167120235,"d":"-22.96%"}},{"v":147.952,"d":"147.95"},{"v":-0.219110964969459,"d":"-21.91%"},{"v":142.7325,"d":"142.73"},{"v":-0.263627400856103,"d":"-26.36%"},{"v":141.0234,"d":"141.02"},{"$f":"BG35/CH35-1","v":{"v":-0.262519401411544,"d":"-26.25%"}},{"v":143.8327,"d":"143.83"},{"v":-0.261895634833274,"d":"-26.19%"},{"v":150.3592,"d":"150.36"},{"v":-0.250957853451785,"d":"-25.10%"},{"v":137.3691,"d":"137.37"},{"v":-0.181317564688375,"d":"-18.13%"},{"v":140.347,"d":"140.35"},{"v":-0.155828845226166,"d":"-15.58%"},{"v":1777.8216,"d":"1777.82"},{"v":-0.214930226829276,"d":"-21.49%"},null,{"v":211.6231,"d":"211.62"},{"v":-0.172393902194364,"d":"-17.24%"},{"v":182.1635126,"d":"182.16"},{"v":-0.316528090431465,"d":"-31.65%"},{"v":192.7352,"d":"192.74"},{"v":-0.218307171482305,"d":"-21.83%"},183.4674,{"v":-0.230717882425258,"d":"-23.07%"},190.3791,{"v":-0.194350780262136,"d":"-19.44%"},189.4661,{"v":-0.228210982547115,"d":"-22.82%"},193.8319,{"v":-0.180538151550972,"d":"-18.05%"},{"v":191.2232,"d":"191.22"},{"v":-0.172764767515403,"d":"-17.28%"},{"v":194.8677,"d":"194.87"},{"v":0.219561148066998,"d":"21.96%"},{"v":200.7353,"d":"200.74"},{"v":0.231409719248696,"d":"23.14%"},{"v":167.7929,"d":"167.79"},{"v":0.156651579468359,"d":"15.67%"},{"v":166.2542,"d":"166.25"},{"v":0.199052033576936,"d":"19.91%"},{"v":2264.5396126,"d":"2264.5396"},{"v":-0.116551205524671,"d":"-11.66%"},{"v":-0.00917023306707265,"d":"-0.92%"},null,{"v":255.7051,"d":"255.71"},{"v":266.5267,"d":"266.53"},{"v":246.5613,"d":"246.56"},{"v":238.4917,"d":"238.49"},{"v":236.3052,"d":"236.31"},{"v":245.4895,"d":"245.49"},{"v":236.5356,"d":"236.54"},{"v":231.1594,"d":"231.16"},{"v":159.7851,"d":"159.79"},{"v":163.0126,"d":"163.01"},{"v":145.0678,"d":"145.07"},{"v":138.6547,"d":"138.65"},{"v":2563.2947,"d":"2563.29"},{"v":-0.316420841140387,"d":"-31.64%"},null,{"v":321.3962,"d":"321.40"},null,488.0232,null,{"v":387.163,"d":"387.1630"},{"$error":"#DIV/0!"},{"v":1196.5824,"d":"1196.58"},342.5843,{"$f":"(DR35-ER35)/ER35","v":{"$error":"#DIV/0!"}},292.2797,{"$error":"#DIV/0!"},298.1928,{"$error":"#DIV/0!"},303.6275,{"$f":"(DX35-EX35)/EX35","v":{"$error":"#DIV/0!"}},290.4718,{"$error":"#DIV/0!"},269.9398,{"$error":"#DIV/0!"},269.9841,{"$f":"(ED35-FD35)/FD35","v":{"$error":"#DIV/0!"}},241.7117,{"$error":"#DIV/0!"},244.4399,{"$error":"#DIV/0!"},{"v":3749.814,"d":"3749.8140"},{"$error":"#DIV/0!"},{"$nulls":24},{"v":0,"d":"0.0000"}]
["荆州市","客运量            （万人）",133.6683,{"$f":"C36/R36-1","v":{"v":-0.187403530678384,"d":"-18.74%"}},143.6103,{"v":-0.168301470251826,"d":"-16.83%"},139.5382,{"v":-0.116878135964801,"d":"-11.69%"},141.171,{"$f":"I36/X36-1","v":{"v":-0.128995059795173,"d":"-12.90%"}},140.9257,{"v":-0.138319975346627,"d":"-13.83%"},134.7257,{"v":-0.163781840210386,"d":"-16.38%"},{"v":833.6392,"d":"833.64"},{"v":-0.151003298669635,"d":"-15.10%"},null,{"v":164.4953,"d":"164.50"},{"$f":"R36/AS36-1","v":{"v":0.045928044452894,"d":"4.59%"}},{"v":172.6711,"d":"172.67"},{"v":0.038111751263588,"d":"3.81%"},158.0056,{"v":0.0111335941709572,"d":"1.11%"},162.0783,{"$f":"X36/AY36-1","v":{"v":0.0135506286606211,"d":"1.36%"}},163.5476,{"v":-0.0362233307502601,"d":"-3.62%"},161.1131,{"v":0.00408081102691482,"d":"0.41%"},167.1169,{"$f":"AD36/BE36-1","v":{"v":0.00829663971309569,"d":"0.83%"}},162.8831,{"v":0.0498894246666466,"d":"4.99%"},136.8044,{"v":-0.0722313813067418,"d":"-7.22%"},145.8738,{"$f":"AJ36/BK36-1","v":{"v":-0.0661584563688359,"d":"-6.62%"}},133.7493,{"v":-0.0632621759045258,"d":"-6.33%"},132.9524,{"v":-0.0789657446560887,"d":"-7.90%"},{"v":1861.2909,"d":"1861.29"},{"v":-0.010801780618646,"d":"-1.08%"},null,{"v":157.2721,"d":"157.27"},{"v":-0.123270619059565,"d":"-12.33%"},166.3319,{"$f":"AU36/BV36-1","v":{"v":-0.0394345358407582,"d":"-3.94%"}},156.2658,{"v":-0.0530447366124669,"d":"-5.30%"},{"v":159.9114,"d":"159.91"},{"v":-0.0489157877645405,"d":"-4.89%"},{"v":169.6945,"d":"169.69"},{"$f":"BA36/CB36-1","v":{"v":-0.00949907746762091,"d":"-0.95%"}},{"v":160.4583,"d":"160.46"},{"v":-0.0500906940343216,"d":"-5.01%"},{"v":165.7418,"d":"165.74"},{"v":-0.0599820664629812,"d":"-6.00%"},{"v":155.1431,"d":"155.14"},{"$f":"BG36/CH36-1","v":{"v":-0.112959091959044,"d":"-11.30%"}},{"v":147.4553,"d":"147.46"},{"v":-0.120775311757277,"d":"-12.08%"},{"v":156.2083,"d":"156.21"},{"v":-0.059615522382309,"d":"-5.96%"},{"v":142.782,"d":"142.78"},{"v":-0.057118234977531,"d":"-5.71%"},{"v":144.3512,"d":"144.35"},{"v":0.00082922189034873,"d":"0.08%"},{"v":1881.6157,"d":"1881.62"},{"v":-0.0623072123252948,"d":"-6.23%"},null,{"v":179.385,"d":"179.39"},{"v":-0.18660534409607,"d":"-18.66%"},{"v":173.1604,"d":"173.16"},{"v":-0.232823862684827,"d":"-23.28%"},{"v":165.0192,"d":"165.02"},{"v":-0.145546693287989,"d":"-14.55%"},168.1359,{"v":-0.0634198431270753,"d":"-6.34%"},171.3219,{"v":-0.0995441532250647,"d":"-9.95%"},168.9196,{"v":-0.133120153875129,"d":"-13.31%"},176.3177,{"v":-0.11192947322507,"d":"-11.19%"},{"v":174.8996,"d":"174.90"},{"v":-0.0779801762648675,"d":"-7.80%"},{"v":167.7106,"d":"167.71"},{"v":-0.0930821738911778,"d":"-9.31%"},{"v":166.1111,"d":"166.11"},{"v":0.262610822610853,"d":"26.26%"},{"v":151.4315,"d":"151.43"},{"v":0.117781053492487,"d":"11.78%"},{"v":144.2316,"d":"144.23"},{"v":0.262792383580642,"d":"26.28%"},2006.6441,{"v":-0.0703219332208748,"d":"-7.03%"},{"v":-0.047545589920195,"d":"-4.75%"},null,{"v":220.5387,"d":"220.54"},{"v":225.7114,"d":"225.71"},{"v":193.1284,"d":"193.13"},{"v":179.5211,"d":"179.52"},{"v":190.2613,"d":"190.26"},{"v":194.8593,"d":"194.86"},{"v":198.5402,"d":"198.54"},{"v":189.6918,"d":"189.69"},{"v":184.9237,"d":"184.92"},{"v":131.5616,"d":"131.56"},{"v":135.4751,"d":"135.48"},{"v":114.2164,"d":"114.22"},{"v":2158.429,"d":"2158.43"},{"v":-0.210098208314988,"d":"-21.01%"},null,246.82,{"v":-0.0330946299575349,"d":"-3.31%"},261.5492,null,241.2143,{"v":9.23521349678153,"d":"923.52%"},{"v":749.5835,"d":"749.58"},245.6004,{"$f":"(DR36-ER36)/ER36","v":{"v":1.53312237766565,"d":"153.31%"}},{"v":255.268,"d":"255.2680"},{"v":1.75378328579504,"d":"175.38%"},252.9692,{"v":0.899453371377084,"d":"89.95%"},256.3831,{"$f":"(DX36-EX36)/EX36","v":{"v":0.484471657692085,"d":"48.45%"}},138.2668,{"v":-0.528903577512777,"d":"-52.89%"},215.1248,{"v":-0.247815384615385,"d":"-24.78%"},210.5634,{"$f":"(ED36-FD36)/FD36","v":{"v":-0.270472923812493,"d":"-27.05%"}},206.5183,{"v":-0.196051463718468,"d":"-19.61%"},202.2508,{"v":-0.213338000777908,"d":"-21.33%"},2732.5283,{"v":0.181777001400256,"d":"18.18%"},{"v":411,"d":"411.0000"},{"v":0.0166221430691601,"d":"1.66%"},{"v":0,"d":"0.0000"},{"v":-1,"d":"-100.00%"},23.5671,{"v":-0.955784052532833,"d":"-95.58%"},96.9556,{"v":-0.784063251670379,"d":"-78.41%"},92.6972,{"v":-0.798045315904139,"d":"-79.80%"},{"v":133.18,"d":"133.1800"},{"v":-0.69868778280543,"d":"-69.87%"},{"v":172.71,"d":"172.7100"},{"v":-0.6364,"d":"-63.64%"},{"v":293.5,"d":"293.5000"},{"v":-0.374200426439232,"d":"-37.42%"},{"v":286,"d":"286.0000"},{"v":-0.371428571428571,"d":"-37.14%"},{"v":288.63,"d":"288.6300"},{"$f":"(FD36-FU36)/FU36","v":{"v":-0.367039473684211,"d":"-36.70%"}},{"v":256.88,"d":"256.8800"},{"v":-0.359401496259352,"d":"-35.94%"},{"v":257.1,"d":"257.1000"},{"v":-0.447631324524653,"d":"-44.76%"},2312.2199,{"v":-0.586418964965219,"d":"-58.64%"},{"v":404.28,"d":"404"},582,533,449,459,442,"475.0000","469.0000","455.0000","456.0000",{"$f":"(FU36-GW36)/GW36","v":{"v":-0.093259097236031,"d":"-9.33%"}},"401.0000",{"v":-0.0967654743670601,"d":"-9.68%"},"465.4500",{"v":-0.108930793529243,"d":"-10.89%"},5590.73,{"v":-0.10605103638169,"d":"-10.61%"},null,null,{"v":438.16,"d":"438"},{"$f":"(GE36-HH36)/HH36","v":{"v":-0.215736812901609,"d":"-21.57%"}},{"v":706.2,"d":"706"},{"v":0.00949168048487635,"d":"0.95%"},577,{"v":0.0120676348838841,"d":"1.21%"},{"v":497.71,"d":"498"},{"v":0.0275409294547556,"d":"2.75%"},{"v":508.08,"d":"508"},{"v":0.00733573892699946,"d":"0.73%"},493.48,{"$f":"(GO36-HS36)/HS36","v":{"v":-0.00981198707787384,"d":"-0.98%"}},{"v":532.17,"d":"532"},{"v":-0.00840351792502048,"d":"-0.84%"},{"v":530.08,"d":"530"},{"v":0.00262913994968694,"d":"0.26%"},{"v":501.88,"d":"502"},{"$f":"(GU36-HY36)/HY36","v":{"v":0.014329311425049,"d":"1.43%"}},{"v":502.9,"d":"503"},{"v":0.0209923664122137,"d":"2.10%"},{"v":443.96,"d":"444"},{"v":0.0180934253674868,"d":"1.81%"},{"v":522.35,"d":"522"},{"v":0.00434540175738813,"d":"0.43%"},{"v":6253.97,"d":"6254"},{"v":6253.97,"d":"6254"},{"$nulls":3},{"v":558.69,"d":"559"},{"$f":"(HH36-IJ36)/IJ36","v":{"v":0.0313071087072897,"d":"3.13%"}},699.56,{"v":-0.0947605429676885,"d":"-9.48%"},570.12,{"v":-0.0770575665349997,"d":"-7.71%"},484.37,{"v":-0.00888052219107441,"d":"-0.89%"},504.38,{"v":-0.000792424422520657,"d":"-0.08%"},null,498.37,{"$f":"(HS36-IT36)/IT36","v":{"v":-0.00869236583522299,"d":"-0.87%"}},536.68,{"v":0.0265493496557001,"d":"2.65%"},528.69,{"v":0.00292136962913796,"d":"0.29%"},494.79,{"$f":"(HY36-IZ36)/IZ36","v":{"v":0.00426231504597216,"d":"0.43%"}},492.56,{"v":-8.11424862057727E-4,"d":"-0.08%"},436.07,{"v":4.30677107323815E-3,"d":"0.43%"},520.09,{"v":0.0287811053526922,"d":"2.88%"},{"v":6324.37,"d":"6324"},null,null,{"v":541.73,"d":"542"},{"v":-0.026932384413582,"d":"-2.69%"},{"v":772.79,"d":"773"},{"v":0.0127648354387462,"d":"1.28%"},{"v":617.72,"d":"618"},{"v":0.00774682983987265,"d":"0.77%"},488.71,{"v":0.0162647749329132,"d":"1.63%"},504.78,{"v":0.0572571422168193,"d":"5.73%"},502.74,{"v":-0.0212695429768708,"d":"-2.13%"},{"v":522.8,"d":"522.80"},{"v":0.0229244049884683,"d":"2.29%"},527.15,{"v":0.0699715120990141,"d":"7.00%"},492.69,{"v":-0.0040911797208957,"d":"-0.41%"},492.96,{"v":-0.0281867325694471,"d":"-2.82%"},434.2,{"v":-0.0502637935918492,"d":"-5.03%"},505.54,{"v":-0.0744703568927996,"d":"-7.45%"},{"v":6413.87081693046,"d":"6414"},{"v":556.723902144793,"d":"557"},{"v":763.049794936072,"d":"763"},{"v":612.971414753201,"d":"613"},{"v":480.888457471392,"d":"481"},{"v":477.442979426552,"d":"477"},{"v":513.665428916063,"d":"514"},{"v":511.083710047854,"d":"511"},{"v":492.676668527244,"d":"493"},{"v":494.713963736081,"d":"495"},{"v":507.257944011582,"d":"507"},{"v":457.179580045832,"d":"457"},{"v":546.216972913795,"d":"546"}]
[null,"旅客周转量        （万人公里）",8460.3268,{"$f":"C37/R37-1","v":{"v":-0.216620297348893,"d":"-21.66%"}},10893.6835,{"v":-0.171772853618809,"d":"-17.18%"},10915.655,{"v":0.00317419641194538,"d":"0.32%"},9181.1169,{"$f":"I37/X37-1","v":{"v":-0.173222011404474,"d":"-17.32%"}},9903.441,{"v":-0.0910160450689843,"d":"-9.10%"},9184.0432,{"v":-0.101314713439389,"d":"-10.13%"},{"v":58538.2664,"d":"58538.27"},{"v":-0.126986304789357,"d":"-12.70%"},null,{"v":10799.7779,"d":"10799.78"},{"$f":"R37/AS37-1","v":{"v":0.142506943675852,"d":"14.25%"}},{"v":13153.0143,"d":"13153.01"},{"v":-0.029851774375794,"d":"-2.99%"},10881.1162,{"v":0.0592041177943108,"d":"5.92%"},11104.6944,{"$f":"X37/AY37-1","v":{"v":-0.0125135450766491,"d":"-1.25%"}},10895.0669,{"v":-0.0770680780308525,"d":"-7.71%"},10219.4209,{"v":-0.0289627602934664,"d":"-2.90%"},10813.7971,{"$f":"AD37/BE37-1","v":{"v":-0.00921554942140501,"d":"-0.92%"}},9954.1267,{"v":-0.0416789267271775,"d":"-4.17%"},9722.3011,{"v":-0.0138498380819374,"d":"-1.38%"},10569.0524,{"$f":"AJ37/BK37-1","v":{"v":-0.0145912863039589,"d":"-1.46%"}},9485.8706,{"v":0.0386798892734175,"d":"3.87%"},8968.5755,{"v":-0.0115738618178997,"d":"-1.16%"},{"v":126566.814,"d":"126566.81"},{"v":-0.00301748131821244,"d":"-0.30%"},null,{"v":9452.7022,"d":"9452.70"},{"v":0.0205900515711666,"d":"2.06%"},13557.7368,{"$f":"AU37/BV37-1","v":{"v":0.275535194682456,"d":"27.55%"}},10272.9172,{"v":0.0855021184632707,"d":"8.55%"},{"v":11245.4144,"d":"11245.41"},{"v":0.132481437228626,"d":"13.25%"},{"v":11804.8435,"d":"11804.84"},{"$f":"BA37/CB37-1","v":{"v":0.110446365660754,"d":"11.04%"}},{"v":10524.2317,"d":"10524.23"},{"v":0.0882794869344656,"d":"8.83%"},{"v":10914.3791,"d":"10914.38"},{"v":0.0500562637047834,"d":"5.01%"},{"v":10387.0477,"d":"10387.05"},{"$f":"BG37/CH37-1","v":{"v":0.0289284882828593,"d":"2.89%"}},{"v":9858.8445,"d":"9858.84"},{"v":0.0153514518529203,"d":"1.54%"},{"v":10725.552,"d":"10725.55"},{"v":0.00805008513284977,"d":"0.81%"},{"v":9132.6218,"d":"9132.62"},{"v":-0.0339613510994489,"d":"-3.40%"},{"v":9073.592,"d":"9073.59"},{"v":0.0699608383092072,"d":"7.00%"},{"v":126949.8829,"d":"126949.88"},{"v":0.0725859349039721,"d":"7.26%"},null,{"v":9261.9972,"d":"9262.00"},{"v":-0.176957636223038,"d":"-17.70%"},{"v":10629.0574,"d":"10629.06"},{"v":-0.203727088473826,"d":"-20.37%"},{"v":9463.7468,"d":"9463.75"},{"v":-1.14743408713358E-3,"d":"-0.11%"},9929.8885,{"v":0.153732182523875,"d":"15.37%"},10630.7192,{"v":0.151170541037374,"d":"15.12%"},9670.5229,{"v":0.00477634664517956,"d":"0.48%"},10394.0898,{"v":-0.0290638636740471,"d":"-2.91%"},{"v":10095.0142,"d":"10095.01"},{"v":2.05317876331579E-3,"d":"0.21%"},{"v":9709.7852,"d":"9709.79"},{"v":0.0331916268851602,"d":"3.32%"},{"v":10639.8999,"d":"10639.90"},{"v":0.634203648142077,"d":"63.42%"},{"v":9453.6816,"d":"9453.68"},{"v":0.527413273884893,"d":"52.74%"},{"v":8480.3029,"d":"8480.30"},{"v":0.58968773780612,"d":"58.97%"},118358.7056,{"v":0.0783941988099028,"d":"7.84%"},{"v":-0.102962923989316,"d":"-10.30%"},null,{"v":11253.3663,"d":"11253.37"},{"v":13348.5106,"d":"13348.51"},{"v":9474.6183,"d":"9474.62"},{"v":8606.7535,"d":"8606.75"},{"v":9234.704,"d":"9234.70"},{"v":9624.5527,"d":"9624.55"},{"v":10705.225,"d":"10705.23"},{"v":10074.3298,"d":"10074.33"},{"v":9397.8551,"d":"9397.86"},{"v":6510.7552,"d":"6510.76"},{"v":6189.341,"d":"6189.34"},{"v":5334.5715,"d":"5334.57"},{"v":109754.583,"d":"109754.58"},{"v":-0.210768786901009,"d":"-21.08%"},null,{"v":11862.69,"d":"11,862.69"},{"v":-0.163082264503323,"d":"-16.31%"},13066.6868,null,13069.8031,{"v":1.18337927519871,"d":"118.34%"},{"v":37999.1799,"d":"37999.18"},13570.5241,{"$f":"(DR37-ER37)/ER37","v":{"v":0.186155823564169,"d":"18.62%"}},14174.2605,{"v":1.24866905162293,"d":"124.87%"},12327.6149,{"v":-0.336970844199954,"d":"-33.70%"},13495.2463,{"$f":"(DX37-EX37)/EX37","v":{"v":0.0674946725117427,"d":"6.75%"}},6418.3694,{"v":-0.608385283260624,"d":"-60.84%"},10618.1946,{"v":-0.33372940296522,"d":"-33.37%"},10796.8437,{"$f":"(ED37-FD37)/FD37","v":{"v":-0.38984646761935,"d":"-38.98%"}},9820.3519,{"v":-0.319222006781193,"d":"-31.92%"},9844.5976,{"v":-0.261838244115459,"d":"-26.18%"},139065.1829,{"v":-0.0818685175993429,"d":"-8.19%"},{"v":18717,"d":"18717.0000"},{"v":0.0123475353337253,"d":"1.23%"},{"v":0,"d":"0.0000"},{"v":-1,"d":"-100.00%"},5986.0434,{"v":-0.778965977401964,"d":"-77.90%"},{"v":11440.76,"d":"11440.7600"},{"v":-0.510031691648822,"d":"-51.00%"},{"v":6303.4,"d":"6303.4000"},{"v":-0.747591398710607,"d":"-74.76%"},{"v":18592.87,"d":"18592.8700"},{"v":-0.177415829757112,"d":"-17.74%"},{"v":12641.98,"d":"12641.9800"},{"v":-0.52726123700546,"d":"-52.73%"},{"v":16389.5,"d":"16389.5000"},{"v":-0.34775947150589,"d":"-34.78%"},{"v":15936.76,"d":"15936.7600"},{"v":-0.37028765607713,"d":"-37.03%"},{"v":17695.29,"d":"17695.2900"},{"$f":"(FD37-FU37)/FU37","v":{"v":-0.303664016999843,"d":"-30.37%"}},{"v":14425.19,"d":"14425.1900"},{"v":-0.324410359685275,"d":"-32.44%"},{"v":13336.64,"d":"13336.6400"},{"v":-0.441199971340666,"d":"-44.12%"},151465.4334,{"v":-0.482244298499349,"d":"-48.22%"},{"v":18488.71,"d":"18489"},28237,{"v":27082,"d":"27,082"},{"v":23350,"d":"23,350"},{"v":24973,"d":"24,973"},{"v":22603,"d":"22,603"},"26,742.0000","25,128.0000","25,308.0000","25,412.0000",{"$f":"(FU37-GW37)/GW37","v":{"v":-0.109500090760065,"d":"-10.95%"}},"21,352.0000",{"v":-0.0973960094690565,"d":"-9.74%"},"23,866.5700",{"v":-0.183023548528769,"d":"-18.30%"},292542.28,{"v":-0.115340051483094,"d":"-11.53%"},null,null,{"v":19293.68,"d":"19294"},{"$f":"(GE37-HH37)/HH37","v":{"v":-0.277368339638768,"d":"-27.74%"}},{"v":34436.87,"d":"34437"},{"v":0.0164182404035819,"d":"1.64%"},30180,{"v":0.0158202731876629,"d":"1.58%"},{"v":25932.36,"d":"25932"},{"v":0.0329168981854899,"d":"3.29%"},{"v":27618.26,"d":"27618"},{"v":0.0104837895309917,"d":"1.05%"},25251.04,{"$f":"(GO37-HS37)/HS37","v":{"v":-2.30828285531743E-4,"d":"-0.02%"}},{"v":29821.93,"d":"29822"},{"v":0.0101482504937787,"d":"1.01%"},{"v":28293.34,"d":"28293"},{"v":0.0136233671179845,"d":"1.36%"},{"v":28449.76,"d":"28450"},{"$f":"(GU37-HY37)/HY37","v":{"v":-0.0420353066001126,"d":"-4.20%"}},{"v":28536.78,"d":"28537"},{"v":0.0333130799463225,"d":"3.33%"},23656,{"v":-0.0249672838933713,"d":"-2.50%"},{"v":29213.29,"d":"29213"},{"v":-0.0491675701432532,"d":"-4.92%"},{"v":330683.31,"d":"330683"},{"v":330683.31,"d":"330683"},{"$nulls":3},{"v":26699.19,"d":"26699"},{"$f":"(HH37-IJ37)/IJ37","v":{"v":0.0517777947608058,"d":"5.18%"}},33880.61,{"v":-0.133946955461698,"d":"-13.39%"},29709.98,{"v":-0.0176979797826171,"d":"-1.77%"},25105.95,{"v":-0.0409014001431049,"d":"-4.09%"},27331.72,{"v":-0.0591992509866082,"d":"-5.92%"},null,25256.87,{"$f":"(HS37-IT37)/IT37","v":{"v":-0.00523478344436225,"d":"-0.52%"}},29522.33,{"v":0.000212765597022721,"d":"0.02%"},27913.07,{"v":0.00329206066679415,"d":"0.33%"},29698.13,{"$f":"(HY37-IZ37)/IZ37","v":{"v":0.00251623790364371,"d":"0.25%"}},27616.78,{"v":-0.00659279152634931,"d":"-0.66%"},24261.75,{"v":-0.00357512485214874,"d":"-0.36%"},30723.91,{"v":-0.0276726737370848,"d":"-2.77%"},{"v":337720.29,"d":"337720"},null,null,{"v":25384.82,"d":"25385"},{"v":-0.0383136284657823,"d":"-3.83%"},{"v":39120.71,"d":"39121"},{"v":0.0772354029009972,"d":"7.72%"},{"v":30245.26,"d":"30245"},{"v":-0.0550888121799931,"d":"-5.51%"},26176.61,{"v":-0.00807205029764566,"d":"-0.81%"},29051.55,{"v":-0.0744342165646437,"d":"-7.44%"},25389.78,{"v":-0.107811787111748,"d":"-10.78%"},29516.05,{"v":-0.0202792227747929,"d":"-2.03%"},{"v":27821.48,"d":"27,821.48"},{"v":-0.0515126270119686,"d":"-5.15%"},{"v":29623.59,"d":"29,623.59"},{"v":-0.0826539550167226,"d":"-8.27%"},{"v":27800.06,"d":"27,800.06"},{"v":-0.0218660652885132,"d":"-2.19%"},{"v":24348.8,"d":"24,348.80"},{"v":-0.0241798990795494,"d":"-2.42%"},{"v":31598.32,"d":"31,598.32"},{"v":-0.264698270518076,"d":"-26.47%"},{"v":369055.075873558,"d":"369055"},{"v":26396.1523750228,"d":"26396"},{"v":36315.8413608092,"d":"36316"},{"v":32008.5743399636,"d":"32009"},{"v":26389.6284078443,"d":"26390"},{"v":31387.8824389677,"d":"31388"},{"v":28457.8742839546,"d":"28458"},{"v":30127.0021889259,"d":"30127"},{"v":29332.4727269206,"d":"29332"},{"v":32292.710217702,"d":"32293"},{"v":28421.5269641984,"d":"28422"},{"v":24952.1402326441,"d":"24952"},{"v":42973.2703366051,"d":"42973"}]
["黄冈市","客运量            （万人）",136.7024,{"$f":"C38/R38-1","v":{"v":-0.179455905382783,"d":"-17.95%"}},146.6421,{"v":-0.097932915565294,"d":"-9.79%"},136.5708,{"v":-0.126736589567323,"d":"-12.67%"},136.3122,{"$f":"I38/X38-1","v":{"v":-0.140171105143941,"d":"-14.02%"}},142.7334,{"v":-0.0727924697445093,"d":"-7.28%"},133.5838,{"v":-0.112367561605241,"d":"-11.24%"},{"v":832.5447,"d":"832.54"},{"v":-0.122270579383122,"d":"-12.23%"},null,{"v":166.5997,"d":"166.60"},{"$f":"R38/AS38-1","v":{"v":0.103277853677014,"d":"10.33%"}},{"v":162.5623,"d":"162.56"},{"v":0.0717705589003959,"d":"7.18%"},156.3913,{"v":0.127754914551948,"d":"12.78%"},158.5341,{"$f":"X38/AY38-1","v":{"v":0.124477336902515,"d":"12.45%"}},153.939,{"v":0.103384359994925,"d":"10.34%"},150.4945,{"v":0.113090421747253,"d":"11.31%"},145.7717,{"$f":"AD38/BE38-1","v":{"v":0.113157046705164,"d":"11.32%"}},146.7911,{"v":-0.0612489088275453,"d":"-6.12%"},151.2837,{"v":-0.188739477412567,"d":"-18.87%"},156.9226,{"$f":"AJ38/BK38-1","v":{"v":-0.226213053173056,"d":"-22.62%"}},149.9079,{"v":-0.136593600646916,"d":"-13.66%"},145.3567,{"v":-0.110390357528866,"d":"-11.04%"},{"v":1844.5546,"d":"1844.55"},{"v":-0.013964300523666,"d":"-1.40%"},null,{"v":151.0043,"d":"151.00"},{"v":-0.0832439369848327,"d":"-8.32%"},151.6764,{"$f":"AU38/BV38-1","v":{"v":-0.124425404965748,"d":"-12.44%"}},138.6749,{"v":-0.182891109224278,"d":"-18.29%"},{"v":140.9847,"d":"140.98"},{"v":-0.166562524939333,"d":"-16.66%"},{"v":139.5153,"d":"139.52"},{"$f":"BA38/CB38-1","v":{"v":-0.133427579571507,"d":"-13.34%"}},{"v":135.2042,"d":"135.20"},{"v":-0.139222051529202,"d":"-13.92%"},{"v":130.9534,"d":"130.95"},{"v":-0.161550518230921,"d":"-16.16%"},{"v":156.3685,"d":"156.37"},{"$f":"BG38/CH38-1","v":{"v":0.0106593036550708,"d":"1.07%"}},{"v":186.4798,"d":"186.48"},{"v":0.250785934143179,"d":"25.08%"},{"v":202.7982,"d":"202.80"},{"v":0.353572582303016,"d":"35.36%"},{"v":173.6238,"d":"173.62"},{"v":0.221861281455448,"d":"22.19%"},{"v":163.3938,"d":"163.39"},{"v":0.168167444640417,"d":"16.82%"},{"v":1870.6773,"d":"1870.68"},{"v":-0.00848125332628191,"d":"-0.85%"},null,{"v":164.7159,"d":"164.72"},{"v":-0.137955198931523,"d":"-13.80%"},{"v":173.2307,"d":"173.23"},{"v":-0.126746072313985,"d":"-12.67%"},{"v":169.7141,"d":"169.71"},{"v":-0.025353071978903,"d":"-2.54%"},169.1605,{"v":0.178290021760269,"d":"17.83%"},160.9967,{"v":0.106689836598364,"d":"10.67%"},157.0721,{"v":0.0327956055979444,"d":"3.28%"},156.1852,{"v":-0.00608433301748168,"d":"-0.61%"},{"v":154.7193,"d":"154.72"},{"v":0.0039204464715008,"d":"0.39%"},{"$f":"125.6761+CJ40","v":{"v":149.0901,"d":"149.09"}},{"v":-0.0482434105152147,"d":"-4.82%"},{"$f":"128.6553+CL40","v":{"v":149.8244,"d":"149.82"}},{"v":1.85627509247954E-3,"d":"0.19%"},{"v":142.0978,"d":"142.10"},{"v":0.480560183463106,"d":"48.06%"},{"v":139.8719,"d":"139.87"},{"v":0.301976907839867,"d":"30.20%"},1886.6787,{"v":0.0334795953262994,"d":"3.35%"},{"v":-0.0156645634204048,"d":"-1.57%"},null,{"v":191.0758,"d":"191.08"},{"v":198.3738,"d":"198.37"},{"v":174.1288,"d":"174.13"},{"v":143.5644,"d":"143.56"},{"v":145.4759,"d":"145.48"},{"v":152.0844,"d":"152.08"},{"v":157.1413,"d":"157.14"},{"v":154.1151,"d":"154.12"},{"v":156.6473,"d":"156.65"},{"v":149.5468,"d":"149.55"},{"v":95.9757,"d":"95.98"},{"v":107.4304,"d":"107.43"},{"v":1825.5597,"d":"1825.56"},{"v":-0.217577155491586,"d":"-21.76%"},null,195.8309,{"v":-0.118804877576853,"d":"-11.88%"},236.2488,null,213.2599,{"v":10.8477722222222,"d":"1084.78%"},{"v":645.3396,"d":"645.34"},210.5397,{"$f":"(DR38-ER38)/ER38","v":{"v":0.169975693545286,"d":"17.00%"}},222.2333,{"v":0.45250522875817,"d":"45.25%"},203.1977,{"v":0.294252866242038,"d":"29.43%"},200.4787,{"$f":"(DX38-EX38)/EX38","v":{"v":0.276934394904459,"d":"27.69%"}},148.3964,{"v":-0.148011845448815,"d":"-14.80%"},171.5654,{"v":-0.0768594191973407,"d":"-7.69%"},177.2809,{"$f":"(ED38-FD38)/FD38","v":{"v":-0.106890480280707,"d":"-10.69%"}},176.0252,{"v":-0.0379838153018467,"d":"-3.80%"},178.1568,{"v":-0.0181753252049546,"d":"-1.82%"},2333.2137,{"v":0.0411916228031052,"d":"4.12%"},{"v":653,"d":"653.0000"},{"v":-0.0930555555555556,"d":"-9.31%"},{"v":0,"d":"0.0000"},{"v":-1,"d":"-100.00%"},{"v":18,"d":"18.0000"},{"v":-0.974285714285714,"d":"-97.43%"},179.9522,{"v":-0.723150461538462,"d":"-72.32%"},{"v":153,"d":"153.0000"},{"v":-0.767477203647416,"d":"-76.75%"},{"v":157,"d":"157.0000"},{"v":-0.745954692556634,"d":"-74.60%"},{"v":157,"d":"157.0000"},{"v":-0.740495867768595,"d":"-74.05%"},174.1766,{"v":-0.697084173913043,"d":"-69.71%"},185.8497,{"v":-0.714077384615385,"d":"-71.41%"},198.4985,{"$f":"(FD38-FU38)/FU38","v":{"v":-0.717640825035562,"d":"-71.76%"}},182.9753,{"v":-0.709101271860095,"d":"-70.91%"},181.4548,{"v":-0.717360124610592,"d":"-71.74%"},2240.9071,{"v":-0.715729151338323,"d":"-71.57%"},720,733,700,650,658,618,"605.0000","575.0000",650,703,{"$f":"(FU38-GW38)/GW38","v":{"v":-0.129950495049505,"d":"-13.00%"}},629,{"v":-0.107801418439716,"d":"-10.78%"},642,{"v":-0.11448275862069,"d":"-11.45%"},{"v":7883,"d":"7883.00"},{"v":-0.162096088435374,"d":"-16.21%"},null,"  ",850,{"$f":"(GE38-HH38)/HH38","v":{"v":0,"d":"0.00%"}},857,{"v":-0.0978947368421053,"d":"-9.79%"},938,{"v":0.0285087719298246,"d":"2.85%"},{"v":776,"d":"776.00"},{"v":0,"d":"0.00%"},{"v":784,"d":"784.00"},{"v":-0.0519951632406288,"d":"-5.20%"},763,{"$f":"(GO38-HS38)/HS38","v":{"v":-0.0378310214375788,"d":"-3.78%"}},750,{"v":-0.0384615384615385,"d":"-3.85%"},700,{"v":-0.0641711229946524,"d":"-6.42%"},752,{"$f":"(GU38-HY38)/HY38","v":{"v":-0.0408163265306122,"d":"-4.08%"}},808,{"v":-0.0437869822485207,"d":"-4.38%"},705,{"v":-0.0699208443271768,"d":"-6.99%"},725,{"v":-0.0960099750623441,"d":"-9.60%"},9408,9408,{"$nulls":3},850,{"$f":"(HH38-IJ38)/IJ38","v":{"v":0.0131108462455304,"d":"1.31%"}},{"v":950,"d":"950.00"},{"v":-0.170305676855895,"d":"-17.03%"},{"v":912,"d":"912.00"},{"v":-0.0480167014613779,"d":"-4.80%"},{"v":776,"d":"776.00"},{"v":-0.0536585365853659,"d":"-5.37%"},{"v":827,"d":"827.00"},{"v":-0.0372526193247963,"d":"-3.73%"},null,{"v":793,"d":"793.00"},{"$f":"(HS38-IT38)/IT38","v":{"v":-0.0233990147783251,"d":"-2.34%"}},{"v":780,"d":"780.00"},{"v":-0.0522478736330498,"d":"-5.22%"},{"v":748,"d":"748.00"},{"v":-0.0196592398427261,"d":"-1.97%"},{"v":784,"d":"784.00"},{"$f":"(HY38-IZ38)/IZ38","v":{"v":-0.0212234706616729,"d":"-2.12%"}},{"v":845,"d":"845.00"},{"v":-0.00821596244131455,"d":"-0.82%"},{"v":758,"d":"758.00"},{"v":0.0513176144244105,"d":"5.13%"},{"v":802,"d":"802.00"},{"v":0.038860103626943,"d":"3.89%"},9825,null,null,839,{"v":0.0256723716381417,"d":"2.57%"},1145,{"v":0.0140281271033333,"d":"1.40%"},958,{"v":0.020234291799787,"d":"2.02%"},{"v":820,"d":"820.00"},{"v":6.13496932515337E-3,"d":"0.61%"},{"v":859,"d":"859.00"},{"v":0.00821596244131455,"d":"0.82%"},{"v":812,"d":"812.00"},{"v":0.0175438596491228,"d":"1.75%"},{"v":823,"d":"823.00"},{"v":-0.0155502392344498,"d":"-1.56%"},763,{"v":0.00792602377807133,"d":"0.79%"},801,{"v":-0.0255474452554745,"d":"-2.55%"},852,{"v":-0.0218140068886338,"d":"-2.18%"},721,{"v":-0.0218025424993556,"d":"-2.18%"},772,{"v":-0.0653753026634383,"d":"-6.54%"},{"v":10200.23,"d":"10200"},818,{"v":1129.16,"d":"1129"},939,815,852,798,836,757,822,871,{"v":737.07,"d":"737"},826]
[null,"旅客周转量        （万人公里）",7888.0719,{"$f":"C39/R39-1","v":{"v":-0.0883690133026297,"d":"-8.84%"}},9890.8954,{"v":0.114481402916049,"d":"11.45%"},9258.3636,{"v":0.0687122063091785,"d":"6.87%"},9236.1468,{"$f":"I39/X39-1","v":{"v":0.00372528740688627,"d":"0.37%"}},9544.8729,{"v":0.0624049506392519,"d":"6.24%"},9053.128,{"v":0.054127389488043,"d":"5.41%"},{"v":54871.4786,"d":"54871.48"},{"v":0.0359942900901749,"d":"3.60%"},null,{"v":8652.7027,"d":"8652.70"},{"$f":"R39/AS39-1","v":{"v":0.267291043395115,"d":"26.73%"}},{"v":8874.886,"d":"8874.89"},{"v":0.220181911318047,"d":"22.02%"},8663.1027,{"v":0.238947473182783,"d":"23.89%"},9201.8672,{"$f":"X39/AY39-1","v":{"v":0.259940498239036,"d":"25.99%"}},8984.2135,{"v":0.249525371751042,"d":"24.95%"},8588.2675,{"v":0.280762431963852,"d":"28.08%"},8528.6379,{"$f":"AD39/BE39-1","v":{"v":0.287825656185902,"d":"28.78%"}},8864.1288,{"v":-0.0244619436622191,"d":"-2.45%"},8956.6383,{"v":-0.1607590050883,"d":"-16.08%"},9643.3971,{"$f":"AJ39/BK39-1","v":{"v":-0.168040238104792,"d":"-16.80%"}},8993.5855,{"v":-0.0628773762191415,"d":"-6.29%"},8330.8369,{"v":-0.0224045191400478,"d":"-2.24%"},{"v":106282.2641,"d":"106282.26"},{"v":0.080282993597024,"d":"8.03%"},null,{"v":6827.7155,"d":"6827.72"},{"v":-0.156823652482169,"d":"-15.68%"},7273.4122,{"$f":"AU39/BV39-1","v":{"v":-0.19353887949038,"d":"-19.35%"}},6992.3083,{"v":-0.201279187734922,"d":"-20.13%"},{"v":7303.4141,"d":"7303.41"},{"v":-0.15422184854502,"d":"-15.42%"},{"v":7190.1009,"d":"7190.10"},{"$f":"BA39/CB39-1","v":{"v":-0.125846778458069,"d":"-12.58%"}},{"v":6705.5898,"d":"6705.59"},{"v":-0.108844149195313,"d":"-10.88%"},{"v":6622.5097,"d":"6622.51"},{"v":-0.129999541123873,"d":"-13.00%"},{"v":9086.3998,"d":"9086.40"},{"$f":"BG39/CH39-1","v":{"v":0.170943275990437,"d":"17.09%"}},{"v":10672.3079,"d":"10672.31"},{"v":0.498196243137039,"d":"49.82%"},{"v":11591.1821,"d":"11591.18"},{"v":0.591188239278829,"d":"59.12%"},{"v":9597.021,"d":"9597.02"},{"v":0.419943440005124,"d":"41.99%"},{"v":8521.7629,"d":"8521.76"},{"v":0.344177736093754,"d":"34.42%"},{"v":98383.7242,"d":"98383.72"},{"v":0.0563629846387608,"d":"5.64%"},null,{"v":8097.6127,"d":"8097.61"},{"v":-0.321410364421404,"d":"-32.14%"},{"v":9018.9248,"d":"9018.92"},{"v":-0.295180032167379,"d":"-29.52%"},{"v":8754.3835,"d":"8754.38"},{"v":-0.0171445966876732,"d":"-1.71%"},8635.1416,{"v":0.245173370425,"d":"24.52%"},8225.2181,{"v":0.184523113127037,"d":"18.45%"},7524.5983,{"v":-0.0251855999958337,"d":"-2.52%"},7612.0761,{"v":-0.0521993617201766,"d":"-5.22%"},{"v":7759.8975,"d":"7759.90"},{"v":1.58168099429257E-3,"d":"0.16%"},{"$f":"6518.1528+CJ41","v":{"v":7123.4379,"d":"7123.44"}},{"v":-0.0824440395149528,"d":"-8.24%"},{"$f":"6621.5284+CL41","v":{"v":7284.6077,"d":"7284.61"}},{"v":0.0447867025868907,"d":"4.48%"},{"v":6758.7347,"d":"6758.73"},{"v":0.629248769198753,"d":"62.92%"},{"v":6339.759,"d":"6339.76"},{"v":0.34928195571765,"d":"34.93%"},93134.3919,{"v":-0.015448346877296,"d":"-1.54%"},{"v":-0.0619902568449683,"d":"-6.20%"},null,{"v":11933.0038,"d":"11933.00"},{"v":12796.0688,"d":"12796.07"},{"v":8907.092,"d":"8907.09"},{"v":6934.891,"d":"6934.89"},{"v":6943.9068,"d":"6943.91"},{"v":7719.0061,"d":"7719.01"},{"v":8031.3051,"d":"8031.31"},{"v":7747.6432,"d":"7747.64"},{"v":7763.4915,"d":"7763.49"},{"v":6972.3396,"d":"6972.34"},{"v":4148.3749,"d":"4148.37"},{"v":4698.6169,"d":"4698.62"},{"v":94595.7397,"d":"94595.74"},{"v":-0.324406653758029,"d":"-32.44%"},null,{"v":9835.7445,"d":"9,835.74"},{"v":-0.299595941242463,"d":"-29.96%"},12229.2263,null,13338.1853,{"v":0.965254943273906,"d":"96.53%"},{"v":35403.1561,"d":"35403.16"},13442.9753,{"$f":"(DR39-ER39)/ER39","v":{"v":0.54614785978434,"d":"54.61%"}},14042.9576,{"v":0.778039706254748,"d":"77.80%"},12434.7222,{"v":0.553563493253373,"d":"55.36%"},11895.2987,{"$f":"(DX39-EX39)/EX39","v":{"v":0.407727656804734,"d":"40.77%"}},8891.2552,{"v":-0.0328256261414976,"d":"-3.28%"},10393.7435,{"v":0.185953236461132,"d":"18.60%"},11402.7587,{"$f":"(ED39-FD39)/FD39","v":{"v":0.175631930484257,"d":"17.56%"}},11087.3647,{"v":0.336951561307167,"d":"33.70%"},11024.5237,{"v":0.242750164298106,"d":"24.28%"},140018.7557,{"v":0.208111098241946,"d":"20.81%"},{"v":31245,"d":"31245.0000"},{"v":-0.11437074829932,"d":"-11.44%"},{"v":0,"d":"0.0000"},{"v":-1,"d":"-100.00%"},{"v":6787,"d":"6787.0000"},{"v":-0.805530085959885,"d":"-80.55%"},8694.4953,{"v":-0.717362482933489,"d":"-71.74%"},{"v":7898,"d":"7898.0000"},{"v":-0.74622453569822,"d":"-74.62%"},{"v":8004,"d":"8004.0000"},{"v":-0.743387515629509,"d":"-74.34%"},{"v":8450,"d":"8450.0000"},{"v":-0.719138469720136,"d":"-71.91%"},9193.0219,{"v":-0.704499456766313,"d":"-70.45%"},8764.0416,{"v":-0.747862665784401,"d":"-74.79%"},9699.2591,{"$f":"(FD39-FU39)/FU39","v":{"v":-0.681039853332895,"d":"-68.10%"}},{"v":8293.019,"d":"8293.0190"},{"v":-0.744484255607592,"d":"-74.45%"},{"v":8871.07,"d":"8871.0700"},{"v":-0.790672974822436,"d":"-79.07%"},115898.9069,{"v":-0.710450350385862,"d":"-71.05%"},35280,35819,34900,30762,{"v":31122,"d":"31,122"},{"v":31191,"d":"31,191"},"30,086.0000","31,110.0000",34759,30409,{"$f":"(FU39-GW39)/GW39","v":{"v":-0.131394784198349,"d":"-13.14%"}},32456,{"v":-0.100393591662509,"d":"-10.04%"},42379,{"v":-0.13649700476792,"d":"-13.65%"},{"v":400273,"d":"400273.00"},{"v":-0.129358666217142,"d":"-12.94%"},null,null,38096,{"$f":"(GE39-HH39)/HH39","v":{"v":0,"d":"0.00%"}},36997,{"v":-0.0772895051875499,"d":"-7.73%"},44086,{"v":0.0472729000380084,"d":"4.73%"},{"v":35173,"d":"35173.00"},{"v":0,"d":"0.00%"},{"v":36758,"d":"36758.00"},{"v":-0.102653614237238,"d":"-10.27%"},36895,{"$f":"(GO39-HS39)/HS39","v":{"v":-0.0231406709205963,"d":"-2.31%"}},36058,{"v":-0.0437826513564401,"d":"-4.38%"},36208,{"v":-0.0670205364734984,"d":"-6.70%"},39309,{"$f":"(GU39-HY39)/HY39","v":{"v":-0.0396276660721702,"d":"-3.96%"}},35009,{"v":-0.0320984241083771,"d":"-3.21%"},36078,{"v":-0.0560933493799383,"d":"-5.61%"},49078,{"v":-0.127067695919747,"d":"-12.71%"},459745,459745,{"$nulls":3},38096,{"$f":"(HH39-IJ39)/IJ39","v":{"v":0.0179563916203506,"d":"1.80%"}},{"v":40096,"d":"40096.00"},{"v":-0.163952542796972,"d":"-16.40%"},{"v":42096,"d":"42096.00"},{"v":-0.0449440751412301,"d":"-4.49%"},{"v":35173,"d":"35173.00"},{"v":0.0027368361034296,"d":"0.27%"},{"v":40963,"d":"40963.00"},{"v":-0.0329107349434568,"d":"-3.29%"},null,{"v":37769,"d":"37769.00"},{"$f":"(HS39-IT39)/IT39","v":{"v":-0.0257184130423567,"d":"-2.57%"}},{"v":37709,"d":"37709.00"},{"v":-0.0472472775967053,"d":"-4.72%"},{"v":38809,"d":"38809.00"},{"v":-0.0107820146818923,"d":"-1.08%"},{"v":40931,"d":"40931.00"},{"$f":"(HY39-IZ39)/IZ39","v":{"v":-0.0272820171582024,"d":"-2.73%"}},{"v":36170,"d":"36170.00"},{"v":-0.0113974909120726,"d":"-1.14%"},{"v":38222,"d":"38222.00"},{"v":0.175482839217616,"d":"17.55%"},{"v":56222,"d":"56222.00"},{"v":0.035205302890812,"d":"3.52%"},482256,null,null,37424,{"v":0.0738416886357267,"d":"7.38%"},47959,{"v":0.0167016418704935,"d":"1.67%"},44077,{"v":0.0259441518150792,"d":"2.59%"},{"v":35077,"d":"35077.00"},{"v":7.65246854562706E-3,"d":"0.77%"},{"v":42357,"d":"42357.00"},{"v":0.0101742459838753,"d":"1.02%"},{"v":38766,"d":"38766.00"},{"v":0.0234303533125984,"d":"2.34%"},{"v":39579,"d":"39579.00"},{"v":-0.0118264399613871,"d":"-1.18%"},{"v":39232,"d":"39,232.00"},{"v":0.00791273337600725,"d":"0.79%"},{"v":42079,"d":"42,079.00"},{"v":-0.0267367866013171,"d":"-2.67%"},{"v":36587,"d":"36,587.00"},{"v":-0.016449221049919,"d":"-1.64%"},{"v":32516,"d":"32,516.00"},{"v":-7.15747430447019E-3,"d":"-0.72%"},{"v":54310,"d":"54,310.00"},{"v":-0.0709196710944541,"d":"-7.09%"},{"v":490220.220948149,"d":"490220"},{"v":34850.5747132482,"d":"34851"},{"v":47171.1641104136,"d":"47171"},{"v":42962.3775543921,"d":"42962"},{"v":34810.6128798827,"d":"34811"},{"v":41930.3898989681,"d":"41930"},{"v":37878.4935140176,"d":"37878"},{"v":40052.6806226767,"d":"40053"},{"v":38924.0047286557,"d":"38924"},{"v":43234.9640063535,"d":"43235"},{"v":37198.8928106547,"d":"37199"},{"v":32750.4102196077,"d":"32750"},{"v":58455.6558892782,"d":"58456"}]
[null,"其中个体客运量     （万人）",{"v":3.6318,"d":"3.63"},{"$f":"C40/R40-1","v":{"v":-0.823332830673289,"d":"-82.33%"}},1.8462,{"v":-0.881351901955618,"d":"-88.14%"},1.1319,{"v":-0.920705864221315,"d":"-92.07%"},0.9238,{"$f":"I40/X40-1","v":{"v":-0.924890645072117,"d":"-92.49%"}},1.0415,{"v":-0.915321072572646,"d":"-91.53%"},0.9698,{"v":-0.914842425998613,"d":"-91.48%"},{"v":9.545,"d":"9.55"},{"v":-0.889499116687544,"d":"-88.95%"},null,{"v":20.5573,"d":"20.56"},{"$f":"R40/AS40-1","v":{"v":-0.00426247136152047,"d":"-0.43%"}},{"v":15.5603,"d":"15.56"},{"v":-0.204784488485951,"d":"-20.48%"},{"v":14.2747,"d":"14.27"},{"v":-0.0728004936507421,"d":"-7.28%"},{"v":12.2994,"d":"12.30"},{"$f":"X40/AY40-1","v":{"v":-0.214517447504215,"d":"-21.45%"}},{"v":12.2994,"d":"12.30"},{"v":-0.298347899504826,"d":"-29.83%"},{"v":11.3883,"d":"11.39"},{"v":-0.287652467629949,"d":"-28.77%"},{"v":10.6428,"d":"10.64"},{"$f":"AD40/BE40-1","v":{"v":-0.27300795792206,"d":"-27.30%"}},{"v":10.2329,"d":"10.23"},{"v":-0.359711419936552,"d":"-35.97%"},{"v":10.4666,"d":"10.47"},{"v":-0.579455324209867,"d":"-57.95%"},{"v":6.2611,"d":"6.26"},{"$f":"AJ40/BK40-1","v":{"v":-0.772522988944234,"d":"-77.25%"}},6.2611,{"v":-0.754956753160346,"d":"-75.50%"},6.2152,{"v":-0.707063708647352,"d":"-70.71%"},{"v":136.4591,"d":"136.46"},{"v":-0.41829372992725,"d":"-41.83%"},null,{"v":20.6453,"d":"20.65"},{"v":-0.302935764328522,"d":"-30.29%"},19.5674,{"$f":"AU40/BV40-1","v":{"v":-0.246012816017324,"d":"-24.60%"}},15.3955,{"v":-0.423201567551974,"d":"-42.32%"},{"v":15.6584,"d":"15.66"},{"v":-0.446419922434304,"d":"-44.64%"},{"v":17.5292,"d":"17.53"},{"$f":"BA40/CB40-1","v":{"v":-0.422060302335933,"d":"-42.21%"}},{"v":15.987,"d":"15.99"},{"v":-0.498675112497844,"d":"-49.87%"},{"v":14.6395,"d":"14.64"},{"v":-0.466303808912739,"d":"-46.63%"},{"v":15.9817,"d":"15.98"},{"$f":"BG40/CH40-1","v":{"v":-0.343777844387598,"d":"-34.38%"}},{"v":24.8882,"d":"24.89"},{"v":0.062962330229777,"d":"6.30%"},{"v":27.5241,"d":"27.52"},{"v":0.30020170909486,"d":"30.02%"},{"v":25.551,"d":"25.55"},{"v":0.409834799209861,"d":"40.98%"},{"v":21.2169,"d":"21.22"},{"v":0.366416785810889,"d":"36.64%"},{"v":234.5842,"d":"234.58"},{"v":-0.225244464054999,"d":"-22.52%"},null,{"v":29.6175,"d":"29.62"},{"v":-0.0704181588206308,"d":"-7.04%"},{"v":25.9519,"d":"25.95"},{"v":-0.210845443460227,"d":"-21.08%"},{"v":26.6913,"d":"26.69"},{"v":-0.043689337780851,"d":"-4.37%"},28.2857,{"v":0.0906885994339433,"d":"9.07%"},30.3305,{"v":0.168733334360887,"d":"16.87%"},31.8895,{"v":0.273857744329666,"d":"27.39%"},{"v":27.4304,"d":"27.43"},{"v":-0.00837608135318724,"d":"-0.84%"},{"v":24.3541,"d":"24.35"},{"v":-0.0509738058311446,"d":"-5.10%"},{"v":23.414,"d":"23.41"},{"v":-0.129917763219014,"d":"-12.99%"},{"v":21.1691,"d":"21.17"},{"v":-0.184291648363505,"d":"-18.43%"},{"v":18.1234,"d":"18.12"},{"v":-0.112893909876749,"d":"-11.29%"},{"v":15.5274,"d":"15.53"},{"v":-0.217704108622818,"d":"-21.77%"},302.7848,{"v":-0.0419451641115145,"d":"-4.19%"},{"v":-0.143240230861759,"d":"-14.32%"},null,{"v":31.8611,"d":"31.86"},{"v":32.8857,"d":"32.89"},{"v":27.9107,"d":"27.91"},{"v":25.9338,"d":"25.93"},{"v":25.9516,"d":"25.95"},{"v":25.0338,"d":"25.03"},{"v":27.6621,"d":"27.66"},{"v":25.6622,"d":"25.66"},{"v":26.9101,"d":"26.91"},{"v":25.9518,"d":"25.95"},{"v":20.4298,"d":"20.43"},{"v":19.8485,"d":"19.85"},{"v":316.0412,"d":"316.04"},{"v":-0.229714144211861,"d":"-22.97%"},null,{"v":31.341,"d":"31.34"},null,{"v":49.402,"d":"49.4020"},null,{"v":42.398,"d":"42.3980"},{"$error":"#DIV/0!"},{"v":123.141,"d":"123.14"},{"v":32.544,"d":"32.5440"},{"$f":"(DR40-ER40)/ER40","v":{"$error":"#DIV/0!"}},43.8686,{"$error":"#DIV/0!"},{"v":34.733,"d":"34.7330"},{"$error":"#DIV/0!"},36.1002,{"$f":"(DX40-EX40)/EX40","v":{"$error":"#DIV/0!"}},25.1084,{"$error":"#DIV/0!"},30.7422,{"$error":"#DIV/0!"},28.4426,{"$f":"(ED40-FD40)/FD40","v":{"$error":"#DIV/0!"}},27.5623,{"$error":"#DIV/0!"},28.0485,{"$error":"#DIV/0!"},410.2908,{"$error":"#DIV/0!"},{"$nulls":24},{"v":0,"d":"0.0000"}]
[null,"其中个体旅客周转量（万人公里）",{"v":139.6202,"d":"139.62"},{"$f":"C41/R41-1","v":{"v":-0.80289301589771,"d":"-80.29%"}},54.9222,{"v":-0.876843517254896,"d":"-87.68%"},34.3465,{"v":-0.917898866912812,"d":"-91.79%"},30.2418,{"$f":"I41/X41-1","v":{"v":-0.916731486868505,"d":"-91.67%"}},34.0819,{"v":-0.906158061434958,"d":"-90.62%"},28.8824,{"v":-0.909624277257688,"d":"-90.96%"},{"v":322.095,"d":"322.10"},{"v":-0.876997029667013,"d":"-87.70%"},null,{"v":708.3473,"d":"708.35"},{"$f":"R41/AS41-1","v":{"v":0.316537679494757,"d":"31.65%"}},{"v":445.9546,"d":"445.95"},{"v":-0.139538267046595,"d":"-13.95%"},{"v":418.3438,"d":"418.34"},{"v":-0.132172492686057,"d":"-13.22%"},{"v":363.1841,"d":"363.18"},{"$f":"X41/AY41-1","v":{"v":-0.26115206733901,"d":"-26.12%"}},{"v":363.1841,"d":"363.18"},{"v":-0.292040861478962,"d":"-29.20%"},{"v":319.5814,"d":"319.58"},{"v":-0.288736251568777,"d":"-28.87%"},{"v":303.0666,"d":"303.07"},{"$f":"AD41/BE41-1","v":{"v":-0.194415522726711,"d":"-19.44%"}},{"v":287.3358,"d":"287.34"},{"v":-0.368433199525845,"d":"-36.84%"},{"v":293.9957,"d":"294.00"},{"v":-0.635903983751668,"d":"-63.59%"},{"v":178.4537,"d":"178.45"},{"$f":"AJ41/BK41-1","v":{"v":-0.797599898739667,"d":"-79.76%"}},{"v":178.4537,"d":"178.45"},{"v":-0.769336491335013,"d":"-76.93%"},{"v":203.9378,"d":"203.94"},{"v":-0.671409004173573,"d":"-67.14%"},{"v":4063.8386,"d":"4063.84"},{"v":-0.411622671432114,"d":"-41.16%"},null,{"v":538.038,"d":"538.04"},{"v":-0.389651789175207,"d":"-38.97%"},518.2736,{"$f":"AU41/BV41-1","v":{"v":-0.335918297004305,"d":"-33.59%"}},482.0587,{"v":-0.377898790263727,"d":"-37.79%"},{"v":491.5546,"d":"491.55"},{"v":-0.43092122057602,"d":"-43.09%"},{"v":513.0015,"d":"513.00"},{"$f":"BA41/CB41-1","v":{"v":-0.447389001457467,"d":"-44.74%"}},{"v":449.3149,"d":"449.31"},{"v":-0.439544121121314,"d":"-43.95%"},{"v":376.2071,"d":"376.21"},{"v":-0.447293235082084,"d":"-44.73%"},{"v":454.9571,"d":"454.96"},{"$f":"BG41/CH41-1","v":{"v":-0.326143919312122,"d":"-32.61%"}},{"v":807.4675,"d":"807.47"},{"v":0.334028377701681,"d":"33.40%"},{"v":881.6878,"d":"881.69"},{"v":0.329686811215491,"d":"32.97%"},{"v":773.6538,"d":"773.65"},{"v":0.412710994878548,"d":"41.27%"},{"v":620.6433,"d":"620.64"},{"v":0.46863027244906,"d":"46.86%"},{"v":6906.8579,"d":"6906.86"},{"v":-0.199210600420523,"d":"-19.92%"},null,{"v":881.5263,"d":"881.53"},{"v":-0.142292077467153,"d":"-14.23%"},{"v":780.4365,"d":"780.44"},{"v":-0.173289451787519,"d":"-17.33%"},{"v":774.8879,"d":"774.89"},{"v":-0.0416739221414996,"d":"-4.17%"},863.7725,{"v":0.209768117127433,"d":"20.98%"},{"v":928.323,"d":"928.3230"},{"v":0.274317368956048,"d":"27.43%"},801.6954,{"v":0.0869970033854788,"d":"8.70%"},680.6631,{"v":-0.221253996623993,"d":"-22.13%"},{"v":675.1547,"d":"675.15"},{"v":-0.00930395264648187,"d":"-0.93%"},{"v":605.2851,"d":"605.29"},{"v":-0.214151515265609,"d":"-21.42%"},{"v":663.0793,"d":"663.08"},{"v":-0.0205371600392684,"d":"-2.05%"},{"v":547.6377,"d":"547.64"},{"v":0.198301793280913,"d":"19.83%"},{"v":422.6001,"d":"422.60"},{"v":-0.195965712302673,"d":"-19.60%"},8625.0616,{"v":-0.03585013365984,"d":"-3.59%"},{"v":-0.228321753597314,"d":"-22.83%"},null,{"v":1027.7698,"d":"1027.77"},{"v":944.0263,"d":"944.03"},{"v":808.5848,"d":"808.58"},{"v":713.9984,"d":"714.00"},{"v":728.4865,"d":"728.49"},{"v":737.5323,"d":"737.53"},{"v":874.0502,"d":"874.05"},{"v":681.4953,"d":"681.50"},{"v":770.2313,"d":"770.23"},{"v":676.9826,"d":"676.98"},{"v":457.0115,"d":"457.01"},{"v":525.5996,"d":"525.60"},{"v":8945.7686,"d":"8945.77"},{"v":-0.27088938424486,"d":"-27.09%"},null,{"v":1096.935,"d":"1,096.94"},null,{"v":1729.07,"d":"1729.0700"},null,{"v":1483.93,"d":"1483.9300"},{"$error":"#DIV/0!"},{"v":4309.935,"d":"4309.94"},{"v":911.232,"d":"911.2320"},{"$f":"(DR41-ER41)/ER41","v":{"$error":"#DIV/0!"}},1267.1661,{"$error":"#DIV/0!"},941.5374,{"$error":"#DIV/0!"},{"v":849.664,"d":"849.6640"},{"$f":"(DX41-EX41)/EX41","v":{"$error":"#DIV/0!"}},680.7145,{"$error":"#DIV/0!"},835.1998,{"$error":"#DIV/0!"},847.0324,{"$f":"(ED41-FD41)/FD41","v":{"$error":"#DIV/0!"}},801.5624,{"$error":"#DIV/0!"},825.3822,{"$error":"#DIV/0!"},12269.4258,{"$error":"#DIV/0!"},{"$nulls":24},{"v":0,"d":"0.0000"}]
["咸宁市","客运量            （万人）",39.3094,{"$f":"C42/R42-1","v":{"v":-0.334743632920454,"d":"-33.47%"}},56.4335,{"v":-0.132214185103857,"d":"-13.22%"},56.8116,{"v":-0.130239885362079,"d":"-13.02%"},58.6924,{"$f":"I42/X42-1","v":{"v":-0.0248520474112867,"d":"-2.49%"}},58.0517,{"v":0.0156515988389894,"d":"1.57%"},52.6658,{"v":-0.108051715786728,"d":"-10.81%"},{"v":321.9644,"d":"321.96"},{"v":-0.119908263526414,"d":"-11.99%"},null,{"v":59.0891,"d":"59.09"},{"$f":"R42/AS42-1","v":{"v":0.11612905663086,"d":"11.61%"}},{"v":65.0316,"d":"65.03"},{"v":0.315010322870263,"d":"31.50%"},65.3187,{"v":0.24766630947401,"d":"24.77%"},60.1882,{"$f":"X42/AY42-1","v":{"v":0.236809064587653,"d":"23.68%"}},57.1571,{"v":0.0872611271110029,"d":"8.73%"},59.0458,{"v":0.13754373256477,"d":"13.75%"},53.5025,{"$f":"AD42/BE42-1","v":{"v":0.102862360963383,"d":"10.29%"}},53.6282,{"v":0.0152202967579254,"d":"1.52%"},53.3324,{"v":-0.0428362216255798,"d":"-4.28%"},52.6712,{"$f":"AJ42/BK42-1","v":{"v":-0.131738066821841,"d":"-13.17%"}},48.952,{"v":-0.184435092349164,"d":"-18.44%"},41.0177,{"v":-0.285796619967474,"d":"-28.58%"},{"v":668.9345,"d":"668.93"},{"v":0.0402371724176109,"d":"4.02%"},null,{"v":52.9411,"d":"52.94"},{"v":-0.034675472441232,"d":"-3.47%"},49.4533,{"$f":"AU42/BV42-1","v":{"v":-0.0980448302905397,"d":"-9.80%"}},52.3527,{"v":-0.0550292952885668,"d":"-5.50%"},{"v":48.6641,"d":"48.66"},{"v":-0.219379759160607,"d":"-21.94%"},{"v":52.5698,"d":"52.57"},{"$f":"BA42/CB42-1","v":{"v":-0.0870604171370022,"d":"-8.71%"}},{"v":51.9064,"d":"51.91"},{"v":-0.0755596715880961,"d":"-7.56%"},{"v":48.5124,"d":"48.51"},{"v":-0.0847269598816676,"d":"-8.47%"},{"v":52.8242,"d":"52.82"},{"$f":"BG42/CH42-1","v":{"v":-0.0293219943439808,"d":"-2.93%"}},{"v":55.7192,"d":"55.72"},{"v":0.00776817381899342,"d":"0.78%"},{"v":60.6628,"d":"60.66"},{"v":0.0197845203653302,"d":"1.98%"},{"v":60.0222,"d":"60.02"},{"v":0.0310116667353753,"d":"3.10%"},{"v":57.4314,"d":"57.43"},{"v":0.0303056397229382,"d":"3.03%"},{"v":643.0596,"d":"643.06"},{"v":-0.0505586051503381,"d":"-5.06%"},null,{"v":54.8428,"d":"54.84"},{"v":-0.172458957025592,"d":"-17.25%"},{"v":54.829,"d":"54.83"},{"v":-0.220111061168987,"d":"-22.01%"},{"v":55.4014,"d":"55.40"},{"v":-0.100404645302087,"d":"-10.04%"},62.3403,{"v":0.040720454215365,"d":"4.07%"},{"v":57.583,"d":"57.5830"},{"v":-0.0830498866213152,"d":"-8.30%"},{"v":56.149,"d":"56.1490"},{"v":-0.0883866673160911,"d":"-8.84%"},53.0032,{"v":-0.13053777093186,"d":"-13.05%"},{"v":54.4199,"d":"54.42"},{"v":-0.101602327055654,"d":"-10.16%"},{"v":55.2897,"d":"55.29"},{"v":-0.0942395682993595,"d":"-9.42%"},{"v":59.4859,"d":"59.49"},{"v":0.0401742311377831,"d":"4.02%"},{"v":58.2168,"d":"58.22"},{"v":0.224338375086226,"d":"22.43%"},{"v":55.7421,"d":"55.74"},{"v":0.360602118202433,"d":"36.06%"},677.3031,{"v":-0.0470414381011715,"d":"-4.70%"},{"v":-0.0425083481057015,"d":"-4.25%"},null,{"v":66.272,"d":"66.27"},{"v":70.3036,"d":"70.30"},{"v":61.5848,"d":"61.58"},{"v":59.9011,"d":"59.90"},{"v":62.7984,"d":"62.80"},{"v":61.593,"d":"61.59"},{"v":60.9609,"d":"60.96"},{"v":60.5744,"d":"60.57"},{"v":61.0423,"d":"61.04"},{"v":57.1884,"d":"57.19"},{"v":47.5496,"d":"47.55"},{"v":40.9687,"d":"40.97"},{"v":710.7372,"d":"710.74"},{"v":-0.251690320662395,"d":"-25.17%"},null,79.9779,{"$f":"(DK42-DT42)/DT42","v":{"v":-0.219781088120811,"d":"-21.98%"}},90.2991,null,90.5514,{"v":15.7288144986976,"d":"1572.88%"},{"v":260.8284,"d":"260.83"},94.4988,{"$f":"(DR42-ER42)/ER42","v":{"v":5.29992,"d":"529.99%"}},{"v":102.507,"d":"102.5070"},{"v":0.494462846545913,"d":"49.45%"},93.6941,{"v":0.306360017567954,"d":"30.64%"},88.2697,{"$f":"(DX42-EX42)/EX42","v":{"v":0.148044532885924,"d":"14.80%"}},{"v":55.42,"d":"55.4200"},{"v":-0.286954037999097,"d":"-28.70%"},63.3182,{"v":-0.190178007310603,"d":"-19.02%"},{"v":71.284,"d":"71.2840"},{"$f":"(ED42-FD42)/FD42","v":{"v":-0.199666771081388,"d":"-19.97%"}},61.0187,{"v":-0.265217380833109,"d":"-26.52%"},58.9513,{"v":-0.228060779543211,"d":"-22.81%"},949.7902,{"v":-0.0660883526112333,"d":"-6.61%"},{"v":375,"d":"375.0000"},{"$f":"(EL42-FL42)/FL42","v":{"v":-0.166666666666667,"d":"-16.67%"}},{"v":0,"d":"0.0000"},{"$f":"(EN42-FM42)/FM42","v":{"v":-1,"d":"-100.00%"}},5.4129,{"$f":"(EP42-FN42)/FN42","v":{"v":-0.988953265306122,"d":"-98.90%"}},{"v":15,"d":"15.0000"},{"$f":"(ER42-FO42)/FO42","v":{"v":-0.962686567164179,"d":"-96.27%"}},68.5912,{"$f":"(ET42-FP42)/FP42","v":{"v":-0.833516504854369,"d":"-83.35%"}},71.7215,{"$f":"(EV42-FQ42)/FQ42","v":{"v":-0.819795226130653,"d":"-81.98%"}},{"v":76.887,"d":"76.8870"},{"$f":"(EX42-FR42)/FR42","v":{"v":-0.798196850393701,"d":"-79.82%"}},77.7229,{"$f":"(EZ42-FS42)/FS42","v":{"v":-0.788220980926431,"d":"-78.82%"}},78.1878,{"$f":"(FB42-FT42)/FT42","v":{"v":-0.789817741935484,"d":"-78.98%"}},89.0679,{"$f":"(FD42-FU42)/FU42","v":{"v":-0.766837958115183,"d":"-76.68%"}},83.0432,{"v":-0.767385994397759,"d":"-76.74%"},76.3678,{"v":-0.804185128205128,"d":"-80.42%"},1017.0022,{"$f":"(FJ42-(FL42+FM42+FN42+FO42+FP42+FQ42+FR42+FS42+FT42+FU42+FW42+FY42))/(FL42+FM42+FN42+FO42+FP42+FQ42+FR42+FS42+FT42+FU42+FW42+FY42)","v":{"v":-0.797046058670924,"d":"-79.70%"}},450,610,490,402,412,398,"381.0000","367.0000","372.0000","382.0000",{"$f":"(FU42-GW42)/GW42","v":{"v":-0.111627906976744,"d":"-11.16%"}},"357.0000",{"v":-0.129268292682927,"d":"-12.93%"},"390.0000",{"v":-0.178947368421053,"d":"-17.89%"},{"$f":"FL42+FM42+FN42+FO42+FP42+FQ42+FR42+FS42+FT42+FU42+FW42+FY42","v":{"v":5011,"d":"5011.00"}},{"$f":"(GA42-HC42)/HC42","v":{"v":-0.123951048951049,"d":"-12.40%"}},null,null,509,{"$f":"(GE42-HH42)/HH42","v":{"v":-0.00391389432485323,"d":"-0.39%"}},690,{"v":-0.0128755364806867,"d":"-1.29%"},557,{"v":-0.0141592920353982,"d":"-1.42%"},430,{"$f":"(GK42-HN42)/HN42","v":{"v":-0.0337078651685393,"d":"-3.37%"}},429,{"$f":"(GM42-HP42)/HP42","v":{"v":-0.0272108843537415,"d":"-2.72%"}},465,{"$f":"(GO42-HS42)/HS42","v":{"v":-0.0271966527196653,"d":"-2.72%"}},455,{"v":-0.0339702760084926,"d":"-3.40%"},440,{"v":-0.032967032967033,"d":"-3.30%"},430,{"$f":"(GU42-HY42)/HY42","v":{"v":-0.0380313199105145,"d":"-3.80%"}},430,{"v":-0.0293453724604966,"d":"-2.93%"},410,{"v":-0.00726392251815981,"d":"-0.73%"},475,{"$f":"(HA42-IE42)/IE42","v":{"v":-0.0404040404040404,"d":"-4.04%"}},{"$f":"GE42+GG42+GI42+GK42+GM42+GO42+GQ42+GS42+GU42+GW42+GY42+HA42","v":5720},{"$f":"HA42+GY42+GW42+GU42+GS42+GQ42+GO42+GM42+GK42+GI42+GG42+GE42","v":5720},{"$nulls":3},511,{"$f":"(HH42-IJ42)/IJ42","v":{"v":-0.0133611368551127,"d":"-1.34%"}},{"v":699,"d":"699.00"},{"v":-0.0154929577464789,"d":"-1.55%"},{"v":565,"d":"565.00"},{"v":-0.0087719298245614,"d":"-0.88%"},{"v":445,"d":"445.00"},{"$f":"(HN42-IP42)/IP42","v":{"v":-0.00669642857142857,"d":"-0.67%"}},{"v":441,"d":"441.00"},{"$f":"(HP42-IR42)/IR42","v":{"v":-0.00675675675675676,"d":"-0.68%"}},null,{"v":478,"d":"478.00"},{"$f":"(HS42-IT42)/IT42","v":{"v":0.00209643605870021,"d":"0.21%"}},{"v":471,"d":"471.00"},{"v":-0.0105042016806723,"d":"-1.05%"},{"v":455,"d":"455.00"},{"v":-0.00437636761487965,"d":"-0.44%"},{"v":447,"d":"447.00"},{"$f":"(HY42-IZ42)/IZ42","v":{"v":-0.00666666666666667,"d":"-0.67%"}},{"v":443,"d":"443.00"},{"v":-0.00449438202247191,"d":"-0.45%"},413,{"v":0,"d":"0.00%"},495,{"$f":"(IE42-JF42)/JF42","v":{"v":0.0269709543568465,"d":"2.70%"}},{"$f":"HH42+HJ42+HL42+HN42+HP42+HS42+HU42+HW42+HY42+IA42+IC42+IE42","v":5863},null,null,{"v":517.92,"d":"518"},{"$f":"IJ42/JI42-1","v":{"v":0.0224497257326723,"d":"2.24%"}},710,{"$f":"IL42/JJ42-1","v":{"v":0.0229425817094371,"d":"2.29%"}},570,{"$f":"(IN42-JK42)/JK42","v":{"v":0.0223115804133034,"d":"2.23%"}},{"v":448,"d":"448.00"},{"$f":"(IP42-JL42)/JL42","v":{"v":0.0263557669382912,"d":"2.64%"}},{"v":444,"d":"444.00"},{"$f":"(IR42-JM42)/JM42","v":{"v":0.0257959701444349,"d":"2.58%"}},{"v":477,"d":"477.00"},{"$f":"(IT42-JN42)/JN42","v":{"v":0.021441088160328,"d":"2.14%"}},{"v":476,"d":"476.00"},{"$f":"(IV42-JO42)/JO42","v":{"v":0.0249629205436277,"d":"2.50%"}},457,{"$f":"(IX42-JP42)/JP42","v":{"v":0.021416943536712,"d":"2.14%"}},450,{"$f":"(IZ42-JQ42)/JQ42","v":{"v":1.75113945579661E-3,"d":"0.18%"}},445,{"$f":"(JB42-JR42)/JR42","v":{"v":-0.0323623707907012,"d":"-3.24%"}},413,{"$f":"(JD42-JS42)/JS42","v":{"v":-0.00490685299859567,"d":"-0.49%"}},482,{"$f":"(JF42-JT42)/JT42","v":{"v":-0.029619744578661,"d":"-2.96%"}},{"v":5827.17191643342,"d":"5827"},{"v":506.548133336205,"d":"507"},{"v":694.076102310181,"d":"694"},{"v":557.559956201962,"d":"558"},{"v":436.495817952505,"d":"436"},{"v":432.834611289693,"d":"433"},{"v":466.987284464054,"d":"467"},{"v":464.407043864119,"d":"464"},{"v":447.417680793127,"d":"447"},{"v":449.21336475291,"d":"449"},{"v":459.88290096121,"d":"460"},{"v":415.036523208432,"d":"415"},{"v":496.712497299026,"d":"497"}]
[null,"旅客周转量        （万人公里）",4330.6841,{"$f":"C43/R43-1","v":{"v":-0.180909556305246,"d":"-18.09%"}},5973.8076,{"v":0.0381535273105909,"d":"3.82%"},6126.3787,{"v":-0.00233761980287239,"d":"-0.23%"},6709.8015,{"$f":"I43/X43-1","v":{"v":0.0652986250572951,"d":"6.53%"}},6422.9636,{"v":0.0791398398593102,"d":"7.91%"},5719.9664,{"v":-0.0154656453152844,"d":"-1.55%"},{"v":35283.6019,"d":"35283.60"},{"v":1.16775942846559E-3,"d":"0.12%"},null,{"v":5287.1867,"d":"5287.19"},{"$f":"R43/AS43-1","v":{"v":0.418697357674891,"d":"41.87%"}},{"v":5754.2622,"d":"5754.26"},{"v":0.377105338732374,"d":"37.71%"},6140.7334,{"v":0.351694653162898,"d":"35.17%"},6298.517,{"$f":"X43/AY43-1","v":{"v":0.32306859499254,"d":"32.31%"}},5951.9289,{"v":0.221508973590812,"d":"22.15%"},5809.819,{"v":0.308953550505181,"d":"30.90%"},5215.6359,{"$f":"AD43/BE43-1","v":{"v":0.174158422408037,"d":"17.42%"}},5112.6802,{"v":0.090779363774929,"d":"9.08%"},5120.6557,{"v":0.0510662255654803,"d":"5.11%"},5405.8883,{"$f":"AJ43/BK43-1","v":{"v":-0.0713593329920346,"d":"-7.14%"}},5115.4008,{"v":-0.128764451796653,"d":"-12.88%"},4543.3814,{"v":-0.125755927696944,"d":"-12.58%"},{"v":65756.0895,"d":"65756.09"},{"v":0.145363362705337,"d":"14.54%"},null,{"v":3726.7897,"d":"3726.79"},{"v":-1.53670751881008E-3,"d":"-0.15%"},4178.52,{"$f":"AU43/BV43-1","v":{"v":0.0941669306602881,"d":"9.42%"}},4542.9886,{"v":0.0380867512743386,"d":"3.81%"},{"v":4760.537,"d":"4760.54"},{"v":-0.0667472362415978,"d":"-6.67%"},{"v":4872.6035,"d":"4872.60"},{"$f":"BA43/CB43-1","v":{"v":0.0225486655671854,"d":"2.25%"}},{"v":4438.5219,"d":"4438.52"},{"v":0.0762715199592277,"d":"7.63%"},{"v":4442.0206,"d":"4442.02"},{"v":0.0476870646366854,"d":"4.77%"},{"v":4687.1809,"d":"4687.18"},{"$f":"BG43/CH43-1","v":{"v":0.0436520051205778,"d":"4.37%"}},{"v":4871.8678,"d":"4871.87"},{"v":0.0773044880325295,"d":"7.73%"},{"v":5821.2918,"d":"5821.29"},{"v":0.215652932342647,"d":"21.57%"},{"v":5871.4326,"d":"5871.43"},{"v":0.229466990259364,"d":"22.95%"},{"v":5196.9256,"d":"5196.93"},{"v":0.314332721528868,"d":"31.43%"},57410.68,{"v":0.0896062470817889,"d":"8.96%"},null,{"v":3732.5255,"d":"3732.53"},{"v":-0.112553441987593,"d":"-11.26%"},{"v":3818.9054,"d":"3818.91"},{"v":-0.253505361963966,"d":"-25.35%"},{"v":4376.3092,"d":"4376.31"},{"v":0.179182846839362,"d":"17.92%"},5101.0157,{"v":0.496004366759079,"d":"49.60%"},4765.1556,{"v":0.207665171838046,"d":"20.77%"},4123.9797,{"v":0.0102116884027372,"d":"1.02%"},4239.8353,{"v":-0.0223074072545304,"d":"-2.23%"},{"v":4491.1339,"d":"4491.13"},{"v":0.109498917449393,"d":"10.95%"},{"v":4522.2756,"d":"4522.28"},{"v":0.231938027432188,"d":"23.19%"},{"v":4788.6133,"d":"4788.61"},{"v":0.429924773134521,"d":"42.99%"},{"v":4775.5919,"d":"4775.59"},{"v":0.750983289000143,"d":"75.10%"},{"v":3954.0411,"d":"3954.04"},{"v":0.597645360276395,"d":"59.76%"},52689.3822,{"v":0.168867313496154,"d":"16.89%"},{"v":-0.172031198897042,"d":"-17.20%"},null,{"v":4205.9158,"d":"4205.92"},{"v":5115.7841,"d":"5115.78"},{"v":3711.3067,"d":"3711.31"},{"v":3409.7599,"d":"3409.76"},{"v":3945.7589,"d":"3945.76"},{"v":4082.2926,"d":"4082.29"},{"v":4336.573,"d":"4336.57"},{"v":4047.8939,"d":"4047.89"},{"v":3670.8629,"d":"3670.86"},{"v":3348.8568,"d":"3348.86"},{"v":2727.3772,"d":"2727.38"},{"v":2474.9179,"d":"2474.92"},{"v":45077.2997,"d":"45077.30"},{"v":-0.284023273877709,"d":"-28.40%"},null,{"v":5592.3402,"d":"5,592.34"},{"v":-0.259696972637367,"d":"-25.97%"},5856.5941,null,6533.8882,{"v":2.39634483834078,"d":"239.63%"},{"v":17982.8225,"d":"17982.82"},6719.0444,{"$f":"(DR43-ER43)/ER43","v":{"v":6.45029040306038,"d":"645.03%"}},7554.1231,{"v":0.748043369929261,"d":"74.80%"},6458.6032,{"v":0.37959289918209,"d":"37.96%"},6142.8114,{"$f":"(DX43-EX43)/EX43","v":{"v":0.238737192978897,"d":"23.87%"}},2988.5226,{"v":-0.459529060858322,"d":"-45.95%"},3761.2096,{"v":-0.363494929879107,"d":"-36.35%"},4353.4544,{"$f":"(ED43-FD43)/FD43","v":{"v":-0.334575197512179,"d":"-33.46%"}},3436.8596,{"v":-0.449529807657025,"d":"-44.95%"},3561.7182,{"v":-0.332809379291855,"d":"-33.28%"},{"v":62959.169,"d":"62959.1690"},{"v":-0.0260853443303153,"d":"-2.61%"},{"v":18295,"d":"18295.0000"},{"v":-0.155160471022858,"d":"-15.52%"},{"v":0,"d":"0.0000"},{"v":-1,"d":"-100.00%"},{"v":1923.8,"d":"1923.8000"},{"v":-0.925867981966013,"d":"-92.59%"},{"v":901.85,"d":"901.8500"},{"v":-0.95928626247122,"d":"-95.93%"},4321.4735,{"v":-0.83944592435726,"d":"-83.94%"},4681.5283,{"v":-0.788634778093819,"d":"-78.86%"},4958.9303,{"v":-0.785624662804773,"d":"-78.56%"},5529.4788,{"v":-0.7428508208157,"d":"-74.29%"},5909.1589,{"v":-0.75486771343234,"d":"-75.49%"},6542.3687,{"$f":"(FD43-FU43)/FU43","v":{"v":-0.694752545140671,"d":"-69.48%"}},6243.4981,{"v":-0.673832509664612,"d":"-67.38%"},5338.3817,{"v":-0.825969626731866,"d":"-82.60%"},64645.4683,{"v":-0.775118038084769,"d":"-77.51%"},21655,28651,25951,22151,26916,22149,"23,132.0000","21,503.0000","24,106.0000","21,433.0000",{"$f":"(FU43-GW43)/GW43","v":{"v":-0.104009029722838,"d":"-10.40%"}},"19,142.0000",{"v":-0.122892228739003,"d":"-12.29%"},"30,675.0000",{"v":-0.142150008389731,"d":"-14.22%"},{"v":287464,"d":"287464.00"},{"v":-0.113594385497513,"d":"-11.36%"},null,null,24093,{"$f":"(GE43-HH43)/HH43","v":{"v":-0.00384519970230712,"d":"-0.38%"}},32435,{"v":-0.0145830168616132,"d":"-1.46%"},28896,{"v":-0.0122714065971629,"d":"-1.23%"},23614,{"v":-0.0173116937161881,"d":"-1.73%"},27815,{"v":-0.0296528867957439,"d":"-2.97%"},25632,{"$f":"(GO43-HS43)/HS43","v":{"v":-0.0253621810715236,"d":"-2.54%"}},26994,{"v":-0.0118603118822754,"d":"-1.19%"},25818,{"v":-0.0402587264413962,"d":"-4.03%"},27503,{"$f":"(GU43-HY43)/HY43","v":{"v":-0.0404702927118585,"d":"-4.05%"}},23921,{"v":-0.0203939555264343,"d":"-2.04%"},21824,{"v":9.16506278068005e-05,"d":"0.01%"},35758,{"v":-0.015663280755361,"d":"-1.57%"},324303,324303,{"$nulls":3},24186,{"$f":"(HH43-IJ43)/IJ43","v":{"v":-0.0144896828242657,"d":"-1.45%"}},{"v":32915,"d":"32915.00"},{"v":-0.0170284185251991,"d":"-1.70%"},{"v":29255,"d":"29255.00"},{"v":-0.0142197661488695,"d":"-1.42%"},{"v":24030,"d":"24030.00"},{"v":-0.0178607920873013,"d":"-1.79%"},{"v":28665,"d":"28665.00"},{"v":-0.0149823030136421,"d":"-1.50%"},null,{"v":26299,"d":"26299.00"},{"$f":"(HS43-IT43)/IT43","v":{"v":0.00198117880138683,"d":"0.20%"}},{"v":27318,"d":"27318.00"},{"v":-0.021421407078378,"d":"-2.14%"},{"v":26901,"d":"26901.00"},{"v":-0.00649998153414337,"d":"-0.65%"},{"v":28663,"d":"28663.00"},{"$f":"(HY43-IZ43)/IZ43","v":{"v":-0.0187936464466658,"d":"-1.88%"}},{"v":24419,"d":"24419.00"},{"v":-0.00533604887983707,"d":"-0.53%"},{"v":21822,"d":"21,822.00"},{"v":0,"d":"0.00%"},{"v":36327,"d":"36,327.00"},{"v":0.0382702640905453,"d":"3.83%"},330800,null,null,{"v":24541.6,"d":"24542"},{"v":0.0308815875534512,"d":"3.09%"},{"v":33485.2,"d":"33485"},{"v":0.0240195667680836,"d":"2.40%"},29677,{"v":0.0263095050862604,"d":"2.63%"},{"v":24467,"d":"24467.00"},{"v":0.0280947184573384,"d":"2.81%"},{"v":29101,"d":"29101.00"},{"v":0.0267839648573569,"d":"2.68%"},{"v":26247,"d":"26247.00"},{"v":0.0218090689452719,"d":"2.18%"},{"v":27916,"d":"27916.00"},{"v":0.0266956117271287,"d":"2.67%"},{"v":27077,"d":"27,077.00"},{"v":0.0230045503935176,"d":"2.30%"},{"v":29212,"d":"29,212.00"},{"v":1.59538753860664E-3,"d":"0.16%"},{"v":24550,"d":"24,550.00"},{"v":-0.0414197538746741,"d":"-4.14%"},{"v":21822,"d":"21,822.00"},{"v":-0.0297378458967354,"d":"-2.97%"},{"v":34988,"d":"34,988.00"},{"v":-0.0999813022774155,"d":"-10.00%"},{"v":333049.586389286,"d":"333050"},{"v":23806.4199577408,"d":"23806"},{"v":32699.7657922523,"d":"32700"},{"v":28916.2283433258,"d":"28916"},{"v":23798.3909077102,"d":"23798"},{"v":28341.8917669237,"d":"28342"},{"v":25686.7949186364,"d":"25687"},{"v":27190.1425126763,"d":"27190"},{"v":26468.1129615546,"d":"26468"},{"v":29165.4697729666,"d":"29165"},{"v":25610.7927314729,"d":"25611"},{"v":22490.8288009732,"d":"22491"},{"v":38874.7479230531,"d":"38875"}]
["随州市","客运量            （万人）",114.3916,{"$f":"C44/R44-1","v":{"v":-0.122243477153251,"d":"-12.22%"}},120.983,{"v":-0.0921751762815822,"d":"-9.22%"},119.5115,{"v":-0.067645739473017,"d":"-6.76%"},120.3786,{"$f":"I44/X44-1","v":{"v":-0.0749813272842955,"d":"-7.50%"}},122.8015,{"v":-0.0775966126876989,"d":"-7.76%"},121.1953,{"v":-0.0733567500779879,"d":"-7.34%"},{"v":719.2615,"d":"719.26"},{"v":-0.084711302772533,"d":"-8.47%"},null,{"v":130.3227,"d":"130.32"},{"$f":"R44/AS44-1","v":{"v":0.0506683844212132,"d":"5.07%"}},{"v":133.2669,"d":"133.27"},{"v":0.0268013166045655,"d":"2.68%"},128.1825,{"v":0.0293964118790253,"d":"2.94%"},130.1364,{"$f":"X44/AY44-1","v":{"v":0.0342856007470842,"d":"3.43%"}},133.1321,{"v":0.0140276821458385,"d":"1.40%"},130.7896,{"v":0.0195348431132272,"d":"1.95%"},128.1039,{"$f":"AD44/BE44-1","v":{"v":0.0138267192584807,"d":"1.38%"}},120.2483,{"v":-0.0277481763451223,"d":"-2.77%"},118.1387,{"v":-0.0452250219421245,"d":"-4.52%"},123.2278,{"$f":"AJ44/BK44-1","v":{"v":-0.0515357113994003,"d":"-5.15%"}},118.7277,{"v":-0.0707046751356047,"d":"-7.07%"},116.6459,{"v":-0.0771203243207319,"d":"-7.71%"},{"v":1510.9225,"d":"1510.92"},{"v":-0.00701356465386316,"d":"-0.70%"},null,{"v":124.0379,"d":"124.04"},{"v":-0.0533069561441069,"d":"-5.33%"},129.7884,{"$f":"AU44/BV44-1","v":{"v":-0.119963493528306,"d":"-12.00%"}},124.522,{"v":-0.0269939973401387,"d":"-2.70%"},{"v":125.8225,"d":"125.82"},{"v":-0.0269053544663863,"d":"-2.69%"},{"v":131.2904,"d":"131.29"},{"$f":"BA44/CB44-1","v":{"v":0.00857388900881362,"d":"0.86%"}},{"v":128.2836,"d":"128.28"},{"v":-0.0113824997726583,"d":"-1.14%"},{"v":126.3568,"d":"126.36"},{"v":-1.94466165888629E-3,"d":"-0.19%"},{"v":123.6802,"d":"123.68"},{"$f":"BG44/CH44-1","v":{"v":0.000989009210249359,"d":"0.10%"}},{"v":123.7346,"d":"123.73"},{"v":-0.0128666410312459,"d":"-1.29%"},{"v":129.9235,"d":"129.92"},{"v":-0.0123438489425478,"d":"-1.23%"},{"v":127.761,"d":"127.76"},{"v":0.0417928873892348,"d":"4.18%"},{"v":126.3934,"d":"126.39"},{"v":0.061377528355963,"d":"6.14%"},{"v":1521.5943,"d":"1521.59"},{"v":-0.0148251372814203,"d":"-1.48%"},null,{"v":131.0223,"d":"131.02"},{"v":0.118132337027947,"d":"11.81%"},{"v":147.4807,"d":"147.48"},{"v":0.147666857580417,"d":"14.77%"},{"v":127.9766,"d":"127.98"},{"v":0.135917900723925,"d":"13.59%"},129.3014,{"v":0.650170247739815,"d":"65.02%"},130.1743,{"v":0.416106331201502,"d":"41.61%"},129.7606,{"v":0.384347852062377,"d":"38.43%"},126.603,{"v":0.364491722710812,"d":"36.45%"},{"v":123.558,"d":"123.56"},{"v":0.397578968561882,"d":"39.76%"},{"$f":"99.5593+CJ46","v":{"v":125.3474,"d":"125.35"}},{"v":-0.614910389155947,"d":"-61.49%"},{"$f":"104.8202+CL46","v":{"v":131.5473,"d":"131.55"}},{"v":-0.0504481861058698,"d":"-5.04%"},{"v":122.6357,"d":"122.64"},{"v":0.497202413871828,"d":"49.72%"},{"v":119.0843,"d":"119.08"},{"v":0.149986287188758,"d":"15.00%"},1544.4916,{"v":0.0629264116455253,"d":"6.29%"},{"v":-0.028958940993528,"d":"-2.90%"},null,{"v":117.1796,"d":"117.18"},{"v":128.5048,"d":"128.50"},{"v":112.6636,"d":"112.66"},{"v":78.3564,"d":"78.36"},{"v":91.9241,"d":"91.92"},{"v":93.7341,"d":"93.73"},{"v":92.784,"d":"92.78"},{"v":88.4086,"d":"88.41"},{"v":325.5019,"d":"325.50"},{"v":138.5362,"d":"138.54"},{"v":81.9099,"d":"81.91"},{"v":103.5528,"d":"103.55"},{"v":1453.056,"d":"1453.06"},{"v":-0.0694389528729021,"d":"-6.94%"},null,149.7522,{"v":0.0266408530557456,"d":"2.66%"},164.6407,null,{"v":147.544,"d":"147.5440"},{"v":92.3645510346137,"d":"9236.46%"},{"v":461.9369,"d":"461.94"},144.0516,{"$f":"(DR44-ER44)/ER44","v":{"v":0.967017826541132,"d":"96.70%"}},145.8662,{"v":0.365536506842839,"d":"36.55%"},137.1799,{"v":0.848479295211171,"d":"84.85%"},133.4315,{"$f":"(DX44-EX44)/EX44","v":{"v":0.524814671333738,"d":"52.48%"}},95.7142,{"v":-0.196177496644938,"d":"-19.62%"},111.3512,{"v":-0.106964956672027,"d":"-10.70%"},115.8213,{"$f":"(ED44-FD44)/FD44","v":{"v":-0.101507839415141,"d":"-10.15%"}},110.4734,{"v":-0.0332163578923418,"d":"-3.32%"},105.6576,{"v":-0.0362811977529135,"d":"-3.63%"},1561.4838,{"v":0.281193088262853,"d":"28.12%"},278.8478,{"v":-0.0131999045926468,"d":"-1.32%"},{"v":0,"d":"0.0000"},{"v":-1,"d":"-100.00%"},1.5803,{"v":-0.989099372091275,"d":"-98.91%"},73.2335,{"v":-0.558834337349398,"d":"-55.88%"},106.8197,{"v":-0.3313157566914,"d":"-33.13%"},74.2123,{"v":-0.521999822228864,"d":"-52.20%"},87.5067,{"v":-0.438000101473355,"d":"-43.80%"},119.0738,{"v":-0.218632785534111,"d":"-21.86%"},124.6885,{"v":-0.372006430602577,"d":"-37.20%"},128.9063,{"$f":"(FD44-FU44)/FU44","v":{"v":-0.41906203609481,"d":"-41.91%"}},{"v":114.269,"d":"114.2690"},{"v":-0.424232530063417,"d":"-42.42%"},109.6353,{"v":-0.614797484200714,"d":"-61.48%"},1218.7732,{"v":-0.471128390702208,"d":"-47.11%"},{"v":282.5778,"d":"283"},{"v":184.3028,"d":"184"},{"v":144.9733,"d":"145"},166,{"v":159.7461,"d":"160"},{"v":155.2558,"d":"155"},"155.7059","152.3916","198.5506","221.8934",{"$f":"(FU44-GW44)/GW44","v":{"v":-0.00840002663412173,"d":"-0.84%"}},"198.4638",{"v":-0.014000272255117,"d":"-1.40%"},"284.6173",{"v":-0.0108999429373305,"d":"-1.09%"},{"v":2304.4784,"d":"2304.48"},{"v":-0.0125470474644311,"d":"-1.25%"},null,null,{"v":291.3474,"d":"291"},{"$f":"(GE44-HH44)/HH44","v":{"v":-0.0209998827272731,"d":"-2.10%"}},{"v":188.2562,"d":"188"},{"v":-0.512462043862727,"d":"-51.25%"},{"v":151.3291,"d":"151"},{"v":-0.434182419954825,"d":"-43.42%"},{"v":171.5195,"d":"172"},{"v":-0.28787503233261,"d":"-28.79%"},{"v":160.5535,"d":"161"},{"v":-0.296952109710738,"d":"-29.70%"},160.4726,{"$f":"(GO44-HS44)/HS44","v":{"v":-0.398362516796238,"d":"-39.84%"}},{"v":147.3301,"d":"147"},{"v":-0.440398045249749,"d":"-44.04%"},{"v":147.953,"d":"148"},{"v":-0.424038461538462,"d":"-42.40%"},{"v":202.1901,"d":"202"},{"$f":"(GU44-HY44)/HY44","v":{"v":-0.209999890597991,"d":"-21.00%"}},{"v":223.7731,"d":"224"},{"v":-0.125000048877633,"d":"-12.50%"},{"v":201.2818,"d":"201"},{"v":-0.131999720558848,"d":"-13.20%"},{"v":287.7538,"d":"288"},{"v":-0.0120000494422638,"d":"-1.20%"},{"v":2333.7602,"d":"2334"},{"v":2333.7602,"d":"2334"},{"$nulls":3},{"v":297.5969,"d":"298"},{"$f":"(HH44-IJ44)/IJ44","v":{"v":0.018999958910864,"d":"1.90%"}},{"v":386.1365,"d":"386.14"},{"v":-0.0800000285909248,"d":"-8.00%"},{"v":267.4521,"d":"267.45"},{"v":-0.0730000249554961,"d":"-7.30%"},{"v":240.8559,"d":"240.86"},{"v":-0.0419998305592381,"d":"-4.20%"},{"v":228.3678,"d":"228.37"},{"v":-0.050000166398211,"d":"-5.00%"},null,{"v":266.7264,"d":"266.73"},{"$f":"(HS44-IT44)/IT44","v":{"v":-0.0120000296333612,"d":"-1.20%"}},{"v":263.2766,"d":"263.28"},{"v":-0.0110001731748741,"d":"-1.10%"},256.88,{"v":-0.012,"d":"-1.20%"},{"v":255.9368,"d":"255.94"},{"$f":"(HY44-IZ44)/IZ44","v":{"v":-0.00909994765516827,"d":"-0.91%"}},{"v":255.7407,"d":"255.74"},{"v":-0.00849987845685575,"d":"-0.85%"},{"v":231.8914,"d":"231.89"},{"v":-0.00940015438381253,"d":"-0.94%"},{"v":291.2488,"d":"291.25"},{"v":0.050000036051652,"d":"5.00%"},{"v":3242.1099,"d":"3242"},null,null,{"v":292.048,"d":"292"},{"v":0.0320001762939819,"d":"3.20%"},{"v":419.7136,"d":"420"},{"v":0.0810001181300262,"d":"8.10%"},{"v":288.5136,"d":"289"},{"v":-0.0750000129869015,"d":"-7.50%"},{"v":251.4153,"d":"251.42"},{"v":0.0199998619425821,"d":"2.00%"},{"v":240.3872,"d":"240.39"},{"v":-0.0218459459017891,"d":"-2.18%"},{"v":269.966,"d":"269.97"},{"v":0.0310001745208004,"d":"3.10%"},{"v":266.2049,"d":"266.20"},{"v":0.0199999721078606,"d":"2.00%"},260,{"v":0.0313487866005298,"d":"3.13%"},258.2872,{"v":0.0199093327838065,"d":"1.99%"},257.9331,{"v":-0.0119999020149902,"d":"-1.20%"},234.0919,{"v":-0.000525751563662414,"d":"-0.05%"},277.3798,{"v":-0.00290005640783214,"d":"-0.29%"},{"v":3277.0481781415,"d":"3277"},{"v":282.992199719165,"d":"283"},{"v":388.264157386073,"d":"388"},{"v":311.90659897373,"d":"312"},{"v":246.485621597224,"d":"246"},{"v":245.755971661969,"d":"246"},{"v":261.848646267667,"d":"262"},{"v":260.985203215133,"d":"261"},{"v":252.097062970323,"d":"252"},{"v":253.245255923891,"d":"253"},{"v":261.065864797023,"d":"261"},{"v":234.215038922947,"d":"234"},{"v":278.186556706349,"d":"278"}]
[null,"旅客周转量        （万人公里）",6018.7633,{"$f":"C45/R45-1","v":{"v":-0.0877542062490159,"d":"-8.78%"}},6370.467,{"v":-0.0544902306761915,"d":"-5.45%"},6382.2507,{"v":-0.0547271627195128,"d":"-5.47%"},6638.9771,{"$f":"I45/X45-1","v":{"v":-0.0598665161617136,"d":"-5.99%"}},6644.3877,{"v":-0.05579188354961,"d":"-5.58%"},6426.1171,{"v":-0.0595861054257059,"d":"-5.96%"},{"v":38480.9629,"d":"38480.96"},{"v":-0.0618773735608973,"d":"-6.19%"},null,{"v":6597.743,"d":"6597.74"},{"$f":"R45/AS45-1","v":{"v":0.0748073905318649,"d":"7.48%"}},{"v":6737.6004,"d":"6737.60"},{"v":0.0647162419817198,"d":"6.47%"},6751.7551,{"v":0.0699416361481104,"d":"6.99%"},7061.7388,{"$f":"X45/AY45-1","v":{"v":0.0446439374290464,"d":"4.46%"}},7036.9949,{"v":-0.00495462818887393,"d":"-0.50%"},6833.286,{"v":0.0127860780453517,"d":"1.28%"},6717.576,{"$f":"AD45/BE45-1","v":{"v":-0.00635451103809681,"d":"-0.64%"}},6359.2432,{"v":-0.0418301462308058,"d":"-4.18%"},6290.8263,{"v":-0.0136180444863491,"d":"-1.36%"},6607.9652,{"$f":"AJ45/BK45-1","v":{"v":-0.0254421121069575,"d":"-2.54%"}},6390.1947,{"v":-0.026391779681641,"d":"-2.64%"},6195.4234,{"v":-0.0105336230757113,"d":"-1.05%"},{"v":79580.347,"d":"79580.35"},{"v":0.0107192969185781,"d":"1.07%"},null,{"v":6138.5352,"d":"6138.54"},{"v":-0.0137489215325564,"d":"-1.37%"},6328.0714,{"$f":"AU45/BV45-1","v":{"v":-0.124267538949831,"d":"-12.43%"}},6310.3957,{"v":0.0107071865535875,"d":"1.07%"},{"v":6759.9481,"d":"6759.95"},{"v":0.0435675829666913,"d":"4.36%"},{"v":7072.0342,"d":"7072.03"},{"$f":"BA45/CB45-1","v":{"v":0.0728126336790211,"d":"7.28%"}},{"v":6747.0181,"d":"6747.02"},{"v":0.0562692220287291,"d":"5.63%"},{"v":6760.5359,"d":"6760.54"},{"v":0.0544334969338147,"d":"5.44%"},{"v":6636.8642,"d":"6636.86"},{"$f":"BG45/CH45-1","v":{"v":0.06247830015362,"d":"6.25%"}},{"v":6377.6778,"d":"6377.68"},{"v":0.0185612378357793,"d":"1.86%"},{"v":6780.4748,"d":"6780.47"},{"v":0.0147136343419698,"d":"1.47%"},{"v":6563.4149,"d":"6563.41"},{"v":0.0642916027187519,"d":"6.43%"},{"v":6261.3784,"d":"6261.38"},{"v":0.0526618015817282,"d":"5.27%"},{"v":78736.3487,"d":"78736.35"},{"v":0.0243077177751716,"d":"2.43%"},null,6224.11,{"v":0.140676229814268,"d":"14.07%"},{"v":7226.0327,"d":"7226.03"},{"v":0.176121319831969,"d":"17.61%"},{"v":6243.5449,"d":"6243.54"},{"v":0.167858902335376,"d":"16.79%"},6477.7291,{"v":0.835389945722546,"d":"83.54%"},6592.0497,{"v":0.606863542042663,"d":"60.69%"},6387.5932,{"v":0.471876621416943,"d":"47.19%"},6411.5337,{"v":0.410495598447489,"d":"41.05%"},{"v":6246.588,"d":"6246.59"},{"v":0.500270628532605,"d":"50.03%"},{"$f":"5597.1552+CJ47","v":{"v":6261.4574,"d":"6261.46"}},{"v":-0.708388929130544,"d":"-70.84%"},{"$f":"5981.7169+CL47","v":{"v":6682.156,"d":"6682.16"}},{"v":-0.0295460176443643,"d":"-2.95%"},{"v":6166.9329,"d":"6166.93"},{"v":0.597723859948018,"d":"59.77%"},{"v":5948.1387,"d":"5948.14"},{"v":0.160082458329817,"d":"16.01%"},76867.8663,{"v":0.0252864381962561,"d":"2.53%"},{"v":-0.0354786088235206,"d":"-3.55%"},null,{"v":5456.5089,"d":"5456.51"},{"v":6143.9518,"d":"6143.95"},{"v":5346.1466,"d":"5346.15"},{"v":3529.3476,"d":"3529.35"},{"v":4102.4328,"d":"4102.43"},{"v":4339.7613,"d":"4339.76"},{"v":4545.5893,"d":"4545.59"},{"v":4163.6408,"d":"4163.64"},{"v":21471.9468,"d":"21471.95"},{"v":6885.598,"d":"6885.60"},{"v":3859.824,"d":"3859.82"},{"v":5127.3413,"d":"5127.34"},{"v":74972.0892,"d":"74972.09"},{"v":-0.143919736269951,"d":"-14.39%"},null,{"v":9666.4115,"d":"9,666.41"},{"v":0.0737102116413113,"d":"7.37%"},10708.2193,null,9828.8168,{"v":6.83321827822191,"d":"683.32%"},{"v":30203.4476,"d":"30203.45"},9179.3661,{"$f":"(DR45-ER45)/ER45","v":{"v":0.675998392537166,"d":"67.60%"}},9002.8123,{"v":0.339666214229102,"d":"33.97%"},{"v":7696.705,"d":"7696.7050"},{"v":0.947858804307471,"d":"94.79%"},7036.6053,{"$f":"(DX45-EX45)/EX45","v":{"v":0.365425093752839,"d":"36.54%"}},{"v":4135.787,"d":"4135.7870"},{"v":-0.37247608139805,"d":"-37.25%"},5015.5497,{"v":-0.230426296644423,"d":"-23.04%"},5321.0767,{"$f":"(ED45-FD45)/FD45","v":{"v":-0.258431492189233,"d":"-25.84%"}},4976.3213,{"v":-0.133594180789148,"d":"-13.36%"},5008.3337,{"v":-0.100116249400035,"d":"-10.01%"},87576.0047,{"v":0.326544746210014,"d":"32.65%"},11868.8804,{"v":-0.0169885373529899,"d":"-1.70%"},{"v":0,"d":"0.0000"},{"v":-1,"d":"-100.00%"},{"v":1254.761,"d":"1254.7610"},{"v":-0.90006394099505,"d":"-90.01%"},{"v":5476.954,"d":"5476.9540"},{"v":-0.478732844770153,"d":"-47.87%"},6720.1906,{"v":-0.271965901843398,"d":"-27.20%"},{"v":3951.367,"d":"3951.3670"},{"v":-0.564000002471651,"d":"-56.40%"},5153.4173,{"v":-0.471999997950874,"d":"-47.20%"},6590.6444,{"v":-0.318101415347511,"d":"-31.81%"},6517.3091,{"v":-0.399884153761227,"d":"-39.99%"},7175.4351,{"$f":"(FD45-FU45)/FU45","v":{"v":-0.360174545926914,"d":"-36.02%"}},5743.6379,{"v":-0.41895371286087,"d":"-41.90%"},5565.5341,{"v":-0.721489035249884,"d":"-72.15%"},66018.1309,{"v":-0.522340648573131,"d":"-52.23%"},12074,{"v":13413.4071,"d":"13413"},{"v":12555.6382,"d":"12556"},10507,{"v":9230.5987,"d":"9231"},{"v":9062.7684,"d":"9063"},"9,760.2600","9,665.1387","10,860.0850","11,214.6759",{"$f":"(FU45-GW45)/GW45","v":{"v":-0.0176999984689165,"d":"-1.77%"}},"9,884.9920",{"v":-0.0190000054086538,"d":"-1.90%"},"19,983.1777",{"v":-0.0162999998503518,"d":"-1.63%"},{"v":138211.7417,"d":"138211.74"},{"v":-0.027009049952084,"d":"-2.70%"},null,null,{"v":12591.6579,"d":"12592"},{"$f":"(GE45-HH45)/HH45","v":{"v":-0.023000005454651,"d":"-2.30%"}},{"v":13293.7632,"d":"13294"},{"v":-0.214129101439521,"d":"-21.41%"},{"v":13202.5638,"d":"13203"},{"v":0.0687594796038733,"d":"6.88%"},{"v":10968.096,"d":"10968"},{"v":-0.101390917198117,"d":"-10.14%"},{"v":9792.5178,"d":"9793"},{"v":-0.263526086888933,"d":"-26.35%"},9352.7022,{"$f":"(GO45-HS45)/HS45","v":{"v":-0.315821522795401,"d":"-31.58%"}},{"v":10134.1712,"d":"10134"},{"v":-0.293351501065777,"d":"-29.34%"},{"v":9812.3236,"d":"9812"},{"v":-0.421016593357936,"d":"-42.10%"},{"v":11093.0388,"d":"11093"},{"$f":"(GU45-HY45)/HY45","v":{"v":-0.230000000208239,"d":"-23.00%"}},{"v":11416.7524,"d":"11417"},{"v":-0.151999999049257,"d":"-15.20%"},{"v":10076.4445,"d":"10076"},{"v":-0.120999995830255,"d":"-12.10%"},{"v":20314.3008,"d":"20314"},{"v":-0.0110000010467256,"d":"-1.10%"},{"v":142048.3322,"d":"142048"},{"v":142048.3322,"d":"142048"},{"$nulls":3},{"v":12888.0839,"d":"12888"},{"$f":"(HH45-IJ45)/IJ45","v":{"v":0.0130000034819684,"d":"1.30%"}},{"v":16915.9632,"d":"16915.96"},{"v":-0.0899999975792097,"d":"-9.00%"},{"v":12353.1665,"d":"12353.17"},{"v":-0.0859999964189263,"d":"-8.60%"},{"v":12205.6367,"d":"12205.64"},{"v":-0.0309999995792354,"d":"-3.10%"},{"v":13296.4897,"d":"13296.49"},{"v":-0.0429999978551782,"d":"-4.30%"},null,{"v":13669.9743,"d":"13669.97"},{"$f":"(HS45-IT45)/IT45","v":{"v":-0.0180000004453848,"d":"-1.80%"}},{"v":14341.177,"d":"14341.18"},{"v":-0.0150000028160171,"d":"-1.50%"},{"v":16947.504,"d":"16947.50"},{"v":-0.011,"d":"-1.10%"},{"v":14406.5439,"d":"14406.54"},{"$f":"(HY45-IZ45)/IZ45","v":{"v":-0.00999999690765526,"d":"-1.00%"}},{"v":13463.1514,"d":"13463.15"},{"v":0.0278834157094154,"d":"2.79%"},{"v":11463.5318,"d":"11463.53"},{"v":-0.0125000002153569,"d":"-1.25%"},{"v":20540.2435,"d":"20540.24"},{"v":0.0400000018227631,"d":"4.00%"},{"v":172491.4659,"d":"172491"},null,null,{"v":12722.6889,"d":"12723"},{"v":0.0349999985411316,"d":"3.50%"},{"v":18588.9705,"d":"18589"},{"v":0.100000000879124,"d":"10.00%"},{"v":13515.4994,"d":"13515"},{"v":-0.09400000301649,"d":"-9.40%"},{"v":12596.1163,"d":"12596.12"},{"v":0.0249999979295315,"d":"2.50%"},{"v":13893.9286,"d":"13893.93"},{"v":-0.0499999990550204,"d":"-5.00%"},{"v":13920.5441,"d":"13920.54"},{"v":0.0500000013878956,"d":"5.00%"},{"v":14559.5706,"d":"14559.57"},{"v":0.0374152084146553,"d":"3.74%"},17136,{"v":0.254177398758645,"d":"25.42%"},{"v":14552.0645,"d":"14,552.06"},{"v":-0.0329816544662727,"d":"-3.30%"},{"v":13097.9362,"d":"13,097.94"},{"v":-0.00999999967647225,"d":"-1.00%"},{"v":11608.6398,"d":"11,608.64"},{"v":-6.99995409628159E-4,"d":"-0.07%"},{"v":19750.2341,"d":"19,750.23"},{"v":-0.014500002162177,"d":"-1.45%"},{"v":171914.858215164,"d":"171915"},{"v":12292.4530608049,"d":"12292"},{"v":16899.0640774033,"d":"16899"},{"v":14917.7698068425,"d":"14918"},{"v":12288.8939760427,"d":"12289"},{"v":14625.1879854521,"d":"14625"},{"v":13257.661030095,"d":"13258"},{"v":14034.4680528151,"d":"14034"},{"v":13663.1388964279,"d":"13663"},{"v":15048.3851389275,"d":"15048"},{"v":13230.238581535,"d":"13230"},{"v":11616.7714867154,"d":"11617"},{"v":20040.8261221023,"d":"20041"}]
[null,"其中个体客运量     （万人）",{"v":12.8144,"d":"12.81"},{"$f":"C46/R46-1","v":{"v":-0.310883336739194,"d":"-31.09%"}},13.5845,{"v":-0.265234041172207,"d":"-26.52%"},13.8477,{"v":-0.179186400090097,"d":"-17.92%"},13.6975,{"$f":"I46/X46-1","v":{"v":-0.151868088320888,"d":"-15.19%"}},13.8946,{"v":-0.154819401695884,"d":"-15.48%"},13.7005,{"v":-0.156264048922582,"d":"-15.63%"},{"v":81.5392,"d":"81.54"},{"v":-0.206679755833208,"d":"-20.67%"},null,{"v":18.5954,"d":"18.60"},{"$f":"R46/AS46-1","v":{"v":-0.219126885477206,"d":"-21.91%"}},{"v":18.4882,"d":"18.49"},{"v":-0.264660493827161,"d":"-26.47%"},{"v":16.8707,"d":"16.87"},{"v":-0.274768404083826,"d":"-27.48%"},{"v":16.1502,"d":"16.15"},{"$f":"X46/AY46-1","v":{"v":-0.276457147977241,"d":"-27.65%"}},{"v":16.4398,"d":"16.44"},{"v":-0.272320855520292,"d":"-27.23%"},{"v":16.2379,"d":"16.24"},{"v":-0.2823630280772,"d":"-28.24%"},{"v":14.8732,"d":"14.87"},{"$f":"AD46/BE46-1","v":{"v":-0.303575023997378,"d":"-30.36%"}},{"v":13.8421,"d":"13.84"},{"v":-0.306125620331846,"d":"-30.61%"},{"v":14.0909,"d":"14.09"},{"v":-0.320750260306197,"d":"-32.08%"},{"v":14.3213,"d":"14.32"},{"$f":"AJ46/BK46-1","v":{"v":-0.268201328564129,"d":"-26.82%"}},14.3825,{"v":-0.272269587876641,"d":"-27.23%"},13.6668,{"v":-0.322133769808794,"d":"-32.21%"},{"v":187.959,"d":"187.96"},{"v":-0.280687843039405,"d":"-28.07%"},null,{"v":23.8136,"d":"23.81"},{"v":-0.162722340788349,"d":"-16.27%"},25.1424,{"$f":"AU46/BV46-1","v":{"v":-0.250835801505337,"d":"-25.08%"}},23.2625,{"v":-0.217201543892237,"d":"-21.72%"},{"v":22.321,"d":"22.32"},{"v":-0.222159108729061,"d":"-22.22%"},{"v":22.5921,"d":"22.59"},{"$f":"BA46/CB46-1","v":{"v":-0.177766454970611,"d":"-17.78%"}},{"v":22.6269,"d":"22.63"},{"v":-0.179251031971156,"d":"-17.93%"},{"v":21.3565,"d":"21.36"},{"v":-0.193357707793532,"d":"-19.34%"},{"v":19.949,"d":"19.95"},{"$f":"BG46/CH46-1","v":{"v":-0.200402424164689,"d":"-20.04%"}},{"v":20.7448,"d":"20.74"},{"v":-0.195566947545573,"d":"-19.56%"},19.57,{"v":-0.267784383640575,"d":"-26.78%"},{"v":19.7635,"d":"19.76"},{"v":-0.18785365873704,"d":"-18.79%"},{"v":20.1615,"d":"20.16"},{"v":-0.110750909692359,"d":"-11.08%"},{"v":261.3038,"d":"261.30"},{"v":-0.199456017901533,"d":"-19.95%"},null,{"v":28.4417,"d":"28.44"},{"v":0.0213853236707342,"d":"2.14%"},{"v":33.5606,"d":"33.56"},{"v":0.0661875897474997,"d":"6.62%"},{"v":29.7171,"d":"29.72"},{"v":0.0764725059769613,"d":"7.65%"},28.6961,{"v":0.340150191943062,"d":"34.02%"},27.4765,{"v":0.0661335319977807,"d":"6.61%"},27.5686,{"v":0.0518632699080097,"d":"5.19%"},{"v":26.4758,"d":"26.48"},{"v":0.040686773555759,"d":"4.07%"},{"v":24.9488,"d":"24.95"},{"v":0.0651274585562238,"d":"6.51%"},{"v":25.7881,"d":"25.79"},{"v":-0.0423420713524434,"d":"-4.23%"},{"v":26.7271,"d":"26.73"},{"v":-0.148631387151954,"d":"-14.86%"},{"v":24.3349,"d":"24.33"},{"v":0.262163970477638,"d":"26.22%"},{"v":22.6725,"d":"22.67"},{"v":0.0138398247104592,"d":"1.38%"},326.4078,{"v":0.0558162147370178,"d":"5.58%"},{"v":-0.068313409958537,"d":"-6.83%"},null,{"v":27.8462,"d":"27.85"},{"v":31.4772,"d":"31.48"},{"v":27.606,"d":"27.61"},{"v":21.4126,"d":"21.41"},{"v":25.7721,"d":"25.77"},{"v":26.2093,"d":"26.21"},{"v":25.4407,"d":"25.44"},{"v":23.4233,"d":"23.42"},{"v":26.9283,"d":"26.93"},{"v":31.3931,"d":"31.39"},{"v":19.2803,"d":"19.28"},{"v":22.363,"d":"22.36"},{"v":309.1521,"d":"309.15"},{"v":-0.203484137422851,"d":"-20.35%"},null,{"v":37.7042,"d":"37.70"},null,41.4941,null,33.6143,{"$error":"#DIV/0!"},{"v":112.8126,"d":"112.81"},33.9603,{"$f":"(DR46-ER46)/ER46","v":{"$error":"#DIV/0!"}},35.3288,{"$error":"#DIV/0!"},34.4375,{"$error":"#DIV/0!"},34.4448,{"$f":"(DX46-EX46)/EX46","v":{"$error":"#DIV/0!"}},25.0318,{"$error":"#DIV/0!"},30.0726,{"$error":"#DIV/0!"},29.4754,{"$f":"(ED46-FD46)/FD46","v":{"$error":"#DIV/0!"}},27.5985,{"$error":"#DIV/0!"},24.9682,{"$error":"#DIV/0!"},388.1305,{"$error":"#DIV/0!"},{"$nulls":24},{"v":0,"d":"0.0000"}]
[null,"其中个体旅客周转量（万人公里）",{"v":328.5679,"d":"328.57"},{"$f":"C47/R47-1","v":{"v":-0.320249442761108,"d":"-32.02%"}},351.2583,{"v":-0.269028279040846,"d":"-26.90%"},357.7085,{"v":-0.183970290563093,"d":"-18.40%"},353.1005,{"$f":"I47/X47-1","v":{"v":-0.155637077021046,"d":"-15.56%"}},358.086,{"v":-0.161535622899659,"d":"-16.15%"},352.9648,{"v":-0.162323883578463,"d":"-16.23%"},{"v":2101.686,"d":"2101.69"},{"v":-0.212519881972741,"d":"-21.25%"},null,{"v":483.3654,"d":"483.37"},{"$f":"R47/AS47-1","v":{"v":-0.216458277307062,"d":"-21.65%"}},{"v":480.5361,"d":"480.54"},{"v":-0.258416494788086,"d":"-25.84%"},{"v":438.3523,"d":"438.35"},{"v":-0.265377059774045,"d":"-26.54%"},{"v":418.1857,"d":"418.19"},{"$f":"X47/AY47-1","v":{"v":-0.265010029564058,"d":"-26.50%"}},{"v":427.0736,"d":"427.07"},{"v":-0.258938104232261,"d":"-25.89%"},{"v":421.3619,"d":"421.36"},{"v":-0.271467794892897,"d":"-27.15%"},{"v":384.6699,"d":"384.67"},{"$f":"AD47/BE47-1","v":{"v":-0.292083430640371,"d":"-29.21%"}},{"v":348.1606,"d":"348.16"},{"v":-0.310616343488934,"d":"-31.06%"},{"v":363.2084,"d":"363.21"},{"v":-0.309604449754927,"d":"-30.96%"},{"v":371.9696,"d":"371.97"},{"$f":"AJ47/BK47-1","v":{"v":-0.234211790272995,"d":"-23.42%"}},{"v":371.9696,"d":"371.97"},{"v":-0.246617756280774,"d":"-24.66%"},{"v":352.3733,"d":"352.37"},{"v":-0.3001484417391,"d":"-30.01%"},{"v":4861.2264,"d":"4861.23"},{"v":-0.268184438559214,"d":"-26.82%"},null,{"v":616.8981,"d":"616.90"},{"v":-0.157539620273027,"d":"-15.75%"},647.9865,{"$f":"AU47/BV47-1","v":{"v":-0.254187170232793,"d":"-25.42%"}},596.7038,{"v":-0.238859963115493,"d":"-23.89%"},{"v":568.9679,"d":"568.97"},{"v":-0.247073278856651,"d":"-24.71%"},{"v":576.2995,"d":"576.30"},{"$f":"BA47/CB47-1","v":{"v":-0.197331204023738,"d":"-19.73%"}},{"v":578.371,"d":"578.37"},{"v":-0.198314324224375,"d":"-19.83%"},{"v":543.3831,"d":"543.38"},{"v":-0.205178204179307,"d":"-20.52%"},{"v":505.0317,"d":"505.03"},{"$f":"BG47/CH47-1","v":{"v":-0.212865275775213,"d":"-21.29%"}},{"v":526.0874,"d":"526.09"},{"v":-0.208060126851906,"d":"-20.81%"},{"v":485.7343,"d":"485.73"},{"v":-0.306528861681194,"d":"-30.65%"},{"v":493.7329,"d":"493.73"},{"v":-0.22003364200271,"d":"-22.00%"},{"v":503.4972,"d":"503.50"},{"v":-0.135796256183339,"d":"-13.58%"},{"v":6642.6934,"d":"6642.69"},{"v":-0.217197435348312,"d":"-21.72%"},null,{"v":732.2577,"d":"732.26"},{"v":0.0461507272689088,"d":"4.62%"},{"v":868.8326,"d":"868.83"},{"v":0.077878916112333,"d":"7.79%"},{"v":783.9606,"d":"783.96"},{"v":0.107727536763496,"d":"10.77%"},{"v":755.675,"d":"755.6750"},{"v":0.3718184993403,"d":"37.18%"},717.9792,{"v":0.0829012035181733,"d":"8.29%"},721.4436,{"v":0.046910632117898,"d":"4.69%"},683.654,{"v":0.0266366849162101,"d":"2.66%"},{"v":641.6077,"d":"641.61"},{"v":0.0462469520840627,"d":"4.62%"},{"v":664.3022,"d":"664.30"},{"v":-0.091487444707149,"d":"-9.15%"},{"v":700.4391,"d":"700.44"},{"v":-0.176789703723126,"d":"-17.68%"},{"v":633.0182,"d":"633.02"},{"v":0.238292215258686,"d":"23.83%"},{"v":582.614,"d":"582.61"},{"v":-0.0115068627023491,"d":"-1.15%"},8485.7839,{"v":0.0504103735753492,"d":"5.04%"},{"v":-0.0796251987699563,"d":"-7.96%"},null,{"v":699.9543,"d":"699.95"},{"v":806.0577,"d":"806.06"},{"v":707.7197,"d":"707.72"},{"v":550.8564,"d":"550.86"},{"v":663.0145,"d":"663.01"},{"v":689.1167,"d":"689.12"},{"v":665.9162,"d":"665.92"},{"v":613.2469,"d":"613.25"},{"v":731.1976,"d":"731.20"},{"v":850.8629,"d":"850.86"},{"v":511.2026,"d":"511.20"},{"v":589.3961,"d":"589.40"},{"v":8078.5416,"d":"8078.54"},{"v":-0.201592446475862,"d":"-20.16%"},null,{"v":999.1175,"d":"999.12"},null,1088.7391,null,902.4396,{"$error":"#DIV/0!"},{"v":2990.2962,"d":"2990.30"},{"v":884.911,"d":"884.9110"},{"$f":"(DR47-ER47)/ER47","v":{"$error":"#DIV/0!"}},929.1928,{"$error":"#DIV/0!"},902.1794,{"$error":"#DIV/0!"},{"v":898.243,"d":"898.2430"},{"$f":"(DX47-EX47)/EX47","v":{"$error":"#DIV/0!"}},{"v":636.279,"d":"636.2790"},{"$error":"#DIV/0!"},786.1864,{"$error":"#DIV/0!"},748.9813,{"$f":"(ED47-FD47)/FD47","v":{"$error":"#DIV/0!"}},696.5487,{"$error":"#DIV/0!"},645.5003,{"$error":"#DIV/0!"},10118.3181,{"$error":"#DIV/0!"},{"$nulls":24},{"v":0,"d":"0.0000"}]
["恩施州","客运量            （万人）",146.7156,{"$f":"C48/R48-1","v":{"v":-0.0724153518851612,"d":"-7.24%"}},164.4127,{"v":0.000593371763537354,"d":"0.06%"},162.0982,{"v":-0.0541729756538737,"d":"-5.42%"},182.7013,{"$f":"I48/X48-1","v":{"v":-0.0815259330086774,"d":"-8.15%"}},190.2239,{"v":-0.102590037547784,"d":"-10.26%"},170.9711,{"v":-0.0879979985906919,"d":"-8.80%"},{"v":1017.1228,"d":"1017.12"},{"v":-0.0687592912548196,"d":"-6.88%"},null,{"v":158.1695,"d":"158.17"},{"$f":"R48/AS48-1","v":{"v":-0.00475569339809323,"d":"-0.48%"}},{"v":164.3152,"d":"164.32"},{"v":-0.0257601243686257,"d":"-2.58%"},171.3825,{"v":0.00788571737739474,"d":"0.79%"},198.9183,{"$f":"X48/AY48-1","v":{"v":-0.00473072162142429,"d":"-0.47%"}},211.9699,{"v":-0.0410389556336104,"d":"-4.10%"},187.4679,{"v":-0.0988870430935531,"d":"-9.89%"},223.1793,{"$f":"AD48/BE48-1","v":{"v":-0.0486207558028007,"d":"-4.86%"}},231.6134,{"v":-0.0647041126812889,"d":"-6.47%"},182.6086,{"v":-0.0708397869443365,"d":"-7.08%"},185.0951,{"$f":"AJ48/BK48-1","v":{"v":-0.107557801747227,"d":"-10.76%"}},165.4614,{"v":-0.0574926874560321,"d":"-5.75%"},150.5717,{"v":-0.0365674110464934,"d":"-3.66%"},{"v":2230.7528,"d":"2230.75"},{"v":-0.0485444529112947,"d":"-4.85%"},null,{"v":158.9253,"d":"158.93"},{"v":0.0474893916564834,"d":"4.75%"},168.6599,{"$f":"AU48/BV48-1","v":{"v":0.0377589168807899,"d":"3.78%"}},170.0416,{"v":-0.0713488361932433,"d":"-7.13%"},{"v":199.8638,"d":"199.86"},{"v":-0.0402961359521011,"d":"-4.03%"},{"v":221.0412,"d":"221.04"},{"$f":"BA48/CB48-1","v":{"v":0.0320328097248861,"d":"3.20%"}},{"v":208.0404,"d":"208.04"},{"v":0.0416853599525724,"d":"4.17%"},{"v":234.585,"d":"234.59"},{"v":-0.0528480773726442,"d":"-5.28%"},{"v":247.6365,"d":"247.64"},{"$f":"BG48/CH48-1","v":{"v":-0.0302178124609608,"d":"-3.02%"}},{"v":196.5308,"d":"196.53"},{"v":-0.0369800507258023,"d":"-3.70%"},{"v":207.4029,"d":"207.40"},{"v":-0.0161862142767695,"d":"-1.62%"},{"v":175.5545,"d":"175.55"},{"v":-0.0498760351377199,"d":"-4.99%"},{"v":156.2867,"d":"156.29"},{"v":-0.0437402178475409,"d":"-4.37%"},{"v":2344.5686,"d":"2344.57"},{"v":-0.0172102431152443,"d":"-1.72%"},null,{"v":151.7202,"d":"151.72"},{"v":-0.076977830341059,"d":"-7.70%"},{"v":162.5232,"d":"162.52"},{"v":-0.0426504606108373,"d":"-4.27%"},{"v":183.106,"d":"183.11"},{"v":0.129654272957728,"d":"12.97%"},208.2557,{"v":0.354335967577466,"d":"35.43%"},214.1804,{"v":0.356221077933492,"d":"35.62%"},199.7152,{"v":0.157291599061721,"d":"15.73%"},247.6741,{"v":0.12793392539738,"d":"12.79%"},{"v":255.3527,"d":"255.35"},{"v":0.163168997307453,"d":"16.32%"},{"v":204.0776,"d":"204.08"},{"v":0.691354085428972,"d":"69.14%"},{"v":210.8152,"d":"210.82"},{"v":0.65159757824937,"d":"65.16%"},{"v":184.7701,"d":"184.77"},{"v":0.426309321451675,"d":"42.63%"},{"v":163.4354,"d":"163.44"},{"v":0.243916101799406,"d":"24.39%"},2385.6258,{"v":0.236818275845443,"d":"23.68%"},{"v":-0.115466192852632,"d":"-11.55%"},null,{"v":164.3733,"d":"164.37"},{"v":169.7637,"d":"169.76"},{"v":162.0903,"d":"162.09"},{"v":153.7696,"d":"153.77"},{"v":157.9244,"d":"157.92"},{"v":172.5712,"d":"172.57"},{"v":219.5821,"d":"219.58"},{"v":219.5319,"d":"219.53"},{"v":120.6593,"d":"120.66"},{"v":127.6432,"d":"127.64"},{"v":129.5442,"d":"129.54"},{"v":131.3878,"d":"131.39"},{"v":1928.841,"d":"1928.84"},{"v":-0.0809386253205843,"d":"-8.09%"},null,157.1298,{"$f":"(DK48-DT48)/DT48","v":{"v":-0.150955385790845,"d":"-15.10%"}},156.0712,null,157.6955,{"$error":"#DIV/0!"},{"v":470.8965,"d":"470.90"},{"v":181.933,"d":"181.9330"},{"$f":"(DR48-ER48)/ER48","v":{"v":0.0142442296403291,"d":"1.42%"}},185.0666,{"v":0.0684225597350804,"d":"6.84%"},183.5163,{"v":0.0617821312442866,"d":"6.18%"},217.4233,{"$f":"(DX48-EX48)/EX48","v":{"v":0.239179994688169,"d":"23.92%"}},159.9243,{"v":-0.115917697202214,"d":"-11.59%"},169.5122,{"v":-0.467929607288118,"d":"-46.79%"},192.7755,{"$f":"(ED48-FD48)/FD48","v":{"v":-0.115084403583813,"d":"-11.51%"}},167.3068,{"v":-0.40885605753049,"d":"-40.89%"},{"v":170.353,"d":"170.3530"},{"v":-0.402783572017038,"d":"-40.28%"},2098.7075,{"v":-0.104709152453063,"d":"-10.47%"},357.6786,{"$f":"(EL48-FL48)/FL48","v":{"v":0.135515376090146,"d":"13.55%"}},{"v":0,"d":"0.0000"},{"$f":"(EN48-FM48)/FM48","v":{"v":-1,"d":"-100.00%"}},{"v":0,"d":"0.0000"},{"$f":"(EP48-FN48)/FN48","v":{"v":-1,"d":"-100.00%"}},179.3779,{"$f":"(ER48-FO48)/FO48","v":{"v":-0.425592402795795,"d":"-42.56%"}},173.2148,{"$f":"(ET48-FP48)/FP48","v":{"v":-0.462894348996439,"d":"-46.29%"}},{"v":172.838,"d":"172.8380"},{"$f":"(EV48-FQ48)/FQ48","v":{"v":-0.470036834767261,"d":"-47.00%"}},175.4574,{"$f":"(EX48-FR48)/FR48","v":{"v":-0.482955946875633,"d":"-48.30%"}},{"v":180.893,"d":"180.8930"},{"$f":"(EZ48-FS48)/FS48","v":{"v":-0.463944819444058,"d":"-46.39%"}},318.5898,{"$f":"(FB48-FT48)/FT48","v":{"v":-0.0154337097735703,"d":"-1.54%"}},217.8462,{"$f":"(FD48-FU48)/FU48","v":{"v":-0.327936991258555,"d":"-32.79%"}},283.0221,{"v":-0.095349147185429,"d":"-9.53%"},{"v":285.245,"d":"285.2450"},{"v":-0.115510054989727,"d":"-11.55%"},2344.1628,{"$f":"(FJ48-(FL48+FM48+FN48+FO48+FP48+FQ48+FR48+FS48+FT48+FU48+FW48+FY48))/(FL48+FM48+FN48+FO48+FP48+FQ48+FR48+FS48+FT48+FU48+FW48+FY48)","v":{"v":-0.400534832069476,"d":"-40.05%"}},{"v":314.9923,"d":"315"},{"v":349.3905,"d":"349"},{"v":325.2512,"d":"325"},{"v":312.2833,"d":"312"},{"v":322.4967,"d":"322"},{"v":326.1321,"d":"326"},"339.3471","337.4522","323.5839","324.1455",{"$f":"(FU48-GW48)/GW48","v":{"v":0.0397813718247575,"d":"3.98%"}},"312.8523",{"v":0.0419050219885803,"d":"4.19%"},"322.4966",{"v":0.0093967218204764,"d":"0.94%"},{"$f":"FL48+FM48+FN48+FO48+FP48+FQ48+FR48+FS48+FT48+FU48+FW48+FY48","v":{"v":3910.4237,"d":"3910.42"}},{"$f":"(GA48-HC48)/HC48","v":{"v":0.0150952712951831,"d":"1.51%"}},null,null,{"v":314.189,"d":"314"},{"$f":"(GE48-HH48)/HH48","v":{"v":-0.0800593092649058,"d":"-8.01%"}},{"v":354.9796,"d":"355"},{"v":-0.0964566337893732,"d":"-9.65%"},{"v":324.5382,"d":"325"},{"v":0.0345165917567181,"d":"3.45%"},{"v":316.5763,"d":"317"},{"$f":"(GK48-HN48)/HN48","v":{"v":0.0448062706270627,"d":"4.48%"}},{"v":316.8382,"d":"317"},{"$f":"(GM48-HP48)/HP48","v":{"v":0.0342245263150334,"d":"3.42%"}},{"v":325.7154,"d":"326"},{"$f":"(GO48-HS48)/HS48","v":{"v":1.05294603605466E-3,"d":"0.11%"}},{"v":330.9061,"d":"331"},{"v":0.0126011281925111,"d":"1.26%"},{"v":326.806,"d":"327"},{"v":0.0170043237449968,"d":"1.70%"},{"v":310.216,"d":"310"},{"$f":"(GU48-HY48)/HY48","v":{"v":0.0455769858197144,"d":"4.56%"}},{"v":311.7439,"d":"312"},{"v":0.0328117545719587,"d":"3.28%"},{"v":300.2695,"d":"300"},{"v":0.103704751962831,"d":"10.37%"},{"v":319.4944,"d":"319"},{"$f":"(HA48-IE48)/IE48","v":{"v":0.0176825036129157,"d":"1.77%"}},{"$f":"GE48+GG48+GI48+GK48+GM48+GO48+GQ48+GS48+GU48+GW48+GY48+HA48","v":{"v":3852.2726,"d":"3852"}},{"$f":"HA48+GY48+GW48+GU48+GS48+GQ48+GO48+GM48+GK48+GI48+GG48+GE48","v":{"v":3852.2726,"d":"3852"}},{"$nulls":3},{"v":341.5318,"d":"342"},{"$f":"(HH48-IJ48)/IJ48","v":{"v":0.0294879384788268,"d":"2.95%"}},{"v":392.875,"d":"392.88"},{"v":-0.0596827130729653,"d":"-5.97%"},313.71,{"v":-0.0861726038793752,"d":"-8.62%"},{"v":303,"d":"303.00"},{"$f":"(HN48-IP48)/IP48","v":{"v":7.42669640847395E-3,"d":"0.74%"}},{"v":306.3534,"d":"306.35"},{"$f":"(HP48-IR48)/IR48","v":{"v":0.0170065780191581,"d":"1.70%"}},null,{"v":325.3728,"d":"325.37"},{"$f":"(HS48-IT48)/IT48","v":{"v":0.0180068362965106,"d":"1.80%"}},{"v":326.7882,"d":"326.79"},{"v":0.0309546802079526,"d":"3.10%"},{"v":321.3418,"d":"321.34"},{"v":0.0411375661804228,"d":"4.11%"},{"v":296.6936,"d":"296.69"},{"$f":"(HY48-IZ48)/IZ48","v":{"v":0.0498344183979401,"d":"4.98%"}},301.84,{"v":0.0461151572326607,"d":"4.61%"},{"v":272.056,"d":"272.06"},{"v":0.0685624509033778,"d":"6.86%"},{"v":313.9431,"d":"313.94"},{"$f":"(IE48-JF48)/JF48","v":{"v":0.0484589368770098,"d":"4.85%"}},{"$f":"HH48+HJ48+HL48+HN48+HP48+HS48+HU48+HW48+HY48+IA48+IC48+IE48","v":{"v":3815.5057,"d":"3816"}},null,null,{"v":331.7492,"d":"332"},{"$f":"IJ48/JI48-1","v":{"v":0.0908884745949392,"d":"9.09%"}},{"v":417.8111,"d":"418"},{"$f":"IL48/JJ48-1","v":{"v":1.24292962705908E-3,"d":"0.12%"}},{"v":343.2924,"d":"343"},{"$f":"(IN48-JK48)/JK48","v":{"v":0.0240592954432108,"d":"2.41%"}},{"v":300.7663,"d":"300.77"},{"$f":"(IP48-JL48)/JL48","v":{"v":0.134245046112946,"d":"13.42%"}},{"v":301.2305,"d":"301.23"},{"$f":"(IR48-JM48)/JM48","v":{"v":0.138739139713135,"d":"13.87%"}},{"v":319.6175,"d":"319.62"},{"$f":"(IT48-JN48)/JN48","v":{"v":0.135434274212851,"d":"13.54%"}},{"v":316.9763,"d":"316.98"},{"$f":"(IV48-JO48)/JO48","v":{"v":0.129518607977612,"d":"12.95%"}},308.6449,{"$f":"(IX48-JP48)/JP48","v":{"v":0.138302995420787,"d":"13.83%"}},282.6099,{"$f":"(IZ48-JQ48)/JQ48","v":{"v":0.0375016768412179,"d":"3.75%"}},288.5342,{"$f":"(JB48-JR48)/JR48","v":{"v":0.0267970019364248,"d":"2.68%"}},{"v":254.6,"d":"254.60"},{"$f":"(JD48-JS48)/JS48","v":{"v":0.0105124593567613,"d":"1.05%"}},299.4329,{"$f":"(JF48-JT48)/JT48","v":{"v":0.00137743856266762,"d":"0.14%"}},{"v":3523.96635570312,"d":"3524"},{"v":304.109180476201,"d":"304"},{"v":417.292434869553,"d":"417"},{"v":335.227072814591,"d":"335"},{"v":265.168713789604,"d":"265"},{"v":264.529855429299,"d":"265"},{"v":281.493616371214,"d":"281"},{"v":280.629551174497,"d":"281"},{"v":271.144766588184,"d":"271"},{"v":272.394644084273,"d":"272"},{"v":281.004131737682,"d":"281"},{"v":251.951371447775,"d":"252"},{"v":299.021016920246,"d":"299"}]
[null,"旅客周转量        （万人公里）",10684.8007,{"$f":"C49/R49-1","v":{"v":0.0891794572376348,"d":"8.92%"}},13255.0026,{"v":0.117912712060009,"d":"11.79%"},13786.1171,{"v":0.174692143335253,"d":"17.47%"},14831.9663,{"$f":"I49/X49-1","v":{"v":0.0420732699034427,"d":"4.21%"}},13914.4557,{"v":-0.0113665323304102,"d":"-1.14%"},12216.1679,{"v":-0.014161970671528,"d":"-1.42%"},{"v":78688.5103,"d":"78688.51"},{"v":0.0618939959263469,"d":"6.19%"},null,{"v":9809.9543,"d":"9809.95"},{"$f":"R49/AS49-1","v":{"v":-0.0789879049518225,"d":"-7.90%"}},{"v":11856.9209,"d":"11856.92"},{"v":-0.0759822229545628,"d":"-7.60%"},11735.9405,{"v":-0.0160517928950228,"d":"-1.61%"},14233.1319,{"$f":"X49/AY49-1","v":{"v":0.0358616823576945,"d":"3.59%"}},14074.4332,{"v":-0.0407968754848388,"d":"-4.08%"},12391.6582,{"v":-0.113889138295201,"d":"-11.39%"},14757.5267,{"$f":"AD49/BE49-1","v":{"v":-0.0475360397317872,"d":"-4.75%"}},14360.2888,{"v":-0.0551707968798998,"d":"-5.52%"},11934.8122,{"v":-0.0946443498057074,"d":"-9.46%"},11428.8009,{"$f":"AJ49/BK49-1","v":{"v":-0.106839257806364,"d":"-10.68%"}},11283.7082,{"v":1.18111194063908E-3,"d":"0.12%"},10386.9353,{"v":0.0983713748614905,"d":"9.84%"},{"v":148254.1111,"d":"148254.11"},{"v":-0.0447953082553804,"d":"-4.48%"},null,{"v":10651.2763,"d":"10651.28"},{"v":0.123244325076803,"d":"12.32%"},12831.9186,{"$f":"AU49/BV49-1","v":{"v":0.150311994076788,"d":"15.03%"}},11927.3966,{"v":0.0116509184339018,"d":"1.17%"},{"v":13740.3788,"d":"13740.38"},{"v":0.130797018412423,"d":"13.08%"},{"v":14673.0477,"d":"14673.05"},{"$f":"BA49/CB49-1","v":{"v":0.200889942244281,"d":"20.09%"}},{"v":13984.3204,"d":"13984.32"},{"v":0.160057622617579,"d":"16.01%"},{"v":15494.0526,"d":"15494.05"},{"v":-0.281874602929891,"d":"-28.19%"},{"v":15198.8198,"d":"15198.82"},{"$f":"BG49/CH49-1","v":{"v":0.0401474649442914,"d":"4.01%"}},{"v":13182.4573,"d":"13182.46"},{"v":0.017375761539963,"d":"1.74%"},{"v":12795.906,"d":"12795.91"},{"v":-0.0252624783430485,"d":"-2.53%"},{"v":11270.3966,"d":"11270.40"},{"v":-0.0486147106289575,"d":"-4.86%"},{"v":9456.6697,"d":"9456.67"},{"v":-0.113326145870491,"d":"-11.33%"},{"v":155206.6404,"d":"155206.64"},{"v":0.0102196009999476,"d":"1.02%"},null,{"v":9482.5997,"d":"9482.60"},{"v":-0.0499994009023093,"d":"-5.00%"},{"v":11155.1637,"d":"11155.16"},{"v":0.0310023447172436,"d":"3.10%"},{"v":11790.0319,"d":"11790.03"},{"v":0.231096637973978,"d":"23.11%"},12151.0568,{"v":0.365284059442107,"d":"36.53%"},12218.4783,{"v":0.340972167202652,"d":"34.10%"},12054.8498,{"v":0.225713830109391,"d":"22.57%"},21575.6923,{"v":0.7124023181223,"d":"71.24%"},{"v":14612.1779,"d":"14612.18"},{"v":0.165632187342796,"d":"16.56%"},{"v":12957.3141,"d":"12957.31"},{"v":0.863921694573172,"d":"86.39%"},{"v":13127.5402,"d":"13127.54"},{"v":0.931034045522692,"d":"93.10%"},{"v":11846.3011,"d":"11846.30"},{"v":0.76869818522383,"d":"76.87%"},{"v":10665.3305,"d":"10665.33"},{"v":0.520968854375303,"d":"52.10%"},153636.5363,{"v":0.386358835958004,"d":"38.64%"},{"v":-0.0996910841646597,"d":"-9.97%"},null,{"v":9981.6776,"d":"9981.68"},{"v":10819.7268,"d":"10819.73"},{"v":9576.8533,"d":"9576.85"},{"v":8900.021,"d":"8900.02"},{"v":9111.6569,"d":"9111.66"},{"v":9834.9627,"d":"9834.96"},{"v":12599.6631,"d":"12599.66"},{"v":12535.8394,"d":"12535.84"},{"v":6951.6408,"d":"6951.64"},{"v":6798.192,"d":"6798.19"},{"v":6697.7516,"d":"6697.75"},{"v":7012.1952,"d":"7012.20"},{"v":110820.1804,"d":"110820.18"},{"v":-0.140202437803909,"d":"-14.02%"},null,{"v":10852.842,"d":"10,852.84"},{"v":-0.0664681674816444,"d":"-6.65%"},11199.2777,null,10659.1566,{"$error":"#DIV/0!"},{"v":32711.2763,"d":"32711.28"},11378.8182,{"$f":"(DR49-ER49)/ER49","v":{"v":0.0056065560125924,"d":"0.56%"}},11625.5725,{"v":0.0812625168574477,"d":"8.13%"},10837.8957,{"v":0.00966513534510654,"d":"0.97%"},13230.2389,{"$f":"(DX49-EX49)/EX49","v":{"v":0.219408584243625,"d":"21.94%"}},9402.6116,{"v":-0.163678610232064,"d":"-16.37%"},9915.5849,{"v":-0.197526645419872,"d":"-19.75%"},10886.9607,{"$f":"(ED49-FD49)/FD49","v":{"v":0.00568971913138029,"d":"0.57%"}},9517.9172,{"v":-0.155365122070902,"d":"-15.54%"},9384.1389,{"v":-0.0538057724918731,"d":"-5.38%"},128891.0149,{"v":0.0836957600365201,"d":"8.37%"},19674.5207,{"v":0.165406443132692,"d":"16.54%"},{"v":0,"d":"0.0000"},{"v":-1,"d":"-100.00%"},{"v":0,"d":"0.0000"},{"v":-1,"d":"-100.00%"},11315.3779,{"v":-0.344260239334296,"d":"-34.43%"},10751.8501,{"v":-0.402864836982438,"d":"-40.29%"},10734.1487,{"v":-0.405458535081977,"d":"-40.55%"},10849.7177,{"v":-0.519134979056986,"d":"-51.91%"},11242.8209,{"v":-0.445790275309484,"d":"-44.58%"},12356.2793,{"v":-0.389937570586555,"d":"-38.99%"},10825.3674,{"$f":"(FD49-FU49)/FU49","v":{"v":-0.439958110184908,"d":"-44.00%"}},11268.6765,{"v":-0.368433685146439,"d":"-36.84%"},9917.7723,{"v":-0.451403002931151,"d":"-45.14%"},118936.5315,{"v":-0.497747929405774,"d":"-49.77%"},{"v":16882.1108,"d":"16882"},{"v":23465.9893,"d":"23466"},{"v":24788.5477,"d":"24789"},{"v":17255.8972,"d":"17256"},{"v":18005.7226,"d":"18006"},{"v":18054.4997,"d":"18054"},"22,562.9173","20,286.2209","20,254.1227","19,329.5673",{"$f":"(FU49-GW49)/GW49","v":{"v":0.0107982548723933,"d":"1.08%"}},"17,842.4280",{"v":0.0842853909976853,"d":"8.43%"},"18,078.4298",{"v":0.0730956464188914,"d":"7.31%"},{"v":236806.4533,"d":"236806.45"},{"v":0.0164316358683519,"d":"1.64%"},null,null,{"v":16419.1918,"d":"16419"},{"$f":"(GE49-HH49)/HH49","v":{"v":-0.0290995723659032,"d":"-2.91%"}},{"v":24425.7629,"d":"24426"},{"v":-0.174453909276505,"d":"-17.45%"},{"v":24618.8954,"d":"24619"},{"v":0.188059963526563,"d":"18.81%"},{"v":17778.4208,"d":"17778"},{"v":-0.0118777728516725,"d":"-1.19%"},{"v":17204.9674,"d":"17205"},{"v":-0.0853005067327831,"d":"-8.53%"},{"v":17652.9108,"d":"17653"},{"$f":"(GO49-HS49)/HS49","v":{"v":6.60784551130191e-05,"d":"0.01%"}},{"v":21743.4582,"d":"21743"},{"v":0.0105127594705691,"d":"1.05%"},{"v":20890.9517,"d":"20891"},{"v":0.00493774278194621,"d":"0.49%"},{"v":19818.1488,"d":"19818"},{"$f":"(GU49-HY49)/HY49","v":{"v":-0.0244739235292338,"d":"-2.45%"}},{"v":19123.0715,"d":"19123"},{"v":0.0109992746505157,"d":"1.10%"},{"v":16455.4721,"d":"16455"},{"v":0.0179380026918321,"d":"1.79%"},{"v":16846.9883,"d":"16847"},{"v":0.0222080635422498,"d":"2.22%"},{"v":232978.2397,"d":"232978"},{"v":232978.2397,"d":"232978"},{"$nulls":3},{"v":16911.3035,"d":"16911"},{"$f":"(HH49-IJ49)/IJ49","v":{"v":-0.0525002641141029,"d":"-5.25%"}},{"v":29587.4006,"d":"29587.40"},{"v":-4.72918957766464E-3,"d":"-0.47%"},20721.93,{"v":-0.0977164655810435,"d":"-9.77%"},{"v":17992.1272,"d":"17992.13"},{"v":0.0186931994584862,"d":"1.87%"},{"v":18809.4205,"d":"18809.42"},{"v":0.0113984025134127,"d":"1.14%"},null,{"v":17651.7444,"d":"17651.74"},{"$f":"(HS49-IT49)/IT49","v":{"v":0.0286522434270504,"d":"2.87%"}},{"v":21517.2525,"d":"21517.25"},{"v":0.0345286235282444,"d":"3.45%"},{"v":20788.3044,"d":"20788.30"},{"v":0.0301618223357242,"d":"3.02%"},{"v":20315.345,"d":"20315.35"},{"$f":"(HY49-IZ49)/IZ49","v":{"v":-0.00407135481317131,"d":"-0.41%"}},18915.02,{"v":0.0401938736753599,"d":"4.02%"},{"v":16165.4954,"d":"16165.50"},{"v":0.0395395011361339,"d":"3.95%"},{"v":16480.9777,"d":"16480.98"},{"v":0.0175572106124131,"d":"1.76%"},{"v":235856.3212,"d":"235856"},null,null,{"v":17848.3464,"d":"17848"},{"v":-0.0653126525673992,"d":"-6.53%"},{"v":29727.9899,"d":"29728"},{"v":0.13140278809934,"d":"13.14%"},{"v":22966.0957,"d":"22966"},{"v":-0.0080435209460604,"d":"-0.80%"},{"v":17661.9685,"d":"17661.97"},{"v":-0.0748515312063399,"d":"-7.49%"},{"v":18597.4394,"d":"18597.44"},{"v":-0.18088520385761,"d":"-18.09%"},{"v":17160.0699,"d":"17160.07"},{"v":-0.166402561670134,"d":"-16.64%"},{"v":20799.0886,"d":"20799.09"},{"v":-0.0456149044853059,"d":"-4.56%"},{"v":20179.6494,"d":"20,179.65"},{"v":-0.0489723614279369,"d":"-4.90%"},{"v":20398.3941,"d":"20,398.39"},{"v":-0.126719794534604,"d":"-12.67%"},{"v":18184.1294,"d":"18,184.13"},{"v":-0.115655871707081,"d":"-11.57%"},{"v":15550.6312,"d":"15,550.63"},{"v":-0.138556090381895,"d":"-13.86%"},{"v":16196.6104,"d":"16,196.61"},{"v":-0.478866202820289,"d":"-47.89%"},{"v":266968.002009427,"d":"266968"},{"v":19095.5258451137,"d":"19096"},{"v":26275.3373181451,"d":"26275"},{"v":23152.3218860403,"d":"23152"},{"v":19090.9557717046,"d":"19091"},{"v":22704.3138368204,"d":"22704"},{"v":20585.5597809665,"d":"20586"},{"v":21793.1825399926,"d":"21793"},{"v":21218.7833261072,"d":"21219"},{"v":23358.3607785191,"d":"23358"},{"v":20562.2775322786,"d":"20562"},{"v":18051.8209327104,"d":"18052"},{"v":31079.5624610289,"d":"31080"}]
["仙桃市","客运量            （万人）",9.2372,{"$f":"C50/R50-1","v":{"v":0.268131958649662,"d":"26.81%"}},9.1901,{"v":0.273872725004505,"d":"27.39%"},9.1723,{"v":0.321333390956106,"d":"32.13%"},9.1413,{"$f":"I50/X50-1","v":{"v":0.34436813388826,"d":"34.44%"}},9.3403,{"v":0.345864553314121,"d":"34.59%"},9.9419,{"v":1.59176312952725E-3,"d":"0.16%"},{"v":56.0231,"d":"56.02"},{"v":0.242034855750578,"d":"24.20%"},null,{"v":7.2841,"d":"7.28"},{"$f":"R50/AS50-1","v":{"v":-0.196609571288341,"d":"-19.66%"}},{"v":7.2143,"d":"7.21"},{"v":-0.132792402933045,"d":"-13.28%"},6.9417,{"v":-0.12824473495837,"d":"-12.82%"},6.7997,{"$f":"X50/AY50-1","v":{"v":-0.142599551105843,"d":"-14.26%"}},6.94,{"v":-0.131805444355484,"d":"-13.18%"},9.9261,{"v":0.219167987029736,"d":"21.92%"},10.0811,{"$f":"AD50/BE50-1","v":{"v":0.279847146049157,"d":"27.98%"}},10.0225,{"v":0.295850949665775,"d":"29.59%"},10.8021,{"v":0.40115962331699,"d":"40.12%"},9.6101,{"$f":"AJ50/BK50-1","v":{"v":0.197385962944965,"d":"19.74%"}},9.3551,{"v":0.151226895720017,"d":"15.12%"},9.2859,{"v":0.12923192917599,"d":"12.92%"},{"v":104.2627,"d":"104.26"},{"v":0.0736523314210744,"d":"7.37%"},null,{"v":9.0667,"d":"9.07"},{"v":-0.0920952495393734,"d":"-9.21%"},8.319,{"$f":"AU50/BV50-1","v":{"v":-0.117216350439323,"d":"-11.72%"}},7.9629,{"v":-0.142686419327749,"d":"-14.27%"},{"v":7.9306,"d":"7.93"},{"v":-0.155240732850447,"d":"-15.52%"},{"v":7.9936,"d":"7.99"},{"$f":"BA50/CB50-1","v":{"v":-0.156926646627643,"d":"-15.69%"}},{"v":8.1417,"d":"8.14"},{"v":-0.139518907607432,"d":"-13.95%"},{"v":7.8768,"d":"7.88"},{"v":-0.158614354230535,"d":"-15.86%"},{"v":7.7343,"d":"7.73"},{"$f":"BG50/CH50-1","v":{"v":-0.203150596016938,"d":"-20.32%"}},{"v":7.7094,"d":"7.71"},{"v":-0.162531502563657,"d":"-16.25%"},{"v":8.0259,"d":"8.03"},{"v":-0.113786935206042,"d":"-11.38%"},{"v":8.1262,"d":"8.13"},{"v":-0.084413096874507,"d":"-8.44%"},{"v":8.2232,"d":"8.22"},{"v":-0.066881510564419,"d":"-6.69%"},{"v":97.1103,"d":"97.11"},{"v":-0.133309771855279,"d":"-13.33%"},null,{"v":9.9864,"d":"9.99"},{"v":-0.420264951410094,"d":"-42.03%"},{"v":9.4236,"d":"9.42"},{"v":-0.490850149931113,"d":"-49.09%"},{"v":9.2882,"d":"9.29"},{"v":-0.486209605151069,"d":"-48.62%"},{"v":9.388,"d":"9.3880"},{"v":-0.477797493561468,"d":"-47.78%"},9.4815,{"v":-0.480200869484176,"d":"-48.02%"},9.4618,{"v":-0.476919164556682,"d":"-47.69%"},9.3617,{"v":-0.478131201641135,"d":"-47.81%"},{"v":9.7061,"d":"9.71"},{"v":-0.464065243559021,"d":"-46.41%"},{"v":9.2056,"d":"9.21"},{"v":-0.476150913332954,"d":"-47.62%"},{"v":9.0564,"d":"9.06"},{"v":0.111678491640685,"d":"11.17%"},{"v":8.8754,"d":"8.88"},{"v":0.0623623479842959,"d":"6.24%"},{"v":8.8126,"d":"8.81"},{"v":0.016025641025641,"d":"1.60%"},112.0473,{"v":-0.400547625378445,"d":"-40.05%"},{"v":-0.00707573743155254,"d":"-0.71%"},null,{"v":17.2258,"d":"17.23"},{"v":18.5085,"d":"18.51"},{"v":18.0778,"d":"18.08"},{"v":17.9777,"d":"17.98"},{"v":18.2407,"d":"18.24"},{"v":18.0886,"d":"18.09"},{"v":17.9388,"d":"17.94"},{"v":18.1106,"d":"18.11"},{"v":17.573,"d":"17.57"},{"v":8.1466,"d":"8.15"},{"v":8.3544,"d":"8.35"},{"v":8.6736,"d":"8.67"},{"v":186.9161,"d":"186.92"},{"v":-0.240762697647704,"d":"-24.08%"},null,25.4,{"v":0.0469909315746083,"d":"4.70%"},{"v":26.72,"d":"26.7200"},null,{"v":25.83,"d":"25.8300"},{"v":1.77741935483871,"d":"177.74%"},77.95,{"v":26.35,"d":"26.3500"},{"$f":"(DR50-ER50)/ER50","v":{"v":0.523121387283237,"d":"52.31%"}},{"v":24.26,"d":"24.2600"},{"v":0.444047619047619,"d":"44.40%"},{"v":22.4,"d":"22.4000"},{"v":0.232123212321232,"d":"23.21%"},{"v":19.86,"d":"19.8600"},{"$f":"(DX50-EX50)/EX50","v":{"v":-0.0569800569800569,"d":"-5.70%"}},8.5393,{"v":-0.617071748878924,"d":"-61.71%"},{"v":16.29,"d":"16.2900"},{"v":-0.29419410745234,"d":"-29.42%"},{"v":16.93,"d":"16.9300"},{"$f":"(ED50-FD50)/FD50","v":{"v":-0.314574898785425,"d":"-31.46%"}},{"v":16.94,"d":"16.9400"},{"v":-0.370260223048327,"d":"-37.03%"},{"v":16.67,"d":"16.6700"},{"v":-0.398194945848375,"d":"-39.82%"},246.1893,{"v":-0.333398407884761,"d":"-33.34%"},{"v":162,"d":"162.0000"},{"v":-0.0795454545454545,"d":"-7.95%"},{"v":0,"d":"0.0000"},{"v":-1,"d":"-100.00%"},{"v":9.3,"d":"9.3000"},{"v":-0.948901098901099,"d":"-94.89%"},{"v":17.3,"d":"17.3000"},{"v":-0.881506849315068,"d":"-88.15%"},{"v":16.8,"d":"16.8000"},{"v":-0.884137931034483,"d":"-88.41%"},{"v":18.18,"d":"18.1800"},{"v":-0.881176470588235,"d":"-88.12%"},{"v":21.06,"d":"21.0600"},{"v":-0.857702702702703,"d":"-85.77%"},{"v":22.3,"d":"22.3000"},{"v":-0.842957746478873,"d":"-84.30%"},{"v":23.08,"d":"23.0800"},{"v":-0.838601398601399,"d":"-83.86%"},{"v":24.7,"d":"24.7000"},{"$f":"(FD50-FU50)/FU50","v":{"v":-0.838562091503268,"d":"-83.86%"}},{"v":26.9,"d":"26.9000"},{"v":-0.799253731343284,"d":"-79.93%"},{"v":27.7,"d":"27.7000"},{"v":-0.82012987012987,"d":"-82.01%"},{"v":369.32,"d":"369.3200"},{"v":-0.80754559666493,"d":"-80.75%"},176,243,182,146,145,153,"148.0000","142.0000","143.0000","153.0000",{"$f":"(FU50-GW50)/GW50","v":{"v":-0.0555555555555556,"d":"-5.56%"}},"134.0000",{"v":-0.0629370629370629,"d":"-6.29%"},"154.0000",{"v":-0.0833333333333333,"d":"-8.33%"},{"v":1919,"d":"1919.00"},{"v":-0.0558425584255843,"d":"-5.58%"},null,null,183,{"$f":"(GE50-HH50)/HH50","v":{"v":-0.0108108108108108,"d":"-1.08%"}},252,{"v":-0.0078740157480315,"d":"-0.79%"},193,{"v":-0.0153061224489796,"d":"-1.53%"},154,{"v":-0.0128205128205128,"d":"-1.28%"},154,{"v":-0.00645161290322581,"d":"-0.65%"},163,{"$f":"(GO50-HS50)/HS50","v":{"v":-0.0121212121212121,"d":"-1.21%"}},158,{"v":-0.0306748466257669,"d":"-3.07%"},152,{"v":-0.0379746835443038,"d":"-3.80%"},{"v":150.5,"d":"151"},{"$f":"(GU50-HY50)/HY50","v":{"v":-0.0414012738853503,"d":"-4.14%"}},162,{"v":-0.0121951219512195,"d":"-1.22%"},143,{"v":-0.0205479452054795,"d":"-2.05%"},168,{"v":-0.0232558139534884,"d":"-2.33%"},{"v":2032.5,"d":"2033"},{"v":2032.5,"d":"2033"},{"$nulls":3},185,{"$f":"(HH50-IJ50)/IJ50","v":{"v":0.0164835164835165,"d":"1.65%"}},{"v":254,"d":"254.00"},{"v":0.00793650793650794,"d":"0.79%"},{"v":196,"d":"196.00"},{"v":0.00512820512820513,"d":"0.51%"},{"v":156,"d":"156.00"},{"v":0.00645161290322581,"d":"0.65%"},{"v":155,"d":"155.00"},{"v":0.00649350649350649,"d":"0.65%"},null,{"v":165,"d":"165.00"},{"$f":"(HS50-IT50)/IT50","v":{"v":0.00609756097560976,"d":"0.61%"}},{"v":163,"d":"163.00"},{"v":6.17283950617284E-3,"d":"0.62%"},{"v":158,"d":"158.00"},{"v":0.0128205128205128,"d":"1.28%"},{"v":157,"d":"157.00"},{"$f":"(HY50-IZ50)/IZ50","v":{"v":6.41025641025641E-3,"d":"0.64%"}},{"v":164,"d":"164.00"},{"v":6.13496932515337E-3,"d":"0.61%"},{"v":146,"d":"146.00"},{"v":0.00689655172413793,"d":"0.69%"},{"v":172,"d":"172.00"},{"v":0.00584795321637427,"d":"0.58%"},2071,"`",null,182,{"v":0.0559825076739766,"d":"5.60%"},252,{"v":0.0653275281024912,"d":"6.53%"},195,{"v":0.0261635370220982,"d":"2.62%"},{"v":155,"d":"155.00"},{"v":0.0296146698098875,"d":"2.96%"},{"v":154,"d":"154.00"},{"v":0.0245520495678157,"d":"2.46%"},{"v":164,"d":"164.00"},{"v":0.0273840233875912,"d":"2.74%"},{"v":162,"d":"162.00"},{"v":0.0176129151246803,"d":"1.76%"},156,{"v":0.0137754465005403,"d":"1.38%"},156,{"v":0.00903666887792264,"d":"0.90%"},163,{"v":0.0208818212634076,"d":"2.09%"},145,{"v":0.0138222493715271,"d":"1.38%"},171,{"v":0.00863705220489979,"d":"0.86%"},{"v":1999.31049605182,"d":"1999"},{"v":172.351339797184,"d":"172"},{"v":236.546971098034,"d":"237"},{"v":190.028190405094,"d":"190"},{"v":150.541755614865,"d":"151"},{"v":150.309591459957,"d":"150"},{"v":159.628723307613,"d":"160"},{"v":159.196092730556,"d":"159"},{"v":153.880231108869,"d":"154"},{"v":154.602904742279,"d":"155"},{"v":159.665885516775,"d":"160"},{"v":143.023099058919,"d":"143"},{"v":169.53571121167,"d":"170"}]
[null,"旅客周转量        （万人公里）",447.8643,{"$f":"C51/R51-1","v":{"v":0.398974378517237,"d":"39.90%"}},448.4483,{"v":0.391781984261274,"d":"39.18%"},460.931,{"v":0.45763820304809,"d":"45.76%"},465.732,{"$f":"I51/X51-1","v":{"v":0.47218017210396,"d":"47.22%"}},484.5462,{"v":0.489565733847822,"d":"48.96%"},516.0528,{"v":0.0914503764484031,"d":"9.15%"},{"v":2823.5746,"d":"2823.57"},{"v":0.362052235047681,"d":"36.21%"},null,{"v":320.1376,"d":"320.14"},{"$f":"R51/AS51-1","v":{"v":-0.167136858645826,"d":"-16.71%"}},{"v":322.2116,"d":"322.21"},{"v":-0.0959392241630866,"d":"-9.59%"},316.2177,{"v":-0.0850161111484055,"d":"-8.50%"},316.3553,{"$f":"X51/AY51-1","v":{"v":-0.0986681823944795,"d":"-9.87%"}},325.2936,{"v":-0.0816077967470263,"d":"-8.16%"},472.8138,{"v":0.280218280593562,"d":"28.02%"},479.6233,{"$f":"AD51/BE51-1","v":{"v":0.288570750005239,"d":"28.86%"}},481.2883,{"v":0.295588431645752,"d":"29.56%"},526.2857,{"v":0.398572688957274,"d":"39.86%"},445.2084,{"$f":"AJ51/BK51-1","v":{"v":0.137854969165786,"d":"13.79%"}},440.1304,{"v":0.107099511586766,"d":"10.71%"},440.8022,{"v":0.0878656936799713,"d":"8.79%"},{"v":4886.3679,"d":"4886.37"},{"v":0.0919468214113979,"d":"9.19%"},null,{"v":384.382,"d":"384.38"},{"v":0.0253421279299575,"d":"2.53%"},356.4048,{"$f":"AU51/BV51-1","v":{"v":-0.0166814272825844,"d":"-1.67%"}},345.5992,{"v":-0.043314744917944,"d":"-4.33%"},{"v":350.9865,"d":"350.99"},{"v":-0.0363428049927601,"d":"-3.63%"},{"v":354.199,"d":"354.20"},{"$f":"BA51/CB51-1","v":{"v":-0.0384626869804439,"d":"-3.85%"}},{"v":369.3228,"d":"369.32"},{"v":-0.00716394654984576,"d":"-0.72%"},{"v":372.2134,"d":"372.21"},{"v":0.0131872929873194,"d":"1.32%"},{"v":371.4824,"d":"371.48"},{"$f":"BG51/CH51-1","v":{"v":-0.0308160315580207,"d":"-3.08%"}},{"v":376.302,"d":"376.30"},{"v":0.0270688380837176,"d":"2.71%"},{"v":391.2699,"d":"391.27"},{"v":0.0667446952427924,"d":"6.67%"},{"v":397.5527,"d":"397.55"},{"v":0.0850794200139091,"d":"8.51%"},{"v":405.1991,"d":"405.20"},{"v":0.105106136243635,"d":"10.51%"},{"v":4474.9138,"d":"4474.91"},{"v":0.0124157823525222,"d":"1.24%"},null,{"v":374.8817,"d":"374.88"},{"v":-0.422577475663972,"d":"-42.26%"},{"v":362.451,"d":"362.45"},{"v":-0.475806387464858,"d":"-47.58%"},{"v":361.2465,"d":"361.25"},{"v":-0.468825215262046,"d":"-46.88%"},364.2234,{"v":-0.458372455800411,"d":"-45.84%"},368.3674,{"v":-0.465734975294583,"d":"-46.57%"},371.9877,{"v":-0.462332547908188,"d":"-46.23%"},367.3688,{"v":-0.464683291162998,"d":"-46.47%"},{"v":383.294,"d":"383.29"},{"v":-0.447322826198548,"d":"-44.73%"},{"v":366.3844,"d":"366.38"},{"v":-0.453932457332558,"d":"-45.39%"},{"v":366.7887,"d":"366.79"},{"v":0.256173436729958,"d":"25.62%"},{"v":366.3812,"d":"366.38"},{"v":0.236744400355785,"d":"23.67%"},{"v":366.6608,"d":"366.66"},{"v":0.181026569013533,"d":"18.10%"},4420.0356,{"v":-0.37072384312995,"d":"-37.07%"},{"v":0.000763139593407125,"d":"0.08%"},null,{"v":649.2329,"d":"649.23"},{"v":691.4449,"d":"691.44"},{"v":680.0897,"d":"680.09"},{"v":672.461,"d":"672.46"},{"v":689.4844,"d":"689.48"},{"v":691.8546,"d":"691.85"},{"v":686.2644,"d":"686.26"},{"v":693.5224,"d":"693.52"},{"v":670.9507,"d":"670.95"},{"v":291.9889,"d":"291.99"},{"v":296.2465,"d":"296.25"},{"v":310.4594,"d":"310.46"},{"v":7023.9998,"d":"7024.00"},{"v":-0.266504964980415,"d":"-26.65%"},null,999.09,{"v":0.026075793365513,"d":"2.61%"},{"v":1048,"d":"1048.0000"},null,{"v":1035,"d":"1035.0000"},{"v":0.892138939670932,"d":"89.21%"},3082.09,{"v":1055.3,"d":"1055.3000"},{"$f":"(DR51-ER51)/ER51","v":{"v":0.556489675516224,"d":"55.65%"}},{"v":973.7,"d":"973.7000"},{"v":0.455455904334828,"d":"45.55%"},{"v":901.6,"d":"901.6000"},{"v":0.259217877094972,"d":"25.92%"},{"v":805.9,"d":"805.9000"},{"$f":"(DX51-EX51)/EX51","v":{"v":-0.0290361445783133,"d":"-2.90%"}},{"v":296.58,"d":"296.5800"},{"v":-0.666013513513514,"d":"-66.60%"},{"v":596.82,"d":"596.8200"},{"v":-0.34745243822436,"d":"-34.75%"},{"v":618.73,"d":"618.7300"},{"$f":"(ED51-FD51)/FD51","v":{"v":-0.364753593429158,"d":"-36.48%"}},{"v":624.55,"d":"624.5500"},{"v":-0.406321292775665,"d":"-40.63%"},{"v":620.8,"d":"620.8000"},{"v":-0.43254113345521,"d":"-43.25%"},{"v":9576.07,"d":"9576.0700"},{"v":-0.295649327723675,"d":"-29.56%"},{"v":5233,"d":"5233.0000"},{"v":-0.0827344434706398,"d":"-8.27%"},{"v":0,"d":"0.0000"},{"v":-1,"d":"-100.00%"},{"v":547,"d":"547.0000"},{"v":-0.9170835228134,"d":"-91.71%"},{"v":678,"d":"678.0000"},{"v":-0.875619152449092,"d":"-87.56%"},{"v":669,"d":"669.0000"},{"v":-0.897076923076923,"d":"-89.71%"},{"v":716,"d":"716.0000"},{"v":-0.866218236173393,"d":"-86.62%"},{"v":830,"d":"830.0000"},{"v":-0.862900561612157,"d":"-86.29%"},{"v":888,"d":"888.0000"},{"v":-0.847840986977382,"d":"-84.78%"},{"v":914.6,"d":"914.6000"},{"v":-0.856623295187333,"d":"-85.66%"},{"v":974,"d":"974.0000"},{"$f":"(FD51-FU51)/FU51","v":{"v":-0.830195258019526,"d":"-83.02%"}},{"v":1052,"d":"1052.0000"},{"v":-0.795926285160039,"d":"-79.59%"},{"v":1094,"d":"1094.0000"},{"v":-0.868950646861524,"d":"-86.90%"},{"v":13595.6,"d":"13595.6000"},{"v":-0.818635860357776,"d":"-81.86%"},5705,7850,6597,5451,6500,5352,"6,054.0000","5,836.0000","6,379.0000","5,736.0000",{"$f":"(FU51-GW51)/GW51","v":{"v":-0.0565789473684211,"d":"-5.66%"}},"5,155.0000",{"v":-0.0208926875593542,"d":"-2.09%"},"8,348.0000",{"v":-0.0826373626373626,"d":"-8.26%"},{"v":74963,"d":"74963.00"},{"v":-0.0534377170275901,"d":"-5.34%"},null,null,5929,{"$f":"(GE51-HH51)/HH51","v":{"v":-0.0217785843920145,"d":"-2.18%"}},8150,{"v":-0.00972053462940462,"d":"-0.97%"},6980,{"v":-0.0155148095909732,"d":"-1.55%"},5740,{"v":-0.0115377992078526,"d":"-1.15%"},6858,{"v":-0.0121002592912705,"d":"-1.21%"},5700,{"$f":"(GO51-HS51)/HS51","v":{"v":-0.0860990860990861,"d":"-8.61%"}},6418,{"v":-0.035322410942432,"d":"-3.53%"},6245,{"v":-0.037602095854523,"d":"-3.76%"},6730,{"$f":"(GU51-HY51)/HY51","v":{"v":-0.0409006698019097,"d":"-4.09%"}},6080,{"v":-0.0166585799773573,"d":"-1.67%"},5265,{"v":-0.0259019426456984,"d":"-2.59%"},9100,{"v":-0.0288153681963714,"d":"-2.88%"},79195,79195,{"$nulls":3},6061,{"$f":"(HH51-IJ51)/IJ51","v":{"v":0.0198552919400976,"d":"1.99%"}},{"v":8230,"d":"8230.00"},{"v":0.0098159509202454,"d":"0.98%"},{"v":7090,"d":"7090.00"},{"v":0.00896541909776576,"d":"0.90%"},{"v":5807,"d":"5807.00"},{"v":0.0058894855361164,"d":"0.59%"},{"v":6942,"d":"6942.00"},{"v":8.4253341080767E-3,"d":"0.84%"},null,{"v":6237,"d":"6237.00"},{"$f":"(HS51-IT51)/IT51","v":{"v":0.00987694300518135,"d":"0.99%"}},{"v":6653,"d":"6653.00"},{"v":0.00787759430389335,"d":"0.79%"},{"v":6489,"d":"6489.00"},{"v":0.0199622760138321,"d":"2.00%"},{"v":7017,"d":"7017.00"},{"$f":"(HY51-IZ51)/IZ51","v":{"v":0.00993091537132988,"d":"0.99%"}},{"v":6183,"d":"6183.00"},{"v":0.00585651537335286,"d":"0.59%"},{"v":5405,"d":"5405.00"},{"v":0.00595570444816676,"d":"0.60%"},{"v":9370,"d":"9370.00"},{"v":0.0100247924975746,"d":"1.00%"},81484,null,null,5943,{"v":0.0598313558904404,"d":"5.98%"},8150,{"v":0.0598951811038793,"d":"5.99%"},7027,{"v":0.0299441531972799,"d":"2.99%"},{"v":5773,"d":"5773.00"},{"v":0.029957430821505,"d":"3.00%"},{"v":6884,"d":"6884.00"},{"v":0.0299373497137317,"d":"2.99%"},{"v":6176,"d":"6176.00"},{"v":0.0199042547377546,"d":"1.99%"},{"v":6601,"d":"6601.00"},{"v":0.029943677250751,"d":"2.99%"},{"v":6362,"d":"6,362.00"},{"v":0.0199273255797498,"d":"1.99%"},{"v":6948,"d":"6,948.00"},{"v":0.00992616412636134,"d":"0.99%"},{"v":6147,"d":"6,147.00"},{"v":0.0198904670462661,"d":"1.99%"},{"v":5373,"d":"5,373.00"},{"v":0.0148439229863374,"d":"1.48%"},{"v":9277,"d":"9,277.00"},{"v":0.00999356105900394,"d":"1.00%"},{"v":78497.327248487,"d":"78497"},{"v":5607.49591618457,"d":"5607"},{"v":7689.43962129518,"d":"7689"},{"v":6822.70002522556,"d":"6823"},{"v":5605.08602321107,"d":"5605"},{"v":6683.90169743178,"d":"6684"},{"v":6055.47037509714,"d":"6055"},{"v":6409.08832764543,"d":"6409"},{"v":6237.69933449297,"d":"6238"},{"v":6879.71086085326,"d":"6880"},{"v":6027.11781178081,"d":"6027"},{"v":5294.41018298568,"d":"5294"},{"v":9185.20707228354,"d":"9185"}]
["潜江市","客运量            （万人）",2.2826,{"$f":"C52/R52-1","v":{"v":-0.270525071106708,"d":"-27.05%"}},2.1525,{"v":-0.202482400889218,"d":"-20.25%"},2.2929,{"v":-0.119131771033423,"d":"-11.91%"},2.26,{"$f":"I52/X52-1","v":{"v":-0.0124967228873549,"d":"-1.25%"}},2.0421,{"v":-0.191407642051079,"d":"-19.14%"},2.0576,{"v":-0.194897679696365,"d":"-19.49%"},{"v":13.0877,"d":"13.09"},{"v":-0.171711737938978,"d":"-17.17%"},null,{"v":3.1291,"d":"3.13"},{"$f":"R52/AS52-1","v":{"v":-0.218428414427016,"d":"-21.84%"}},{"v":2.699,"d":"2.70"},{"v":0.182941795231417,"d":"18.29%"},2.603,{"v":0.0149730952195275,"d":"1.50%"},2.2886,{"$f":"X52/AY52-1","v":{"v":-0.238580031273913,"d":"-23.86%"}},2.5255,{"v":-0.263552328463535,"d":"-26.36%"},2.5557,{"v":-0.248080261260996,"d":"-24.81%"},2.421,{"$f":"AD52/BE52-1","v":{"v":-0.114775677355662,"d":"-11.48%"}},2.683,{"v":0.0201520912547528,"d":"2.02%"},2.4105,{"v":-0.0401003504300733,"d":"-4.01%"},{"v":2.71,"d":"2.7100"},{"$f":"AJ52/BK52-1","v":{"v":-0.066257795541467,"d":"-6.63%"}},2.4835,{"v":-0.222886288253333,"d":"-22.29%"},2.3858,{"v":-0.241326676630521,"d":"-24.13%"},{"v":30.8947,"d":"30.89"},{"v":-0.137082223078771,"d":"-13.71%"},null,{"v":4.0036,"d":"4.00"},{"v":1.25949545685422,"d":"125.95%"},2.2816,{"$f":"AU52/BV52-1","v":{"v":0.0293706293706295,"d":"2.94%"}},2.5646,{"v":0.0732789286461604,"d":"7.33%"},{"v":3.0057,"d":"3.01"},{"v":0.0633999646205556,"d":"6.34%"},{"v":3.4293,"d":"3.43"},{"$f":"BA52/CB52-1","v":{"v":0.0849811750561584,"d":"8.50%"}},{"v":3.3989,"d":"3.40"},{"v":0.0765892749675334,"d":"7.66%"},{"v":2.7349,"d":"2.73"},{"v":-0.218666971402451,"d":"-21.87%"},2.63,{"$f":"BG52/CH52-1","v":{"v":-0.220163083765752,"d":"-22.02%"}},{"v":2.5112,"d":"2.51"},{"v":-0.216816367265469,"d":"-21.68%"},{"v":2.9023,"d":"2.90"},{"v":-0.216420529711925,"d":"-21.64%"},{"v":3.1958,"d":"3.20"},{"v":-0.224546248665437,"d":"-22.45%"},{"v":3.1447,"d":"3.14"},{"v":-0.214865303472898,"d":"-21.49%"},{"v":35.8026,"d":"35.80"},{"v":-0.0435244898722476,"d":"-4.35%"},null,{"v":1.7719,"d":"1.77"},{"v":-0.119509043927648,"d":"-11.95%"},{"v":2.2165,"d":"2.22"},{"v":0.0492804393107364,"d":"4.93%"},{"v":2.3895,"d":"2.39"},{"v":0.228850604268449,"d":"22.89%"},2.8265,{"v":0.593022600462154,"d":"59.30%"},3.1607,{"v":0.757604404159484,"d":"75.76%"},3.1571,{"v":0.689553676549288,"d":"68.96%"},3.5003,{"v":0.756825938566553,"d":"75.68%"},{"v":3.3725,"d":"3.37"},{"v":1.20814509264715,"d":"120.81%"},{"v":3.2064,"d":"3.21"},{"v":1.30858953128375,"d":"130.86%"},{"v":3.7039,"d":"3.70"},{"v":2.16329319327013,"d":"216.33%"},{"v":4.1212,"d":"4.12"},{"v":1.97002017872586,"d":"197.00%"},{"v":4.0053,"d":"4.01"},{"v":2.19452863295581,"d":"219.45%"},37.4318,{"v":0.850183378312919,"d":"85.02%"},{"v":-0.0281228768319907,"d":"-2.81%"},null,{"v":2.0124,"d":"2.01"},{"v":2.1124,"d":"2.11"},{"v":1.9445,"d":"1.94"},{"v":1.7743,"d":"1.77"},{"v":1.7983,"d":"1.80"},{"v":1.8686,"d":"1.87"},{"v":1.9924,"d":"1.99"},{"v":1.5273,"d":"1.53"},{"v":1.3889,"d":"1.39"},{"v":1.1709,"d":"1.17"},{"v":1.3876,"d":"1.39"},{"v":1.2538,"d":"1.25"},{"v":20.2314,"d":"20.23"},{"v":-0.401959827960803,"d":"-40.20%"},null,1.9768,{"v":-0.570410292072323,"d":"-57.04%"},2.0862,null,3.5771,{"v":-0.123259803921569,"d":"-12.33%"},{"v":7.6401,"d":"7.64"},3.8622,{"$f":"(DR52-ER52)/ER52","v":{"v":-0.044009900990099,"d":"-4.40%"}},4.6016,{"v":-0.0703838383838383,"d":"-7.04%"},4.3907,{"v":-0.035010989010989,"d":"-3.50%"},3.7282,{"$f":"(DX52-EX52)/EX52","v":{"v":-0.220041841004184,"d":"-22.00%"}},{"v":1.372,"d":"1.3720"},{"v":-0.774342105263158,"d":"-77.43%"},1.9414,{"v":-0.564708520179372,"d":"-56.47%"},2.1796,{"$f":"(ED52-FD52)/FD52","v":{"v":-0.657779871251374,"d":"-65.78%"}},2.1142,{"v":-0.627453744493392,"d":"-62.75%"},1.9995,{"v":-0.25,"d":"-25.00%"},33.8295,{"v":-0.779252854812398,"d":"-77.93%"},{"v":105.6,"d":"105.6000"},{"v":-0.0989761092150171,"d":"-9.90%"},{"v":0,"d":"0.0000"},{"v":-1,"d":"-100.00%"},{"v":4.08,"d":"4.0800"},{"v":-0.967438148443735,"d":"-96.74%"},{"v":4.04,"d":"4.0400"},{"v":-0.9596,"d":"-95.96%"},{"v":4.95,"d":"4.9500"},{"v":-0.950100806451613,"d":"-95.01%"},{"v":4.55,"d":"4.5500"},{"v":-0.956872037914692,"d":"-95.69%"},{"v":4.78,"d":"4.7800"},{"v":-0.954302103250478,"d":"-95.43%"},{"v":6.08,"d":"6.0800"},{"v":-0.940275049115914,"d":"-94.03%"},{"v":4.46,"d":"4.4600"},{"v":-0.956274509803922,"d":"-95.63%"},{"v":6.369,"d":"6.3690"},{"$f":"(FD52-FU52)/FU52","v":{"v":-0.939169054441261,"d":"-93.92%"}},{"v":5.675,"d":"5.6750"},{"v":-0.938978494623656,"d":"-93.90%"},{"v":2.666,"d":"2.6660"},{"v":-0.97554128440367,"d":"-97.55%"},{"v":153.25,"d":"153.2500"},{"v":-0.884990619136961,"d":"-88.50%"},{"v":117.2,"d":"117"},{"v":170.2,"d":"170"},{"v":125.3,"d":"125"},100,{"v":99.2,"d":"99"},{"v":105.5,"d":"106"},"104.6000","101.8000","102.0000","104.7000",{"$f":"(FU52-GW52)/GW52","v":{"v":-0.0997420464316423,"d":"-9.97%"}},"93.0000",{"v":-0.0997095837366892,"d":"-9.97%"},"109.0000",{"v":-0.0991735537190083,"d":"-9.92%"},{"v":1332.5,"d":"1332.50"},{"v":-0.099175229853975,"d":"-9.92%"},null,null,130,{"$f":"(GE52-HH52)/HH52","v":{"v":-0.0972222222222222,"d":"-9.72%"}},189,{"v":-0.0956937799043062,"d":"-9.57%"},139,{"v":-0.0974025974025974,"d":"-9.74%"},111,{"v":-0.0975609756097561,"d":"-9.76%"},110,{"v":-0.0983606557377049,"d":"-9.84%"},117.2,{"$f":"(GO52-HS52)/HS52","v":{"v":-0.0984615384615384,"d":"-9.85%"}},{"v":116.2,"d":"116"},{"v":-0.0992248062015504,"d":"-9.92%"},113,{"v":-0.096,"d":"-9.60%"},{"v":113.2,"d":"113"},{"$f":"(GU52-HY52)/HY52","v":{"v":-0.09800796812749,"d":"-9.80%"}},{"v":116.3,"d":"116"},{"v":-0.0984496124031008,"d":"-9.84%"},{"v":103.3,"d":"103"},{"v":-0.0986038394415358,"d":"-9.86%"},121,{"v":-0.0983606557377048,"d":"-9.84%"},{"v":1479.2,"d":"1479"},{"v":1479.2,"d":"1479"},{"$nulls":3},144,{"$f":"(HH52-IJ52)/IJ52","v":{"v":-0.0971786833855799,"d":"-9.72%"}},{"v":209,"d":"209.00"},{"v":-0.0991379310344828,"d":"-9.91%"},{"v":154,"d":"154.00"},{"v":-0.0994152046783626,"d":"-9.94%"},{"v":123,"d":"123.00"},{"v":-0.0955882352941176,"d":"-9.56%"},{"v":122,"d":"122.00"},{"v":-0.0962962962962963,"d":"-9.63%"},null,{"v":130,"d":"130.00"},{"$f":"(HS52-IT52)/IT52","v":{"v":-0.0972222222222222,"d":"-9.72%"}},{"v":129,"d":"129.00"},{"v":-0.0979020979020979,"d":"-9.79%"},{"v":125,"d":"125.00"},{"v":-0.0942028985507246,"d":"-9.42%"},{"v":125.5,"d":"125.50"},{"$f":"(HY52-IZ52)/IZ52","v":{"v":-0.0971223021582734,"d":"-9.71%"}},{"v":129,"d":"129.00"},{"v":-0.0979020979020979,"d":"-9.79%"},{"v":114.6,"d":"114.60"},{"v":-0.0976377952755906,"d":"-9.76%"},134.2,{"v":-0.0993288590604028,"d":"-9.93%"},{"v":1639.3,"d":"1639"},null,null,{"v":159.5,"d":"160"},{"v":-0.0687295645025165,"d":"-6.87%"},232,{"v":-0.0130282565643701,"d":"-1.30%"},171,{"v":-0.0944502790200208,"d":"-9.45%"},{"v":136,"d":"136.00"},{"v":-0.0908258016910371,"d":"-9.08%"},{"v":135,"d":"135.00"},{"v":-0.0960799271026583,"d":"-9.61%"},{"v":144,"d":"144.00"},{"v":-0.0921932710572404,"d":"-9.22%"},{"v":143,"d":"143.00"},{"v":-0.0960321880461871,"d":"-9.60%"},138,{"v":-0.0974854629035967,"d":"-9.75%"},139,{"v":-0.095191090235574,"d":"-9.52%"},143,{"v":-0.0986234244589606,"d":"-9.86%"},127,{"v":-0.106364169336268,"d":"-10.64%"},149,{"v":-0.115570739804846,"d":"-11.56%"},{"v":1986.68300663978,"d":"1987"},{"v":171.271409378303,"d":"171"},{"v":235.062453958826,"d":"235"},{"v":188.835572512733,"d":"189"},{"v":149.586295181887,"d":"150"},{"v":149.349487911341,"d":"149"},{"v":158.624072072812,"d":"159"},{"v":158.191473312444,"d":"158"},{"v":152.906124309064,"d":"153"},{"v":153.623597756337,"d":"154"},{"v":158.646234970291,"d":"159"},{"v":142.116056275041,"d":"142"},{"v":168.470229000703,"d":"168"}]
[null,"旅客周转量        （万人公里）",237.4332,{"$f":"C53/R53-1","v":{"v":-0.106984070507553,"d":"-10.70%"}},176.7706,{"v":-0.100896862126966,"d":"-10.09%"},172.2912,{"v":0.069308110523572,"d":"6.93%"},179.4491,{"$f":"I53/X53-1","v":{"v":0.221724543136045,"d":"22.17%"}},154.2538,{"v":-0.0652315926364485,"d":"-6.52%"},175.321,{"v":-0.0277121529741902,"d":"-2.77%"},{"v":1095.5189,"d":"1095.52"},{"v":-0.0182005714861331,"d":"-1.82%"},null,{"v":265.8779,"d":"265.88"},{"$f":"R53/AS53-1","v":{"v":0.0767639803647371,"d":"7.68%"}},{"v":196.6077,"d":"196.61"},{"v":0.557510773813296,"d":"55.75%"},161.124,{"v":0.195421128425195,"d":"19.54%"},146.8818,{"$f":"X53/AY53-1","v":{"v":-0.0915484987045694,"d":"-9.15%"}},165.0182,{"v":-0.121539446779945,"d":"-12.15%"},180.318,{"v":-0.116384506371393,"d":"-11.64%"},189.287,{"$f":"AD53/BE53-1","v":{"v":-0.276876134853335,"d":"-27.69%"}},221.28,{"v":-0.1430735652446,"d":"-14.31%"},248.1032,{"v":-0.0071539219715484,"d":"-0.72%"},208.8209,{"$f":"AJ53/BK53-1","v":{"v":-0.0537509040124559,"d":"-5.38%"}},208.7586,{"v":-0.0843945147512769,"d":"-8.44%"},205.6995,{"v":-0.0940347526823374,"d":"-9.40%"},{"v":2397.7768,"d":"2397.78"},{"v":-0.0436257727040462,"d":"-4.36%"},null,{"v":246.9231,"d":"246.92"},{"v":1.90179932332939,"d":"190.18%"},126.232,{"$f":"AU53/BV53-1","v":{"v":0.188433877407687,"d":"18.84%"}},134.7843,{"v":0.0857242052064444,"d":"8.57%"},{"v":161.6837,"d":"161.68"},{"v":0.0681046464924056,"d":"6.81%"},{"v":187.8493,"d":"187.85"},{"$f":"BA53/CB53-1","v":{"v":0.0817322753028977,"d":"8.17%"}},{"v":204.0684,"d":"204.07"},{"v":0.187855109295518,"d":"18.79%"},{"v":261.7629,"d":"261.76"},{"v":0.220729127609923,"d":"22.07%"},{"v":258.2252,"d":"258.23"},{"$f":"BG53/CH53-1","v":{"v":0.240090092253315,"d":"24.01%"}},{"v":249.8909,"d":"249.89"},{"v":0.256557189513726,"d":"25.66%"},{"v":220.6828,"d":"220.68"},{"v":-0.0523233843151806,"d":"-5.23%"},{"v":228.0006,"d":"228.00"},{"v":-0.096046761219398,"d":"-9.60%"},{"v":227.0501,"d":"227.05"},{"v":-0.096031258472837,"d":"-9.60%"},{"v":2507.1533,"d":"2507.15"},{"v":0.155330626237083,"d":"15.53%"},null,{"v":85.0931,"d":"85.09"},{"v":-0.124369206579186,"d":"-12.44%"},{"v":106.2171,"d":"106.22"},{"v":-0.07034564970802,"d":"-7.03%"},{"v":124.1423,"d":"124.14"},{"v":0.152531688463849,"d":"15.25%"},151.3744,{"v":0.578785214480973,"d":"57.88%"},{"v":173.656,"d":"173.6560"},{"v":0.763592343440252,"d":"76.36%"},171.7957,{"v":0.636989845263426,"d":"63.70%"},214.4316,{"v":0.942573875325791,"d":"94.26%"},{"v":208.231,"d":"208.23"},{"v":1.68951683733041,"d":"168.95%"},{"v":198.8695,"d":"198.87"},{"v":1.73992108257948,"d":"173.99%"},{"v":232.8672,"d":"232.87"},{"v":2.73356335365785,"d":"273.36%"},{"v":252.2261,"d":"252.23"},{"v":2.2910246005381,"d":"229.10%"},{"v":251.1703,"d":"251.17"},{"v":2.82247583276517,"d":"282.25%"},2170.0743,{"v":1.00274255589006,"d":"100.27%"},{"v":-0.00418592683310726,"d":"-0.42%"},null,{"v":97.1792,"d":"97.18"},{"v":114.2544,"d":"114.25"},{"v":107.7127,"d":"107.71"},{"v":95.8803,"d":"95.88"},{"v":98.4672,"d":"98.47"},{"v":104.9461,"d":"104.95"},{"v":110.3853,"d":"110.39"},{"v":77.4232,"d":"77.42"},{"v":72.5822,"d":"72.58"},{"v":62.3713,"d":"62.37"},{"v":76.6406,"d":"76.64"},{"v":65.7088,"d":"65.71"},{"v":1083.5513,"d":"1083.55"},{"v":-0.683534311901525,"d":"-68.35%"},null,93.5929,{"v":-0.843408198035393,"d":"-84.34%"},113.7925,null,472.2256,{"v":1.50584027593526,"d":"150.58%"},{"v":679.611,"d":"679.61"},475.2118,{"$f":"(DR53-ER53)/ER53","v":{"v":1.1920374556022,"d":"119.20%"}},597.6871,{"v":1.83264028436019,"d":"183.26%"},{"v":637.152,"d":"637.1520"},{"v":0.954453987730062,"d":"95.45%"},442.6371,{"$f":"(DX53-EX53)/EX53","v":{"v":0.832865838509317,"d":"83.29%"}},87.5883,{"v":-0.789703961584634,"d":"-78.97%"},126.9316,{"v":-0.629937026239067,"d":"-62.99%"},131.9552,{"$f":"(ED53-FD53)/FD53","v":{"v":-0.775750386622028,"d":"-77.58%"}},128.7484,{"v":-0.706609848916437,"d":"-70.66%"},116.3915,{"v":-0.666450302050735,"d":"-66.65%"},{"v":3423.914,"d":"3423.9140"},{"v":-0.52586877313248,"d":"-52.59%"},{"v":3902,"d":"3902.0000"},{"v":-0.0988452655889145,"d":"-9.88%"},{"v":0,"d":"0.0000"},{"v":-1,"d":"-100.00%"},{"v":188.45,"d":"188.4500"},{"v":-0.961422722620266,"d":"-96.14%"},{"v":216.79,"d":"216.7900"},{"v":-0.946085550857996,"d":"-94.61%"},{"v":211,"d":"211.0000"},{"v":-0.955986649979141,"d":"-95.60%"},{"v":326,"d":"326.0000"},{"v":-0.924867480986402,"d":"-92.49%"},{"v":241.5,"d":"241.5000"},{"v":-0.947166921898928,"d":"-94.72%"},{"v":416.5,"d":"416.5000"},{"v":-0.906844106463878,"d":"-90.68%"},{"v":343,"d":"343.0000"},{"v":-0.929957116602001,"d":"-93.00%"},{"v":588.43,"d":"588.4300"},{"$f":"(FD53-FU53)/FU53","v":{"v":-0.862516355140187,"d":"-86.25%"}},{"v":438.83,"d":"438.8300"},{"v":-0.882759818327545,"d":"-88.28%"},{"v":348.948,"d":"348.9480"},{"v":-0.945297382034802,"d":"-94.53%"},{"v":7221.448,"d":"7221.4480"},{"v":-0.872707197123266,"d":"-87.27%"},4330,6021,4885,4021,4794,4339,"4,571.0000","4,471.0000","4,897.0000","4,280.0000",{"$f":"(FU53-GW53)/GW53","v":{"v":-0.0995160950978329,"d":"-9.95%"}},"3,743.0000",{"v":-0.0995910512388742,"d":"-9.96%"},"6,379.0000",{"v":-0.099138539754272,"d":"-9.91%"},{"v":56731,"d":"56731.00"},{"v":-0.0990789264729236,"d":"-9.91%"},null,null,4804,{"$f":"(GE53-HH53)/HH53","v":{"v":-0.0969924812030075,"d":"-9.70%"}},6684,{"v":-0.0955345060893099,"d":"-9.55%"},5419,{"v":-0.0972846909878394,"d":"-9.73%"},4463,{"v":-0.0974721941354904,"d":"-9.75%"},5318,{"v":-0.0981855180600305,"d":"-9.82%"},4820,{"$f":"(GO53-HS53)/HS53","v":{"v":-0.0983913206135428,"d":"-9.84%"}},5077,{"v":-0.0991838183108588,"d":"-9.92%"},4962,{"v":-0.0958454810495627,"d":"-9.58%"},5432,{"$f":"(GU53-HY53)/HY53","v":{"v":-0.0979740949850548,"d":"-9.80%"}},4753,{"v":-0.098273572377158,"d":"-9.83%"},4157,{"v":-0.0988510730544114,"d":"-9.89%"},7081,{"v":-0.0984211866564808,"d":"-9.84%"},62970,62970,{"$nulls":3},5320,{"$f":"(HH53-IJ53)/IJ53","v":{"v":-0.099266884513147,"d":"-9.93%"}},{"v":7390,"d":"7390.00"},{"v":-0.0991100816774351,"d":"-9.91%"},{"v":6003,"d":"6003.00"},{"v":-0.0991896758703481,"d":"-9.92%"},{"v":4945,"d":"4945.00"},{"v":-0.0966386554621849,"d":"-9.66%"},{"v":5897,"d":"5897.00"},{"v":-0.096937212863706,"d":"-9.69%"},null,{"v":5346,"d":"5346.00"},{"$f":"(HS53-IT53)/IT53","v":{"v":-0.0969594594594595,"d":"-9.70%"}},{"v":5636,"d":"5636.00"},{"v":-0.0975180144115292,"d":"-9.75%"},{"v":5488,"d":"5488.00"},{"v":-0.0942399735930022,"d":"-9.42%"},{"v":6022,"d":"6022.00"},{"$f":"(HY53-IZ53)/IZ53","v":{"v":-0.0970160443844654,"d":"-9.70%"}},{"v":5271,"d":"5271.00"},{"v":-0.0978949169946945,"d":"-9.79%"},{"v":4613,"d":"4613.00"},{"v":-0.0974369008021913,"d":"-9.74%"},{"v":7854,"d":"7,854.00"},{"v":-0.0984848484848485,"d":"-9.85%"},69785,null,null,{"v":5906.3,"d":"5906"},{"v":-0.0218486143992732,"d":"-2.18%"},8203,{"v":-0.0113479692807114,"d":"-1.13%"},6664,{"v":-0.0910267117182917,"d":"-9.10%"},{"v":5474,"d":"5474.00"},{"v":-0.0931562426112234,"d":"-9.32%"},{"v":6530,"d":"6530.00"},{"v":-0.0913593863818215,"d":"-9.14%"},{"v":5920,"d":"5920.00"},{"v":-0.0911726779755201,"d":"-9.12%"},{"v":6245,"d":"6245.00"},{"v":-0.0943130742038607,"d":"-9.43%"},{"v":6059,"d":"6,059.00"},{"v":-0.0973578260458643,"d":"-9.74%"},{"v":6669,"d":"6,669.00"},{"v":-0.0981735820336527,"d":"-9.82%"},{"v":5843,"d":"5,843.00"},{"v":-0.100695381672748,"d":"-10.07%"},{"v":5111,"d":"5,111.00"},{"v":-0.104173958258015,"d":"-10.42%"},{"v":8712,"d":"8,712.00"},{"v":-0.115800394026788,"d":"-11.58%"},{"v":84461.8981512021,"d":"84462"},{"v":6038.22689099671,"d":"6038"},{"v":8297.15586992923,"d":"8297"},{"v":7331.34855106402,"d":"7331"},{"v":6036.32098186592,"d":"6036"},{"v":7186.55968281865,"d":"7187"},{"v":6513.88867448743,"d":"6514"},{"v":6895.31870465102,"d":"6895"},{"v":6712.51596128929,"d":"6713"},{"v":7394.99294669017,"d":"7395"},{"v":6497.24229245953,"d":"6497"},{"v":5705.348763987,"d":"5705"},{"v":9852.97883096313,"d":"9853"}]
["天门市","客运量            （万人）",3.0068,{"$f":"C54/R54-1","v":{"v":-0.50232550441101,"d":"-50.23%"}},3.7154,{"v":-0.383683896224537,"d":"-38.37%"},3.4623,{"v":-0.44355694127479,"d":"-44.36%"},4.4253,{"$f":"I54/X54-1","v":{"v":-0.315562360801782,"d":"-31.56%"}},4.3403,{"v":-0.261351259360109,"d":"-26.14%"},4.3662,{"v":-0.195066644543996,"d":"-19.51%"},{"v":23.3163,"d":"23.32"},{"v":-0.353370384544986,"d":"-35.34%"},null,{"v":6.0417,"d":"6.04"},{"$f":"R54/AS54-1","v":{"v":-0.655104895104895,"d":"-65.51%"}},{"v":6.0284,"d":"6.03"},{"v":-0.697798809923653,"d":"-69.78%"},6.2222,{"v":-0.631937912962207,"d":"-63.19%"},6.4656,{"$f":"X54/AY54-1","v":{"v":-0.436504823907757,"d":"-43.65%"}},5.876,{"v":-0.490589428603629,"d":"-49.06%"},5.4243,{"v":-0.457173736827884,"d":"-45.72%"},5.367,{"$f":"AD54/BE54-1","v":{"v":-0.467390441409971,"d":"-46.74%"}},5.344,{"v":-0.471377840206542,"d":"-47.14%"},5.0093,{"v":-0.446651275310128,"d":"-44.67%"},4.5789,{"$f":"AJ54/BK54-1","v":{"v":-0.489668316169587,"d":"-48.97%"}},4.2379,{"v":-0.512913050974082,"d":"-51.29%"},3.6481,{"v":-0.319600126825447,"d":"-31.96%"},{"v":64.2434,"d":"64.24"},{"v":-0.539955974455445,"d":"-54.00%"},null,{"v":17.5175,"d":"17.52"},{"v":0.106776180698152,"d":"10.68%"},19.9483,{"$f":"AU54/BV54-1","v":{"v":0.227973086938054,"d":"22.80%"}},16.9053,{"v":0.0215114838694084,"d":"2.15%"},{"v":11.4741,"d":"11.47"},{"v":-0.308126458475287,"d":"-30.81%"},{"v":11.5349,"d":"11.53"},{"$f":"BA54/CB54-1","v":{"v":-0.348759612018834,"d":"-34.88%"}},{"v":9.9927,"d":"9.99"},{"v":-0.492235693452169,"d":"-49.22%"},{"v":10.0768,"d":"10.08"},{"v":-0.521485385948667,"d":"-52.15%"},{"v":10.1093,"d":"10.11"},{"$f":"BG54/CH54-1","v":{"v":-0.534883827927306,"d":"-53.49%"}},{"v":9.0527,"d":"9.05"},{"v":-0.58386043945941,"d":"-58.39%"},{"v":8.9724,"d":"8.97"},{"v":-0.526384966613001,"d":"-52.64%"},{"v":8.7005,"d":"8.70"},{"v":-0.533300076169633,"d":"-53.33%"},{"v":5.3617,"d":"5.36"},{"v":-0.704257126467214,"d":"-70.43%"},{"v":139.6462,"d":"139.65"},{"v":-0.373396092649263,"d":"-37.34%"},null,{"v":15.8275,"d":"15.83"},{"v":-0.50140812237749,"d":"-50.14%"},{"v":16.2449,"d":"16.24"},{"v":-0.491938838379574,"d":"-49.19%"},{"v":16.5493,"d":"16.55"},{"v":-0.360640854266309,"d":"-36.06%"},16.5841,{"v":-0.262689672649349,"d":"-26.27%"},17.7122,{"v":-0.291758468053118,"d":"-29.18%"},19.6798,{"v":-0.185300485595651,"d":"-18.53%"},21.0585,{"v":-0.105594889720404,"d":"-10.56%"},{"v":21.735,"d":"21.74"},{"v":-0.0376355988487935,"d":"-3.76%"},{"v":21.754,"d":"21.75"},{"v":-0.110382281255623,"d":"-11.04%"},{"v":18.9445,"d":"18.94"},{"v":-0.207124143068797,"d":"-20.71%"},{"v":18.6426,"d":"18.64"},{"v":-0.0643942245441815,"d":"-6.44%"},{"v":18.1296,"d":"18.13"},{"v":0.11356391309956,"d":"11.36%"},{"v":222.862,"d":"222.8620"},{"v":-0.236624696130648,"d":"-23.66%"},{"v":-0.0275176209327026,"d":"-2.75%"},null,{"v":31.7444,"d":"31.74"},{"v":31.9743,"d":"31.97"},{"v":25.8842,"d":"25.88"},{"v":22.4927,"d":"22.49"},{"v":25.0087,"d":"25.01"},{"v":24.1559,"d":"24.16"},{"v":23.5447,"d":"23.54"},{"v":22.585,"d":"22.59"},{"v":24.4532,"d":"24.45"},{"v":23.8934,"d":"23.89"},{"v":19.9257,"d":"19.93"},{"v":16.2807,"d":"16.28"},{"v":291.9429,"d":"291.94"},{"v":-0.314822972658671,"d":"-31.48%"},null,40.2019,{"v":0.11798338677338,"d":"11.80%"},43.3684,null,40.1391,{"v":56.3415714285714,"d":"5634.16%"},{"v":123.7094,"d":"123.71"},37.9314,{"$f":"(DR54-ER54)/ER54","v":{"v":0.149436363636364,"d":"14.94%"}},35.9593,{"v":-0.122943902439024,"d":"-12.29%"},30.3841,{"v":-0.220920512820513,"d":"-22.09%"},32.6982,{"$f":"(DX54-EX54)/EX54","v":{"v":-0.0917166666666667,"d":"-9.17%"}},33.8099,{"v":-0.1547525,"d":"-15.48%"},34.4339,{"v":-0.117079487179487,"d":"-11.71%"},35.5022,{"$f":"(ED54-FD54)/FD54","v":{"v":-0.116198944981192,"d":"-11.62%"}},{"v":31.218,"d":"31.2180"},{"v":-0.264252197132709,"d":"-26.43%"},30.4375,{"v":-0.275454603883444,"d":"-27.55%"},426.0839,{"v":-0.221493404186627,"d":"-22.15%"},{"v":194,"d":"194.0000"},{"v":-0.00512820512820513,"d":"-0.51%"},{"v":0,"d":"0.0000"},{"v":-1,"d":"-100.00%"},{"v":0.7,"d":"0.7000"},{"v":-0.996517412935323,"d":"-99.65%"},{"v":33,"d":"33.0000"},{"v":-0.796296296296296,"d":"-79.63%"},{"v":41,"d":"41.0000"},{"v":-0.746913580246914,"d":"-74.69%"},{"v":39,"d":"39.0000"},{"v":-0.763636363636364,"d":"-76.36%"},{"v":36,"d":"36.0000"},{"v":-0.77639751552795,"d":"-77.64%"},{"v":40,"d":"40.0000"},{"v":-0.746835443037975,"d":"-74.68%"},{"v":39,"d":"39.0000"},{"v":-0.760736196319018,"d":"-76.07%"},40.1699,{"$f":"(FD54-FU54)/FU54","v":{"v":-0.755061585365854,"d":"-75.51%"}},42.4303,{"v":-0.70737724137931,"d":"-70.74%"},42.0091,{"v":-0.752887647058824,"d":"-75.29%"},547.3093,{"v":-0.740734580767409,"d":"-74.07%"},195,265,201,162,162,165,"161.0000","158.0000","163.0000","164.0000",{"$f":"(FU54-GW54)/GW54","v":{"v":-0.0409356725146199,"d":"-4.09%"}},"145.0000",{"v":-0.0645161290322581,"d":"-6.45%"},"170.0000",{"v":-0.0659340659340659,"d":"-6.59%"},{"v":2111,"d":"2111.00"},{"v":-0.0523858688333258,"d":"-5.24%"},null,null,{"v":199.5,"d":"200"},{"$f":"(GE54-HH54)/HH54","v":{"v":0.00251256281407035,"d":"0.25%"}},273,{"v":0.00367647058823529,"d":"0.37%"},{"v":216.2,"d":"216"},{"v":0.000925925925925873,"d":"0.09%"},172,{"v":0,"d":"0.00%"},172,{"v":0,"d":"0.00%"},177,{"$f":"(GO54-HS54)/HS54","v":{"v":-0.0220994475138122,"d":"-2.21%"}},173,{"v":-0.0225988700564972,"d":"-2.26%"},169,{"v":-0.023121387283237,"d":"-2.31%"},168,{"$f":"(GU54-HY54)/HY54","v":{"v":-0.0232558139534884,"d":"-2.33%"}},171,{"v":-0.0393258426966292,"d":"-3.93%"},155,{"v":-0.0372670807453416,"d":"-3.73%"},182,{"v":-0.037037037037037,"d":"-3.70%"},{"v":2227.7,"d":"2228"},{"v":2227.7,"d":"2228"},{"$nulls":3},199,{"$f":"(HH54-IJ54)/IJ54","v":{"v":0.0205128205128205,"d":"2.05%"}},{"v":272,"d":"272.00"},{"v":0.0149253731343284,"d":"1.49%"},{"v":216,"d":"216.00"},{"v":0.00934579439252336,"d":"0.93%"},{"v":172,"d":"172.00"},{"v":0.0117647058823529,"d":"1.18%"},{"v":172,"d":"172.00"},{"v":0.00584795321637427,"d":"0.58%"},null,{"v":181,"d":"181.00"},{"$f":"(HS54-IT54)/IT54","v":{"v":0.00555555555555556,"d":"0.56%"}},{"v":177,"d":"177.00"},{"v":0.00568181818181818,"d":"0.57%"},{"v":173,"d":"173.00"},{"v":0.00581395348837209,"d":"0.58%"},{"v":172,"d":"172.00"},{"$f":"(HY54-IZ54)/IZ54","v":{"v":0.00584795321637427,"d":"0.58%"}},{"v":178,"d":"178.00"},{"v":0.00564971751412429,"d":"0.56%"},{"v":161,"d":"161.00"},{"v":0.0125786163522013,"d":"1.26%"},{"v":189,"d":"189.00"},{"v":0.0106951871657754,"d":"1.07%"},2262,null,null,195,{"v":0.033395000942805,"d":"3.34%"},268,{"v":0.0346757674699485,"d":"3.47%"},214,{"v":0.0284454813228561,"d":"2.84%"},{"v":170,"d":"170.00"},{"v":0.0302736188097547,"d":"3.03%"},{"v":171,"d":"171.00"},{"v":0.0373517628646295,"d":"3.74%"},{"v":180,"d":"180.00"},{"v":0.0295345617615634,"d":"2.95%"},{"v":176,"d":"176.00"},{"v":0.00915594172697298,"d":"0.92%"},172,{"v":0.0200121716376265,"d":"2.00%"},171,{"v":0.00928525647177859,"d":"0.93%"},177,{"v":0.010848078729971,"d":"1.08%"},159,{"v":0.0143336950141442,"d":"1.43%"},187,{"v":0.00719534519312017,"d":"0.72%"},{"v":2190.45478715167,"d":"2190"},{"v":188.698416212672,"d":"189"},{"v":259.018340262602,"d":"259"},{"v":208.081034810653,"d":"208"},{"v":165.004710298606,"d":"165"},{"v":164.842829714567,"d":"165"},{"v":174.83628688678,"d":"175"},{"v":174.403174695489,"d":"174"},{"v":168.62543877673,"d":"169"},{"v":169.426828444691,"d":"169"},{"v":175.100496033373,"d":"175"},{"v":156.75314818146,"d":"157"},{"v":185.664082834045,"d":"186"}]
[null,"旅客周转量        （万人公里）",524.6797,{"$f":"C55/R55-1","v":{"v":-0.434860554228612,"d":"-43.49%"}},1354.6626,{"v":0.193998307185015,"d":"19.40%"},1233.6733,{"v":0.865993027142717,"d":"86.60%"},2058.7247,{"$f":"I55/X55-1","v":{"v":1.63039569942426,"d":"163.04%"}},1725.1329,{"v":1.89992011965914,"d":"189.99%"},2213.7637,{"v":3.43518874503818,"d":"343.52%"},{"v":9110.6369,"d":"9110.64"},{"v":0.980230659226389,"d":"98.02%"},null,{"v":928.4075,"d":"928.41"},{"$f":"R55/AS55-1","v":{"v":-0.0713066481863117,"d":"-7.13%"}},{"v":1134.5599,"d":"1134.56"},{"v":-0.0409242111458081,"d":"-4.09%"},661.135,{"v":-0.310430102580999,"d":"-31.04%"},782.6673,{"$f":"X55/AY55-1","v":{"v":0.00708760921669715,"d":"0.71%"}},594.8898,{"v":-0.356617843481007,"d":"-35.66%"},499.1363,{"v":-0.327780846904906,"d":"-32.78%"},977.6583,{"$f":"AD55/BE55-1","v":{"v":0.457234665628856,"d":"45.72%"}},992.5601,{"v":0.230806746520624,"d":"23.08%"},754.3291,{"v":0.016229952528817,"d":"1.62%"},935.997,{"$f":"AJ55/BK55-1","v":{"v":0.222328407264415,"d":"22.23%"}},601.1448,{"v":-0.184615543208222,"d":"-18.46%"},420.0929,{"v":0.0282324456509635,"d":"2.82%"},{"v":9282.578,"d":"9282.58"},{"v":-0.0446985423771099,"d":"-4.47%"},null,{"v":999.6922,"d":"999.69"},{"v":0.266144449248831,"d":"26.61%"},1182.9721,{"$f":"AU55/BV55-1","v":{"v":0.450817891814999,"d":"45.08%"}},958.7643,{"v":0.286370087481253,"d":"28.64%"},{"v":777.1591,"d":"777.16"},{"v":0.0412248675054692,"d":"4.12%"},{"v":924.629,"d":"924.63"},{"$f":"BA55/CB55-1","v":{"v":0.151394399985555,"d":"15.14%"}},{"v":742.5202,"d":"742.52"},{"v":-0.157042606732532,"d":"-15.70%"},{"v":670.8997,"d":"670.90"},{"v":-0.316560901133548,"d":"-31.66%"},{"v":806.4305,"d":"806.43"},{"$f":"BG55/CH55-1","v":{"v":-0.199386676348321,"d":"-19.94%"}},{"v":742.2819,"d":"742.28"},{"v":-0.284442111998964,"d":"-28.44%"},{"v":765.7492,"d":"765.75"},{"v":-0.159289799778467,"d":"-15.93%"},{"v":737.2532,"d":"737.25"},{"v":-0.213913201466801,"d":"-21.39%"},{"v":408.5583,"d":"408.56"},{"v":-0.600011767864097,"d":"-60.00%"},{"v":9716.9097,"d":"9716.91"},{"v":-0.0899180897127316,"d":"-8.99%"},null,{"v":789.5562,"d":"789.56"},{"v":-0.503284037075336,"d":"-50.33%"},{"v":815.3829,"d":"815.38"},{"v":-0.519668610339276,"d":"-51.97%"},{"v":745.3254,"d":"745.33"},{"v":-0.373600598055312,"d":"-37.36%"},746.3893,{"v":-0.281430270780672,"d":"-28.14%"},803.0515,{"v":-0.272324807574876,"d":"-27.23%"},880.8514,{"v":-0.165636734620806,"d":"-16.56%"},981.6525,{"v":-0.0474451917282763,"d":"-4.74%"},{"v":1007.2659,"d":"1007.27"},{"v":0.0293315781067158,"d":"2.93%"},{"v":1037.3471,"d":"1037.35"},{"v":-0.0403849793626923,"d":"-4.04%"},{"v":910.8361,"d":"910.84"},{"v":-0.1191146195549,"d":"-11.91%"},{"v":937.8776,"d":"937.88"},{"v":0.106093779981501,"d":"10.61%"},{"v":1021.4258,"d":"1021.43"},{"v":0.399799231048062,"d":"39.98%"},10676.9617,{"v":-0.201823713391951,"d":"-20.18%"},{"v":0.0890822000653391,"d":"8.91%"},null,{"v":1589.5527,"d":"1589.55"},{"v":1697.5424,"d":"1697.54"},{"v":1189.8565,"d":"1189.86"},{"v":1038.7152,"d":"1038.72"},{"v":1103.5851,"d":"1103.59"},{"v":1055.7169,"d":"1055.72"},{"v":1030.547,"d":"1030.55"},{"v":978.5631,"d":"978.56"},{"v":1081.0034,"d":"1081.00"},{"v":1034.0007,"d":"1034.00"},{"v":847.9187,"d":"847.92"},{"v":729.6945,"d":"729.69"},{"v":13376.6962,"d":"13376.70"},{"v":-0.336901818145766,"d":"-33.69%"},null,{"v":1916.7306,"d":"1,916.73"},{"v":0.0660444808259386,"d":"6.60%"},1957.7134,null,1901.5511,{"v":4.35648197183099,"d":"435.65%"},{"v":5775.9951,"d":"5776.00"},1796.9656,{"$f":"(DR55-ER55)/ER55","v":{"v":0.265468732394366,"d":"26.55%"}},1797.9837,{"v":-0.00663883977900553,"d":"-0.66%"},1367.7762,{"v":-0.200130877192982,"d":"-20.01%"},{"v":1497.037,"d":"1497.0370"},{"$f":"(DX55-EX55)/EX55","v":{"v":-0.0927048484848485,"d":"-9.27%"}},1682.8486,{"v":-0.0383722285714286,"d":"-3.84%"},1688.1874,{"v":-0.0184956976744186,"d":"-1.85%"},1722.4508,{"$f":"(ED55-FD55)/FD55","v":{"v":-0.0394856023840844,"d":"-3.95%"}},1430.8218,{"v":-0.25310005994214,"d":"-25.31%"},1412.9588,{"v":-0.270368103054086,"d":"-27.04%"},{"v":20173.025,"d":"20173.0250"},{"v":-0.135706354642066,"d":"-13.57%"},{"v":7280,"d":"7280.0000"},{"v":-0.00137174211248285,"d":"-0.14%"},{"v":0,"d":"0.0000"},{"v":-1,"d":"-100.00%"},{"v":355,"d":"355.0000"},{"v":-0.956441717791411,"d":"-95.64%"},{"v":1420,"d":"1420.0000"},{"v":-0.79129923574368,"d":"-79.13%"},{"v":1810,"d":"1810.0000"},{"v":-0.772898368883312,"d":"-77.29%"},{"v":1710,"d":"1710.0000"},{"v":-0.759831460674157,"d":"-75.98%"},{"v":1650,"d":"1650.0000"},{"v":-0.772099447513812,"d":"-77.21%"},{"v":1750,"d":"1750.0000"},{"v":-0.753867791842475,"d":"-75.39%"},{"v":1720,"d":"1720.0000"},{"v":-0.787654320987654,"d":"-78.77%"},1793.2587,{"$f":"(FD55-FU55)/FU55","v":{"v":-0.750242520891365,"d":"-75.02%"}},1915.6807,{"v":-0.691268219178082,"d":"-69.13%"},1936.5365,{"v":-0.756410503144654,"d":"-75.64%"},23340.4759,{"v":-0.74454710131445,"d":"-74.45%"},7290,10250,8150,6804,7970,7120,"7,240.0000","7,110.0000","8,100.0000","7,180.0000",{"$f":"(FU55-GW55)/GW55","v":{"v":-0.0459739569492426,"d":"-4.60%"}},"6,205.0000",{"v":-0.0669172932330827,"d":"-6.69%"},"7,950.0000",{"v":-0.253521126760563,"d":"-25.35%"},{"v":91369,"d":"91369.00"},{"v":-0.0753061431029248,"d":"-7.53%"},null,null,7461,{"$f":"(GE55-HH55)/HH55","v":{"v":0.00988088792636708,"d":"0.99%"}},10495,{"v":0.00401798526738735,"d":"0.40%"},8640,{"v":0.000115754138210441,"d":"0.01%"},7375,{"v":0.00203804347826087,"d":"0.20%"},8523,{"v":1.88080404372869E-3,"d":"0.19%"},7495,{"$f":"(GO55-HS55)/HS55","v":{"v":-0.0366323907455013,"d":"-3.66%"}},7895,{"v":-0.0305746561886051,"d":"-3.06%"},7750,{"v":-0.0256474729695751,"d":"-2.56%"},8350,{"$f":"(GU55-HY55)/HY55","v":{"v":-0.0260118978187332,"d":"-2.60%"}},7526,{"v":-0.0394384173580089,"d":"-3.94%"},6650,{"v":-0.0369297610427227,"d":"-3.69%"},10650,{"v":-0.0418353576248313,"d":"-4.18%"},98810,98810,{"$nulls":3},7388,{"$f":"(HH55-IJ55)/IJ55","v":{"v":0.0198785201546107,"d":"1.99%"}},{"v":10453,"d":"10453.00"},{"v":0.0129857544335691,"d":"1.30%"},{"v":8639,"d":"8639.00"},{"v":0.0099368716389993,"d":"0.99%"},{"v":7360,"d":"7360.00"},{"v":0.014892443463872,"d":"1.49%"},{"v":8507,"d":"8507.00"},{"v":5.79333175691653E-3,"d":"0.58%"},null,{"v":7780,"d":"7780.00"},{"$f":"(HS55-IT55)/IT55","v":{"v":0.00907911802853437,"d":"0.91%"}},{"v":8144,"d":"8144.00"},{"v":0.00568041491726352,"d":"0.57%"},{"v":7954,"d":"7954.00"},{"v":0.00581689428426909,"d":"0.58%"},{"v":8573,"d":"8573.00"},{"$f":"(HY55-IZ55)/IZ55","v":{"v":0.00586647893934061,"d":"0.59%"}},{"v":7835,"d":"7835.00"},{"v":0.0056475420356822,"d":"0.56%"},{"v":6905,"d":"6905.00"},{"v":0.0124633431085044,"d":"1.25%"},{"v":11115,"d":"11115.00"},{"v":0.0110979714363686,"d":"1.11%"},100653,null,null,7244,{"v":0.0300073027139194,"d":"3.00%"},10319,{"v":0.0399314926009842,"d":"3.99%"},8554,{"v":0.0299577786594273,"d":"3.00%"},{"v":7252,"d":"7252.00"},{"v":0.0299397060285113,"d":"2.99%"},{"v":8458,"d":"8458.00"},{"v":0.0305357460441051,"d":"3.05%"},{"v":7710,"d":"7710.00"},{"v":0.0300549619048246,"d":"3.01%"},{"v":8098,"d":"8098.00"},{"v":0.0200081712761245,"d":"2.00%"},{"v":7908,"d":"7,908.00"},{"v":0.0200200497437906,"d":"2.00%"},{"v":8523,"d":"8,523.00"},{"v":0.0130139137824106,"d":"1.30%"},{"v":7791,"d":"7,791.00"},{"v":0.0149585439482283,"d":"1.50%"},{"v":6820,"d":"6,820.00"},{"v":0.0164251999888937,"d":"1.64%"},{"v":10993,"d":"10,993.00"},{"v":0.00822194518120565,"d":"0.82%"},{"v":97389.298899373,"d":"97389"},{"v":7032.95984495752,"d":"7033"},{"v":9922.76902220841,"d":"9923"},{"v":8305.19481209581,"d":"8305"},{"v":7041.18887499153,"d":"7041"},{"v":8207.38148333771,"d":"8207"},{"v":7485.03748357497,"d":"7485"},{"v":7939.15208529031,"d":"7939"},{"v":7752.78878291298,"d":"7753"},{"v":8413.50734085839,"d":"8414"},{"v":7676.17559008145,"d":"7676"},{"v":6709.79035159156,"d":"6710"},{"v":10903.3532274724,"d":"10903"}]
["林区","客运量            （万人）",5.8705,{"$f":"C56/R56-1","v":{"v":-0.364822609090811,"d":"-36.48%"}},15.4874,{"v":1.02937784999214,"d":"102.94%"},2.543,{"v":-0.236129884953891,"d":"-23.61%"},4.9911,{"$f":"I56/X56-1","v":{"v":-0.425273194154969,"d":"-42.53%"}},7.1112,{"v":-0.303151458137347,"d":"-30.32%"},3.146,{"v":-0.548085901027078,"d":"-54.81%"},{"v":39.1492,"d":"39.15"},{"v":-0.149920961662063,"d":"-14.99%"},null,{"v":9.2423,"d":"9.24"},{"$f":"R56/AS56-1","v":{"v":0.555733234581201,"d":"55.57%"}},{"v":7.6316,"d":"7.63"},{"v":-0.0245910020449898,"d":"-2.46%"},3.3291,{"v":0.341189267585207,"d":"34.12%"},8.6843,{"$f":"X56/AY56-1","v":{"v":0.602358064099489,"d":"60.24%"}},10.2048,{"v":0.250818165103879,"d":"25.08%"},6.9615,{"v":0.0655900811265879,"d":"6.56%"},20.731,{"$f":"AD56/BE56-1","v":{"v":0.362420562160315,"d":"36.24%"}},26.0203,{"v":-0.162575068068152,"d":"-16.26%"},6.3018,{"v":0.034506533587235,"d":"3.45%"},6.5631,{"$f":"AJ56/BK56-1","v":{"v":-0.383393305085542,"d":"-38.34%"}},3.6566,{"v":0.287671232876712,"d":"28.77%"},2.5061,{"v":-0.110491942926102,"d":"-11.05%"},{"v":111.8325,"d":"111.83"},{"v":0.0646769910956799,"d":"6.47%"},null,{"v":5.9408,"d":"5.94"},{"v":1.01786624095649,"d":"101.79%"},7.824,{"$f":"AU56/BV56-1","v":{"v":2.72660157180281,"d":"272.66%"}},2.4822,{"v":-0.126108998732573,"d":"-12.61%"},{"v":5.4197,"d":"5.42"},{"v":-0.113631531605201,"d":"-11.36%"},{"v":8.1585,"d":"8.16"},{"$f":"BA56/CB56-1","v":{"v":-0.0472381174821909,"d":"-4.72%"}},{"v":6.533,"d":"6.53"},{"v":0.0847114298997145,"d":"8.47%"},{"v":15.2163,"d":"15.22"},{"v":-0.11240025199496,"d":"-11.24%"},{"v":31.0718,"d":"31.07"},{"$f":"BG56/CH56-1","v":{"v":0.188305032889705,"d":"18.83%"}},{"v":6.0916,"d":"6.09"},{"v":0.064425378741547,"d":"6.44%"},{"v":10.6439,"d":"10.64"},{"v":0.0934090769009512,"d":"9.34%"},{"v":2.8397,"d":"2.84"},{"v":-0.522554937202616,"d":"-52.26%"},{"v":2.8174,"d":"2.82"},{"v":0.442527264348984,"d":"44.25%"},{"v":105.0389,"d":"105.04"},{"v":0.102958193414523,"d":"10.30%"},null,{"v":2.9441,"d":"2.94"},{"v":0.699630527652696,"d":"69.96%"},{"v":2.0995,"d":"2.10"},{"v":0.040695945276098,"d":"4.07%"},{"v":2.8404,"d":"2.84"},{"v":1.71756601607348,"d":"171.76%"},6.1145,{"v":8.87164998385534,"d":"887.16%"},{"v":8.563,"d":"8.5630"},{"v":4.86265918115843,"d":"486.27%"},6.0228,{"v":0.200813461998564,"d":"20.08%"},17.1432,{"v":-0.463342557693993,"d":"-46.33%"},{"v":26.148,"d":"26.15"},{"v":0.108130443074185,"d":"10.81%"},{"v":5.7229,"d":"5.72"},{"v":1.21525896105907,"d":"121.53%"},{"v":9.7346,"d":"9.73"},{"v":3.71843342542775,"d":"371.84%"},{"v":5.9477,"d":"5.95"},{"v":9.80417801998184,"d":"980.42%"},{"v":1.9531,"d":"1.95"},{"v":2.63502698678578,"d":"263.50%"},95.2338,{"v":0.301619886941404,"d":"30.16%"},{"v":-0.671620962725087,"d":"-67.16%"},null,{"v":1.7322,"d":"1.73"},{"v":2.0174,"d":"2.02"},{"v":1.0452,"d":"1.05"},{"v":0.6194,"d":"0.62"},{"v":1.4606,"d":"1.46"},{"v":5.0156,"d":"5.02"},{"v":31.9444,"d":"31.94"},{"v":23.5965,"d":"23.60"},{"v":2.5834,"d":"2.58"},{"v":2.0631,"d":"2.06"},{"v":0.5505,"d":"0.55"},{"v":0.5373,"d":"0.54"},{"v":73.1656,"d":"73.17"},{"v":0.127977750507212,"d":"12.80%"},null,1.9553,{"v":-0.842568438003221,"d":"-84.26%"},{"v":1.9,"d":"1.9000"},null,2.6359,{"v":76.5264705882353,"d":"7652.65%"},{"v":6.4912,"d":"6.49"},{"v":6.22,"d":"6.2200"},{"$f":"(DR56-ER56)/ER56","v":{"v":3.4113475177305,"d":"341.13%"}},{"v":12.42,"d":"12.4200"},{"v":3.40425531914894,"d":"340.43%"},7.0882,{"v":1.44420689655172,"d":"144.42%"},12.2885,{"$f":"(DX56-EX56)/EX56","v":{"v":6.6803125,"d":"668.03%"}},2.9074,{"v":-0.828775029446408,"d":"-82.88%"},3.3063,{"v":-0.763666904932094,"d":"-76.37%"},10.4172,{"$f":"(ED56-FD56)/FD56","v":{"v":0.0728321318228629,"d":"7.28%"}},1.9171,{"v":-0.792745945945946,"d":"-79.27%"},1.8085,{"v":-0.569302214813051,"d":"-56.93%"},64.8644,{"v":-0.420299750654643,"d":"-42.03%"},{"v":49,"d":"49.0000"},{"v":0,"d":"0.00%"},{"v":0,"d":"0.0000"},{"v":-1,"d":"-100.00%"},{"v":0.034,"d":"0.0340"},{"v":-0.999358490566038,"d":"-99.94%"},{"v":1.41,"d":"1.4100"},{"v":-0.968666666666667,"d":"-96.87%"},{"v":2.82,"d":"2.8200"},{"v":-0.937333333333333,"d":"-93.73%"},{"v":2.9,"d":"2.9000"},{"v":-0.938297872340426,"d":"-93.83%"},{"v":1.6,"d":"1.6000"},{"v":-0.965217391304348,"d":"-96.52%"},{"v":16.98,"d":"16.9800"},{"v":-0.622666666666667,"d":"-62.27%"},{"v":13.99,"d":"13.9900"},{"v":-0.68561797752809,"d":"-68.56%"},{"v":9.71,"d":"9.7100"},{"$f":"(FD56-FU56)/FU56","v":{"v":-0.793404255319149,"d":"-79.34%"}},{"v":9.25,"d":"9.2500"},{"v":-0.779761904761905,"d":"-77.98%"},{"v":4.199,"d":"4.1990"},{"v":-0.912520833333333,"d":"-91.25%"},{"v":111.893,"d":"111.8930"},{"v":-0.804211723534558,"d":"-80.42%"},49,60,53,45,45,47,"46.0000","45.0000","44.5000","47.0000",{"$f":"(FU56-GW56)/GW56","v":{"v":0,"d":"0.00%"}},"42.0000",{"v":0,"d":"0.00%"},"48.0000",{"v":-0.0204081632653061,"d":"-2.04%"},{"v":571.5,"d":"571.50"},{"v":-0.0180412371134021,"d":"-1.80%"},null,null,49,{"$f":"(GE56-HH56)/HH56","v":{"v":0,"d":"0.00%"}},67,{"v":-0.0147058823529412,"d":"-1.47%"},55,{"v":0,"d":"0.00%"},45,{"v":0,"d":"0.00%"},45,{"v":0,"d":"0.00%"},47,{"$f":"(GO56-HS56)/HS56","v":{"v":0,"d":"0.00%"}},46,{"v":0,"d":"0.00%"},45,{"v":0,"d":"0.00%"},45,{"$f":"(GU56-HY56)/HY56","v":{"v":0,"d":"0.00%"}},47,{"v":0,"d":"0.00%"},42,{"v":0,"d":"0.00%"},49,{"v":0,"d":"0.00%"},582,582,{"$nulls":3},49,{"$f":"(HH56-IJ56)/IJ56","v":{"v":0.0103092783505155,"d":"1.03%"}},{"v":68,"d":"68.00"},{"v":0.0149253731343284,"d":"1.49%"},{"v":55,"d":"55.00"},{"v":0,"d":"0.00%"},{"v":45,"d":"45.00"},{"v":0.0227272727272727,"d":"2.27%"},{"v":45,"d":"45.00"},{"v":0.0227272727272727,"d":"2.27%"},null,{"v":47,"d":"47.00"},{"$f":"(HS56-IT56)/IT56","v":{"v":0.0217391304347826,"d":"2.17%"}},{"v":46,"d":"46.00"},{"v":0,"d":"0.00%"},{"v":45,"d":"45.00"},{"v":0,"d":"0.00%"},{"v":45,"d":"45.00"},{"$f":"(HY56-IZ56)/IZ56","v":{"v":0,"d":"0.00%"}},{"v":47,"d":"47.00"},{"v":0,"d":"0.00%"},{"v":42,"d":"42.00"},{"v":0.024390243902439,"d":"2.44%"},{"v":49,"d":"49.00"},{"v":0,"d":"0.00%"},583,null,null,{"v":48.5,"d":"49"},{"v":1.81890842564503E-3,"d":"0.18%"},67,{"v":0.00677598295760795,"d":"0.68%"},55,{"v":0.0287376367435989,"d":"2.87%"},{"v":44,"d":"44.00"},{"v":0.0272667457723785,"d":"2.73%"},{"v":44,"d":"44.00"},{"v":0.0222988250747499,"d":"2.23%"},{"v":46,"d":"46.00"},{"v":0.0213762837699203,"d":"2.14%"},{"v":46,"d":"46.00"},{"v":0.0214086311563004,"d":"2.14%"},45,{"v":0.0305028538913242,"d":"3.05%"},45,{"v":0.0250308142425082,"d":"2.50%"},47,{"v":0.0282287944583536,"d":"2.82%"},41,{"v":0.00832223515450897,"d":"0.83%"},49,{"v":0.0258719065554706,"d":"2.59%"},{"v":566.074710308839,"d":"566"},{"v":48.4119431087776,"d":"48"},{"v":66.5490646719382,"d":"67"},{"v":53.4635829734964,"d":"53"},{"v":42.8321078055704,"d":"43"},{"v":43.0402529287684,"d":"43"},{"v":45.0372705250342,"d":"45"},{"v":45.0358442222336,"d":"45"},{"v":43.668001335536,"d":"44"},{"v":43.9011192392833,"d":"44"},{"v":45.7096710900403,"d":"46"},{"v":40.66160456505,"d":"41"},{"v":47.7642478431107,"d":"48"}]
[null,"旅客周转量        （万人公里）",265.8931,{"$f":"C57/R57-1","v":{"v":-0.333669055228967,"d":"-33.37%"}},624.3892,{"v":0.843002623165857,"d":"84.30%"},137.2869,{"v":-0.154370192061901,"d":"-15.44%"},237.1374,{"$f":"I57/X57-1","v":{"v":-0.164315006725657,"d":"-16.43%"}},292.4533,{"v":-0.221377181723377,"d":"-22.14%"},196.8723,{"v":-0.295899404953074,"d":"-29.59%"},{"v":1754.0322,"d":"1754.03"},{"v":-0.0462831280034189,"d":"-4.63%"},null,{"v":399.0406,"d":"399.04"},{"$f":"R57/AS57-1","v":{"v":-0.0299470341764237,"d":"-2.99%"}},{"v":338.7891,"d":"338.79"},{"v":-0.30722126465633,"d":"-30.72%"},162.3487,{"v":0.0786285661134511,"d":"7.86%"},283.7641,{"$f":"X57/AY57-1","v":{"v":0.21818693850812,"d":"21.82%"}},375.6033,{"v":0.181542988472193,"d":"18.15%"},279.6082,{"v":-0.0228641681239402,"d":"-2.29%"},625.9363,{"$f":"AD57/BE57-1","v":{"v":0.289025405857796,"d":"28.90%"}},795.8587,{"v":0.0312134808195872,"d":"3.12%"},275.5023,{"v":0.0907029729820679,"d":"9.07%"},244.5013,{"$f":"AJ57/BK57-1","v":{"v":-0.345122055743343,"d":"-34.51%"}},179.5328,{"v":0.194482830200856,"d":"19.45%"},161.6252,{"v":0.0860821060256736,"d":"8.61%"},{"v":4122.1106,"d":"4122.11"},{"v":0.0127275455680773,"d":"1.27%"},null,{"v":411.3596,"d":"411.36"},{"v":1.50896644095543,"d":"150.90%"},489.0293,{"$f":"AU57/BV57-1","v":{"v":2.35202977575647,"d":"235.20%"}},150.514,{"v":-0.0346394312791345,"d":"-3.46%"},{"v":232.9397,"d":"232.94"},{"v":-0.0510708972430752,"d":"-5.11%"},{"v":317.8922,"d":"317.89"},{"$f":"BA57/CB57-1","v":{"v":0.0436073786395019,"d":"4.36%"}},{"v":286.1508,"d":"286.15"},{"v":0.200987144458015,"d":"20.10%"},{"v":485.5888,"d":"485.59"},{"v":-0.140347066322443,"d":"-14.03%"},{"v":771.7691,"d":"771.77"},{"$f":"BG57/CH57-1","v":{"v":-0.0275385938234762,"d":"-2.75%"}},{"v":252.5915,"d":"252.59"},{"v":-3.57950271184604E-3,"d":"-0.36%"},{"v":373.354,"d":"373.35"},{"v":0.0152568339771699,"d":"1.53%"},{"v":150.3017,"d":"150.30"},{"v":-0.458974496497412,"d":"-45.90%"},{"v":148.8149,"d":"148.81"},{"v":0.23141600316429,"d":"23.14%"},{"v":4070.3056,"d":"4070.31"},{"v":0.120524659079128,"d":"12.05%"},null,{"v":163.9558,"d":"163.96"},{"v":0.276809918192048,"d":"27.68%"},{"v":145.8905,"d":"145.89"},{"v":-0.0672374428493884,"d":"-6.72%"},{"v":155.9148,"d":"155.91"},{"v":0.839676606348937,"d":"83.97%"},245.4764,{"v":4.38282942574709,"d":"438.28%"},{"v":304.609,"d":"304.6090"},{"v":2.69738423256661,"d":"269.74%"},{"v":238.263,"d":"238.2630"},{"v":0.0362063131855659,"d":"3.62%"},564.8661,{"v":-0.546345197331203,"d":"-54.63%"},{"v":793.6244,"d":"793.62"},{"v":0.0209023851282149,"d":"2.09%"},{"v":253.4989,"d":"253.50"},{"v":0.693954261031799,"d":"69.40%"},{"v":367.7434,"d":"367.74"},{"v":2.62336256050952,"d":"262.34%"},{"v":277.8089,"d":"277.81"},{"v":5.35565596367006,"d":"535.57%"},{"v":120.8486,"d":"120.85"},{"v":2.17524619281338,"d":"217.52%"},3632.4998,{"v":0.178263242803787,"d":"17.83%"},{"v":-0.564993778097102,"d":"-56.50%"},null,{"v":128.4105,"d":"128.41"},{"v":156.4069,"d":"156.41"},{"v":84.7512,"d":"84.75"},{"v":45.6036,"d":"45.60"},{"v":82.385,"d":"82.39"},{"v":229.9378,"d":"229.94"},{"v":1245.1452,"d":"1245.15"},{"v":777.3754,"d":"777.38"},{"v":149.6492,"d":"149.65"},{"v":101.4923,"d":"101.49"},{"v":43.7105,"d":"43.71"},{"v":38.0596,"d":"38.06"},{"v":3082.9272,"d":"3082.93"},{"v":0.0547923327274721,"d":"5.48%"},null,167.7467,{"v":-0.674682530447599,"d":"-67.47%"},{"v":115.94,"d":"115.9400"},null,{"v":162.652,"d":"162.6520"},{"v":18.0682297772567,"d":"1806.82%"},{"v":446.3387,"d":"446.34"},{"v":312.87,"d":"312.8700"},{"$f":"(DR57-ER57)/ER57","v":{"v":4.66178067318133,"d":"466.18%"}},{"v":515.64,"d":"515.6400"},{"v":4.89302857142857,"d":"489.30%"},300.7018,{"v":3.00029000931223,"d":"300.03%"},477.3823,{"$f":"(DX57-EX57)/EX57","v":{"v":6.18949246987952,"d":"618.95%"}},105.3394,{"v":-0.735971626939369,"d":"-73.60%"},165.1512,{"v":-0.55411539188423,"d":"-55.41%"},360.7186,{"$f":"(ED57-FD57)/FD57","v":{"v":0.345462886982469,"d":"34.55%"}},114.1667,{"v":-0.638827269851313,"d":"-63.88%"},124.4725,{"v":0.19773774814045,"d":"19.77%"},2922.7812,{"v":-0.12026506594894,"d":"-12.03%"},{"v":1572,"d":"1572.0000"},{"v":-1.27064803049555E-3,"d":"-0.13%"},{"v":0,"d":"0.0000"},{"v":-1,"d":"-100.00%"},{"v":8.53,"d":"8.5300"},{"v":-0.995361609570419,"d":"-99.54%"},{"v":55.26,"d":"55.2600"},{"v":-0.965570093457944,"d":"-96.56%"},{"v":87.5,"d":"87.5000"},{"v":-0.953233564938536,"d":"-95.32%"},{"v":75.17,"d":"75.1700"},{"v":-0.95591202346041,"d":"-95.59%"},{"v":66.4,"d":"66.4000"},{"v":-0.962738496071829,"d":"-96.27%"},{"v":398.97,"d":"398.9700"},{"v":-0.772017142857143,"d":"-77.20%"},{"v":370.39,"d":"370.3900"},{"v":-0.802984042553192,"d":"-80.30%"},{"v":268.1,"d":"268.1000"},{"$f":"(FD57-FU57)/FU57","v":{"v":-0.845297172533179,"d":"-84.53%"}},{"v":316.1,"d":"316.1000"},{"v":-0.791353135313531,"d":"-79.14%"},{"v":103.923,"d":"103.9230"},{"v":-0.955512414383562,"d":"-95.55%"},{"v":3322.343,"d":"3322.3430"},{"v":-0.847668821641449,"d":"-84.77%"},1574,2220,1839,1605,1871,1705,"1,782.0000","1,750.0000","1,880.0000","1,733.0000",{"$f":"(FU57-GW57)/GW57","v":{"v":1.15540150202195E-3,"d":"0.12%"}},"1,515.0000",{"v":0.00132187706543291,"d":"0.13%"},"2,336.0000",{"v":-0.0500203334688898,"d":"-5.00%"},{"v":21810,"d":"21810.00"},{"v":-0.00456412596987677,"d":"-0.46%"},null,null,1572,{"$f":"(GE57-HH57)/HH57","v":{"v":0.00063653723742839,"d":"0.06%"}},2149,{"v":-0.0302346570397112,"d":"-3.02%"},1875,{"v":1.06780565936999E-3,"d":"0.11%"},1605,{"v":0.000623441396508728,"d":"0.06%"},1871,{"v":0.16645885286783,"d":"16.65%"},1705,{"$f":"(GO57-HS57)/HS57","v":{"v":0,"d":"0.00%"}},1782,{"v":1.12359550561798E-3,"d":"0.11%"},1750,{"v":1.1441647597254E-3,"d":"0.11%"},1898,{"$f":"(GU57-HY57)/HY57","v":{"v":0,"d":"0.00%"}},1731,{"v":0,"d":"0.00%"},1513,{"v":0,"d":"0.00%"},2459,{"v":0,"d":"0.00%"},21910,21910,{"$nulls":3},1571,{"$f":"(HH57-IJ57)/IJ57","v":{"v":0.0102893890675241,"d":"1.03%"}},{"v":2216,"d":"2216.00"},{"v":0.0100273473108478,"d":"1.00%"},{"v":1873,"d":"1873.00"},{"v":0.00970350404312668,"d":"0.97%"},{"v":1604,"d":"1604.00"},{"v":0.0100755667506297,"d":"1.01%"},{"v":1604,"d":"1604.00"},{"v":0.0100755667506297,"d":"1.01%"},null,{"v":1705,"d":"1705.00"},{"$f":"(HS57-IT57)/IT57","v":{"v":0.0100710900473934,"d":"1.01%"}},{"v":1780,"d":"1780.00"},{"v":0.0102156640181612,"d":"1.02%"},{"v":1748,"d":"1748.00"},{"v":0.0098209127671866,"d":"0.98%"},{"v":1898,"d":"1898.00"},{"$f":"(HY57-IZ57)/IZ57","v":{"v":0.010111761575306,"d":"1.01%"}},{"v":1731,"d":"1731.00"},{"v":0.00991831971995333,"d":"0.99%"},{"v":1513,"d":"1513.00"},{"v":0.0100133511348465,"d":"1.00%"},{"v":2459,"d":"2459.00"},{"v":0.00985626283367557,"d":"0.99%"},21702,null,null,1555,{"v":0.00996715789933678,"d":"1.00%"},2194,{"v":0.0099938682116596,"d":"1.00%"},1855,{"v":0.0202558320846594,"d":"2.03%"},{"v":1588,"d":"1588.00"},{"v":0.0301951477981785,"d":"3.02%"},{"v":1588,"d":"1588.00"},{"v":-0.116186005430213,"d":"-11.62%"},{"v":1688,"d":"1688.00"},{"v":0.0301333769496064,"d":"3.01%"},{"v":1762,"d":"1762.00"},{"v":0.0137871417724791,"d":"1.38%"},{"v":1731,"d":"1,731.00"},{"v":0.0198918274507321,"d":"1.99%"},{"v":1879,"d":"1,879.00"},{"v":0.0201515603547266,"d":"2.02%"},{"v":1714,"d":"1,714.00"},{"v":0.019954769452469,"d":"2.00%"},{"v":1498,"d":"1,498.00"},{"v":0.0198066946907325,"d":"1.98%"},{"v":2435,"d":"2,435.00"},{"v":0.0201261484650706,"d":"2.01%"},{"v":21320.443933902,"d":"21320"},{"v":1539.65402522028,"d":"1540"},{"v":2172.29041586638,"d":"2172"},{"v":1818.17142491578,"d":"1818"},{"v":1541.4555226687,"d":"1541"},{"v":1796.7581524583,"d":"1797"},{"v":1638.62276261589,"d":"1639"},{"v":1738.03743152568,"d":"1738"},{"v":1697.23881828401,"d":"1697"},{"v":1841.88317993322,"d":"1842"},{"v":1680.46667492923,"d":"1680"},{"v":1468.90583068224,"d":"1469"},{"v":2386.95969480227,"d":"2387"}]

{"sheet":"中口径明细","index":3,"n_rows":188,"n_cols":85,"rows_kept":188,"merged":[[0,0,0,1],[0,3,1,3],[0,5,1,5],[0,7,1,7],[0,9,1,9],[0,11,1,11],[0,13,1,13],[0,15,1,15],[0,18,1,18],[0,20,1,20],[0,22,1,22],[0,24,1,24],[0,26,1,26],[0,28,1,28],[0,30,1,30],[0,32,1,32],[0,34,1,34],[0,36,1,36],[0,38,1,38],[0,40,1,40],[0,46,1,46],[0,48,1,48],[0,50,1,50],[0,52,1,52],[0,54,1,54],[0,56,1,56],[0,58,1,58],[0,60,1,60],[0,62,1,62],[1,0,1,1],[2,0,3,0],[2,1,3,1],[2,2,3,2],[2,3,3,3],[2,4,3,4],[2,5,3,5],[2,6,3,6],[2,7,3,7],[2,8,3,8],[2,9,3,9],[2,10,3,10],[2,11,3,11],[2,12,3,12],[2,13,3,13],[2,14,3,14],[2,15,3,15],[2,17,3,17],[2,18,3,18],[2,19,3,19],[2,20,3,20],[2,21,3,21],[2,22,3,22],[2,23,3,23],[2,24,3,24],[2,25,3,25],[2,26,3,26],[2,27,3,27],[2,28,3,28],[2,29,3,29],[2,30,3,30],[2,31,3,31],[2,32,3,32],[2,33,3,33],[2,34,3,34],[2,35,3,35],[2,36,3,36],[2,37,3,37],[2,38,3,38],[2,39,3,39],[2,40,3,40],[2,41,3,41],[2,42,3,42],[2,45,3,45],[2,46,3,46],[2,47,3,47],[2,48,3,48],[2,49,3,49],[2,50,3,50],[2,51,3,51],[2,52,3,52],[2,53,3,53],[2,54,3,54],[2,55,3,55],[2,56,3,56],[2,57,3,57],[2,58,3,58],[2,59,3,59],[2,60,3,60],[2,61,3,61],[2,62,3,62],[2,63,3,63],[2,64,3,64],[2,65,3,65],[2,66,3,66],[2,67,3,67],[2,68,3,68],[2,69,3,69],[2,70,3,70],[2,72,3,72],[2,73,3,73],[2,74,3,74],[2,75,3,75],[2,76,3,76],[2,77,3,77],[2,78,3,78],[2,79,3,79],[2,80,3,80],[2,81,3,81],[2,82,3,82],[2,83,3,83],[2,84,3,84],[4,0,8,0],[9,0,13,0],[14,0,18,0],[19,0,23,0],[24,0,28,0],[29,0,33,0],[34,0,38,0],[39,0,43,0],[44,0,48,0],[49,0,53,0],[54,0,58,0],[59,0,63,0],[64,0,68,0],[69,0,73,0],[74,0,78,0],[79,0,83,0],[84,0,88,0],[89,0,93,0],[94,0,94,1],[95,0,95,1],[96,0,97,0],[96,1,97,1],[96,2,97,2],[96,3,97,3],[96,4,97,4],[96,5,97,5],[96,6,97,6],[96,7,97,7],[96,8,97,8],[96,9,97,9],[96,10,97,10],[96,11,97,11],[96,12,97,12],[96,13,97,13],[96,14,97,14],[96,15,97,15],[96,17,97,17],[96,18,97,18],[96,19,97,19],[96,20,97,20],[96,21,97,21],[96,22,97,22],[96,23,97,23],[96,24,97,24],[96,25,97,25],[96,26,97,26],[96,27,97,27],[96,28,97,28],[96,29,97,29],[96,30,97,30],[96,31,97,31],[96,32,97,32],[96,33,97,33],[96,34,97,34],[96,35,97,35],[96,36,97,36],[96,37,97,37],[96,38,97,38],[96,39,97,39],[96,40,97,40],[96,41,97,41],[96,42,97,42],[96,44,97,44],[96,45,97,45],[96,46,97,46],[96,47,97,47],[96,48,97,48],[96,49,97,49],[96,50,97,50],[96,51,97,51],[96,52,97,52],[96,53,97,53],[96,54,97,54],[96,55,97,55],[96,56,97,56],[96,57,97,57],[96,58,97,58],[96,59,97,59],[96,60,97,60],[96,61,97,61],[96,62,97,62],[96,63,97,63],[96,64,97,64],[96,65,97,65],[96,66,97,66],[96,67,97,67],[96,68,97,68],[96,69,97,69],[96,70,97,70],[96,72,97,72],[96,73,97,73],[96,74,97,74],[96,75,97,75],[96,76,97,76],[96,77,97,77],[96,78,97,78],[96,79,97,79],[96,80,97,80],[96,81,97,81],[96,82,97,82],[96,83,97,83],[96,84,97,84],[98,0,102,0],[103,0,107,0],[108,0,112,0],[113,0,117,0],[118,0,122,0],[123,0,127,0],[128,0,132,0],[133,0,137,0],[138,0,142,0],[143,0,147,0],[148,0,152,0],[153,0,157,0],[158,0,162,0],[163,0,167,0],[168,0,172,0],[173,0,177,0],[178,0,182,0],[183,0,187,0]]}
["中口径客运量",{"$nulls":13},{"$f":"O5-([1]网约车!O5-[1]网约车!O7)-([1]出租!O5-[1]出租!O7)-([1]公交!O5-[1]公交!O7)-[1]班线包车!O4","v":0},{"$nulls":26},{"$f":"AP5-([1]网约车!AP5-[1]网约车!AP7)-([1]出租!AP5-[1]出租!AP7)-([1]公交!AP5-[1]公交!AP7)-[1]班线包车!AP4","v":0}]
["注：中口径客运量由公路班线、城际城乡公交、城际城乡出租、城际城乡网约车客运量四部分构成",{"$nulls":13},{"$f":"O99-[1]网约车!O6+[1]网约车!O8-[1]出租!O6+[1]出租!O8-[1]公交!O6+[1]公交!O8-[1]班线包车!O5","v":0},{"$nulls":26},{"$f":"AP99-[1]网约车!AP6+[1]网约车!AP8-[1]出租!AP6+[1]出租!AP8-[1]公交!AP6+[1]公交!AP8-[1]班线包车!AP5","v":0}]
["地区 名称","指标","2026年1月","1月同比","2026年2月","2月同比","2026年3月","3月同比","2026年4月","4月同比","2026年5月","5月同比","2026年6月","6月同比","累计","累计同比",null,"2025年1月","同比","2025年2月","同比","2025年3月","同比","2025年4月","同比","2025年5月","同比","2025年6月","同比","2025年7月","同比","2025年8月","同比","2025年9月","同比","2025年10月","同比","2025年11月","同比","2025年12月","同比","2025年累计","累计同比",null,null,"2024年1月","1月与去年同比","2024年2月","2月与去年同比","2024年3月","3月与去年同比","2024年4月","4月与去年同比","2024年5月","5月与去年同比","2024年6月","6月与去年同比","2024年7月","7月与去年同比","2024年8月","8月与去年同比","2024年9月","9月与去年同比","2024年10月","10月与去年同比","2024年11月","11月与去年同比","2024年12月","12月与去年同比","累计","累计同比",null,"2023年1月","2023年2月","2023年3月","2023年4月","2023年5月","2023年6月","2023年7月","2023年8月","2023年9月","2023年10月","2023年11月","2023年12月","累计"]
[{"$nulls":44},{"$f":"AS5-AS9-[1]公交!#REF!-[1]出租!#REF!-[1]班线包车!AR4","v":{"$error":"#REF!"}}]
["全省","总客运量（万人次）",{"$f":"C6+C7+C8+C9","v":{"v":3733.7901,"d":"3733.79"}},{"$f":"C5/R5-1","v":{"v":0.103348196964459,"d":"10.33%"}},{"v":3777.8315,"d":"3777.83"},{"v":0.089489584528351,"d":"8.95%"},{"v":3874.4357,"d":"3874.44"},{"v":0.0916243146312681,"d":"9.16%"},{"$f":"I6+I7+I8+I9","v":{"v":3959.2493,"d":"3959.25"}},{"$f":"I5/X5-1","v":{"v":0.0592090542091477,"d":"5.92%"}},{"v":4115.86990000001,"d":"4115.87"},{"v":0.0495307205006261,"d":"4.95%"},{"v":4034.9928,"d":"4034.99"},{"v":0.0783548749023262,"d":"7.84%"},{"$f":"E5+C5+G5+I5+K5+M5","v":{"v":23496.1693,"d":"23496.17"}},{"$f":"O5/SUM(R5,T5,V5,X5,Z5,AB5)-1","v":{"v":0.0776981366611476,"d":"7.77%"}},null,{"$f":"R6+R7+R8+R9","v":{"v":3384.0542,"d":"3384.05"}},{"$f":"R5/AT5-1","v":{"v":0.0870706167944382,"d":"8.71%"}},{"v":3467.5242,"d":"3467.52"},{"v":0.165219866297203,"d":"16.52%"},{"v":3549.2391,"d":"3549.24"},{"v":0.179696134869173,"d":"17.97%"},{"$f":"X6+X7+X8+X9","v":3737.93},{"$f":"X5/AZ5-1","v":{"v":0.173963219213156,"d":"17.40%"}},{"v":3921.6288,"d":"3921.63"},{"v":0.201494761743739,"d":"20.15%"},{"v":3741.8042,"d":"3741.80"},{"v":0.178127643113555,"d":"17.81%"},{"$f":"AD6+AD7+AD8+AD9","v":{"v":3964.0081,"d":"3964.01"}},{"$f":"AD5/BF5-1","v":{"v":0.22492765324458,"d":"22.49%"}},{"v":4030.5173,"d":"4030.52"},{"v":0.238128029722072,"d":"23.81%"},{"v":3878.9901,"d":"3878.99"},{"v":0.214922842336627,"d":"21.49%"},{"$f":"AJ6+AJ7+AJ8+AJ9","v":{"v":4073.2831,"d":"4073.28"}},{"$f":"AJ5/BL5-1","v":{"v":0.121444863520036,"d":"12.14%"}},{"v":3878.067,"d":"3878.07"},{"v":0.127148560758173,"d":"12.71%"},{"v":3848.348,"d":"3848.35"},{"v":0.176515187321396,"d":"17.65%"},{"$f":"T5+R5+V5+X5+Z5+AB5+AD5+AF5+AH5+AJ5+AL5+AN5","v":{"v":45475.3941,"d":"45475.39"}},{"$f":"AP5/SUM(AT5,AV5,AX5,AZ5,BB5,BD5,BF5,BH5,BJ5,BL5,BN5,BP5)-1","v":{"v":0.173574090997452,"d":"17.36%"}},null,{"$f":"AT5+AV5+AX5+AZ5+BB5+BD5+BF5+BH5+BJ5+BL5+BN5","v":{"v":35478.5153,"d":"35478.52"}},{"$f":"AT6+AT7+AT8+AT9","v":{"v":3113.0031,"d":"3113.00"}},{"$f":"AT5/BU5-1","v":{"v":0.156836815155982,"d":"15.68%"}},{"v":2975.854,"d":"2975.85"},{"$f":"AV5/BV5-1","v":{"v":6.99939209204414E-4,"d":"0.07%"}},{"v":3008.6045,"d":"3008.60"},{"$f":"AX5/BW5-1","v":{"v":-0.0633996487271412,"d":"-6.34%"}},{"$f":"AZ6+AZ7+AZ8+AZ9","v":{"v":3184.0265,"d":"3184.03"}},{"$f":"AZ5/BX5-1","v":{"v":-0.0353789400799289,"d":"-3.54%"}},{"v":3263.9583,"d":"3263.96"},{"$f":"BB5/BY5-1","v":{"v":-0.0145884436738164,"d":"-1.46%"}},{"v":3176.0601,"d":"3176.06"},{"$f":"BD5/BZ5-1","v":{"v":-0.0196211580394804,"d":"-1.96%"}},{"$f":"BF6+BF7+BF8+BF9","v":{"v":3236.1161,"d":"3236.12"}},{"$f":"BF5/CA5-1","v":{"v":-0.0276018357473493,"d":"-2.76%"}},{"v":3255.3316,"d":"3255.33"},{"$f":"BH5/CB5-1","v":{"v":-0.0283510809590032,"d":"-2.84%"}},{"v":3192.7872,"d":"3192.79"},{"$f":"BJ5/CC5-1","v":{"v":-0.0090492896601081,"d":"-0.90%"}},{"$f":"BL6+BL7+BL8+BL9","v":{"v":3632.1742,"d":"3632.17"}},{"$f":"BL5/CD5-1","v":{"v":0.0970875293710554,"d":"9.71%"}},{"v":3440.5997,"d":"3440.60"},{"$f":"BN5/CE5-1","v":{"v":0.0747531052373809,"d":"7.48%"}},{"v":3270.9718,"d":"3270.97"},{"$f":"BP5/CF5-1","v":{"v":0.0267774633242501,"d":"2.68%"}},{"$f":"AT5+AV5+AX5+AZ5+BB5+BD5+BF5+BH5+BJ5+BL5+BN5+BP5","v":{"v":38749.4871,"d":"38749.49"}},{"$f":"BR5/CG5-1","v":{"v":0.0110062799130159,"d":"1.10%"}},null,{"$f":"BU6+BU7+BU8+BU9","v":{"v":2690.9613,"d":"2690.96"}},{"v":2973.77254,"d":"2973.77"},{"v":3212.2607,"d":"3212.26"},{"v":3300.8055,"d":"3300.81"},{"v":3312.2793,"d":"3312.28"},{"v":3239.6253,"d":"3239.63"},{"v":3327.9743,"d":"3327.97"},{"v":3350.3167,"d":"3350.32"},{"v":3221.9435,"d":"3221.94"},{"v":3310.7424,"d":"3310.74"},{"v":3201.2931,"d":"3201.29"},{"v":3185.6677,"d":"3185.67"},{"$f":"BU5+BV5+BW5+BX5+BY5+BZ5+CA5+CB5+CC5+CD5+CE5+CF5","v":{"v":38327.64234,"d":"38327.64"}}]
[null,"公路班线客运量（万人次）",{"$f":"C11+C16+C21+C26+C31+C36+C41+C46+C51+C56+C61+C66+C71+C76+C81+C86+C91","v":{"v":1473.3801,"d":"1473.38"}},{"$f":"C6/R6-1","v":{"v":-0.127219049178381,"d":"-12.72%"}},{"v":1543.1715,"d":"1543.17"},{"v":-0.102741642382914,"d":"-10.27%"},{"v":1575.6657,"d":"1575.67"},{"v":-0.0849203354617905,"d":"-8.49%"},{"$f":"I11+I16+I21+I26+I31+I36+I41+I46+I51+I56+I61+I66+I71+I76+I81+I86+I91","v":{"v":1662.9693,"d":"1662.97"}},{"$f":"I6/X6-1","v":{"v":-0.0886191475718897,"d":"-8.86%"}},{"v":1699.6399,"d":"1699.64"},{"v":-0.0619150767173847,"d":"-6.19%"},{"v":1618.5128,"d":"1618.51"},{"v":-0.0579329681972092,"d":"-5.79%"},{"v":9573.3393,"d":"9573.34"},{"v":-0.0869003167121795,"d":"-8.69%"},null,{"$f":"R11+R16+R21+R26+R31+R36+R41+R46+R51+R56+R61+R66+R71+R76+R81+R86+R91","v":{"v":1688.1442,"d":"1688.14"}},{"$f":"R6/AT6-1","v":{"v":0.190499721053353,"d":"19.05%"}},{"v":1719.8742,"d":"1719.87"},{"v":0.170584463846713,"d":"17.06%"},{"v":1721.8891,"d":"1721.89"},{"v":0.19615960797894,"d":"19.62%"},{"$f":"X11+X16+X21+X26+X31+X36+X41+X46+X51+X56+X61+X66+X71+X76+X81+X86+X91","v":1824.67},{"$f":"X6/AZ6-1","v":{"v":0.17712557169459,"d":"17.71%"}},{"v":1811.8188,"d":"1811.82"},{"v":0.129176853074476,"d":"12.92%"},{"v":1718.0442,"d":"1718.04"},{"v":0.128947823384797,"d":"12.89%"},{"$f":"AD11+AD16+AD21+AD26+AD31+AD36+AD41+AD46+AD51+AD56+AD61+AD66+AD71+AD76+AD81+AD86+AD91","v":{"v":1781.8881,"d":"1781.89"}},{"$f":"AD6/BF6-1","v":{"v":0.151867270183039,"d":"15.19%"}},{"v":1784.7773,"d":"1784.78"},{"v":0.108549342128963,"d":"10.85%"},{"v":1666.8001,"d":"1666.80"},{"v":0.0974185383397248,"d":"9.74%"},{"$f":"AJ11+AJ16+AJ21+AJ26+AJ31+AJ36+AJ41+AJ46+AJ51+AJ56+AJ61+AJ66+AJ71+AJ76+AJ81+AJ86+AJ91","v":{"v":1723.7631,"d":"1723.76"}},{"$f":"AJ6/BL6-1","v":{"v":-0.0854029995476262,"d":"-8.54%"}},{"v":1638.517,"d":"1638.52"},{"v":-0.0654879941405534,"d":"-6.55%"},{"v":1550.368,"d":"1550.37"},{"v":-0.0600194572227873,"d":"-6.00%"},{"v":20630.5541,"d":"20630.55"},{"v":0.0877383748500005,"d":"8.77%"},null,{"v":17317.1053,"d":"17317.11"},{"$f":"AT11+AT16+AT21+AT26+AT31+AT36+AT41+AT46+AT51+AT56+AT61+AT66+AT71+AT76+AT81+AT86+AT91","v":{"v":1418.0131,"d":"1418.01"}},{"v":0.000594000174855447,"d":"0.06%"},{"v":1469.244,"d":"1469.24"},{"v":-0.00757772635030673,"d":"-0.76%"},{"v":1439.5145,"d":"1439.51"},{"v":-0.0701055211274487,"d":"-7.01%"},{"$f":"AZ11+AZ16+AZ21+AZ26+AZ31+AZ36+AZ41+AZ46+AZ51+AZ56+AZ61+AZ66+AZ71+AZ76+AZ81+AZ86+AZ91","v":{"v":1550.1065,"d":"1550.11"}},{"v":-0.0370367494333663,"d":"-3.70%"},{"v":1604.5483,"d":"1604.55"},{"v":-0.0130711090846204,"d":"-1.31%"},{"v":1521.8101,"d":"1521.81"},{"v":-0.048443639168071,"d":"-4.84%"},{"$f":"BF11+BF16+BF21+BF26+BF31+BF36+BF41+BF46+BF51+BF56+BF61+BF66+BF71+BF76+BF81+BF86+BF91","v":{"v":1546.9561,"d":"1546.96"}},{"v":-0.079775770623408,"d":"-7.98%"},{"v":1610.0116,"d":"1610.01"},{"v":-0.0473961945941365,"d":"-4.74%"},{"v":1518.8372,"d":"1518.84"},{"v":-0.0246442122419311,"d":"-2.46%"},{"$f":"BL11+BL16+BL21+BL26+BL31+BL36+BL41+BL46+BL51+BL56+BL61+BL66+BL71+BL76+BL81+BL86+BL91","v":{"v":1884.7242,"d":"1884.72"}},{"v":0.156001316010281,"d":"15.60%"},{"v":1753.3397,"d":"1753.34"},{"v":0.163322293090998,"d":"16.33%"},{"v":1649.3618,"d":"1649.36"},{"v":0.172572903070962,"d":"17.26%"},{"v":18966.4671,"d":"18966.47"},{"v":0.011379728608101,"d":"1.14%"},null,{"v":1417.1713,"d":"1417.17"},{"v":1480.46254,"d":"1480.46"},{"v":1548.0407,"d":"1548.04"},{"v":1609.7255,"d":"1609.73"},{"v":1625.7993,"d":"1625.80"},{"v":1599.2853,"d":"1599.29"},{"v":1681.0643,"d":"1681.06"},{"v":1690.1167,"d":"1690.12"},{"v":1557.2135,"d":"1557.21"},{"v":1630.3824,"d":"1630.38"},{"v":1507.1831,"d":"1507.18"},{"v":1406.6177,"d":"1406.62"},{"v":18753.06234,"d":"18753.06"}]
[null,"城际城乡公交客运量（万人次）",{"$f":"C12+C17+C22+C27+C32+C37+C42+C47+C52+C57+C62+C67+C72+C77+C82+C87+C92","v":1391.19},{"$f":"C7/R7-1","v":{"v":0.216255912154778,"d":"21.63%"}},1389.65,{"v":0.212048529039799,"d":"21.20%"},1437.57,{"v":0.157193569939387,"d":"15.72%"},{"$f":"I12+I17+I22+I27+I32+I37+I42+I47+I52+I57+I62+I67+I72+I77+I82+I87+I92","v":1462.08},{"$f":"I7/X7-1","v":{"v":0.134529878715926,"d":"13.45%"}},1529.42,{"v":0.104178699318471,"d":"10.42%"},1517.52,{"v":0.101288145433434,"d":"10.13%"},8727.43,{"v":0.150703480683453,"d":"15.07%"},null,{"$f":"R12+R17+R22+R27+R32+R37+R42+R47+R52+R57+R62+R67+R72+R77+R82+R87+R92","v":1143.83},{"$f":"R7/AT7-1","v":{"v":0.0489522674125358,"d":"4.90%"}},1146.53,{"v":0.138955942979188,"d":"13.90%"},1242.29,{"v":0.185809875624027,"d":"18.58%"},{"$f":"X12+X17+X22+X27+X32+X37+X42+X47+X52+X57+X62+X67+X72+X77+X82+X87+X92","v":1288.71},{"$f":"X7/AZ7-1","v":{"v":0.155876654827251,"d":"15.59%"}},1385.12,{"v":0.242104130423086,"d":"24.21%"},1377.95,{"v":0.268783838532649,"d":"26.88%"},{"$f":"AD12+AD17+AD22+AD27+AD32+AD37+AD42+AD47+AD52+AD57+AD62+AD67+AD72+AD77+AD82+AD87+AD92","v":1344.24},{"$f":"AD7/BF7-1","v":{"v":0.226339701133067,"d":"22.63%"}},1350.08,{"v":0.23069069561809,"d":"23.07%"},1339.74,{"v":0.223562719758892,"d":"22.36%"},{"$f":"AJ12+AJ17+AJ22+AJ27+AJ32+AJ37+AJ42+AJ47+AJ52+AJ57+AJ62+AJ67+AJ72+AJ77+AJ82+AJ87+AJ92","v":1426.42},{"$f":"AJ7/BL7-1","v":{"v":0.232839536049507,"d":"23.28%"}},1369.51,{"v":0.231518366979903,"d":"23.15%"},1358.09,{"v":0.239483795599121,"d":"23.95%"},15772.51,{"v":0.202751475747863,"d":"20.28%"},null,{"v":12018,"d":"12018.00"},{"$f":"AT12+AT17+AT22+AT27+AT32+AT37+AT42+AT47+AT52+AT57+AT62+AT67+AT72+AT77+AT82+AT87+AT92","v":1090.45},{"v":0.4373368834524,"d":"43.73%"},1006.65,{"v":0.0387044183502909,"d":"3.87%"},1047.63,{"v":-0.0463606903582875,"d":"-4.64%"},{"$f":"AZ12+AZ17+AZ22+AZ27+AZ32+AZ37+AZ42+AZ47+AZ52+AZ57+AZ62+AZ67+AZ72+AZ77+AZ82+AZ87+AZ92","v":1114.92},{"v":-0.0165652288965334,"d":"-1.66%"},1115.14,{"v":-0.00303076359149945,"d":"-0.30%"},1086.04,{"v":0.00495984010067785,"d":"0.50%"},{"$f":"BF12+BF17+BF22+BF27+BF32+BF37+BF42+BF47+BF52+BF57+BF62+BF67+BF72+BF77+BF82+BF87+BF92","v":1096.14},{"v":0.0282835673880621,"d":"2.83%"},1097.01,{"v":0.0168704405780438,"d":"1.69%"},1094.95,{"v":-0.00574785703908154,"d":"-0.57%"},{"$f":"BL12+BL17+BL22+BL27+BL32+BL37+BL42+BL47+BL52+BL57+BL62+BL67+BL72+BL77+BL82+BL87+BL92","v":1157.02},{"v":0.0518746136223132,"d":"5.19%"},1112.05,{"v":-0.0173372096105756,"d":"-1.73%"},1095.69,{"v":-0.0845524651388189,"d":"-8.46%"},13113.69,{"v":0.0218032440721307,"d":"2.18%"},null,{"v":758.660000000002,"d":"758.66"},{"v":969.139999999999,"d":"969.14"},1098.56,{"v":1133.7,"d":"1133.70"},1118.53,1080.68,1065.99,1078.81,1101.28,1099.96,1131.67,1196.89,12833.87]
[null,"城际城乡巡游出租客运量（万人次）",{"$f":"C13+C18+C23+C28+C33+C38+C43+C48+C53+C58+C63+C68+C73+C78+C83+C88+C93","v":535.83},{"$f":"C8/R8-1","v":{"v":0.308370366752943,"d":"30.84%"}},550.52,{"v":0.227086305278174,"d":"22.71%"},513.97,{"v":0.229652136465859,"d":"22.97%"},{"$f":"I13+I18+I23+I28+I33+I38+I43+I48+I53+I58+I63+I68+I73+I78+I83+I88+I93","v":498.81},{"$f":"I8/X8-1","v":{"v":0.160644065430346,"d":"16.06%"}},517.54,{"v":0.0474185910020044,"d":"4.74%"},515.28,{"v":0.174079475027342,"d":"17.41%"},3131.95,{"v":0.186830218422688,"d":"18.68%"},null,{"$f":"R13+R18+R23+R28+R33+R38+R43+R48+R53+R58+R63+R68+R73+R78+R83+R88+R93","v":409.54},{"$f":"R8/AT8-1","v":{"v":-0.0472933677623473,"d":"-4.73%"}},448.64,{"v":0.155722713104407,"d":"15.57%"},417.98,{"v":0.119899257830294,"d":"11.99%"},{"$f":"X13+X18+X23+X28+X33+X38+X43+X48+X53+X58+X63+X68+X73+X78+X83+X88+X93","v":429.77},{"$f":"X8/AZ8-1","v":{"v":0.200407798447014,"d":"20.04%"}},494.11,{"v":0.330613453977487,"d":"33.06%"},438.88,{"v":0.154491648033671,"d":"15.45%"},{"$f":"AD13+AD18+AD23+AD28+AD33+AD38+AD43+AD48+AD53+AD58+AD63+AD68+AD73+AD78+AD83+AD88+AD93","v":566.86},{"$f":"AD8/BF8-1","v":{"v":0.436397729576324,"d":"43.64%"}},603.64,{"v":0.682432620753087,"d":"68.24%"},600.68,{"v":0.558790709744389,"d":"55.88%"},{"$f":"AJ13+AJ18+AJ23+AJ28+AJ33+AJ38+AJ43+AJ48+AJ53+AJ58+AJ63+AJ68+AJ73+AJ78+AJ83+AJ88+AJ93","v":{"v":608.8,"d":"608.80"}},{"$f":"AJ8/BL8-1","v":{"v":0.539706626201315,"d":"53.97%"}},572.57,{"v":0.514254733946895,"d":"51.43%"},596.03,{"v":0.762672265925357,"d":"76.27%"},{"v":6187.5,"d":"6187.50"},{"v":0.35951960344873,"d":"35.95%"},null,{"v":4213.1,"d":"4213.10"},{"$f":"AT13+AT18+AT23+AT28+AT33+AT38+AT43+AT48+AT53+AT58+AT63+AT68+AT73+AT78+AT83+AT88+AT93","v":429.87},{"v":0.048975109809666,"d":"4.90%"},388.19,{"v":-0.041008918204501,"d":"-4.10%"},373.23,{"v":-0.141328854737037,"d":"-14.13%"},{"$f":"AZ13+AZ18+AZ23+AZ28+AZ33+AZ38+AZ43+AZ48+AZ53+AZ58+AZ63+AZ68+AZ73+AZ78+AZ83+AZ88+AZ93","v":358.02},{"v":-0.163934426229508,"d":"-16.39%"},371.34,{"v":-0.14317358499273,"d":"-14.32%"},380.15,{"v":-0.0951394839569644,"d":"-9.51%"},{"$f":"BF13+BF18+BF23+BF28+BF33+BF38+BF43+BF48+BF53+BF58+BF63+BF68+BF73+BF78+BF83+BF88+BF93","v":394.64},{"v":-0.0838517968242179,"d":"-8.39%"},358.79,{"v":-0.166651182236262,"d":"-16.67%"},385.35,{"v":-0.079079437912248,"d":"-7.91%"},{"$f":"BL13+BL18+BL23+BL28+BL33+BL38+BL43+BL48+BL53+BL58+BL63+BL68+BL73+BL78+BL83+BL88+BL93","v":{"v":395.4,"d":"395.40"}},{"v":-0.0853997039230224,"d":"-8.54%"},378.12,{"v":-0.0809615244391488,"d":"-8.10%"},338.14,{"v":-0.192115637319317,"d":"-19.21%"},4551.24,{"v":-0.102853921332855,"d":"-10.29%"},null,{"v":409.799999999999,"d":"409.80"},404.79,434.66,428.22,{"v":433.389999999999,"d":"433.39"},420.12,430.76,430.54,{"v":418.440000000001,"d":"418.44"},{"v":432.320000000001,"d":"432.32"},{"v":411.429999999999,"d":"411.43"},418.55,5073.02]
[null,"城际城乡网约车客运量(万人次)",{"$f":"C14+C19+C24+C29+C34+C39+C44+C49+C54+C59+C64+C69+C74+C79+C84+C89+C94","v":{"v":333.390000000002,"d":"333.39"}},{"$f":"C9/R9-1","v":{"v":1.33892240774522,"d":"133.89%"}},294.49,{"v":0.931335257082914,"d":"93.13%"},{"v":347.229999999998,"d":"347.23"},{"v":1.07822599952117,"d":"107.82%"},{"$f":"I14+I19+I24+I29+I34+I39+I44+I49+I54+I59+I64+I69+I74+I79+I84+I89+I94","v":{"v":335.389999999998,"d":"335.39"}},{"$f":"I9/X9-1","v":{"v":0.721891364616489,"d":"72.19%"}},{"v":369.270000000005,"d":"369.27"},{"v":0.601483216237339,"d":"60.15%"},{"v":383.679999999999,"d":"383.68"},{"v":0.85415357850479,"d":"85.42%"},2063.45,{"v":0.885479582233029,"d":"88.55%"},null,{"$f":"R14+R19+R24+R29+R34+R39+R44+R49+R54+R59+R64+R69+R74+R79+R84+R89+R94","v":{"v":142.539999999999,"d":"142.54"}},{"$f":"R9/AT9-1","v":{"v":-0.183946871242919,"d":"-18.39%"}},{"v":152.479999999999,"d":"152.48"},{"v":0.36423011541557,"d":"36.42%"},167.08,{"v":0.127167240099846,"d":"12.72%"},{"$f":"X14+X19+X24+X29+X34+X39+X44+X49+X54+X59+X64+X69+X74+X79+X84+X89+X94","v":{"v":194.779999999999,"d":"194.78"}},{"$f":"X9/AZ9-1","v":{"v":0.209963970679577,"d":"21.00%"}},{"v":230.579999999999,"d":"230.58"},{"v":0.333371884577571,"d":"33.34%"},{"v":206.930000000002,"d":"206.93"},{"v":0.10034031692014,"d":"10.03%"},{"$f":"AD14+AD19+AD24+AD29+AD34+AD39+AD44+AD49+AD54+AD59+AD64+AD69+AD74+AD79+AD84+AD89+AD94","v":271.02},{"$f":"AD9/BF9-1","v":{"v":0.366165944147598,"d":"36.62%"}},{"v":292.020000000001,"d":"292.02"},{"v":0.540840016884768,"d":"54.08%"},{"v":271.769999999999,"d":"271.77"},{"v":0.403408210689388,"d":"40.34%"},{"$f":"AJ14+AJ19+AJ24+AJ29+AJ34+AJ39+AJ44+AJ49+AJ54+AJ59+AJ64+AJ69+AJ74+AJ79+AJ84+AJ89+AJ94","v":{"v":314.299999999996,"d":"314.30"}},{"$f":"AJ9/BL9-1","v":{"v":0.611546941496164,"d":"61.15%"}},{"v":297.470000000001,"d":"297.47"},{"v":0.509310467299203,"d":"50.93%"},343.86,{"v":0.831185429758234,"d":"83.12%"},2884.83,{"v":0.361995949180628,"d":"36.20%"},null,1930.31,{"$f":"AT14+AT19+AT24+AT29+AT34+AT39+AT44+AT49+AT54+AT59+AT64+AT69+AT74+AT79+AT84+AT89+AT94","v":174.67},{"v":0.658311971897843,"d":"65.83%"},111.77,{"v":-0.0637460211090612,"d":"-6.37%"},148.23,{"v":0.131526717557253,"d":"13.15%"},{"$f":"AZ14+AZ19+AZ24+AZ29+AZ34+AZ39+AZ44+AZ49+AZ54+AZ59+AZ64+AZ69+AZ74+AZ79+AZ84+AZ89+AZ94","v":160.98},{"v":0.24636110250852,"d":"24.64%"},172.93,{"v":0.285151605231867,"d":"28.52%"},188.06,{"v":0.347713917156371,"d":"34.77%"},{"$f":"BF14+BF19+BF24+BF29+BF34+BF39+BF44+BF49+BF54+BF59+BF64+BF69+BF74+BF79+BF84+BF89+BF94","v":198.38},{"v":0.321124134256792,"d":"32.11%"},189.52,{"v":0.25634736493205,"d":"25.63%"},{"v":193.649999999999,"d":"193.65"},{"v":0.335425143093575,"d":"33.54%"},{"$f":"BL14+BL19+BL24+BL29+BL34+BL39+BL44+BL49+BL54+BL59+BL64+BL69+BL74+BL79+BL84+BL89+BL94","v":195.03},{"v":0.317058346839544,"d":"31.71%"},197.09,{"v":0.30514535461228,"d":"30.51%"},187.78,{"v":0.147729356396305,"d":"14.77%"},2118.09,{"v":0.270074174456883,"d":"27.01%"},null,105.33,119.38,{"v":131,"d":"131.00"},129.16,134.56,139.54,150.16,150.85,145.01,148.08,151.01,163.61,1667.69]
["武汉市","总客运量（万人次）",{"$f":"C11+C12+C13+C14","v":{"v":349.5304,"d":"349.53"}},{"$f":"C10/R10-1","v":{"v":0.270557615412575,"d":"27.06%"}},{"v":256.8555,"d":"256.86"},{"v":-0.0529000328537254,"d":"-5.29%"},{"v":356.885999999999,"d":"356.89"},{"v":0.0727406186370225,"d":"7.27%"},{"$f":"I11+I12+I13+I14","v":{"v":362.127,"d":"362.13"}},{"$f":"I10/X10-1","v":{"v":0.00836959545423954,"d":"0.84%"}},{"v":353.1777,"d":"353.18"},{"v":0.0565464544824692,"d":"5.65%"},{"v":364.9459,"d":"364.95"},{"v":0.0518276268749842,"d":"5.18%"},{"v":2043.5225,"d":"2043.52"},{"v":0.0646957447234198,"d":"6.47%"},null,{"$f":"R11+R12+R13+R14","v":{"v":275.1,"d":"275.10"}},{"$f":"R10/AT10-1","v":{"v":3.19782738399513,"d":"319.78%"}},{"v":271.202099999999,"d":"271.20"},{"v":4.38785715137139,"d":"438.79%"},{"v":332.686199999999,"d":"332.69"},{"v":3.10361471047162,"d":"310.36%"},{"$f":"X11+X12+X13+X14","v":{"v":359.1213,"d":"359.12"}},{"$f":"X10/AZ10-1","v":{"v":3.11906736357472,"d":"311.91%"}},{"v":334.2756,"d":"334.28"},{"v":2.80650649248607,"d":"280.65%"},{"v":346.963599999999,"d":"346.96"},{"v":3.30801436817643,"d":"330.80%"},{"$f":"AD11+AD12+AD13+AD14","v":{"v":369.8743,"d":"369.87"}},{"$f":"AD10/BF10-1","v":{"v":3.91700465944818,"d":"391.70%"}},{"v":348.0308,"d":"348.03"},{"v":4.16606846513068,"d":"416.61%"},{"v":375.262199999999,"d":"375.26"},{"v":3.73559995356045,"d":"373.56%"},{"$f":"AJ11+AJ12+AJ13+AJ14","v":{"v":359.8822,"d":"359.88"}},{"$f":"AJ10/BL10-1","v":{"v":0.102935750125347,"d":"10.29%"}},{"v":383.641600000001,"d":"383.64"},{"v":0.159131217191475,"d":"15.91%"},{"v":382.2592,"d":"382.26"},{"v":0.175265446797653,"d":"17.53%"},{"v":4138.2991,"d":"4138.30"},{"v":1.49770759245211,"d":"149.77%"},null,{"v":1331.5854,"d":"1331.59"},{"$f":"AT11+AT12+AT13+AT14","v":{"v":65.5339000000004,"d":"65.53"}},null,{"v":50.3357999999999,"d":"50.34"},null,{"v":81.0714999999999,"d":"81.07"},null,{"$f":"AZ11+AZ12+AZ13+AZ14","v":{"v":87.1851000000003,"d":"87.19"}},null,{"v":87.8169,"d":"87.82"},null,{"v":80.5391000000002,"d":"80.54"},null,{"$f":"BF11+BF12+BF13+BF14","v":{"v":75.2235,"d":"75.22"}},null,{"v":67.3685999999995,"d":"67.37"},null,{"v":79.2427999999999,"d":"79.24"},null,{"$f":"BL11+BL12+BL13+BL14","v":{"v":326.2948,"d":"326.29"}},null,{"v":330.9734,"d":"330.97"},null,{"v":325.2535,"d":"325.25"},null,{"v":1656.8389,"d":"1656.84"}]
[null,"公路班线客运量（万人次）",{"$f":"[1]班线包车!C8","v":323.8804},{"$f":"C11/R11-1","v":{"v":0.269273033663832,"d":"26.93%"}},{"$f":"[1]班线包车!E8","v":236.0855},{"v":-0.0655707987386608,"d":"-6.56%"},{"$f":"[1]班线包车!G8","v":326.996},{"v":0.0543625671559786,"d":"5.44%"},{"$f":"[1]班线包车!I8","v":335.787},{"$f":"I11/X11-1","v":{"v":-0.00401701007856359,"d":"-0.40%"}},{"$f":"[1]班线包车!K8","v":327.5977},{"v":0.0430536469563378,"d":"4.31%"},{"$f":"[1]班线包车!M8","v":341.1759},{"v":0.0575044727044147,"d":"5.75%"},{"v":1891.5225,"d":"1891.52"},{"v":0.0556556349965185,"d":"5.57%"},null,255.17,{"$f":"R11/AT11-1","v":{"v":5.77132674696621,"d":"577.13%"}},{"v":252.6521,"d":"252.65"},{"v":6.8376246285186,"d":"683.76%"},{"$f":"[1]班线包车!V8","v":310.1362},{"v":4.97432553480443,"d":"497.43%"},{"$f":"[1]班线包车!X8","v":337.1413},{"$f":"X11/AZ11-1","v":{"v":4.70989463986004,"d":"470.99%"}},{"$f":"[1]班线包车!Z8","v":314.0756},{"v":4.34352100910392,"d":"434.35%"},{"$f":"[1]班线包车!AB8","v":322.6236},{"v":4.97571732071844,"d":"497.57%"},{"$f":"[1]班线包车!AD8","v":346.4243},{"$f":"AD11/BF11-1","v":{"v":6.0320683670466,"d":"603.21%"}},{"$f":"[1]班线包车!AF8","v":324.3908},{"v":6.35603397840294,"d":"635.60%"},{"$f":"[1]班线包车!AH8","v":349.4122},{"v":5.51611254913955,"d":"551.61%"},{"$f":"[1]班线包车!AJ8","v":330.8522},{"$f":"AJ11/BL11-1","v":{"v":0.108624731432125,"d":"10.86%"}},{"$f":"[1]班线包车!AL8","v":355.1516},{"v":0.161030607394602,"d":"16.10%"},{"$f":"[1]班线包车!AN8","v":354.3792},{"v":0.179245524743481,"d":"17.92%"},{"v":3852.4091,"d":"3852.41"},{"v":1.86324648603918,"d":"186.32%"},null,{"v":1044.9554,"d":"1044.96"},{"v":37.6839,"d":"37.68"},null,32.2358,null,51.9115,null,{"v":59.0451,"d":"59.05"},null,{"v":58.7769,"d":"58.78"},null,{"v":53.9891,"d":"53.99"},null,{"v":49.2635,"d":"49.26"},null,{"v":44.0986,"d":"44.10"},null,{"v":53.6228,"d":"53.62"},null,{"v":298.4348,"d":"298.43"},null,{"v":305.8934,"d":"305.89"},null,{"v":300.5135,"d":"300.51"},null,{"v":1345.4689,"d":"1345.47"}]
[null,"城际城乡公交客运量（万人次）",{"$f":"[1]公交!C9-[1]公交!C11","v":25.6499999999996},{"$f":"C12/R12-1","v":{"v":0.287004515805282,"d":"28.70%"}},{"$f":"[1]公交!E9-[1]公交!E11","v":20.77},{"v":0.119676549865272,"d":"11.97%"},{"$f":"[1]公交!G9-[1]公交!G11","v":29.8899999999994},{"v":0.325498891352567,"d":"32.55%"},{"$f":"[1]公交!I9-[1]公交!I11","v":26.3400000000001},{"$f":"I12/X12-1","v":{"v":0.198362147406764,"d":"19.84%"}},{"$f":"[1]公交!K9-[1]公交!K11","v":25.5799999999999},{"v":0.266336633663374,"d":"26.63%"},{"$f":"[1]公交!M9-[1]公交!M11","v":23.7700000000004},{"v":-0.0234182415776014,"d":"-2.34%"},{"v":152,"d":"152.00"},{"v":0.191689533516288,"d":"19.17%"},null,{"$f":"[1]公交!R9-[1]公交!R11","v":19.9300000000003},{"$f":"R12/AT12-1","v":{"v":-0.284380610412926,"d":"-28.44%"}},{"$f":"[1]公交!T9-[1]公交!T11","v":18.5499999999993},{"v":0.0248618784530041,"d":"2.49%"},{"$f":"[1]公交!V9-[1]公交!V11","v":22.5499999999993},{"v":-0.226680384087814,"d":"-22.67%"},{"$f":"[1]公交!X9-[1]公交!X11","v":21.9799999999996},{"$f":"X12/AZ12-1","v":{"v":-0.21890547263684,"d":"-21.89%"}},{"$f":"[1]公交!Z9-[1]公交!Z11","v":20.1999999999998},{"v":-0.304407713498629,"d":"-30.44%"},{"$f":"[1]公交!AB9-[1]公交!AB11","v":24.3399999999992},{"v":-0.0832391713748003,"d":"-8.32%"},{"$f":"[1]公交!AD9-[1]公交!AD11","v":23.4499999999998},{"$f":"AD12/BF12-1","v":{"v":-0.0966872110939978,"d":"-9.67%"}},{"$f":"[1]公交!AF9-[1]公交!AF11","v":23.6400000000003},{"v":0.0159003008165379,"d":"1.59%"},{"$f":"[1]公交!AH9-[1]公交!AH11","v":25.8499999999995},{"v":0.00897736143636041,"d":"0.90%"},{"$f":"[1]公交!AJ9-[1]公交!AJ11","v":29.0299999999997},{"$f":"AJ12/BL12-1","v":{"v":0.0419956927494636,"d":"4.20%"}},{"$f":"[1]公交!AL9-[1]公交!AL11","v":28.4900000000007},{"v":0.135964912280734,"d":"13.60%"},{"$f":"[1]公交!AN9-[1]公交!AN11","v":27.8800000000001},{"v":0.126919967663716,"d":"12.69%"},{"v":285.889999999998,"d":"285.89"},{"v":-0.0818319041654687,"d":"-8.18%"},null,286.63,27.8500000000004,null,18.0999999999999,null,29.1599999999999,null,28.1400000000003,null,29.04,null,26.5500000000002,null,25.96,null,23.2699999999995,null,25.6199999999999,null,{"v":27.8599999999997,"d":"27.86"},null,{"v":25.0799999999999,"d":"25.08"},null,{"v":24.7399999999998,"d":"24.74"},null,311.37]
[null,"城际城乡巡游出租客运量（万人次）",0,{"$f":"C13/R13-1","v":{"$error":"#DIV/0!"}},0,{"$error":"#DIV/0!"},0,{"$error":"#DIV/0!"},0,{"$f":"I13/X13-1","v":{"$error":"#DIV/0!"}},0,{"$error":"#DIV/0!"},0,{"$error":"#DIV/0!"},{"v":0,"d":"0.00"},{"$error":"#DIV/0!"},null,0,null,0,null,0,null,0,null,0,null,0,null,0,null,0,null,0,null,0,null,0,null,0,null,{"v":0,"d":"0.00"},{"$error":"#DIV/0!"},null,{"v":0,"d":"0.00"},0,null,0,null,0,null,0,null,0,null,0,null,0,null,0,null,0,null,{"v":0,"d":"0.00"},null,{"v":0,"d":"0.00"},null,{"v":0,"d":"0.00"},null,{"v":0,"d":"0.00"}]
[null,"城际城乡网约车客运量(万人次)",{"v":0,"d":"0.000"},{"$f":"C14/R14-1","v":{"$error":"#DIV/0!"}},{"v":0,"d":"0.000"},{"$error":"#DIV/0!"},{"v":0,"d":"0.000"},{"$error":"#DIV/0!"},{"v":0,"d":"0.000"},{"$f":"I14/X14-1","v":{"$error":"#DIV/0!"}},{"v":0,"d":"0.000"},{"$error":"#DIV/0!"},{"v":0,"d":"0.000"},{"$error":"#DIV/0!"},{"v":0,"d":"0.00"},{"$error":"#DIV/0!"},null,{"v":0,"d":"0.000"},null,{"v":0,"d":"0.000"},null,{"v":0,"d":"0.000"},null,{"v":0,"d":"0.000"},null,{"v":0,"d":"0.000"},null,{"v":0,"d":"0.000"},null,{"v":0,"d":"0.000"},null,{"v":0,"d":"0.000"},null,{"v":0,"d":"0.000"},null,{"v":0,"d":"0.000"},null,{"v":0,"d":"0.000"},null,{"v":0,"d":"0.000"},null,{"v":0,"d":"0.00"},{"$error":"#DIV/0!"},null,{"v":0,"d":"0.00"},{"v":0,"d":"0.000"},null,{"v":0,"d":"0.000"},null,{"v":0,"d":"0.000"},null,{"v":0,"d":"0.000"},null,{"v":0,"d":"0.000"},null,{"v":0,"d":"0.000"},null,{"v":0,"d":"0.000"},null,{"v":0,"d":"0.000"},null,{"v":0,"d":"0.000"},null,{"v":0,"d":"0.000"},null,{"v":0,"d":"0.000"},null,{"v":0,"d":"0.000"},null,{"v":0,"d":"0.00"}]
["黄石市","总客运量（万人次）",{"$f":"C16+C17+C18+C19","v":{"v":221.141365541548,"d":"221.14"}},{"$f":"C15/R15-1","v":{"v":0.0977496246275145,"d":"9.77%"}},{"v":222.036313475541,"d":"222.04"},{"v":0.0372078162613709,"d":"3.72%"},{"v":230.297641936121,"d":"230.30"},{"v":0.112559950878393,"d":"11.26%"},{"$f":"I16+I17+I18+I19","v":{"v":227.886138248078,"d":"227.89"}},{"$f":"I15/X15-1","v":{"v":0.018181369524976,"d":"1.82%"}},{"v":258.300921552064,"d":"258.30"},{"v":0.20751089469272,"d":"20.75%"},{"v":253.034824528135,"d":"253.03"},{"v":0.0651008569753124,"d":"6.51%"},{"v":1412.69720528149,"d":"1412.70"},{"v":0.0885184602071976,"d":"8.85%"},null,{"$f":"R16+R17+R18+R19","v":{"v":201.449730048038,"d":"201.45"}},{"$f":"R15/AT15-1","v":{"v":0.212074380824945,"d":"21.21%"}},{"v":214.071191900456,"d":"214.07"},{"v":0.0270272699491496,"d":"2.70%"},{"v":206.997961551911,"d":"207.00"},{"v":-0.0357161199305469,"d":"-3.57%"},{"$f":"X16+X17+X18+X19","v":{"v":223.816841546017,"d":"223.82"}},{"$f":"X15/AZ15-1","v":{"v":-0.0185164912344673,"d":"-1.85%"}},{"v":213.911876644223,"d":"213.91"},{"v":-0.0620347035616154,"d":"-6.20%"},{"v":237.568886430818,"d":"237.57"},{"v":-0.00264346920084768,"d":"-0.26%"},{"$f":"AD16+AD17+AD18+AD19","v":{"v":227.522787463384,"d":"227.52"}},{"$f":"AD15/BF15-1","v":{"v":-0.090268167646258,"d":"-9.03%"}},{"v":238.979670904874,"d":"238.98"},{"v":0.219007020524212,"d":"21.90%"},{"v":214.193664207899,"d":"214.19"},{"v":-0.0644211891445857,"d":"-6.44%"},{"$f":"AJ16+AJ17+AJ18+AJ19","v":{"v":232.359760875951,"d":"232.36"}},{"$f":"AJ15/BL15-1","v":{"v":0.0732281078625601,"d":"7.32%"}},{"v":216.709081737897,"d":"216.71"},{"v":1.44760658844256E-3,"d":"0.14%"},{"v":225.652334672191,"d":"225.65"},{"v":0.043355951014854,"d":"4.34%"},{"v":2653.23378798366,"d":"2653.23"},{"v":0.0173969239853653,"d":"1.74%"},null,{"v":2391.58945502516,"d":"2391.59"},{"$f":"AT16+AT17+AT18+AT19","v":{"v":166.202448657425,"d":"166.20"}},null,{"v":208.437690180374,"d":"208.44"},null,{"v":214.664961045498,"d":"214.66"},null,{"$f":"AZ16+AZ17+AZ18+AZ19","v":{"v":228.039329797323,"d":"228.04"}},null,{"v":228.059478806394,"d":"228.06"},null,{"v":238.198556979881,"d":"238.20"},null,{"$f":"BF16+BF17+BF18+BF19","v":{"v":250.098742697303,"d":"250.10"}},null,{"v":196.044540253841,"d":"196.04"},null,{"v":228.942406265121,"d":"228.94"},null,{"$f":"BL16+BL17+BL18+BL19","v":{"v":216.505474627121,"d":"216.51"}},null,{"v":216.395825714881,"d":"216.40"},null,{"v":216.275504493652,"d":"216.28"},null,{"v":2607.86495951881,"d":"2607.86"}]
[null,"公路班线客运量（万人次）",{"$f":"[1]班线包车!C10","v":75.4816},{"$f":"C16/R16-1","v":{"v":-0.230021585052861,"d":"-23.00%"}},{"$f":"[1]班线包车!E10","v":84.6235},{"v":-0.126873579371049,"d":"-12.69%"},{"$f":"[1]班线包车!G10","v":79.3692},{"v":-0.142625663804762,"d":"-14.26%"},{"$f":"[1]班线包车!I10","v":78.3745},{"$f":"I16/X16-1","v":{"v":-0.156693982603306,"d":"-15.67%"}},{"$f":"[1]班线包车!K10","v":75.5822},{"v":-0.171472199963387,"d":"-17.15%"},{"$f":"[1]班线包车!M10","v":74.7909},{"v":-0.140449089546681,"d":"-14.04%"},{"v":468.2219,"d":"468.22"},{"v":-0.161939177027683,"d":"-16.19%"},null,{"$f":"[1]班线包车!R10","v":98.0308},{"$f":"R16/AT16-1","v":{"v":-0.0195665045125776,"d":"-1.96%"}},{"$f":"[1]班线包车!T10","v":96.9201},{"v":-0.0829836494601701,"d":"-8.30%"},{"$f":"[1]班线包车!V10","v":92.5724},{"v":-0.020566822865474,"d":"-2.06%"},{"$f":"[1]班线包车!X10","v":92.9372},{"$f":"X16/AZ16-1","v":{"v":-0.0403708942971903,"d":"-4.04%"}},{"$f":"[1]班线包车!Z10","v":91.2247},{"v":-0.0443132127734023,"d":"-4.43%"},{"$f":"[1]班线包车!AB10","v":87.0116},{"v":-0.029643235117325,"d":"-2.96%"},{"$f":"[1]班线包车!AD10","v":86.8392},{"$f":"AD16/BF16-1","v":{"v":-0.0226457013009376,"d":"-2.26%"}},{"$f":"[1]班线包车!AF10","v":84.9174},{"v":-0.0143533672261299,"d":"-1.44%"},{"$f":"[1]班线包车!AH10","v":84.3078},{"v":-0.0112818371803383,"d":"-1.13%"},{"$f":"[1]班线包车!AJ10","v":84.4888},{"$f":"AJ16/BL16-1","v":{"v":-0.0417185568296529,"d":"-4.17%"}},{"$f":"[1]班线包车!AL10","v":82.6305},{"v":-0.0400954903464138,"d":"-4.01%"},{"$f":"[1]班线包车!AN10","v":77.1923},{"v":-0.0934391093207748,"d":"-9.34%"},{"v":1059.0728,"d":"1059.07"},{"v":-0.0388126894504738,"d":"-3.88%"},null,{"v":1016.6896,"d":"1016.69"},{"v":99.9872,"d":"99.99"},null,105.6907,null,94.5163,null,{"v":96.847,"d":"96.85"},null,{"v":95.4546,"d":"95.45"},null,{"v":89.6697,"d":"89.67"},null,{"v":88.8513,"d":"88.85"},null,{"v":86.154,"d":"86.15"},null,{"v":85.2698,"d":"85.27"},null,{"v":88.167,"d":"88.17"},null,{"v":86.082,"d":"86.08"},null,{"v":85.1485,"d":"85.15"},null,{"v":1101.8381,"d":"1101.84"}]
[null,"城际城乡公交客运量（万人次）",{"$f":"[1]公交!C13-[1]公交!C15","v":106.05},{"$f":"C17/R17-1","v":{"v":0.27005988023952,"d":"27.01%"}},{"$f":"[1]公交!E13-[1]公交!E15","v":100.73},{"v":0.193483412322276,"d":"19.35%"},{"$f":"[1]公交!G13-[1]公交!G15","v":111.8},{"v":0.290993071593536,"d":"29.10%"},{"$f":"[1]公交!I13-[1]公交!I15","v":110.4},{"$f":"I17/X17-1","v":{"v":0.170731707317075,"d":"17.07%"}},{"$f":"[1]公交!K13-[1]公交!K15","v":141.4},{"v":0.62528735632184,"d":"62.53%"},{"$f":"[1]公交!M13-[1]公交!M15","v":135.9},{"v":0.120362737015663,"d":"12.04%"},706.28,{"v":0.267779572787651,"d":"26.78%"},null,{"$f":"[1]公交!R13-[1]公交!R15","v":83.5},{"$f":"R17/AT17-1","v":{"v":0.646942800788955,"d":"64.69%"}},{"$f":"[1]公交!T13-[1]公交!T15","v":84.4},{"v":-0.0105509964830014,"d":"-1.06%"},{"$f":"[1]公交!V13-[1]公交!V15","v":86.5999999999999},{"v":-0.0746874666096805,"d":"-7.47%"},{"$f":"[1]公交!X13-[1]公交!X15","v":94.3},{"$f":"X17/AZ17-1","v":{"v":-0.0459328207203556,"d":"-4.59%"}},{"$f":"[1]公交!Z13-[1]公交!Z15","v":87},{"v":-0.147393179145433,"d":"-14.74%"},{"$f":"[1]公交!AB13-[1]公交!AB15","v":121.3},{"v":0.259867054424593,"d":"25.99%"},{"$f":"[1]公交!AD13-[1]公交!AD15","v":101.6},{"$f":"AD17/BF17-1","v":{"v":0.0774125132555676,"d":"7.74%"}},{"$f":"[1]公交!AF13-[1]公交!AF15","v":102.4},{"v":0.193473193473192,"d":"19.35%"},{"$f":"[1]公交!AH13-[1]公交!AH15","v":92.6},{"v":0.0792540792540783,"d":"7.93%"},{"$f":"[1]公交!AJ13-[1]公交!AJ15","v":109.5},{"$f":"AJ17/BL17-1","v":{"v":0.157505285412263,"d":"15.75%"}},{"$f":"[1]公交!AL13-[1]公交!AL15","v":101.1},{"v":0.120842572062083,"d":"12.08%"},{"$f":"[1]公交!AN13-[1]公交!AN15","v":114.2},{"v":0.327906976744187,"d":"32.79%"},{"v":1178.5,"d":"1178.50"},{"v":0.108185622267149,"d":"10.82%"},null,977.45,50.7,null,85.3,null,93.5899999999999,null,98.8399999999999,null,102.04,null,96.2800000000002,null,94.3,null,85.8000000000001,null,85.8000000000001,null,{"v":94.5999999999999,"d":"94.60"},null,{"v":90.2,"d":"90.20"},null,{"v":86,"d":"86.00"},null,1063.45]
[null,"城际城乡巡游出租客运量（万人次）",{"$f":"[1]出租!C13-[1]出租!C15","v":26.01},{"$f":"C18/R18-1","v":{"v":0.608534322820035,"d":"60.85%"}},{"$f":"[1]出租!E13-[1]出租!E15","v":24.86},{"v":-0.0682158920539727,"d":"-6.82%"},{"$f":"[1]出租!G13-[1]出租!G15","v":25.2},{"v":0.28440366972477,"d":"28.44%"},{"$f":"[1]出租!I13-[1]出租!I15","v":26.13},{"$f":"I18/X18-1","v":{"v":-0.00190985485103179,"d":"-0.19%"}},{"$f":"[1]出租!K13-[1]出租!K15","v":25.71},{"v":0.125656742556915,"d":"12.57%"},{"$f":"[1]出租!M13-[1]出租!M15","v":24.51},{"v":0.324864864864864,"d":"32.49%"},152.42,{"v":0.172551734748826,"d":"17.26%"},null,{"$f":"[1]出租!R13-[1]出租!R15","v":16.17},{"$f":"R18/AT18-1","v":{"v":1.01119402985074,"d":"101.12%"}},{"$f":"[1]出租!T13-[1]出租!T15","v":26.68},{"v":1.120826709062,"d":"112.08%"},{"$f":"[1]出租!V13-[1]出租!V15","v":19.62},{"v":0.0833793484262841,"d":"8.34%"},{"$f":"[1]出租!X13-[1]出租!X15","v":26.18},{"$f":"X18/AZ18-1","v":{"v":0.181407942238268,"d":"18.14%"}},{"$f":"[1]出租!Z13-[1]出租!Z15","v":22.84},{"v":0.165306122448981,"d":"16.53%"},{"$f":"[1]出租!AB13-[1]出租!AB15","v":18.5},{"v":-0.483816964285714,"d":"-48.38%"},{"$f":"[1]出租!AD13-[1]出租!AD15","v":24.13},{"$f":"AD18/BF18-1","v":{"v":-0.454072398190045,"d":"-45.41%"}},{"$f":"[1]出租!AF13-[1]出租!AF15","v":32.73},{"v":1.13363754889179,"d":"113.36%"},{"$f":"[1]出租!AH13-[1]出租!AH15","v":22.3},{"v":-0.392204960479696,"d":"-39.22%"},{"$f":"[1]出租!AJ13-[1]出租!AJ15","v":22.42},{"$f":"AJ18/BL18-1","v":{"v":0.109351806036616,"d":"10.94%"}},{"$f":"[1]出租!AL13-[1]出租!AL15","v":21.35},{"v":-0.131760878405855,"d":"-13.18%"},{"$f":"[1]出租!AN13-[1]出租!AN15","v":22.5},{"v":-0.197002141327623,"d":"-19.70%"},275.42,{"v":-0.0349008339757514,"d":"-3.49%"},null,257.36,8.04000000000002,null,12.58,null,18.11,null,22.16,null,19.6,null,35.84,null,44.2,null,15.34,null,36.69,null,20.21,null,24.59,null,28.02,null,285.38]
[null,"城际城乡网约车客运量(万人次)",{"$f":"[1]网约车!C13-[1]网约车!C15","v":{"v":13.5997655415477,"d":"13.600"}},{"$f":"C19/R19-1","v":{"v":2.62763918432297,"d":"262.76%"}},{"$f":"[1]网约车!E13-[1]网约车!E15","v":{"v":11.8228134755412,"d":"11.823"}},{"v":0.947394911721303,"d":"94.74%"},{"$f":"[1]网约车!G13-[1]网约车!G15","v":{"v":13.9284419361213,"d":"13.928"}},{"v":0.697439212174048,"d":"69.74%"},{"$f":"[1]网约车!I13-[1]网约车!I15","v":{"v":12.981638248078,"d":"12.982"}},{"$f":"I19/X19-1","v":{"v":0.248277470972054,"d":"24.83%"}},{"$f":"[1]网约车!K13-[1]网约车!K15","v":{"v":15.608721552064,"d":"15.609"}},{"v":0.214953447307284,"d":"21.50%"},{"$f":"[1]网约车!M13-[1]网约车!M15","v":{"v":17.833924528135,"d":"17.834"}},{"v":0.657846023049411,"d":"65.78%"},{"v":85.7753052814872,"d":"85.78"},{"v":0.648583883133137,"d":"64.86%"},null,{"$f":"[1]网约车!R13-[1]网约车!R15","v":{"v":3.7489300480378,"d":"3.749"}},{"$f":"R19/AT19-1","v":{"v":-0.498487579498217,"d":"-49.85%"}},{"$f":"[1]网约车!T13-[1]网约车!T15","v":{"v":6.07109190045639,"d":"6.071"}},{"v":0.247401715527944,"d":"24.74%"},{"$f":"[1]网约车!V13-[1]网约车!V15","v":{"v":8.2055615519109,"d":"8.206"}},{"v":-0.0287737302133469,"d":"-2.88%"},{"$f":"[1]网约车!X13-[1]网约车!X15","v":{"v":10.399641546017,"d":"10.400"}},{"$f":"X19/AZ19-1","v":{"v":0.0203399765133625,"d":"2.03%"}},{"$f":"[1]网约车!Z13-[1]网约车!Z15","v":{"v":12.8471766442227,"d":"12.847"}},{"v":0.17166608688198,"d":"17.17%"},{"$f":"[1]网约车!AB13-[1]网约车!AB15","v":{"v":10.757286430818,"d":"10.757"}},{"v":-0.344421951875874,"d":"-34.44%"},{"$f":"[1]网约车!AD13-[1]网约车!AD15","v":{"v":14.9535874633843,"d":"14.954"}},{"$f":"AD19/BF19-1","v":{"v":-0.342625557414532,"d":"-34.26%"}},{"$f":"[1]网约车!AF13-[1]网约车!AF15","v":{"v":18.932270904874,"d":"18.932"}},{"v":1.16355451842685,"d":"116.36%"},{"$f":"[1]网约车!AH13-[1]网约车!AH15","v":{"v":14.985864207899,"d":"14.986"}},{"v":-0.292539170093783,"d":"-29.25%"},{"$f":"[1]网约车!AJ13-[1]网约车!AJ15","v":{"v":15.950960875951,"d":"15.951"}},{"$f":"AJ19/BL19-1","v":{"v":0.179065734726144,"d":"17.91%"}},{"$f":"[1]网约车!AL13-[1]网约车!AL15","v":{"v":11.628581737897,"d":"11.629"}},{"v":-0.250920362578521,"d":"-25.09%"},{"$f":"[1]网约车!AN13-[1]网约车!AN15","v":{"v":11.7600346721914,"d":"11.760"}},{"v":-0.312560262870369,"d":"-31.26%"},{"v":140.24098798366,"d":"140.24"},{"v":-0.107863933077647,"d":"-10.79%"},null,{"v":140.089855025161,"d":"140.09"},{"v":7.47524865742477,"d":"7.475"},null,{"v":4.86699018037417,"d":"4.867"},null,{"v":8.44866104549808,"d":"8.449"},null,{"v":10.192329797323,"d":"10.192"},null,{"v":10.9648788063939,"d":"10.965"},null,{"v":16.4088569798805,"d":"16.409"},null,{"v":22.7474426973028,"d":"22.747"},null,{"v":8.75054025384114,"d":"8.751"},null,{"v":21.1826062651208,"d":"21.183"},null,{"v":13.5284746271215,"d":"13.528"},null,{"v":15.5238257148806,"d":"15.524"},null,{"v":17.1070044936518,"d":"17.107"},null,{"v":157.196859518813,"d":"157.20"}]
["十堰市","总客运量（万人次）",{"$f":"C21+C22+C23+C24","v":{"v":173.23414292578,"d":"173.23"}},{"$f":"C20/R20-1","v":{"v":-0.0432609982206525,"d":"-4.33%"}},{"v":186.934657911457,"d":"186.93"},{"v":-0.0314145937562862,"d":"-3.14%"},{"v":188.966059881831,"d":"188.97"},{"v":0.0269980982056857,"d":"2.70%"},{"$f":"I21+I22+I23+I24","v":{"v":204.52504718293,"d":"204.53"}},{"$f":"I20/X20-1","v":{"v":0.0259715639659908,"d":"2.60%"}},{"v":201.411289247919,"d":"201.41"},{"v":0.0256221111681192,"d":"2.56%"},{"v":199.090379689721,"d":"199.09"},{"v":0.0201435390766977,"d":"2.01%"},{"v":1154.16157683964,"d":"1154.16"},{"v":4.53609309429703E-3,"d":"0.45%"},null,{"$f":"R21+R22+R23+R24","v":{"v":181.067294845928,"d":"181.07"}},{"$f":"R20/AT20-1","v":{"v":-0.00560192270470028,"d":"-0.56%"}},{"v":192.997599082575,"d":"193.00"},{"v":0.0604301250243231,"d":"6.04%"},{"v":183.998451615424,"d":"184.00"},{"v":-0.0123971776133175,"d":"-1.24%"},{"$f":"X21+X22+X23+X24","v":{"v":199.347676257536,"d":"199.35"}},{"$f":"X20/AZ20-1","v":{"v":-0.0543811267370423,"d":"-5.44%"}},{"v":196.379628573456,"d":"196.38"},{"v":-0.0102122782626261,"d":"-1.02%"},{"v":195.159183059584,"d":"195.16"},{"v":0.163782637825061,"d":"16.38%"},{"$f":"AD21+AD22+AD23+AD24","v":{"v":177.109620330129,"d":"177.11"}},{"$f":"AD20/BF20-1","v":{"v":-0.0603566699706016,"d":"-6.04%"}},{"v":187.390387154702,"d":"187.39"},{"v":-0.00279213175392934,"d":"-0.28%"},{"v":186.770232421292,"d":"186.77"},{"v":-0.0142103631139734,"d":"-1.42%"},{"$f":"AJ21+AJ22+AJ23+AJ24","v":{"v":188.886559282417,"d":"188.89"}},{"$f":"AJ20/BL20-1","v":{"v":-0.0802705565964755,"d":"-8.03%"}},{"v":175.246740808832,"d":"175.25"},{"v":-0.0339201356908871,"d":"-3.39%"},{"v":168.731194137482,"d":"168.73"},{"v":-0.0503397878141242,"d":"-5.03%"},{"v":2233.08456756936,"d":"2233.08"},{"v":-0.0108665357887555,"d":"-1.09%"},null,{"v":2079.94171129039,"d":"2079.94"},{"$f":"AT21+AT22+AT23+AT24","v":{"v":182.087334016594,"d":"182.09"}},null,{"v":181.999355288165,"d":"182.00"},null,{"v":186.308146802138,"d":"186.31"},null,{"$f":"AZ21+AZ22+AZ23+AZ24","v":{"v":210.811862891088,"d":"210.81"}},null,{"v":198.405803851306,"d":"198.41"},null,{"v":167.693843091102,"d":"167.69"},null,{"$f":"BF21+BF22+BF23+BF24","v":{"v":188.486008116067,"d":"188.49"}},null,{"v":187.915070790899,"d":"187.92"},null,{"v":189.462564255873,"d":"189.46"},null,{"$f":"BL21+BL22+BL23+BL24","v":{"v":205.371873910472,"d":"205.37"}},null,{"v":181.399848276683,"d":"181.40"},null,{"v":177.67533268463,"d":"177.68"},null,{"v":2257.61704397502,"d":"2257.62"}]
[null,"公路班线客运量（万人次）",{"$f":"[1]班线包车!C14","v":44.2561},{"$f":"C21/R21-1","v":{"v":-0.13555044661954,"d":"-13.56%"}},{"$f":"[1]班线包车!E14","v":64.7578},{"v":-0.0777239116316694,"d":"-7.77%"},{"$f":"[1]班线包车!G14","v":60.4028},{"v":0.0425582226241907,"d":"4.26%"},{"$f":"[1]班线包车!I14","v":68.256},{"$f":"I21/X21-1","v":{"v":0.0571066166734036,"d":"5.71%"}},{"$f":"[1]班线包车!K14","v":66.0753},{"v":0.0327799668949218,"d":"3.28%"},{"$f":"[1]班线包车!M14","v":57.5147},{"v":-0.063067920803047,"d":"-6.31%"},{"v":361.2627,"d":"361.26"},{"v":-0.0217132752565121,"d":"-2.17%"},null,{"$f":"[1]班线包车!R14","v":51.1957},{"$f":"R21/AT21-1","v":{"v":0.0203407666352433,"d":"2.03%"}},{"$f":"[1]班线包车!T14","v":70.2152},{"v":0.0474487017878853,"d":"4.74%"},{"$f":"[1]班线包车!V14","v":57.9371},{"v":0.0215336819722194,"d":"2.15%"},{"$f":"[1]班线包车!X14","v":64.5687},{"$f":"X21/AZ21-1","v":{"v":0.00209828738156403,"d":"0.21%"}},{"$f":"[1]班线包车!Z14","v":63.9781},{"v":0.031450667689872,"d":"3.15%"},{"$f":"[1]班线包车!AB14","v":61.3862},{"v":0.0449568645608494,"d":"4.50%"},{"$f":"[1]班线包车!AD14","v":52.2756},{"$f":"AD21/BF21-1","v":{"v":-0.0667954364098234,"d":"-6.68%"}},{"$f":"[1]班线包车!AF14","v":60.4119},{"v":-0.0114851310178715,"d":"-1.15%"},{"$f":"[1]班线包车!AH14","v":52.0508},{"v":-0.0505542452615084,"d":"-5.06%"},{"$f":"[1]班线包车!AJ14","v":57.7711},{"$f":"AJ21/BL21-1","v":{"v":-0.163188831528509,"d":"-16.32%"}},{"$f":"[1]班线包车!AL14","v":49.1361},{"v":-0.0503615058588881,"d":"-5.04%"},{"$f":"[1]班线包车!AN14","v":41.2319},{"v":-0.125920571188719,"d":"-12.59%"},{"v":682.1584,"d":"682.16"},{"v":-0.0241436882265097,"d":"-2.41%"},null,{"v":651.8639,"d":"651.86"},{"v":50.1751,"d":"50.18"},null,67.0345,null,56.7158,null,{"v":64.4335,"d":"64.43"},null,{"v":62.0273,"d":"62.03"},null,{"v":58.7452,"d":"58.75"},null,{"v":56.0173,"d":"56.02"},null,{"v":61.1138,"d":"61.11"},null,{"v":54.8223,"d":"54.82"},null,{"v":69.0372,"d":"69.04"},null,{"v":51.7419,"d":"51.74"},null,{"v":47.1718,"d":"47.17"},null,{"v":699.0357,"d":"699.04"}]
[null,"城际城乡公交客运量（万人次）",{"$f":"[1]公交!C17-[1]公交!C19","v":115.25},{"$f":"C22/R22-1","v":{"v":-0.0185642510431752,"d":"-1.86%"}},{"$f":"[1]公交!E17-[1]公交!E19","v":111.24},{"v":0.0168190127970762,"d":"1.68%"},{"$f":"[1]公交!G17-[1]公交!G19","v":112.62},{"v":0.00571530630470019,"d":"0.57%"},{"$f":"[1]公交!I17-[1]公交!I19","v":122.17},{"$f":"I22/X22-1","v":{"v":0.0253462022660529,"d":"2.53%"}},{"$f":"[1]公交!K17-[1]公交!K19","v":119.16},{"v":1.93391070377547E-3,"d":"0.19%"},{"$f":"[1]公交!M17-[1]公交!M19","v":124.86},{"v":0.0211826286088177,"d":"2.12%"},{"v":705.3,"d":"705.30"},{"v":0.00878196693174771,"d":"0.88%"},null,{"$f":"[1]公交!R17-[1]公交!R19","v":117.43},{"$f":"R22/AT22-1","v":{"v":0.0689058802111784,"d":"6.89%"}},{"$f":"[1]公交!T17-[1]公交!T19","v":109.4},{"v":0.168304143528404,"d":"16.83%"},{"$f":"[1]公交!V17-[1]公交!V19","v":111.98},{"v":0.0521469510476349,"d":"5.21%"},{"$f":"[1]公交!X17-[1]公交!X19","v":119.15},{"$f":"X22/AZ22-1","v":{"v":-0.0390354060811366,"d":"-3.90%"}},{"$f":"[1]公交!Z17-[1]公交!Z19","v":118.93},{"v":0.0390529442600041,"d":"3.91%"},{"$f":"[1]公交!AB17-[1]公交!AB19","v":122.27},{"v":0.294410332415837,"d":"29.44%"},{"$f":"[1]公交!AD17-[1]公交!AD19","v":110.02},{"$f":"AD22/BF22-1","v":{"v":-0.0547297877824557,"d":"-5.47%"}},{"$f":"[1]公交!AF17-[1]公交!AF19","v":108.33},{"v":-0.0439502250463337,"d":"-4.40%"},{"$f":"[1]公交!AH17-[1]公交!AH19","v":115.44},{"v":-0.0244232231893852,"d":"-2.44%"},{"$f":"[1]公交!AJ17-[1]公交!AJ19","v":115.24},{"$f":"AJ22/BL22-1","v":{"v":-0.0446820857166541,"d":"-4.47%"}},{"$f":"[1]公交!AL17-[1]公交!AL19","v":114.41},{"v":-0.00789108567464569,"d":"-0.79%"},{"$f":"[1]公交!AN17-[1]公交!AN19","v":112.75},{"v":-0.0100096584423567,"d":"-1.00%"},1375.35,{"v":0.0258370564849961,"d":"2.58%"},null,1226.82,109.86,null,93.6400000000001,null,106.43,null,123.99,null,114.46,null,94.46,null,116.39,null,113.31,null,118.33,null,120.63,null,115.32,null,113.89,null,1340.71]
[null,"城际城乡巡游出租客运量（万人次）",{"$f":"[1]出租!C17-[1]出租!C19","v":3.06},{"$f":"C23/R23-1","v":{"v":-0.580821917808219,"d":"-58.08%"}},{"$f":"[1]出租!E17-[1]出租!E19","v":1.81999999999999},{"v":-0.725903614457834,"d":"-72.59%"},{"$f":"[1]出租!G17-[1]出租!G19","v":2.00999999999999},{"v":-0.61121856866538,"d":"-61.12%"},{"$f":"[1]出租!I17-[1]出租!I19","v":1.91000000000003},{"$f":"I23/X23-1","v":{"v":-0.620278330019874,"d":"-62.03%"}},{"$f":"[1]出租!K17-[1]出租!K19","v":2.26999999999998},{"v":-0.451690821256041,"d":"-45.17%"},{"$f":"[1]出租!M17-[1]出租!M19","v":1.94999999999999},{"v":-0.442857142857146,"d":"-44.29%"},13.02,{"v":-0.590308370044054,"d":"-59.03%"},null,{"$f":"[1]出租!R17-[1]出租!R19","v":7.30000000000001},{"$f":"R23/AT23-1","v":{"v":-0.168564920273344,"d":"-16.86%"}},{"$f":"[1]出租!T17-[1]出租!T19","v":6.64000000000004},{"v":-0.481249999999997,"d":"-48.12%"},{"$f":"[1]出租!V17-[1]出租!V19","v":5.17000000000002},{"v":-0.526989935956078,"d":"-52.70%"},{"$f":"[1]出租!X17-[1]出租!X19","v":5.02999999999997},{"$f":"X23/AZ23-1","v":{"v":-0.4964964964965,"d":"-49.65%"}},{"$f":"[1]出租!Z17-[1]出租!Z19","v":4.13999999999999},{"v":-0.537430167597766,"d":"-53.74%"},{"$f":"[1]出租!AB17-[1]出租!AB19","v":3.5},{"v":-0.452269170579033,"d":"-45.23%"},{"$f":"[1]出租!AD17-[1]出租!AD19","v":4.38999999999999},{"$f":"AD23/BF23-1","v":{"v":-0.32771822358346,"d":"-32.77%"}},{"$f":"[1]出租!AF17-[1]出租!AF19","v":4.83999999999997},{"v":-0.272180451127827,"d":"-27.22%"},{"$f":"[1]出租!AH17-[1]出租!AH19","v":4.90000000000003},{"v":-0.300998573466471,"d":"-30.10%"},{"$f":"[1]出租!AJ17-[1]出租!AJ19","v":4.65000000000003},{"$f":"AJ23/BL23-1","v":{"v":-0.378342245989302,"d":"-37.83%"}},{"$f":"[1]出租!AL17-[1]出租!AL19","v":4.12},{"v":-0.37290715372907,"d":"-37.29%"},{"$f":"[1]出租!AN17-[1]出租!AN19","v":4.49000000000001},{"v":-0.395693135935397,"d":"-39.57%"},{"v":59.1700000000001,"d":"59.17"},{"v":-0.405386393327303,"d":"-40.54%"},null,{"v":92.0799999999999,"d":"92.08"},8.77999999999997,null,12.8,null,10.9299999999999,null,9.99000000000001,null,8.94999999999999,null,6.39000000000004,null,6.52999999999997,null,6.65000000000003,null,7.00999999999999,null,{"v":7.48000000000002,"d":"7.48"},null,{"v":6.56999999999999,"d":"6.57"},null,{"v":7.43000000000001,"d":"7.43"},null,{"v":99.5099999999999,"d":"99.51"}]
[null,"城际城乡网约车客运量(万人次)",{"$f":"[1]网约车!C17-[1]网约车!C19","v":{"v":10.66804292578,"d":"10.668"}},{"$f":"C24/R24-1","v":{"v":1.07485094517488,"d":"107.49%"}},{"$f":"[1]网约车!E17-[1]网约车!E19","v":{"v":9.116857911457,"d":"9.117"}},{"v":0.352168241571285,"d":"35.22%"},{"$f":"[1]网约车!G17-[1]网约车!G19","v":{"v":13.933259881831,"d":"13.933"}},{"v":0.563540580950135,"d":"56.35%"},{"$f":"[1]网约车!I17-[1]网约车!I19","v":{"v":12.18904718293,"d":"12.189"}},{"$f":"I24/X24-1","v":{"v":0.150021180042121,"d":"15.00%"}},{"$f":"[1]网约车!K17-[1]网约车!K19","v":{"v":13.905989247919,"d":"13.906"}},{"v":0.490215578128892,"d":"49.02%"},{"$f":"[1]网约车!M17-[1]网约车!M19","v":{"v":14.765679689721,"d":"14.766"}},{"v":0.845021984900782,"d":"84.50%"},{"v":74.578876839638,"d":"74.58"},{"v":0.530487630898873,"d":"53.05%"},null,{"$f":"[1]网约车!R17-[1]网约车!R19","v":{"v":5.141594845928,"d":"5.142"}},{"$f":"R24/AT24-1","v":{"v":-0.612605169596952,"d":"-61.26%"}},{"$f":"[1]网约车!T17-[1]网约车!T19","v":{"v":6.74239908257479,"d":"6.742"}},{"v":-0.209089321206948,"d":"-20.91%"},{"$f":"[1]网约车!V17-[1]网约车!V19","v":{"v":8.911351615424,"d":"8.911"}},{"v":-0.271492890156904,"d":"-27.15%"},{"$f":"[1]网约车!X17-[1]网约车!X19","v":{"v":10.598976257536,"d":"10.599"}},{"$f":"X24/AZ24-1","v":{"v":-0.145130986192176,"d":"-14.51%"}},{"$f":"[1]网约车!Z17-[1]网约车!Z19","v":{"v":9.33152857345601,"d":"9.332"}},{"v":-0.2804467901271,"d":"-28.04%"},{"$f":"[1]网约车!AB17-[1]网约车!AB19","v":{"v":8.00298305958401,"d":"8.003"}},{"v":-0.0118118591523778,"d":"-1.18%"},{"$f":"[1]网约车!AD17-[1]网约车!AD19","v":{"v":10.424020330129,"d":"10.424"}},{"$f":"AD24/BF24-1","v":{"v":0.0916681297011943,"d":"9.17%"}},{"$f":"[1]网约车!AF17-[1]网约车!AF19","v":{"v":13.808487154702,"d":"13.808"}},{"v":1.01840967515443,"d":"101.84%"},{"$f":"[1]网约车!AH17-[1]网约车!AH19","v":{"v":14.379432421292,"d":"14.379"}},{"v":0.546131596444928,"d":"54.61%"},{"$f":"[1]网约车!AJ17-[1]网约车!AJ19","v":{"v":11.225459282417,"d":"11.225"}},{"$f":"AJ24/BL24-1","v":{"v":0.364851592246659,"d":"36.49%"}},{"$f":"[1]网约车!AL17-[1]网约车!AL19","v":{"v":7.58064080883199,"d":"7.581"}},{"v":-0.0241128623903888,"d":"-2.41%"},{"$f":"[1]网约车!AN17-[1]网约车!AN19","v":{"v":10.259294137482,"d":"10.259"}},{"v":0.117140265058589,"d":"11.71%"},{"v":116.406167569357,"d":"116.41"},{"v":-0.0165187073751982,"d":"-1.65%"},null,{"v":109.177811290385,"d":"109.18"},{"v":13.272234016594,"d":"13.272"},null,{"v":8.52485528816459,"d":"8.525"},null,{"v":12.232346802138,"d":"12.232"},null,{"v":12.3983628910881,"d":"12.398"},null,{"v":12.9685038513056,"d":"12.969"},null,{"v":8.09864309110148,"d":"8.099"},null,{"v":9.54870811606656,"d":"9.549"},null,{"v":6.84127079089902,"d":"6.841"},null,{"v":9.30026425587261,"d":"9.300"},null,{"v":8.22467391047181,"d":"8.225"},null,{"v":7.76794827668331,"d":"7.768"},null,{"v":9.18353268463019,"d":"9.184"},null,{"v":118.361343975015,"d":"118.36"}]
["宜昌市","总客运量（万人次）",{"$f":"C26+C27+C28+C29","v":{"v":266.584590941652,"d":"266.58"}},{"$f":"C25/R25-1","v":{"v":-0.286838841080702,"d":"-28.68%"}},{"v":302.954208548761,"d":"302.95"},{"v":-0.283133981157432,"d":"-28.31%"},{"v":318.381025789488,"d":"318.38"},{"v":-0.207436825130286,"d":"-20.74%"},{"$f":"I26+I27+I28+I29","v":{"v":358.340748082941,"d":"358.34"}},{"$f":"I25/X25-1","v":{"v":-0.176433441525926,"d":"-17.64%"}},{"v":409.310815629065,"d":"409.31"},{"v":-0.0994808056247387,"d":"-9.95%"},{"v":385.378900937978,"d":"385.38"},{"v":-0.0285052327415896,"d":"-2.85%"},{"v":2040.95028992988,"d":"2040.95"},{"v":-0.178509998845935,"d":"-17.85%"},null,{"$f":"R26+R27+R28+R29","v":{"v":373.806940559727,"d":"373.81"}},{"$f":"R25/AT25-1","v":{"v":0.170971750746944,"d":"17.10%"}},{"v":422.609247175508,"d":"422.61"},{"v":0.303355353552551,"d":"30.34%"},{"v":401.710596561372,"d":"401.71"},{"v":0.242092966631202,"d":"24.21%"},{"$f":"X26+X27+X28+X29","v":{"v":435.108424930323,"d":"435.11"}},{"$f":"X25/AZ25-1","v":{"v":0.18218610704959,"d":"18.22%"}},{"v":454.527586069974,"d":"454.53"},{"v":0.169647681397262,"d":"16.96%"},{"v":396.686543176686,"d":"396.69"},{"v":0.0967161075761143,"d":"9.67%"},{"$f":"AD26+AD27+AD28+AD29","v":{"v":438.477200085422,"d":"438.48"}},{"$f":"AD25/BF25-1","v":{"v":0.148404731997799,"d":"14.84%"}},{"v":448.226241774466,"d":"448.23"},{"v":0.131803858707032,"d":"13.18%"},{"v":400.724048429599,"d":"400.72"},{"v":0.0869921806292009,"d":"8.70%"},{"$f":"AJ26+AJ27+AJ28+AJ29","v":{"v":440.358474255103,"d":"440.36"}},{"$f":"AJ25/BL25-1","v":{"v":0.112453337430134,"d":"11.25%"}},{"v":379.09868962034,"d":"379.10"},{"v":0.0184329853419272,"d":"1.84%"},{"v":343.523330820217,"d":"343.52"},{"v":0.0217009914941841,"d":"2.17%"},{"v":4934.85732345874,"d":"4934.86"},{"v":0.138098541334592,"d":"13.81%"},null,{"v":3999.82764492742,"d":"3999.83"},{"$f":"AT26+AT27+AT28+AT29","v":{"v":319.227974817737,"d":"319.23"}},null,{"v":324.247141060651,"d":"324.25"},null,{"v":323.414275221998,"d":"323.41"},null,{"$f":"AZ26+AZ27+AZ28+AZ29","v":{"v":368.054084154511,"d":"368.05"}},null,{"v":388.602134898429,"d":"388.60"},null,{"v":361.703945475384,"d":"361.70"},null,{"$f":"BF26+BF27+BF28+BF29","v":{"v":381.814170447238,"d":"381.81"}},null,{"v":396.028197223605,"d":"396.03"},null,{"v":368.65403042517,"d":"368.65"},null,{"$f":"BL26+BL27+BL28+BL29","v":{"v":395.844445280168,"d":"395.84"}},null,{"v":372.237245922531,"d":"372.24"},null,{"v":336.226874281322,"d":"336.23"},null,{"v":4336.05451920874,"d":"4336.05"}]
[null,"公路班线客运量（万人次）",{"$f":"[1]班线包车!C18","v":178.5701},{"$f":"C26/R26-1","v":{"v":-0.280402929000628,"d":"-28.04%"}},{"$f":"[1]班线包车!E18","v":215.5515},{"v":-0.144885295223768,"d":"-14.49%"},{"$f":"[1]班线包车!G18","v":211.3526},{"v":-0.107595583423058,"d":"-10.76%"},{"$f":"[1]班线包车!I18","v":243.5999},{"$f":"I26/X26-1","v":{"v":-0.0672002824439057,"d":"-6.72%"}},{"$f":"[1]班线包车!K18","v":277.3764},{"v":0.0502417200288368,"d":"5.02%"},{"$f":"[1]班线包车!M18","v":250.6952},{"v":0.0911252863877883,"d":"9.11%"},{"v":1377.1457,"d":"1377.15"},{"v":-0.0770270466803999,"d":"-7.70%"},null,{"$f":"[1]班线包车!R18","v":248.1529},{"$f":"R26/AT26-1","v":{"v":0.222662372247687,"d":"22.27%"}},{"$f":"[1]班线包车!T18","v":252.0732},{"v":0.191134859685367,"d":"19.11%"},{"$f":"[1]班线包车!V18","v":236.835},{"v":0.0597483559100653,"d":"5.97%"},{"$f":"[1]班线包车!X18","v":261.1492},{"$f":"X26/AZ26-1","v":{"v":-0.0425839716737435,"d":"-4.26%"}},{"$f":"[1]班线包车!Z18","v":264.1072},{"v":-0.0766208952092929,"d":"-7.66%"},{"$f":"[1]班线包车!AB18","v":229.7584},{"v":-0.158123381805577,"d":"-15.81%"},{"$f":"[1]班线包车!AD18","v":250.0405},{"$f":"AD26/BF26-1","v":{"v":-0.127215031251113,"d":"-12.72%"}},{"$f":"[1]班线包车!AF18","v":270.8413},{"v":-0.121594264379268,"d":"-12.16%"},{"$f":"[1]班线包车!AH18","v":233.6322},{"v":-0.167069408208797,"d":"-16.71%"},{"$f":"[1]班线包车!AJ18","v":265.9381},{"$f":"AJ26/BL26-1","v":{"v":-0.136215450726024,"d":"-13.62%"}},{"$f":"[1]班线包车!AL18","v":236.3336},{"v":-0.137549821951072,"d":"-13.75%"},{"$f":"[1]班线包车!AN18","v":200.5632},{"v":-0.142563257181602,"d":"-14.26%"},{"v":2949.4248,"d":"2949.42"},{"v":-0.0669009381340973,"d":"-6.69%"},null,{"v":2926.9812,"d":"2926.98"},{"v":202.9611,"d":"202.96"},null,211.6244,null,223.4823,null,{"v":272.7646,"d":"272.76"},null,{"v":286.0225,"d":"286.02"},null,{"v":272.9122,"d":"272.91"},null,{"v":286.4858,"d":"286.49"},null,{"v":308.3328,"d":"308.33"},null,{"v":280.4942,"d":"280.49"},null,{"v":307.8755,"d":"307.88"},null,{"v":274.0258,"d":"274.03"},null,{"v":233.9102,"d":"233.91"},null,{"v":3160.8914,"d":"3160.89"}]
[null,"城际城乡公交客运量（万人次）",{"$f":"[1]公交!C21-[1]公交!C23","v":40.97},{"$f":"C27/R27-1","v":{"v":-0.128853923027853,"d":"-12.89%"}},{"$f":"[1]公交!E21-[1]公交!E23","v":38.5600000000001},{"v":-0.200994612515539,"d":"-20.10%"},{"$f":"[1]公交!G21-[1]公交!G23","v":32.52},{"v":-0.316663164530363,"d":"-31.67%"},{"$f":"[1]公交!I21-[1]公交!I23","v":31.47},{"$f":"I27/X27-1","v":{"v":-0.297858099062917,"d":"-29.79%"}},{"$f":"[1]公交!K21-[1]公交!K23","v":41.1400000000001},{"v":-3.63284088156612E-3,"d":"-0.36%"},{"$f":"[1]公交!M21-[1]公交!M23","v":42.97},{"v":0.0201804368471012,"d":"2.02%"},227.63,{"v":-0.160377706466009,"d":"-16.04%"},null,{"$f":"[1]公交!R21-[1]公交!R23","v":47.03},{"$f":"R27/AT27-1","v":{"v":0.686872309899563,"d":"68.69%"}},{"$f":"[1]公交!T21-[1]公交!T23","v":48.26},{"v":0.661845730027542,"d":"66.18%"},{"$f":"[1]公交!V21-[1]公交!V23","v":47.5899999999999},{"v":0.665733286664336,"d":"66.57%"},{"$f":"[1]公交!X21-[1]公交!X23","v":44.8199999999999},{"$f":"X27/AZ27-1","v":{"v":0.625680087051146,"d":"62.57%"}},{"$f":"[1]公交!Z21-[1]公交!Z23","v":41.29},{"v":0.37771104437771,"d":"37.77%"},{"$f":"[1]公交!AB21-[1]公交!AB23","v":42.1200000000001},{"v":0.461992363762592,"d":"46.20%"},{"$f":"[1]公交!AD21-[1]公交!AD23","v":39.2},{"$f":"AD27/BF27-1","v":{"v":0.512345679012347,"d":"51.23%"}},{"$f":"[1]公交!AF21-[1]公交!AF23","v":41.1900000000001},{"v":0.433693003828752,"d":"43.37%"},{"$f":"[1]公交!AH21-[1]公交!AH23","v":43.9299999999999},{"v":0.566690442225385,"d":"56.67%"},{"$f":"[1]公交!AJ21-[1]公交!AJ23","v":43.63},{"$f":"AJ27/BL27-1","v":{"v":0.502410468319559,"d":"50.24%"}},{"$f":"[1]公交!AL21-[1]公交!AL23","v":42.5899999999999},{"v":-0.0148045338885052,"d":"-1.48%"},{"$f":"[1]公交!AN21-[1]公交!AN23","v":43.27},{"v":-0.0263276327632723,"d":"-2.63%"},524.92,{"v":0.413964012498654,"d":"41.40%"},null,{"v":326.8,"d":"326.80"},27.8800000000001,null,29.0400000000001,null,28.5699999999999,null,27.5699999999999,null,29.97,null,28.8099999999999,null,25.92,null,28.73,null,28.0400000000001,null,29.04,null,43.23,null,{"v":44.4399999999998,"d":"44.44"},null,371.24]
[null,"城际城乡巡游出租客运量（万人次）",{"$f":"[1]出租!C21-[1]出租!C23","v":27.4399999999999},{"$f":"C28/R28-1","v":{"v":-0.476235922886048,"d":"-47.62%"}},{"$f":"[1]出租!E21-[1]出租!E23","v":29.9400000000001},{"v":-0.660043147496309,"d":"-66.00%"},{"$f":"[1]出租!G21-[1]出租!G23","v":40.9299999999999},{"v":-0.534145231049397,"d":"-53.41%"},{"$f":"[1]出租!I21-[1]出租!I23","v":45.65},{"$f":"I28/X28-1","v":{"v":-0.496747877852497,"d":"-49.67%"}},{"$f":"[1]出租!K21-[1]出租!K23","v":48.4300000000001},{"v":-0.489188904124037,"d":"-48.92%"},{"$f":"[1]出租!M21-[1]出租!M23","v":47.75},{"v":-0.413534758044706,"d":"-41.35%"},240.14,{"v":-0.51512336954327,"d":"-51.51%"},null,{"$f":"[1]出租!R21-[1]出租!R23","v":52.39},{"$f":"R28/AT28-1","v":{"v":-0.110526315789474,"d":"-11.05%"}},{"$f":"[1]出租!T21-[1]出租!T23","v":88.07},{"v":0.389116719242901,"d":"38.91%"},{"$f":"[1]出租!V21-[1]出租!V23","v":87.86},{"v":0.874546618305953,"d":"87.45%"},{"$f":"[1]出租!X21-[1]出租!X23","v":90.71},{"$f":"X28/AZ28-1","v":{"v":1.08720662678325,"d":"108.72%"}},{"$f":"[1]出租!Z21-[1]出租!Z23","v":94.8099999999999},{"v":1.08419432842383,"d":"108.42%"},{"$f":"[1]出租!AB21-[1]出租!AB23","v":81.42},{"v":1.12529365700861,"d":"112.53%"},{"$f":"[1]出租!AD21-[1]出租!AD23","v":95.0600000000001},{"$f":"AD28/BF28-1","v":{"v":1.25956738768719,"d":"125.96%"}},{"$f":"[1]出租!AF21-[1]出租!AF23","v":84.7299999999999},{"v":1.24628844114528,"d":"124.63%"},{"$f":"[1]出租!AH21-[1]出租!AH23","v":80.34},{"v":1.22857142857143,"d":"122.86%"},{"$f":"[1]出租!AJ21-[1]出租!AJ23","v":88.15},{"$f":"AJ28/BL28-1","v":{"v":1.46091568955891,"d":"146.09%"}},{"$f":"[1]出租!AL21-[1]出租!AL23","v":68.14},{"v":1.07238442822384,"d":"107.24%"},{"$f":"[1]出租!AN21-[1]出租!AN23","v":67.86},{"v":0.927293382561773,"d":"92.73%"},979.54,{"v":0.897671354953699,"d":"89.77%"},null,480.97,58.9,null,63.4000000000001,null,46.87,null,43.46,null,45.49,null,38.3100000000001,null,42.0699999999999,null,37.7199999999999,null,36.05,null,{"v":35.8199999999999,"d":"35.82"},null,32.88,null,35.21,null,516.18]
[null,"城际城乡网约车客运量(万人次)",{"$f":"[1]网约车!C21-[1]网约车!C23","v":{"v":19.604490941652,"d":"19.604"}},{"$f":"C29/R29-1","v":{"v":-0.252707912186897,"d":"-25.27%"}},{"$f":"[1]网约车!E21-[1]网约车!E23","v":{"v":18.902708548761,"d":"18.903"}},{"v":-0.447386935655763,"d":"-44.74%"},{"$f":"[1]网约车!G21-[1]网约车!G23","v":{"v":33.578425789488,"d":"33.578"}},{"v":0.141129822787265,"d":"14.11%"},{"$f":"[1]网约车!I21-[1]网约车!I23","v":{"v":37.620848082941,"d":"37.621"}},{"$f":"I29/X29-1","v":{"v":-0.0210354710210188,"d":"-2.10%"}},{"$f":"[1]网约车!K21-[1]网约车!K23","v":{"v":42.364415629065,"d":"42.364"}},{"v":-0.220100984288066,"d":"-22.01%"},{"$f":"[1]网约车!M21-[1]网约车!M23","v":{"v":43.963700937978,"d":"43.964"}},{"v":0.0132653236380318,"d":"1.33%"},{"v":196.034589929885,"d":"196.03"},{"v":-0.132603507035611,"d":"-13.26%"},null,{"$f":"[1]网约车!R21-[1]网约车!R23","v":{"v":26.234040559727,"d":"26.234"}},{"$f":"R29/AT29-1","v":{"v":-0.110314649419995,"d":"-11.03%"}},{"$f":"[1]网约车!T21-[1]网约车!T23","v":{"v":34.206047175508,"d":"34.206"}},{"v":0.694816728447177,"d":"69.48%"},{"$f":"[1]网约车!V21-[1]网约车!V23","v":{"v":29.425596561372,"d":"29.426"}},{"v":0.201438279054849,"d":"20.14%"},{"$f":"[1]网约车!X21-[1]网约车!X23","v":{"v":38.429224930323,"d":"38.429"}},{"$f":"X29/AZ29-1","v":{"v":0.584090769843416,"d":"58.41%"}},{"$f":"[1]网约车!Z21-[1]网约车!Z23","v":{"v":54.320386069974,"d":"54.320"}},{"v":1.00299105328738,"d":"100.30%"},{"$f":"[1]网约车!AB21-[1]网约车!AB23","v":{"v":43.388143176686,"d":"43.388"}},{"v":1.00206038899677,"d":"100.21%"},{"$f":"[1]网约车!AD21-[1]网约车!AD23","v":{"v":54.176700085422,"d":"54.177"}},{"$f":"AD29/BF29-1","v":{"v":0.981709194773747,"d":"98.17%"}},{"$f":"[1]网约车!AF21-[1]网约车!AF23","v":{"v":51.464941774466,"d":"51.465"}},{"v":1.42240430869819,"d":"142.24%"},{"$f":"[1]网约车!AH21-[1]网约车!AH23","v":{"v":42.821848429599,"d":"42.822"}},{"v":0.779067308460162,"d":"77.91%"},{"$f":"[1]网约车!AJ21-[1]网约车!AJ23","v":{"v":42.640374255103,"d":"42.640"}},{"$f":"AJ29/BL29-1","v":{"v":0.845189113485688,"d":"84.52%"}},{"$f":"[1]网约车!AL21-[1]网约车!AL23","v":{"v":32.03508962034,"d":"32.035"}},{"v":0.449456733854821,"d":"44.95%"},{"$f":"[1]网约车!AN21-[1]网约车!AN23","v":{"v":31.830130820217,"d":"31.830"}},{"v":0.404270005611093,"d":"40.43%"},{"v":480.972523458737,"d":"480.97"},{"v":0.671534404650057,"d":"67.15%"},null,{"v":265.076444927421,"d":"265.08"},{"v":29.4868748177369,"d":"29.487"},null,{"v":20.1827410606504,"d":"20.183"},null,{"v":24.4919752219986,"d":"24.492"},null,{"v":24.2594841545107,"d":"24.259"},null,{"v":27.1196348984292,"d":"27.120"},null,{"v":21.6717454753839,"d":"21.672"},null,{"v":27.3383704472378,"d":"27.338"},null,{"v":21.2453972236053,"d":"21.245"},null,{"v":24.0698304251696,"d":"24.070"},null,{"v":23.1089452801683,"d":"23.109"},null,{"v":22.1014459225305,"d":"22.101"},null,{"v":22.6666742813221,"d":"22.667"},null,{"v":287.743119208743,"d":"287.74"}]
["襄阳市","总客运量（万人次）",{"$f":"C31+C32+C33+C34","v":{"v":394.461782104102,"d":"394.46"}},{"$f":"C30/R30-1","v":{"v":0.306333481562744,"d":"30.63%"}},{"v":423.817804860553,"d":"423.82"},{"v":0.383309874768095,"d":"38.33%"},{"v":414.652784515515,"d":"414.65"},{"v":0.0847181187460784,"d":"8.47%"},{"$f":"I31+I32+I33+I34","v":{"v":413.642263314168,"d":"413.64"}},{"$f":"I30/X30-1","v":{"v":0.0587140490084292,"d":"5.87%"}},{"v":424.473613606562,"d":"424.47"},{"v":-0.076121022848568,"d":"-7.61%"},{"v":421.205677264065,"d":"421.21"},{"v":0.00093552938341146,"d":"0.09%"},{"v":2492.25392566497,"d":"2492.25"},{"v":0.102001654915558,"d":"10.20%"},null,{"$f":"R31+R32+R33+R34","v":{"v":301.961013532482,"d":"301.96"}},{"$f":"R30/AT30-1","v":{"v":-0.0184908760395497,"d":"-1.85%"}},{"v":306.379512350119,"d":"306.38"},{"v":-0.00889971873545159,"d":"-0.89%"},{"v":382.267777544685,"d":"382.27"},{"v":0.334419317730135,"d":"33.44%"},{"$f":"X31+X32+X33+X34","v":{"v":390.702535497264,"d":"390.70"}},{"$f":"X30/AZ30-1","v":{"v":0.328274563380158,"d":"32.83%"}},{"v":459.447204779276,"d":"459.45"},{"v":0.564773896432678,"d":"56.48%"},{"v":420.811995277591,"d":"420.81"},{"v":0.496557657362429,"d":"49.66%"},{"$f":"AD31+AD32+AD33+AD34","v":{"v":427.766024905848,"d":"427.77"}},{"$f":"AD30/BF30-1","v":{"v":0.500460161733279,"d":"50.05%"}},{"v":426.634149810383,"d":"426.63"},{"v":0.508832123453331,"d":"50.88%"},{"v":411.201082297246,"d":"411.20"},{"v":0.538152716405447,"d":"53.82%"},{"$f":"AJ31+AJ32+AJ33+AJ34","v":{"v":444.9421016148,"d":"444.94"}},{"$f":"AJ30/BL30-1","v":{"v":0.580985309984348,"d":"58.10%"}},{"v":403.027839057959,"d":"403.03"},{"v":0.466677575054033,"d":"46.67%"},{"v":394.064012180386,"d":"394.06"},{"v":0.423781912072108,"d":"42.38%"},{"v":4769.20524884804,"d":"4769.21"},{"v":0.386246039536464,"d":"38.62%"},null,{"v":3163.60156685637,"d":"3163.60"},{"$f":"AT31+AT32+AT33+AT34","v":{"v":307.649726488584,"d":"307.65"}},null,{"v":309.130688530537,"d":"309.13"},null,{"v":286.467508725014,"d":"286.47"},null,{"$f":"AZ31+AZ32+AZ33+AZ34","v":{"v":294.142902581086,"d":"294.14"}},null,{"v":293.618909304858,"d":"293.62"},null,{"v":281.186623988307,"d":"281.19"},null,{"$f":"BF31+BF32+BF33+BF34","v":{"v":285.08989163145,"d":"285.09"}},null,{"v":282.757864959772,"d":"282.76"},null,{"v":267.334366679918,"d":"267.33"},null,{"$f":"BL31+BL32+BL33+BL34","v":{"v":281.433419276492,"d":"281.43"}},null,{"v":274.789664690354,"d":"274.79"},null,{"v":276.772733828935,"d":"276.77"},null,{"v":3440.37430068531,"d":"3440.37"}]
[null,"公路班线客运量（万人次）",{"$f":"[1]班线包车!C22","v":103.0089},{"$f":"C31/R31-1","v":{"v":-0.280793181670608,"d":"-28.08%"}},{"$f":"[1]班线包车!E22","v":126.6864},{"v":-0.136090865447563,"d":"-13.61%"},{"$f":"[1]班线包车!G22","v":116.5618},{"v":-0.189586317180004,"d":"-18.96%"},{"$f":"[1]班线包车!I22","v":121.936},{"$f":"I31/X31-1","v":{"v":-0.173723630829238,"d":"-17.37%"}},{"$f":"[1]班线包车!K22","v":120.2889},{"v":-0.164652295230648,"d":"-16.47%"},{"$f":"[1]班线包车!M22","v":113.3073},{"v":-0.104405519288819,"d":"-10.44%"},{"v":701.7893,"d":"701.79"},{"v":-0.176097372734277,"d":"-17.61%"},null,{"$f":"[1]班线包车!R22","v":143.2257},{"$f":"R31/AT31-1","v":{"v":0.00345682091579813,"d":"0.35%"}},{"$f":"[1]班线包车!T22","v":146.6432},{"v":-0.0451928292056274,"d":"-4.52%"},{"$f":"[1]班线包车!V22","v":143.83},{"v":0.0243878814123064,"d":"2.44%"},{"$f":"[1]班线包车!X22","v":147.5729},{"$f":"X31/AZ31-1","v":{"v":0.00614845051274582,"d":"0.61%"}},{"$f":"[1]班线包车!Z22","v":143.9986},{"v":-0.0278188295770092,"d":"-2.78%"},{"$f":"[1]班线包车!AB22","v":126.5163},{"v":-0.0280791325898009,"d":"-2.81%"},{"$f":"[1]班线包车!AD22","v":124.775},{"$f":"AD31/BF31-1","v":{"v":-0.00547179812133602,"d":"-0.55%"}},{"$f":"[1]班线包车!AF22","v":124.0754},{"v":-0.0273966374644903,"d":"-2.74%"},{"$f":"[1]班线包车!AH22","v":117.619},{"v":9.94836204895044e-05,"d":"0.01%"},{"$f":"[1]班线包车!AJ22","v":129.5702},{"$f":"AJ31/BL31-1","v":{"v":0.0401171364191353,"d":"4.01%"}},{"$f":"[1]班线包车!AL22","v":114.6044},{"v":-0.0928078892603185,"d":"-9.28%"},{"$f":"[1]班线包车!AN22","v":104.8242},{"v":-0.164800650157759,"d":"-16.48%"},{"v":1567.2549,"d":"1567.25"},{"v":-0.0257827218498242,"d":"-2.58%"},null,{"v":1483.2244,"d":"1483.22"},{"v":142.7323,"d":"142.73"},null,153.5841,null,140.4058,null,{"v":146.6711,"d":"146.67"},null,{"v":148.1191,"d":"148.12"},null,{"v":130.1714,"d":"130.17"},null,{"v":125.4615,"d":"125.46"},null,{"v":127.5704,"d":"127.57"},null,{"v":117.6073,"d":"117.61"},null,{"v":124.5727,"d":"124.57"},null,{"v":126.3287,"d":"126.33"},null,{"v":125.508,"d":"125.51"},null,{"v":1608.7324,"d":"1608.73"}]
[null,"城际城乡公交客运量（万人次）",{"$f":"[1]公交!C25-[1]公交!C27","v":175.9},{"$f":"C32/R32-1","v":{"v":1.87136793992817,"d":"187.14%"}},{"$f":"[1]公交!E25-[1]公交!E27","v":190.5},{"v":2.06220864812731,"d":"206.22%"},{"$f":"[1]公交!G25-[1]公交!G27","v":182.06},{"v":0.300614373481927,"d":"30.06%"},{"$f":"[1]公交!I25-[1]公交!I27","v":184.46},{"$f":"I32/X32-1","v":{"v":0.30443391556467,"d":"30.44%"}},{"$f":"[1]公交!K25-[1]公交!K27","v":192.52},{"v":-0.0476378926539703,"d":"-4.76%"},{"$f":"[1]公交!M25-[1]公交!M27","v":194.2},{"v":0.0445914689903728,"d":"4.46%"},1119.64,{"v":0.412046612520809,"d":"41.20%"},null,{"$f":"[1]公交!R25-[1]公交!R27","v":61.26},{"$f":"R32/AT32-1","v":{"v":-0.209038089089735,"d":"-20.90%"}},{"$f":"[1]公交!T25-[1]公交!T27","v":62.21},{"v":-0.166085790884717,"d":"-16.61%"},{"$f":"[1]公交!V25-[1]公交!V27","v":139.98},{"v":1.08489722966935,"d":"108.49%"},{"$f":"[1]公交!X25-[1]公交!X27","v":141.41},{"$f":"X32/AZ32-1","v":{"v":1.13739419588875,"d":"113.74%"}},{"$f":"[1]公交!Z25-[1]公交!Z27","v":202.15},{"v":2.12104369306777,"d":"212.10%"},{"$f":"[1]公交!AB25-[1]公交!AB27","v":185.91},{"v":1.8787550325178,"d":"187.88%"},{"$f":"[1]公交!AD25-[1]公交!AD27","v":186.92},{"$f":"AD32/BF32-1","v":{"v":1.86335784313725,"d":"186.34%"}},{"$f":"[1]公交!AF25-[1]公交!AF27","v":188.07},{"v":2.03436592449177,"d":"203.44%"},{"$f":"[1]公交!AH25-[1]公交!AH27","v":179.2},{"v":1.9649238914626,"d":"196.49%"},{"$f":"[1]公交!AJ25-[1]公交!AJ27","v":195.46},{"$f":"AJ32/BL32-1","v":{"v":2.06796421283943,"d":"206.80%"}},{"$f":"[1]公交!AL25-[1]公交!AL27","v":177.11},{"v":2.04103708791209,"d":"204.10%"},{"$f":"[1]公交!AN25-[1]公交!AN27","v":174.37},{"v":2.00689774098984,"d":"200.69%"},1894.05,{"v":1.42100621213283,"d":"142.10%"},null,{"v":724.350000000001,"d":"724.35"},77.45,null,74.5999999999999,null,67.1399999999999,null,66.1600000000001,null,64.7700000000002,null,64.5800000000002,null,65.2800000000002,null,61.98,null,60.4400000000001,null,63.71,null,58.24,null,{"v":57.9899999999998,"d":"57.99"},null,782.34]
[null,"城际城乡巡游出租客运量（万人次）",{"$f":"[1]出租!C25-[1]出租!C27","v":50.97},{"$f":"C33/R33-1","v":{"v":-0.0817870653936221,"d":"-8.18%"}},{"$f":"[1]出租!E25-[1]出租!E27","v":50.04},{"v":-0.0947901591895794,"d":"-9.48%"},{"$f":"[1]出租!G25-[1]出租!G27","v":53},{"v":-0.0655853314527508,"d":"-6.56%"},{"$f":"[1]出租!I25-[1]出租!I27","v":49.22},{"$f":"I33/X33-1","v":{"v":-0.0885185185185191,"d":"-8.85%"}},{"$f":"[1]出租!K25-[1]出租!K27","v":49.41},{"v":-0.149130359910452,"d":"-14.91%"},{"$f":"[1]出租!M25-[1]出租!M27","v":51.14},{"v":-0.114612188365651,"d":"-11.46%"},303.78,{"v":-0.0994841999169975,"d":"-9.95%"},null,{"$f":"[1]出租!R25-[1]出租!R27","v":55.51},{"$f":"R33/AT33-1","v":{"v":-0.0215053763440861,"d":"-2.15%"}},{"$f":"[1]出租!T25-[1]出租!T27","v":55.28},{"v":-0.0571379839672528,"d":"-5.71%"},{"$f":"[1]出租!V25-[1]出租!V27","v":56.72},{"v":0.0493987049028684,"d":"4.94%"},{"$f":"[1]出租!X25-[1]出租!X27","v":54},{"$f":"X33/AZ33-1","v":{"v":0.00821508588498876,"d":"0.82%"}},{"$f":"[1]出租!Z25-[1]出租!Z27","v":58.07},{"v":0.106516768292683,"d":"10.65%"},{"$f":"[1]出租!AB25-[1]出租!AB27","v":57.76},{"v":0.0266619267685753,"d":"2.67%"},{"$f":"[1]出租!AD25-[1]出租!AD27","v":56.57},{"$f":"AD33/BF33-1","v":{"v":-0.0329914529914531,"d":"-3.30%"}},{"$f":"[1]出租!AF25-[1]出租!AF27","v":54.23},{"v":-0.0514255728528946,"d":"-5.14%"},{"$f":"[1]出租!AH25-[1]出租!AH27","v":53.58},{"v":-0.0254638050200064,"d":"-2.55%"},{"$f":"[1]出租!AJ25-[1]出租!AJ27","v":54.34},{"$f":"AJ33/BL33-1","v":{"v":-0.0310271041369476,"d":"-3.10%"}},{"$f":"[1]出租!AL25-[1]出租!AL27","v":53.62},{"v":0.0111257778615879,"d":"1.11%"},{"$f":"[1]出租!AN25-[1]出租!AN27","v":54.3},{"v":0.0325156873930406,"d":"3.25%"},663.98,{"v":-1.20471041773373E-4,"d":"-0.01%"},null,611.47,56.73,null,58.63,null,54.05,null,53.56,null,52.48,null,56.26,null,58.5,null,57.17,null,54.98,null,56.08,null,53.03,null,52.59,null,664.06]
[null,"城际城乡网约车客运量(万人次)",{"$f":"[1]网约车!C25-[1]网约车!C27","v":{"v":64.582882104102,"d":"64.583"}},{"$f":"C34/R34-1","v":{"v":0.538958646266602,"d":"53.90%"}},{"$f":"[1]网约车!E25-[1]网约车!E27","v":{"v":56.591404860553,"d":"56.591"}},{"v":0.339558454038501,"d":"33.96%"},{"$f":"[1]网约车!G25-[1]网约车!G27","v":{"v":63.030984515515,"d":"63.031"}},{"v":0.510166286358521,"d":"51.02%"},{"$f":"[1]网约车!I25-[1]网约车!I27","v":{"v":58.026263314168,"d":"58.026"}},{"$f":"I34/X34-1","v":{"v":0.21598295354739,"d":"21.60%"}},{"$f":"[1]网约车!K25-[1]网约车!K27","v":{"v":62.254713606562,"d":"62.255"}},{"v":0.127218655176357,"d":"12.72%"},{"$f":"[1]网约车!M25-[1]网约车!M27","v":{"v":62.558377264065,"d":"62.558"}},{"v":0.235704061367349,"d":"23.57%"},{"v":367.044625664965,"d":"367.04"},{"v":0.313109048433936,"d":"31.31%"},null,{"$f":"[1]网约车!R25-[1]网约车!R27","v":{"v":41.965313532482,"d":"41.965"}},{"$f":"R34/AT34-1","v":{"v":0.365283900656695,"d":"36.53%"}},{"$f":"[1]网约车!T25-[1]网约车!T27","v":{"v":42.246312350119,"d":"42.246"}},{"v":0.893045269545134,"d":"89.30%"},{"$f":"[1]网约车!V25-[1]网约车!V27","v":{"v":41.737777544685,"d":"41.738"}},{"v":0.678122641517901,"d":"67.81%"},{"$f":"[1]网约车!X25-[1]网约车!X27","v":{"v":47.719635497264,"d":"47.720"}},{"$f":"X34/AZ34-1","v":{"v":0.719514808374554,"d":"71.95%"}},{"$f":"[1]网约车!Z25-[1]网约车!Z27","v":{"v":55.228604779276,"d":"55.229"}},{"v":0.955008056276633,"d":"95.50%"},{"$f":"[1]网约车!AB25-[1]网约车!AB27","v":{"v":50.625695277591,"d":"50.626"}},{"v":0.67772392666278,"d":"67.77%"},{"$f":"[1]网约车!AD25-[1]网约车!AD27","v":{"v":59.501024905848,"d":"59.501"}},{"$f":"AD34/BF34-1","v":{"v":0.65979621952267,"d":"65.98%"}},{"$f":"[1]网约车!AF25-[1]网约车!AF27","v":{"v":60.258749810383,"d":"60.259"}},{"v":0.672114003514092,"d":"67.21%"},{"$f":"[1]网约车!AH25-[1]网约车!AH27","v":{"v":60.802082297246,"d":"60.802"}},{"v":0.772290323288908,"d":"77.23%"},{"$f":"[1]网约车!AJ25-[1]网约车!AJ27","v":{"v":65.5719016148,"d":"65.572"}},{"$f":"AJ34/BL34-1","v":{"v":0.768832730914437,"d":"76.88%"}},{"$f":"[1]网约车!AL25-[1]网约车!AL27","v":{"v":57.693439057959,"d":"57.693"}},{"v":0.551275680485982,"d":"55.13%"},{"$f":"[1]网约车!AN25-[1]网约车!AN27","v":{"v":60.569812180386,"d":"60.570"}},{"v":0.488760192829573,"d":"48.88%"},{"v":643.920348848039,"d":"643.92"},{"v":0.671470179392658,"d":"67.15%"},null,{"v":344.557166856372,"d":"344.56"},{"v":30.7374264885837,"d":"30.737"},null,{"v":22.3165885305374,"d":"22.317"},null,{"v":24.8717087250144,"d":"24.872"},null,{"v":27.7518025810857,"d":"27.752"},null,{"v":28.249809304858,"d":"28.250"},null,{"v":30.1752239883068,"d":"30.175"},null,{"v":35.8483916314495,"d":"35.848"},null,{"v":36.0374649597719,"d":"36.037"},null,{"v":34.307066679918,"d":"34.307"},null,{"v":37.0707192764921,"d":"37.071"},null,{"v":37.190964690354,"d":"37.191"},null,{"v":40.6847338289356,"d":"40.685"},null,{"v":385.241900685307,"d":"385.24"}]
["鄂州市","总客运量（万人次）",{"$f":"C36+C37+C38+C39","v":{"v":88.7385285569001,"d":"88.74"}},{"$f":"C35/R35-1","v":{"v":0.198701106139257,"d":"19.87%"}},{"v":77.3079710590833,"d":"77.31"},{"v":0.110318894661183,"d":"11.03%"},{"v":76.9493552675114,"d":"76.95"},{"v":0.0776190759833795,"d":"7.76%"},{"$f":"I36+I37+I38+I39","v":{"v":77.6321724526427,"d":"77.63"}},{"$f":"I35/X35-1","v":{"v":0.059576881912637,"d":"5.96%"}},{"v":68.3056473741138,"d":"68.31"},{"v":-0.0660222236371721,"d":"-6.60%"},{"v":66.4684547350712,"d":"66.47"},{"v":-0.0956331784822932,"d":"-9.56%"},{"v":455.402129445323,"d":"455.40"},{"v":0.046995213720793,"d":"4.70%"},null,{"$f":"R36+R37+R38+R39","v":{"v":74.0289035376856,"d":"74.03"}},{"$f":"R35/AT35-1","v":{"v":0.106333721926377,"d":"10.63%"}},{"v":69.6268175123454,"d":"69.63"},{"v":0.0389063135550056,"d":"3.89%"},{"v":71.4068236007157,"d":"71.41"},{"v":0.0145530473377102,"d":"1.46%"},{"$f":"X36+X37+X38+X39","v":{"v":73.2671444402498,"d":"73.27"}},{"$f":"X35/AZ35-1","v":{"v":0.00874062952378774,"d":"0.87%"}},{"v":73.1341249254508,"d":"73.13"},{"v":-0.00281089442583171,"d":"-0.28%"},{"v":73.4972282856684,"d":"73.50"},{"v":-0.0284388126955896,"d":"-2.84%"},{"$f":"AD36+AD37+AD38+AD39","v":{"v":75.5977480584749,"d":"75.60"}},{"$f":"AD35/BF35-1","v":{"v":0.0443254675194946,"d":"4.43%"}},{"v":73.9520763199187,"d":"73.95"},{"v":0.0401203807366828,"d":"4.01%"},{"v":74.4564371894974,"d":"74.46"},{"v":0.0553606560131741,"d":"5.54%"},{"$f":"AJ36+AJ37+AJ38+AJ39","v":{"v":74.1898326380197,"d":"74.19"}},{"$f":"AJ35/BL35-1","v":{"v":-0.0166830563496644,"d":"-1.67%"}},{"v":80.3566448933362,"d":"80.36"},{"v":0.0310286784451956,"d":"3.10%"},{"v":95.231749070143,"d":"95.23"},{"v":0.25284806908212,"d":"25.28%"},{"v":908.745530471506,"d":"908.75"},{"v":0.0452858463745127,"d":"4.53%"},null,{"v":793.362932538645,"d":"793.36"},{"$f":"AT36+AT37+AT38+AT39","v":{"v":66.9137187726544,"d":"66.91"}},null,{"v":67.0193419790581,"d":"67.02"},null,{"v":70.3825431189571,"d":"70.38"},null,{"$f":"AZ36+AZ37+AZ38+AZ39","v":{"v":72.6322924802168,"d":"72.63"}},null,{"v":73.340276700417,"d":"73.34"},null,{"v":75.6485842024895,"d":"75.65"},null,{"$f":"BF36+BF37+BF38+BF39","v":{"v":72.3890687431346,"d":"72.39"}},null,{"v":71.0995358705892,"d":"71.10"},null,{"v":70.5507039373353,"d":"70.55"},null,{"$f":"BL36+BL37+BL38+BL39","v":{"v":75.4485449651739,"d":"75.45"}},null,{"v":77.9383217686195,"d":"77.94"},null,{"v":76.0122088386289,"d":"76.01"},null,{"v":869.375141377274,"d":"869.38"}]
[null,"公路班线客运量（万人次）",{"$f":"[1]班线包车!C26","v":58.6181},{"$f":"C36/R36-1","v":{"v":0.0612934004674766,"d":"6.13%"}},{"$f":"[1]班线包车!E26","v":51.2609},{"v":-0.00459633070278997,"d":"-0.46%"},{"$f":"[1]班线包车!G26","v":51.4017},{"v":-0.0202014810861298,"d":"-2.02%"},{"$f":"[1]班线包车!I26","v":51.5443},{"$f":"I36/X36-1","v":{"v":-0.0244750414005205,"d":"-2.45%"}},{"$f":"[1]班线包车!K26","v":51.6972},{"v":-0.0248037712144962,"d":"-2.48%"},{"$f":"[1]班线包车!M26","v":50.2205},{"v":-0.0746227678859339,"d":"-7.46%"},{"v":314.7427,"d":"314.74"},{"v":-0.0143089025550897,"d":"-1.43%"},null,{"$f":"[1]班线包车!R26","v":55.2327},{"$f":"R36/AT36-1","v":{"v":0.178332792872747,"d":"17.83%"}},{"$f":"[1]班线包车!T26","v":51.4976},{"v":0.101392738596311,"d":"10.14%"},{"$f":"[1]班线包车!V26","v":52.4615},{"v":0.0501247062497248,"d":"5.01%"},{"$f":"[1]班线包车!X26","v":52.8375},{"$f":"X36/AZ36-1","v":{"v":0.0461421189142099,"d":"4.61%"}},{"$f":"[1]班线包车!Z26","v":53.0121},{"v":0.0182611301271192,"d":"1.83%"},{"$f":"[1]班线包车!AB26","v":54.2703},{"v":-0.0448884125383442,"d":"-4.49%"},{"$f":"[1]班线包车!AD26","v":50.3549},{"$f":"AD36/BF36-1","v":{"v":-0.0697001160221403,"d":"-6.97%"}},{"$f":"[1]班线包车!AF26","v":48.9525},{"v":-0.091087167623189,"d":"-9.11%"},{"$f":"[1]班线包车!AH26","v":49.2128},{"v":-0.0659261818085191,"d":"-6.59%"},{"$f":"[1]班线包车!AJ26","v":49.5826},{"$f":"AJ36/BL36-1","v":{"v":-0.11487935106457,"d":"-11.49%"}},{"$f":"[1]班线包车!AL26","v":52.5038},{"v":-0.141501397207547,"d":"-14.15%"},{"$f":"[1]班线包车!AN26","v":60.2661},{"v":0.0350216137214929,"d":"3.50%"},{"v":630.1844,"d":"630.18"},{"v":-0.013875716158802,"d":"-1.39%"},null,{"v":580.8248,"d":"580.82"},{"v":46.8736,"d":"46.87"},null,46.7568,null,49.9574,null,{"v":50.507,"d":"50.51"},null,{"v":52.0614,"d":"52.06"},null,{"v":56.8209,"d":"56.82"},null,{"v":54.1276,"d":"54.13"},null,{"v":53.8583,"d":"53.86"},null,{"v":52.6862,"d":"52.69"},null,{"v":56.0179,"d":"56.02"},null,{"v":61.1577,"d":"61.16"},null,{"v":58.2269,"d":"58.23"},null,{"v":639.0517,"d":"639.05"}]
[null,"城际城乡公交客运量（万人次）",{"$f":"[1]公交!C29-[1]公交!C31","v":15.76},{"$f":"C37/R37-1","v":{"v":-0.0186799501867985,"d":"-1.87%"}},{"$f":"[1]公交!E29-[1]公交!E31","v":15.72},{"v":-0.000635727908456452,"d":"-0.06%"},{"$f":"[1]公交!G29-[1]公交!G31","v":16.14},{"v":0.0286806883365212,"d":"2.87%"},{"$f":"[1]公交!I29-[1]公交!I31","v":16.81},{"$f":"I37/X37-1","v":{"v":0.000595238095237649,"d":"0.06%"}},{"$f":"[1]公交!K29-[1]公交!K31","v":11.82},{"v":-0.296009529481834,"d":"-29.60%"},{"$f":"[1]公交!M29-[1]公交!M31","v":11.38},{"v":-0.2896379525593,"d":"-28.96%"},{"v":87.6300000000001,"d":"87.63"},{"v":-0.0974353692450302,"d":"-9.74%"},null,{"$f":"[1]公交!R29-[1]公交!R31","v":16.06},{"$f":"R37/AT37-1","v":{"v":-0.0248937462052214,"d":"-2.49%"}},{"$f":"[1]公交!T29-[1]公交!T31","v":15.73},{"v":-0.112803158488437,"d":"-11.28%"},{"$f":"[1]公交!V29-[1]公交!V31","v":15.69},{"v":-0.0867287543655414,"d":"-8.67%"},{"$f":"[1]公交!X29-[1]公交!X31","v":16.8},{"$f":"X37/AZ37-1","v":{"v":-0.125455491931285,"d":"-12.55%"}},{"$f":"[1]公交!Z29-[1]公交!Z31","v":16.79},{"v":-0.0519480519480509,"d":"-5.19%"},{"$f":"[1]公交!AB29-[1]公交!AB31","v":16.02},{"v":-0.0290909090909085,"d":"-2.91%"},{"$f":"[1]公交!AD29-[1]公交!AD31","v":16.3},{"$f":"AD37/BF37-1","v":{"v":0.00803957946815159,"d":"0.80%"}},{"$f":"[1]公交!AF29-[1]公交!AF31","v":15.93},{"v":0.0120711562897082,"d":"1.21%"},{"$f":"[1]公交!AH29-[1]公交!AH31","v":15.6},{"v":0,"d":"0.00%"},{"$f":"[1]公交!AJ29-[1]公交!AJ31","v":15.79},{"$f":"AJ37/BL37-1","v":{"v":-0.0407047387606324,"d":"-4.07%"}},{"$f":"[1]公交!AL29-[1]公交!AL31","v":15.19},{"v":0.00596026490066204,"d":"0.60%"},{"$f":"[1]公交!AN29-[1]公交!AN31","v":15.34},{"v":0,"d":"0.00%"},191.24,{"v":-0.0400080317253148,"d":"-4.00%"},null,183.87,16.47,null,17.73,null,17.18,null,19.21,null,17.71,null,16.5,null,16.17,null,15.74,null,15.6,null,16.46,null,{"v":15.1,"d":"15.10"},null,15.34,null,199.21]
[null,"城际城乡巡游出租客运量（万人次）",{"$f":"[1]出租!C29-[1]出租!C31","v":8.08},{"$f":"C38/R38-1","v":{"v":3.32085561497325,"d":"332.09%"}},{"$f":"[1]出租!E29-[1]出租!E31","v":5.12},{"v":6.75757575757563,"d":"675.76%"},{"$f":"[1]出租!G29-[1]出租!G31","v":3.34},{"v":3.22784810126586,"d":"322.78%"},{"$f":"[1]出租!I29-[1]出租!I31","v":3.26},{"$f":"I38/X38-1","v":{"v":2.7906976744186,"d":"279.07%"}},{"$f":"[1]出租!K29-[1]出租!K31","v":1.19},{"v":0.322222222222219,"d":"32.22%"},{"$f":"[1]出租!M29-[1]出租!M31","v":1.15},{"v":0.337209302325581,"d":"33.72%"},22.14,{"v":2.72727272727272,"d":"272.73%"},null,{"$f":"[1]出租!R29-[1]出租!R31","v":1.87},{"$f":"R38/AT38-1","v":{"v":0.106508875739648,"d":"10.65%"}},{"$f":"[1]出租!T29-[1]出租!T31","v":0.660000000000011},{"v":-0.547945205479448,"d":"-54.79%"},{"$f":"[1]出租!V29-[1]出租!V31","v":0.789999999999992},{"v":-0.455172413793109,"d":"-45.52%"},{"$f":"[1]出租!X29-[1]出租!X31","v":0.859999999999999},{"$f":"X38/AZ38-1","v":{"v":-0.203703703703704,"d":"-20.37%"}},{"$f":"[1]出租!Z29-[1]出租!Z31","v":0.900000000000006},{"v":-0.383561643835617,"d":"-38.36%"},{"$f":"[1]出租!AB29-[1]出租!AB31","v":0.859999999999999},{"v":-0.188679245283019,"d":"-18.87%"},{"$f":"[1]出租!AD29-[1]出租!AD31","v":4.45999999999999},{"$f":"AD38/BF38-1","v":{"v":4.30952380952387,"d":"430.95%"}},{"$f":"[1]出租!AF29-[1]出租!AF31","v":4.33999999999999},{"v":4.71052631578942,"d":"471.05%"},{"$f":"[1]出租!AH29-[1]出租!AH31","v":4.68000000000001},{"v":4.44186046511629,"d":"444.19%"},{"$f":"[1]出租!AJ29-[1]出租!AJ31","v":4.28},{"$f":"AJ38/BL38-1","v":{"v":2.1240875912409,"d":"212.41%"}},{"$f":"[1]出租!AL29-[1]出租!AL31","v":7.04000000000001},{"v":11.5714285714285,"d":"1157.14%"},{"$f":"[1]出租!AN29-[1]出租!AN31","v":11.89},{"v":9.90825688073405,"d":"990.83%"},42.63,{"v":2.11622807017544,"d":"211.62%"},null,12.59,1.69,null,1.46000000000001,null,1.45,null,1.08,null,1.46000000000001,null,1.06,null,0.839999999999989,null,0.760000000000005,null,0.859999999999999,null,{"v":1.36999999999999,"d":"1.37"},null,{"v":0.560000000000002,"d":"0.56"},null,{"v":1.08999999999999,"d":"1.09"},null,13.68]
[null,"城际城乡网约车客运量(万人次)",{"$f":"[1]网约车!C29-[1]网约车!C31","v":{"v":6.2804285569001,"d":"6.280"}},{"$f":"C39/R39-1","v":{"v":6.25052286634699,"d":"625.05%"}},{"$f":"[1]网约车!E29-[1]网约车!E31","v":{"v":5.2070710590833,"d":"5.207"}},{"v":1.99391595480279,"d":"199.39%"},{"$f":"[1]网约车!G29-[1]网约车!G31","v":{"v":6.0676552675114,"d":"6.068"}},{"v":1.46120033319355,"d":"146.12%"},{"$f":"[1]网约车!I29-[1]网约车!I31","v":{"v":6.0178724526427,"d":"6.018"}},{"$f":"I39/X39-1","v":{"v":1.17279603301712,"d":"117.28%"}},{"$f":"[1]网约车!K29-[1]网约车!K31","v":{"v":3.5984473741138,"d":"3.598"}},{"v":0.479609578198217,"d":"47.96%"},{"$f":"[1]网约车!M29-[1]网约车!M31","v":{"v":3.7179547350712,"d":"3.718"}},{"v":0.584179098174847,"d":"58.42%"},{"v":30.8894294453225,"d":"30.89"},{"v":1.44778441742909,"d":"144.78%"},null,{"$f":"[1]网约车!R29-[1]网约车!R31","v":{"v":0.8662035376856,"d":"0.866"}},{"$f":"R39/AT39-1","v":{"v":-0.539282544122106,"d":"-53.93%"}},{"$f":"[1]网约车!T29-[1]网约车!T31","v":{"v":1.7392175123454,"d":"1.739"}},{"v":0.621584559210322,"d":"62.16%"},{"$f":"[1]网约车!V29-[1]网约车!V31","v":{"v":2.4653236007157,"d":"2.465"}},{"v":0.373329833527689,"d":"37.33%"},{"$f":"[1]网约车!X29-[1]网约车!X31","v":{"v":2.7696444402498,"d":"2.770"}},{"$f":"X39/AZ39-1","v":{"v":0.50910248372105,"d":"50.91%"}},{"$f":"[1]网约车!Z29-[1]网约车!Z31","v":{"v":2.4320249254508,"d":"2.432"}},{"v":0.153232393799942,"d":"15.32%"},{"$f":"[1]网约车!AB29-[1]网约车!AB31","v":{"v":2.3469282856684,"d":"2.347"}},{"v":0.851350897218253,"d":"85.14%"},{"$f":"[1]网约车!AD29-[1]网约车!AD31","v":{"v":4.4828480584749,"d":"4.483"}},{"$f":"AD39/BF39-1","v":{"v":2.58206953475035,"d":"258.21%"}},{"$f":"[1]网约车!AF29-[1]网约车!AF31","v":{"v":4.7295763199187,"d":"4.730"}},{"v":5.38066303531583,"d":"538.07%"},{"$f":"[1]网约车!AH29-[1]网约车!AH31","v":{"v":4.9636371894974,"d":"4.964"}},{"v":2.53408563518494,"d":"253.41%"},{"$f":"[1]网约车!AJ29-[1]网约车!AJ31","v":{"v":4.5372326380197,"d":"4.537"}},{"$f":"AJ39/BL39-1","v":{"v":1.83462775114956,"d":"183.46%"}},{"$f":"[1]网约车!AL29-[1]网约车!AL31","v":{"v":5.6228448933362,"d":"5.623"}},{"v":4.01761169628443,"d":"401.76%"},{"$f":"[1]网约车!AN29-[1]网约车!AN31","v":{"v":7.735649070143,"d":"7.736"}},{"v":4.70766518277045,"d":"470.77%"},{"v":44.6911304715056,"d":"44.69"},{"v":1.56352888132367,"d":"156.35%"},null,{"v":16.0781325386454,"d":"16.08"},{"v":1.88011877265439,"d":"1.880"},null,{"v":1.07254197905804,"d":"1.073"},null,{"v":1.79514311895708,"d":"1.795"},null,{"v":1.83529248021684,"d":"1.835"},null,{"v":2.10887670041698,"d":"2.109"},null,{"v":1.26768420248953,"d":"1.268"},null,{"v":1.25146874313464,"d":"1.251"},null,{"v":0.741235870589207,"d":"0.741"},null,{"v":1.40450393733531,"d":"1.405"},null,{"v":1.60064496517388,"d":"1.601"},null,{"v":1.12062176861951,"d":"1.121"},null,{"v":1.35530883862886,"d":"1.355"},null,{"v":17.4334413772743,"d":"17.43"}]
["荆门市","总客运量（万人次）",{"$f":"C41+C42+C43+C44","v":{"v":100.628313877539,"d":"100.63"}},{"$f":"C40/R40-1","v":{"v":0.0251355100299206,"d":"2.51%"}},{"v":102.001972121271,"d":"102.00"},{"v":0.130200600410014,"d":"13.02%"},{"v":98.8750014992181,"d":"98.88"},{"v":-0.0305427620999744,"d":"-3.05%"},{"$f":"I41+I42+I43+I44","v":{"v":99.045389281469,"d":"99.05"}},{"$f":"I40/X40-1","v":{"v":-0.0266389416041233,"d":"-2.66%"}},{"v":98.946560096165,"d":"98.95"},{"v":0.0762958820534392,"d":"7.63%"},{"v":90.009748921101,"d":"90.01"},{"v":-2.43221281067219E-3,"d":"-0.24%"},{"v":589.506985796763,"d":"589.51"},{"v":0.0264433933229686,"d":"2.64%"},null,{"$f":"R41+R42+R43+R44","v":{"v":98.1609873943416,"d":"98.16"}},{"$f":"R40/AT40-1","v":{"v":-0.0103041781614723,"d":"-1.03%"}},{"v":90.2512103464347,"d":"90.25"},{"v":-0.0116145636689,"d":"-1.16%"},{"v":101.990059626967,"d":"101.99"},{"v":0.0400472169222137,"d":"4.00%"},{"$f":"X41+X42+X43+X44","v":{"v":101.756063104372,"d":"101.76"}},{"$f":"X40/AZ40-1","v":{"v":0.119968943584244,"d":"12.00%"}},{"v":91.9324897047708,"d":"91.93"},{"v":-0.0116795031201229,"d":"-1.17%"},{"v":90.2292055507382,"d":"90.23"},{"v":-0.0520768442412466,"d":"-5.21%"},{"$f":"AD41+AD42+AD43+AD44","v":{"v":94.6407807013854,"d":"94.64"}},{"$f":"AD40/BF40-1","v":{"v":-0.0531153440807717,"d":"-5.31%"}},{"v":97.2720232534238,"d":"97.27"},{"v":0.0167421073366849,"d":"1.67%"},{"v":95.0545904161333,"d":"95.05"},{"v":-0.00858746625288243,"d":"-0.86%"},{"$f":"AJ41+AJ42+AJ43+AJ44","v":{"v":107.36177091192,"d":"107.36"}},{"$f":"AJ40/BL40-1","v":{"v":0.0301239469975998,"d":"3.01%"}},{"v":104.537822747425,"d":"104.54"},{"v":0.0935205731973721,"d":"9.35%"},{"v":107.960681147068,"d":"107.96"},{"v":0.113474076954633,"d":"11.35%"},{"v":1181.14768490498,"d":"1181.15"},{"v":0.0218469713971379,"d":"2.18%"},null,{"v":1058.93646791685,"d":"1058.94"},{"$f":"AT41+AT42+AT43+AT44","v":{"v":99.1829865584266,"d":"99.18"}},null,{"v":91.3117565566814,"d":"91.31"},null,{"v":98.062912882728,"d":"98.06"},null,{"$f":"AZ41+AZ42+AZ43+AZ44","v":{"v":90.8561471166524,"d":"90.86"}},null,{"v":93.0189042876286,"d":"93.02"},null,{"v":95.1862025973143,"d":"95.19"},null,{"$f":"BF41+BF42+BF43+BF44","v":{"v":99.9496402331167,"d":"99.95"}},null,{"v":95.6703008083573,"d":"95.67"},null,{"v":95.8779389815332,"d":"95.88"},null,{"$f":"BL41+BL42+BL43+BL44","v":{"v":104.222187266723,"d":"104.22"}},null,{"v":95.5974906276928,"d":"95.60"},null,{"v":96.9584145527142,"d":"96.96"},null,{"v":1155.89488246957,"d":"1155.89"}]
[null,"公路班线客运量（万人次）",{"$f":"[1]班线包车!C28","v":39.055},{"$f":"C41/R41-1","v":{"v":-0.339186550572406,"d":"-33.92%"}},{"$f":"[1]班线包车!E28","v":40.8426},{"v":-0.273060267726037,"d":"-27.31%"},{"$f":"[1]班线包车!G28","v":40.7877},{"v":-0.260702653029042,"d":"-26.07%"},{"$f":"[1]班线包车!I28","v":41.5487},{"$f":"I41/X41-1","v":{"v":-0.255338253691165,"d":"-25.53%"}},{"$f":"[1]班线包车!K28","v":41.3523},{"v":-0.140797486738682,"d":"-14.08%"},{"$f":"[1]班线包车!M28","v":35.2665},{"v":-0.294585350242029,"d":"-29.46%"},{"v":238.8528,"d":"238.85"},{"v":-0.263651573319374,"d":"-26.37%"},null,{"$f":"[1]班线包车!R28","v":59.1014},{"$f":"R41/AT41-1","v":{"v":-0.124247255743379,"d":"-12.42%"}},{"$f":"[1]班线包车!T28","v":56.1843},{"v":-0.106757944841993,"d":"-10.68%"},{"$f":"[1]班线包车!V28","v":55.1709},{"v":-0.112327299231082,"d":"-11.23%"},{"$f":"[1]班线包车!X28","v":55.7954},{"$f":"X41/AZ41-1","v":{"v":-0.116188080544397,"d":"-11.62%"}},{"$f":"[1]班线包车!Z28","v":48.1287},{"v":-0.24924306119934,"d":"-24.92%"},{"$f":"[1]班线包车!AB28","v":49.994},{"v":-0.190280909067351,"d":"-19.03%"},{"$f":"[1]班线包车!AD28","v":48.8363},{"$f":"AD41/BF41-1","v":{"v":-0.223851064742782,"d":"-22.39%"}},{"$f":"[1]班线包车!AF28","v":47.4127},{"v":-0.24349805978913,"d":"-24.35%"},{"$f":"[1]班线包车!AH28","v":47.5084},{"v":-0.229347737927231,"d":"-22.93%"},{"$f":"[1]班线包车!AJ28","v":48.6599},{"$f":"AJ41/BL41-1","v":{"v":-0.272865701037506,"d":"-27.29%"}},{"$f":"[1]班线包车!AL28","v":46.5076},{"v":-0.237667808612127,"d":"-23.77%"},{"$f":"[1]班线包车!AN28","v":45.0386},{"v":-0.204655663825895,"d":"-20.47%"},{"v":608.3382,"d":"608.34"},{"v":-0.192451227209884,"d":"-19.25%"},null,{"v":696.6867,"d":"696.69"},{"v":67.4864,"d":"67.49"},null,62.8993,null,62.1523,null,{"v":63.1304,"d":"63.13"},null,{"v":64.1069,"d":"64.11"},null,{"v":61.7424,"d":"61.74"},null,{"v":62.9213,"d":"62.92"},null,{"v":62.6736,"d":"62.67"},null,{"v":61.647,"d":"61.65"},null,{"v":66.9201,"d":"66.92"},null,{"v":61.007,"d":"61.01"},null,{"v":56.6278,"d":"56.63"},null,{"v":753.3145,"d":"753.31"}]
[null,"城际城乡公交客运量（万人次）",{"$f":"[1]公交!C33-[1]公交!C35","v":12.36},{"$f":"C42/R42-1","v":{"v":41.6206896551778,"d":"4162.07%"}},{"$f":"[1]公交!E33-[1]公交!E35","v":12.14},{"v":43.9629629629659,"d":"4396.30%"},{"$f":"[1]公交!G33-[1]公交!G35","v":12.2700000000001},{"v":0.149953139643862,"d":"15.00%"},{"$f":"[1]公交!I33-[1]公交!I35","v":12.24},{"$f":"I42/X42-1","v":{"v":0.164605137963846,"d":"16.46%"}},{"$f":"[1]公交!K33-[1]公交!K35","v":11.85},{"v":0.129647283126789,"d":"12.96%"},{"$f":"[1]公交!M33-[1]公交!M35","v":11.8199999999999},{"v":0.108818011257033,"d":"10.88%"},{"v":72.6800000000001,"d":"72.68"},{"v":0.694567498251343,"d":"69.46%"},null,{"$f":"[1]公交!R33-[1]公交!R35","v":0.289999999999964},{"$f":"R42/AT42-1","v":{"v":0.0740740740740111,"d":"7.41%"}},{"$f":"[1]公交!T33-[1]公交!T35","v":0.269999999999982},{"v":1.6999999999992,"d":"170.00%"},{"$f":"[1]公交!V33-[1]公交!V35","v":10.6700000000001},{"v":58.2777777777946,"d":"5827.78%"},{"$f":"[1]公交!X33-[1]公交!X35","v":10.51},{"$f":"X42/AZ42-1","v":{"v":39.4230769230783,"d":"3942.31%"}},{"$f":"[1]公交!Z33-[1]公交!Z35","v":10.49},{"v":30.7878787878749,"d":"3078.79%"},{"$f":"[1]公交!AB33-[1]公交!AB35","v":10.66},{"v":33.3870967741995,"d":"3338.71%"},{"$f":"[1]公交!AD33-[1]公交!AD35","v":10.0600000000001},{"$f":"AD42/BF42-1","v":{"v":44.7272727272674,"d":"4472.73%"}},{"$f":"[1]公交!AF33-[1]公交!AF35","v":10.71},{"v":38.6666666666528,"d":"3866.67%"},{"$f":"[1]公交!AH33-[1]公交!AH35","v":11.75},{"v":46,"d":"4600.00%"},{"$f":"[1]公交!AJ33-[1]公交!AJ35","v":13.74},{"$f":"AJ42/BL42-1","v":{"v":49.8888888888923,"d":"4988.89%"}},{"$f":"[1]公交!AL33-[1]公交!AL35","v":12.01},{"v":43.4814814814844,"d":"4348.15%"},{"$f":"[1]公交!AN33-[1]公交!AN35","v":14},{"v":47.2758620689715,"d":"4727.59%"},115.16,{"v":37.1324503311261,"d":"3713.25%"},null,{"v":2.73000000000002,"d":"2.73"},0.269999999999982,null,0.100000000000023,null,0.17999999999995,null,0.259999999999991,null,0.330000000000041,null,0.309999999999945,null,0.220000000000027,null,0.270000000000095,null,0.25,null,{"v":0.269999999999982,"d":"0.27"},null,{"v":0.269999999999982,"d":"0.27"},null,{"v":0.289999999999964,"d":"0.29"},null,{"v":3.01999999999998,"d":"3.02"}]
[null,"城际城乡巡游出租客运量（万人次）",{"$f":"[1]出租!C33-[1]出租!C35","v":29.99},{"$f":"C43/R43-1","v":{"v":-0.116902237926972,"d":"-11.69%"}},{"$f":"[1]出租!E33-[1]出租!E35","v":32.36},{"v":0.131864288212661,"d":"13.19%"},{"$f":"[1]出租!G33-[1]出租!G35","v":28.51},{"v":-0.0306018361101659,"d":"-3.06%"},{"$f":"[1]出租!I33-[1]出租!I35","v":27.53},{"$f":"I43/X43-1","v":{"v":-2.53623188405983E-3,"d":"-0.25%"}},{"$f":"[1]出租!K33-[1]出租!K35","v":27.69},{"v":0.0770128354725794,"d":"7.70%"},{"$f":"[1]出租!M33-[1]出租!M35","v":25.1},{"v":0.0984682713347949,"d":"9.85%"},171.18,{"v":0.0182012847965742,"d":"1.82%"},null,{"$f":"[1]出租!R33-[1]出租!R35","v":33.96},{"$f":"R43/AT43-1","v":{"v":0.405047579644186,"d":"40.50%"}},{"$f":"[1]出租!T33-[1]出租!T35","v":28.59},{"v":0.1683694319575,"d":"16.84%"},{"$f":"[1]出租!V33-[1]出租!V35","v":29.41},{"v":0.0169432918395562,"d":"1.69%"},{"$f":"[1]出租!X33-[1]出租!X35","v":27.6},{"$f":"X43/AZ43-1","v":{"v":0.330120481927712,"d":"33.01%"}},{"$f":"[1]出租!Z33-[1]出租!Z35","v":25.71},{"v":0.177197802197801,"d":"17.72%"},{"$f":"[1]出租!AB33-[1]出租!AB35","v":22.85},{"v":-0.147706079820964,"d":"-14.77%"},{"$f":"[1]出租!AD33-[1]出租!AD35","v":26.5},{"$f":"AD43/BF43-1","v":{"v":-0.0789016336461592,"d":"-7.89%"}},{"$f":"[1]出租!AF33-[1]出租!AF35","v":28.28},{"v":0.112072355485648,"d":"11.21%"},{"$f":"[1]出租!AH33-[1]出租!AH35","v":25.61},{"v":-0.0176448024549285,"d":"-1.76%"},{"$f":"[1]出租!AJ33-[1]出租!AJ35","v":28.51},{"$f":"AJ43/BL43-1","v":{"v":0.00742049469964634,"d":"0.74%"}},{"$f":"[1]出租!AL33-[1]出租!AL35","v":27.31},{"v":0.0739284309870234,"d":"7.39%"},{"$f":"[1]出租!AN33-[1]出租!AN35","v":30.5},{"v":0.058292852185982,"d":"5.83%"},334.83,{"v":0.0808638388533796,"d":"8.09%"},null,280.96,24.17,null,24.47,null,28.92,null,20.75,null,21.84,null,26.81,null,28.77,null,25.43,null,26.07,null,{"v":28.3,"d":"28.30"},null,25.43,null,28.82,null,309.78]
[null,"城际城乡网约车客运量(万人次)",{"$f":"[1]网约车!C33-[1]网约车!C35","v":{"v":19.223313877539,"d":"19.223"}},{"$f":"C44/R44-1","v":{"v":2.99687380671251,"d":"299.69%"}},{"$f":"[1]网约车!E33-[1]网约车!E35","v":{"v":16.659372121271,"d":"16.659"}},{"v":2.19947358661131,"d":"219.95%"},{"$f":"[1]网约车!G33-[1]网约车!G35","v":{"v":17.307301499218,"d":"17.307"}},{"v":1.56816909781495,"d":"156.82%"},{"$f":"[1]网约车!I33-[1]网约车!I35","v":{"v":17.726689281469,"d":"17.727"}},{"$f":"I44/X44-1","v":{"v":1.25798624215546,"d":"125.80%"}},{"$f":"[1]网约车!K33-[1]网约车!K35","v":{"v":18.054260096165,"d":"18.054"}},{"v":1.37437656710013,"d":"137.44%"},{"$f":"[1]网约车!M33-[1]网约车!M35","v":{"v":17.823248921101,"d":"17.823"}},{"v":1.65021623304054,"d":"165.02%"},{"v":106.794185796763,"d":"106.79"},{"v":1.74286168741645,"d":"174.29%"},null,{"$f":"[1]网约车!R33-[1]网约车!R35","v":{"v":4.8095873943417,"d":"4.810"}},{"$f":"R44/AT44-1","v":{"v":-0.337210773189684,"d":"-33.72%"}},{"$f":"[1]网约车!T33-[1]网约车!T35","v":{"v":5.2069103464347,"d":"5.207"}},{"v":0.355099340649865,"d":"35.51%"},{"$f":"[1]网约车!V33-[1]网约车!V35","v":{"v":6.7391596269667,"d":"6.739"}},{"v":-0.0104914575225006,"d":"-1.05%"},{"$f":"[1]网约车!X33-[1]网约车!X35","v":{"v":7.8506631043718,"d":"7.851"}},{"$f":"X44/AZ44-1","v":{"v":0.168993258383017,"d":"16.90%"}},{"$f":"[1]网约车!Z33-[1]网约车!Z35","v":{"v":7.6037897047708,"d":"7.604"}},{"v":0.127823326769998,"d":"12.78%"},{"$f":"[1]网约车!AB33-[1]网约车!AB35","v":{"v":6.7252055507383,"d":"6.725"}},{"v":0.0634749341471226,"d":"6.35%"},{"$f":"[1]网约车!AD33-[1]网约车!AD35","v":{"v":9.2444807013853,"d":"9.244"}},{"$f":"AD44/BF44-1","v":{"v":0.150048446979083,"d":"15.00%"}},{"$f":"[1]网约车!AF33-[1]网约车!AF35","v":{"v":10.8693232534237,"d":"10.869"}},{"v":0.489621616522172,"d":"48.96%"},{"$f":"[1]网约车!AH33-[1]网约车!AH35","v":{"v":10.1861904161333,"d":"10.186"}},{"v":0.287608264949504,"d":"28.76%"},{"$f":"[1]网约车!AJ33-[1]网约车!AJ35","v":{"v":16.45187091192,"d":"16.452"}},{"$f":"AJ44/BL44-1","v":{"v":0.884070830878619,"d":"88.41%"}},{"$f":"[1]网约车!AL33-[1]网约车!AL35","v":{"v":18.710222747425,"d":"18.710"}},{"v":1.10452083365849,"d":"110.45%"},{"$f":"[1]网约车!AN33-[1]网约车!AN35","v":{"v":18.422081147068,"d":"18.422"}},{"v":0.641806788792313,"d":"64.18%"},{"v":122.819484904979,"d":"122.82"},{"v":0.36799912772269,"d":"36.80%"},null,{"v":78.5597679168544,"d":"78.56"},{"v":7.2565865584266,"d":"7.257"},null,{"v":3.84245655668139,"d":"3.842"},null,{"v":6.81061288272804,"d":"6.811"},null,{"v":6.71574711665237,"d":"6.716"},null,{"v":6.74200428762853,"d":"6.742"},null,{"v":6.32380259731437,"d":"6.324"},null,{"v":8.03834023311666,"d":"8.038"},null,{"v":7.2967008083572,"d":"7.297"},null,{"v":7.91093898153316,"d":"7.911"},null,{"v":8.73208726672331,"d":"8.732"},null,{"v":8.89049062769278,"d":"8.890"},null,{"v":11.2206145527142,"d":"11.221"},null,{"v":89.7803824695686,"d":"89.78"}]
["孝感市","总客运量（万人次）",{"$f":"C46+C47+C48+C49","v":{"v":324.791951951275,"d":"324.79"}},{"$f":"C45/R45-1","v":{"v":0.162777013358421,"d":"16.28%"}},{"v":325.149634655659,"d":"325.15"},{"v":0.152183671641564,"d":"15.22%"},{"v":321.922646371905,"d":"321.92"},{"v":0.132443325329963,"d":"13.24%"},{"$f":"I46+I47+I48+I49","v":{"v":322.867200968946,"d":"322.87"}},{"$f":"I45/X45-1","v":{"v":0.125988250000141,"d":"12.60%"}},{"v":344.331811145158,"d":"344.33"},{"v":-0.129780491993314,"d":"-12.98%"},{"v":360.016004677877,"d":"360.02"},{"v":0.0342078696491863,"d":"3.42%"},{"v":1999.07924977082,"d":"1999.08"},{"v":0.0654181795395352,"d":"6.54%"},null,{"$f":"R46+R47+R48+R49","v":{"v":279.324365910181,"d":"279.32"}},{"$f":"R45/AT45-1","v":{"v":-0.10103445261254,"d":"-10.10%"}},{"v":282.202953104174,"d":"282.20"},{"v":0.036821546787932,"d":"3.68%"},{"v":284.272633491928,"d":"284.27"},{"v":0.0053955944221602,"d":"0.54%"},{"$f":"X46+X47+X48+X49","v":{"v":286.741181330183,"d":"286.74"}},{"$f":"X45/AZ45-1","v":{"v":0.0115697010932398,"d":"1.16%"}},{"v":395.683856747684,"d":"395.68"},{"v":0.35575174753245,"d":"35.58%"},{"v":348.107972529737,"d":"348.11"},{"v":0.259295409545848,"d":"25.93%"},{"$f":"AD46+AD47+AD48+AD49","v":{"v":327.546122539273,"d":"327.55"}},{"$f":"AD45/BF45-1","v":{"v":0.206531029525727,"d":"20.65%"}},{"v":321.251776595065,"d":"321.25"},{"v":0.239760313440114,"d":"23.98%"},{"v":329.938966303657,"d":"329.94"},{"v":0.243351975208671,"d":"24.34%"},{"$f":"AJ46+AJ47+AJ48+AJ49","v":{"v":353.99011865535,"d":"353.99"}},{"$f":"AJ45/BL45-1","v":{"v":0.224021160060217,"d":"22.40%"}},{"v":348.678134657393,"d":"348.68"},{"v":0.255798047338084,"d":"25.58%"},{"v":349.927699801842,"d":"349.93"},{"v":0.29932205289985,"d":"29.93%"},{"v":3907.66578166647,"d":"3907.67"},{"v":0.16663090965202,"d":"16.66%"},null,{"v":3080.21487100097,"d":"3080.21"},{"$f":"AT46+AT47+AT48+AT49","v":{"v":310.717542760057,"d":"310.72"}},null,{"v":272.180833797713,"d":"272.18"},null,{"v":282.747045112437,"d":"282.75"},null,{"$f":"AZ46+AZ47+AZ48+AZ49","v":{"v":283.461615171245,"d":"283.46"}},null,{"v":291.855686314145,"d":"291.86"},null,{"v":276.430748409763,"d":"276.43"},null,{"$f":"BF46+BF47+BF48+BF49","v":{"v":271.477578714264,"d":"271.48"}},null,{"v":259.124100935001,"d":"259.12"},null,{"v":265.362482130841,"d":"265.36"},null,{"$f":"BL46+BL47+BL48+BL49","v":{"v":289.202613652476,"d":"289.20"}},null,{"v":277.654624003028,"d":"277.65"},null,{"v":269.315601178989,"d":"269.32"},null,{"v":3349.53047217996,"d":"3349.53"}]
[null,"公路班线客运量（万人次）",{"$f":"[1]班线包车!C32","v":59.3255},{"$f":"C46/R46-1","v":{"v":-0.194619984659558,"d":"-19.46%"}},{"$f":"[1]班线包车!E32","v":60.7363},{"v":-0.159569713331332,"d":"-15.96%"},{"$f":"[1]班线包车!G32","v":56.7931},{"v":-0.238385986745233,"d":"-23.84%"},{"$f":"[1]班线包车!I32","v":61.8497},{"$f":"I46/X46-1","v":{"v":-0.212850766726525,"d":"-21.29%"}},{"$f":"[1]班线包车!K32","v":62.0998},{"v":-0.294334888604551,"d":"-29.43%"},{"$f":"[1]班线包车!M32","v":62.8884},{"v":-0.135023168874896,"d":"-13.50%"},{"v":363.6928,"d":"363.69"},{"v":-0.208985854986424,"d":"-20.90%"},null,{"$f":"[1]班线包车!R32","v":73.6615},{"$f":"R46/AT46-1","v":{"v":-0.176084568733907,"d":"-17.61%"}},{"$f":"[1]班线包车!T32","v":72.2681},{"v":-0.151141238212921,"d":"-15.11%"},{"$f":"[1]班线包车!V32","v":74.5694},{"v":-0.158369365617357,"d":"-15.84%"},{"$f":"[1]班线包车!X32","v":78.5743},{"$f":"X46/AZ46-1","v":{"v":-0.160810712668427,"d":"-16.08%"}},{"$f":"[1]班线包车!Z32","v":88.0018},{"v":-0.0512150129215403,"d":"-5.12%"},{"$f":"[1]班线包车!AB32","v":72.7053},{"v":-0.152618881118881,"d":"-15.26%"},{"$f":"[1]班线包车!AD32","v":66.0679},{"$f":"AD46/BF46-1","v":{"v":-0.192063208663921,"d":"-19.21%"}},{"$f":"[1]班线包车!AF32","v":64.5414},{"v":-0.183146400176175,"d":"-18.31%"},{"$f":"[1]班线包车!AH32","v":66.3654},{"v":-0.142599124064959,"d":"-14.26%"},{"$f":"[1]班线包车!AJ32","v":69.6476},{"$f":"AJ46/BL46-1","v":{"v":-0.191636838024671,"d":"-19.16%"}},{"$f":"[1]班线包车!AL32","v":65.118},{"v":-0.229349980768662,"d":"-22.93%"},{"$f":"[1]班线包车!AN32","v":62.5022},{"v":-0.164985117218603,"d":"-16.50%"},{"v":854.0229,"d":"854.02"},{"v":-0.16191817066755,"d":"-16.19%"},null,{"v":944.1693,"d":"944.17"},{"v":89.4042,"d":"89.40"},null,85.1356,null,88.6011,null,{"v":93.6312,"d":"93.63"},null,{"v":92.7521,"d":"92.75"},null,{"v":85.8,"d":"85.80"},null,{"v":81.7736,"d":"81.77"},null,{"v":79.0122,"d":"79.01"},null,{"v":77.403,"d":"77.40"},null,{"v":86.1588,"d":"86.16"},null,{"v":84.4975,"d":"84.50"},null,{"v":74.8516,"d":"74.85"},null,{"v":1019.0209,"d":"1019.02"}]
[null,"城际城乡公交客运量（万人次）",{"$f":"[1]公交!C37-[1]公交!C39","v":155.57},{"$f":"C47/R47-1","v":{"v":0.294798168955472,"d":"29.48%"}},{"$f":"[1]公交!E37-[1]公交!E39","v":161},{"v":0.299015652735194,"d":"29.90%"},{"$f":"[1]公交!G37-[1]公交!G39","v":159.77},{"v":0.259717732397698,"d":"25.97%"},{"$f":"[1]公交!I37-[1]公交!I39","v":160.12},{"$f":"I47/X47-1","v":{"v":0.284144678803432,"d":"28.41%"}},{"$f":"[1]公交!K37-[1]公交!K39","v":166.94},{"v":0.00288357563378572,"d":"0.29%"},{"$f":"[1]公交!M37-[1]公交!M39","v":172.51},{"v":0.0980204951944497,"d":"9.80%"},975.91,{"v":0.191325471813277,"d":"19.13%"},null,{"$f":"[1]公交!R37-[1]公交!R39","v":120.15},{"$f":"R47/AT47-1","v":{"v":0.146688299293758,"d":"14.67%"}},{"$f":"[1]公交!T37-[1]公交!T39","v":123.94},{"v":0.264048954614993,"d":"26.40%"},{"$f":"[1]公交!V37-[1]公交!V39","v":126.83},{"v":0.192123319860889,"d":"19.21%"},{"$f":"[1]公交!X37-[1]公交!X39","v":124.69},{"$f":"X47/AZ47-1","v":{"v":0.177876440581901,"d":"17.79%"}},{"$f":"[1]公交!Z37-[1]公交!Z39","v":166.46},{"v":0.525476539589443,"d":"52.55%"},{"$f":"[1]公交!AB37-[1]公交!AB39","v":157.11},{"v":0.480633305060786,"d":"48.06%"},{"$f":"[1]公交!AD37-[1]公交!AD39","v":147.77},{"$f":"AD47/BF47-1","v":{"v":0.404924890663624,"d":"40.49%"}},{"$f":"[1]公交!AF37-[1]公交!AF39","v":146.67},{"v":0.503536647872886,"d":"50.35%"},{"$f":"[1]公交!AH37-[1]公交!AH39","v":153.73},{"v":0.492234517569404,"d":"49.22%"},{"$f":"[1]公交!AJ37-[1]公交!AJ39","v":156.77},{"$f":"AJ47/BL47-1","v":{"v":0.325974794891314,"d":"32.60%"}},{"$f":"[1]公交!AL37-[1]公交!AL39","v":158.77},{"v":0.422925255422119,"d":"42.29%"},{"$f":"[1]公交!AN37-[1]公交!AN39","v":155.16},{"v":0.412214435241649,"d":"41.22%"},1738.05,{"v":0.362385752582815,"d":"36.24%"},null,1165.87,104.78,null,98.05,null,106.39,null,105.86,null,109.12,null,106.11,null,105.18,null,97.55,null,103.02,null,118.23,null,111.58,null,109.87,null,1275.74]
[null,"城际城乡巡游出租客运量（万人次）",{"$f":"[1]出租!C37-[1]出租!C39","v":77.78},{"$f":"C48/R48-1","v":{"v":0.0323865144677462,"d":"3.24%"}},{"$f":"[1]出租!E37-[1]出租!E39","v":78.4},{"v":0.0438024231127683,"d":"4.38%"},{"$f":"[1]出租!G37-[1]出租!G39","v":72.68},{"v":0.0384340620088583,"d":"3.84%"},{"$f":"[1]出租!I37-[1]出租!I39","v":68.88},{"$f":"I48/X48-1","v":{"v":0.00540067143482714,"d":"0.54%"}},{"$f":"[1]出租!K37-[1]出租!K39","v":77.6},{"v":-0.360632775809508,"d":"-36.06%"},{"$f":"[1]出租!M37-[1]出租!M39","v":85.8},{"v":-0.141656662665066,"d":"-14.17%"},461.14,{"v":-0.0963000705495021,"d":"-9.63%"},null,{"$f":"[1]出租!R37-[1]出租!R39","v":75.34},{"$f":"R48/AT48-1","v":{"v":-0.252208436724566,"d":"-25.22%"}},{"$f":"[1]出租!T37-[1]出租!T39","v":75.11},{"v":-0.0534341524889734,"d":"-5.34%"},{"$f":"[1]出租!V37-[1]出租!V39","v":69.99},{"v":-0.0701474691111995,"d":"-7.01%"},{"$f":"[1]出租!X37-[1]出租!X39","v":68.51},{"$f":"X48/AZ48-1","v":{"v":-0.0316607773851592,"d":"-3.17%"}},{"$f":"[1]出租!Z37-[1]出租!Z39","v":121.37},{"v":0.606911161128028,"d":"60.69%"},{"$f":"[1]出租!AB37-[1]出租!AB39","v":99.96},{"v":0.377808407994487,"d":"37.78%"},{"$f":"[1]出租!AD37-[1]出租!AD39","v":93.1},{"$f":"AD48/BF48-1","v":{"v":0.326210826210826,"d":"32.62%"}},{"$f":"[1]出租!AF37-[1]出租!AF39","v":88.05},{"v":0.281659388646288,"d":"28.17%"},{"$f":"[1]出租!AH37-[1]出租!AH39","v":89.33},{"v":0.309824046920821,"d":"30.98%"},{"$f":"[1]出租!AJ37-[1]出租!AJ39","v":95.06},{"$f":"AJ48/BL48-1","v":{"v":0.403306761145557,"d":"40.33%"}},{"$f":"[1]出租!AL37-[1]出租!AL39","v":91.45},{"v":0.424454828660436,"d":"42.45%"},{"$f":"[1]出租!AN37-[1]出租!AN39","v":96.03},{"v":0.488375697458152,"d":"48.84%"},{"v":1063.3,"d":"1063.30"},{"v":0.211378964637258,"d":"21.14%"},null,813.24,100.75,null,79.35,null,75.27,null,70.75,null,75.53,null,72.55,null,70.2,null,68.7,null,68.2,null,67.74,null,{"v":64.2,"d":"64.20"},null,64.52,null,877.76]
[null,"城际城乡网约车客运量(万人次)",{"$f":"[1]网约车!C37-[1]网约车!C39","v":{"v":32.116451951275,"d":"32.116"}},{"$f":"C49/R49-1","v":{"v":2.15707021353077,"d":"215.71%"}},{"$f":"[1]网约车!E37-[1]网约车!E39","v":{"v":25.013334655659,"d":"25.013"}},{"v":1.29799469191437,"d":"129.80%"},{"$f":"[1]网约车!G37-[1]网约车!G39","v":{"v":32.679546371905,"d":"32.680"}},{"v":1.53659505530034,"d":"153.66%"},{"$f":"[1]网约车!I37-[1]网约车!I39","v":{"v":32.017500968946,"d":"32.018"}},{"$f":"I49/X49-1","v":{"v":1.1392232798945,"d":"113.92%"}},{"$f":"[1]网约车!K37-[1]网约车!K39","v":{"v":37.692011145158,"d":"37.692"}},{"v":0.898645144138755,"d":"89.86%"},{"$f":"[1]网约车!M37-[1]网约车!M39","v":{"v":38.817604677877,"d":"38.818"}},{"v":1.11740021073913,"d":"111.74%"},{"v":198.33644977082,"d":"198.34"},{"v":1.27730638161909,"d":"127.73%"},null,{"$f":"[1]网约车!R37-[1]网约车!R39","v":{"v":10.172865910181,"d":"10.173"}},{"$f":"R49/AT49-1","v":{"v":-0.35546822591184,"d":"-35.55%"}},{"$f":"[1]网约车!T37-[1]网约车!T39","v":{"v":10.8848531041738,"d":"10.885"}},{"v":0.128521436852562,"d":"12.85%"},{"$f":"[1]网约车!V37-[1]网约车!V39","v":{"v":12.8832334919283,"d":"12.883"}},{"v":0.0318188471848364,"d":"3.18%"},{"$f":"[1]网约车!X37-[1]网约车!X39","v":{"v":14.9668813301831,"d":"14.967"}},{"$f":"X49/AZ49-1","v":{"v":0.132103730201821,"d":"13.21%"}},{"$f":"[1]网约车!Z37-[1]网约车!Z39","v":{"v":19.8520567476844,"d":"19.852"}},{"v":0.373503870679934,"d":"37.35%"},{"$f":"[1]网约车!AB37-[1]网约车!AB39","v":{"v":18.3326725297372,"d":"18.333"}},{"v":0.531455837363189,"d":"53.15%"},{"$f":"[1]网约车!AD37-[1]网约车!AD39","v":{"v":20.6082225392728,"d":"20.608"}},{"$f":"AD49/BF49-1","v":{"v":0.438721946629995,"d":"43.87%"}},{"$f":"[1]网约车!AF37-[1]网约车!AF39","v":{"v":21.9903765950646,"d":"21.990"}},{"v":0.586389680475885,"d":"58.64%"},{"$f":"[1]网约车!AH37-[1]网约车!AH39","v":{"v":20.5135663036571,"d":"20.514"}},{"v":0.225460031757035,"d":"22.55%"},{"$f":"[1]网约车!AJ37-[1]网约车!AJ39","v":{"v":32.51251865535,"d":"32.513"}},{"$f":"AJ49/BL49-1","v":{"v":0.904232956802587,"d":"90.42%"}},{"$f":"[1]网约车!AL37-[1]网约车!AL39","v":{"v":33.340134657393,"d":"33.340"}},{"v":0.918622129391644,"d":"91.86%"},{"$f":"[1]网约车!AN37-[1]网约车!AN39","v":{"v":36.235499801842,"d":"36.235"}},{"v":0.805096028377639,"d":"80.51%"},{"v":252.292881666467,"d":"252.29"},{"v":0.425306431507386,"d":"42.53%"},null,{"v":156.93557100097,"d":"156.94"},{"v":15.7833427600569,"d":"15.783"},null,{"v":9.64523379771285,"d":"9.645"},null,{"v":12.4859451124374,"d":"12.486"},null,{"v":13.2204151712449,"d":"13.220"},null,{"v":14.4535863141448,"d":"14.454"},null,{"v":11.9707484097627,"d":"11.971"},null,{"v":14.3239787142642,"d":"14.324"},null,{"v":13.861900935001,"d":"13.862"},null,{"v":16.7394821308413,"d":"16.739"},null,{"v":17.0738136524756,"d":"17.074"},null,{"v":17.3771240030284,"d":"17.377"},null,{"v":20.0740011789895,"d":"20.074"},null,{"v":177.00957217996,"d":"177.01"}]
["荆州市","总客运量（万人次）",{"$f":"C51+C52+C53+C54","v":{"v":300.581697540454,"d":"300.58"}},{"$f":"C50/R50-1","v":{"v":0.680616289163418,"d":"68.06%"}},{"v":314.286571078882,"d":"314.29"},{"v":0.656616334248799,"d":"65.66%"},{"v":289.877435819156,"d":"289.88"},{"v":0.644281786284014,"d":"64.43%"},{"$f":"I51+I52+I53+I54","v":{"v":283.650480107194,"d":"283.65"}},{"$f":"I50/X50-1","v":{"v":0.547561554667233,"d":"54.76%"}},{"v":290.055032192114,"d":"290.06"},{"v":0.578135149634973,"d":"57.81%"},{"v":285.228008776166,"d":"285.23"},{"v":0.616107181777906,"d":"61.61%"},{"v":1763.67922551397,"d":"1763.68"},{"v":0.620376690949334,"d":"62.04%"},null,{"$f":"R51+R52+R53+R54","v":{"v":178.852067231883,"d":"178.85"}},{"$f":"R50/AT50-1","v":{"v":0.0199694817265097,"d":"2.00%"}},{"v":189.715967771981,"d":"189.72"},{"v":0.0281701277858337,"d":"2.82%"},{"v":176.294257004612,"d":"176.29"},{"v":0.0170482520171549,"d":"1.70%"},{"$f":"X51+X52+X53+X54","v":{"v":183.288657728504,"d":"183.29"}},{"$f":"X50/AZ50-1","v":{"v":0.0339296611862705,"d":"3.39%"}},{"v":183.796066046184,"d":"183.80"},{"v":-0.0201551350994914,"d":"-2.02%"},{"v":176.490774864562,"d":"176.49"},{"v":1.45050316784601E-3,"d":"0.15%"},{"$f":"AD51+AD52+AD53+AD54","v":{"v":288.806679123069,"d":"288.81"}},{"$f":"AD50/BF50-1","v":{"v":0.585711555068667,"d":"58.57%"}},{"v":342.808583096567,"d":"342.81"},{"v":1.02113795039539,"d":"102.11%"},{"v":320.107856935656,"d":"320.11"},{"v":0.963812483596504,"d":"96.38%"},{"$f":"AJ51+AJ52+AJ53+AJ54","v":{"v":293.652551919792,"d":"293.65"}},{"$f":"AJ50/BL50-1","v":{"v":0.706477681751438,"d":"70.65%"}},{"v":278.976396121931,"d":"278.98"},{"v":0.764438318715233,"d":"76.44%"},{"v":289.109433805199,"d":"289.11"},{"v":0.810205290470539,"d":"81.02%"},{"v":2901.89929164994,"d":"2901.90"},{"v":0.395854291764571,"d":"39.59%"},null,{"v":1919.23055703356,"d":"1919.23"},{"$f":"AT51+AT52+AT53+AT54","v":{"v":175.350410415358,"d":"175.35"}},null,{"v":184.518070156866,"d":"184.52"},null,{"v":173.339127868279,"d":"173.34"},null,{"$f":"AZ51+AZ52+AZ53+AZ54","v":{"v":177.273817174574,"d":"177.27"}},null,{"v":187.576699771597,"d":"187.58"},null,{"v":176.235145228123,"d":"176.24"},null,{"$f":"BF51+BF52+BF53+BF54","v":{"v":182.130651819941,"d":"182.13"}},null,{"v":169.611670014659,"d":"169.61"},null,{"v":163.00327022538,"d":"163.00"},null,{"$f":"BL51+BL52+BL53+BL54","v":{"v":172.081097256662,"d":"172.08"}},null,{"v":158.110597102123,"d":"158.11"},null,{"v":159.710854524157,"d":"159.71"},null,{"v":2078.94141155772,"d":"2078.94"}]
[null,"公路班线客运量（万人次）",{"$f":"[1]班线包车!C36","v":133.6683},{"$f":"C51/R51-1","v":{"v":-0.187403530678384,"d":"-18.74%"}},{"$f":"[1]班线包车!E36","v":143.6103},{"v":-0.168301470251826,"d":"-16.83%"},{"$f":"[1]班线包车!G36","v":139.5382},{"v":-0.116878135964801,"d":"-11.69%"},{"$f":"[1]班线包车!I36","v":141.171},{"$f":"I51/X51-1","v":{"v":-0.128995059795173,"d":"-12.90%"}},{"$f":"[1]班线包车!K36","v":140.9257},{"v":-0.138319975346627,"d":"-13.83%"},{"$f":"[1]班线包车!M36","v":134.7257},{"v":-0.163781840210386,"d":"-16.38%"},{"v":833.6392,"d":"833.64"},{"v":-0.151003298669635,"d":"-15.10%"},null,{"$f":"[1]班线包车!R36","v":164.4953},{"$f":"R51/AT51-1","v":{"v":0.045928044452894,"d":"4.59%"}},{"$f":"[1]班线包车!T36","v":172.6711},{"v":0.038111751263588,"d":"3.81%"},{"$f":"[1]班线包车!V36","v":158.0056},{"v":0.0111335941709572,"d":"1.11%"},{"$f":"[1]班线包车!X36","v":162.0783},{"$f":"X51/AZ51-1","v":{"v":0.0135506286606211,"d":"1.36%"}},{"$f":"[1]班线包车!Z36","v":163.5476},{"v":-0.0362233307502601,"d":"-3.62%"},{"$f":"[1]班线包车!AB36","v":161.1131},{"v":0.00408081102691482,"d":"0.41%"},{"$f":"[1]班线包车!AD36","v":167.1169},{"$f":"AD51/BF51-1","v":{"v":0.00829663971309569,"d":"0.83%"}},{"$f":"[1]班线包车!AF36","v":162.8831},{"v":0.0498894246666466,"d":"4.99%"},{"$f":"[1]班线包车!AH36","v":136.8044},{"v":-0.0722313813067418,"d":"-7.22%"},{"$f":"[1]班线包车!AJ36","v":145.8738},{"$f":"AJ51/BL51-1","v":{"v":-0.0661584563688359,"d":"-6.62%"}},{"$f":"[1]班线包车!AL36","v":133.7493},{"v":-0.0632621759045258,"d":"-6.33%"},{"$f":"[1]班线包车!AN36","v":132.9524},{"v":-0.0789657446560887,"d":"-7.90%"},{"v":1861.2909,"d":"1861.29"},{"v":-0.010801780618646,"d":"-1.08%"},null,{"v":1737.2645,"d":"1737.26"},{"v":157.2721,"d":"157.27"},null,166.3319,null,156.2658,null,{"v":159.9114,"d":"159.91"},null,{"v":169.6945,"d":"169.69"},null,{"v":160.4583,"d":"160.46"},null,{"v":165.7418,"d":"165.74"},null,{"v":155.1431,"d":"155.14"},null,{"v":147.4553,"d":"147.46"},null,{"v":156.2083,"d":"156.21"},null,{"v":142.782,"d":"142.78"},null,{"v":144.3512,"d":"144.35"},null,{"v":1881.6157,"d":"1881.62"}]
[null,"城际城乡公交客运量（万人次）",{"$f":"[1]公交!C41-[1]公交!C43","v":8.19999999999993},{"$f":"C52/R52-1","v":{"v":-0.176706827309237,"d":"-17.67%"}},{"$f":"[1]公交!E41-[1]公交!E43","v":8.23000000000002},{"v":-0.175350701402805,"d":"-17.54%"},{"$f":"[1]公交!G41-[1]公交!G43","v":8.26999999999998},{"v":-0.170511534603816,"d":"-17.05%"},{"$f":"[1]公交!I41-[1]公交!I43","v":8.27999999999997},{"$f":"I52/X52-1","v":{"v":-0.17034068136272,"d":"-17.03%"}},{"$f":"[1]公交!K41-[1]公交!K43","v":8.28999999999996},{"v":-0.171000000000004,"d":"-17.10%"},{"$f":"[1]公交!M41-[1]公交!M43","v":8.29999999999995},{"v":0.202898550724635,"d":"20.29%"},{"v":49.5699999999998,"d":"49.57"},{"v":-0.127135058989259,"d":"-12.71%"},null,{"$f":"[1]公交!R41-[1]公交!R43","v":9.95999999999992},{"$f":"R52/AT52-1","v":{"v":-0.0216110019646345,"d":"-2.16%"}},{"$f":"[1]公交!T41-[1]公交!T43","v":9.98000000000002},{"v":-0.0167487684729046,"d":"-1.67%"},{"$f":"[1]公交!V41-[1]公交!V43","v":9.97000000000003},{"v":-0.0177339901477805,"d":"-1.77%"},{"$f":"[1]公交!X41-[1]公交!X43","v":9.9799999999999},{"$f":"X52/AZ52-1","v":{"v":-0.0177165354330803,"d":"-1.77%"}},{"$f":"[1]公交!Z41-[1]公交!Z43","v":10},{"v":-0.015748031496063,"d":"-1.57%"},{"$f":"[1]公交!AB41-[1]公交!AB43","v":6.89999999999998},{"v":-0.320866141732286,"d":"-32.09%"},{"$f":"[1]公交!AD41-[1]公交!AD43","v":7.40000000000009},{"$f":"AD52/BF52-1","v":{"v":-0.277343749999991,"d":"-27.73%"}},{"$f":"[1]公交!AF41-[1]公交!AF43","v":8.20000000000005},{"v":-0.199999999999996,"d":"-20.00%"},{"$f":"[1]公交!AH41-[1]公交!AH43","v":8.17999999999995},{"v":-0.182000000000005,"d":"-18.20%"},{"$f":"[1]公交!AJ41-[1]公交!AJ43","v":8.18999999999994},{"$f":"AJ52/BL52-1","v":{"v":-0.182634730538928,"d":"-18.26%"}},{"$f":"[1]公交!AL41-[1]公交!AL43","v":8.21000000000004},{"v":-0.173212487411885,"d":"-17.32%"},{"$f":"[1]公交!AN41-[1]公交!AN43","v":8.21000000000004},{"v":-0.173212487411885,"d":"-17.32%"},105.18,{"v":-0.133108052419023,"d":"-13.31%"},null,{"v":111.4,"d":"111.40"},10.1799999999999,null,10.15,null,10.15,null,10.16,null,10.16,null,10.16,null,10.24,null,10.25,null,10,null,10.02,null,{"v":9.93000000000006,"d":"9.93"},null,{"v":9.93000000000006,"d":"9.93"},null,121.33]
[null,"城际城乡巡游出租客运量（万人次）",{"$f":"[1]出租!C41-[1]出租!C43","v":125.3},{"$f":"C53/R53-1","v":{"v":47.945312500001,"d":"4794.53%"}},{"$f":"[1]出租!E41-[1]出租!E43","v":128.79},{"v":54.5129310344843,"d":"5451.29%"},{"$f":"[1]出租!G41-[1]出租!G43","v":105.59},{"v":43.9319148936166,"d":"4393.19%"},{"$f":"[1]出租!I41-[1]出租!I43","v":98.8499999999999},{"$f":"I53/X53-1","v":{"v":44.7638888888895,"d":"4476.39%"}},{"$f":"[1]出租!K41-[1]出租!K43","v":102.4},{"v":43.9122807017549,"d":"4391.23%"},{"$f":"[1]出租!M41-[1]出租!M43","v":100.78},{"v":45.6574074074081,"d":"4565.74%"},661.71,{"v":46.8459869848163,"d":"4684.60%"},null,{"$f":"[1]出租!R41-[1]出租!R43","v":2.55999999999995},{"$f":"R53/AT53-1","v":{"v":-0.0824372759856695,"d":"-8.24%"}},{"$f":"[1]出租!T41-[1]出租!T43","v":2.31999999999994},{"v":-0.609427609427616,"d":"-60.94%"},{"$f":"[1]出租!V41-[1]出租!V43","v":2.35000000000002},{"v":-0.0856031128404366,"d":"-8.56%"},{"$f":"[1]出租!X41-[1]出租!X43","v":2.15999999999997},{"$f":"X53/AZ53-1","v":{"v":-0.107438016528965,"d":"-10.74%"}},{"$f":"[1]出租!Z41-[1]出租!Z43","v":2.27999999999997},{"v":-0.0214592274677934,"d":"-2.15%"},{"$f":"[1]出租!AB41-[1]出租!AB43","v":2.15999999999997},{"v":-0.0886075949367223,"d":"-8.86%"},{"$f":"[1]出租!AD41-[1]出租!AD43","v":89.34},{"$f":"AD53/BF53-1","v":{"v":35.7654320987662,"d":"3576.54%"}},{"$f":"[1]出租!AF41-[1]出租!AF43","v":138.36},{"v":59.6842105263166,"d":"5968.42%"},{"$f":"[1]出租!AH41-[1]出租!AH43","v":143.74},{"v":68.4396135265721,"d":"6843.96%"},{"$f":"[1]出租!AJ41-[1]出租!AJ43","v":113.58},{"$f":"AJ53/BL53-1","v":{"v":52.8293838862556,"d":"5282.94%"}},{"$f":"[1]出租!AL41-[1]出租!AL43","v":112.75},{"v":53.7330097087363,"d":"5373.30%"},{"$f":"[1]出租!AN41-[1]出租!AN43","v":116.96},{"v":52.8986175115217,"d":"5289.86%"},728.56,{"v":22.0995561192139,"d":"2209.96%"},null,{"v":29.3699999999998,"d":"29.37"},2.78999999999996,null,5.93999999999994,null,2.56999999999994,null,2.42000000000007,null,2.32999999999993,null,2.37,null,2.42999999999995,null,2.27999999999997,null,2.06999999999994,null,{"v":2.11000000000001,"d":"2.11"},null,{"v":2.06000000000006,"d":"2.06"},null,{"v":2.16999999999996,"d":"2.17"},null,{"v":31.5399999999997,"d":"31.54"}]
[null,"城际城乡网约车客运量(万人次)",{"$f":"[1]网约车!C41-[1]网约车!C43","v":{"v":33.413397540454,"d":"33.413"}},{"$f":"C54/R54-1","v":{"v":17.1914163974879,"d":"1719.14%"}},{"$f":"[1]网约车!E41-[1]网约车!E43","v":{"v":33.656271078882,"d":"33.656"}},{"v":6.09319473086865,"d":"609.32%"},{"$f":"[1]网约车!G41-[1]网约车!G43","v":{"v":36.479235819156,"d":"36.479"}},{"v":5.11179965459068,"d":"511.18%"},{"$f":"[1]网约车!I41-[1]网约车!I43","v":{"v":35.349480107194,"d":"35.349"}},{"$f":"I54/X54-1","v":{"v":2.89725313656667,"d":"289.73%"}},{"$f":"[1]网约车!K41-[1]网约车!K43","v":{"v":38.439332192114,"d":"38.439"}},{"v":3.82393122708003,"d":"382.39%"},{"$f":"[1]网约车!M41-[1]网约车!M43","v":{"v":41.422308776166,"d":"41.422"}},{"v":5.55657495268046,"d":"555.66%"},{"v":218.760025513966,"d":"218.76"},{"v":5.09244161251211,"d":"509.24%"},null,{"$f":"[1]网约车!R41-[1]网约车!R43","v":{"v":1.8367672318835,"d":"1.837"}},{"$f":"R54/AT54-1","v":{"v":-0.640435470334517,"d":"-64.04%"}},{"$f":"[1]网约车!T41-[1]网约车!T43","v":{"v":4.74486777198071,"d":"4.745"}},{"v":1.26358902994493,"d":"126.36%"},{"$f":"[1]网约车!V41-[1]网约车!V43","v":{"v":5.9686570046117,"d":"5.969"}},{"v":0.371056163286545,"d":"37.11%"},{"$f":"[1]网约车!X41-[1]网约车!X43","v":{"v":9.07035772850401,"d":"9.070"}},{"$f":"X54/AZ54-1","v":{"v":0.896605293391739,"d":"89.66%"}},{"$f":"[1]网约车!Z41-[1]网约车!Z43","v":{"v":7.96846604618401,"d":"7.968"}},{"v":0.477776488949242,"d":"47.78%"},{"$f":"[1]网约车!AB41-[1]网约车!AB43","v":{"v":6.31767486456198,"d":"6.318"}},{"v":0.945788733580864,"d":"94.58%"},{"$f":"[1]网约车!AD41-[1]网约车!AD43","v":{"v":24.949779123069,"d":"24.950"}},{"$f":"AD54/BF54-1","v":{"v":5.70900060854326,"d":"570.90%"}},{"$f":"[1]网约车!AF41-[1]网约车!AF43","v":{"v":33.365483096567,"d":"33.365"}},{"v":16.2113892427193,"d":"1621.14%"},{"$f":"[1]网约车!AH41-[1]网约车!AH43","v":{"v":31.3834569356564,"d":"31.383"}},{"v":8.02349787431653,"d":"802.35%"},{"$f":"[1]网约车!AJ41-[1]网约车!AJ43","v":{"v":26.008751919792,"d":"26.009"}},{"$f":"AJ54/BL54-1","v":{"v":5.94901436980049,"d":"594.90%"}},{"$f":"[1]网约车!AL41-[1]网约车!AL43","v":{"v":24.267096121931,"d":"24.267"}},{"v":6.26865068759041,"d":"626.87%"},{"$f":"[1]网约车!AN41-[1]网约车!AN43","v":{"v":30.987033805199,"d":"30.987"}},{"v":8.50623250886246,"d":"850.62%"},{"v":206.86839164994,"d":"206.87"},{"v":3.65335913882177,"d":"365.34%"},null,{"v":41.1960570335632,"d":"41.20"},{"v":5.10831041535803,"d":"5.108"},null,{"v":2.09617015686639,"d":"2.096"},null,{"v":4.35332786827951,"d":"4.353"},null,{"v":4.78241717457368,"d":"4.782"},null,{"v":5.39219977159733,"d":"5.392"},null,{"v":3.24684522812272,"d":"3.247"},null,{"v":3.71885181994139,"d":"3.719"},null,{"v":1.9385700146594,"d":"1.939"},null,{"v":3.47797022538042,"d":"3.478"},null,{"v":3.7427972566617,"d":"3.743"},null,{"v":3.33859710212263,"d":"3.339"},null,{"v":3.2596545241567,"d":"3.260"},null,{"v":44.4557115577199,"d":"44.46"}]
["黄冈市","总客运量（万人次）",{"$f":"C56+C57+C58+C59","v":{"v":419.825340055154,"d":"419.83"}},{"$f":"C55/R55-1","v":{"v":0.0522878969743878,"d":"5.23%"}},{"v":428.943462491855,"d":"428.94"},{"v":0.0473667852985906,"d":"4.74%"},{"v":437.659470083526,"d":"437.66"},{"v":0.0892622742019327,"d":"8.93%"},{"$f":"I56+I57+I58+I59","v":{"v":445.046454628413,"d":"445.05"}},{"$f":"I55/X55-1","v":{"v":0.1123396332653,"d":"11.23%"}},{"v":456.708058513067,"d":"456.71"},{"v":0.151634103742208,"d":"15.16%"},{"v":441.798283905382,"d":"441.80"},{"v":0.117757809018602,"d":"11.78%"},{"v":2629.9810696774,"d":"2629.98"},{"v":0.0948078378516002,"d":"9.48%"},null,{"$f":"R56+R57+R58+R59","v":{"v":398.964334059401,"d":"398.96"}},{"$f":"R55/AT55-1","v":{"v":0.126487845007641,"d":"12.65%"}},{"v":409.544649031016,"d":"409.54"},{"v":0.232837467076989,"d":"23.28%"},{"v":401.794389146714,"d":"401.79"},{"v":0.20343507472973,"d":"20.34%"},{"$f":"X56+X57+X58+X59","v":{"v":400.099431251918,"d":"400.10"}},{"$f":"X55/AZ55-1","v":{"v":0.147032195753173,"d":"14.70%"}},{"v":396.573926587451,"d":"396.57"},{"v":0.155286463596122,"d":"15.53%"},{"v":395.25403476562,"d":"395.25"},{"v":0.168893266969758,"d":"16.89%"},{"$f":"AD56+AD57+AD58+AD59","v":{"v":410.74561537188,"d":"410.75"}},{"$f":"AD55/BF55-1","v":{"v":0.232397473266741,"d":"23.24%"}},{"v":420.834479239652,"d":"420.83"},{"v":0.119411220954224,"d":"11.94%"},{"v":429.517110333672,"d":"429.52"},{"v":0.0153923227769521,"d":"1.54%"},{"$f":"AJ56+AJ57+AJ58+AJ59","v":{"v":469.450202758492,"d":"469.45"}},{"$f":"AJ55/BL55-1","v":{"v":0.0590488083004821,"d":"5.90%"}},{"v":428.840999681525,"d":"428.84"},{"v":0.0607191494201009,"d":"6.07%"},{"v":416.916775451509,"d":"416.92"},{"v":0.0599715973784287,"d":"6.00%"},{"v":4978.53594767885,"d":"4978.54"},{"v":0.125449792143543,"d":"12.54%"},null,{"v":4030.2684135774,"d":"4030.27"},{"$f":"AT56+AT57+AT58+AT59","v":{"v":354.166568088175,"d":"354.17"}},null,{"v":332.19678989967,"d":"332.20"},null,{"v":333.872925580925,"d":"333.87"},null,{"$f":"AZ56+AZ57+AZ58+AZ59","v":{"v":348.812729697793,"d":"348.81"}},null,{"v":343.268911290637,"d":"343.27"},null,{"v":338.143820256813,"d":"338.14"},null,{"$f":"BF56+BF57+BF58+BF59","v":{"v":333.28988762295,"d":"333.29"}},null,{"v":375.942702165267,"d":"375.94"},null,{"v":423.006064453003,"d":"423.01"},null,{"$f":"BL56+BL57+BL58+BL59","v":{"v":443.275323175942,"d":"443.28"}},null,{"v":404.292691346219,"d":"404.29"},null,{"v":393.32825189151,"d":"393.33"},null,{"v":4423.59666546891,"d":"4423.60"}]
[null,"公路班线客运量（万人次）",{"$f":"[1]班线包车!C38","v":136.7024},{"$f":"C56/R56-1","v":{"v":-0.179455905382783,"d":"-17.95%"}},{"$f":"[1]班线包车!E38","v":146.6421},{"v":-0.097932915565294,"d":"-9.79%"},{"$f":"[1]班线包车!G38","v":136.5708},{"v":-0.126736589567323,"d":"-12.67%"},{"$f":"[1]班线包车!I38","v":136.3122},{"$f":"I56/X56-1","v":{"v":-0.140171105143941,"d":"-14.02%"}},{"$f":"[1]班线包车!K38","v":142.7334},{"v":-0.0727924697445093,"d":"-7.28%"},{"$f":"[1]班线包车!M38","v":133.5838},{"v":-0.112367561605241,"d":"-11.24%"},{"v":832.5447,"d":"832.54"},{"v":-0.122270579383122,"d":"-12.23%"},null,{"$f":"[1]班线包车!R38","v":166.5997},{"$f":"R56/AT56-1","v":{"v":0.103277853677014,"d":"10.33%"}},{"$f":"[1]班线包车!T38","v":162.5623},{"v":0.0717705589003959,"d":"7.18%"},{"$f":"[1]班线包车!V38","v":156.3913},{"v":0.127754914551948,"d":"12.78%"},{"$f":"[1]班线包车!X38","v":158.5341},{"$f":"X56/AZ56-1","v":{"v":0.124477336902515,"d":"12.45%"}},{"$f":"[1]班线包车!Z38","v":153.939},{"v":0.103384359994925,"d":"10.34%"},{"$f":"[1]班线包车!AB38","v":150.4945},{"v":0.113090421747253,"d":"11.31%"},{"$f":"[1]班线包车!AD38","v":145.7717},{"$f":"AD56/BF56-1","v":{"v":0.113157046705164,"d":"11.32%"}},{"$f":"[1]班线包车!AF38","v":146.7911},{"v":-0.0612489088275453,"d":"-6.12%"},{"$f":"[1]班线包车!AH38","v":151.2837},{"v":-0.188739477412567,"d":"-18.87%"},{"$f":"[1]班线包车!AJ38","v":156.9226},{"$f":"AJ56/BL56-1","v":{"v":-0.226213053173056,"d":"-22.62%"}},{"$f":"[1]班线包车!AL38","v":149.9079},{"v":-0.136593600646916,"d":"-13.66%"},{"$f":"[1]班线包车!AN38","v":145.3567},{"v":-0.110390357528866,"d":"-11.04%"},{"v":1844.5546,"d":"1844.55"},{"v":-0.013964300523666,"d":"-1.40%"},null,{"v":1707.2835,"d":"1707.28"},{"v":151.0043,"d":"151.00"},null,151.6764,null,138.6749,null,{"v":140.9847,"d":"140.98"},null,{"v":139.5153,"d":"139.52"},null,{"v":135.2042,"d":"135.20"},null,{"v":130.9534,"d":"130.95"},null,{"v":156.3685,"d":"156.37"},null,{"v":186.4798,"d":"186.48"},null,{"v":202.7982,"d":"202.80"},null,{"v":173.6238,"d":"173.62"},null,{"v":163.3938,"d":"163.39"},null,{"v":1870.6773,"d":"1870.68"}]
[null,"城际城乡公交客运量（万人次）",{"$f":"[1]公交!C45-[1]公交!C47","v":239.64},{"$f":"C57/R57-1","v":{"v":0.135949943117179,"d":"13.59%"}},{"$f":"[1]公交!E45-[1]公交!E47","v":237.26},{"v":0.0570257506905465,"d":"5.70%"},{"$f":"[1]公交!G45-[1]公交!G47","v":256.38},{"v":0.125955204216074,"d":"12.60%"},{"$f":"[1]公交!I45-[1]公交!I47","v":262.69},{"$f":"I57/X57-1","v":{"v":0.17978083176143,"d":"17.98%"}},{"$f":"[1]公交!K45-[1]公交!K47","v":263.69},{"v":0.169720090493723,"d":"16.97%"},{"$f":"[1]公交!M45-[1]公交!M47","v":256.98},{"v":0.133168709762765,"d":"13.32%"},1516.64,{"v":0.133521177288321,"d":"13.35%"},null,{"$f":"[1]公交!R45-[1]公交!R47","v":210.96},{"$f":"R57/AT57-1","v":{"v":0.168559242231208,"d":"16.86%"}},{"$f":"[1]公交!T45-[1]公交!T47","v":224.46},{"v":0.357073760580411,"d":"35.71%"},{"$f":"[1]公交!V45-[1]公交!V47","v":227.7},{"v":0.315044758879584,"d":"31.50%"},{"$f":"[1]公交!X45-[1]公交!X47","v":222.66},{"$f":"X57/AZ57-1","v":{"v":0.197676294981443,"d":"19.77%"}},{"$f":"[1]公交!Z45-[1]公交!Z47","v":225.43},{"v":0.21860641115736,"d":"21.86%"},{"$f":"[1]公交!AB45-[1]公交!AB47","v":226.78},{"v":0.229159891598916,"d":"22.92%"},{"$f":"[1]公交!AD45-[1]公交!AD47","v":224.32},{"$f":"AD57/BF57-1","v":{"v":0.223585883379698,"d":"22.36%"}},{"$f":"[1]公交!AF45-[1]公交!AF47","v":231.92},{"v":0.152340256384776,"d":"15.23%"},{"$f":"[1]公交!AH45-[1]公交!AH47","v":236.7},{"v":0.0900801326333238,"d":"9.01%"},{"$f":"[1]公交!AJ45-[1]公交!AJ47","v":251.69},{"$f":"AJ57/BL57-1","v":{"v":0.143785503294706,"d":"14.38%"}},{"$f":"[1]公交!AL45-[1]公交!AL47","v":240.85},{"v":0.138340107760658,"d":"13.83%"},{"$f":"[1]公交!AN45-[1]公交!AN47","v":235.23},{"v":0.120836708438557,"d":"12.08%"},{"v":2758.7,"d":"2758.70"},{"v":0.19026970587347,"d":"19.03%"},null,2107.84,180.53,null,165.4,null,173.15,null,185.91,null,184.99,null,184.5,null,183.33,null,201.26,null,217.14,null,220.05,null,211.58,null,209.87,null,2317.71]
[null,"城际城乡巡游出租客运量（万人次）",{"$f":"[1]出租!C45-[1]出租!C47","v":26.18},{"$f":"C58/R58-1","v":{"v":0.453636868406442,"d":"45.36%"}},{"$f":"[1]出租!E45-[1]出租!E47","v":27.18},{"v":0.525252525252526,"d":"52.53%"},{"$f":"[1]出租!G45-[1]出租!G47","v":26},{"v":1.08,"d":"108.00%"},{"$f":"[1]出租!I45-[1]出租!I47","v":27.76},{"$f":"I58/X58-1","v":{"v":1.25324675324675,"d":"125.32%"}},{"$f":"[1]出租!K45-[1]出租!K47","v":29.87},{"v":1.67892376681614,"d":"167.89%"},{"$f":"[1]出租!M45-[1]出租!M47","v":29.9},{"v":1.48545303408147,"d":"148.55%"},166.89,{"v":0.990814744125016,"d":"99.08%"},null,{"$f":"[1]出租!R45-[1]出租!R47","v":18.01},{"$f":"R58/AT58-1","v":{"v":0.104907975460115,"d":"10.49%"}},{"$f":"[1]出租!T45-[1]出租!T47","v":17.82},{"v":0.578387953941541,"d":"57.84%"},{"$f":"[1]出租!V45-[1]出租!V47","v":12.5},{"v":-0.223119950279672,"d":"-22.31%"},{"$f":"[1]出租!X45-[1]出租!X47","v":12.32},{"$f":"X58/AZ58-1","v":{"v":-0.195822454308094,"d":"-19.58%"}},{"$f":"[1]出租!Z45-[1]出租!Z47","v":11.15},{"v":-0.0510638297872311,"d":"-5.11%"},{"$f":"[1]出租!AB45-[1]出租!AB47","v":12.03},{"v":-0.0774539877300634,"d":"-7.75%"},{"$f":"[1]出租!AD45-[1]出租!AD47","v":29.04},{"$f":"AD58/BF58-1","v":{"v":1.21848739495798,"d":"121.85%"}},{"$f":"[1]出租!AF45-[1]出租!AF47","v":29.31},{"v":1.18405365126677,"d":"118.41%"},{"$f":"[1]出租!AH45-[1]出租!AH47","v":29.86},{"v":1.2085798816568,"d":"120.86%"},{"$f":"[1]出租!AJ45-[1]出租!AJ47","v":44.85},{"$f":"AJ58/BL58-1","v":{"v":2.15622800844475,"d":"215.62%"}},{"$f":"[1]出租!AL45-[1]出租!AL47","v":27.6},{"v":1.12798766383963,"d":"112.80%"},{"$f":"[1]出租!AN45-[1]出租!AN47","v":23.8},{"v":0.832178598922249,"d":"83.22%"},268.29,{"v":0.636014391121409,"d":"63.60%"},null,{"v":151,"d":"151.00"},16.3000000000001,null,11.29,null,16.0899999999999,null,15.32,null,11.75,null,13.04,null,13.09,null,13.42,null,13.52,null,14.21,null,12.97,null,12.99,null,163.99]
[null,"城际城乡网约车客运量(万人次)",{"$f":"[1]网约车!C45-[1]网约车!C47","v":{"v":17.302940055154,"d":"17.303"}},{"$f":"C59/R59-1","v":{"v":4.09714442039379,"d":"409.71%"}},{"$f":"[1]网约车!E45-[1]网约车!E47","v":{"v":17.861362491855,"d":"17.861"}},{"v":2.79839147924643,"d":"279.84%"},{"$f":"[1]网约车!G45-[1]网约车!G47","v":{"v":18.708670083526,"d":"18.709"}},{"v":2.59568509321841,"d":"259.57%"},{"$f":"[1]网约车!I45-[1]网约车!I47","v":{"v":18.284254628413,"d":"18.284"}},{"$f":"I59/X59-1","v":{"v":1.77651251379173,"d":"177.65%"}},{"$f":"[1]网约车!K45-[1]网约车!K47","v":{"v":20.414658513067,"d":"20.415"}},{"v":2.37157820466025,"d":"237.16%"},{"$f":"[1]网约车!M45-[1]网约车!M47","v":{"v":21.334483905382,"d":"21.334"}},{"v":2.58590793160233,"d":"258.59%"},{"v":113.906369677397,"d":"113.91"},{"v":2.57186743315857,"d":"257.19%"},null,{"$f":"[1]网约车!R45-[1]网约车!R47","v":{"v":3.3946340594009,"d":"3.395"}},{"$f":"R59/AT59-1","v":{"v":-0.463914980836017,"d":"-46.39%"}},{"$f":"[1]网约车!T45-[1]网约车!T47","v":{"v":4.7023490310163,"d":"4.702"}},{"v":0.227642395209154,"d":"22.76%"},{"$f":"[1]网约车!V45-[1]网约车!V47","v":{"v":5.203089146714,"d":"5.203"}},{"v":-0.126709162952902,"d":"-12.67%"},{"$f":"[1]网约车!X45-[1]网约车!X47","v":{"v":6.5853312519176,"d":"6.585"}},{"$f":"X59/AZ59-1","v":{"v":-1.92458149735009E-3,"d":"-0.19%"}},{"$f":"[1]网约车!Z45-[1]网约车!Z47","v":{"v":6.05492658745081,"d":"6.055"}},{"v":-0.136689169595951,"d":"-13.67%"},{"$f":"[1]网约车!AB45-[1]网约车!AB47","v":{"v":5.9495347656204,"d":"5.950"}},{"v":0.101843182048572,"d":"10.18%"},{"$f":"[1]网约车!AD45-[1]网约车!AD47","v":{"v":11.6139153718801,"d":"11.614"}},{"$f":"AD59/BF59-1","v":{"v":0.962974675520148,"d":"96.30%"}},{"$f":"[1]网约车!AF45-[1]网约车!AF47","v":{"v":12.8133792396517,"d":"12.813"}},{"v":1.6180731418463,"d":"161.81%"},{"$f":"[1]网约车!AH45-[1]网约车!AH47","v":{"v":11.6734103336723,"d":"11.673"}},{"v":0.989922279704902,"d":"98.99%"},{"$f":"[1]网约车!AJ45-[1]网约车!AJ47","v":{"v":15.987602758492,"d":"15.988"}},{"$f":"AJ59/BL59-1","v":{"v":1.57154351072843,"d":"157.15%"}},{"$f":"[1]网约车!AL45-[1]网约车!AL47","v":{"v":10.4830996815251,"d":"10.483"}},{"v":0.713235141526471,"d":"71.32%"},{"$f":"[1]网约车!AN45-[1]网约车!AN47","v":{"v":12.530075451509,"d":"12.530"}},{"v":0.771172614311783,"d":"77.12%"},{"v":106.99134767885,"d":"106.99"},{"v":0.502278867193275,"d":"50.23%"},null,{"v":64.1449135773947,"d":"64.14"},{"v":6.33226808817524,"d":"6.332"},null,{"v":3.83038989967038,"d":"3.830"},null,{"v":5.95802558092498,"d":"5.958"},null,{"v":6.59802969779294,"d":"6.598"},null,{"v":7.01361129063673,"d":"7.014"},null,{"v":5.39962025681267,"d":"5.400"},null,{"v":5.91648762295044,"d":"5.916"},null,{"v":4.89420216526707,"d":"4.894"},null,{"v":5.86626445300337,"d":"5.866"},null,{"v":6.21712317594161,"d":"6.217"},null,{"v":6.11889134621929,"d":"6.119"},null,{"v":7.07445189151017,"d":"7.074"},null,{"v":71.2193654689049,"d":"71.22"}]
["咸宁市","总客运量（万人次）",{"$f":"C61+C62+C63+C64","v":{"v":278.571008184142,"d":"278.57"}},{"$f":"C60/R60-1","v":{"v":-9.9133682574114E-3,"d":"-0.99%"}},{"v":296.607066814351,"d":"296.61"},{"v":0.149256398670948,"d":"14.93%"},{"v":325.939415713144,"d":"325.94"},{"v":0.233118603138424,"d":"23.31%"},{"$f":"I61+I62+I63+I64","v":{"v":329.56520807633,"d":"329.57"}},{"$f":"I60/X60-1","v":{"v":0.221063587668115,"d":"22.11%"}},{"v":341.046196476763,"d":"341.05"},{"v":0.23141530948615,"d":"23.14%"},{"v":317.916866409469,"d":"317.92"},{"v":0.208724307285864,"d":"20.87%"},{"v":1889.6457616742,"d":"1889.65"},{"v":0.171044853112755,"d":"17.10%"},null,{"$f":"R61+R62+R63+R64","v":{"v":281.360235814766,"d":"281.36"}},{"$f":"R60/AT60-1","v":{"v":-0.0696410301160778,"d":"-6.96%"}},{"v":258.086069529272,"d":"258.09"},{"v":0.14194161424142,"d":"14.19%"},{"v":264.321221724814,"d":"264.32"},{"v":0.167875536855647,"d":"16.79%"},{"$f":"X61+X62+X63+X64","v":{"v":269.900119375197,"d":"269.90"}},{"$f":"X60/AZ60-1","v":{"v":0.11619709432912,"d":"11.62%"}},{"v":276.95465035194,"d":"276.95"},{"v":0.109845708587422,"d":"10.98%"},{"v":263.018510087993,"d":"263.02"},{"v":0.0578583730628717,"d":"5.79%"},{"$f":"AD61+AD62+AD63+AD64","v":{"v":250.327372611932,"d":"250.33"}},{"$f":"AD60/BF60-1","v":{"v":0.0382493673402748,"d":"3.82%"}},{"v":256.638646009901,"d":"256.64"},{"v":0.000785826689305935,"d":"0.08%"},{"v":261.827751516729,"d":"261.83"},{"v":0.0146685834708946,"d":"1.47%"},{"$f":"AJ61+AJ62+AJ63+AJ64","v":{"v":284.118072664296,"d":"284.12"}},{"$f":"AJ60/BL60-1","v":{"v":0.0376353377039009,"d":"3.76%"}},{"v":289.373025545867,"d":"289.37"},{"v":0.0933441656478602,"d":"9.33%"},{"v":275.523188900983,"d":"275.52"},{"v":0.390473493836037,"d":"39.05%"},{"v":3231.44886413369,"d":"3231.45"},{"v":0.0818556169311138,"d":"8.19%"},null,{"v":2788.7995889245,"d":"2788.80"},{"$f":"AT61+AT62+AT63+AT64","v":{"v":302.421156695969,"d":"302.42"}},null,{"v":226.006361718165,"d":"226.01"},null,{"v":226.32653342193,"d":"226.33"},null,{"$f":"AZ61+AZ62+AZ63+AZ64","v":{"v":241.803280752507,"d":"241.80"}},null,{"v":249.543380858264,"d":"249.54"},null,{"v":248.63300871407,"d":"248.63"},null,{"$f":"BF61+BF62+BF63+BF64","v":{"v":241.105249361438,"d":"241.11"}},null,{"v":256.437130868335,"d":"256.44"},null,{"v":258.042631635533,"d":"258.04"},null,{"$f":"BL61+BL62+BL63+BL64","v":{"v":273.813026928129,"d":"273.81"}},null,{"v":264.667827970161,"d":"264.67"},null,{"v":198.150622879455,"d":"198.15"},null,{"v":2986.95021180396,"d":"2986.95"}]
[null,"公路班线客运量（万人次）",{"$f":"[1]班线包车!C42","v":39.3094},{"$f":"C61/R61-1","v":{"v":-0.334743632920454,"d":"-33.47%"}},{"$f":"[1]班线包车!E42","v":56.4335},{"v":-0.132214185103857,"d":"-13.22%"},{"$f":"[1]班线包车!G42","v":56.8116},{"v":-0.130239885362079,"d":"-13.02%"},{"$f":"[1]班线包车!I42","v":58.6924},{"$f":"I61/X61-1","v":{"v":-0.0248520474112867,"d":"-2.49%"}},{"$f":"[1]班线包车!K42","v":58.0517},{"v":0.0156515988389894,"d":"1.57%"},{"$f":"[1]班线包车!M42","v":52.6658},{"v":-0.108051715786728,"d":"-10.81%"},{"v":321.9644,"d":"321.96"},{"v":-0.119908263526415,"d":"-11.99%"},null,{"$f":"[1]班线包车!R42","v":59.0891},{"$f":"R61/AT61-1","v":{"v":0.11612905663086,"d":"11.61%"}},{"$f":"[1]班线包车!T42","v":65.0316},{"v":0.315010322870263,"d":"31.50%"},{"$f":"[1]班线包车!V42","v":65.3187},{"v":0.24766630947401,"d":"24.77%"},{"$f":"[1]班线包车!X42","v":60.1882},{"$f":"X61/AZ61-1","v":{"v":0.236809064587653,"d":"23.68%"}},{"$f":"[1]班线包车!Z42","v":57.1571},{"v":0.0872611271110029,"d":"8.73%"},{"$f":"[1]班线包车!AB42","v":59.0458},{"v":0.13754373256477,"d":"13.75%"},{"$f":"[1]班线包车!AD42","v":53.5025},{"$f":"AD61/BF61-1","v":{"v":0.102862360963383,"d":"10.29%"}},{"$f":"[1]班线包车!AF42","v":53.6282},{"v":0.0152202967579254,"d":"1.52%"},{"$f":"[1]班线包车!AH42","v":53.3324},{"v":-0.0428362216255798,"d":"-4.28%"},{"$f":"[1]班线包车!AJ42","v":52.6712},{"$f":"AJ61/BL61-1","v":{"v":-0.131738066821841,"d":"-13.17%"}},{"$f":"[1]班线包车!AL42","v":48.952},{"v":-0.184435092349164,"d":"-18.44%"},{"$f":"[1]班线包车!AN42","v":41.0177},{"v":-0.285796619967474,"d":"-28.58%"},{"v":668.9345,"d":"668.93"},{"v":0.0402371724176109,"d":"4.02%"},null,{"v":585.6282,"d":"585.63"},{"v":52.9411,"d":"52.94"},null,49.4533,null,52.3527,null,{"v":48.6641,"d":"48.66"},null,{"v":52.5698,"d":"52.57"},null,{"v":51.9064,"d":"51.91"},null,{"v":48.5124,"d":"48.51"},null,{"v":52.8242,"d":"52.82"},null,{"v":55.7192,"d":"55.72"},null,{"v":60.6628,"d":"60.66"},null,{"v":60.0222,"d":"60.02"},null,{"v":57.4314,"d":"57.43"},null,{"v":643.0596,"d":"643.06"}]
[null,"城际城乡公交客运量（万人次）",{"$f":"[1]公交!C49-[1]公交!C51","v":154.96},{"$f":"C62/R62-1","v":{"v":0.0709053213545274,"d":"7.09%"}},{"$f":"[1]公交!E49-[1]公交!E51","v":163.37},{"v":0.256595646488732,"d":"25.66%"},{"$f":"[1]公交!G49-[1]公交!G51","v":186.13},{"v":0.396114611461147,"d":"39.61%"},{"$f":"[1]公交!I49-[1]公交!I51","v":195.03},{"$f":"I62/X62-1","v":{"v":0.387126600284496,"d":"38.71%"}},{"$f":"[1]公交!K49-[1]公交!K51","v":200.33},{"v":0.390311610798807,"d":"39.03%"},{"$f":"[1]公交!M49-[1]公交!M51","v":184.33},{"v":0.389073097211756,"d":"38.91%"},1084.15,{"v":0.313452545370842,"d":"31.35%"},null,{"$f":"[1]公交!R49-[1]公交!R51","v":144.7},{"$f":"R62/AT62-1","v":{"v":-0.0920499466649939,"d":"-9.20%"}},{"$f":"[1]公交!T49-[1]公交!T51","v":130.01},{"v":0.0502463850068664,"d":"5.02%"},{"$f":"[1]公交!V49-[1]公交!V51","v":133.32},{"v":0.103551030543829,"d":"10.36%"},{"$f":"[1]公交!X49-[1]公交!X51","v":140.6},{"$f":"X62/AZ62-1","v":{"v":0.0433363015731665,"d":"4.33%"}},{"$f":"[1]公交!Z49-[1]公交!Z51","v":144.09},{"v":0.0432232841007814,"d":"4.32%"},{"$f":"[1]公交!AB49-[1]公交!AB51","v":132.7},{"v":0.0220271102895875,"d":"2.20%"},{"$f":"[1]公交!AD49-[1]公交!AD51","v":128.36},{"$f":"AD62/BF62-1","v":{"v":0.0151850680164507,"d":"1.52%"}},{"$f":"[1]公交!AF49-[1]公交!AF51","v":133.54},{"v":-0.0221864245441901,"d":"-2.22%"},{"$f":"[1]公交!AH49-[1]公交!AH51","v":141.73},{"v":0.0714393710311463,"d":"7.14%"},{"$f":"[1]公交!AJ49-[1]公交!AJ51","v":157.78},{"$f":"AJ62/BL62-1","v":{"v":0.143167656861324,"d":"14.32%"}},{"$f":"[1]公交!AL49-[1]公交!AL51","v":160.3},{"v":0.234881750250366,"d":"23.49%"},{"$f":"[1]公交!AN49-[1]公交!AN51","v":149.68},{"v":0.245568777565116,"d":"24.56%"},1696.81,{"v":0.067189524396533,"d":"6.72%"},null,1469.81,159.37,null,123.79,null,120.81,null,134.76,null,138.12,null,129.84,null,126.44,null,136.57,null,132.28,null,138.02,null,129.81,null,120.17,null,1589.98]
[null,"城际城乡巡游出租客运量（万人次）",{"$f":"[1]出租!C49-[1]出租!C51","v":47.7},{"$f":"C63/R63-1","v":{"v":0.0680698611733099,"d":"6.81%"}},{"$f":"[1]出租!E49-[1]出租!E51","v":47.99},{"v":0.133979206049149,"d":"13.40%"},{"$f":"[1]出租!G49-[1]出租!G51","v":49.53},{"v":0.173418621179815,"d":"17.34%"},{"$f":"[1]出租!I49-[1]出租!I51","v":46.84},{"$f":"I63/X63-1","v":{"v":0.0544799639801894,"d":"5.45%"}},{"$f":"[1]出租!K49-[1]出租!K51","v":47.85},{"v":0.010559662090813,"d":"1.06%"},{"$f":"[1]出租!M49-[1]出租!M51","v":45.38},{"v":0.00398230088495466,"d":"0.40%"},285.29,{"v":0.0718740607153592,"d":"7.19%"},null,{"$f":"[1]出租!R49-[1]出租!R51","v":44.66},{"$f":"R63/AT63-1","v":{"v":-0.330936329588015,"d":"-33.09%"}},{"$f":"[1]出租!T49-[1]出租!T51","v":42.32},{"v":0.153762268266085,"d":"15.38%"},{"$f":"[1]出租!V49-[1]出租!V51","v":42.21},{"v":0.254383358098069,"d":"25.44%"},{"$f":"[1]出租!X49-[1]出租!X51","v":44.42},{"$f":"X63/AZ63-1","v":{"v":0.257288423436173,"d":"25.73%"}},{"$f":"[1]出租!Z49-[1]出租!Z51","v":47.35},{"v":0.336060948081264,"d":"33.61%"},{"$f":"[1]出租!AB49-[1]出租!AB51","v":45.2},{"v":0.189473684210527,"d":"18.95%"},{"$f":"[1]出租!AD49-[1]出租!AD51","v":43.21},{"$f":"AD63/BF63-1","v":{"v":0.178990450204639,"d":"17.90%"}},{"$f":"[1]出租!AF49-[1]出租!AF51","v":43.69},{"v":0.163515312916112,"d":"16.35%"},{"$f":"[1]出租!AH49-[1]出租!AH51","v":42.8},{"v":0.104801239029427,"d":"10.48%"},{"$f":"[1]出租!AJ49-[1]出租!AJ51","v":41.49},{"$f":"AJ63/BL63-1","v":{"v":-0.020306965761511,"d":"-2.03%"}},{"$f":"[1]出租!AL49-[1]出租!AL51","v":44.51},{"v":0.101732673267326,"d":"10.17%"},{"$f":"[1]出租!AN49-[1]出租!AN51","v":41.98},{"v":3.55808903365906,"d":"355.81%"},523.84,{"v":0.162151968940654,"d":"16.22%"},null,441.54,66.75,null,36.68,null,33.65,null,35.33,null,35.44,null,38,null,36.65,null,37.55,null,38.74,null,42.35,null,{"v":40.4,"d":"40.40"},null,{"v":9.21000000000001,"d":"9.21"},null,450.75]
[null,"城际城乡网约车客运量(万人次)",{"$f":"[1]网约车!C49-[1]网约车!C51","v":{"v":36.601608184142,"d":"36.602"}},{"$f":"C64/R64-1","v":{"v":0.112134457775846,"d":"11.21%"}},{"$f":"[1]网约车!E49-[1]网约车!E51","v":{"v":28.8135668143513,"d":"28.814"}},{"v":0.390316252662279,"d":"39.03%"},{"$f":"[1]网约车!G49-[1]网约车!G51","v":{"v":33.467815713144,"d":"33.468"}},{"v":0.425829576622095,"d":"42.58%"},{"$f":"[1]网约车!I49-[1]网约车!I51","v":{"v":29.00280807633,"d":"29.003"}},{"$f":"I64/X64-1","v":{"v":0.174587023213094,"d":"17.46%"}},{"$f":"[1]网约车!K49-[1]网约车!K51","v":{"v":34.814496476763,"d":"34.814"}},{"v":0.227697598864729,"d":"22.77%"},{"$f":"[1]网约车!M49-[1]网约车!M51","v":{"v":35.541066409469,"d":"35.541"}},{"v":0.363151981114413,"d":"36.32%"},{"v":198.241361674199,"d":"198.24"},{"v":0.268904642307433,"d":"26.89%"},null,{"$f":"[1]网约车!R49-[1]网约车!R51","v":{"v":32.911135814766,"d":"32.911"}},{"$f":"R64/AT64-1","v":{"v":0.408863695970615,"d":"40.89%"}},{"$f":"[1]网约车!T49-[1]网约车!T51","v":{"v":20.7244695292722,"d":"20.724"}},{"v":0.288589815325054,"d":"28.86%"},{"$f":"[1]网约车!V49-[1]网约车!V51","v":{"v":23.4725217248137,"d":"23.473"}},{"v":0.202865742332063,"d":"20.29%"},{"$f":"[1]网约车!X49-[1]网约车!X51","v":{"v":24.6919193751967,"d":"24.692"}},{"$f":"X64/AZ64-1","v":{"v":0.0712710200127717,"d":"7.13%"}},{"$f":"[1]网约车!Z49-[1]网约车!Z51","v":{"v":28.3575503519405,"d":"28.358"}},{"v":0.211158195903723,"d":"21.12%"},{"$f":"[1]网约车!AB49-[1]网约车!AB51","v":{"v":26.0727100879927,"d":"26.073"}},{"v":-0.0974118718445001,"d":"-9.74%"},{"$f":"[1]网约车!AD49-[1]网约车!AD51","v":{"v":25.254872611932,"d":"25.255"}},{"$f":"AD64/BF64-1","v":{"v":-0.143985304519712,"d":"-14.40%"}},{"$f":"[1]网约车!AF49-[1]网约车!AF51","v":{"v":25.7804460099008,"d":"25.780"}},{"v":-0.12587710848434,"d":"-12.59%"},{"$f":"[1]网约车!AH49-[1]网约车!AH51","v":{"v":23.9653515167286,"d":"23.965"}},{"v":-0.234417753434905,"d":"-23.44%"},{"$f":"[1]网约车!AJ49-[1]网约车!AJ51","v":{"v":32.176872664296,"d":"32.177"}},{"$f":"AJ64/BL64-1","v":{"v":-0.0184060429220172,"d":"-1.84%"}},{"$f":"[1]网约车!AL49-[1]网约车!AL51","v":{"v":35.611025545867,"d":"35.611"}},{"v":0.0341331825493236,"d":"3.41%"},{"$f":"[1]网约车!AN49-[1]网约车!AN51","v":{"v":42.845488900983,"d":"42.845"}},{"v":2.77852074665649,"d":"277.85%"},{"v":341.864364133689,"d":"341.86"},{"v":0.127667483250634,"d":"12.77%"},null,{"v":291.821388924501,"d":"291.82"},{"v":23.360056695969,"d":"23.360"},null,{"v":16.0830617181654,"d":"16.083"},null,{"v":19.5138334219297,"d":"19.514"},null,{"v":23.0491807525068,"d":"23.049"},null,{"v":23.4135808582636,"d":"23.414"},null,{"v":28.8866087140699,"d":"28.887"},null,{"v":29.5028493614378,"d":"29.503"},null,{"v":29.4929308683354,"d":"29.493"},null,{"v":31.3034316355335,"d":"31.303"},null,{"v":32.7802269281286,"d":"32.780"},null,{"v":34.4356279701609,"d":"34.436"},null,{"v":11.3392228794551,"d":"11.339"},null,{"v":303.160611803956,"d":"303.16"}]
["随州市","总客运量（万人次）",{"$f":"C66+C67+C68+C69","v":{"v":170.613186895033,"d":"170.61"}},{"$f":"C65/R65-1","v":{"v":-0.0481799577456927,"d":"-4.82%"}},{"v":175.429078882335,"d":"175.43"},{"v":-0.0398600357915071,"d":"-3.99%"},{"v":172.989607206946,"d":"172.99"},{"v":-0.0138930678937174,"d":"-1.39%"},{"$f":"I66+I67+I68+I69","v":{"v":172.17465746766,"d":"172.17"}},{"$f":"I65/X65-1","v":{"v":-0.0248584598267482,"d":"-2.49%"}},{"v":174.66902787057,"d":"174.67"},{"v":-0.0200884095767009,"d":"-2.01%"},{"v":170.853779647102,"d":"170.85"},{"v":-0.0116447259870962,"d":"-1.16%"},{"v":1036.72933796965,"d":"1036.73"},{"v":-0.0266078616905987,"d":"-2.66%"},null,{"$f":"R66+R67+R68+R69","v":{"v":179.249416193159,"d":"179.25"}},{"$f":"R65/AT65-1","v":{"v":0.0511870478333951,"d":"5.12%"}},{"v":182.711985149949,"d":"182.71"},{"v":0.013463263629397,"d":"1.35%"},{"v":175.42682398292,"d":"175.43"},{"v":-0.000873303996682728,"d":"-0.09%"},{"$f":"X66+X67+X68+X69","v":{"v":176.563760617838,"d":"176.56"}},{"$f":"X65/AZ65-1","v":{"v":0.0285783630150376,"d":"2.86%"}},{"v":178.24978250856,"d":"178.25"},{"v":0.0184815835201382,"d":"1.85%"},{"v":172.866765766731,"d":"172.87"},{"v":0.0082096865073662,"d":"0.82%"},{"$f":"AD66+AD67+AD68+AD69","v":{"v":169.0760705958,"d":"169.08"}},{"$f":"AD65/BF65-1","v":{"v":6.18854214901687E-3,"d":"0.62%"}},{"v":162.008776908897,"d":"162.01"},{"v":-7.60289324362451E-4,"d":"-0.08%"},{"v":160.265225367767,"d":"160.27"},{"v":-0.00859339324170594,"d":"-0.86%"},{"$f":"AJ66+AJ67+AJ68+AJ69","v":{"v":169.875458816801,"d":"169.88"}},{"$f":"AJ65/BL65-1","v":{"v":-0.0132920002957276,"d":"-1.33%"}},{"v":165.936464972812,"d":"165.94"},{"v":-0.0313542962271438,"d":"-3.14%"},{"v":167.748032112002,"d":"167.75"},{"v":-0.0441225164981985,"d":"-4.41%"},{"v":2059.97856299324,"d":"2059.98"},{"v":0.00227458745958731,"d":"0.23%"},null,{"v":1879.81245224727,"d":"1879.81"},{"$f":"AT66+AT67+AT68+AT69","v":{"v":170.520952063299,"d":"170.52"}},null,{"v":180.284763845928,"d":"180.28"},null,{"v":175.580158837371,"d":"175.58"},null,{"$f":"AZ66+AZ67+AZ68+AZ69","v":{"v":171.658054424052,"d":"171.66"}},null,{"v":175.015224028383,"d":"175.02"},null,{"v":171.459139978683,"d":"171.46"},null,{"$f":"BF66+BF67+BF68+BF69","v":{"v":168.036171664893,"d":"168.04"}},null,{"v":162.132044171217,"d":"162.13"},null,{"v":161.654385067902,"d":"161.65"},null,{"$f":"BL66+BL67+BL68+BL69","v":{"v":172.163860906889,"d":"172.16"}},null,{"v":171.30769725865,"d":"171.31"},null,{"v":175.49114296266,"d":"175.49"},null,{"v":2055.30359520993,"d":"2055.30"}]
[null,"公路班线客运量（万人次）",{"$f":"[1]班线包车!C44","v":114.3916},{"$f":"C66/R66-1","v":{"v":-0.122243477153251,"d":"-12.22%"}},{"$f":"[1]班线包车!E44","v":120.983},{"v":-0.0921751762815822,"d":"-9.22%"},{"$f":"[1]班线包车!G44","v":119.5115},{"v":-0.067645739473017,"d":"-6.76%"},{"$f":"[1]班线包车!I44","v":120.3786},{"$f":"I66/X66-1","v":{"v":-0.0749813272842955,"d":"-7.50%"}},{"$f":"[1]班线包车!K44","v":122.8015},{"v":-0.0775966126876989,"d":"-7.76%"},{"$f":"[1]班线包车!M44","v":121.1953},{"v":-0.0733567500779879,"d":"-7.34%"},{"v":719.2615,"d":"719.26"},{"v":-0.084711302772533,"d":"-8.47%"},null,{"$f":"[1]班线包车!R44","v":130.3227},{"$f":"R66/AT66-1","v":{"v":0.0506683844212132,"d":"5.07%"}},{"$f":"[1]班线包车!T44","v":133.2669},{"v":0.0268013166045655,"d":"2.68%"},{"$f":"[1]班线包车!V44","v":128.1825},{"v":0.0293964118790253,"d":"2.94%"},{"$f":"[1]班线包车!X44","v":130.1364},{"$f":"X66/AZ66-1","v":{"v":0.0342856007470842,"d":"3.43%"}},{"$f":"[1]班线包车!Z44","v":133.1321},{"v":0.0140276821458385,"d":"1.40%"},{"$f":"[1]班线包车!AB44","v":130.7896},{"v":0.0195348431132272,"d":"1.95%"},{"$f":"[1]班线包车!AD44","v":128.1039},{"$f":"AD66/BF66-1","v":{"v":0.0138267192584807,"d":"1.38%"}},{"$f":"[1]班线包车!AF44","v":120.2483},{"v":-0.0277481763451223,"d":"-2.77%"},{"$f":"[1]班线包车!AH44","v":118.1387},{"v":-0.0452250219421245,"d":"-4.52%"},{"$f":"[1]班线包车!AJ44","v":123.2278},{"$f":"AJ66/BL66-1","v":{"v":-0.0515357113994003,"d":"-5.15%"}},{"$f":"[1]班线包车!AL44","v":118.7277},{"v":-0.0707046751356047,"d":"-7.07%"},{"$f":"[1]班线包车!AN44","v":116.6459},{"v":-0.0771203243207319,"d":"-7.71%"},{"v":1510.9225,"d":"1510.92"},{"v":-0.00701356465386316,"d":"-0.70%"},null,{"v":1395.2009,"d":"1395.20"},{"v":124.0379,"d":"124.04"},null,129.7884,null,124.522,null,{"v":125.8225,"d":"125.82"},null,{"v":131.2904,"d":"131.29"},null,{"v":128.2836,"d":"128.28"},null,{"v":126.3568,"d":"126.36"},null,{"v":123.6802,"d":"123.68"},null,{"v":123.7346,"d":"123.73"},null,{"v":129.9235,"d":"129.92"},null,{"v":127.761,"d":"127.76"},null,{"v":126.3934,"d":"126.39"},null,{"v":1521.5943,"d":"1521.59"}]
[null,"城际城乡公交客运量（万人次）",{"$f":"[1]公交!C53-[1]公交!C55","v":36.22},{"$f":"C67/R67-1","v":{"v":-0.0229295926625303,"d":"-2.29%"}},{"$f":"[1]公交!E53-[1]公交!E55","v":34.03},{"v":-0.0925333333333334,"d":"-9.25%"},{"$f":"[1]公交!G53-[1]公交!G55","v":33.84},{"v":-0.0402722631877486,"d":"-4.03%"},{"$f":"[1]公交!I53-[1]公交!I55","v":32.5},{"$f":"I67/X67-1","v":{"v":-0.0494296577946768,"d":"-4.94%"}},{"$f":"[1]公交!K53-[1]公交!K55","v":32.56},{"v":0.0124378109452739,"d":"1.24%"},{"$f":"[1]公交!M53-[1]公交!M55","v":30.22},{"v":0.0285908781484003,"d":"2.86%"},199.37,{"v":-0.0301128624245962,"d":"-3.01%"},null,{"$f":"[1]公交!R53-[1]公交!R55","v":37.07},{"$f":"R67/AT67-1","v":{"v":0.110545236668664,"d":"11.05%"}},{"$f":"[1]公交!T53-[1]公交!T55","v":37.5},{"v":0.0305028854080791,"d":"3.05%"},{"$f":"[1]公交!V53-[1]公交!V55","v":35.26},{"v":-0.0488265443755053,"d":"-4.88%"},{"$f":"[1]公交!X53-[1]公交!X55","v":34.19},{"$f":"X67/AZ67-1","v":{"v":0.0751572327044023,"d":"7.52%"}},{"$f":"[1]公交!Z53-[1]公交!Z55","v":32.16},{"v":0.0788326065078833,"d":"7.88%"},{"$f":"[1]公交!AB53-[1]公交!AB55","v":29.38},{"v":0.0173130193905815,"d":"1.73%"},{"$f":"[1]公交!AD53-[1]公交!AD55","v":27.58},{"$f":"AD67/BF67-1","v":{"v":0.00254452926208582,"d":"0.25%"}},{"$f":"[1]公交!AF53-[1]公交!AF55","v":27.82},{"v":0.124494745351657,"d":"12.45%"},{"$f":"[1]公交!AH53-[1]公交!AH55","v":28.46},{"v":0.167350287120591,"d":"16.74%"},{"$f":"[1]公交!AJ53-[1]公交!AJ55","v":32.53},{"$f":"AJ67/BL67-1","v":{"v":0.156416637042304,"d":"15.64%"}},{"$f":"[1]公交!AL53-[1]公交!AL55","v":32.45},{"v":0.103741496598639,"d":"10.37%"},{"$f":"[1]公交!AN53-[1]公交!AN55","v":33.4},{"v":-0.0231061713951446,"d":"-2.31%"},{"v":387.8,"d":"387.80"},{"v":0.060490045941807,"d":"6.05%"},null,331.49,33.38,null,36.39,null,37.07,null,31.8,null,29.81,null,28.88,null,27.51,null,24.74,null,24.38,null,28.13,null,{"v":29.4,"d":"29.40"},null,34.19,null,365.68]
[null,"城际城乡巡游出租客运量（万人次）",{"$f":"[1]出租!C53-[1]出租!C55","v":10.22},{"$f":"C68/R68-1","v":{"v":-0.0285171102661608,"d":"-2.85%"}},{"$f":"[1]出租!E53-[1]出租!E55","v":11.06},{"v":0.076923076923076,"d":"7.69%"},{"$f":"[1]出租!G53-[1]出租!G55","v":10.71},{"v":0.0583003952569172,"d":"5.83%"},{"$f":"[1]出租!I53-[1]出租!I55","v":10.98},{"$f":"I68/X68-1","v":{"v":0.103517587939699,"d":"10.35%"}},{"$f":"[1]出租!K53-[1]出租!K55","v":11.09},{"v":0.040337711069419,"d":"4.03%"},{"$f":"[1]出租!M53-[1]出租!M55","v":11},{"v":0.0516252390057352,"d":"5.16%"},65.06,{"v":0.0496934494998384,"d":"4.97%"},null,{"$f":"[1]出租!R53-[1]出租!R55","v":10.52},{"$f":"R68/AT68-1","v":{"v":0.346991037131884,"d":"34.70%"}},{"$f":"[1]出租!T53-[1]出租!T55","v":10.27},{"v":-0.0481927710843363,"d":"-4.82%"},{"$f":"[1]出租!V53-[1]出租!V55","v":10.12},{"v":-2.95566502463018E-3,"d":"-0.30%"},{"$f":"[1]出租!X53-[1]出租!X55","v":9.94999999999999},{"$f":"X68/AZ68-1","v":{"v":3.02419354838701E-3,"d":"0.30%"}},{"$f":"[1]出租!Z53-[1]出租!Z55","v":10.66},{"v":0.0533596837944661,"d":"5.34%"},{"$f":"[1]出租!AB53-[1]出租!AB55","v":10.46},{"v":-0.0421245421245414,"d":"-4.21%"},{"$f":"[1]出租!AD53-[1]出租!AD55","v":10.32},{"$f":"AD68/BF68-1","v":{"v":0.0424242424242407,"d":"4.24%"}},{"$f":"[1]出租!AF53-[1]出租!AF55","v":10.32},{"v":0.0382293762575474,"d":"3.82%"},{"$f":"[1]出租!AH53-[1]出租!AH55","v":10.16},{"v":0.0221327967806839,"d":"2.21%"},{"$f":"[1]出租!AJ53-[1]出租!AJ55","v":10.15},{"$f":"AJ68/BL68-1","v":{"v":0.00197433366238942,"d":"0.20%"}},{"$f":"[1]出租!AL53-[1]出租!AL55","v":9.77000000000001},{"v":-0.00509164969449893,"d":"-0.51%"},{"$f":"[1]出租!AN53-[1]出租!AN55","v":9.81},{"v":-0.0150602409638562,"d":"-1.51%"},122.51,{"v":0.0260469011725297,"d":"2.60%"},null,109.44,7.81,null,10.79,null,10.15,null,9.91999999999999,null,10.12,null,10.92,null,9.90000000000001,null,9.94,null,9.94,null,10.13,null,{"v":9.81999999999999,"d":"9.82"},null,{"v":9.96000000000001,"d":"9.96"},null,{"v":119.4,"d":"119.40"}]
[null,"城际城乡网约车客运量(万人次)",{"$f":"[1]网约车!C53-[1]网约车!C55","v":{"v":9.7815868950326,"d":"9.782"}},{"$f":"C69/R69-1","v":{"v":6.31762429833029,"d":"631.76%"}},{"$f":"[1]网约车!E53-[1]网约车!E55","v":{"v":9.3560788823352,"d":"9.356"}},{"v":4.58543479572801,"d":"458.54%"},{"$f":"[1]网约车!G53-[1]网约车!G55","v":{"v":8.92810720694639,"d":"8.928"}},{"v":3.78892471949071,"d":"378.89%"},{"$f":"[1]网约车!I53-[1]网约车!I55","v":{"v":8.3160574676596,"d":"8.316"}},{"$f":"I69/X69-1","v":{"v":2.63565648669818,"d":"263.57%"}},{"$f":"[1]网约车!K53-[1]网约车!K55","v":{"v":8.2175278705699,"d":"8.218"}},{"v":2.57644184518819,"d":"257.64%"},{"$f":"[1]网约车!M53-[1]网约车!M55","v":{"v":8.4384796471015,"d":"8.438"}},{"v":2.77195099826399,"d":"277.20%"},{"$f":"E69+C69+G69+I69+K69+M69","v":{"v":53.0378379696452,"d":"53.04"}},{"$f":"O69/SUM(R69,T69,V69,X69,Z69,AB69)-1","v":{"v":3.5337940407611,"d":"353.38%"}},null,{"$f":"[1]网约车!R53-[1]网约车!R55","v":{"v":1.3367161931591,"d":"1.337"}},{"$f":"R69/AT69-1","v":{"v":-0.74745833270229,"d":"-74.75%"}},{"$f":"[1]网约车!T53-[1]网约车!T55","v":{"v":1.6750851499495,"d":"1.675"}},{"v":-0.494903084290293,"d":"-49.49%"},{"$f":"[1]网约车!V53-[1]网约车!V55","v":{"v":1.8643239829203,"d":"1.864"}},{"v":-0.514266068207535,"d":"-51.43%"},{"$f":"[1]网约车!X53-[1]网约车!X55","v":{"v":2.2873606178377,"d":"2.287"}},{"$f":"X69/AZ69-1","v":{"v":-0.444215679795186,"d":"-44.42%"}},{"$f":"[1]网约车!Z53-[1]网约车!Z55","v":{"v":2.2976825085597,"d":"2.298"}},{"v":-0.394521988009412,"d":"-39.45%"},{"$f":"[1]网约车!AB53-[1]网约车!AB55","v":{"v":2.2371657667306,"d":"2.237"}},{"v":-0.337242106193794,"d":"-33.72%"},{"$f":"[1]网约车!AD53-[1]网约车!AD55","v":{"v":3.0721705958004,"d":"3.072"}},{"$f":"AD69/BF69-1","v":{"v":-0.280416221182378,"d":"-28.04%"}},{"$f":"[1]网约车!AF53-[1]网约车!AF55","v":{"v":3.6204769088969,"d":"3.620"}},{"v":-0.0401308366542659,"d":"-4.01%"},{"$f":"[1]网约车!AH53-[1]网约车!AH55","v":{"v":3.5065253677669,"d":"3.507"}},{"v":-0.0259070189957212,"d":"-2.59%"},{"$f":"[1]网约车!AJ53-[1]网约车!AJ55","v":{"v":3.96765881680091,"d":"3.968"}},{"$f":"AJ69/BL69-1","v":{"v":-0.00319119054405848,"d":"-0.32%"}},{"$f":"[1]网约车!AL53-[1]网约车!AL55","v":{"v":4.9887649728121,"d":"4.989"}},{"v":0.153019190986575,"d":"15.30%"},{"$f":"[1]网约车!AN53-[1]网约车!AN55","v":{"v":7.8921321120021,"d":"7.892"}},{"v":0.595097435651638,"d":"59.51%"},{"$f":"T69+R69+V69+X69+Z69+AB69+AD69+AF69+AH69+AJ69+AL69+AN69","v":{"v":38.7460629932362,"d":"38.75"}},{"$f":"AP69/SUM(AT69,AV69,AX69,AZ69,BB69,BD69,BF69,BH69,BJ69,BL69,BN69,BP69)-1","v":{"v":-0.203236180455133,"d":"-20.32%"}},null,{"$f":"AT69+AV69+AX69+AZ69+BB69+BD69+BF69+BH69+BJ69+BL69+BN69","v":{"v":43.681552247267,"d":"43.68"}},{"v":5.29305206329895,"d":"5.293"},null,{"v":3.31636384592817,"d":"3.316"},null,{"v":3.83815883737118,"d":"3.838"},null,{"v":4.11555442405208,"d":"4.116"},null,{"v":3.79482402838341,"d":"3.795"},null,{"v":3.37553997868301,"d":"3.376"},null,{"v":4.26937166489274,"d":"4.269"},null,{"v":3.77184417121737,"d":"3.772"},null,{"v":3.59978506790154,"d":"3.600"},null,{"v":3.98036090688891,"d":"3.980"},null,{"v":4.32669725864969,"d":"4.327"},null,{"v":4.94774296265981,"d":"4.948"},null,{"$f":"AT69+AV69+AX69+AZ69+BB69+BD69+BF69+BH69+BJ69+BL69+BN69+BP69","v":{"v":48.6292952099269,"d":"48.63"}}]
["恩施州","总客运量（万人次）",{"$f":"C71+C72+C73+C74","v":{"v":345.742122157979,"d":"345.74"}},{"$f":"C70/R70-1","v":{"v":0.193157807087564,"d":"19.32%"}},{"v":340.892328018903,"d":"340.89"},{"v":0.193812147082405,"d":"19.38%"},{"v":349.400334656709,"d":"349.40"},{"v":0.203970266294633,"d":"20.40%"},{"$f":"I71+I72+I73+I74","v":{"v":366.088849642901,"d":"366.09"}},{"$f":"I70/X70-1","v":{"v":0.0968062933219374,"d":"9.68%"}},{"v":377.946709808738,"d":"377.95"},{"v":0.0715007993561063,"d":"7.15%"},{"v":365.466707562812,"d":"365.47"},{"v":0.154843681471659,"d":"15.48%"},{"v":2145.53705184804,"d":"2145.54"},{"v":0.148270371057995,"d":"14.83%"},null,{"$f":"R71+R72+R73+R74","v":{"v":289.770657413639,"d":"289.77"}},{"$f":"R70/AT70-1","v":{"v":0.0230085350823817,"d":"2.30%"}},{"v":285.549388027271,"d":"285.55"},{"v":0.06348353707279,"d":"6.35%"},{"v":290.206780381738,"d":"290.21"},{"v":-0.0137726234093469,"d":"-1.38%"},{"$f":"X71+X72+X73+X74","v":{"v":333.777123519336,"d":"333.78"}},{"$f":"X70/AZ70-1","v":{"v":0.0460405331980545,"d":"4.60%"}},{"v":352.726484232076,"d":"352.73"},{"v":0.0013774825295263,"d":"0.14%"},{"v":316.464222324085,"d":"316.46"},{"v":-0.0672052084324,"d":"-6.72%"},{"$f":"AD71+AD72+AD73+AD74","v":{"v":376.601843759464,"d":"376.60"}},{"$f":"AD70/BF70-1","v":{"v":-0.017672727962219,"d":"-1.77%"}},{"v":387.82519402581,"d":"387.83"},{"v":-0.0121272156789468,"d":"-1.21%"},{"v":330.795840382741,"d":"330.80"},{"v":-0.0291910916602093,"d":"-2.92%"},{"$f":"AJ71+AJ72+AJ73+AJ74","v":{"v":339.52265502227,"d":"339.52"}},{"$f":"AJ70/BL70-1","v":{"v":-0.0611713955879438,"d":"-6.12%"}},{"v":336.592828746624,"d":"336.59"},{"v":-0.00286090612982903,"d":"-0.29%"},{"v":339.236507723497,"d":"339.24"},{"v":0.139825792613584,"d":"13.98%"},{"v":3979.06952555855,"d":"3979.07"},{"v":2.24929163080256E-3,"d":"0.22%"},null,{"v":3672.51815942477,"d":"3672.52"},{"$f":"AT71+AT72+AT73+AT74","v":{"v":283.253411361132,"d":"283.25"}},null,{"v":268.503816065868,"d":"268.50"},null,{"v":294.2595057389,"d":"294.26"},null,{"$f":"AZ71+AZ72+AZ73+AZ74","v":{"v":319.086223646497,"d":"319.09"}},null,{"v":352.241278025418,"d":"352.24"},null,{"v":339.264568354047,"d":"339.26"},null,{"$f":"BF71+BF72+BF73+BF74","v":{"v":383.377164087306,"d":"383.38"}},null,{"v":392.586171196482,"d":"392.59"},null,{"v":340.742485509785,"d":"340.74"},null,{"$f":"BL71+BL72+BL73+BL74","v":{"v":361.644983361896,"d":"361.64"}},null,{"v":337.558552077439,"d":"337.56"},null,{"v":297.621364529433,"d":"297.62"},null,{"v":3970.1395239542,"d":"3970.14"}]
[null,"公路班线客运量（万人次）",{"$f":"[1]班线包车!C48","v":146.7156},{"$f":"C71/R71-1","v":{"v":-0.0724153518851612,"d":"-7.24%"}},{"$f":"[1]班线包车!E48","v":164.4127},{"v":0.000593371763537354,"d":"0.06%"},{"$f":"[1]班线包车!G48","v":162.0982},{"v":-0.0541729756538737,"d":"-5.42%"},{"$f":"[1]班线包车!I48","v":182.7013},{"$f":"I71/X71-1","v":{"v":-0.0815259330086774,"d":"-8.15%"}},{"$f":"[1]班线包车!K48","v":190.2239},{"v":-0.102590037547784,"d":"-10.26%"},{"$f":"[1]班线包车!M48","v":170.9711},{"v":-0.0879979985906919,"d":"-8.80%"},{"v":1017.1228,"d":"1017.12"},{"v":-0.0687592912548196,"d":"-6.88%"},null,{"$f":"[1]班线包车!R48","v":158.1695},{"$f":"R71/AT71-1","v":{"v":-0.00475569339809323,"d":"-0.48%"}},{"$f":"[1]班线包车!T48","v":164.3152},{"v":-0.0257601243686257,"d":"-2.58%"},{"$f":"[1]班线包车!V48","v":171.3825},{"v":0.00788571737739474,"d":"0.79%"},{"$f":"[1]班线包车!X48","v":198.9183},{"$f":"X71/AZ71-1","v":{"v":-0.00473072162142429,"d":"-0.47%"}},{"$f":"[1]班线包车!Z48","v":211.9699},{"v":-0.0410389556336104,"d":"-4.10%"},{"$f":"[1]班线包车!AB48","v":187.4679},{"v":-0.0988870430935531,"d":"-9.89%"},{"$f":"[1]班线包车!AD48","v":223.1793},{"$f":"AD71/BF71-1","v":{"v":-0.0486207558028007,"d":"-4.86%"}},{"$f":"[1]班线包车!AF48","v":231.6134},{"v":-0.0647041126812889,"d":"-6.47%"},{"$f":"[1]班线包车!AH48","v":182.6086},{"v":-0.0708397869443365,"d":"-7.08%"},{"$f":"[1]班线包车!AJ48","v":185.0951},{"$f":"AJ71/BL71-1","v":{"v":-0.107557801747227,"d":"-10.76%"}},{"$f":"[1]班线包车!AL48","v":165.4614},{"v":-0.0574926874560321,"d":"-5.75%"},{"$f":"[1]班线包车!AN48","v":150.5717},{"v":-0.0365674110464934,"d":"-3.66%"},{"v":2230.7528,"d":"2230.75"},{"v":-0.0485444529112947,"d":"-4.85%"},null,{"v":2188.2819,"d":"2188.28"},{"v":158.9253,"d":"158.93"},null,168.6599,null,170.0416,null,{"v":199.8638,"d":"199.86"},null,{"v":221.0412,"d":"221.04"},null,{"v":208.0404,"d":"208.04"},null,{"v":234.585,"d":"234.59"},null,{"v":247.6365,"d":"247.64"},null,{"v":196.5308,"d":"196.53"},null,{"v":207.4029,"d":"207.40"},null,{"v":175.5545,"d":"175.55"},null,{"v":156.2867,"d":"156.29"},null,{"v":2344.5686,"d":"2344.57"}]
[null,"城际城乡公交客运量（万人次）",{"$f":"[1]公交!C57-[1]公交!C59","v":101.06},{"$f":"C72/R72-1","v":{"v":0.276010101010101,"d":"27.60%"}},{"$f":"[1]公交!E57-[1]公交!E59","v":76.08},{"v":0.169741697416975,"d":"16.97%"},{"$f":"[1]公交!G57-[1]公交!G59","v":92.72},{"v":0.249595687331535,"d":"24.96%"},{"$f":"[1]公交!I57-[1]公交!I59","v":94.3099999999999},{"$f":"I72/X72-1","v":{"v":0.213146385387188,"d":"21.31%"}},{"$f":"[1]公交!K57-[1]公交!K59","v":98.21},{"v":0.275123344585823,"d":"27.51%"},{"$f":"[1]公交!M57-[1]公交!M59","v":98.1199999999999},{"v":0.457732877729906,"d":"45.77%"},{"v":560.5,"d":"560.50"},{"v":0.272388822047173,"d":"27.24%"},null,{"$f":"[1]公交!R57-[1]公交!R59","v":79.2},{"$f":"R72/AT72-1","v":{"v":-0.112008072653886,"d":"-11.20%"}},{"$f":"[1]公交!T57-[1]公交!T59","v":65.04},{"v":-0.110259917920657,"d":"-11.03%"},{"$f":"[1]公交!V57-[1]公交!V59","v":74.2},{"v":-0.125824693685202,"d":"-12.58%"},{"$f":"[1]公交!X57-[1]公交!X59","v":77.74},{"$f":"X72/AZ72-1","v":{"v":-0.061677730838866,"d":"-6.17%"}},{"$f":"[1]公交!Z57-[1]公交!Z59","v":77.02},{"v":-0.0619900133966632,"d":"-6.20%"},{"$f":"[1]公交!AB57-[1]公交!AB59","v":67.31},{"v":-0.190109493442426,"d":"-19.01%"},{"$f":"[1]公交!AD57-[1]公交!AD59","v":84.1100000000001},{"$f":"AD72/BF72-1","v":{"v":-0.148166902977517,"d":"-14.82%"}},{"$f":"[1]公交!AF57-[1]公交!AF59","v":84.34},{"v":-0.0838583532478805,"d":"-8.39%"},{"$f":"[1]公交!AH57-[1]公交!AH59","v":67.57},{"v":-0.15389431505134,"d":"-15.39%"},{"$f":"[1]公交!AJ57-[1]公交!AJ59","v":62.04},{"$f":"AJ72/BL72-1","v":{"v":-0.176642335766424,"d":"-17.66%"}},{"$f":"[1]公交!AL57-[1]公交!AL59","v":63.83},{"v":-0.190898719736341,"d":"-19.09%"},{"$f":"[1]公交!AN57-[1]公交!AN59","v":64.1},{"v":-0.163622129436325,"d":"-16.36%"},{"v":866.5,"d":"866.50"},{"v":-0.130700856758763,"d":"-13.07%"},null,920.14,89.1900000000001,null,73.1,null,84.88,null,82.85,null,82.11,null,83.11,null,98.7400000000001,null,92.0599999999999,null,79.86,null,75.35,null,78.89,null,{"v":76.6399999999999,"d":"76.64"},null,996.78]
[null,"城际城乡巡游出租客运量（万人次）",{"$f":"[1]出租!C57-[1]出租!C59","v":63.17},{"$f":"C73/R73-1","v":{"v":0.363185153215363,"d":"36.32%"}},{"$f":"[1]出租!E57-[1]出租!E59","v":71.99},{"v":0.491093620546811,"d":"49.11%"},{"$f":"[1]出租!G57-[1]出租!G59","v":57.3200000000001},{"v":0.63118952760387,"d":"63.12%"},{"$f":"[1]出租!I57-[1]出租!I59","v":52.64},{"$f":"I73/X73-1","v":{"v":0.177365242675015,"d":"17.74%"}},{"$f":"[1]出租!K57-[1]出租!K59","v":50.6200000000001},{"v":0.0495542193655409,"d":"4.96%"},{"$f":"[1]出租!M57-[1]出租!M59","v":53.65},{"v":0.199955267278014,"d":"20.00%"},349.39,{"v":0.306570434912681,"d":"30.66%"},null,{"$f":"[1]出租!R57-[1]出租!R59","v":46.34},{"$f":"R73/AT73-1","v":{"v":0.578337874659402,"d":"57.83%"}},{"$f":"[1]出租!T57-[1]出租!T59","v":48.28},{"v":1.12406511218654,"d":"112.41%"},{"$f":"[1]出租!V57-[1]出租!V59","v":35.14},{"v":0.0651712640194011,"d":"6.52%"},{"$f":"[1]出租!X57-[1]出租!X59","v":44.71},{"$f":"X73/AZ73-1","v":{"v":0.510983440351471,"d":"51.10%"}},{"$f":"[1]出租!Z57-[1]出租!Z59","v":48.23},{"v":0.229416263063982,"d":"22.94%"},{"$f":"[1]出租!AB57-[1]出租!AB59","v":44.71},{"v":0.173490813648293,"d":"17.35%"},{"$f":"[1]出租!AD57-[1]出租!AD59","v":48.61},{"$f":"AD73/BF73-1","v":{"v":0.246410256410253,"d":"24.64%"}},{"$f":"[1]出租!AF57-[1]出租!AF59","v":48.8799999999999},{"v":0.132530120481926,"d":"13.25%"},{"$f":"[1]出租!AH57-[1]出租!AH59","v":58.3799999999999},{"v":0.134693877551019,"d":"13.47%"},{"$f":"[1]出租!AJ57-[1]出租!AJ59","v":59.3899999999999},{"$f":"AJ73/BL73-1","v":{"v":-0.0653131885426514,"d":"-6.53%"}},{"$f":"[1]出租!AL57-[1]出租!AL59","v":70.1000000000001},{"v":0.0677837014470688,"d":"6.78%"},{"$f":"[1]出租!AN57-[1]出租!AN59","v":82.16},{"v":0.667546174142481,"d":"66.75%"},634.93,{"v":0.259606800642768,"d":"25.96%"},null,{"v":454.8,"d":"454.80"},29.36,null,22.73,null,32.99,null,29.59,null,39.23,null,38.1,null,39.0000000000001,null,43.16,null,51.45,null,63.54,null,65.65,null,49.27,null,504.07]
[null,"城际城乡网约车客运量(万人次)",{"$f":"[1]网约车!C57-[1]网约车!C59","v":{"v":34.796522157979,"d":"34.797"}},{"$f":"C74/R74-1","v":{"v":4.74090388737975,"d":"474.09%"}},{"$f":"[1]网约车!E57-[1]网约车!E59","v":{"v":28.409628018903,"d":"28.410"}},{"v":2.58970849833347,"d":"258.97%"},{"$f":"[1]网约车!G57-[1]网约车!G59","v":{"v":37.262134656709,"d":"37.262"}},{"v":2.92883098737343,"d":"292.88%"},{"$f":"[1]网约车!I57-[1]网约车!I59","v":{"v":36.437549642901,"d":"36.438"}},{"$f":"I74/X74-1","v":{"v":1.93642258559994,"d":"193.64%"}},{"$f":"[1]网约车!K57-[1]网约车!K59","v":{"v":38.892809808738,"d":"38.893"}},{"v":1.50814810190676,"d":"150.81%"},{"$f":"[1]网约车!M57-[1]网约车!M59","v":{"v":42.725607562812,"d":"42.726"}},{"v":1.51677641053006,"d":"151.68%"},{"v":218.524251848042,"d":"218.52"},{"v":2.19707266924864,"d":"219.71%"},null,{"$f":"[1]网约车!R57-[1]网约车!R59","v":{"v":6.0611574136387,"d":"6.061"}},{"$f":"R74/AT74-1","v":{"v":0.0489859116269331,"d":"4.90%"}},{"$f":"[1]网约车!T57-[1]网约车!T59","v":{"v":7.9141880272708,"d":"7.914"}},{"v":0.971687473629324,"d":"97.17%"},{"$f":"[1]网约车!V57-[1]网约车!V59","v":{"v":9.4842803817377,"d":"9.484"}},{"v":0.494080216663838,"d":"49.41%"},{"$f":"[1]网约车!X57-[1]网约车!X59","v":{"v":12.4088235193357,"d":"12.409"}},{"$f":"X74/AZ74-1","v":{"v":0.829555947267334,"d":"82.96%"}},{"$f":"[1]网约车!Z57-[1]网约车!Z59","v":{"v":15.5065842320757,"d":"15.507"}},{"v":0.572663440603849,"d":"57.27%"},{"$f":"[1]网约车!AB57-[1]网约车!AB59","v":{"v":16.976322324085,"d":"16.976"}},{"v":0.695230370001177,"d":"69.52%"},{"$f":"[1]网约车!AD57-[1]网约车!AD59","v":{"v":20.702543759464,"d":"20.703"}},{"$f":"AD74/BF74-1","v":{"v":0.873166521590315,"d":"87.32%"}},{"$f":"[1]网约车!AF57-[1]网约车!AF59","v":{"v":22.99179402581,"d":"22.992"}},{"v":1.36305971306859,"d":"136.31%"},{"$f":"[1]网约车!AH57-[1]网约车!AH59","v":{"v":22.237240382741,"d":"22.237"}},{"v":0.723591879981599,"d":"72.36%"},{"$f":"[1]网约车!AJ57-[1]网约车!AJ59","v":{"v":32.99755502227,"d":"32.998"}},{"$f":"AJ74/BL74-1","v":{"v":1.1493861285414,"d":"114.94%"}},{"$f":"[1]网约车!AL57-[1]网约车!AL59","v":{"v":37.201428746624,"d":"37.201"}},{"v":1.13017165670753,"d":"113.02%"},{"$f":"[1]网约车!AN57-[1]网约车!AN59","v":{"v":42.404807723497,"d":"42.405"}},{"v":1.74915591470932,"d":"174.92%"},{"v":246.88672555855,"d":"246.89"},{"v":0.979513282384036,"d":"97.95%"},null,{"v":109.296259424768,"d":"109.30"},{"v":5.77811136113172,"d":"5.778"},null,{"v":4.01391606586768,"d":"4.014"},null,{"v":6.34790573890025,"d":"6.348"},null,{"v":6.78242364649728,"d":"6.782"},null,{"v":9.86007802541764,"d":"9.860"},null,{"v":10.0141683540469,"d":"10.014"},null,{"v":11.0521640873058,"d":"11.052"},null,{"v":9.72967119648177,"d":"9.730"},null,{"v":12.9016855097846,"d":"12.902"},null,{"v":15.3520833618958,"d":"15.352"},null,{"v":17.4640520774386,"d":"17.464"},null,{"v":15.4246645294327,"d":"15.425"},null,{"v":124.720923954201,"d":"124.72"}]
["仙桃市","总客运量（万人次）",{"$f":"C76+C77+C78+C79","v":{"v":51.4708183706736,"d":"51.47"}},{"$f":"C75/R75-1","v":{"v":0.265075820126404,"d":"26.51%"}},{"v":51.6668477085797,"d":"51.67"},{"v":0.177778811478571,"d":"17.78%"},{"v":50.3125245018356,"d":"50.31"},{"v":0.093332447931721,"d":"9.33%"},{"$f":"I76+I77+I78+I79","v":{"v":49.4007236152003,"d":"49.40"}},{"$f":"I75/X75-1","v":{"v":0.125317712763264,"d":"12.53%"}},{"v":50.294102949796,"d":"50.29"},{"v":0.19854597548245,"d":"19.85%"},{"v":50.7143246742761,"d":"50.71"},{"v":0.220043417350765,"d":"22.00%"},{"v":303.859341820361,"d":"303.86"},{"v":0.177744003936879,"d":"17.77%"},null,{"$f":"R76+R77+R78+R79","v":{"v":40.6859553805485,"d":"40.69"}},{"$f":"R75/AT75-1","v":{"v":-0.304707229690062,"d":"-30.47%"}},{"v":43.86803974145,"d":"43.87"},{"v":-0.198750264856305,"d":"-19.88%"},{"v":46.0175901639184,"d":"46.02"},{"v":-0.184495762121896,"d":"-18.45%"},{"$f":"X76+X77+X78+X79","v":{"v":43.8993566482614,"d":"43.90"}},{"$f":"X75/AZ75-1","v":{"v":-0.227039836258797,"d":"-22.70%"}},{"v":41.9625979967528,"d":"41.96"},{"v":-0.251095665706996,"d":"-25.11%"},{"v":41.5676392766403,"d":"41.57"},{"v":-0.361843028717072,"d":"-36.18%"},{"$f":"AD76+AD77+AD78+AD79","v":{"v":44.8085792325311,"d":"44.81"}},{"$f":"AD75/BF75-1","v":{"v":8.25437196983758E-3,"d":"0.83%"}},{"v":44.2769585337065,"d":"44.28"},{"v":-0.234683329873955,"d":"-23.47%"},{"v":44.7472685118526,"d":"44.75"},{"v":-0.0223732642196158,"d":"-2.24%"},{"$f":"AJ76+AJ77+AJ78+AJ79","v":{"v":44.6387565443553,"d":"44.64"}},{"$f":"AJ75/BL75-1","v":{"v":-0.208557854172149,"d":"-20.86%"}},{"v":45.037160412503,"d":"45.04"},{"v":-0.0485606070883629,"d":"-4.86%"},{"v":47.9276361993907,"d":"47.93"},{"v":0.00297846163618454,"d":"0.30%"},{"v":529.437538641911,"d":"529.44"},{"v":-0.182016777311432,"d":"-18.20%"},null,{"v":599.46212047944,"d":"599.46"},{"$f":"AT76+AT77+AT78+AT79","v":{"v":58.5162928738811,"d":"58.52"}},null,{"v":54.7495216751401,"d":"54.75"},null,{"v":56.4283887520359,"d":"56.43"},null,{"$f":"AZ76+AZ77+AZ78+AZ79","v":{"v":56.7938151376188,"d":"56.79"}},null,{"v":56.0319870980146,"d":"56.03"},null,{"v":65.1370135361433,"d":"65.14"},null,{"$f":"BF76+BF77+BF78+BF79","v":{"v":44.4417405748394,"d":"44.44"}},null,{"v":57.8544284504011,"d":"57.85"},null,{"v":45.7713224016254,"d":"45.77"},null,{"$f":"BL76+BL77+BL78+BL79","v":{"v":56.4017935861415,"d":"56.40"}},null,{"v":47.3358163935995,"d":"47.34"},null,{"v":47.7853094883066,"d":"47.79"},null,{"v":647.247429967747,"d":"647.25"}]
[null,"公路班线客运量（万人次）",{"$f":"[1]班线包车!C50","v":9.2372},{"$f":"C76/R76-1","v":{"v":0.268131958649662,"d":"26.81%"}},{"$f":"[1]班线包车!E50","v":9.1901},{"v":0.273872725004505,"d":"27.39%"},{"$f":"[1]班线包车!G50","v":9.1723},{"v":0.321333390956106,"d":"32.13%"},{"$f":"[1]班线包车!I50","v":9.1413},{"$f":"I76/X76-1","v":{"v":0.34436813388826,"d":"34.44%"}},{"$f":"[1]班线包车!K50","v":9.3403},{"v":0.345864553314121,"d":"34.59%"},{"$f":"[1]班线包车!M50","v":9.9419},{"v":1.59176312952725E-3,"d":"0.16%"},{"v":56.0231,"d":"56.02"},{"v":0.242034855750578,"d":"24.20%"},null,{"$f":"[1]班线包车!R50","v":7.2841},{"$f":"R76/AT76-1","v":{"v":-0.196609571288341,"d":"-19.66%"}},{"$f":"[1]班线包车!T50","v":7.2143},{"v":-0.132792402933045,"d":"-13.28%"},{"$f":"[1]班线包车!V50","v":6.9417},{"v":-0.12824473495837,"d":"-12.82%"},{"$f":"[1]班线包车!X50","v":6.7997},{"$f":"X76/AZ76-1","v":{"v":-0.142599551105843,"d":"-14.26%"}},{"$f":"[1]班线包车!Z50","v":6.94},{"v":-0.131805444355484,"d":"-13.18%"},{"$f":"[1]班线包车!AB50","v":9.9261},{"v":0.219167987029736,"d":"21.92%"},{"$f":"[1]班线包车!AD50","v":10.0811},{"$f":"AD76/BF76-1","v":{"v":0.279847146049157,"d":"27.98%"}},{"$f":"[1]班线包车!AF50","v":10.0225},{"v":0.295850949665775,"d":"29.59%"},{"$f":"[1]班线包车!AH50","v":10.8021},{"v":0.40115962331699,"d":"40.12%"},{"$f":"[1]班线包车!AJ50","v":9.6101},{"$f":"AJ76/BL76-1","v":{"v":0.197385962944965,"d":"19.74%"}},{"$f":"[1]班线包车!AL50","v":9.3551},{"v":0.151226895720017,"d":"15.12%"},{"$f":"[1]班线包车!AN50","v":9.2859},{"v":0.12923192917599,"d":"12.92%"},{"v":104.2627,"d":"104.26"},{"v":0.0736523314210744,"d":"7.37%"},null,{"v":88.8871,"d":"88.89"},{"v":9.0667,"d":"9.07"},null,8.319,null,7.9629,null,{"v":7.9306,"d":"7.93"},null,{"v":7.9936,"d":"7.99"},null,{"v":8.1417,"d":"8.14"},null,{"v":7.8768,"d":"7.88"},null,{"v":7.7343,"d":"7.73"},null,{"v":7.7094,"d":"7.71"},null,{"v":8.0259,"d":"8.03"},null,{"v":8.1262,"d":"8.13"},null,{"v":8.2232,"d":"8.22"},null,{"v":97.1103,"d":"97.11"}]
[null,"城际城乡公交客运量（万人次）",{"$f":"[1]公交!C61-[1]公交!C63","v":23.5},{"$f":"C77/R77-1","v":{"v":-0.109848484848485,"d":"-10.98%"}},{"$f":"[1]公交!E61-[1]公交!E63","v":24.13},{"v":-0.102973977695168,"d":"-10.30%"},{"$f":"[1]公交!G61-[1]公交!G63","v":23.4},{"v":-0.178947368421053,"d":"-17.89%"},{"$f":"[1]公交!I61-[1]公交!I63","v":23.5},{"$f":"I77/X77-1","v":{"v":-0.200680272108844,"d":"-20.07%"}},{"$f":"[1]公交!K61-[1]公交!K63","v":23.36},{"v":-0.128358208955224,"d":"-12.84%"},{"$f":"[1]公交!M61-[1]公交!M63","v":23.01},{"v":-0.0124463519313301,"d":"-1.24%"},{"v":140.9,"d":"140.90"},{"v":-0.126472411655301,"d":"-12.65%"},null,{"$f":"[1]公交!R61-[1]公交!R63","v":26.4},{"$f":"R77/AT77-1","v":{"v":-0.105084745762712,"d":"-10.51%"}},{"$f":"[1]公交!T61-[1]公交!T63","v":26.9},{"v":-0.179878048780488,"d":"-17.99%"},{"$f":"[1]公交!V61-[1]公交!V63","v":28.5},{"v":-0.173913043478261,"d":"-17.39%"},{"$f":"[1]公交!X61-[1]公交!X63","v":29.4},{"$f":"X77/AZ77-1","v":{"v":-0.15028901734104,"d":"-15.03%"}},{"$f":"[1]公交!Z61-[1]公交!Z63","v":26.8},{"v":-0.197604790419162,"d":"-19.76%"},{"$f":"[1]公交!AB61-[1]公交!AB63","v":23.3},{"v":-0.332378223495702,"d":"-33.24%"},{"$f":"[1]公交!AD61-[1]公交!AD63","v":25.44},{"$f":"AD77/BF77-1","v":{"v":0.205687203791469,"d":"20.57%"}},{"$f":"[1]公交!AF61-[1]公交!AF63","v":24.86},{"v":-0.136805555555556,"d":"-13.68%"},{"$f":"[1]公交!AH61-[1]公交!AH63","v":24.4},{"v":0.00826446280991711,"d":"0.83%"},{"$f":"[1]公交!AJ61-[1]公交!AJ63","v":24.95},{"$f":"AJ77/BL77-1","v":{"v":-0.222741433021807,"d":"-22.27%"}},{"$f":"[1]公交!AL61-[1]公交!AL63","v":23.5},{"v":-0.085603112840467,"d":"-8.56%"},{"$f":"[1]公交!AN61-[1]公交!AN63","v":21.6},{"v":-0.129032258064516,"d":"-12.90%"},306.05,{"v":-0.141273849607183,"d":"-14.13%"},null,{"v":331.6,"d":"331.60"},29.5,null,32.8,null,34.5,null,34.6,null,33.4,null,34.9,null,21.1,null,28.8,null,24.2,null,{"v":32.1,"d":"32.10"},null,{"v":25.7,"d":"25.70"},null,{"v":24.8,"d":"24.80"},null,{"v":356.4,"d":"356.40"}]
[null,"城际城乡巡游出租客运量（万人次）",{"$f":"[1]出租!C61-[1]出租!C63","v":6.97},{"$f":"C78/R78-1","v":{"v":0.161666666666666,"d":"16.17%"}},{"$f":"[1]出租!E61-[1]出租!E63","v":7.3},{"v":-0.0875000000000004,"d":"-8.75%"},{"$f":"[1]出租!G61-[1]出租!G63","v":7.15000000000001},{"v":-0.106249999999999,"d":"-10.62%"},{"$f":"[1]出租!I61-[1]出租!I63","v":6.62},{"$f":"I78/X78-1","v":{"v":0.103333333333333,"d":"10.33%"}},{"$f":"[1]出租!K61-[1]出租!K63","v":6.4},{"v":0.0666666666666664,"d":"6.67%"},{"$f":"[1]出租!M61-[1]出租!M63","v":6.48},{"v":0.0800000000000007,"d":"8.00%"},40.92,{"v":0.0230000000000001,"d":"2.30%"},null,{"$f":"[1]出租!R61-[1]出租!R63","v":6},{"$f":"R78/AT78-1","v":{"v":-0.428571428571429,"d":"-42.86%"}},{"$f":"[1]出租!T61-[1]出租!T63","v":8},{"v":-0.0697674418604641,"d":"-6.98%"},{"$f":"[1]出租!V61-[1]出租!V63","v":8},{"v":0.118881118881117,"d":"11.89%"},{"$f":"[1]出租!X61-[1]出租!X63","v":6},{"$f":"X78/AZ78-1","v":{"v":-0.100449775112444,"d":"-10.04%"}},{"$f":"[1]出租!Z61-[1]出租!Z63","v":6},{"v":-0.0639625585023401,"d":"-6.40%"},{"$f":"[1]出租!AB61-[1]出租!AB63","v":6},{"v":-0.0990990990990991,"d":"-9.91%"},{"$f":"[1]出租!AD61-[1]出租!AD63","v":6.2},{"$f":"AD78/BF78-1","v":{"v":-0.0662650602409649,"d":"-6.63%"}},{"$f":"[1]出租!AF61-[1]出租!AF63","v":6.4},{"v":-0.0711175616835996,"d":"-7.11%"},{"$f":"[1]出租!AH61-[1]出租!AH63","v":6.59999999999999},{"v":0.0264385692068403,"d":"2.64%"},{"$f":"[1]出租!AJ61-[1]出租!AJ63","v":6.5},{"$f":"AJ78/BL78-1","v":{"v":-0.161290322580645,"d":"-16.13%"}},{"$f":"[1]出租!AL61-[1]出租!AL63","v":6.40000000000001},{"v":0.0666666666666675,"d":"6.67%"},{"$f":"[1]出租!AN61-[1]出租!AN63","v":6.3},{"v":0.0500000000000007,"d":"5.00%"},{"v":78.4,"d":"78.40"},{"v":-0.0851808634772463,"d":"-8.52%"},null,{"v":79.7,"d":"79.70"},10.5,null,8.59999999999999,null,7.15000000000001,null,6.67,null,6.41,null,6.66,null,6.64000000000001,null,6.89,null,6.43000000000001,null,7.75,null,{"v":6,"d":"6.00"},null,{"v":6,"d":"6.00"},null,{"v":85.7,"d":"85.70"}]
[null,"城际城乡网约车客运量(万人次)",{"$f":"[1]网约车!C61-[1]网约车!C63","v":{"v":11.7636183706736,"d":"11.764"}},{"$f":"C79/R79-1","v":{"v":10.7418328024887,"d":"1074.18%"}},{"$f":"[1]网约车!E61-[1]网约车!E63","v":{"v":11.0467477085797,"d":"11.047"}},{"v":5.29896640162023,"d":"529.90%"},{"$f":"[1]网约车!G61-[1]网约车!G63","v":{"v":10.5902245018356,"d":"10.590"}},{"v":3.11128729406922,"d":"311.13%"},{"$f":"[1]网约车!I61-[1]网约车!I63","v":{"v":10.1394236152003,"d":"10.139"}},{"$f":"I79/X79-1","v":{"v":4.96557170859901,"d":"496.56%"}},{"$f":"[1]网约车!K61-[1]网约车!K63","v":{"v":11.193802949796,"d":"11.194"}},{"v":4.03635968634457,"d":"403.64%"},{"$f":"[1]网约车!M61-[1]网约车!M63","v":{"v":11.2824246742761,"d":"11.282"}},{"v":3.81837942537714,"d":"381.84%"},{"v":66.0162418203613,"d":"66.02"},{"v":4.6933723318413,"d":"469.34%"},null,{"$f":"[1]网约车!R61-[1]网约车!R63","v":{"v":1.00185538054845,"d":"1.002"}},{"$f":"R79/AT79-1","v":{"v":-0.893978990003093,"d":"-89.40%"}},{"$f":"[1]网约车!T61-[1]网约车!T63","v":{"v":1.75373974145,"d":"1.754"}},{"v":-0.651380144107789,"d":"-65.14%"},{"$f":"[1]网约车!V61-[1]网约车!V63","v":{"v":2.5758901639184,"d":"2.576"}},{"v":-0.62205349350053,"d":"-62.21%"},{"$f":"[1]网约车!X61-[1]网约车!X63","v":{"v":1.69965664826138,"d":"1.700"}},{"$f":"X79/AZ79-1","v":{"v":-0.776161136296423,"d":"-77.62%"}},{"$f":"[1]网约车!Z61-[1]网约车!Z63","v":{"v":2.2225979967528,"d":"2.223"}},{"v":-0.729886553673552,"d":"-72.99%"},{"$f":"[1]网约车!AB61-[1]网约车!AB63","v":{"v":2.3415392766403,"d":"2.342"}},{"v":-0.848299856614033,"d":"-84.83%"},{"$f":"[1]网约车!AD61-[1]网约车!AD63","v":{"v":3.0874792325311,"d":"3.087"}},{"$f":"AD79/BF79-1","v":{"v":-0.650141640462286,"d":"-65.01%"}},{"$f":"[1]网约车!AF61-[1]网约车!AF63","v":{"v":2.9944585337065,"d":"2.994"}},{"v":-0.792485663312078,"d":"-79.25%"},{"$f":"[1]网约车!AH61-[1]网约车!AH63","v":{"v":2.9451685118526,"d":"2.945"}},{"v":-0.603713769776647,"d":"-60.37%"},{"$f":"[1]网约车!AJ61-[1]网约车!AJ63","v":{"v":3.5786565443553,"d":"3.579"}},{"$f":"AJ79/BL79-1","v":{"v":-0.580260238038593,"d":"-58.03%"}},{"$f":"[1]网约车!AL61-[1]网约车!AL63","v":{"v":5.782060412503,"d":"5.782"}},{"v":-0.230045835972245,"d":"-23.00%"},{"$f":"[1]网约车!AN61-[1]网约车!AN63","v":{"v":10.7417361993907,"d":"10.742"}},{"v":0.225930378264049,"d":"22.59%"},{"v":40.7248386419105,"d":"40.72"},{"v":-0.623047755396053,"d":"-62.30%"},null,{"v":99.2750204794404,"d":"99.28"},{"v":9.44959287388106,"d":"9.450"},null,{"v":5.03052167514014,"d":"5.031"},null,{"v":6.81548875203589,"d":"6.815"},null,{"v":7.59321513761875,"d":"7.593"},null,{"v":8.22838709801458,"d":"8.228"},null,{"v":15.4353135361433,"d":"15.435"},null,{"v":8.82494057483934,"d":"8.825"},null,{"v":14.4301284504011,"d":"14.430"},null,{"v":7.43192240162536,"d":"7.432"},null,{"v":8.52589358614145,"d":"8.526"},null,{"v":7.50961639359947,"d":"7.510"},null,{"v":8.76210948830658,"d":"8.762"},null,{"v":108.037129967747,"d":"108.04"}]
["潜江市","总客运量（万人次）",{"$f":"C81+C82+C83+C84","v":{"v":142.244369214885,"d":"142.24"}},{"$f":"C80/R80-1","v":{"v":0.00590151988957266,"d":"0.59%"}},{"v":146.496949387468,"d":"146.50"},{"v":0.0802548943835861,"d":"8.03%"},{"v":135.283486775602,"d":"135.28"},{"v":0.0981564455272814,"d":"9.82%"},{"$f":"I81+I82+I83+I84","v":{"v":137.072032760417,"d":"137.07"}},{"$f":"I80/X80-1","v":{"v":-0.101638663518281,"d":"-10.16%"}},{"v":150.49347173514,"d":"150.49"},{"v":-0.0512455816345255,"d":"-5.12%"},{"v":154.388680229488,"d":"154.39"},{"v":-0.0789653275051457,"d":"-7.90%"},{"v":865.978990102999,"d":"865.98"},{"v":-0.0148606105623196,"d":"-1.49%"},null,{"$f":"R81+R82+R83+R84","v":{"v":141.409836253653,"d":"141.41"}},{"$f":"R80/AT80-1","v":{"v":-0.0300553876162764,"d":"-3.01%"}},{"v":135.613316957996,"d":"135.61"},{"v":0.115622870006048,"d":"11.56%"},{"v":123.191451752255,"d":"123.19"},{"v":0.0552631625270028,"d":"5.53%"},{"$f":"X81+X82+X83+X84","v":{"v":152.580066832837,"d":"152.58"}},{"$f":"X80/AZ80-1","v":{"v":0.0455865027783662,"d":"4.56%"}},{"v":158.622156399979,"d":"158.62"},{"v":0.0398638839606069,"d":"3.99%"},{"v":167.625264107905,"d":"167.63"},{"v":0.0176517342269638,"d":"1.77%"},{"$f":"AD81+AD82+AD83+AD84","v":{"v":174.830179785341,"d":"174.83"}},{"$f":"AD80/BF80-1","v":{"v":0.0945321600434708,"d":"9.45%"}},{"v":160.005714272764,"d":"160.01"},{"v":-0.00101390259545986,"d":"-0.10%"},{"v":153.365934442546,"d":"153.37"},{"v":0.0357978149679183,"d":"3.58%"},{"$f":"AJ81+AJ82+AJ83+AJ84","v":{"v":172.182163827388,"d":"172.18"}},{"$f":"AJ80/BL80-1","v":{"v":0.0634690805871843,"d":"6.35%"}},{"v":152.570592399419,"d":"152.57"},{"v":0.044853285659171,"d":"4.49%"},{"v":152.394811544024,"d":"152.39"},{"v":0.0545829639288822,"d":"5.46%"},{"v":1844.39148857611,"d":"1844.39"},{"v":0.0433994799896362,"d":"4.34%"},null,{"v":1623.16811849462,"d":"1623.17"},{"$f":"AT81+AT82+AT83+AT84","v":{"v":145.79166114045,"d":"145.79"}},null,{"v":121.558387340393,"d":"121.56"},null,{"v":116.740028579461,"d":"116.74"},null,{"$f":"AZ81+AZ82+AZ83+AZ84","v":{"v":145.927731878134,"d":"145.93"}},null,{"v":152.541268955148,"d":"152.54"},null,{"v":164.717710853446,"d":"164.72"},null,{"$f":"BF81+BF82+BF83+BF84","v":{"v":159.730509680408,"d":"159.73"}},null,{"v":160.168109134325,"d":"160.17"},null,{"v":148.065512618692,"d":"148.07"},null,{"$f":"BL81+BL82+BL83+BL84","v":{"v":161.906130578163,"d":"161.91"}},null,{"v":146.021067735999,"d":"146.02"},null,{"v":144.507181280714,"d":"144.51"},null,{"v":1767.67529977533,"d":"1767.68"}]
[null,"公路班线客运量（万人次）",{"$f":"[1]班线包车!C52","v":2.2826},{"$f":"C81/R81-1","v":{"v":-0.270525071106708,"d":"-27.05%"}},{"$f":"[1]班线包车!E52","v":2.1525},{"v":-0.202482400889218,"d":"-20.25%"},{"$f":"[1]班线包车!G52","v":2.2929},{"v":-0.119131771033423,"d":"-11.91%"},{"$f":"[1]班线包车!I52","v":2.26},{"$f":"I81/X81-1","v":{"v":-0.0124967228873549,"d":"-1.25%"}},{"$f":"[1]班线包车!K52","v":2.0421},{"v":-0.191407642051079,"d":"-19.14%"},{"$f":"[1]班线包车!M52","v":2.0576},{"v":-0.194897679696365,"d":"-19.49%"},{"v":13.0877,"d":"13.09"},{"v":-0.171711737938978,"d":"-17.17%"},null,{"$f":"[1]班线包车!R52","v":3.1291},{"$f":"R81/AT81-1","v":{"v":-0.218428414427016,"d":"-21.84%"}},{"$f":"[1]班线包车!T52","v":2.699},{"v":0.182941795231417,"d":"18.29%"},{"$f":"[1]班线包车!V52","v":2.603},{"v":0.0149730952195275,"d":"1.50%"},{"$f":"[1]班线包车!X52","v":2.2886},{"$f":"X81/AZ81-1","v":{"v":-0.238580031273913,"d":"-23.86%"}},{"$f":"[1]班线包车!Z52","v":2.5255},{"v":-0.263552328463535,"d":"-26.36%"},{"$f":"[1]班线包车!AB52","v":2.5557},{"v":-0.248080261260996,"d":"-24.81%"},{"$f":"[1]班线包车!AD52","v":2.421},{"$f":"AD81/BF81-1","v":{"v":-0.114775677355662,"d":"-11.48%"}},{"$f":"[1]班线包车!AF52","v":2.683},{"v":0.0201520912547528,"d":"2.02%"},{"$f":"[1]班线包车!AH52","v":2.4105},{"v":-0.0401003504300733,"d":"-4.01%"},{"$f":"[1]班线包车!AJ52","v":2.71},{"$f":"AJ81/BL81-1","v":{"v":-0.066257795541467,"d":"-6.63%"}},{"$f":"[1]班线包车!AL52","v":2.4835},{"v":-0.222886288253333,"d":"-22.29%"},{"$f":"[1]班线包车!AN52","v":2.3858},{"v":-0.241326676630521,"d":"-24.13%"},{"v":30.8947,"d":"30.89"},{"v":-0.137082223078771,"d":"-13.71%"},null,{"v":32.6579,"d":"32.66"},{"v":4.0036,"d":"4.00"},null,2.2816,null,2.5646,null,{"v":3.0057,"d":"3.01"},null,{"v":3.4293,"d":"3.43"},null,{"v":3.3989,"d":"3.40"},null,{"v":2.7349,"d":"2.73"},null,2.63,null,{"v":2.5112,"d":"2.51"},null,{"v":2.9023,"d":"2.90"},null,{"v":3.1958,"d":"3.20"},null,{"v":3.1447,"d":"3.14"},null,{"v":35.8026,"d":"35.80"}]
[null,"城际城乡公交客运量（万人次）",{"$f":"[1]公交!C65-[1]公交!C67","v":124.15},{"$f":"C82/R82-1","v":{"v":0.022652388797364,"d":"2.27%"}},{"$f":"[1]公交!E65-[1]公交!E67","v":128.99},{"v":0.116989954970558,"d":"11.70%"},{"$f":"[1]公交!G65-[1]公交!G67","v":118.21},{"v":0.152818412326897,"d":"15.28%"},{"$f":"[1]公交!I65-[1]公交!I67","v":118.81},{"$f":"I82/X82-1","v":{"v":-0.110237399835243,"d":"-11.02%"}},{"$f":"[1]公交!K65-[1]公交!K67","v":127.19},{"v":-0.0674536256323776,"d":"-6.75%"},{"$f":"[1]公交!M65-[1]公交!M67","v":134.92},{"v":-0.102985173858121,"d":"-10.30%"},752.27,{"v":-0.00984534386311287,"d":"-0.98%"},null,{"$f":"[1]公交!R65-[1]公交!R67","v":121.4},{"$f":"R82/AT82-1","v":{"v":-0.0303514376996805,"d":"-3.04%"}},{"$f":"[1]公交!T65-[1]公交!T67","v":115.48},{"v":0.106130268199234,"d":"10.61%"},{"$f":"[1]公交!V65-[1]公交!V67","v":102.54},{"v":0.0291047771979125,"d":"2.91%"},{"$f":"[1]公交!X65-[1]公交!X67","v":133.53},{"$f":"X82/AZ82-1","v":{"v":0.069866196618861,"d":"6.99%"}},{"$f":"[1]公交!Z65-[1]公交!Z67","v":136.39},{"v":0.069054710769713,"d":"6.91%"},{"$f":"[1]公交!AB65-[1]公交!AB67","v":150.41},{"v":0.0809198706431908,"d":"8.09%"},{"$f":"[1]公交!AD65-[1]公交!AD67","v":154.88},{"$f":"AD82/BF82-1","v":{"v":0.125499600319744,"d":"12.55%"}},{"$f":"[1]公交!AF65-[1]公交!AF67","v":147.07},{"v":0.0832289902040213,"d":"8.32%"},{"$f":"[1]公交!AH65-[1]公交!AH67","v":141.24},{"v":0.0987164527421236,"d":"9.87%"},{"$f":"[1]公交!AJ65-[1]公交!AJ67","v":153.07},{"$f":"AJ82/BL82-1","v":{"v":0.108961819894226,"d":"10.90%"}},{"$f":"[1]公交!AL65-[1]公交!AL67","v":139.22},{"v":0.111714445420426,"d":"11.17%"},{"$f":"[1]公交!AN65-[1]公交!AN67","v":137.58},{"v":0.107997100748973,"d":"10.80%"},1632.81,{"v":0.0812308792562277,"d":"8.12%"},null,1385.97,125.2,null,104.4,null,99.64,null,124.81,null,127.58,null,139.15,null,137.61,null,135.77,null,128.55,null,138.03,null,125.23,null,124.17,null,1510.14]
[null,"城际城乡巡游出租客运量（万人次）",{"$f":"[1]出租!C65-[1]出租!C67","v":9.86999999999999},{"$f":"C83/R83-1","v":{"v":-0.367307692307693,"d":"-36.73%"}},{"$f":"[1]出租!E65-[1]出租!E67","v":9.63},{"v":-0.390506329113924,"d":"-39.05%"},{"$f":"[1]出租!G65-[1]出租!G67","v":9.25},{"v":-0.372881355932203,"d":"-37.29%"},{"$f":"[1]出租!I65-[1]出租!I67","v":10.11},{"$f":"I83/X83-1","v":{"v":-0.308481532147743,"d":"-30.85%"}},{"$f":"[1]出租!K65-[1]出租!K67","v":14.03},{"v":-0.18096906012843,"d":"-18.10%"},{"$f":"[1]出租!M65-[1]出租!M67","v":10.87},{"v":-0.101652892561985,"d":"-10.17%"},63.76,{"v":-0.291555555555556,"d":"-29.16%"},null,{"$f":"[1]出租!R65-[1]出租!R67","v":15.6},{"$f":"R83/AT83-1","v":{"v":0.164179104477613,"d":"16.42%"}},{"$f":"[1]出租!T65-[1]出租!T67","v":15.8},{"v":0.215384615384615,"d":"21.54%"},{"$f":"[1]出租!V65-[1]出租!V67","v":14.75},{"v":0.260683760683761,"d":"26.07%"},{"$f":"[1]出租!X65-[1]出租!X67","v":14.62},{"$f":"X83/AZ83-1","v":{"v":0.0152777777777782,"d":"1.53%"}},{"$f":"[1]出租!Z65-[1]出租!Z67","v":17.13},{"v":-0.0155172413793097,"d":"-1.55%"},{"$f":"[1]出租!AB65-[1]出租!AB67","v":12.1},{"v":-0.0970149253731337,"d":"-9.70%"},{"$f":"[1]出租!AD65-[1]出租!AD67","v":14.1},{"$f":"AD83/BF83-1","v":{"v":0,"d":"0.00%"}},{"$f":"[1]出租!AF65-[1]出租!AF67","v":7.73999999999999},{"v":-0.370731707317074,"d":"-37.07%"},{"$f":"[1]出租!AH65-[1]出租!AH67","v":7.31},{"v":-0.390833333333333,"d":"-39.08%"},{"$f":"[1]出租!AJ65-[1]出租!AJ67","v":12.57},{"$f":"AJ83/BL83-1","v":{"v":-0.183766233766234,"d":"-18.38%"}},{"$f":"[1]出租!AL65-[1]出租!AL67","v":7.71000000000001},{"v":-0.411450381679389,"d":"-41.15%"},{"$f":"[1]出租!AN65-[1]出租!AN67","v":7.61},{"v":-0.396031746031746,"d":"-39.60%"},147.04,{"v":-0.0968058968058966,"d":"-9.68%"},null,{"v":150.2,"d":"150.20"},13.4,null,13,null,11.7,null,14.4,null,17.4,null,13.4,null,14.1,null,12.3,null,12,null,{"v":15.4,"d":"15.40"},null,{"v":13.1,"d":"13.10"},null,{"v":12.6,"d":"12.60"},null,{"v":162.8,"d":"162.80"}]
[null,"城际城乡网约车客运量(万人次)",{"$f":"[1]网约车!C65-[1]网约车!C67","v":{"v":5.9417692148848,"d":"5.942"}},{"$f":"C84/R84-1","v":{"v":3.63933866003953,"d":"363.93%"}},{"$f":"[1]网约车!E65-[1]网约车!E67","v":{"v":5.7244493874677,"d":"5.724"}},{"v":2.50265556473647,"d":"250.27%"},{"$f":"[1]网约车!G65-[1]网约车!G67","v":{"v":5.5305867756016,"d":"5.531"}},{"v":0.676722047494281,"d":"67.67%"},{"$f":"[1]网约车!I65-[1]网约车!I67","v":{"v":5.8920327604175,"d":"5.892"}},{"$f":"I84/X84-1","v":{"v":1.7514004280009,"d":"175.14%"}},{"$f":"[1]网约车!K65-[1]网约车!K67","v":{"v":7.2313717351398,"d":"7.231"}},{"v":1.80649439141269,"d":"180.65%"},{"$f":"[1]网约车!M65-[1]网约车!M67","v":{"v":6.5410802294879,"d":"6.541"}},{"v":1.55554459811568,"d":"155.55%"},{"v":36.8612901029993,"d":"36.86"},{"v":1.73224851226551,"d":"173.22%"},null,{"$f":"[1]网约车!R65-[1]网约车!R67","v":{"v":1.28073625365262,"d":"1.281"}},{"$f":"R84/AT84-1","v":{"v":-0.598271112996291,"d":"-59.83%"}},{"$f":"[1]网约车!T65-[1]网约车!T67","v":{"v":1.63431695799595,"d":"1.634"}},{"v":-0.129194382964133,"d":"-12.92%"},{"$f":"[1]网约车!V65-[1]网约车!V67","v":{"v":3.2984517522547,"d":"3.298"}},{"v":0.163299183815703,"d":"16.33%"},{"$f":"[1]网约车!X65-[1]网约车!X67","v":{"v":2.14146683283702,"d":"2.141"}},{"$f":"X84/AZ84-1","v":{"v":-0.42310117392806,"d":"-42.31%"}},{"$f":"[1]网约车!Z65-[1]网约车!Z67","v":{"v":2.5766563999794,"d":"2.577"}},{"v":-0.376409545195307,"d":"-37.64%"},{"$f":"[1]网约车!AB65-[1]网约车!AB67","v":{"v":2.5595641079052,"d":"2.560"}},{"v":-0.708105905044212,"d":"-70.81%"},{"$f":"[1]网约车!AD65-[1]网约车!AD67","v":{"v":3.429179785341,"d":"3.429"}},{"$f":"AD84/BF84-1","v":{"v":-0.351223417413487,"d":"-35.12%"}},{"$f":"[1]网约车!AF65-[1]网约车!AF67","v":{"v":2.5127142727643,"d":"2.513"}},{"v":-0.734612873899524,"d":"-73.46%"},{"$f":"[1]网约车!AH65-[1]网约车!AH67","v":{"v":2.4054344425461,"d":"2.405"}},{"v":-0.519327702757561,"d":"-51.93%"},{"$f":"[1]网约车!AJ65-[1]网约车!AJ67","v":{"v":3.832163827388,"d":"3.832"}},{"$f":"AJ84/BL84-1","v":{"v":-0.312472136774068,"d":"-31.25%"}},{"$f":"[1]网约车!AL65-[1]网约车!AL67","v":{"v":3.1570923994188,"d":"3.157"}},{"v":-0.297685347162689,"d":"-29.77%"},{"$f":"[1]网约车!AN65-[1]网约车!AN67","v":{"v":4.8190115440239,"d":"4.819"}},{"v":0.0493263335140874,"d":"4.93%"},{"v":33.646788576107,"d":"33.65"},{"v":-0.429064191792036,"d":"-42.91%"},null,{"v":54.3402184946188,"d":"54.34"},{"v":3.18806114044967,"d":"3.188"},null,{"v":1.87678734039291,"d":"1.877"},null,{"v":2.835428579461,"d":"2.835"},null,{"v":3.71203187813382,"d":"3.712"},null,{"v":4.13196895514766,"d":"4.132"},null,{"v":8.7688108534463,"d":"8.769"},null,{"v":5.28560968040755,"d":"5.286"},null,{"v":9.46810913432547,"d":"9.468"},null,{"v":5.00431261869219,"d":"5.004"},null,{"v":5.57383057816334,"d":"5.574"},null,{"v":4.49526773599885,"d":"4.495"},null,{"v":4.59248128071419,"d":"4.592"},null,{"v":58.9326997753329,"d":"58.93"}]
["天门市","总客运量（万人次）",{"$f":"C86+C87+C88+C89","v":{"v":96.2590227928098,"d":"96.26"}},{"$f":"C85/R85-1","v":{"v":0.251883017870749,"d":"25.19%"}},{"v":107.737916705383,"d":"107.74"},{"v":0.0479115468301436,"d":"4.79%"},{"v":100.255447596789,"d":"100.26"},{"v":-0.000767395292920026,"d":"-0.08%"},{"$f":"I86+I87+I88+I89","v":{"v":101.949507548101,"d":"101.95"}},{"$f":"I85/X85-1","v":{"v":0.0581603095725525,"d":"5.82%"}},{"v":105.929712106816,"d":"105.93"},{"v":0.0580626908767905,"d":"5.81%"},{"v":101.776621497297,"d":"101.78"},{"v":0.137977829853594,"d":"13.80%"},{"v":613.908228247195,"d":"613.91"},{"v":0.0847682605064095,"d":"8.48%"},null,{"$f":"R86+R87+R88+R89","v":{"v":76.8913879481574,"d":"76.89"}},{"$f":"R85/AT85-1","v":{"v":-0.20780223046518,"d":"-20.78%"}},{"v":102.812033163755,"d":"102.81"},{"v":0.104491725145545,"d":"10.45%"},{"v":100.332442240691,"d":"100.33"},{"v":0.194678417893278,"d":"19.47%"},{"$f":"X86+X87+X88+X89","v":{"v":96.3459946719074,"d":"96.35"}},{"$f":"X85/AZ85-1","v":{"v":0.214435233023815,"d":"21.44%"}},{"v":100.116668908375,"d":"100.12"},{"v":0.220803698494355,"d":"22.08%"},{"v":89.4363834051066,"d":"89.44"},{"v":0.0321383312489882,"d":"3.21%"},{"$f":"AD86+AD87+AD88+AD89","v":{"v":86.2108944094484,"d":"86.21"}},{"$f":"AD85/BF85-1","v":{"v":0.0660554268855891,"d":"6.61%"}},{"v":85.1955733561869,"d":"85.20"},{"v":-0.058225439417845,"d":"-5.82%"},{"v":81.4124652709919,"d":"81.41"},{"v":0.0390437085796416,"d":"3.90%"},{"$f":"AJ86+AJ87+AJ88+AJ89","v":{"v":87.9534820794609,"d":"87.95"}},{"$f":"AJ85/BL85-1","v":{"v":0.0552652228770205,"d":"5.53%"}},{"v":82.6387287586704,"d":"82.64"},{"v":0.0470533440231928,"d":"4.71%"},{"v":86.3003890973365,"d":"86.30"},{"v":0.157601447490453,"d":"15.76%"},{"v":1075.64644331009,"d":"1075.65"},{"v":0.0664410585106552,"d":"6.64%"},null,{"v":934.080836305272,"d":"934.08"},{"$f":"AT86+AT87+AT88+AT89","v":{"v":97.060848824793,"d":"97.06"}},null,{"v":93.0853811061436,"d":"93.09"},null,{"v":83.9828030187568,"d":"83.98"},null,{"$f":"AZ86+AZ87+AZ88+AZ89","v":{"v":79.3339916794213,"d":"79.33"}},null,{"v":82.0088184790488,"d":"82.01"},null,{"v":86.6515472755283,"d":"86.65"},null,{"$f":"BF86+BF87+BF88+BF89","v":{"v":80.8690544930744,"d":"80.87"}},null,{"v":90.462810232975,"d":"90.46"},null,{"v":78.3532632927268,"d":"78.35"},null,{"$f":"BL86+BL87+BL88+BL89","v":{"v":83.3472762796722,"d":"83.35"}},null,{"v":78.9250416231324,"d":"78.93"},null,{"v":74.5510376515387,"d":"74.55"},null,{"v":1008.63187395681,"d":"1008.63"}]
[null,"公路班线客运量（万人次）",{"$f":"[1]班线包车!C54","v":3.0068},{"$f":"C86/R86-1","v":{"v":-0.50232550441101,"d":"-50.23%"}},{"$f":"[1]班线包车!E54","v":3.7154},{"v":-0.383683896224537,"d":"-38.37%"},{"$f":"[1]班线包车!G54","v":3.4623},{"v":-0.44355694127479,"d":"-44.36%"},{"$f":"[1]班线包车!I54","v":4.4253},{"$f":"I86/X86-1","v":{"v":-0.315562360801782,"d":"-31.56%"}},{"$f":"[1]班线包车!K54","v":4.3403},{"v":-0.261351259360109,"d":"-26.14%"},{"$f":"[1]班线包车!M54","v":4.3662},{"v":-0.195066644543996,"d":"-19.51%"},{"v":23.3163,"d":"23.32"},{"v":-0.353370384544986,"d":"-35.34%"},null,{"$f":"[1]班线包车!R54","v":6.0417},{"$f":"R86/AT86-1","v":{"v":-0.655104895104895,"d":"-65.51%"}},{"$f":"[1]班线包车!T54","v":6.0284},{"v":-0.697798809923653,"d":"-69.78%"},{"$f":"[1]班线包车!V54","v":6.2222},{"v":-0.631937912962207,"d":"-63.19%"},{"$f":"[1]班线包车!X54","v":6.4656},{"$f":"X86/AZ86-1","v":{"v":-0.436504823907757,"d":"-43.65%"}},{"$f":"[1]班线包车!Z54","v":5.876},{"v":-0.490589428603629,"d":"-49.06%"},{"$f":"[1]班线包车!AB54","v":5.4243},{"v":-0.457173736827884,"d":"-45.72%"},{"$f":"[1]班线包车!AD54","v":5.367},{"$f":"AD86/BF86-1","v":{"v":-0.467390441409971,"d":"-46.74%"}},{"$f":"[1]班线包车!AF54","v":5.344},{"v":-0.471377840206542,"d":"-47.14%"},{"$f":"[1]班线包车!AH54","v":5.0093},{"v":-0.446651275310128,"d":"-44.67%"},{"$f":"[1]班线包车!AJ54","v":4.5789},{"$f":"AJ86/BL86-1","v":{"v":-0.489668316169587,"d":"-48.97%"}},{"$f":"[1]班线包车!AL54","v":4.2379},{"v":-0.512913050974082,"d":"-51.29%"},{"$f":"[1]班线包车!AN54","v":3.6481},{"v":-0.319600126825447,"d":"-31.96%"},{"v":64.2434,"d":"64.24"},{"v":-0.539955974455445,"d":"-54.00%"},null,{"v":134.2845,"d":"134.28"},{"v":17.5175,"d":"17.52"},null,19.9483,null,16.9053,null,{"v":11.4741,"d":"11.47"},null,{"v":11.5349,"d":"11.53"},null,{"v":9.9927,"d":"9.99"},null,{"v":10.0768,"d":"10.08"},null,{"v":10.1093,"d":"10.11"},null,{"v":9.0527,"d":"9.05"},null,{"v":8.9724,"d":"8.97"},null,{"v":8.7005,"d":"8.70"},null,{"v":5.3617,"d":"5.36"},null,{"v":139.6462,"d":"139.65"}]
[null,"城际城乡公交客运量（万人次）",{"$f":"[1]公交!C69-[1]公交!C71","v":54.9},{"$f":"C87/R87-1","v":{"v":0.139240506329114,"d":"13.92%"}},{"$f":"[1]公交!E69-[1]公交!E71","v":66.1},{"v":-0.108924238339175,"d":"-10.89%"},{"$f":"[1]公交!G69-[1]公交!G71","v":60.75},{"v":-0.111452391399737,"d":"-11.15%"},{"$f":"[1]公交!I69-[1]公交!I71","v":62.15},{"$f":"I87/X87-1","v":{"v":-0.0647103085026333,"d":"-6.47%"}},{"$f":"[1]公交!K69-[1]公交!K71","v":64.48},{"v":-0.0684773186940194,"d":"-6.85%"},{"$f":"[1]公交!M69-[1]公交!M71","v":63.16},{"v":0.0393286160934672,"d":"3.93%"},371.54,{"v":-0.0403946484839094,"d":"-4.04%"},null,{"$f":"[1]公交!R69-[1]公交!R71","v":48.19},{"$f":"R87/AT87-1","v":{"v":0.0115449202350968,"d":"1.15%"}},{"$f":"[1]公交!T69-[1]公交!T71","v":74.18},{"v":0.691290469676243,"d":"69.13%"},{"$f":"[1]公交!V69-[1]公交!V71","v":68.37},{"v":0.77170251360456,"d":"77.17%"},{"$f":"[1]公交!X69-[1]公交!X71","v":66.45},{"$f":"X87/AZ87-1","v":{"v":0.681427125506072,"d":"68.14%"}},{"$f":"[1]公交!Z69-[1]公交!Z71","v":69.22},{"v":0.691180063523088,"d":"69.12%"},{"$f":"[1]公交!AB69-[1]公交!AB71","v":60.77},{"v":0.466103739445114,"d":"46.61%"},{"$f":"[1]公交!AD69-[1]公交!AD71","v":56.03},{"$f":"AD87/BF87-1","v":{"v":0.362597276264592,"d":"36.26%"}},{"$f":"[1]公交!AF69-[1]公交!AF71","v":54.69},{"v":0.348705302096178,"d":"34.87%"},{"$f":"[1]公交!AH69-[1]公交!AH71","v":52.76},{"v":0.282450170150705,"d":"28.25%"},{"$f":"[1]公交!AJ69-[1]公交!AJ71","v":56.11},{"$f":"AJ87/BL87-1","v":{"v":0.268882858435097,"d":"26.89%"}},{"$f":"[1]公交!AL69-[1]公交!AL71","v":50.73},{"v":0.201278711816244,"d":"20.13%"},{"$f":"[1]公交!AN69-[1]公交!AN71","v":50.42},{"v":0.170924291686019,"d":"17.09%"},707.92,{"v":0.403739763240864,"d":"40.37%"},null,461.25,47.64,null,43.86,null,38.59,null,39.52,null,40.93,null,41.45,null,41.12,null,40.55,null,41.14,null,44.22,null,42.23,null,43.06,null,504.31]
[null,"城际城乡巡游出租客运量（万人次）",{"$f":"[1]出租!C69-[1]出租!C71","v":20.7},{"$f":"C88/R88-1","v":{"v":-0.0100430416068867,"d":"-1.00%"}},{"$f":"[1]出租!E69-[1]出租!E71","v":21.66},{"v":0.0617647058823525,"d":"6.18%"},{"$f":"[1]出租!G69-[1]出租!G71","v":20.37},{"v":-0.0276849642004776,"d":"-2.77%"},{"$f":"[1]出租!I69-[1]出租!I71","v":20.05},{"$f":"I88/X88-1","v":{"v":-0.0123152709359606,"d":"-1.23%"}},{"$f":"[1]出租!K69-[1]出租!K71","v":20.6},{"v":-0.0223065970574275,"d":"-2.23%"},{"$f":"[1]出租!M69-[1]出租!M71","v":17.43},{"v":-0.0811808118081184,"d":"-8.12%"},120.81,{"v":-0.014600326264274,"d":"-1.46%"},null,{"$f":"[1]出租!R69-[1]出租!R71","v":20.91},{"$f":"R88/AT88-1","v":{"v":-0.0337338262476896,"d":"-3.37%"}},{"$f":"[1]出租!T69-[1]出租!T71","v":20.4},{"v":-0.157372986369269,"d":"-15.74%"},{"$f":"[1]出租!V69-[1]出租!V71","v":20.95},{"v":-0.00522317188983834,"d":"-0.52%"},{"$f":"[1]出租!X69-[1]出租!X71","v":20.3},{"$f":"X88/AZ88-1","v":{"v":-3.43642611683836E-3,"d":"-0.34%"}},{"$f":"[1]出租!Z69-[1]出租!Z71","v":21.07},{"v":0.000474833808167263,"d":"0.05%"},{"$f":"[1]出租!AB69-[1]出租!AB71","v":18.97},{"v":0.0423076923076926,"d":"4.23%"},{"$f":"[1]出租!AD69-[1]出租!AD71","v":19.35},{"$f":"AD88/BF88-1","v":{"v":0.0200316288877171,"d":"2.00%"}},{"$f":"[1]出租!AF69-[1]出租!AF71","v":19.34},{"v":0.0276301806588732,"d":"2.76%"},{"$f":"[1]出租!AH69-[1]出租!AH71","v":18.69},{"v":-0.0173501577287067,"d":"-1.74%"},{"$f":"[1]出租!AJ69-[1]出租!AJ71","v":20.46},{"$f":"AJ88/BL88-1","v":{"v":-0.00920096852300234,"d":"-0.92%"}},{"$f":"[1]出租!AL69-[1]出租!AL71","v":18.35},{"v":-0.0123789020452093,"d":"-1.24%"},{"$f":"[1]出租!AN69-[1]出租!AN71","v":17.46},{"v":0.0871731008717307,"d":"8.72%"},236.25,{"v":-0.0100150854844117,"d":"-1.00%"},null,222.58,21.64,null,24.21,null,21.06,null,20.37,null,21.06,null,18.2,null,18.97,null,18.82,null,19.02,null,20.65,null,18.58,null,16.06,null,238.64]
[null,"城际城乡网约车客运量(万人次)",{"$f":"[1]网约车!C69-[1]网约车!C71","v":{"v":17.6522227928098,"d":"17.652"}},{"$f":"C89/R89-1","v":{"v":9.08878343786942,"d":"908.88%"}},{"$f":"[1]网约车!E69-[1]网约车!E71","v":{"v":16.2625167053826,"d":"16.263"}},{"v":6.3798656568005,"d":"637.99%"},{"$f":"[1]网约车!G69-[1]网约车!G71","v":{"v":15.6731475967885,"d":"15.673"}},{"v":2.27189039912248,"d":"227.19%"},{"$f":"[1]网约车!I69-[1]网约车!I71","v":{"v":15.324207548101,"d":"15.324"}},{"$f":"I89/X89-1","v":{"v":3.89529569086692,"d":"389.53%"}},{"$f":"[1]网约车!K69-[1]网约车!K71","v":{"v":16.5094121068159,"d":"16.509"}},{"v":3.17889033217085,"d":"317.89%"},{"$f":"[1]网约车!M69-[1]网约车!M71","v":{"v":16.8204214972972,"d":"16.820"}},{"v":2.93728771240539,"d":"293.73%"},{"v":98.241928247195,"d":"98.24"},{"v":3.88845819016807,"d":"388.85%"},null,{"$f":"[1]网约车!R69-[1]网约车!R71","v":{"v":1.74968794815737,"d":"1.750"}},{"$f":"R89/AT89-1","v":{"v":-0.829520756039132,"d":"-82.95%"}},{"$f":"[1]网约车!T69-[1]网约车!T71","v":{"v":2.20363316375506,"d":"2.204"}},{"v":-0.565107974868751,"d":"-56.51%"},{"$f":"[1]网约车!V69-[1]网约车!V71","v":{"v":4.7902422406912,"d":"4.790"}},{"v":-0.355066941259488,"d":"-35.51%"},{"$f":"[1]网约车!X69-[1]网约车!X71","v":{"v":3.13039467190739,"d":"3.130"}},{"$f":"X89/AZ89-1","v":{"v":-0.607222431894495,"d":"-60.72%"}},{"$f":"[1]网约车!Z69-[1]网约车!Z71","v":{"v":3.95066890837491,"d":"3.951"}},{"v":-0.534334409491184,"d":"-53.43%"},{"$f":"[1]网约车!AB69-[1]网约车!AB71","v":{"v":4.2720834051066,"d":"4.272"}},{"v":-0.748831691183852,"d":"-74.88%"},{"$f":"[1]网约车!AD69-[1]网约车!AD71","v":{"v":5.4638944094484,"d":"5.464"}},{"$f":"AD89/BF89-1","v":{"v":-0.48946323291189,"d":"-48.95%"}},{"$f":"[1]网约车!AF69-[1]网约车!AF71","v":{"v":5.8215733561869,"d":"5.822"}},{"v":-0.722564371187121,"d":"-72.26%"},{"$f":"[1]网约车!AH69-[1]网约车!AH71","v":{"v":4.9531652709919,"d":"4.953"}},{"v":-0.458111594180067,"d":"-45.81%"},{"$f":"[1]网约车!AJ69-[1]网约车!AJ71","v":{"v":6.8045820794609,"d":"6.805"}},{"$f":"AJ89/BL89-1","v":{"v":-0.284095670554528,"d":"-28.41%"}},{"$f":"[1]网约车!AL69-[1]网约车!AL71","v":{"v":9.3208287586704,"d":"9.321"}},{"v":-0.00995405493048085,"d":"-1.00%"},{"$f":"[1]网约车!AN69-[1]网约车!AN71","v":{"v":14.7722890973365,"d":"14.772"}},{"v":0.467056683224754,"d":"46.71%"},{"v":67.2330433100875,"d":"67.23"},{"v":-0.466555450537549,"d":"-46.66%"},null,{"v":115.966336305272,"d":"115.97"},{"v":10.263348824793,"d":"10.263"},null,{"v":5.06708110614355,"d":"5.067"},null,{"v":7.42750301875679,"d":"7.428"},null,{"v":7.96989167942129,"d":"7.970"},null,{"v":8.48391847904879,"d":"8.484"},null,{"v":17.0088472755283,"d":"17.009"},null,{"v":10.7022544930744,"d":"10.702"},null,{"v":20.983510232975,"d":"20.984"},null,{"v":9.14056329272676,"d":"9.141"},null,{"v":9.5048762796722,"d":"9.505"},null,{"v":9.41454162313236,"d":"9.415"},null,{"v":10.0693376515387,"d":"10.069"},null,{"v":126.035673956811,"d":"126.04"}]
["林区","总客运量（万人次）",{"$f":"C91+C92+C93+C94","v":{"v":9.3714588900758,"d":"9.37"}},{"$f":"C90/R90-1","v":{"v":-0.217158043895846,"d":"-21.72%"}},{"v":18.7132162799179,"d":"18.71"},{"v":0.819976601764179,"d":"82.00%"},{"v":5.78746238470154,"d":"5.79"},{"v":-0.0847893393296658,"d":"-8.48%"},{"$f":"I91+I92+I93+I94","v":{"v":8.23542662260639,"d":"8.24"}},{"$f":"I90/X90-1","v":{"v":-0.290924907491465,"d":"-29.09%"}},{"v":10.4692296959543,"d":"10.47"},{"v":-0.214852890723442,"d":"-21.49%"},{"v":6.6996365440591,"d":"6.70"},{"v":-0.333766658727013,"d":"-33.38%"},{"v":59.2764304173151,"d":"59.28"},{"v":-0.0677057370083989,"d":"-6.77%"},null,{"$f":"R91+R92+R93+R94","v":{"v":11.9710738764096,"d":"11.97"}},{"$f":"R90/AT90-1","v":{"v":0.424082419208441,"d":"42.41%"}},{"v":10.282119155696,"d":"10.28"},{"v":-0.000600841973017574,"d":"-0.06%"},{"v":6.32363960933605,"d":"6.32"},{"v":0.275921506327973,"d":"27.59%"},{"$f":"X91+X92+X93+X94","v":{"v":11.6143222482565,"d":"11.61"}},{"$f":"X90/AZ90-1","v":{"v":0.424454742172972,"d":"42.45%"}},{"v":13.3340995238469,"d":"13.33"},{"v":0.210799840574393,"d":"21.08%"},{"v":10.0559910905359,"d":"10.06"},{"v":0.0894259639126616,"d":"8.94%"},{"$f":"AD91+AD92+AD93+AD94","v":{"v":24.0662810266181,"d":"24.07"}},{"$f":"AD90/BF90-1","v":{"v":0.293394439909668,"d":"29.34%"}},{"v":29.1862487436847,"d":"29.19"},{"v":-0.144808585864407,"d":"-14.48%"},{"v":9.34942597271939,"d":"9.35"},{"v":0.0720623623768941,"d":"7.21%"},{"$f":"AJ91+AJ92+AJ93+AJ94","v":{"v":9.91893813358054,"d":"9.92"}},{"$f":"AJ90/BL90-1","v":{"v":-0.249551617900514,"d":"-24.96%"}},{"v":6.80424983746689,"d":"6.80"},{"v":0.261450800818898,"d":"26.15%"},{"v":5.84102333672965,"d":"5.84"},{"v":0.0946722620767011,"d":"9.47%"},{"v":148.74741255488,"d":"148.75"},{"v":0.0821860476789158,"d":"8.22%"},null,{"v":132.115003957366,"d":"132.12"},{"$f":"AT91+AT92+AT93+AT94","v":{"v":8.40616646546591,"d":"8.41"}},null,{"v":10.2883007986468,"d":"10.29"},null,{"v":4.95613529356921,"d":"4.96"},null,{"$f":"AZ91+AZ92+AZ93+AZ94","v":{"v":8.15352141728216,"d":"8.15"}},null,{"v":11.0126373303133,"d":"11.01"},null,{"v":9.23054105890765,"d":"9.23"},null,{"$f":"BF91+BF92+BF93+BF94","v":{"v":18.6070701125782,"d":"18.61"}},null,{"v":34.1283229242724,"d":"34.13"},null,{"v":8.72097211956081,"d":"8.72"},null,{"$f":"BL91+BL92+BL93+BL94","v":{"v":13.2173489478795,"d":"13.22"}},null,{"v":5.39398748888959,"d":"5.39"},null,{"v":5.33586493335334,"d":"5.34"},null,{"v":137.450868890719,"d":"137.45"}]
[null,"公路班线客运量（万人次）",{"$f":"[1]班线包车!C56","v":5.8705},{"$f":"C91/R91-1","v":{"v":-0.364822609090811,"d":"-36.48%"}},{"$f":"[1]班线包车!E56","v":15.4874},{"v":1.02937784999214,"d":"102.94%"},{"$f":"[1]班线包车!G56","v":2.543},{"v":-0.236129884953891,"d":"-23.61%"},{"$f":"[1]班线包车!I56","v":4.9911},{"$f":"I91/X91-1","v":{"v":-0.425273194154969,"d":"-42.53%"}},{"$f":"[1]班线包车!K56","v":7.1112},{"v":-0.303151458137347,"d":"-30.32%"},{"$f":"[1]班线包车!M56","v":3.146},{"v":-0.548085901027078,"d":"-54.81%"},{"v":39.1492,"d":"39.15"},{"v":-0.149920961662063,"d":"-14.99%"},null,{"$f":"[1]班线包车!R56","v":9.2423},{"$f":"R91/AT91-1","v":{"v":0.555733234581201,"d":"55.57%"}},{"$f":"[1]班线包车!T56","v":7.6316},{"v":-0.0245910020449898,"d":"-2.46%"},{"$f":"[1]班线包车!V56","v":3.3291},{"v":0.341189267585207,"d":"34.12%"},{"$f":"[1]班线包车!X56","v":8.6843},{"$f":"X91/AZ91-1","v":{"v":0.602358064099489,"d":"60.24%"}},{"$f":"[1]班线包车!Z56","v":10.2048},{"v":0.250818165103879,"d":"25.08%"},{"$f":"[1]班线包车!AB56","v":6.9615},{"v":0.0655900811265879,"d":"6.56%"},{"$f":"[1]班线包车!AD56","v":20.731},{"$f":"AD91/BF91-1","v":{"v":0.362420562160315,"d":"36.24%"}},{"$f":"[1]班线包车!AF56","v":26.0203},{"v":-0.162575068068152,"d":"-16.26%"},{"$f":"[1]班线包车!AH56","v":6.3018},{"v":0.034506533587235,"d":"3.45%"},{"$f":"[1]班线包车!AJ56","v":6.5631},{"$f":"AJ91/BL91-1","v":{"v":-0.383393305085542,"d":"-38.34%"}},{"$f":"[1]班线包车!AL56","v":3.6566},{"v":0.287671232876712,"d":"28.77%"},{"$f":"[1]班线包车!AN56","v":2.5061},{"v":-0.110491942926102,"d":"-11.05%"},{"v":111.8325,"d":"111.83"},{"v":0.0646769910956799,"d":"6.47%"},null,{"v":102.2215,"d":"102.22"},{"v":5.9408,"d":"5.94"},null,7.824,null,2.4822,null,{"v":5.4197,"d":"5.42"},null,{"v":8.1585,"d":"8.16"},null,{"v":6.533,"d":"6.53"},null,{"v":15.2163,"d":"15.22"},null,{"v":31.0718,"d":"31.07"},null,{"v":6.0916,"d":"6.09"},null,{"v":10.6439,"d":"10.64"},null,{"v":2.8397,"d":"2.84"},null,{"v":2.8174,"d":"2.82"},null,{"v":105.0389,"d":"105.04"}]
[null,"城际城乡公交客运量（万人次）",{"$f":"[1]公交!C73-[1]公交!C75","v":1.05},{"$f":"C92/R92-1","v":{"v":2.5,"d":"250.00%"}},{"$f":"[1]公交!E73-[1]公交!E75","v":0.8},{"v":2.63636363636364,"d":"263.64%"},{"$f":"[1]公交!G73-[1]公交!G75","v":0.800000000000001},{"v":0.481481481481485,"d":"48.15%"},{"$f":"[1]公交!I73-[1]公交!I75","v":0.800000000000001},{"$f":"I92/X92-1","v":{"v":0.600000000000001,"d":"60.00%"}},{"$f":"[1]公交!K73-[1]公交!K75","v":0.9},{"v":0.285714285714288,"d":"28.57%"},{"$f":"[1]公交!M73-[1]公交!M75","v":1.07},{"v":0.597014925373132,"d":"59.70%"},5.42,{"v":0.849829351535837,"d":"84.98%"},null,{"$f":"[1]公交!R73-[1]公交!R75","v":0.3},{"$f":"R92/AT92-1","v":{"v":0.500000000000006,"d":"50.00%"}},{"$f":"[1]公交!T73-[1]公交!T75","v":0.22},{"v":0.0999999999999988,"d":"10.00%"},{"$f":"[1]公交!V73-[1]公交!V75","v":0.539999999999999},{"v":1.7,"d":"170.00%"},{"$f":"[1]公交!X73-[1]公交!X75","v":0.5},{"$f":"X92/AZ92-1","v":{"v":0.0416666666666667,"d":"4.17%"}},{"$f":"[1]公交!Z73-[1]公交!Z75","v":0.699999999999999},{"v":0.166666666666666,"d":"16.67%"},{"$f":"[1]公交!AB73-[1]公交!AB75","v":0.67},{"v":0.488888888888892,"d":"48.89%"},{"$f":"[1]公交!AD73-[1]公交!AD75","v":0.799999999999999},{"$f":"AD92/BF92-1","v":{"v":0.269841269841266,"d":"26.98%"}},{"$f":"[1]公交!AF73-[1]公交!AF75","v":0.699999999999999},{"v":0.944444444444437,"d":"94.44%"},{"$f":"[1]公交!AH73-[1]公交!AH75","v":0.6},{"v":0.999999999999992,"d":"100.00%"},{"$f":"[1]公交!AJ73-[1]公交!AJ75","v":0.9},{"$f":"AJ92/BL92-1","v":{"v":2.00000000000001,"d":"200.00%"}},{"$f":"[1]公交!AL73-[1]公交!AL75","v":0.75},{"v":1.88461538461538,"d":"188.46%"},{"$f":"[1]公交!AN73-[1]公交!AN75","v":0.9},{"v":2.00000000000001,"d":"200.00%"},7.58,{"v":0.771028037383177,"d":"77.10%"},null,3.98,0.199999999999999,null,0.2,null,0.2,null,0.48,null,0.6,null,0.449999999999999,null,0.630000000000001,null,0.360000000000001,null,0.300000000000001,null,{"v":0.299999999999999,"d":"0.30"},null,0.26,null,{"v":0.299999999999999,"d":"0.30"},null,4.28]
[null,"城际城乡巡游出租客运量（万人次）",{"$f":"[1]出租!C73-[1]出租!C75","v":2.39},{"$f":"C93/R93-1","v":{"v":-4.16666666666654E-3,"d":"-0.42%"}},{"$f":"[1]出租!E73-[1]出租!E75","v":2.38},{"v":-0.00833333333333386,"d":"-0.83%"},{"$f":"[1]出租!G73-[1]出租!G75","v":2.38},{"v":-0.00833333333333386,"d":"-0.83%"},{"$f":"[1]出租!I73-[1]出租!I75","v":2.38},{"$f":"I93/X93-1","v":{"v":-0.00833333333333242,"d":"-0.83%"}},{"$f":"[1]出租!K73-[1]出租!K75","v":2.38},{"v":-0.00833333333333319,"d":"-0.83%"},{"$f":"[1]出租!M73-[1]出租!M75","v":2.39},{"v":-0.00416666666666587,"d":"-0.42%"},{"v":14.3,"d":"14.30"},{"v":-0.00694444444444431,"d":"-0.69%"},null,{"$f":"[1]出租!R73-[1]出租!R75","v":2.4},{"$f":"R93/AT93-1","v":{"v":0.0619469026548676,"d":"6.19%"}},{"$f":"[1]出租!T73-[1]出租!T75","v":2.4},{"v":0.0619469026548676,"d":"6.19%"},{"$f":"[1]出租!V73-[1]出租!V75","v":2.4},{"v":0.0572687224669606,"d":"5.73%"},{"$f":"[1]出租!X73-[1]出租!X75","v":2.4},{"$f":"X93/AZ93-1","v":{"v":0.066666666666666,"d":"6.67%"}},{"$f":"[1]出租!Z73-[1]出租!Z75","v":2.4},{"v":0.0666666666666669,"d":"6.67%"},{"$f":"[1]出租!AB73-[1]出租!AB75","v":2.4},{"v":0.0714285714285714,"d":"7.14%"},{"$f":"[1]出租!AD73-[1]出租!AD75","v":2.48},{"$f":"AD93/BF93-1","v":{"v":-0.0981818181818174,"d":"-9.82%"}},{"$f":"[1]出租!AF73-[1]出租!AF75","v":2.4},{"v":-0.0977443609022556,"d":"-9.77%"},{"$f":"[1]出租!AH73-[1]出租!AH75","v":2.4},{"v":0.0344827586206891,"d":"3.45%"},{"$f":"[1]出租!AJ73-[1]出租!AJ75","v":2.4},{"$f":"AJ93/BL93-1","v":{"v":0.0619469026548676,"d":"6.19%"}},{"$f":"[1]出租!AL73-[1]出租!AL75","v":2.35},{"v":0.0307017543859656,"d":"3.07%"},{"$f":"[1]出租!AN73-[1]出租!AN75","v":2.38},{"v":0.0818181818181813,"d":"8.18%"},28.81,{"v":0.0289285714285712,"d":"2.89%"},null,{"v":25.8,"d":"25.80"},2.26,null,2.26,null,2.27,null,2.25,null,2.25,null,2.24,null,2.75,null,2.66,null,2.32,null,2.26,null,2.28,null,{"v":2.2,"d":"2.20"},null,{"v":28,"d":"28.00"}]
[null,"城际城乡网约车客运量(万人次)",{"$f":"[1]网约车!C73-[1]网约车!C75","v":{"v":0.060958890075798,"d":"0.061"}},{"$f":"C94/R94-1","v":{"v":1.11854979871758,"d":"111.85%"}},{"$f":"[1]网约车!E73-[1]网约车!E75","v":{"v":0.045816279917927,"d":"0.046"}},{"v":0.501230255985651,"d":"50.12%"},{"$f":"[1]网约车!G73-[1]网约车!G75","v":{"v":0.06446238470154,"d":"0.064"}},{"v":0.181937045136338,"d":"18.19%"},{"$f":"[1]网约车!I73-[1]网约车!I75","v":{"v":0.064326622606387,"d":"0.064"}},{"$f":"I94/X94-1","v":{"v":1.14263175951652,"d":"114.26%"}},{"$f":"[1]网约车!K73-[1]网约车!K75","v":{"v":0.07802969595433,"d":"0.078"}},{"v":1.66317283386694,"d":"166.32%"},{"$f":"[1]网约车!M73-[1]网约车!M75","v":{"v":0.093636544059095,"d":"0.094"}},{"v":2.82329010306671,"d":"282.33%"},{"v":0.407230417315077,"d":"0.41"},{"v":1.06040820006992,"d":"106.04%"},null,{"$f":"[1]网约车!R73-[1]网约车!R75","v":{"v":0.02877387640956,"d":"0.029"}},{"$f":"R94/AT94-1","v":{"v":4.36179289559421,"d":"436.18%"}},{"$f":"[1]网约车!T73-[1]网约车!T75","v":{"v":0.03051915569597,"d":"0.031"}},{"v":6.0961600861009,"d":"609.62%"},{"$f":"[1]网约车!V73-[1]网约车!V75","v":{"v":0.054539609336049,"d":"0.055"}},{"v":12.8590954847278,"d":"1285.91%"},{"$f":"[1]网约车!X73-[1]网约车!X75","v":{"v":0.030022248256463,"d":"0.030"}},{"$f":"X94/AZ94-1","v":{"v":6.85631247250273,"d":"685.63%"}},{"$f":"[1]网约车!Z73-[1]网约车!Z75","v":{"v":0.029299523846911,"d":"0.029"}},{"v":6.0817463505305,"d":"608.17%"},{"$f":"[1]网约车!AB73-[1]网约车!AB75","v":{"v":0.024491090535868,"d":"0.024"}},{"v":2.24769914090051,"d":"224.77%"},{"$f":"[1]网约车!AD73-[1]网约车!AD75","v":{"v":0.055281026618058,"d":"0.055"}},{"$f":"AD94/BF94-1","v":{"v":4.1328178992029,"d":"413.28%"}},{"$f":"[1]网约车!AF73-[1]网约车!AF75","v":{"v":0.065948743684707,"d":"0.066"}},{"v":0.805680815500571,"d":"80.57%"},{"$f":"[1]网约车!AH73-[1]网约车!AH75","v":{"v":0.047625972719393,"d":"0.048"}},{"v":4.08166508230904,"d":"408.17%"},{"$f":"[1]网约车!AJ73-[1]网约车!AJ75","v":{"v":0.055838133580537,"d":"0.056"}},{"$f":"AJ94/BL94-1","v":{"v":3.15185887258299,"d":"315.19%"}},{"$f":"[1]网约车!AL73-[1]网约车!AL75","v":{"v":0.04764983746689,"d":"0.048"}},{"v":2.33507433217387,"d":"233.51%"},{"$f":"[1]网约车!AN73-[1]网约车!AN75","v":{"v":0.054923336729647,"d":"0.055"}},{"v":1.97446709818258,"d":"197.45%"},{"v":0.524912554880053,"d":"0.52"},{"v":2.97754767824691,"d":"297.75%"},null,{"v":0.113503957365627,"d":"0.11"},{"v":0.00536646546590853,"d":"0.005"},null,{"v":0.00430079864682693,"d":"0.004"},null,{"v":3.93529356920512E-3,"d":"0.004"},null,{"v":0.00382141728215897,"d":"0.004"},null,{"v":0.00413733031326604,"d":"0.004"},null,{"v":0.007541058907654,"d":"0.008"},null,{"v":0.0107701125782473,"d":"0.011"},null,{"v":0.03652292427243,"d":"0.037"},null,{"v":0.00937211956080986,"d":"0.009"},null,{"v":0.013448947879531,"d":"0.013"},null,{"v":0.0142874888895897,"d":"0.014"},null,{"v":0.018464933353341,"d":"0.018"},null,{"v":0.131968890718968,"d":"0.13"}]
["中口径旅客周转量"]
["注：中口径旅客周转量由公路班线、城际城乡公交、城际城乡出租、城际城乡网约车旅客周转量四部分构成",{"$nulls":64},153182.708092]
["地区 名称","指标","2026年1月","1月同比","2026年2月","2月同比","2026年3月","3月同比","2026年4月","4月同比","2026年5月","5月同比","2026年6月","6月同比","累计","同比",null,"2025年1月","1月与去年同比","2025年2月","2月与去年同比","2025年3月","3月与去年同比","2025年4月","4月与去年同比","2025年5月","5月与去年同比","2025年6月","6月与去年同比","2025年7月","7月与去年同比","2025年8月","8月与去年同比","2025年9月","9月与去年同比","2025年10月","10月与去年同比","2025年11月","11月与去年同比","2025年12月","12月与去年同比","2025年累计","累计同比",null,{"$f":"AS99-AS103-[1]公交!#REF!-[1]出租!#REF!-[1]班线包车!AR5","v":{"$error":"#REF!"}},"2024年1月","1月与去年同比","2024年2月","2月与去年同比","2024年3月","3月与去年同比","2024年4月","4月与去年同比","2024年5月","5月与去年同比","2024年6月","6月与去年同比","2024年7月","7月与去年同比","2024年8月","8月与去年同比","2024年9月","9月与去年同比","2024年10月","10月与去年同比","2024年11月","11月与去年同比","2024年12月","12月与去年同比","累计","累计同比",null,"2023年1月","2023年2月","2023年3月","2023年4月","2023年5月","2023年6月","2023年7月","2023年8月","2023年9月","2023年10月","2023年11月","2023年12月","累计"]
[]
["全省","总旅客周转量（万人公里）",{"$f":"C100+C101+C102+C103","v":{"v":131496.2814,"d":"131496.28"}},{"$f":"C99/R99-1","v":{"v":-0.0881133006863221,"d":"-8.81%"}},{"v":148916.514818,"d":"148916.51"},{"v":-0.0221937850408354,"d":"-2.22%"},{"v":155961.270273,"d":"155961.27"},{"v":-0.00530162788199551,"d":"-0.53%"},{"$f":"I100+I101+I102+I103","v":{"v":162178.990109,"d":"162178.99"}},{"$f":"I99/X99-1","v":{"v":-0.045517565358978,"d":"-4.55%"}},{"v":163957.390395,"d":"163957.39"},{"v":-0.0120417017122474,"d":"-1.20%"},{"v":154548.752275,"d":"154548.75"},{"v":-0.00763142682492091,"d":"-0.76%"},{"$f":"E99+C99+G99+I99+K99+M99","v":{"v":917059.19927,"d":"917059.20"}},{"$f":"O99/SUM(R99,T99,V99,X99,Z99,AB99)-1","v":{"v":-0.0294617749859419,"d":"-2.95%"}},{"$f":"R99+T99+V99+X99+Z99","v":{"v":789160.308824,"d":"789160.31"}},{"$f":"R100+R101+R102+R103","v":{"v":144202.43381,"d":"144202.43"}},{"$f":"R99/AT99-1","v":{"v":0.107372002946531,"d":"10.74%"}},{"v":152296.55175,"d":"152296.55"},{"v":0.10139368911775,"d":"10.14%"},{"v":156792.5259,"d":"156792.53"},{"v":0.12210129491996,"d":"12.21%"},{"$f":"X100+X101+X102+X103","v":{"v":169913.016964,"d":"169913.02"}},{"$f":"X99/AZ99-1","v":{"v":0.10190391844447,"d":"10.19%"}},{"v":165955.7804,"d":"165955.78"},{"v":0.0838596222144132,"d":"8.39%"},{"v":155737.2497,"d":"155737.25"},{"v":0.0990883865565872,"d":"9.91%"},{"$f":"AD100+AD101+AD102+AD103","v":{"v":157380.8272,"d":"157380.83"}},{"$f":"AD99/BF99-1","v":{"v":0.0626555493266547,"d":"6.27%"}},154405.83,{"v":0.0361858239117341,"d":"3.62%"},{"v":149915.8019,"d":"149915.80"},{"v":0.0331052153844646,"d":"3.31%"},{"$f":"AJ100+AJ101+AJ102+AJ103","v":{"v":157572.669341,"d":"157572.67"}},{"$f":"AJ99/BL99-1","v":{"v":-0.0441247865776668,"d":"-4.41%"}},{"v":150427.714692,"d":"150427.71"},{"v":-0.0179850156346982,"d":"-1.80%"},{"v":137240.016772,"d":"137240.02"},{"v":0.013639162214357,"d":"1.36%"},{"$f":"T99+R99+V99+X99+Z99+AB99+AD99+AF99+AH99+AJ99+AL99+AN99","v":{"v":1851840.418429,"d":"1851840.42"}},{"$f":"AP99/SUM(AT99,AV99,AX99,AZ99,BB99,BD99,BF99,BH99,BJ99,BL99,BN99,BP99)-1","v":{"v":0.056450420684798,"d":"5.65%"}},null,{"$f":"AT99+AV99+AX99+AZ99+BB99+BD99+BF99+BH99+BJ99+BL99+BN99","v":{"v":1617495.727076,"d":"1617495.73"}},{"$f":"AT100+AT101+AT102+AT103","v":{"v":130220.4078,"d":"130220.41"}},{"$f":"AT99/BU99-1","v":{"v":0.216735329711004,"d":"21.67%"}},{"v":138276.216084,"d":"138276.22"},{"$f":"AV99/BV99-1","v":{"v":0.0555126503996544,"d":"5.55%"}},{"v":139731.1692,"d":"139731.17"},{"$f":"AX99/BW99-1","v":{"v":0.00211520200172011,"d":"0.21%"}},{"$f":"AZ100+AZ101+AZ102+AZ103","v":{"v":154199.4852,"d":"154199.49"}},{"$f":"AZ99/BX99-1","v":{"v":0.0519394518930456,"d":"5.19%"}},{"v":153115.566812,"d":"153115.57"},{"$f":"BB99/BY99-1","v":{"v":0.0598826379821411,"d":"5.99%"}},{"v":141696.7476,"d":"141696.75"},{"$f":"BD99/BZ99-1","v":{"v":0.010723223503706,"d":"1.07%"}},{"$f":"BF100+BF101+BF102+BF103","v":{"v":148101.449524,"d":"148101.45"}},{"$f":"BF99/CA99-1","v":{"v":-0.0508833847901389,"d":"-5.09%"}},{"v":149013.64836,"d":"149013.65"},{"$f":"BH99/CB99-1","v":{"v":0.00859117969073475,"d":"0.86%"}},{"v":145111.84308,"d":"145111.84"},{"$f":"BJ99/CC99-1","v":{"v":0.0295795445163745,"d":"2.96%"}},{"$f":"BL100+BL101+BL102+BL103","v":{"v":164846.485324,"d":"164846.49"}},{"$f":"BL99/CD99-1","v":{"v":0.0958297577942706,"d":"9.58%"}},{"v":153182.708092,"d":"153182.71"},{"$f":"BN99/CE99-1","v":{"v":0.0672843533965093,"d":"6.73%"}},{"v":135393.364708,"d":"135393.36"},{"$f":"BP99/CF99-1","v":{"v":0.0342101193844573,"d":"3.42%"}},{"$f":"AT99+AV99+AX99+AZ99+BB99+BD99+BF99+BH99+BJ99+BL99+BN99+BP99","v":{"v":1752889.091784,"d":"1752889.09"}},{"$f":"BR99/CG99-1","v":{"v":0.0444381531576594,"d":"4.44%"}},null,{"$f":"BU100+BU101+BU102+BU103","v":{"v":107024.4322,"d":"107024.43"}},{"v":131003.8454126,"d":"131003.85"},{"v":139436.2334,"d":"139436.23"},{"v":146585.8942,"d":"146585.89"},{"v":144464.6429,"d":"144464.64"},{"v":140193.4222,"d":"140193.42"},{"v":156041.3622,"d":"156041.36"},{"v":147744.3501,"d":"147744.35"},{"v":140942.8187,"d":"140942.82"},{"v":150430.7436,"d":"150430.74"},{"v":143525.6758,"d":"143525.68"},{"v":130914.7553,"d":"130914.76"},{"$f":"BU99+BV99+BW99+BX99+BY99+BZ99+CA99+CB99+CC99+CD99+CE99+CF99","v":{"v":1678308.1760126,"d":"1678308.18"}}]
[null,"公路班线旅客周转量（万人公里）",{"$f":"C105+C110+C115+C120+C125+C130+C135+C140+C145+C150+C155+C160+C165+C170+C175+C180+C185","v":{"v":91471.0814,"d":"91471.08"}},{"$f":"C100/R100-1","v":{"v":-0.118590713389346,"d":"-11.86%"}},{"v":110843.064818,"d":"110843.06"},{"v":-0.0138149892582627,"d":"-1.38%"},{"v":115505.520273,"d":"115505.52"},{"v":0.0202075740990879,"d":"2.02%"},{"$f":"I105+I110+I115+I120+I125+I130+I135+I140+I145+I150+I155+I160+I165+I170+I175+I180+I185","v":{"v":121466.090109,"d":"121466.09"}},{"$f":"I100/X100-1","v":{"v":-0.0369579718746877,"d":"-3.70%"}},{"v":121944.200395,"d":"121944.20"},{"v":0.0154038975781232,"d":"1.54%"},{"v":112912.972275,"d":"112912.97"},{"v":0.0120279694419552,"d":"1.20%"},{"v":674142.92927,"d":"674142.93"},{"v":-0.0189782360655347,"d":"-1.90%"},{"v":575613.478824,"d":"575613.48"},{"$f":"R105+R110+R115+R120+R125+R130+R135+R140+R145+R150+R155+R160+R165+R170+R175+R180+R185","v":{"v":103778.21381,"d":"103778.21"}},{"$f":"R100/AT100-1","v":{"v":0.182729441967362,"d":"18.27%"}},{"v":112395.81175,"d":"112395.81"},{"v":0.101866076377529,"d":"10.19%"},{"v":113217.6659,"d":"113217.67"},{"v":0.120661756352595,"d":"12.07%"},{"$f":"X105+X110+X115+X120+X125+X130+X135+X140+X145+X150+X155+X160+X165+X170+X175+X180+X185","v":{"v":126127.506964,"d":"126127.51"}},{"$f":"X100/AZ100-1","v":{"v":0.109669325483287,"d":"10.97%"}},{"v":120094.2804,"d":"120094.28"},{"v":0.0646012696213658,"d":"6.46%"},{"v":111570.9997,"d":"111571.00"},{"v":0.0853360260891394,"d":"8.53%"},{"$f":"AD105+AD110+AD115+AD120+AD125+AD130+AD135+AD140+AD145+AD150+AD155+AD160+AD165+AD170+AD175+AD180+AD185","v":{"v":115657.7872,"d":"115657.79"}},{"$f":"AD100/BF100-1","v":{"v":0.0635823815878951,"d":"6.36%"}},115659.11,{"v":0.0417686289270238,"d":"4.18%"},{"v":110618.6519,"d":"110618.65"},{"v":0.048135005377127,"d":"4.81%"},{"$f":"AJ105+AJ110+AJ115+AJ120+AJ125+AJ130+AJ135+AJ140+AJ145+AJ150+AJ155+AJ160+AJ165+AJ170+AJ175+AJ180+AJ185","v":{"v":117451.749341,"d":"117451.75"}},{"$f":"AJ100/BL100-1","v":{"v":-0.0541603778297368,"d":"-5.42%"}},{"v":111181.804692,"d":"111181.80"},{"v":-0.0188148630091607,"d":"-1.88%"},{"v":98094.606772,"d":"98094.61"},{"v":0.0300557827688894,"d":"3.01%"},{"v":1355848.188429,"d":"1355848.19"},{"v":0.06085415812465,"d":"6.09%"},null,{"v":1182839.857076,"d":"1182839.86"},{"$f":"AT105+AT110+AT115+AT120+AT125+AT130+AT135+AT140+AT145+AT150+AT155+AT160+AT165+AT170+AT175+AT180+AT185","v":{"v":87744.6778,"d":"87744.68"}},{"v":0.15100766529451,"d":"15.10%"},{"v":102004.966084,"d":"102004.97"},{"v":0.100107267425007,"d":"10.01%"},{"v":101027.5092,"d":"101027.51"},{"v":2.38100677637965E-3,"d":"0.24%"},{"$f":"AZ105+AZ110+AZ115+AZ120+AZ125+AZ130+AZ135+AZ140+AZ145+AZ150+AZ155+AZ160+AZ165+AZ170+AZ175+AZ180+AZ185","v":{"v":113662.2452,"d":"113662.25"}},{"v":0.0810017325530483,"d":"8.10%"},{"v":112806.816812,"d":"112806.82"},{"v":0.0927211214119887,"d":"9.27%"},{"v":102798.5776,"d":"102798.58"},{"v":0.0264419846733275,"d":"2.64%"},{"$f":"BF105+BF110+BF115+BF120+BF125+BF130+BF135+BF140+BF145+BF150+BF155+BF160+BF165+BF170+BF175+BF180+BF185","v":{"v":108743.609524,"d":"108743.61"}},{"v":-0.0670089338917056,"d":"-6.70%"},{"v":111021.87836,"d":"111021.88"},{"v":0.0218832123574135,"d":"2.19%"},{"v":105538.55308,"d":"105538.55"},{"v":0.0386094058735496,"d":"3.86%"},{"$f":"BL105+BL110+BL115+BL120+BL125+BL130+BL135+BL140+BL145+BL150+BL155+BL160+BL165+BL170+BL175+BL180+BL185","v":{"v":124177.235324,"d":"124177.24"}},{"v":0.146862236638992,"d":"14.69%"},{"v":113313.788092,"d":"113313.79"},{"v":0.124150011546979,"d":"12.42%"},{"v":95232.324708,"d":"95232.32"},{"v":0.0936608024263421,"d":"9.37%"},{"v":1278072.181784,"d":"1278072.18"},{"v":0.0639617209413346,"d":"6.40%"},null,{"v":76232.9222,"d":"76232.92"},{"v":92722.7454126,"d":"92722.75"},{"v":100787.5334,"d":"100787.53"},{"v":105145.2942,"d":"105145.29"},{"v":103234.7729,"d":"103234.77"},{"v":100150.4022,"d":"100150.40"},{"v":116553.7522,"d":"116553.75"},{"v":108644.3901,"d":"108644.39"},{"v":101615.2487,"d":"101615.25"},{"v":108275.6336,"d":"108275.63"},{"v":100799.5258,"d":"100799.53"},{"v":87076.6553,"d":"87076.66"},{"v":1201238.8760126,"d":"1201238.88"}]
[null,"城际城乡公交旅客周转量（万人公里）",{"$f":"C106+C111+C116+C121+C126+C131+C136+C141+C146+C151+C156+C161+C166+C171+C176+C181+C186","v":28031.86},{"$f":"C101/R101-1","v":{"v":-0.0635907625332879,"d":"-6.36%"}},26676.99,{"v":-0.102713555061193,"d":"-10.27%"},28698.14,{"v":-0.142177074496736,"d":"-14.22%"},{"$f":"I106+I111+I116+I121+I126+I131+I136+I141+I146+I151+I156+I161+I166+I171+I176+I181+I186","v":29205.85},{"$f":"I101/X101-1","v":{"v":-0.126928183002246,"d":"-12.69%"}},29927.92,{"v":-0.13305452808441,"d":"-13.31%"},29472.93,{"v":-0.117188667710439,"d":"-11.72%"},172013.69,{"v":-0.115515760588966,"d":"-11.55%"},161093.78,{"$f":"R106+R111+R116+R121+R126+R131+R136+R141+R146+R151+R156+R161+R166+R171+R176+R181+R186","v":29935.48},{"$f":"R101/AT101-1","v":{"v":-0.0103993182162284,"d":"-1.04%"}},29730.74,{"v":0.133640841168784,"d":"13.36%"},33454.62,{"v":0.161716366444681,"d":"16.17%"},{"$f":"X106+X111+X116+X121+X126+X131+X136+X141+X146+X151+X156+X161+X166+X171+X176+X181+X186","v":33451.83},{"$f":"X101/AZ101-1","v":{"v":0.11008228096985,"d":"11.01%"}},34521.11,{"v":0.153090564134425,"d":"15.31%"},33385.31,{"v":0.172016020855618,"d":"17.20%"},{"$f":"AD106+AD111+AD116+AD121+AD126+AD131+AD136+AD141+AD146+AD151+AD156+AD161+AD166+AD171+AD176+AD181+AD186","v":30289.88},{"$f":"AD101/BF101-1","v":{"v":0.0850983416808739,"d":"8.51%"}},27467.14,{"v":0.0211090837984009,"d":"2.11%"},28395.26,{"v":-0.0162716430382325,"d":"-1.63%"},{"$f":"AJ106+AJ111+AJ116+AJ121+AJ126+AJ131+AJ136+AJ141+AJ146+AJ151+AJ156+AJ161+AJ166+AJ171+AJ176+AJ181+AJ186","v":28034.41},{"$f":"AJ101/BL101-1","v":{"v":-0.0530534307310978,"d":"-5.31%"}},27939.59,{"v":-0.0399092951820539,"d":"-3.99%"},27005.38,{"v":-0.0760919358552368,"d":"-7.61%"},363610.75,{"v":0.0525847515547893,"d":"5.26%"},null,316216.07,{"$f":"AT106+AT111+AT116+AT121+AT126+AT131+AT136+AT141+AT146+AT151+AT156+AT161+AT166+AT171+AT176+AT181+AT186","v":30250.06},{"v":0.484728189754267,"d":"48.47%"},26225.89,{"v":-0.0570656375098604,"d":"-5.71%"},28797.58,{"v":0.00924129167106202,"d":"0.92%"},{"$f":"AZ106+AZ111+AZ116+AZ121+AZ126+AZ131+AZ136+AZ141+AZ146+AZ151+AZ156+AZ161+AZ166+AZ171+AZ176+AZ181+AZ186","v":30134.55},{"v":-0.0219087912676427,"d":"-2.19%"},{"v":29937.9,"d":"29937.90"},{"v":-0.0151096203300372,"d":"-1.51%"},28485.37,{"v":-0.0300729657589729,"d":"-3.01%"},{"$f":"BF106+BF111+BF116+BF121+BF126+BF131+BF136+BF141+BF146+BF151+BF156+BF161+BF166+BF171+BF176+BF181+BF186","v":27914.41},{"v":-0.0173632745534128,"d":"-1.74%"},26899.32,{"v":-0.0396893227175268,"d":"-3.97%"},28864.94,{"v":0.00994375932883451,"d":"0.99%"},{"$f":"BL106+BL111+BL116+BL121+BL126+BL131+BL136+BL141+BL146+BL151+BL156+BL161+BL166+BL171+BL176+BL181+BL186","v":29605.06},{"v":-0.0476158919305997,"d":"-4.76%"},29100.99,{"v":-0.090552568960959,"d":"-9.06%"},29229.51,{"v":-0.107071634645346,"d":"-10.71%"},345445.58,{"v":-0.00766550502629804,"d":"-0.77%"},null,20374.14,27813.06,28533.89,30809.55,30397.19,29368.57,28407.66,28011.06,28580.74,31085.21,31998.54,32734.44,348114.05]
[null,"城际城乡巡游出租旅客周转量（万人公里）",{"$f":"C107+C112+C117+C122+C127+C132+C137+C142+C147+C152+C157+C162+C167+C172+C177+C182+C187","v":7393.31},{"$f":"C102/R102-1","v":{"v":-0.0497873581905975,"d":"-4.98%"}},7424.72,{"v":-0.0218185507085989,"d":"-2.18%"},7017.04,{"v":-0.0294805530698365,"d":"-2.95%"},{"$f":"I107+I112+I117+I122+I127+I132+I137+I142+I147+I152+I157+I162+I167+I172+I177+I182+I187","v":6880.66},{"$f":"I102/X102-1","v":{"v":-0.0323771004754679,"d":"-3.24%"}},7052.96,{"v":-0.0878420934873391,"d":"-8.78%"},6971.69,{"v":-0.0484231129358517,"d":"-4.84%"},42740.38,{"v":-0.0453499418034951,"d":"-4.53%"},37444.27,{"$f":"R107+R112+R117+R122+R127+R132+R137+R142+R147+R152+R157+R162+R167+R172+R177+R182+R187","v":7780.69},{"$f":"R102/AT102-1","v":{"v":-0.104975458026726,"d":"-10.50%"}},7590.33,{"v":-0.0268321108363109,"d":"-2.68%"},7230.19,{"v":0.0197599748381192,"d":"1.98%"},{"$f":"X107+X112+X117+X122+X127+X132+X137+X142+X147+X152+X157+X162+X167+X172+X177+X182+X187","v":7110.89},{"$f":"X102/AZ102-1","v":{"v":-0.00908710859659145,"d":"-0.91%"}},7732.17,{"v":0.0927642001811813,"d":"9.28%"},7326.46,{"v":0.0516640972419595,"d":"5.17%"},{"$f":"AD107+AD112+AD117+AD122+AD127+AD132+AD137+AD142+AD147+AD152+AD157+AD162+AD167+AD172+AD177+AD182+AD187","v":7734.98},{"$f":"AD102/BF102-1","v":{"v":0.0157157301747797,"d":"1.57%"}},7602.05,{"v":0.0473451449355231,"d":"4.73%"},{"v":7505.9,"d":"7505.90"},{"v":0.0531935791659648,"d":"5.32%"},{"$f":"AJ107+AJ112+AJ117+AJ122+AJ127+AJ132+AJ137+AJ142+AJ147+AJ152+AJ157+AJ162+AJ167+AJ172+AJ177+AJ182+AJ187","v":7971.25},{"$f":"AJ102/BL102-1","v":{"v":0.0758264479540907,"d":"7.58%"}},7440.63,{"v":0.0511635989133243,"d":"5.12%"},7698.59,{"v":0.0953607954060405,"d":"9.54%"},90724.13,{"v":0.0272421920069654,"d":"2.72%"},null,81289.79,{"$f":"AT107+AT112+AT117+AT122+AT127+AT132+AT137+AT142+AT147+AT152+AT157+AT162+AT167+AT172+AT177+AT182+AT187","v":8693.27},{"v":0.0489768780965756,"d":"4.90%"},7799.61,{"v":-0.0472013193256782,"d":"-4.72%"},7090.09,{"v":-0.0877721852532333,"d":"-8.78%"},{"$f":"AZ107+AZ112+AZ117+AZ122+AZ127+AZ132+AZ137+AZ142+AZ147+AZ152+AZ157+AZ162+AZ167+AZ172+AZ177+AZ182+AZ187","v":{"v":7176.1,"d":"7176.10"}},{"v":-0.121388910995341,"d":"-12.14%"},7075.79,{"v":-0.14400726816982,"d":"-14.40%"},6966.54,{"v":-0.13059094267287,"d":"-13.06%"},{"$f":"BF107+BF112+BF117+BF122+BF127+BF132+BF137+BF142+BF147+BF152+BF157+BF162+BF167+BF172+BF177+BF182+BF187","v":{"v":7615.3,"d":"7615.30"}},{"v":-0.073106668257071,"d":"-7.31%"},{"v":7258.4,"d":"7258.40"},{"v":-0.116096914668719,"d":"-11.61%"},{"v":7126.8,"d":"7126.80"},{"v":-0.107030313205973,"d":"-10.70%"},{"$f":"BL107+BL112+BL117+BL122+BL127+BL132+BL137+BL142+BL147+BL152+BL157+BL162+BL167+BL172+BL177+BL182+BL187","v":7409.42},{"v":-0.10141577508653,"d":"-10.14%"},7078.47,{"v":-0.0979749748639979,"d":"-9.80%"},7028.36,{"v":-0.119592939066124,"d":"-11.96%"},88318.15,{"v":-0.0911630321173369,"d":"-9.12%"},null,8287.38,{"v":8186,"d":"8186.00"},7772.28,8167.55,8266.18,8012.96,8215.94,8211.76,7981.01,8245.66,7847.31,{"v":7983.07999999999,"d":"7983.08"},97177.11]
[null,"城际城乡网约车旅客周转量(万人公里)",{"$f":"C108+C113+C118+C123+C128+C133+C138+C143+C148+C153+C158+C163+C168+C173+C178+C183+C188","v":4600.03},{"$f":"C103/R103-1","v":{"v":0.698650320341204,"d":"69.87%"}},3971.74,{"v":0.539631038078512,"d":"53.96%"},4740.57,{"v":0.640307261120047,"d":"64.03%"},{"$f":"I108+I113+I118+I123+I128+I133+I138+I143+I148+I153+I158+I163+I168+I173+I178+I183+I188","v":{"v":4626.39000000001,"d":"4626.39"}},{"$f":"I103/X103-1","v":{"v":0.43552325779837,"d":"43.55%"}},{"v":5032.30999999999,"d":"5032.31"},{"v":0.394679370991784,"d":"39.47%"},{"v":5191.15999999999,"d":"5191.16"},{"v":0.502732683356106,"d":"50.27%"},{"v":28162.2,"d":"28162.20"},{"v":0.525310264817804,"d":"52.53%"},15008.78,{"$f":"R108+R113+R118+R123+R128+R133+R138+R143+R148+R153+R158+R163+R168+R173+R178+R183+R188","v":2708.05},{"$f":"R103/AT103-1","v":{"v":-0.23336824821651,"d":"-23.34%"}},2579.67,{"v":0.148689747300457,"d":"14.87%"},2890.05,{"v":0.0262998093033058,"d":"2.63%"},{"$f":"X108+X113+X118+X123+X128+X133+X138+X143+X148+X153+X158+X163+X168+X173+X178+X183+X188","v":3222.79},{"$f":"X103/AZ103-1","v":{"v":-0.00117771393328514,"d":"-0.12%"}},{"v":3608.22000000001,"d":"3608.22"},{"v":0.0950392405601128,"d":"9.50%"},{"v":3454.47999999999,"d":"3454.48"},{"v":2.38519438463647E-3,"d":"0.24%"},{"$f":"AD108+AD113+AD118+AD123+AD128+AD133+AD138+AD143+AD148+AD153+AD158+AD163+AD168+AD173+AD178+AD183+AD188","v":3698.18},{"$f":"AD103/BF103-1","v":{"v":-0.0339460781112466,"d":"-3.39%"}},{"v":3677.52999999999,"d":"3677.53"},{"v":-0.0408236720960893,"d":"-4.08%"},3395.99,{"v":-0.0518099705434811,"d":"-5.18%"},{"$f":"AJ108+AJ113+AJ118+AJ123+AJ128+AJ133+AJ138+AJ143+AJ148+AJ153+AJ158+AJ163+AJ168+AJ173+AJ178+AJ183+AJ188","v":{"v":4115.25999999999,"d":"4115.26"}},{"$f":"AJ103/BL103-1","v":{"v":0.125996984762376,"d":"12.60%"}},3865.69,{"v":0.0477657977048116,"d":"4.78%"},{"v":4441.44000000002,"d":"4441.44"},{"v":0.137905856009348,"d":"13.79%"},41657.35,{"v":0.0147167649375759,"d":"1.47%"},null,37150.01,{"$f":"AT108+AT113+AT118+AT123+AT128+AT133+AT138+AT143+AT148+AT153+AT158+AT163+AT168+AT173+AT178+AT183+AT188","v":{"v":3532.4,"d":"3532.40"}},{"v":0.658411541838225,"d":"65.84%"},2245.75,{"v":-0.0159024381693572,"d":"-1.59%"},{"v":2815.98999999999,"d":"2815.99"},{"v":0.202114807494455,"d":"20.21%"},{"$f":"AZ108+AZ113+AZ118+AZ123+AZ128+AZ133+AZ138+AZ143+AZ148+AZ153+AZ158+AZ163+AZ168+AZ173+AZ178+AZ183+AZ188","v":3226.59},{"v":0.309758473716256,"d":"30.98%"},3295.06,{"v":0.283872978764856,"d":"28.39%"},3446.26,{"v":0.294861149205895,"d":"29.49%"},{"$f":"BF108+BF113+BF118+BF123+BF128+BF133+BF138+BF143+BF148+BF153+BF158+BF163+BF168+BF173+BF178+BF183+BF188","v":3828.13},{"v":0.336632902818078,"d":"33.66%"},3834.05,{"v":0.332590697706749,"d":"33.26%"},3581.55,{"v":0.294932425103587,"d":"29.49%"},{"$f":"BL108+BL113+BL118+BL123+BL128+BL133+BL138+BL143+BL148+BL153+BL158+BL163+BL168+BL173+BL178+BL183+BL188","v":3654.77},{"v":0.294072033538228,"d":"29.41%"},{"v":3689.46000000001,"d":"3689.46"},{"v":0.280929069888555,"d":"28.09%"},{"v":3903.17000000001,"d":"3903.17"},{"v":0.250783508193992,"d":"25.08%"},41053.18,{"v":0.291868561218498,"d":"29.19%"},null,2129.99,2282.04,2342.53,{"v":2463.5,"d":"2463.50"},{"v":2566.5,"d":"2566.50"},2661.49,2864.01,2877.14,2765.82,2824.24,{"v":2880.3,"d":"2880.30"},3120.58,31778.14]
["武汉市","总旅客周转量（万人公里）",{"$f":"C105+C106+C107+C108","v":{"v":16223.3155,"d":"16223.32"}},{"$f":"C104/R104-1","v":{"v":0.248194651920381,"d":"24.82%"}},{"v":14192.4661,"d":"14192.47"},{"v":-0.000661406355433991,"d":"-0.07%"},{"v":19555.1537,"d":"19555.15"},{"v":0.00394127664800115,"d":"0.39%"},{"$f":"I105+I106+I107+I108","v":{"v":22085.2384,"d":"22085.24"}},{"$f":"I104/X104-1","v":{"v":-0.0350863585328641,"d":"-3.51%"}},{"v":21521.8522,"d":"21521.85"},{"v":0.0650107893331051,"d":"6.50%"},{"v":19895.284,"d":"19895.28"},{"v":0.0724246399851258,"d":"7.24%"},{"v":113473.3099,"d":"113473.31"},{"v":0.0475191149676382,"d":"4.75%"},{"v":89774.0805,"d":"89774.08"},{"$f":"R105+R106+R107+R108","v":{"v":12997.4243,"d":"12997.42"}},{"$f":"R104/AT104-1","v":{"v":0.619947668810997,"d":"61.99%"}},{"v":14201.8593,"d":"14201.86"},{"v":0.572513539645123,"d":"57.25%"},{"v":19478.384,"d":"19478.38"},{"v":0.551680299298396,"d":"55.17%"},{"$f":"X105+X106+X107+X108","v":{"v":22888.3057,"d":"22888.31"}},{"$f":"X104/AZ104-1","v":{"v":0.54583253221898,"d":"54.58%"}},{"v":20208.1072,"d":"20208.11"},{"v":0.466902455757932,"d":"46.69%"},{"v":18551.6849,"d":"18551.68"},{"v":0.575547235949612,"d":"57.55%"},{"$f":"AD105+AD106+AD107+AD108","v":{"v":19478.2393,"d":"19478.24"}},{"$f":"AD104/BF104-1","v":{"v":0.579405565040684,"d":"57.94%"}},{"v":18453.0139,"d":"18453.01"},{"v":0.685688578692462,"d":"68.57%"},{"v":19973.3894,"d":"19973.39"},{"v":0.743849216323871,"d":"74.38%"},{"$f":"AJ105+AJ106+AJ107+AJ108","v":{"v":21606.9097,"d":"21606.91"}},{"$f":"AJ104/BL104-1","v":{"v":0.0521528494889034,"d":"5.22%"}},{"v":21386.1168,"d":"21386.12"},{"v":0.130335430518873,"d":"13.03%"},{"v":18833.626,"d":"18833.63"},{"v":0.255537166184743,"d":"25.55%"},{"v":228057.0605,"d":"228057.06"},{"v":0.432927347517076,"d":"43.29%"},null,{"v":144154.2042,"d":"144154.20"},{"$f":"AT105+AT106+AT107+AT108","v":{"v":8023.3606,"d":"8023.36"}},null,{"v":9031.3113,"d":"9031.31"},null,{"v":12553.091,"d":"12553.09"},null,{"$f":"AZ105+AZ106+AZ107+AZ108","v":{"v":14806.4588,"d":"14806.46"}},null,{"v":13776.0402,"d":"13776.04"},null,{"v":11774.7564,"d":"11774.76"},null,{"$f":"BF105+BF106+BF107+BF108","v":{"v":12332.6394,"d":"12332.64"}},null,{"v":10946.8701,"d":"10946.87"},null,{"v":11453.6218,"d":"11453.62"},null,{"$f":"BL105+BL106+BL107+BL108","v":{"v":20535.9038,"d":"20535.90"}},null,{"v":18920.1508,"d":"18920.15"},null,{"v":15000.4528,"d":"15000.45"},null,{"v":159154.657,"d":"159154.66"}]
[null,"公路班线旅客周转量（万人公里）",{"$f":"[1]班线包车!C9","v":15634.2955},{"$f":"C105/R105-1","v":{"v":0.253039780263583,"d":"25.30%"}},{"$f":"[1]班线包车!E9","v":13762.8961},{"v":3.02935663820847E-3,"d":"0.30%"},{"$f":"[1]班线包车!G9","v":18904.2637},{"v":2.2293088181482E-3,"d":"0.22%"},{"$f":"[1]班线包车!I9","v":21448.6084},{"$f":"I105/X105-1","v":{"v":-0.0372618341517161,"d":"-3.73%"}},{"$f":"[1]班线包车!K9","v":20903.5122},{"v":0.0643527344014612,"d":"6.44%"},{"$f":"[1]班线包车!M9","v":19301.074},{"v":0.0721535342416146,"d":"7.22%"},{"v":109954.6499,"d":"109954.65"},{"v":0.0473747177392114,"d":"4.74%"},{"v":86979.0405,"d":"86979.04"},{"$f":"[1]班线包车!R9","v":12477.0943},{"$f":"R105/AT105-1","v":{"v":0.695796392130401,"d":"69.58%"}},{"$f":"[1]班线包车!T9","v":13721.3293},{"v":0.596851205097959,"d":"59.69%"},{"$f":"[1]班线包车!V9","v":18862.214},{"v":0.594526529815541,"d":"59.45%"},{"$f":"[1]班线包车!X9","v":22278.7557},{"$f":"X105/AZ105-1","v":{"v":0.579840843844377,"d":"57.98%"}},{"$f":"[1]班线包车!Z9","v":19639.6472},{"v":0.499652714204078,"d":"49.97%"},{"$f":"[1]班线包车!AB9","v":18002.1549},{"v":0.61426558936543,"d":"61.43%"},{"$f":"[1]班线包车!AD9","v":18986.7293},{"$f":"AD105/BF105-1","v":{"v":0.614652434368805,"d":"61.47%"}},{"$f":"[1]班线包车!AF9","v":17983.9839},{"v":0.724806072074727,"d":"72.48%"},{"$f":"[1]班线包车!AH9","v":19399.7794},{"v":0.789828873622603,"d":"78.98%"},{"$f":"[1]班线包车!AJ9","v":21001.8897},{"$f":"AJ105/BL105-1","v":{"v":0.0562325799542138,"d":"5.62%"}},{"$f":"[1]班线包车!AL9","v":20735.7868},{"v":0.134339670434614,"d":"13.43%"},{"$f":"[1]班线包车!AN9","v":18221.526},{"v":0.269495257236862,"d":"26.95%"},{"v":221310.8905,"d":"221310.89"},{"v":0.459146405622463,"d":"45.91%"},null,{"v":137318.1142,"d":"137318.11"},{"v":7357.6606,"d":"7357.66"},null,{"v":8592.7413,"d":"8592.74"},null,11829.351,null,{"v":14101.8988,"d":"14101.90"},null,{"v":13096.1302,"d":"13096.13"},null,{"v":11151.9164,"d":"11151.92"},null,{"v":11759.0194,"d":"11759.02"},null,{"v":10426.6701,"d":"10426.67"},null,{"v":10838.9018,"d":"10838.90"},null,{"v":19883.7738,"d":"19883.77"},null,{"v":18280.0508,"d":"18280.05"},null,{"v":14353.3628,"d":"14353.36"},null,{"v":151671.477,"d":"151671.48"}]
[null,"城际城乡公交旅客周转量（万人公里）",{"$f":"[1]公交!C10-[1]公交!C12","v":589.02},{"$f":"C106/R106-1","v":{"v":0.132012376760907,"d":"13.20%"}},{"$f":"[1]公交!E10-[1]公交!E12","v":429.57},{"v":-0.106049570266163,"d":"-10.60%"},{"$f":"[1]公交!G10-[1]公交!G12","v":650.889999999999},{"v":0.0563480857555565,"d":"5.63%"},{"$f":"[1]公交!I10-[1]公交!I12","v":636.630000000001},{"$f":"I106/X106-1","v":{"v":0.0444262160610316,"d":"4.44%"}},{"$f":"[1]公交!K10-[1]公交!K12","v":618.34},{"v":0.0877458396369157,"d":"8.77%"},{"$f":"[1]公交!M10-[1]公交!M12","v":594.209999999999},{"v":0.0813058431750704,"d":"8.13%"},3518.66,{"v":0.0520515342779502,"d":"5.21%"},{"v":2795.03999999999,"d":"2795.04"},{"$f":"[1]公交!R10-[1]公交!R12","v":520.329999999998},{"$f":"R106/AT106-1","v":{"v":-0.21837163887637,"d":"-21.84%"}},{"$f":"[1]公交!T10-[1]公交!T12","v":480.529999999999},{"v":0.0956745787445534,"d":"9.57%"},{"$f":"[1]公交!V10-[1]公交!V12","v":616.169999999998},{"v":-0.14863072374057,"d":"-14.86%"},{"$f":"[1]公交!X10-[1]公交!X12","v":609.549999999999},{"$f":"X106/AZ106-1","v":{"v":-0.134850119223347,"d":"-13.49%"}},{"$f":"[1]公交!Z10-[1]公交!Z12","v":568.459999999999},{"v":-0.16391875395273,"d":"-16.39%"},{"$f":"[1]公交!AB10-[1]公交!AB12","v":549.530000000002},{"v":-0.117702780810477,"d":"-11.77%"},{"$f":"[1]公交!AD10-[1]公交!AD12","v":491.509999999998},{"$f":"AD106/BF106-1","v":{"v":-0.143143544506818,"d":"-14.31%"}},{"$f":"[1]公交!AF10-[1]公交!AF12","v":469.030000000002},{"v":-0.0983660130718854,"d":"-9.84%"},{"$f":"[1]公交!AH10-[1]公交!AH12","v":573.610000000001},{"v":-0.0668759760541344,"d":"-6.69%"},{"$f":"[1]公交!AJ10-[1]公交!AJ12","v":605.02},{"$f":"AJ106/BL106-1","v":{"v":-0.0722401975066329,"d":"-7.22%"}},{"$f":"[1]公交!AL10-[1]公交!AL12","v":650.329999999998},{"v":0.0159818778315828,"d":"1.60%"},{"$f":"[1]公交!AN10-[1]公交!AN12","v":612.099999999999},{"v":-0.0540728492172673,"d":"-5.41%"},{"v":6746.16999999999,"d":"6746.17"},{"v":-0.0984888777231069,"d":"-9.85%"},null,{"v":6836.08999999999,"d":"6836.09"},{"v":665.699999999997,"d":"665.70"},null,438.57,null,{"v":723.739999999998,"d":"723.74"},null,{"v":704.560000000001,"d":"704.56"},null,679.91,null,622.84,null,{"v":573.619999999999,"d":"573.62"},null,{"v":520.199999999997,"d":"520.20"},null,{"v":614.719999999998,"d":"614.72"},null,{"v":652.130000000001,"d":"652.13"},null,{"v":640.100000000002,"d":"640.10"},null,647.09,null,{"v":7483.17999999999,"d":"7483.18"}]
[null,"城际城乡巡游出租旅客周转量（万人公里）",0,{"$f":"C107/R107-1","v":{"$error":"#DIV/0!"}},0,{"$error":"#DIV/0!"},0,{"$error":"#DIV/0!"},0,{"$f":"I107/X107-1","v":{"$error":"#DIV/0!"}},0,{"$error":"#DIV/0!"},0,{"$error":"#DIV/0!"},{"v":0,"d":"0.00"},{"$error":"#DIV/0!"},{"v":0,"d":"0.00"},0,{"$f":"R107/AT107-1","v":{"$error":"#DIV/0!"}},0,{"$error":"#DIV/0!"},0,{"$error":"#DIV/0!"},0,{"$f":"X107/AZ107-1","v":{"$error":"#DIV/0!"}},0,{"$error":"#DIV/0!"},0,{"$error":"#DIV/0!"},0,{"$f":"AD107/BF107-1","v":{"$error":"#DIV/0!"}},0,{"$error":"#DIV/0!"},0,{"$error":"#DIV/0!"},0,{"$f":"AJ107/BL107-1","v":{"$error":"#DIV/0!"}},0,{"$error":"#DIV/0!"},0,{"$error":"#DIV/0!"},{"v":0,"d":"0.00"},{"$error":"#DIV/0!"},null,{"v":0,"d":"0.00"},{"v":0,"d":"0.00"},null,{"v":0,"d":"0.00"},null,{"v":0,"d":"0.00"},null,{"v":0,"d":"0.00"},null,{"v":0,"d":"0.00"},null,{"v":0,"d":"0.00"},null,{"v":0,"d":"0.00"},null,{"v":0,"d":"0.00"},null,{"v":0,"d":"0.00"},null,{"v":0,"d":"0.00"},null,{"v":0,"d":"0.00"},null,{"v":0,"d":"0.00"},null,{"v":0,"d":"0.00"}]
[null,"城际城乡网约车旅客周转量(万人公里)",{"v":0,"d":"0.00"},{"$f":"C108/R108-1","v":{"$error":"#DIV/0!"}},{"v":0,"d":"0.00"},{"$error":"#DIV/0!"},{"v":0,"d":"0.00"},{"$error":"#DIV/0!"},{"v":0,"d":"0.00"},{"$f":"I108/X108-1","v":{"$error":"#DIV/0!"}},{"v":0,"d":"0.00"},{"$error":"#DIV/0!"},{"v":0,"d":"0.00"},{"$error":"#DIV/0!"},{"v":0,"d":"0.00"},{"$error":"#DIV/0!"},{"v":0,"d":"0.00"},{"v":0,"d":"0.00"},{"$f":"R108/AT108-1","v":{"$error":"#DIV/0!"}},{"v":0,"d":"0.00"},{"$error":"#DIV/0!"},{"v":0,"d":"0.00"},{"$error":"#DIV/0!"},{"v":0,"d":"0.00"},{"$f":"X108/AZ108-1","v":{"$error":"#DIV/0!"}},{"v":0,"d":"0.00"},{"$error":"#DIV/0!"},{"v":0,"d":"0.00"},{"$error":"#DIV/0!"},{"v":0,"d":"0.00"},{"$f":"AD108/BF108-1","v":{"$error":"#DIV/0!"}},{"v":0,"d":"0.00"},{"$error":"#DIV/0!"},{"v":0,"d":"0.00"},{"$error":"#DIV/0!"},{"v":0,"d":"0.00"},{"$f":"AJ108/BL108-1","v":{"$error":"#DIV/0!"}},{"v":0,"d":"0.00"},{"$error":"#DIV/0!"},{"v":0,"d":"0.00"},{"$error":"#DIV/0!"},{"v":0,"d":"0.00"},{"$error":"#DIV/0!"},null,{"v":0,"d":"0.00"},{"v":0,"d":"0.00"},null,{"v":0,"d":"0.00"},null,{"v":0,"d":"0.00"},null,{"v":0,"d":"0.00"},null,{"v":0,"d":"0.00"},null,{"v":0,"d":"0.00"},null,{"v":0,"d":"0.00"},null,{"v":0,"d":"0.00"},null,{"v":0,"d":"0.00"},null,{"v":0,"d":"0.00"},null,{"v":0,"d":"0.00"},null,{"v":0,"d":"0.00"},null,{"v":0,"d":"0.00"}]
["黄石市","总旅客周转量（万人公里）",{"$f":"C110+C111+C112+C113","v":{"v":5389.62411186543,"d":"5389.62"}},{"$f":"C109/R109-1","v":{"v":-0.182587822310827,"d":"-18.26%"}},{"v":5188.80735994792,"d":"5188.81"},{"v":-0.221184910752481,"d":"-22.12%"},{"v":5951.31064259379,"d":"5951.31"},{"v":-0.138391407463435,"d":"-13.84%"},{"$f":"I110+I111+I112+I113","v":{"v":6254.10570747201,"d":"6254.11"}},{"$f":"I109/X109-1","v":{"v":-0.174597809616253,"d":"-17.46%"}},{"v":6038.00745238687,"d":"6038.01"},{"v":-0.149530417260559,"d":"-14.95%"},{"v":5835.40936639666,"d":"5835.41"},{"v":-0.118681479326764,"d":"-11.87%"},{"v":34657.2646406627,"d":"34657.26"},{"v":-0.164100662905159,"d":"-16.41%"},{"v":34839.824216448,"d":"34839.82"},{"$f":"R110+R111+R112+R113","v":{"v":6593.52069735726,"d":"6593.52"}},{"$f":"R109/AT109-1","v":{"v":-0.0439352214967994,"d":"-4.39%"}},{"v":6662.43814685368,"d":"6662.44"},{"v":0.0930314892420645,"d":"9.30%"},{"v":6907.20902059857,"d":"6907.21"},{"v":-0.0348210949879939,"d":"-3.48%"},{"$f":"X110+X111+X112+X113","v":{"v":7577.04035721584,"d":"7577.04"}},{"$f":"X109/AZ109-1","v":{"v":-0.016857041527913,"d":"-1.69%"}},{"v":7099.61599442263,"d":"7099.62"},{"v":-0.0506655934299162,"d":"-5.07%"},{"v":6621.22629845452,"d":"6621.23"},{"v":-0.046071303220952,"d":"-4.61%"},{"$f":"AD110+AD111+AD112+AD113","v":{"v":6277.06497434539,"d":"6277.06"}},{"$f":"AD109/BF109-1","v":{"v":-0.122892487605049,"d":"-12.29%"}},{"v":6422.01079311262,"d":"6422.01"},{"v":-0.0381950197062403,"d":"-3.82%"},{"v":6338.61675919145,"d":"6338.62"},{"v":-0.0675152403128283,"d":"-6.75%"},{"$f":"AJ110+AJ111+AJ112+AJ113","v":{"v":6004.18467298235,"d":"6004.18"}},{"$f":"AJ109/BL109-1","v":{"v":-0.16298820721525,"d":"-16.30%"}},{"v":5943.71140618388,"d":"5943.71"},{"v":-0.158218874093746,"d":"-15.82%"},{"v":5836.5882555601,"d":"5836.59"},{"v":-0.116562710242639,"d":"-11.66%"},{"v":78283.2273762783,"d":"78283.23"},{"v":-0.0652396770245652,"d":"-6.52%"},null,{"v":77140.1635754688,"d":"77140.16"},{"$f":"AT110+AT111+AT112+AT113","v":{"v":6896.52086930759,"d":"6896.52"}},null,{"v":6095.37621964906,"d":"6095.38"},null,{"v":7156.4028023516,"d":"7156.40"},null,{"$f":"AZ110+AZ111+AZ112+AZ113","v":{"v":7706.9568488711,"d":"7706.96"}},null,{"v":7478.51962942471,"d":"7478.52"},null,{"v":6941.0075625266,"d":"6941.01"},null,{"$f":"BF110+BF111+BF112+BF113","v":{"v":7156.55137556147,"d":"7156.55"}},null,{"v":6677.04048605693,"d":"6677.04"},null,{"v":6797.55534162073,"d":"6797.56"},null,{"$f":"BL110+BL111+BL112+BL113","v":{"v":7173.35732272821,"d":"7173.36"}},null,{"v":7060.87511737084,"d":"7060.88"},null,{"v":6606.68088525348,"d":"6606.68"},null,{"v":83746.8444607223,"d":"83746.84"}]
[null,"公路班线旅客周转量（万人公里）",{"$f":"[1]班线包车!C11","v":2072.6875},{"$f":"C110/R110-1","v":{"v":-0.190975033386582,"d":"-19.10%"}},{"$f":"[1]班线包车!E11","v":2381.0712},{"v":-0.0687650128307908,"d":"-6.88%"},{"$f":"[1]班线包车!G11","v":2528.9262},{"v":-0.0921752267097382,"d":"-9.22%"},{"$f":"[1]班线包车!I11","v":2913.672},{"$f":"I110/X110-1","v":{"v":-0.0607622124731215,"d":"-6.08%"}},{"$f":"[1]班线包车!K11","v":2547.6156},{"v":-0.0571552286928602,"d":"-5.72%"},{"$f":"[1]班线包车!M11","v":2470.4711},{"v":-0.00676617052237261,"d":"-0.68%"},{"v":14914.4436,"d":"14914.44"},{"v":-0.0791320114773759,"d":"-7.91%"},{"v":13708.7707,"d":"13708.77"},{"$f":"[1]班线包车!R11","v":2561.9574},{"$f":"R110/AT110-1","v":{"v":0.0222229865303722,"d":"2.22%"}},{"$f":"[1]班线包车!T11","v":2556.8962},{"v":0.0334251638451573,"d":"3.34%"},{"$f":"[1]班线包车!V11","v":2785.6986},{"v":0.000791954227890912,"d":"0.08%"},{"$f":"[1]班线包车!X11","v":3102.1665},{"$f":"X110/AZ110-1","v":{"v":-0.00726405618007842,"d":"-0.73%"}},{"$f":"[1]班线包车!Z11","v":2702.052},{"v":-0.0872530757999774,"d":"-8.73%"},{"$f":"[1]班线包车!AB11","v":2487.3006},{"v":-0.0323817664402862,"d":"-3.24%"},{"$f":"[1]班线包车!AD11","v":2434.3376},{"$f":"AD110/BF110-1","v":{"v":-0.12995961020591,"d":"-13.00%"}},{"$f":"[1]班线包车!AF11","v":2571.1196},{"v":-0.039412875811763,"d":"-3.94%"},{"$f":"[1]班线包车!AH11","v":2439.2523},{"v":-0.0614232807516671,"d":"-6.14%"},{"$f":"[1]班线包车!AJ11","v":2622.7803},{"$f":"AJ110/BL110-1","v":{"v":-0.0975133360198009,"d":"-9.75%"}},{"$f":"[1]班线包车!AL11","v":2698.1026},{"v":-0.0119243162807403,"d":"-1.19%"},{"$f":"[1]班线包车!AN11","v":2490.7552},{"v":0.0715517594449513,"d":"7.16%"},{"v":31452.4189,"d":"31452.42"},{"v":-0.030874577610514,"d":"-3.09%"},null,{"v":30129.9983,"d":"30130.00"},{"v":2506.2608,"d":"2506.26"},null,{"v":2474.1958,"d":"2474.20"},null,2783.4942,null,{"v":3124.8657,"d":"3124.87"},null,{"v":2960.3518,"d":"2960.35"},null,{"v":2570.5392,"d":"2570.54"},null,{"v":2797.9593,"d":"2797.96"},null,{"v":2676.6126,"d":"2676.61"},null,{"v":2598.8843,"d":"2598.88"},null,{"v":2906.1707,"d":"2906.17"},null,{"v":2730.6639,"d":"2730.66"},null,{"v":2324.4376,"d":"2324.44"},null,{"v":32454.4359,"d":"32454.44"}]
[null,"城际城乡公交旅客周转量（万人公里）",{"$f":"[1]公交!C14-[1]公交!C16","v":2885.57},{"$f":"C111/R111-1","v":{"v":-0.217951845106457,"d":"-21.80%"}},{"$f":"[1]公交!E14-[1]公交!E16","v":2395.99},{"v":-0.354201481353703,"d":"-35.42%"},{"$f":"[1]公交!G14-[1]公交!G16","v":3003.02},{"v":-0.190041050593103,"d":"-19.00%"},{"$f":"[1]公交!I14-[1]公交!I16","v":2930.14},{"$f":"I111/X111-1","v":{"v":-0.270559650681982,"d":"-27.06%"}},{"$f":"[1]公交!K14-[1]公交!K16","v":3055.22},{"v":-0.222790071762728,"d":"-22.28%"},{"$f":"[1]公交!M14-[1]公交!M16","v":2909.13},{"v":-0.215027940950289,"d":"-21.50%"},17179.07,{"v":-0.245257893698617,"d":"-24.53%"},19055.48,{"$f":"[1]公交!R14-[1]公交!R16","v":3689.76},{"$f":"R111/AT111-1","v":{"v":-0.0511462847003461,"d":"-5.11%"}},{"$f":"[1]公交!T14-[1]公交!T16","v":3710.12},{"v":0.156031109006157,"d":"15.60%"},{"$f":"[1]公交!V14-[1]公交!V16","v":3707.62},{"v":-0.0529028896064087,"d":"-5.29%"},{"$f":"[1]公交!X14-[1]公交!X16","v":4016.97},{"$f":"X111/AZ111-1","v":{"v":-0.0159743078453181,"d":"-1.60%"}},{"$f":"[1]公交!Z14-[1]公交!Z16","v":3931.01},{"v":-0.0292723882900572,"d":"-2.93%"},{"$f":"[1]公交!AB14-[1]公交!AB16","v":3706.03},{"v":-0.0274827068616236,"d":"-2.75%"},{"$f":"[1]公交!AD14-[1]公交!AD16","v":3373.33},{"$f":"AD111/BF111-1","v":{"v":-0.0916867716433664,"d":"-9.17%"}},{"$f":"[1]公交!AF14-[1]公交!AF16","v":3322.38},{"v":-0.0663118195563099,"d":"-6.63%"},{"$f":"[1]公交!AH14-[1]公交!AH16","v":3456.76},{"v":-0.043463582957693,"d":"-4.35%"},{"$f":"[1]公交!AJ14-[1]公交!AJ16","v":2925.45},{"$f":"AJ111/BL111-1","v":{"v":-0.229812340062553,"d":"-22.98%"}},{"$f":"[1]公交!AL14-[1]公交!AL16","v":2844.5},{"v":-0.259217783981708,"d":"-25.92%"},{"$f":"[1]公交!AN14-[1]公交!AN16","v":2949.04},{"v":-0.214293326512778,"d":"-21.43%"},41632.97,{"v":-0.0795847085334739,"d":"-7.96%"},null,41479.45,3888.65,null,3209.36,null,3914.72,null,4082.18,null,4049.55,null,3810.76,null,3713.84,null,3558.34,null,3613.83,null,3798.36,null,3839.86,null,3753.36,null,45232.81]
[null,"城际城乡巡游出租旅客周转量（万人公里）",{"$f":"[1]出租!C14-[1]出租!C16","v":266.42},{"$f":"C112/R112-1","v":{"v":0.0411504943530432,"d":"4.12%"}},{"$f":"[1]出租!E14-[1]出租!E16","v":268.18},{"v":-0.108088333111614,"d":"-10.81%"},{"$f":"[1]出租!G14-[1]出租!G16","v":258.11},{"v":-0.0226437956757167,"d":"-2.26%"},{"$f":"[1]出租!I14-[1]出租!I16","v":263.17},{"$f":"I112/X112-1","v":{"v":-0.0681608951207414,"d":"-6.82%"}},{"$f":"[1]出租!K14-[1]出租!K16","v":260.13},{"v":-0.0353050250324494,"d":"-3.53%"},{"$f":"[1]出租!M14-[1]出租!M16","v":251.24},{"v":0.022839229735782,"d":"2.28%"},1567.25,{"v":-0.0315813539632712,"d":"-3.16%"},1372.73,{"$f":"[1]出租!R14-[1]出租!R16","v":255.89},{"$f":"R112/AT112-1","v":{"v":-0.163894788433263,"d":"-16.39%"}},{"$f":"[1]出租!T14-[1]出租!T16","v":300.68},{"v":0.0621732372474215,"d":"6.22%"},{"$f":"[1]出租!V14-[1]出租!V16","v":264.09},{"v":-0.0832118308685693,"d":"-8.32%"},{"$f":"[1]出租!X14-[1]出租!X16","v":282.42},{"$f":"X112/AZ112-1","v":{"v":-0.0765155974102418,"d":"-7.65%"}},{"$f":"[1]出租!Z14-[1]出租!Z16","v":269.65},{"v":1.89492457457119E-3,"d":"0.19%"},{"$f":"[1]出租!AB14-[1]出租!AB16","v":245.63},{"v":-0.284878304413649,"d":"-28.49%"},{"$f":"[1]出租!AD14-[1]出租!AD16","v":267.58},{"$f":"AD112/BF112-1","v":{"v":-0.29511867442902,"d":"-29.51%"}},{"$f":"[1]出租!AF14-[1]出租!AF16","v":312.99},{"v":0.274129859556279,"d":"27.41%"},{"$f":"[1]出租!AH14-[1]出租!AH16","v":253.77},{"v":-0.2331842630084,"d":"-23.32%"},{"$f":"[1]出租!AJ14-[1]出租!AJ16","v":250.41},{"$f":"AJ112/BL112-1","v":{"v":0.0164806170083218,"d":"1.65%"}},{"$f":"[1]出租!AL14-[1]出租!AL16","v":247.6},{"v":-0.0649193700668459,"d":"-6.49%"},{"$f":"[1]出租!AN14-[1]出租!AN16","v":249.72},{"v":-0.165374331550802,"d":"-16.54%"},3200.43,{"v":-0.101550459410977,"d":"-10.16%"},null,3262.97,306.05,null,283.08,null,288.06,null,305.82,null,269.14,null,343.48,null,379.61,null,245.65,null,330.94,null,246.35,null,264.79,null,{"v":299.2,"d":"299.20"},null,3562.17]
[null,"城际城乡网约车旅客周转量(万人公里)",{"$f":"[1]网约车!C14-[1]网约车!C16","v":{"v":164.946611865434,"d":"164.95"}},{"$f":"C113/R113-1","v":{"v":0.91991946461472,"d":"91.99%"}},{"$f":"[1]网约车!E14-[1]网约车!E16","v":{"v":143.566159947919,"d":"143.57"}},{"v":0.51533892553052,"d":"51.53%"},{"$f":"[1]网约车!G14-[1]网约车!G16","v":{"v":161.254442593795,"d":"161.25"}},{"v":0.0764618814116838,"d":"7.65%"},{"$f":"[1]网约车!I14-[1]网约车!I16","v":{"v":147.123707472008,"d":"147.12"}},{"$f":"I113/X113-1","v":{"v":-0.16161116010206,"d":"-16.16%"}},{"$f":"[1]网约车!K14-[1]网约车!K16","v":{"v":175.041852386874,"d":"175.04"}},{"v":-0.111029449147832,"d":"-11.10%"},{"$f":"[1]网约车!M14-[1]网约车!M16","v":{"v":204.568266396664,"d":"204.57"}},{"v":0.122362946683082,"d":"12.24%"},{"v":996.501040662694,"d":"996.50"},{"v":0.125850938940313,"d":"12.59%"},{"v":702.843516447973,"d":"702.84"},{"$f":"[1]网约车!R14-[1]网约车!R16","v":{"v":85.913297357259,"d":"85.91"}},{"$f":"R113/AT113-1","v":{"v":-0.560680778742563,"d":"-56.07%"}},{"$f":"[1]网约车!T14-[1]网约车!T16","v":{"v":94.741946853676,"d":"94.74"}},{"v":-0.264085458848605,"d":"-26.41%"},{"$f":"[1]网约车!V14-[1]网约车!V16","v":{"v":149.800420598567,"d":"149.80"}},{"v":-0.119487149556543,"d":"-11.95%"},{"$f":"[1]网约车!X14-[1]网约车!X16","v":{"v":175.483857215845,"d":"175.48"}},{"$f":"X113/AZ113-1","v":{"v":-0.0958688315437336,"d":"-9.59%"}},{"$f":"[1]网约车!Z14-[1]网约车!Z16","v":{"v":196.903994422626,"d":"196.90"}},{"v":-0.0129028624860313,"d":"-1.29%"},{"$f":"[1]网约车!AB14-[1]网约车!AB16","v":{"v":182.265698454519,"d":"182.27"}},{"v":-0.157068497745779,"d":"-15.71%"},{"$f":"[1]网约车!AD14-[1]网约车!AD16","v":{"v":201.817374345388,"d":"201.82"}},{"$f":"AD113/BF113-1","v":{"v":-0.238833090078168,"d":"-23.88%"}},{"$f":"[1]网约车!AF14-[1]网约车!AF16","v":{"v":215.521193112617,"d":"215.52"}},{"v":0.0971467746815493,"d":"9.71%"},{"$f":"[1]网约车!AH14-[1]网约车!AH16","v":{"v":188.834459191452,"d":"188.83"}},{"v":-0.256267489152212,"d":"-25.63%"},{"$f":"[1]网约车!AJ14-[1]网约车!AJ16","v":{"v":205.544372982355,"d":"205.54"}},{"$f":"AJ113/BL113-1","v":{"v":-0.0761079952500956,"d":"-7.61%"}},{"$f":"[1]网约车!AL14-[1]网约车!AL16","v":{"v":153.508806183882,"d":"153.51"}},{"v":-0.319436169155355,"d":"-31.94%"},{"$f":"[1]网约车!AN14-[1]网约车!AN16","v":{"v":147.073055560098,"d":"147.07"}},{"v":-0.359670184977603,"d":"-35.97%"},{"v":1997.40847627828,"d":"1997.41"},{"v":-0.200213969003145,"d":"-20.02%"},null,{"v":2267.74527546883,"d":"2267.75"},{"v":195.560069307586,"d":"195.56"},null,{"v":128.74041964906,"d":"128.74"},null,{"v":170.128602351598,"d":"170.13"},null,{"v":194.091148871098,"d":"194.09"},null,{"v":199.477829424705,"d":"199.48"},null,{"v":216.228362526602,"d":"216.23"},null,{"v":265.142075561474,"d":"265.14"},null,{"v":196.437886056925,"d":"196.44"},null,{"v":253.901041620727,"d":"253.90"},null,{"v":222.476622728211,"d":"222.48"},null,{"v":225.561217370842,"d":"225.56"},null,{"v":229.683285253481,"d":"229.68"},null,{"v":2497.42856072231,"d":"2497.43"}]
["十堰市","总旅客周转量（万人公里）",{"$f":"C115+C116+C117+C118","v":{"v":7165.69391067177,"d":"7165.69"}},{"$f":"C114/R114-1","v":{"v":-0.203333803171321,"d":"-20.33%"}},{"v":8786.97856069023,"d":"8786.98"},{"v":-0.13565984939413,"d":"-13.57%"},{"v":8458.55983130833,"d":"8458.56"},{"v":-0.0750335913282806,"d":"-7.50%"},{"$f":"I115+I116+I117+I118","v":{"v":9244.20634160103,"d":"9244.21"}},{"$f":"I114/X114-1","v":{"v":-0.0678080250601304,"d":"-6.78%"}},{"v":9118.88699541966,"d":"9118.89"},{"v":-0.0458078619710034,"d":"-4.58%"},{"v":8457.42709740635,"d":"8457.43"},{"v":-0.145405465071677,"d":"-14.54%"},{"v":51231.7527370974,"d":"51231.75"},{"v":-0.111718692813251,"d":"-11.17%"},{"v":47778.7237263462,"d":"47778.72"},{"$f":"R115+R116+R117+R118","v":{"v":8994.60017156061,"d":"8994.60"}},{"$f":"R114/AT114-1","v":{"v":-0.176785640194339,"d":"-17.68%"}},{"v":10166.1117495593,"d":"10166.11"},{"v":-0.109420873527746,"d":"-10.94%"},{"v":9144.72109690457,"d":"9144.72"},{"v":-0.165003465520006,"d":"-16.50%"},{"$f":"X115+X116+X117+X118","v":{"v":9916.63368717299,"d":"9916.63"}},{"$f":"X114/AZ114-1","v":{"v":-0.168708180752367,"d":"-16.87%"}},{"v":9556.65702114866,"d":"9556.66"},{"v":-0.160019060857274,"d":"-16.00%"},{"v":9896.42076065429,"d":"9896.42"},{"v":0.0136871505927543,"d":"1.37%"},{"$f":"AD115+AD116+AD117+AD118","v":{"v":8441.93330845846,"d":"8441.93"}},{"$f":"AD114/BF114-1","v":{"v":-0.193954038731203,"d":"-19.40%"}},{"v":8648.23980555564,"d":"8648.24"},{"v":-0.142756093921467,"d":"-14.28%"},{"v":8023.7989827078,"d":"8023.80"},{"v":-0.274768387912913,"d":"-27.48%"},{"$f":"AJ115+AJ116+AJ117+AJ118","v":{"v":8295.35182384744,"d":"8295.35"}},{"$f":"AJ114/BL114-1","v":{"v":-0.235415823661562,"d":"-23.54%"}},{"v":7566.1203759958,"d":"7566.12"},{"v":-0.138061676004836,"d":"-13.81%"},{"v":6848.51735756354,"d":"6848.52"},{"v":-0.198808117693939,"d":"-19.88%"},{"v":105499.106141129,"d":"105499.11"},{"v":-0.163789145654099,"d":"-16.38%"},null,{"v":117615.370807832,"d":"117615.37"},{"$f":"AT115+AT116+AT117+AT118","v":{"v":10926.1944527838,"d":"10926.19"}},null,{"v":11415.1695760366,"d":"11415.17"},null,{"v":10951.8072462415,"d":"10951.81"},null,{"$f":"AZ115+AZ116+AZ117+AZ118","v":{"v":11929.1847430282,"d":"11929.18"}},null,{"v":11377.2308106206,"d":"11377.23"},null,{"v":9762.79590292463,"d":"9762.80"},null,{"$f":"BF115+BF116+BF117+BF118","v":{"v":10473.26543907,"d":"10473.27"}},null,{"v":10088.4237779153,"d":"10088.42"},null,{"v":11063.7744535387,"d":"11063.77"},null,{"$f":"BL115+BL116+BL117+BL118","v":{"v":10849.4945103017,"d":"10849.49"}},null,{"v":8778.02989537132,"d":"8778.03"},null,{"v":8547.91156626741,"d":"8547.91"},null,{"v":126163.2823741,"d":"126163.28"}]
[null,"公路班线旅客周转量（万人公里）",{"$f":"[1]班线包车!C15","v":4442.6528},{"$f":"C115/R115-1","v":{"v":-0.16493417849426,"d":"-16.49%"}},{"$f":"[1]班线包车!E15","v":6222.1126},{"v":-0.0774537543883538,"d":"-7.75%"},{"$f":"[1]班线包车!G15","v":5800.6944},{"v":0.119223040392092,"d":"11.92%"},{"$f":"[1]班线包车!I15","v":6318.1348},{"$f":"I115/X115-1","v":{"v":0.00475011802938075,"d":"0.48%"}},{"$f":"[1]班线包车!K15","v":6328.6093},{"v":0.0475888111865888,"d":"4.76%"},{"$f":"[1]班线包车!M15","v":5538.8125},{"v":-0.125731762741486,"d":"-12.57%"},{"v":34651.0164,"d":"34651.02"},{"v":-0.0351175392297171,"d":"-3.51%"},{"v":29576.7935,"d":"29576.79"},{"$f":"[1]班线包车!R15","v":5320.1229},{"$f":"R115/AT115-1","v":{"v":-0.0166716694496187,"d":"-1.67%"}},{"$f":"[1]班线包车!T15","v":6744.4994},{"v":-0.013559120692855,"d":"-1.36%"},{"$f":"[1]班线包车!V15","v":5182.7868},{"v":-0.1095356725612,"d":"-10.95%"},{"$f":"[1]班线包车!X15","v":6288.2648},{"$f":"X115/AZ115-1","v":{"v":-0.0262724567878209,"d":"-2.63%"}},{"$f":"[1]班线包车!Z15","v":6041.1196},{"v":-0.0204254836559501,"d":"-2.04%"},{"$f":"[1]班线包车!AB15","v":6335.3697},{"v":0.125103337863379,"d":"12.51%"},{"$f":"[1]班线包车!AD15","v":5145.913},{"$f":"AD115/BF115-1","v":{"v":-0.161088227491939,"d":"-16.11%"}},{"$f":"[1]班线包车!AF15","v":6061.8412},{"v":-0.045287956853571,"d":"-4.53%"},{"$f":"[1]班线包车!AH15","v":5254.1807},{"v":-0.0739933037249321,"d":"-7.40%"},{"$f":"[1]班线包车!AJ15","v":5743.0441},{"$f":"AJ115/BL115-1","v":{"v":-0.190949885301862,"d":"-19.09%"}},{"$f":"[1]班线包车!AL15","v":4862.8408},{"v":-0.0547961713851564,"d":"-5.48%"},{"$f":"[1]班线包车!AN15","v":4174.5837},{"v":-0.108854567533092,"d":"-10.89%"},{"v":67154.5667,"d":"67154.57"},{"v":-0.0595784170180674,"d":"-5.96%"},null,{"v":66724.4875,"d":"66724.49"},{"v":5410.322,"d":"5410.32"},null,{"v":6837.2059,"d":"6837.21"},null,5820.3194,null,{"v":6457.9305,"d":"6457.93"},null,{"v":6167.0853,"d":"6167.09"},null,{"v":5630.9225,"d":"5630.92"},null,{"v":6134.0336,"d":"6134.03"},null,{"v":6349.3922,"d":"6349.39"},null,{"v":5674.0202,"d":"5674.02"},null,{"v":7098.5023,"d":"7098.50"},null,{"v":5144.7536,"d":"5144.75"},null,{"v":4684.5145,"d":"4684.51"},null,{"v":71409.002,"d":"71409.00"}]
[null,"城际城乡公交旅客周转量（万人公里）",{"$f":"[1]公交!C18-[1]公交!C20","v":2382.46},{"$f":"C116/R116-1","v":{"v":-0.0999123509588506,"d":"-9.99%"}},{"$f":"[1]公交!E18-[1]公交!E20","v":2303.04},{"v":-0.0480866998983212,"d":"-4.81%"},{"$f":"[1]公交!G18-[1]公交!G20","v":2284.65},{"v":-0.225334920198968,"d":"-22.53%"},{"$f":"[1]公交!I18-[1]公交!I20","v":2590.88},{"$f":"I116/X116-1","v":{"v":-0.0219403548508874,"d":"-2.19%"}},{"$f":"[1]公交!K18-[1]公交!K20","v":2426.63},{"v":-0.0243213033548842,"d":"-2.43%"},{"$f":"[1]公交!M18-[1]公交!M20","v":2539.21},{"v":0.00177535102635096,"d":"0.18%"},14526.87,{"v":-0.0739159039011011,"d":"-7.39%"},13151.63,{"$f":"[1]公交!R18-[1]公交!R20","v":2646.92},{"$f":"R116/AT116-1","v":{"v":-0.365408313474273,"d":"-36.54%"}},{"$f":"[1]公交!T18-[1]公交!T20","v":2419.38},{"v":-0.29316590901123,"d":"-29.32%"},{"$f":"[1]公交!V18-[1]公交!V20","v":2949.21},{"v":-0.266040684681277,"d":"-26.60%"},{"$f":"[1]公交!X18-[1]公交!X20","v":2649},{"$f":"X116/AZ116-1","v":{"v":-0.381990229426504,"d":"-38.20%"}},{"$f":"[1]公交!Z18-[1]公交!Z20","v":2487.12},{"v":-0.383631713554987,"d":"-38.36%"},{"$f":"[1]公交!AB18-[1]公交!AB20","v":2534.71},{"v":-0.172188220539919,"d":"-17.22%"},{"$f":"[1]公交!AD18-[1]公交!AD20","v":2570.68},{"$f":"AD116/BF116-1","v":{"v":-0.15822219020456,"d":"-15.82%"}},{"$f":"[1]公交!AF18-[1]公交!AF20","v":2182.9},{"v":-0.119059533802544,"d":"-11.91%"},{"$f":"[1]公交!AH18-[1]公交!AH20","v":2341.65},{"v":-0.446121204523468,"d":"-44.61%"},{"$f":"[1]公交!AJ18-[1]公交!AJ20","v":2162.9},{"$f":"AJ116/BL116-1","v":{"v":-0.170409521362079,"d":"-17.04%"}},{"$f":"[1]公交!AL18-[1]公交!AL20","v":2386.54},{"v":-0.0697998924236637,"d":"-6.98%"},{"$f":"[1]公交!AN18-[1]公交!AN20","v":2301.94},{"v":-0.114726988839577,"d":"-11.47%"},29632.95,{"v":-0.26882970856524,"d":"-26.88%"},null,37927.85,4171.06,null,3422.84,null,4018.22,null,4286.34,null,4035.12,null,3061.94,null,3053.87,null,2477.92,null,4227.73,null,2607.19,null,2565.62,null,2600.26,null,40528.11]
[null,"城际城乡巡游出租旅客周转量（万人公里）",{"$f":"[1]出租!C18-[1]出租!C20","v":83.79},{"$f":"C117/R117-1","v":{"v":-0.88452156176353,"d":"-88.45%"}},{"$f":"[1]出租!E18-[1]出租!E20","v":46.8499999999999},{"v":-0.932939223039707,"d":"-93.29%"},{"$f":"[1]出租!G18-[1]出租!G20","v":51.28},{"v":-0.923117288115264,"d":"-92.31%"},{"$f":"[1]出租!I18-[1]出租!I20","v":52.48},{"$f":"I117/X117-1","v":{"v":-0.914322563792794,"d":"-91.43%"}},{"$f":"[1]出租!K18-[1]出租!K20","v":56.0200000000002},{"v":-0.910058601589467,"d":"-91.01%"},{"$f":"[1]出租!M18-[1]出租!M20","v":50.5},{"v":-0.919165079314264,"d":"-91.92%"},340.92,{"v":-0.913719753701937,"d":"-91.37%"},3326.58,{"$f":"[1]出租!R18-[1]出租!R20","v":725.59},{"$f":"R117/AT117-1","v":{"v":-0.123609483893566,"d":"-12.36%"}},{"$f":"[1]出租!T18-[1]出租!T20","v":698.62},{"v":-0.0998324958123955,"d":"-9.98%"},{"$f":"[1]出租!V18-[1]出租!V20","v":666.99},{"v":-0.00650917540514806,"d":"-0.65%"},{"$f":"[1]出租!X18-[1]出租!X20","v":612.53},{"$f":"X117/AZ117-1","v":{"v":-0.131150796465198,"d":"-13.12%"}},{"$f":"[1]出租!Z18-[1]出租!Z20","v":622.85},{"v":-0.0952076584494252,"d":"-9.52%"},{"$f":"[1]出租!AB18-[1]出租!AB20","v":624.73},{"v":-1.32681117718514E-3,"d":"-0.13%"},{"$f":"[1]出租!AD18-[1]出租!AD20","v":403.7},{"$f":"AD117/BF117-1","v":{"v":-0.440881957813387,"d":"-44.09%"}},{"$f":"[1]出租!AF18-[1]出租!AF20","v":139.99},{"v":-0.803249427274388,"d":"-80.32%"},{"$f":"[1]出租!AH18-[1]出租!AH20","v":137.21},{"v":-0.79193582628211,"d":"-79.19%"},{"$f":"[1]出租!AJ18-[1]出租!AJ20","v":147.52},{"$f":"AJ117/BL117-1","v":{"v":-0.787789861326889,"d":"-78.78%"}},{"$f":"[1]出租!AL18-[1]出租!AL20","v":133.75},{"v":-0.78435419118714,"d":"-78.44%"},{"$f":"[1]出租!AN18-[1]出租!AN20","v":136.32},{"v":-0.805426699590357,"d":"-80.54%"},{"v":5049.8,"d":"5049.80"},{"v":-0.399071558536913,"d":"-39.91%"},null,7702.72,827.93,null,{"v":776.1,"d":"776.10"},null,671.36,null,704.99,null,688.39,null,625.56,null,722.03,null,711.51,null,659.46,null,695.16,null,620.23,null,700.61,null,8403.33]
[null,"城际城乡网约车旅客周转量(万人公里)",{"$f":"[1]网约车!C18-[1]网约车!C20","v":{"v":256.79111067177,"d":"256.79"}},{"$f":"C118/R118-1","v":{"v":-0.149606149882932,"d":"-14.96%"}},{"$f":"[1]网约车!E18-[1]网约车!E20","v":{"v":214.97596069023,"d":"214.98"}},{"v":-0.291939339746093,"d":"-29.19%"},{"$f":"[1]网约车!G18-[1]网约车!G20","v":{"v":321.93543130833,"d":"321.94"}},{"v":-0.0688357094141943,"d":"-6.88%"},{"$f":"[1]网约车!I18-[1]网约车!I20","v":{"v":282.71154160103,"d":"282.71"}},{"$f":"I118/X118-1","v":{"v":-0.229330500428342,"d":"-22.93%"}},{"$f":"[1]网约车!K18-[1]网约车!K20","v":{"v":307.62769541966,"d":"307.63"}},{"v":-0.241488148756159,"d":"-24.15%"},{"$f":"[1]网约车!M18-[1]网约车!M20","v":{"v":328.90459740635,"d":"328.90"}},{"v":-0.181037004134023,"d":"-18.10%"},{"v":1712.94633709737,"d":"1712.95"},{"v":-0.194033256097736,"d":"-19.40%"},{"v":1723.72022634617,"d":"1723.72"},{"$f":"[1]网约车!R18-[1]网约车!R20","v":{"v":301.967271560606,"d":"301.97"}},{"$f":"R118/AT118-1","v":{"v":-0.415791211455774,"d":"-41.58%"}},{"$f":"[1]网约车!T18-[1]网约车!T20","v":{"v":303.612349559345,"d":"303.61"}},{"v":-0.198962047083293,"d":"-19.90%"},{"$f":"[1]网约车!V18-[1]网约车!V20","v":{"v":345.734296904574,"d":"345.73"}},{"v":-0.217632590493541,"d":"-21.76%"},{"$f":"[1]网约车!X18-[1]网约车!X20","v":{"v":366.838887172987,"d":"366.84"}},{"$f":"X118/AZ118-1","v":{"v":-0.235631680411979,"d":"-23.56%"}},{"$f":"[1]网约车!Z18-[1]网约车!Z20","v":{"v":405.567421148659,"d":"405.57"}},{"v":-0.166588930940474,"d":"-16.66%"},{"$f":"[1]网约车!AB18-[1]网约车!AB20","v":{"v":401.61106065429,"d":"401.61"}},{"v":-0.0962306519447528,"d":"-9.62%"},{"$f":"[1]网约车!AD18-[1]网约车!AD20","v":{"v":321.640308458459,"d":"321.64"}},{"$f":"AD118/BF118-1","v":{"v":-0.429039358063892,"d":"-42.90%"}},{"$f":"[1]网约车!AF18-[1]网约车!AF20","v":{"v":263.508605555641,"d":"263.51"}},{"v":-0.520546126240811,"d":"-52.05%"},{"$f":"[1]网约车!AH18-[1]网约车!AH20","v":{"v":290.758282707798,"d":"290.76"}},{"v":-0.42145052963778,"d":"-42.15%"},{"$f":"[1]网约车!AJ18-[1]网约车!AJ20","v":{"v":241.887723847439,"d":"241.89"}},{"$f":"AJ118/BL118-1","v":{"v":-0.460844926551233,"d":"-46.08%"}},{"$f":"[1]网约车!AL18-[1]网约车!AL20","v":{"v":182.989575995803,"d":"182.99"}},{"v":-0.591017385681502,"d":"-59.10%"},{"$f":"[1]网约车!AN18-[1]网约车!AN20","v":{"v":235.673657563537,"d":"235.67"}},{"v":-0.581044767983651,"d":"-58.10%"},{"v":3661.78944112914,"d":"3661.79"},{"v":-0.371133466509422,"d":"-37.11%"},null,{"v":5260.31330783242,"d":"5260.31"},{"v":516.882452783824,"d":"516.88"},null,{"v":379.023676036627,"d":"379.02"},null,{"v":441.907846241542,"d":"441.91"},null,{"v":479.924243028159,"d":"479.92"},null,{"v":486.63551062062,"d":"486.64"},null,{"v":444.373402924636,"d":"444.37"},null,{"v":563.331839070006,"d":"563.33"},null,{"v":549.601577915274,"d":"549.60"},null,{"v":502.564253538698,"d":"502.56"},null,{"v":448.642210301716,"d":"448.64"},null,{"v":447.42629537132,"d":"447.43"},null,{"v":562.527066267406,"d":"562.53"},null,{"v":5822.84037409983,"d":"5822.84"}]
["宜昌市","总旅客周转量（万人公里）",{"$f":"C120+C121+C122+C123","v":{"v":13411.3215023799,"d":"13411.32"}},{"$f":"C119/R119-1","v":{"v":-0.22763450219913,"d":"-22.76%"}},{"v":15665.6798545577,"d":"15665.68"},{"v":-0.120760255268697,"d":"-12.08%"},{"v":16808.1886897792,"d":"16808.19"},{"v":-0.0903616682403316,"d":"-9.04%"},{"$f":"I120+I121+I122+I123","v":{"v":19190.1623705463,"d":"19190.16"}},{"$f":"I119/X119-1","v":{"v":-0.0648680816600984,"d":"-6.49%"}},{"v":21559.7581670564,"d":"21559.76"},{"v":0.0837859691098259,"d":"8.38%"},{"v":20987.141287171,"d":"20987.14"},{"v":0.145789731031354,"d":"14.58%"},{"v":107622.251871491,"d":"107622.25"},{"v":-0.0424234517531484,"d":"-4.24%"},{"v":94073.4859371944,"d":"94073.49"},{"$f":"R120+R121+R122+R123","v":{"v":17363.9572722571,"d":"17363.96"}},{"$f":"R119/AT119-1","v":{"v":0.222962785944934,"d":"22.30%"}},{"v":17817.3017637472,"d":"17817.30"},{"v":0.130466605218827,"d":"13.05%"},{"v":18477.8808268384,"d":"18477.88"},{"v":0.0952031410191863,"d":"9.52%"},{"$f":"X120+X121+X122+X123","v":{"v":20521.3424910293,"d":"20521.34"}},{"$f":"X119/AZ119-1","v":{"v":0.0101720500459048,"d":"1.02%"}},{"v":19893.0035833225,"d":"19893.00"},{"v":-0.00232333374220517,"d":"-0.23%"},{"v":18316.7475835902,"d":"18316.75"},{"v":-0.00665944604110136,"d":"-0.67%"},{"$f":"AD120+AD121+AD122+AD123","v":{"v":19327.0411288015,"d":"19327.04"}},{"$f":"AD119/BF119-1","v":{"v":-0.0311628042673839,"d":"-3.12%"}},{"v":20614.2638419072,"d":"20614.26"},{"v":-0.0128038379972901,"d":"-1.28%"},{"v":19156.3166314263,"d":"19156.32"},{"v":-0.0246750518460194,"d":"-2.47%"},{"$f":"AJ120+AJ121+AJ122+AJ123","v":{"v":20495.4296989046,"d":"20495.43"}},{"$f":"AJ119/BL119-1","v":{"v":-0.0285514986681203,"d":"-2.86%"}},{"v":18948.5058402456,"d":"18948.51"},{"v":-0.0655745181324547,"d":"-6.56%"},{"v":15484.0341472846,"d":"15484.03"},{"v":0.0489276803982519,"d":"4.89%"},{"v":226415.824809354,"d":"226415.82"},{"v":0.0192776356352624,"d":"1.93%"},null,{"v":207371.839187327,"d":"207371.84"},{"$f":"AT120+AT121+AT122+AT123","v":{"v":14198.2711753904,"d":"14198.27"}},null,{"v":15761.0155678135,"d":"15761.02"},null,{"v":16871.6470349446,"d":"16871.65"},null,{"$f":"AZ120+AZ121+AZ122+AZ123","v":{"v":20314.700342478,"d":"20314.70"}},null,{"v":19939.3292998819,"d":"19939.33"},null,{"v":18439.5447367873,"d":"18439.54"},null,{"$f":"BF120+BF121+BF122+BF123","v":{"v":19948.6985160461,"d":"19948.70"}},null,{"v":20881.6288346253,"d":"20881.63"},null,{"v":19640.9582956777,"d":"19640.96"},null,{"$f":"BL120+BL121+BL122+BL123","v":{"v":21097.8036105927,"d":"21097.80"}},null,{"v":20278.2417730893,"d":"20278.24"},null,{"v":14761.774750196,"d":"14761.77"},null,{"v":222133.613937523,"d":"222133.61"}]
[null,"公路班线旅客周转量（万人公里）",{"$f":"[1]班线包车!C19","v":12032.7491},{"$f":"C120/R120-1","v":{"v":-0.234380455005864,"d":"-23.44%"}},{"$f":"[1]班线包车!E19","v":14351.0886},{"v":-0.104303956130376,"d":"-10.43%"},{"$f":"[1]班线包车!G19","v":14986.0133},{"v":-0.0984382547192663,"d":"-9.84%"},{"$f":"[1]班线包车!I19","v":17342.3056},{"$f":"I120/X120-1","v":{"v":-0.0675679981340935,"d":"-6.76%"}},{"$f":"[1]班线包车!K19","v":19384.3163},{"v":0.0848847032185804,"d":"8.49%"},{"$f":"[1]班线包车!M19","v":18766.1584},{"v":0.141169836004102,"d":"14.12%"},{"v":96862.6313,"d":"96862.63"},{"v":-0.0435418537040315,"d":"-4.35%"},{"v":84827.5437,"d":"84827.54"},{"$f":"[1]班线包车!R19","v":15716.3557},{"$f":"R120/AT120-1","v":{"v":0.204049567720287,"d":"20.40%"}},{"$f":"[1]班线包车!T19","v":16022.2753},{"v":0.0856026479088883,"d":"8.56%"},{"$f":"[1]班线包车!V19","v":16622.2817},{"v":0.0497034495921773,"d":"4.97%"},{"$f":"[1]班线包车!X19","v":18599.003},{"$f":"X120/AZ120-1","v":{"v":-0.0348345532640676,"d":"-3.48%"}},{"$f":"[1]班线包车!Z19","v":17867.628},{"v":-0.0511938617188323,"d":"-5.12%"},{"$f":"[1]班线包车!AB19","v":16444.6674},{"v":-0.0570810741644616,"d":"-5.71%"},{"$f":"[1]班线包车!AD19","v":17393.9704},{"$f":"AD120/BF120-1","v":{"v":-0.0793936033571653,"d":"-7.94%"}},{"$f":"[1]班线包车!AF19","v":18710.6664},{"v":-0.0599832607620372,"d":"-6.00%"},{"$f":"[1]班线包车!AH19","v":17273.6802},{"v":-0.0736724800899176,"d":"-7.37%"},{"$f":"[1]班线包车!AJ19","v":18570.5124},{"$f":"AJ120/BL120-1","v":{"v":-0.0754711137526032,"d":"-7.55%"}},{"$f":"[1]班线包车!AL19","v":17276.7181},{"v":-0.0874487270473198,"d":"-8.74%"},{"$f":"[1]班线包车!AN19","v":13873.2427},{"v":0.0351159459548955,"d":"3.51%"},{"v":204371.0013,"d":"204371.00"},{"v":-0.0224133634566943,"d":"-2.24%"},null,{"v":195654.0665,"d":"195654.07"},{"v":13052.9142,"d":"13052.91"},null,{"v":14758.8764,"d":"14758.88"},null,15835.2168,null,{"v":19270.2744,"d":"19270.27"},null,{"v":18831.6952,"d":"18831.70"},null,{"v":17440.1711,"d":"17440.17"},null,{"v":18894.036,"d":"18894.04"},null,{"v":19904.6098,"d":"19904.61"},null,{"v":18647.4868,"d":"18647.49"},null,{"v":20086.4599,"d":"20086.46"},null,{"v":18932.3259,"d":"18932.33"},null,{"v":13402.5978,"d":"13402.60"},null,{"v":209056.6643,"d":"209056.66"}]
[null,"城际城乡公交旅客周转量（万人公里）",{"$f":"[1]公交!C22-[1]公交!C24","v":809.65},{"$f":"C121/R121-1","v":{"v":0.00734059097978301,"d":"0.73%"}},{"$f":"[1]公交!E22-[1]公交!E24","v":756.56},{"v":-0.098302822273074,"d":"-9.83%"},{"$f":"[1]公交!G22-[1]公交!G24","v":824.7},{"v":-0.0514038578773618,"d":"-5.14%"},{"$f":"[1]公交!I22-[1]公交!I24","v":807.02},{"$f":"I121/X121-1","v":{"v":-0.0300007211711815,"d":"-3.00%"}},{"$f":"[1]公交!K22-[1]公交!K24","v":1070.19},{"v":0.255619954946499,"d":"25.56%"},{"$f":"[1]公交!M22-[1]公交!M24","v":1107},{"v":0.285803888772737,"d":"28.58%"},5375.12,{"v":0.0628185912975392,"d":"6.28%"},4196.48,{"$f":"[1]公交!R22-[1]公交!R24","v":803.75},{"$f":"R121/AT121-1","v":{"v":1.91594108257147,"d":"191.59%"}},{"$f":"[1]公交!T22-[1]公交!T24","v":839.04},{"v":1.88310081781321,"d":"188.31%"},{"$f":"[1]公交!V22-[1]公交!V24","v":869.39},{"v":2.0989876666429,"d":"209.90%"},{"$f":"[1]公交!X22-[1]公交!X24","v":831.98},{"$f":"X121/AZ121-1","v":{"v":1.95867709815078,"d":"195.87%"}},{"$f":"[1]公交!Z22-[1]公交!Z24","v":852.32},{"v":1.71872408293461,"d":"171.87%"},{"$f":"[1]公交!AB22-[1]公交!AB24","v":860.94},{"v":1.7721286666452,"d":"177.21%"},{"$f":"[1]公交!AD22-[1]公交!AD24","v":793.31},{"$f":"AD121/BF121-1","v":{"v":1.9862977602108,"d":"198.63%"}},{"$f":"[1]公交!AF22-[1]公交!AF24","v":847.27},{"v":1.99918584070796,"d":"199.92%"},{"$f":"[1]公交!AH22-[1]公交!AH24","v":935.68},{"v":2.37024096819508,"d":"237.02%"},{"$f":"[1]公交!AJ22-[1]公交!AJ24","v":959.04},{"$f":"AJ121/BL121-1","v":{"v":2.1768914800583,"d":"217.69%"}},{"$f":"[1]公交!AL22-[1]公交!AL24","v":887.24},{"v":0.318394579253161,"d":"31.84%"},{"$f":"[1]公交!AN22-[1]公交!AN24","v":834.43},{"v":0.177658598546327,"d":"17.77%"},10314.39,{"v":1.42028087712506,"d":"142.03%"},null,{"v":3553.1,"d":"3553.10"},275.64,null,291.02,null,280.54,null,{"v":281.2,"d":"281.20"},null,{"v":313.5,"d":"313.50"},null,310.57,null,265.65,null,{"v":282.5,"d":"282.50"},null,277.63,null,301.88,null,672.97,null,708.55,null,4261.65]
[null,"城际城乡巡游出租旅客周转量（万人公里）",{"$f":"[1]出租!C22-[1]出租!C24","v":280.25},{"$f":"C122/R122-1","v":{"v":-0.321806258016117,"d":"-32.18%"}},{"$f":"[1]出租!E22-[1]出租!E24","v":299.88},{"v":-0.475853389963819,"d":"-47.59%"},{"$f":"[1]出租!G22-[1]出租!G24","v":523.25},{"v":-0.0807596359931139,"d":"-8.08%"},{"$f":"[1]出租!I22-[1]出租!I24","v":539.55},{"$f":"I122/X122-1","v":{"v":-0.0751945425251112,"d":"-7.52%"}},{"$f":"[1]出租!K22-[1]出租!K24","v":559.71},{"v":-0.0768279206320414,"d":"-7.68%"},{"$f":"[1]出租!M22-[1]出租!M24","v":545.89},{"v":0.0163278224605294,"d":"1.63%"},2748.53,{"v":-0.162393605188014,"d":"-16.24%"},2744.29,{"$f":"[1]出租!R22-[1]出租!R24","v":413.23},{"$f":"R122/AT122-1","v":{"v":-0.0463849721920937,"d":"-4.64%"}},{"$f":"[1]出租!T22-[1]出租!T24","v":572.13},{"v":0.256075874333136,"d":"25.61%"},{"$f":"[1]出租!V22-[1]出租!V24","v":569.22},{"v":0.521165152324959,"d":"52.12%"},{"$f":"[1]出租!X22-[1]出租!X24","v":583.42},{"$f":"X122/AZ122-1","v":{"v":0.630074599759716,"d":"63.01%"}},{"$f":"[1]出租!Z22-[1]出租!Z24","v":606.29},{"v":0.650397430313589,"d":"65.04%"},{"$f":"[1]出租!AB22-[1]出租!AB24","v":537.12},{"v":0.612730821198019,"d":"61.27%"},{"$f":"[1]出租!AD22-[1]出租!AD24","v":606.73},{"$f":"AD122/BF122-1","v":{"v":0.710785281263217,"d":"71.08%"}},{"$f":"[1]出租!AF22-[1]出租!AF24","v":556.51},{"v":0.658155056313689,"d":"65.82%"},{"$f":"[1]出租!AH22-[1]出租!AH24","v":531},{"v":0.638838307459646,"d":"63.88%"},{"$f":"[1]出租!AJ22-[1]出租!AJ24","v":572.89},{"$f":"AJ122/BL122-1","v":{"v":0.765617776681973,"d":"76.56%"}},{"$f":"[1]出租!AL22-[1]出租!AL24","v":467.55},{"v":0.546182082740831,"d":"54.62%"},{"$f":"[1]出租!AN22-[1]出租!AN24","v":467.82},{"v":0.47591254692873,"d":"47.59%"},6483.91,{"v":0.515126943882976,"d":"51.51%"},null,3962.48,433.33,null,455.49,null,{"v":374.2,"d":"374.20"},null,357.91,null,367.36,null,333.05,null,354.65,null,335.62,null,324.01,null,324.47,null,302.39,null,316.97,null,4279.45]
[null,"城际城乡网约车旅客周转量(万人公里)",{"$f":"[1]网约车!C22-[1]网约车!C24","v":{"v":288.672402379856,"d":"288.67"}},{"$f":"C123/R123-1","v":{"v":-0.329637851474058,"d":"-32.96%"}},{"$f":"[1]网约车!E22-[1]网约车!E24","v":{"v":258.151254557704,"d":"258.15"}},{"v":-0.327479725005474,"d":"-32.75%"},{"$f":"[1]网约车!G22-[1]网约车!G24","v":{"v":474.2253897792,"d":"474.23"}},{"v":0.137260804315971,"d":"13.73%"},{"$f":"[1]网约车!I22-[1]网约车!I24","v":{"v":501.28677054635,"d":"501.29"}},{"$f":"I123/X123-1","v":{"v":-0.0111506808661874,"d":"-1.12%"}},{"$f":"[1]网约车!K22-[1]网约车!K24","v":{"v":545.54186705644,"d":"545.54"}},{"v":-0.0374470802225856,"d":"-3.74%"},{"$f":"[1]网约车!M22-[1]网约车!M24","v":{"v":568.09288717099,"d":"568.09"}},{"v":0.198457168781938,"d":"19.85%"},{"v":2635.97057149054,"d":"2635.97"},{"v":-0.0515336211422299,"d":"-5.15%"},{"v":2305.17223719442,"d":"2305.17"},{"$f":"[1]网约车!R22-[1]网约车!R24","v":{"v":430.621572257051,"d":"430.62"}},{"$f":"R123/AT123-1","v":{"v":-0.0132116755504761,"d":"-1.32%"}},{"$f":"[1]网约车!T22-[1]网约车!T24","v":{"v":383.856463747216,"d":"383.86"}},{"v":0.501614495053444,"d":"50.16%"},{"$f":"[1]网约车!V22-[1]网约车!V24","v":{"v":416.989126838353,"d":"416.99"}},{"v":0.0924804688778256,"d":"9.25%"},{"$f":"[1]网约车!X22-[1]网约车!X24","v":{"v":506.939491029285,"d":"506.94"}},{"$f":"X123/AZ123-1","v":{"v":0.250726748940439,"d":"25.07%"}},{"$f":"[1]网约车!Z22-[1]网约车!Z24","v":{"v":566.765583322519,"d":"566.77"}},{"v":0.328022444378391,"d":"32.80%"},{"$f":"[1]网约车!AB22-[1]网约车!AB24","v":{"v":474.020183590187,"d":"474.02"}},{"v":0.332439459708486,"d":"33.24%"},{"$f":"[1]网约车!AD22-[1]网约车!AD24","v":{"v":533.030728801534,"d":"533.03"}},{"$f":"AD123/BF123-1","v":{"v":0.227156370797251,"d":"22.72%"}},{"$f":"[1]网约车!AF22-[1]网约车!AF24","v":{"v":499.817441907214,"d":"499.82"}},{"v":0.392640808936795,"d":"39.26%"},{"$f":"[1]网约车!AH22-[1]网约车!AH24","v":{"v":415.956431426305,"d":"415.96"}},{"v":0.0615696696533445,"d":"6.16%"},{"$f":"[1]网约车!AJ22-[1]网约车!AJ24","v":{"v":392.987298904636,"d":"392.99"}},{"$f":"AJ123/BL123-1","v":{"v":0.0207629062292813,"d":"2.08%"}},{"$f":"[1]网约车!AL22-[1]网约车!AL24","v":{"v":316.997740245592,"d":"317.00"}},{"v":-0.144534567478931,"d":"-14.45%"},{"$f":"[1]网约车!AN22-[1]网约车!AN24","v":{"v":308.541447284612,"d":"308.54"}},{"v":-0.075273429480997,"d":"-7.53%"},{"v":5246.52350935451,"d":"5246.52"},{"v":0.156679327716814,"d":"15.67%"},null,{"v":4202.19268732683,"d":"4202.19"},{"v":436.386975390362,"d":"436.39"},null,{"v":255.62916781351,"d":"255.63"},null,{"v":381.69023494459,"d":"381.69"},null,{"v":405.315942478037,"d":"405.32"},null,{"v":426.774099881878,"d":"426.77"},null,{"v":355.753636787291,"d":"355.75"},null,{"v":434.362516046132,"d":"434.36"},null,{"v":358.899034625301,"d":"358.90"},null,{"v":391.831495677656,"d":"391.83"},null,{"v":384.993710592736,"d":"384.99"},null,{"v":370.555873089337,"d":"370.56"},null,{"v":333.656950196038,"d":"333.66"},null,{"v":4535.84963752287,"d":"4535.85"}]
["襄阳市","总旅客周转量（万人公里）",{"$f":"C125+C126+C127+C128","v":{"v":14517.2906370946,"d":"14517.29"}},{"$f":"C124/R124-1","v":{"v":-0.168582529022901,"d":"-16.86%"}},{"v":21087.1401810592,"d":"21087.14"},{"v":0.167680282798069,"d":"16.77%"},{"v":20325.0427702243,"d":"20325.04"},{"v":0.104678111315648,"d":"10.47%"},{"$f":"I125+I126+I127+I128","v":{"v":18718.6762106233,"d":"18718.68"}},{"$f":"I124/X124-1","v":{"v":-0.0371488612092944,"d":"-3.71%"}},{"v":18574.9678564905,"d":"18574.97"},{"v":-0.0314180616018729,"d":"-3.14%"},{"v":16278.9724119704,"d":"16278.97"},{"v":-0.0645890639096635,"d":"-6.46%"},{"v":109502.090067462,"d":"109502.09"},{"v":-0.00398629195935929,"d":"-0.40%"},{"v":92537.3273898076,"d":"92537.33"},{"$f":"R125+R126+R127+R128","v":{"v":17460.891963256,"d":"17460.89"}},{"$f":"R124/AT124-1","v":{"v":0.303643243627759,"d":"30.36%"}},{"v":18059.0016734109,"d":"18059.00"},{"v":0.158528516317314,"d":"15.85%"},{"v":18399.063548039,"d":"18399.06"},{"v":0.257468794164811,"d":"25.75%"},{"$f":"X125+X126+X127+X128","v":{"v":19440.8828701527,"d":"19440.88"}},{"$f":"X124/AZ124-1","v":{"v":0.254724876850333,"d":"25.47%"}},{"v":19177.487334949,"d":"19177.49"},{"v":0.299383975004142,"d":"29.94%"},{"v":17403.0169884589,"d":"17403.02"},{"v":0.303563656244405,"d":"30.36%"},{"$f":"AD125+AD126+AD127+AD128","v":{"v":18092.1154930959,"d":"18092.12"}},{"$f":"AD124/BF124-1","v":{"v":0.240715062984637,"d":"24.07%"}},{"v":18092.1180689147,"d":"18092.12"},{"v":0.202231930258181,"d":"20.22%"},{"v":16866.6276334791,"d":"16866.63"},{"v":0.308256183108165,"d":"30.83%"},{"$f":"AJ125+AJ126+AJ127+AJ128","v":{"v":18560.8077434245,"d":"18560.81"}},{"$f":"AJ124/BL124-1","v":{"v":0.269836732285961,"d":"26.98%"}},{"v":17122.4408658356,"d":"17122.44"},{"v":0.184704394015057,"d":"18.47%"},{"v":14706.348996784,"d":"14706.35"},{"v":0.141330953168586,"d":"14.13%"},{"v":213380.8031798,"d":"213380.80"},{"v":0.242789021006236,"d":"24.28%"},null,{"v":158809.851876977,"d":"158809.85"},{"$f":"AT125+AT126+AT127+AT128","v":{"v":13393.9189641071,"d":"13393.92"}},null,{"v":15587.8784329074,"d":"15587.88"},null,{"v":14631.8251660943,"d":"14631.83"},null,{"$f":"AZ125+AZ126+AZ127+AZ128","v":{"v":15494.1399735009,"d":"15494.14"}},null,{"v":14758.9070697043,"d":"14758.91"},null,{"v":13350.3392067537,"d":"13350.34"},null,{"$f":"BF125+BF126+BF127+BF128","v":{"v":14582.0068062798,"d":"14582.01"}},null,{"v":15048.7752101455,"d":"15048.78"},null,{"v":12892.45015713,"d":"12892.45"},null,{"$f":"BL125+BL126+BL127+BL128","v":{"v":14616.6883281218,"d":"14616.69"}},null,{"v":14452.922562232,"d":"14452.92"},null,{"v":12885.2625576797,"d":"12885.26"},null,{"v":171695.114434657,"d":"171695.11"}]
[null,"公路班线旅客周转量（万人公里）",{"$f":"[1]班线包车!C23","v":10120.8517},{"$f":"C125/R125-1","v":{"v":-0.33648557238818,"d":"-33.65%"}},{"$f":"[1]班线包车!E23","v":16615.7551},{"v":0.0435188242178062,"d":"4.35%"},{"$f":"[1]班线包车!G23","v":15869.8464},{"v":0.122628715685888,"d":"12.26%"},{"$f":"[1]班线包车!I23","v":14345.6508},{"$f":"I125/X125-1","v":{"v":-0.0648356664435271,"d":"-6.48%"}},{"$f":"[1]班线包车!K23","v":14014.5296},{"v":-0.035094332316707,"d":"-3.51%"},{"$f":"[1]班线包车!M23","v":11627.7753},{"v":-0.111133791855893,"d":"-11.11%"},{"v":82594.4089,"d":"82594.41"},{"v":-0.0641773858483679,"d":"-6.42%"},{"v":75177.035164,"d":"75177.04"},{"$f":"[1]班线包车!R23","v":15253.4011},{"$f":"R125/AT125-1","v":{"v":0.366097192953212,"d":"36.61%"}},{"$f":"[1]班线包车!T23","v":15922.813},{"v":0.169993199419713,"d":"17.00%"},{"$f":"[1]班线包车!V23","v":14136.3268},{"v":0.116004554797501,"d":"11.60%"},{"$f":"[1]班线包车!X23","v":15340.245864},{"$f":"X125/AZ125-1","v":{"v":0.137657196749319,"d":"13.77%"}},{"$f":"[1]班线包车!Z23","v":14524.2484},{"v":0.13551530336932,"d":"13.55%"},{"$f":"[1]班线包车!AB23","v":13081.581},{"v":0.149055578608552,"d":"14.91%"},{"$f":"[1]班线包车!AD23","v":13740.179},{"$f":"AD125/BF125-1","v":{"v":0.0949947163383904,"d":"9.50%"}},{"$f":"[1]班线包车!AF23","v":13762.2386},{"v":0.0529207717802074,"d":"5.29%"},{"$f":"[1]班线包车!AH23","v":12615.6868},{"v":0.151832946973992,"d":"15.18%"},{"$f":"[1]班线包车!AJ23","v":14007.3104},{"$f":"AJ125/BL125-1","v":{"v":0.113111329159723,"d":"11.31%"}},{"$f":"[1]班线包车!AL23","v":12472.8922},{"v":-0.00174460439928115,"d":"-0.17%"},{"$f":"[1]班线包车!AN23","v":10530.509172},{"v":-0.0313438065622217,"d":"-3.13%"},{"v":165387.432336,"d":"165387.43"},{"v":0.120338146197508,"d":"12.03%"},null,{"v":136751.524876,"d":"136751.52"},{"v":11165.6778,"d":"11165.68"},null,{"v":13609.320984,"d":"13609.32"},null,12666.9078,null,{"v":13484.067,"d":"13484.07"},null,{"v":12790.887412,"d":"12790.89"},null,{"v":11384.6373,"d":"11384.64"},null,{"v":12548.169224,"d":"12548.17"},null,{"v":13070.53576,"d":"13070.54"},null,{"v":10952.70528,"d":"10952.71"},null,{"v":12583.925824,"d":"12583.93"},null,{"v":12494.690492,"d":"12494.69"},null,{"v":10871.255708,"d":"10871.26"},null,{"v":147622.780584,"d":"147622.78"}]
[null,"城际城乡公交旅客周转量（万人公里）",{"$f":"[1]公交!C26-[1]公交!C28","v":3119.4},{"$f":"C126/R126-1","v":{"v":2.04242660684677,"d":"204.24%"}},{"$f":"[1]公交!E26-[1]公交!E28","v":3309.51},{"v":2.23614655754056,"d":"223.61%"},{"$f":"[1]公交!G26-[1]公交!G28","v":3202.68},{"v":0.0184406094082405,"d":"1.84%"},{"$f":"[1]公交!I26-[1]公交!I28","v":3199.15},{"$f":"I126/X126-1","v":{"v":0.0831871770736694,"d":"8.32%"}},{"$f":"[1]公交!K26-[1]公交!K28","v":3343.28},{"v":-0.0173961857121443,"d":"-1.74%"},{"$f":"[1]公交!M26-[1]公交!M28","v":3431.54},{"v":0.0898586995531359,"d":"8.99%"},19605.56,{"v":0.333965653321721,"d":"33.40%"},11548.59,{"$f":"[1]公交!R26-[1]公交!R28","v":1025.3},{"$f":"R126/AT126-1","v":{"v":-0.0800111263649976,"d":"-8.00%"}},{"$f":"[1]公交!T26-[1]公交!T28","v":1022.67},{"v":-0.0234057182146336,"d":"-2.34%"},{"$f":"[1]公交!V26-[1]公交!V28","v":3144.69},{"v":2.22621649072051,"d":"222.62%"},{"$f":"[1]公交!X26-[1]公交!X28","v":2953.46},{"$f":"X126/AZ126-1","v":{"v":1.94977278401998,"d":"194.98%"}},{"$f":"[1]公交!Z26-[1]公交!Z28","v":3402.47},{"v":2.4762357220213,"d":"247.62%"},{"$f":"[1]公交!AB26-[1]公交!AB28","v":3148.61},{"v":2.1597956766955,"d":"215.98%"},{"$f":"[1]公交!AD26-[1]公交!AD28","v":3109.53},{"$f":"AD126/BF126-1","v":{"v":2.14764801749182,"d":"214.76%"}},{"$f":"[1]公交!AF26-[1]公交!AF28","v":3104.48},{"v":2.28120574122223,"d":"228.12%"},{"$f":"[1]公交!AH26-[1]公交!AH28","v":3017.04},{"v":2.1957122731943,"d":"219.57%"},{"$f":"[1]公交!AJ26-[1]公交!AJ28","v":3256.3},{"$f":"AJ126/BL126-1","v":{"v":2.28017970827625,"d":"228.02%"}},{"$f":"[1]公交!AL26-[1]公交!AL28","v":3458.13},{"v":2.66564199323716,"d":"266.56%"},{"$f":"[1]公交!AN26-[1]公交!AN28","v":2940.53},{"v":2.00066329237928,"d":"200.07%"},33583.21,{"v":1.82044518126221,"d":"182.04%"},null,{"v":10927.1,"d":"10927.10"},1114.47,null,1047.18,null,974.73,null,1001.25,null,{"v":978.779999999999,"d":"978.78"},null,{"v":996.460000000001,"d":"996.46"},null,{"v":987.890000000001,"d":"987.89"},null,{"v":946.139999999999,"d":"946.14"},null,{"v":944.089999999998,"d":"944.09"},null,{"v":992.719999999999,"d":"992.72"},null,{"v":943.389999999999,"d":"943.39"},null,{"v":979.959999999999,"d":"979.96"},null,11907.06]
[null,"城际城乡巡游出租旅客周转量（万人公里）",{"$f":"[1]出租!C26-[1]出租!C28","v":518.64},{"$f":"C127/R127-1","v":{"v":-0.0932391558997853,"d":"-9.32%"}},{"$f":"[1]出租!E26-[1]出租!E28","v":513.91},{"v":-0.0650912332405533,"d":"-6.51%"},{"$f":"[1]出租!G26-[1]出租!G28","v":540.95},{"v":-0.0280822163929719,"d":"-2.81%"},{"$f":"[1]出租!I26-[1]出租!I28","v":511.37},{"$f":"I127/X127-1","v":{"v":-0.0402214714714716,"d":"-4.02%"}},{"$f":"[1]出租!K26-[1]出租!K28","v":512.23},{"v":-0.0868363817877136,"d":"-8.68%"},{"$f":"[1]出租!M26-[1]出租!M28","v":519.8},{"v":-0.0586914398507812,"d":"-5.87%"},{"v":3116.9,"d":"3116.90"},{"v":-0.0623580481260096,"d":"-6.24%"},2771.98,{"$f":"[1]出租!R26-[1]出租!R28","v":571.97},{"$f":"R127/AT127-1","v":{"v":-0.101918728802914,"d":"-10.19%"}},{"$f":"[1]出租!T26-[1]出租!T28","v":549.69},{"v":-0.116197183098592,"d":"-11.62%"},{"$f":"[1]出租!V26-[1]出租!V28","v":556.58},{"v":-0.08443684097975,"d":"-8.44%"},{"$f":"[1]出租!X26-[1]出租!X28","v":532.8},{"$f":"X127/AZ127-1","v":{"v":-0.0871554131615464,"d":"-8.72%"}},{"$f":"[1]出租!Z26-[1]出租!Z28","v":560.94},{"v":-0.0134543344061629,"d":"-1.35%"},{"$f":"[1]出租!AB26-[1]出租!AB28","v":552.21},{"v":-0.0329241169156407,"d":"-3.29%"},{"$f":"[1]出租!AD26-[1]出租!AD28","v":541.39},{"$f":"AD127/BF127-1","v":{"v":-0.0693448850841458,"d":"-6.93%"}},{"$f":"[1]出租!AF26-[1]出租!AF28","v":531.26},{"v":-0.0720997659552171,"d":"-7.21%"},{"$f":"[1]出租!AH26-[1]出租!AH28","v":533.21},{"v":-0.0396246465301422,"d":"-3.96%"},{"$f":"[1]出租!AJ26-[1]出租!AJ28","v":540.62},{"$f":"AJ127/BL127-1","v":{"v":-0.0396148653449869,"d":"-3.96%"}},{"$f":"[1]出租!AL26-[1]出租!AL28","v":531.87},{"v":-0.00879628766842455,"d":"-0.88%"},{"$f":"[1]出租!AN26-[1]出租!AN28","v":545.9},{"v":0.0170659909825983,"d":"1.71%"},6548.44,{"v":-0.0558425548787084,"d":"-5.58%"},null,6399.01,636.88,null,621.96,null,607.91,null,583.67,null,568.59,null,571.01,null,581.73,null,572.54,null,555.21,null,562.92,null,536.59,null,536.74,null,6935.75]
[null,"城际城乡网约车旅客周转量(万人公里)",{"$f":"[1]网约车!C26-[1]网约车!C28","v":{"v":758.39893709465,"d":"758.40"}},{"$f":"C128/R128-1","v":{"v":0.242826954568581,"d":"24.28%"}},{"$f":"[1]网约车!E26-[1]网约车!E28","v":{"v":647.96508105919,"d":"647.97"}},{"v":0.149223357406348,"d":"14.92%"},{"$f":"[1]网约车!G26-[1]网约车!G28","v":{"v":711.56637022425,"d":"711.57"}},{"v":0.267334838099595,"d":"26.73%"},{"$f":"[1]网约车!I26-[1]网约车!I28","v":{"v":662.50541062326,"d":"662.51"}},{"$f":"I128/X128-1","v":{"v":0.0783369234013698,"d":"7.83%"}},{"$f":"[1]网约车!K26-[1]网约车!K28","v":{"v":704.92825649048,"d":"704.93"}},{"v":0.021888501302936,"d":"2.19%"},{"$f":"[1]网约车!M26-[1]网约车!M28","v":{"v":699.85711197041,"d":"699.86"}},{"v":0.127681408447492,"d":"12.77%"},{"v":4185.22116746224,"d":"4185.22"},{"v":0.143397391844822,"d":"14.34%"},{"v":3039.72222580755,"d":"3039.72"},{"$f":"[1]网约车!R26-[1]网约车!R28","v":{"v":610.220863255988,"d":"610.22"}},{"$f":"R128/AT128-1","v":{"v":0.279580980281892,"d":"27.96%"}},{"$f":"[1]网约车!T26-[1]网约车!T28","v":{"v":563.828673410855,"d":"563.83"}},{"v":0.822226494988695,"d":"82.22%"},{"$f":"[1]网约车!V26-[1]网约车!V28","v":{"v":561.466748038951,"d":"561.47"}},{"v":0.468741803302126,"d":"46.87%"},{"$f":"[1]网约车!X26-[1]网约车!X28","v":{"v":614.377006152712,"d":"614.38"}},{"$f":"X128/AZ128-1","v":{"v":0.445072819539964,"d":"44.51%"}},{"$f":"[1]网约车!Z26-[1]网约车!Z28","v":{"v":689.828934949045,"d":"689.83"}},{"v":0.639913220692649,"d":"63.99%"},{"$f":"[1]网约车!AB26-[1]网约车!AB28","v":{"v":620.61598845894,"d":"620.62"}},{"v":0.558428588803934,"d":"55.84%"},{"$f":"[1]网约车!AD26-[1]网约车!AD28","v":{"v":701.016493095866,"d":"701.02"}},{"$f":"AD128/BF128-1","v":{"v":0.510103278839848,"d":"51.01%"}},{"$f":"[1]网约车!AF26-[1]网约车!AF28","v":{"v":694.139468914751,"d":"694.14"}},{"v":0.510445424840924,"d":"51.04%"},{"$f":"[1]网约车!AH26-[1]网约车!AH28","v":{"v":700.690833479127,"d":"700.69"}},{"v":0.590870662510504,"d":"59.09%"},{"$f":"[1]网约车!AJ26-[1]网约车!AJ28","v":{"v":756.57734342451,"d":"756.58"}},{"$f":"AJ128/BL128-1","v":{"v":0.585708778958362,"d":"58.57%"}},{"$f":"[1]网约车!AL26-[1]网约车!AL28","v":{"v":659.54866583563,"d":"659.55"}},{"v":0.379081674472725,"d":"37.91%"},{"$f":"[1]网约车!AN26-[1]网约车!AN28","v":{"v":689.40982478403,"d":"689.41"}},{"v":0.386286606002108,"d":"38.63%"},{"v":7861.72084380041,"d":"7861.72"},{"v":0.503333968505257,"d":"50.33%"},null,{"v":4732.21700097688,"d":"4732.22"},{"v":476.891164107141,"d":"476.89"},null,{"v":309.417448907389,"d":"309.42"},null,{"v":382.277366094315,"d":"382.28"},null,{"v":425.152973500877,"d":"425.15"},null,{"v":420.649657704255,"d":"420.65"},null,{"v":398.231906753746,"d":"398.23"},null,{"v":464.217582279822,"d":"464.22"},null,{"v":459.559450145546,"d":"459.56"},null,{"v":440.444877129979,"d":"440.44"},null,{"v":477.122504121784,"d":"477.12"},null,{"v":478.252070232026,"d":"478.25"},null,{"v":497.30684967967,"d":"497.31"},null,{"v":5229.52385065655,"d":"5229.52"}]
["鄂州市","总旅客周转量（万人公里）",{"$f":"C130+C131+C132+C133","v":{"v":2964.86125968431,"d":"2964.86"}},{"$f":"C129/R129-1","v":{"v":0.0591029215093497,"d":"5.91%"}},{"v":2605.9371157795,"d":"2605.94"},{"v":0.01019231516368,"d":"1.02%"},{"v":2635.89695802047,"d":"2635.90"},{"v":-0.0206389417557958,"d":"-2.06%"},{"$f":"I130+I131+I132+I133","v":{"v":2666.76453037393,"d":"2666.76"}},{"$f":"I129/X129-1","v":{"v":-0.0458973255180183,"d":"-4.59%"}},{"v":2580.26700282446,"d":"2580.27"},{"v":-0.0723343671470894,"d":"-7.23%"},{"v":2497.35940220533,"d":"2497.36"},{"v":-0.131061438450852,"d":"-13.11%"},{"v":15951.086268888,"d":"15951.09"},{"v":-0.0344989419559495,"d":"-3.45%"},{"v":13647.0103381065,"d":"13647.01"},{"$f":"R130+R131+R132+R133","v":{"v":2799.40806457131,"d":"2799.41"}},{"$f":"R129/AT129-1","v":{"v":0.0732350371293635,"d":"7.32%"}},{"v":2579.64456535909,"d":"2579.64"},{"v":0.0433115154136614,"d":"4.33%"},{"v":2691.4455458808,"d":"2691.45"},{"v":0.014370834699841,"d":"1.44%"},{"$f":"X130+X131+X132+X133","v":{"v":2795.04984285032,"d":"2795.05"}},{"$f":"X129/AZ129-1","v":{"v":-3.10973865273656E-3,"d":"-0.31%"}},{"v":2781.46231944499,"d":"2781.46"},{"v":-0.0259503710605037,"d":"-2.60%"},{"v":2874.03449762089,"d":"2874.03"},{"v":-0.0766091635789572,"d":"-7.66%"},{"$f":"AD130+AD131+AD132+AD133","v":{"v":2593.99710294249,"d":"2594.00"}},{"$f":"AD129/BF129-1","v":{"v":-0.11957593699356,"d":"-11.96%"}},{"v":2549.56348894389,"d":"2549.56"},{"v":-0.126214345897748,"d":"-12.62%"},{"v":2580.52282878808,"d":"2580.52"},{"v":-0.115414691711282,"d":"-11.54%"},{"$f":"AJ130+AJ131+AJ132+AJ133","v":{"v":2590.6398458613,"d":"2590.64"}},{"$f":"AJ129/BL129-1","v":{"v":-0.15478573799813,"d":"-15.48%"}},{"v":2817.9382692674,"d":"2817.94"},{"v":-0.144386453076088,"d":"-14.44%"},{"v":3076.55294764,"d":"3076.55"},{"v":-0.015695707069437,"d":"-1.57%"},{"v":32730.2593191706,"d":"32730.26"},{"v":-0.0587062975090776,"d":"-5.87%"},null,{"v":31645.9577860664,"d":"31645.96"},{"$f":"AT130+AT131+AT132+AT133","v":{"v":2608.38303607664,"d":"2608.38"}},null,{"v":2472.55448372607,"d":"2472.55"},null,{"v":2653.31519185212,"d":"2653.32"},null,{"$f":"AZ130+AZ131+AZ132+AZ133","v":{"v":2803.76883115791,"d":"2803.77"}},null,{"v":2855.56529852933,"d":"2855.57"},null,{"v":3112.47890303993,"d":"3112.48"},null,{"$f":"BF130+BF131+BF132+BF133","v":{"v":2946.30418673997,"d":"2946.30"}},null,{"v":2917.83628739404,"d":"2917.84"},null,{"v":2917.21194621721,"d":"2917.21"},null,{"$f":"BL130+BL131+BL132+BL133","v":{"v":3065.06877880341,"d":"3065.07"}},null,{"v":3293.47084252979,"d":"3293.47"},null,{"v":3125.61163223235,"d":"3125.61"},null,{"v":34771.5694182987,"d":"34771.57"}]
[null,"公路班线旅客周转量（万人公里）",{"$f":"[1]班线包车!C27","v":2574.3453},{"$f":"C130/R130-1","v":{"v":0.129495724550224,"d":"12.95%"}},{"$f":"[1]班线包车!E27","v":2270.4778},{"v":0.0930844269981448,"d":"9.31%"},{"$f":"[1]班线包车!G27","v":2312.8897},{"v":0.0582582718060787,"d":"5.83%"},{"$f":"[1]班线包车!I27","v":2341.8271},{"$f":"I130/X130-1","v":{"v":0.0320148744506605,"d":"3.20%"}},{"$f":"[1]班线包车!K27","v":2329.9036},{"v":0.0449958862236755,"d":"4.50%"},{"$f":"[1]班线包车!M27","v":2252.8378},{"v":-0.0307461038824146,"d":"-3.07%"},{"v":14082.2813,"d":"14082.28"},{"v":0.0536723398877645,"d":"5.37%"},{"v":11040.652,"d":"11040.65"},{"$f":"[1]班线包车!R27","v":2279.1988},{"$f":"R130/AT130-1","v":{"v":0.147362454366242,"d":"14.74%"}},{"$f":"[1]班线包车!T27","v":2077.1294},{"v":0.114477681627351,"d":"11.45%"},{"$f":"[1]班线包车!V27","v":2185.5626},{"v":0.0643295882309314,"d":"6.43%"},{"$f":"[1]班线包车!X27","v":2269.1796},{"$f":"X130/AZ130-1","v":{"v":0.0616915623536283,"d":"6.17%"}},{"$f":"[1]班线包车!Z27","v":2229.5816},{"v":0.0112998358211744,"d":"1.13%"},{"$f":"[1]班线包车!AB27","v":2324.301},{"v":-0.0720794688957723,"d":"-7.21%"},{"$f":"[1]班线包车!AD27","v":2217.5578},{"$f":"AD130/BF130-1","v":{"v":-0.0565924283464996,"d":"-5.66%"}},{"$f":"[1]班线包车!AF27","v":2185.8589},{"v":-0.0700957786600006,"d":"-7.01%"},{"$f":"[1]班线包车!AH27","v":2215.595},{"v":-0.0513909146969619,"d":"-5.14%"},{"$f":"[1]班线包车!AJ27","v":2222.7273},{"$f":"AJ130/BL130-1","v":{"v":-0.0873269968618756,"d":"-8.73%"}},{"$f":"[1]班线包车!AL27","v":2449.5953},{"v":-0.0968519389589312,"d":"-9.69%"},{"$f":"[1]班线包车!AN27","v":2678.3547},{"v":0.0572681606068974,"d":"5.73%"},{"v":27334.642,"d":"27334.64"},{"v":-0.00486764617320534,"d":"-0.49%"},null,{"v":24935.0697,"d":"24935.07"},{"v":1986.468,"d":"1986.47"},null,{"v":1863.7694,"d":"1863.77"},null,2053.4641,null,{"v":2137.3247,"d":"2137.32"},null,{"v":2204.6692,"d":"2204.67"},null,{"v":2504.8492,"d":"2504.85"},null,{"v":2350.583,"d":"2350.58"},null,{"v":2350.628,"d":"2350.63"},null,{"v":2335.6249,"d":"2335.62"},null,{"v":2435.4038,"d":"2435.40"},null,{"v":2712.2854,"d":"2712.29"},null,{"v":2533.2785,"d":"2533.28"},null,{"v":27468.3482,"d":"27468.35"}]
[null,"城际城乡公交旅客周转量（万人公里）",{"$f":"[1]公交!C30-[1]公交!C32","v":199.39},{"$f":"C131/R131-1","v":{"v":-0.207165294842737,"d":"-20.72%"}},{"$f":"[1]公交!E30-[1]公交!E32","v":201.09},{"v":-0.0775688073394499,"d":"-7.76%"},{"$f":"[1]公交!G30-[1]公交!G32","v":203.62},{"v":4.91135013014343e-05,"d":"0.00%"},{"$f":"[1]公交!I30-[1]公交!I32","v":211.85},{"$f":"I131/X131-1","v":{"v":-0.0653401570634428,"d":"-6.53%"}},{"$f":"[1]公交!K30-[1]公交!K32","v":142.04},{"v":-0.389075268817204,"d":"-38.91%"},{"$f":"[1]公交!M30-[1]公交!M32","v":136.32},{"v":-0.400501341307886,"d":"-40.05%"},1094.31,{"v":-0.195153164417313,"d":"-19.52%"},1132.26,{"$f":"[1]公交!R30-[1]公交!R32","v":251.49},{"$f":"R131/AT131-1","v":{"v":-0.195721001631008,"d":"-19.57%"}},{"$f":"[1]公交!T30-[1]公交!T32","v":218},{"v":-0.352270026146898,"d":"-35.23%"},{"$f":"[1]公交!V30-[1]公交!V32","v":203.61},{"v":-0.348864726574992,"d":"-34.89%"},{"$f":"[1]公交!X30-[1]公交!X32","v":226.66},{"$f":"X131/AZ131-1","v":{"v":-0.385328813559322,"d":"-38.53%"}},{"$f":"[1]公交!Z30-[1]公交!Z32","v":232.5},{"v":-0.322315494928297,"d":"-32.23%"},{"$f":"[1]公交!AB30-[1]公交!AB32","v":227.39},{"v":-0.291994893670019,"d":"-29.20%"},{"$f":"[1]公交!AD30-[1]公交!AD32","v":209.81},{"$f":"AD131/BF131-1","v":{"v":-0.320585473268353,"d":"-32.06%"}},{"$f":"[1]公交!AF30-[1]公交!AF32","v":199.41},{"v":-0.294797892279944,"d":"-29.48%"},{"$f":"[1]公交!AH30-[1]公交!AH32","v":199.21},{"v":-0.292477624662594,"d":"-29.25%"},{"$f":"[1]公交!AJ30-[1]公交!AJ32","v":200.55},{"$f":"AJ131/BL131-1","v":{"v":-0.376806189987881,"d":"-37.68%"}},{"$f":"[1]公交!AL30-[1]公交!AL32","v":192.17},{"v":-0.337687403067379,"d":"-33.77%"},{"$f":"[1]公交!AN30-[1]公交!AN32","v":192.17},{"v":-0.305342683632157,"d":"-30.53%"},2552.97,{"v":-0.320420370059813,"d":"-32.04%"},null,3480.05,312.69,null,336.56,null,{"v":312.7,"d":"312.70"},null,368.75,null,343.08,null,321.17,null,308.81,null,282.77,null,281.56,null,321.81,null,290.15,null,276.64,null,3756.69]
[null,"城际城乡巡游出租旅客周转量（万人公里）",{"$f":"[1]出租!C30-[1]出租!C32","v":103.08},{"$f":"C132/R132-1","v":{"v":-0.515942709556234,"d":"-51.59%"}},{"$f":"[1]出租!E30-[1]出租!E32","v":64.34},{"v":-0.656926522341901,"d":"-65.69%"},{"$f":"[1]出租!G30-[1]出租!G32","v":40.55},{"v":-0.795429320956513,"d":"-79.54%"},{"$f":"[1]出租!I30-[1]出租!I32","v":37.87},{"$f":"I132/X132-1","v":{"v":-0.803006658343737,"d":"-80.30%"}},{"$f":"[1]出租!K30-[1]出租!K32","v":33.4},{"v":-0.832261952591402,"d":"-83.23%"},{"$f":"[1]出租!M30-[1]出租!M32","v":32.19},{"v":-0.832037568484216,"d":"-83.20%"},311.43,{"v":-0.736460413634364,"d":"-73.65%"},990.07,{"$f":"[1]出租!R30-[1]出租!R32","v":212.95},{"$f":"R132/AT132-1","v":{"v":0.023109445565485,"d":"2.31%"}},{"$f":"[1]出租!T30-[1]出租!T32","v":187.54},{"v":-0.0585341365461846,"d":"-5.85%"},{"$f":"[1]出租!V30-[1]出租!V32","v":198.22},{"v":2.2753703797338E-3,"d":"0.23%"},{"$f":"[1]出租!X30-[1]出租!X32","v":192.24},{"$f":"X132/AZ132-1","v":{"v":-0.0309507006754712,"d":"-3.10%"}},{"$f":"[1]出租!Z30-[1]出租!Z32","v":199.12},{"v":-0.0405242615525466,"d":"-4.05%"},{"$f":"[1]出租!AB30-[1]出租!AB32","v":191.65},{"v":-0.0111449357618287,"d":"-1.11%"},{"$f":"[1]出租!AD30-[1]出租!AD32","v":86.17},{"$f":"AD132/BF132-1","v":{"v":-0.542452078797855,"d":"-54.25%"}},{"$f":"[1]出租!AF30-[1]出租!AF32","v":85.1900000000001},{"v":-0.54760766820668,"d":"-54.76%"},{"$f":"[1]出租!AH30-[1]出租!AH32","v":86.9999999999999},{"v":-0.546851398510339,"d":"-54.69%"},{"$f":"[1]出租!AJ30-[1]出租!AJ32","v":85.48},{"$f":"AJ132/BL132-1","v":{"v":-0.570517007486309,"d":"-57.05%"}},{"$f":"[1]出租!AL30-[1]出租!AL32","v":94.95},{"v":-0.491919948630137,"d":"-49.19%"},{"$f":"[1]出租!AN30-[1]出租!AN32","v":119.1},{"v":-0.402138446865117,"d":"-40.21%"},1739.61,{"v":-0.262433328528182,"d":"-26.24%"},null,2159.37,208.14,null,{"v":199.2,"d":"199.20"},null,197.77,null,198.38,null,207.53,null,193.81,null,188.33,null,188.31,null,191.99,null,199.03,null,186.88,null,199.21,null,2358.58]
[null,"城际城乡网约车旅客周转量(万人公里)",{"$f":"[1]网约车!C30-[1]网约车!C32","v":{"v":88.045959684313,"d":"88.05"}},{"$f":"C133/R133-1","v":{"v":0.578754182274087,"d":"57.88%"}},{"$f":"[1]网约车!E30-[1]网约车!E32","v":{"v":70.029315779502,"d":"70.03"}},{"v":-0.277863404303656,"d":"-27.79%"},{"$f":"[1]网约车!G30-[1]网约车!G32","v":{"v":78.837258020473,"d":"78.84"}},{"v":-0.242335165495614,"d":"-24.23%"},{"$f":"[1]网约车!I30-[1]网约车!I32","v":{"v":75.217430373931,"d":"75.22"}},{"$f":"I133/X133-1","v":{"v":-0.296837808630745,"d":"-29.68%"}},{"$f":"[1]网约车!K30-[1]网约车!K32","v":{"v":74.923402824463,"d":"74.92"}},{"v":-0.376991895855626,"d":"-37.70%"},{"$f":"[1]网约车!M30-[1]网约车!M32","v":{"v":76.011602205327,"d":"76.01"}},{"v":-0.418397980090676,"d":"-41.84%"},{"v":463.064968888009,"d":"463.06"},{"v":-0.246708117436473,"d":"-24.67%"},{"v":484.028338106517,"d":"484.03"},{"$f":"[1]网约车!R30-[1]网约车!R32","v":{"v":55.7692645713146,"d":"55.77"}},{"$f":"R133/AT133-1","v":{"v":-0.448293568110004,"d":"-44.83%"}},{"$f":"[1]网约车!T30-[1]网约车!T32","v":{"v":96.9751653590882,"d":"96.98"}},{"v":0.327970615177396,"d":"32.80%"},{"$f":"[1]网约车!V30-[1]网约车!V32","v":{"v":104.052945880804,"d":"104.05"}},{"v":0.164149415996825,"d":"16.41%"},{"$f":"[1]网约车!X30-[1]网约车!X32","v":{"v":106.970242850318,"d":"106.97"}},{"$f":"X133/AZ133-1","v":{"v":0.0770898522007666,"d":"7.71%"}},{"$f":"[1]网约车!Z30-[1]网约车!Z32","v":{"v":120.260719444992,"d":"120.26"}},{"v":0.199176368495629,"d":"19.92%"},{"$f":"[1]网约车!AB30-[1]网约车!AB32","v":{"v":130.693497620895,"d":"130.69"}},{"v":0.410619714178287,"d":"41.06%"},{"$f":"[1]网约车!AD30-[1]网约车!AD32","v":{"v":80.459302942486,"d":"80.46"}},{"$f":"AD133/BF133-1","v":{"v":-0.183826999823827,"d":"-18.38%"}},{"$f":"[1]网约车!AF30-[1]网约车!AF32","v":{"v":79.104588943886,"d":"79.10"}},{"v":-0.177093537309899,"d":"-17.71%"},{"$f":"[1]网约车!AH30-[1]网约车!AH32","v":{"v":78.717828788079,"d":"78.72"}},{"v":-0.271381146150394,"d":"-27.14%"},{"$f":"[1]网约车!AJ30-[1]网约车!AJ32","v":{"v":81.882545861298,"d":"81.88"}},{"$f":"AJ133/BL133-1","v":{"v":-0.247575816125654,"d":"-24.76%"}},{"$f":"[1]网约车!AL30-[1]网约车!AL32","v":{"v":81.222969267398,"d":"81.22"}},{"v":-0.220175467602989,"d":"-22.02%"},{"$f":"[1]网约车!AN30-[1]网约车!AN32","v":{"v":86.928247640003,"d":"86.93"}},{"v":-0.253726733012221,"d":"-25.37%"},{"v":1103.03731917056,"d":"1103.04"},{"v":-0.0714792811524687,"d":"-7.15%"},null,{"v":1071.46808606641,"d":"1071.47"},{"v":101.08503607664,"d":"101.09"},null,{"v":73.0250837260686,"d":"73.03"},null,{"v":89.3810918521197,"d":"89.38"},null,{"v":99.3141311579074,"d":"99.31"},null,{"v":100.286098529326,"d":"100.29"},null,{"v":92.6497030399341,"d":"92.65"},null,{"v":98.5811867399665,"d":"98.58"},null,{"v":96.1282873940389,"d":"96.13"},null,{"v":108.037046217208,"d":"108.04"},null,{"v":108.824978803409,"d":"108.82"},null,{"v":104.155442529791,"d":"104.16"},null,{"v":116.483132232347,"d":"116.48"},null,{"v":1187.95121829876,"d":"1187.95"}]
["荆门市","总旅客周转量（万人公里）",{"$f":"C135+C136+C137+C138","v":{"v":3471.48980866989,"d":"3471.49"}},{"$f":"C134/R134-1","v":{"v":-0.227175020116062,"d":"-22.72%"}},{"v":3905.09050423355,"d":"3905.09"},{"v":-0.0931280048007863,"d":"-9.31%"},{"v":3939.39042616537,"d":"3939.39"},{"v":-0.160459046143747,"d":"-16.05%"},{"$f":"I135+I136+I137+I138","v":{"v":3991.33101393484,"d":"3991.33"}},{"$f":"I134/X134-1","v":{"v":-0.199970435495078,"d":"-20.00%"}},{"v":4041.77692035316,"d":"4041.78"},{"v":-0.0472374598982815,"d":"-4.72%"},{"v":3548.20103709345,"d":"3548.20"},{"v":-0.150646585557169,"d":"-15.06%"},{"v":22897.2797104503,"d":"22897.28"},{"v":-0.148769960793238,"d":"-14.88%"},{"v":22721.5184175663,"d":"22721.52"},{"$f":"R135+R136+R137+R138","v":{"v":4491.94824058512,"d":"4491.95"}},{"$f":"R134/AT134-1","v":{"v":-0.02550216305534,"d":"-2.55%"}},{"v":4306.10993051529,"d":"4306.11"},{"v":-0.0593207786157092,"d":"-5.93%"},{"v":4692.31477996472,"d":"4692.31"},{"v":-0.0143071736648978,"d":"-1.43%"},{"$f":"X135+X136+X137+X138","v":{"v":4988.97939653615,"d":"4988.98"}},{"$f":"X134/AZ134-1","v":{"v":-0.016139046819678,"d":"-1.61%"}},{"v":4242.16606996498,"d":"4242.17"},{"v":-0.174049759184277,"d":"-17.40%"},{"v":4177.53196344191,"d":"4177.53"},{"v":-0.113917554660366,"d":"-11.39%"},{"$f":"AD135+AD136+AD137+AD138","v":{"v":4306.92418622666,"d":"4306.92"}},{"$f":"AD134/BF134-1","v":{"v":-0.126170074395012,"d":"-12.62%"}},{"v":4297.65127836254,"d":"4297.65"},{"v":-0.137893323516456,"d":"-13.79%"},{"v":4504.1587022152,"d":"4504.16"},{"v":-0.0667245691333337,"d":"-6.67%"},{"$f":"AJ135+AJ136+AJ137+AJ138","v":{"v":4509.96085575223,"d":"4509.96"}},{"$f":"AJ134/BL134-1","v":{"v":-0.220123828424412,"d":"-22.01%"}},{"v":4250.99566210144,"d":"4251.00"},{"v":-0.173121284106758,"d":"-17.31%"},{"v":3936.88604519534,"d":"3936.89"},{"v":-0.126996173271467,"d":"-12.70%"},{"v":52705.6271108616,"d":"52705.63"},{"v":-0.107329806508137,"d":"-10.73%"},null,{"v":54533.0786707255,"d":"54533.08"},{"$f":"AT135+AT136+AT137+AT138","v":{"v":4609.50047325781,"d":"4609.50"}},null,{"v":4577.66030398596,"d":"4577.66"},null,{"v":4760.42297823266,"d":"4760.42"},null,{"$f":"AZ135+AZ136+AZ137+AZ138","v":{"v":5070.81755852726,"d":"5070.82"}},null,{"v":5136.10367832249,"d":"5136.10"},null,{"v":4714.60865229157,"d":"4714.61"},null,{"$f":"BF135+BF136+BF137+BF138","v":{"v":4928.78998535648,"d":"4928.79"}},null,{"v":4985.05741295529,"d":"4985.06"},null,{"v":4826.18373231202,"d":"4826.18"},null,{"$f":"BL135+BL136+BL137+BL138","v":{"v":5782.91916092362,"d":"5782.92"}},null,{"v":5141.01473456028,"d":"5141.01"},null,{"v":4509.58624081672,"d":"4509.59"},null,{"v":59042.6649115422,"d":"59042.66"}]
[null,"公路班线旅客周转量（万人公里）",{"$f":"[1]班线包车!C29","v":2914.7385},{"$f":"C135/R135-1","v":{"v":-0.288585165740723,"d":"-28.86%"}},{"$f":"[1]班线包车!E29","v":3370.793718},{"v":-0.146439565856293,"d":"-14.64%"},{"$f":"[1]班线包车!G29","v":3406.832473},{"v":-0.199467070043567,"d":"-19.95%"},{"$f":"[1]班线包车!I29","v":3476.813709},{"$f":"I135/X135-1","v":{"v":-0.237051830282796,"d":"-23.71%"}},{"$f":"[1]班线包车!K29","v":3514.446795},{"v":-0.0775268960298409,"d":"-7.75%"},{"$f":"[1]班线包车!M29","v":3038.760275},{"v":-0.192301246176285,"d":"-19.23%"},{"v":19722.38547,"d":"19722.39"},{"v":-0.192732328226819,"d":"-19.27%"},{"v":20668.7913,"d":"20668.79"},{"$f":"[1]班线包车!R29","v":4097.1011},{"$f":"R135/AT135-1","v":{"v":-0.02819078518468,"d":"-2.82%"}},{"$f":"[1]班线包车!T29","v":3949.0979},{"v":-0.0720586297782656,"d":"-7.21%"},{"$f":"[1]班线包车!V29","v":4255.7056},{"v":-0.0285273636045149,"d":"-2.85%"},{"$f":"[1]班线包车!X29","v":4557.0772},{"$f":"X135/AZ135-1","v":{"v":-0.0373947531404016,"d":"-3.74%"}},{"$f":"[1]班线包车!Z29","v":3809.8095},{"v":-0.20312199783163,"d":"-20.31%"},{"$f":"[1]班线包车!AB29","v":3762.2446},{"v":-0.135034877186501,"d":"-13.50%"},{"$f":"[1]班线包车!AD29","v":3863.2014},{"$f":"AD135/BF135-1","v":{"v":-0.147066223046473,"d":"-14.71%"}},{"$f":"[1]班线包车!AF29","v":3833.8786},{"v":-0.166638459579142,"d":"-16.66%"},{"$f":"[1]班线包车!AH29","v":4060.267},{"v":-0.0869129109602758,"d":"-8.69%"},{"$f":"[1]班线包车!AJ29","v":3956.287441},{"$f":"AJ135/BL135-1","v":{"v":-0.264870761275633,"d":"-26.49%"}},{"$f":"[1]班线包车!AL29","v":3699.532092},{"v":-0.220925584181761,"d":"-22.09%"},{"$f":"[1]班线包车!AN29","v":3376.6286},{"v":-0.173149634332527,"d":"-17.31%"},{"v":47220.831033,"d":"47220.83"},{"v":-0.133684640600996,"d":"-13.37%"},null,{"v":50423.9453,"d":"50423.95"},{"v":4215.9521,"d":"4215.95"},null,{"v":4255.7623,"d":"4255.76"},null,4380.6747,null,{"v":4734.108,"d":"4734.11"},null,{"v":4780.9194,"d":"4780.92"},null,{"v":4349.5911,"d":"4349.59"},null,{"v":4529.3099,"d":"4529.31"},null,{"v":4600.4986,"d":"4600.50"},null,{"v":4446.7467,"d":"4446.75"},null,{"v":5381.7577,"d":"5381.76"},null,{"v":4748.6248,"d":"4748.62"},null,{"v":4083.7239,"d":"4083.72"},null,{"v":54507.6692,"d":"54507.67"}]
[null,"城际城乡公交旅客周转量（万人公里）",{"$f":"[1]公交!C34-[1]公交!C36","v":83.2800000000002},{"$f":"C136/R136-1","v":{"v":29.8444444444414,"d":"2984.44%"}},{"$f":"[1]公交!E34-[1]公交!E36","v":81.8399999999997},{"v":31.9999999999996,"d":"3200.00%"},{"$f":"[1]公交!G34-[1]公交!G36","v":82.2800000000002},{"v":0.237479320198533,"d":"23.75%"},{"$f":"[1]公交!I34-[1]公交!I36","v":81.3000000000002},{"$f":"I136/X136-1","v":{"v":0.237819732034111,"d":"23.78%"}},{"$f":"[1]公交!K34-[1]公交!K36","v":78.6900000000001},{"v":0.20009150526155,"d":"20.01%"},{"$f":"[1]公交!M34-[1]公交!M36","v":78.5599999999999},{"v":0.18170878459687,"d":"18.17%"},485.95,{"v":0.803823311061619,"d":"80.38%"},202.92,{"$f":"[1]公交!R34-[1]公交!R36","v":2.70000000000027},{"$f":"R136/AT136-1","v":{"v":1.09302325581423,"d":"109.30%"}},{"$f":"[1]公交!T34-[1]公交!T36","v":2.48000000000002},{"v":1.06666666666622,"d":"106.67%"},{"$f":"[1]公交!V34-[1]公交!V36","v":66.4899999999998},{"v":33.8115183246099,"d":"3381.15%"},{"$f":"[1]公交!X34-[1]公交!X36","v":65.6799999999998},{"$f":"X136/AZ136-1","v":{"v":27.5565217391337,"d":"2755.65%"}},{"$f":"[1]公交!Z34-[1]公交!Z36","v":65.5700000000002},{"v":23.5580524344563,"d":"2355.81%"},{"$f":"[1]公交!AB34-[1]公交!AB36","v":66.48},{"v":23.7137546468397,"d":"2371.38%"},{"$f":"[1]公交!AD34-[1]公交!AD36","v":63.1100000000001},{"$f":"AD136/BF136-1","v":{"v":26.320346320347,"d":"2632.03%"}},{"$f":"[1]公交!AF34-[1]公交!AF36","v":65.29},{"v":23.9198473282409,"d":"2391.98%"},{"$f":"[1]公交!AH34-[1]公交!AH36","v":78.4000000000001},{"v":29.9881422924932,"d":"2998.81%"},{"$f":"[1]公交!AJ34-[1]公交!AJ36","v":87.1700000000001},{"$f":"AJ136/BL136-1","v":{"v":33.0507812500007,"d":"3305.08%"}},{"$f":"[1]公交!AL34-[1]公交!AL36","v":79.4900000000002},{"v":30.9236947791194,"d":"3092.37%"},{"$f":"[1]公交!AN34-[1]公交!AN36","v":87.3400000000001},{"v":32.5923076923089,"d":"3259.23%"},{"v":730.200000000001,"d":"730.20"},{"v":25.8752300331252,"d":"2587.52%"},null,{"v":24.5699999999997,"d":"24.57"},{"v":1.28999999999996,"d":"1.29"},null,{"v":1.20000000000027,"d":"1.20"},null,{"v":1.90999999999985,"d":"1.91"},null,{"v":2.29999999999973,"d":"2.30"},null,{"v":2.67000000000007,"d":"2.67"},null,{"v":2.69000000000005,"d":"2.69"},null,{"v":2.30999999999995,"d":"2.31"},null,{"v":2.62000000000035,"d":"2.62"},null,{"v":2.52999999999975,"d":"2.53"},null,{"v":2.55999999999995,"d":"2.56"},null,{"v":2.48999999999978,"d":"2.49"},null,{"v":2.59999999999991,"d":"2.60"},null,{"v":27.1699999999996,"d":"27.17"}]
[null,"城际城乡巡游出租旅客周转量（万人公里）",{"$f":"[1]出租!C34-[1]出租!C36","v":271.46},{"$f":"C137/R137-1","v":{"v":-0.164558520296679,"d":"-16.46%"}},{"$f":"[1]出租!E34-[1]出租!E36","v":287.09},{"v":0.008394801545486,"d":"0.84%"},{"$f":"[1]出租!G34-[1]出租!G36","v":269.54},{"v":-0.0594926550123869,"d":"-5.95%"},{"$f":"[1]出租!I34-[1]出租!I36","v":253.35},{"$f":"I137/X137-1","v":{"v":-0.0758708736093386,"d":"-7.59%"}},{"$f":"[1]出租!K34-[1]出租!K36","v":263.01},{"v":-0.0130956848030019,"d":"-1.31%"},{"$f":"[1]出租!M34-[1]出租!M36","v":242.95},{"v":-0.0436545425917175,"d":"-4.37%"},{"v":1587.4,"d":"1587.40"},{"v":-0.0612155584862589,"d":"-6.12%"},1436.87,{"$f":"[1]出租!R34-[1]出租!R36","v":324.93},{"$f":"R137/AT137-1","v":{"v":0.170244183533818,"d":"17.02%"}},{"$f":"[1]出租!T34-[1]出租!T36","v":284.7},{"v":0.0742180130551262,"d":"7.42%"},{"$f":"[1]出租!V34-[1]出租!V36","v":286.59},{"v":0.00279925819657745,"d":"0.28%"},{"$f":"[1]出租!X34-[1]出租!X36","v":274.15},{"$f":"X137/AZ137-1","v":{"v":0.18602638979018,"d":"18.60%"}},{"$f":"[1]出租!Z34-[1]出租!Z36","v":266.5},{"v":0.0644671672791179,"d":"6.45%"},{"$f":"[1]出租!AB34-[1]出租!AB36","v":254.04},{"v":-0.0777273552368852,"d":"-7.77%"},{"$f":"[1]出租!AD34-[1]出租!AD36","v":269.39},{"$f":"AD137/BF137-1","v":{"v":-0.0666273993486242,"d":"-6.66%"}},{"$f":"[1]出租!AF34-[1]出租!AF36","v":278.18},{"v":0.0116740008000875,"d":"1.17%"},{"$f":"[1]出租!AH34-[1]出租!AH36","v":254.19},{"v":-0.0594264569842736,"d":"-5.94%"},{"$f":"[1]出租!AJ34-[1]出租!AJ36","v":281.83},{"$f":"AJ137/BL137-1","v":{"v":-0.00575037042263482,"d":"-0.58%"}},{"$f":"[1]出租!AL34-[1]出租!AL36","v":265.57},{"v":-0.00762303351892712,"d":"-0.76%"},{"$f":"[1]出租!AN34-[1]出租!AN36","v":281.75},{"v":-0.0167510033153028,"d":"-1.68%"},3321.82,{"v":0.0199330651846845,"d":"1.99%"},null,2970.35,277.66,null,265.03,null,285.79,null,231.15,null,250.36,null,275.45,null,288.62,null,274.97,null,270.25,null,283.46,null,267.61,null,286.55,null,{"v":3256.9,"d":"3256.90"}]
[null,"城际城乡网约车旅客周转量(万人公里)",{"$f":"[1]网约车!C34-[1]网约车!C36","v":{"v":202.011308669887,"d":"202.01"}},{"$f":"C138/R138-1","v":{"v":2.00535409437813,"d":"200.54%"}},{"$f":"[1]网约车!E34-[1]网约车!E36","v":{"v":165.366786233547,"d":"165.37"}},{"v":1.36806498412425,"d":"136.81%"},{"$f":"[1]网约车!G34-[1]网约车!G36","v":{"v":180.737953165373,"d":"180.74"}},{"v":1.16377023265062,"d":"116.38%"},{"$f":"[1]网约车!I34-[1]网约车!I36","v":{"v":179.86730493484,"d":"179.87"}},{"$f":"I138/X138-1","v":{"v":0.953546365804634,"d":"95.35%"}},{"$f":"[1]网约车!K34-[1]网约车!K36","v":{"v":185.630125353162,"d":"185.63"}},{"v":0.850996852499575,"d":"85.10%"},{"$f":"[1]网约车!M34-[1]网约车!M36","v":{"v":187.930762093451,"d":"187.93"}},{"v":0.983074713360047,"d":"98.31%"},{"v":1101.54424045026,"d":"1101.54"},{"v":1.1696563289394,"d":"116.97%"},{"v":412.937117566257,"d":"412.94"},{"$f":"[1]网约车!R34-[1]网约车!R36","v":{"v":67.217140585122,"d":"67.22"}},{"$f":"R138/AT138-1","v":{"v":-0.413454670653098,"d":"-41.35%"}},{"$f":"[1]网约车!T34-[1]网约车!T36","v":{"v":69.832030515287,"d":"69.83"}},{"v":0.254437477817623,"d":"25.44%"},{"$f":"[1]网约车!V34-[1]网约车!V36","v":{"v":83.529179964718,"d":"83.53"}},{"v":-0.0925503271925666,"d":"-9.26%"},{"$f":"[1]网约车!X34-[1]网约车!X36","v":{"v":92.072196536147,"d":"92.07"}},{"$f":"X138/AZ138-1","v":{"v":-0.108342144307765,"d":"-10.83%"}},{"$f":"[1]网约车!Z34-[1]网约车!Z36","v":{"v":100.286569964983,"d":"100.29"}},{"v":-0.0182832122959626,"d":"-1.83%"},{"$f":"[1]网约车!AB34-[1]网约车!AB36","v":{"v":94.767363441909,"d":"94.77"}},{"v":0.0908153020225333,"d":"9.08%"},{"$f":"[1]网约车!AD34-[1]网约车!AD36","v":{"v":111.222786226664,"d":"111.22"}},{"$f":"AD138/BF138-1","v":{"v":0.0246218219120495,"d":"2.46%"}},{"$f":"[1]网约车!AF34-[1]网约车!AF36","v":{"v":120.302678362538,"d":"120.30"}},{"v":0.124651896556242,"d":"12.47%"},{"$f":"[1]网约车!AH34-[1]网约车!AH36","v":{"v":111.301702215198,"d":"111.30"}},{"v":0.0435477136621254,"d":"4.35%"},{"$f":"[1]网约车!AJ34-[1]网约车!AJ36","v":{"v":184.673414752227,"d":"184.67"}},{"$f":"AJ138/BL138-1","v":{"v":0.603882852196308,"d":"60.39%"}},{"$f":"[1]网约车!AL34-[1]网约车!AL36","v":{"v":206.403570101442,"d":"206.40"}},{"v":0.687821412642033,"d":"68.78%"},{"$f":"[1]网约车!AN34-[1]网约车!AN36","v":{"v":191.167445195341,"d":"191.17"}},{"v":0.398318864656248,"d":"39.83%"},{"v":1432.77607786158,"d":"1432.78"},{"v":0.145372634554932,"d":"14.54%"},null,{"v":1114.21337072546,"d":"1114.21"},{"v":114.598373257811,"d":"114.60"},null,{"v":55.6680039859584,"d":"55.67"},null,{"v":92.0482782326634,"d":"92.05"},null,{"v":103.259558527264,"d":"103.26"},null,{"v":102.154278322494,"d":"102.15"},null,{"v":86.8775522915715,"d":"86.88"},null,{"v":108.550085356479,"d":"108.55"},null,{"v":106.968812955291,"d":"106.97"},null,{"v":106.657032312022,"d":"106.66"},null,{"v":115.141460923621,"d":"115.14"},null,{"v":122.289934560285,"d":"122.29"},null,{"v":136.712340816725,"d":"136.71"},null,{"v":1250.92571154219,"d":"1250.93"}]
["孝感市","总旅客周转量（万人公里）",{"$f":"C140+C141+C142+C143","v":{"v":7249.6040517983,"d":"7249.60"}},{"$f":"C139/R139-1","v":{"v":0.0749694969423671,"d":"7.50%"}},{"v":7308.98776331239,"d":"7308.99"},{"v":0.0854477105738243,"d":"8.54%"},{"v":7667.83363128615,"d":"7667.83"},{"v":0.0302509879479249,"d":"3.03%"},{"$f":"I140+I141+I142+I143","v":{"v":8179.83692478876,"d":"8179.84"}},{"$f":"I139/X139-1","v":{"v":0.0251243964002112,"d":"2.51%"}},{"v":8473.86433349717,"d":"8473.86"},{"v":-0.14645958688382,"d":"-14.65%"},{"v":9044.94766856313,"d":"9044.95"},{"v":0.0700374257926135,"d":"7.00%"},{"v":47925.0743732459,"d":"47925.07"},{"v":0.013633046143394,"d":"1.36%"},{"v":38827.5707146326,"d":"38827.57"},{"$f":"R140+R141+R142+R143","v":{"v":6744.00908343818,"d":"6744.01"}},{"$f":"R139/AT139-1","v":{"v":-0.0381188144830993,"d":"-3.81%"}},{"v":6733.6157164572,"d":"6733.62"},{"v":0.00910252777602016,"d":"0.91%"},{"v":7442.68505537578,"d":"7442.69"},{"v":-0.0224555455194824,"d":"-2.25%"},{"$f":"X140+X141+X142+X143","v":{"v":7979.36031325834,"d":"7979.36"}},{"$f":"X139/AZ139-1","v":{"v":-0.0678548245293608,"d":"-6.79%"}},{"v":9927.90054610308,"d":"9927.90"},{"v":0.201332306483649,"d":"20.13%"},{"v":8452.92645896308,"d":"8452.93"},{"v":0.14630223608763,"d":"14.63%"},{"$f":"AD140+AD141+AD142+AD143","v":{"v":7939.25833918331,"d":"7939.26"}},{"$f":"AD139/BF139-1","v":{"v":0.0930885406764106,"d":"9.31%"}},{"v":7583.25641223087,"d":"7583.26"},{"v":0.119526609462344,"d":"11.95%"},{"v":7752.58267333206,"d":"7752.58"},{"v":0.1225083946196,"d":"12.25%"},{"$f":"AJ140+AJ141+AJ142+AJ143","v":{"v":8340.69746300579,"d":"8340.70"}},{"$f":"AJ139/BL139-1","v":{"v":0.0336528478648008,"d":"3.37%"}},{"v":8788.63573447539,"d":"8788.64"},{"v":0.120720847489762,"d":"12.07%"},{"v":7580.38412118249,"d":"7580.38"},{"v":0.115982728413843,"d":"11.60%"},{"v":95265.3119170056,"d":"95265.31"},{"v":0.0686786998937348,"d":"6.87%"},null,{"v":82350.5169948772,"d":"82350.52"},{"$f":"AT140+AT141+AT142+AT143","v":{"v":7011.27039907122,"d":"7011.27"}},null,{"v":6672.87568023196,"d":"6672.88"},null,{"v":7613.6538049627,"d":"7613.65"},null,{"$f":"AZ140+AZ141+AZ142+AZ143","v":{"v":8560.21199619423,"d":"8560.21"}},null,{"v":8264.07522092073,"d":"8264.08"},null,{"v":7374.08180220708,"d":"7374.08"},null,{"$f":"BF140+BF141+BF142+BF143","v":{"v":7263.14296028613,"d":"7263.14"}},null,{"v":6773.62766381475,"d":"6773.63"},null,{"v":6906.48079826547,"d":"6906.48"},null,{"$f":"BL140+BL141+BL142+BL143","v":{"v":8069.14766426177,"d":"8069.15"}},null,{"v":7841.9490046612,"d":"7841.95"},null,{"v":6792.56401392212,"d":"6792.56"},null,{"v":89143.0810087994,"d":"89143.08"}]
[null,"公路班线旅客周转量（万人公里）",{"$f":"[1]班线包车!C33","v":2820.2439},{"$f":"C140/R140-1","v":{"v":-0.0637120114872203,"d":"-6.37%"}},{"$f":"[1]班线包车!E33","v":2880.7429},{"v":-0.0501748455774035,"d":"-5.02%"},{"$f":"[1]班线包车!G33","v":3223.1066},{"v":-0.132084155701053,"d":"-13.21%"},{"$f":"[1]班线包车!I33","v":3740.0259},{"$f":"I140/X140-1","v":{"v":-0.122717918350702,"d":"-12.27%"}},{"$f":"[1]班线包车!K33","v":3834.7599},{"v":-0.213665149003482,"d":"-21.37%"},{"$f":"[1]班线包车!M33","v":4215.6505},{"v":0.0924055557055636,"d":"9.24%"},{"v":20714.5297,"d":"20714.53"},{"v":-0.0897789311125213,"d":"-8.98%"},{"v":18898.63826,"d":"18898.64"},{"$f":"[1]班线包车!R33","v":3012.15431},{"$f":"R140/AT140-1","v":{"v":-0.0616477642925111,"d":"-6.16%"}},{"$f":"[1]班线包车!T33","v":3032.91915},{"v":-0.0778028153031528,"d":"-7.78%"},{"$f":"[1]班线包车!V33","v":3713.6165},{"v":-0.0767689692729214,"d":"-7.68%"},{"$f":"[1]班线包车!X33","v":4263.1965},{"$f":"X140/AZ140-1","v":{"v":-0.150641720073858,"d":"-15.06%"}},{"$f":"[1]班线包车!Z33","v":4876.7518},{"v":0.0652863039848803,"d":"6.53%"},{"$f":"[1]班线包车!AB33","v":3859.0526},{"v":0.0251967831628375,"d":"2.52%"},{"$f":"[1]班线包车!AD33","v":3570.2202},{"$f":"AD140/BF140-1","v":{"v":-0.0367772457327007,"d":"-3.68%"}},{"$f":"[1]班线包车!AF33","v":3408.068},{"v":-0.00891138969283167,"d":"-0.89%"},{"$f":"[1]班线包车!AH33","v":3530.7566},{"v":0.0204612392363326,"d":"2.05%"},{"$f":"[1]班线包车!AJ33","v":3837.5662},{"$f":"AJ140/BL140-1","v":{"v":-0.114907271443536,"d":"-11.49%"}},{"$f":"[1]班线包车!AL33","v":4288.0104},{"v":-0.00795569940677154,"d":"-0.80%"},{"$f":"[1]班线包车!AN33","v":3095.6344},{"v":-0.0559796101668488,"d":"-5.60%"},{"v":44487.94666,"d":"44487.95"},{"v":-0.0417294361778934,"d":"-4.17%"},null,{"v":43146.0431,"d":"43146.04"},{"v":3210.0465,"d":"3210.05"},null,{"v":3288.7968,"d":"3288.80"},null,4022.413,null,{"v":5019.3147,"d":"5019.31"},null,{"v":4577.879,"d":"4577.88"},null,{"v":3764.2067,"d":"3764.21"},null,{"v":3706.5364,"d":"3706.54"},null,{"v":3438.7117,"d":"3438.71"},null,{"v":3459.9615,"d":"3459.96"},null,{"v":4335.7787,"d":"4335.78"},null,{"v":4322.3981,"d":"4322.40"},null,{"v":3279.2029,"d":"3279.20"},null,{"v":46425.246,"d":"46425.25"}]
[null,"城际城乡公交旅客周转量（万人公里）",{"$f":"[1]公交!C38-[1]公交!C40","v":2885.33},{"$f":"C141/R141-1","v":{"v":0.142736630322425,"d":"14.27%"}},{"$f":"[1]公交!E38-[1]公交!E40","v":2972.9},{"v":0.183083682208179,"d":"18.31%"},{"$f":"[1]公交!G38-[1]公交!G40","v":2951.58},{"v":0.144058730503271,"d":"14.41%"},{"$f":"[1]公交!I38-[1]公交!I40","v":2954.95},{"$f":"I141/X141-1","v":{"v":0.15354286138123,"d":"15.35%"}},{"$f":"[1]公交!K38-[1]公交!K40","v":3065.71},{"v":-0.0992451865585031,"d":"-9.92%"},{"$f":"[1]公交!M38-[1]公交!M40","v":3184.74},{"v":0.0170469061366305,"d":"1.70%"},18015.21,{"v":0.0778405388960388,"d":"7.78%"},13582.81,{"$f":"[1]公交!R38-[1]公交!R40","v":2524.93},{"$f":"R141/AT141-1","v":{"v":0.0636613713818712,"d":"6.37%"}},{"$f":"[1]公交!T38-[1]公交!T40","v":2512.84},{"v":0.152129259435865,"d":"15.21%"},{"$f":"[1]公交!V38-[1]公交!V40","v":2579.92},{"v":0.0804363758192517,"d":"8.04%"},{"$f":"[1]公交!X38-[1]公交!X40","v":2561.63},{"$f":"X141/AZ141-1","v":{"v":0.0889570943346498,"d":"8.90%"}},{"$f":"[1]公交!Z38-[1]公交!Z40","v":3403.49},{"v":0.409271780942167,"d":"40.93%"},{"$f":"[1]公交!AB38-[1]公交!AB40","v":3131.36},{"v":0.336406159308956,"d":"33.64%"},{"$f":"[1]公交!AD38-[1]公交!AD40","v":2956.16},{"$f":"AD141/BF141-1","v":{"v":0.273586572057575,"d":"27.36%"}},{"$f":"[1]公交!AF38-[1]公交!AF40","v":2807.12},{"v":0.295801174341741,"d":"29.58%"},{"$f":"[1]公交!AH38-[1]公交!AH40","v":2860.73},{"v":0.253502118579084,"d":"25.35%"},{"$f":"[1]公交!AJ38-[1]公交!AJ40","v":2911.41},{"$f":"AJ141/BL141-1","v":{"v":0.161571791066214,"d":"16.16%"}},{"$f":"[1]公交!AL38-[1]公交!AL40","v":2952.38},{"v":0.25966600960841,"d":"25.97%"},{"$f":"[1]公交!AN38-[1]公交!AN40","v":2873.04},{"v":0.254810841973777,"d":"25.48%"},34075.01,{"v":0.218586232965725,"d":"21.86%"},null,25673.12,2373.81,null,2181.04,null,2387.85,null,2352.37,null,2415.07,null,2343.12,null,2321.13,null,2166.32,null,2282.19,null,2506.44,null,2343.78,null,2289.62,null,27962.74]
[null,"城际城乡巡游出租旅客周转量（万人公里）",{"$f":"[1]出租!C38-[1]出租!C40","v":1121.76},{"$f":"C142/R142-1","v":{"v":0.0589434731714686,"d":"5.89%"}},{"$f":"[1]出租!E38-[1]出租!E40","v":1124.15},{"v":0.0805602014725952,"d":"8.06%"},{"$f":"[1]出租!G38-[1]出租!G40","v":1060.44},{"v":0.0857710383241008,"d":"8.58%"},{"$f":"[1]出租!I38-[1]出租!I40","v":1044.19},{"$f":"I142/X142-1","v":{"v":0.0883214341549843,"d":"8.83%"}},{"$f":"[1]出租!K38-[1]出租!K40","v":1088.57},{"v":-0.233309621574414,"d":"-23.33%"},{"$f":"[1]出租!M38-[1]出租!M40","v":1162.59},{"v":-0.0623139895955154,"d":"-6.23%"},{"v":6601.7,"d":"6601.70"},{"v":-0.0140035188022932,"d":"-1.40%"},5455.61,{"$f":"[1]出租!R38-[1]出租!R40","v":1059.32},{"$f":"R142/AT142-1","v":{"v":-0.124036648695135,"d":"-12.40%"}},{"$f":"[1]出租!T38-[1]出租!T40","v":1040.34},{"v":-0.0309347491965906,"d":"-3.09%"},{"$f":"[1]出租!V38-[1]出租!V40","v":976.67},{"v":-0.0575321579866637,"d":"-5.75%"},{"$f":"[1]出租!X38-[1]出租!X40","v":959.45},{"$f":"X142/AZ142-1","v":{"v":-0.0435913794134649,"d":"-4.36%"}},{"$f":"[1]出租!Z38-[1]出租!Z40","v":1419.83},{"v":0.325073961045627,"d":"32.51%"},{"$f":"[1]出租!AB38-[1]出租!AB40","v":1239.85},{"v":0.139264350494813,"d":"13.93%"},{"$f":"[1]出租!AD38-[1]出租!AD40","v":1169.99},{"$f":"AD142/BF142-1","v":{"v":0.141264375664524,"d":"14.13%"}},{"$f":"[1]出租!AF38-[1]出租!AF40","v":1113.85},{"v":0.152111627137227,"d":"15.21%"},{"$f":"[1]出租!AH38-[1]出租!AH40","v":1128.11},{"v":0.206276732249786,"d":"20.63%"},{"$f":"[1]出租!AJ38-[1]出租!AJ40","v":1205.67},{"$f":"AJ142/BL142-1","v":{"v":0.230250403052999,"d":"23.03%"}},{"$f":"[1]出租!AL38-[1]出租!AL40","v":1154.23},{"v":0.248882829659925,"d":"24.89%"},{"$f":"[1]出租!AN38-[1]出租!AN40","v":1190.97},{"v":0.27361486883896,"d":"27.36%"},13658.28,{"v":0.115085429892624,"d":"11.51%"},null,11313.53,1209.32,null,1073.55,null,1036.29,null,1003.18,null,1071.51,null,1088.29,null,1025.17,null,966.79,null,{"v":935.2,"d":"935.20"},null,980.02,null,924.21,null,935.11,null,12248.64]
[null,"城际城乡网约车旅客周转量(万人公里)",{"$f":"[1]网约车!C38-[1]网约车!C40","v":{"v":422.270151798297,"d":"422.27"}},{"$f":"C143/R143-1","v":{"v":1.86081636767084,"d":"186.08%"}},{"$f":"[1]网约车!E38-[1]网约车!E40","v":{"v":331.194863312394,"d":"331.19"}},{"v":1.24513674136035,"d":"124.51%"},{"$f":"[1]网约车!G38-[1]网约车!G40","v":{"v":432.707031286153,"d":"432.71"}},{"v":1.50875843865583,"d":"150.88%"},{"$f":"[1]网约车!I38-[1]网约车!I40","v":{"v":440.671024788756,"d":"440.67"}},{"$f":"I143/X143-1","v":{"v":1.25888051616665,"d":"125.89%"}},{"$f":"[1]网约车!K38-[1]网约车!K40","v":{"v":484.824433497168,"d":"484.82"}},{"v":1.12802133966809,"d":"112.80%"},{"$f":"[1]网约车!M38-[1]网约车!M40","v":{"v":481.967168563125,"d":"481.97"}},{"v":1.16455050589527,"d":"116.46%"},{"v":2593.63467324589,"d":"2593.63"},{"v":1.32994058674158,"d":"132.99%"},{"v":890.512454632579,"d":"890.51"},{"$f":"[1]网约车!R38-[1]网约车!R40","v":{"v":147.604773438182,"d":"147.60"}},{"$f":"R143/AT143-1","v":{"v":-0.323205398836132,"d":"-32.32%"}},{"$f":"[1]网约车!T38-[1]网约车!T40","v":{"v":147.516566457204,"d":"147.52"}},{"v":0.139221886797899,"d":"13.92%"},{"$f":"[1]网约车!V38-[1]网约车!V40","v":{"v":172.478555375779,"d":"172.48"}},{"v":0.0321826720959206,"d":"3.22%"},{"$f":"[1]网约车!X38-[1]网约车!X40","v":{"v":195.083813258339,"d":"195.08"}},{"$f":"X143/AZ143-1","v":{"v":0.0525312063571082,"d":"5.25%"}},{"$f":"[1]网约车!Z38-[1]网约车!Z40","v":{"v":227.828746103075,"d":"227.83"}},{"v":0.141333830748875,"d":"14.13%"},{"$f":"[1]网约车!AB38-[1]网约车!AB40","v":{"v":222.663858963079,"d":"222.66"}},{"v":0.24766050174172,"d":"24.77%"},{"$f":"[1]网约车!AD38-[1]网约车!AD40","v":{"v":242.888139183313,"d":"242.89"}},{"$f":"AD143/BF143-1","v":{"v":0.154924215644306,"d":"15.49%"}},{"$f":"[1]网约车!AF38-[1]网约车!AF40","v":{"v":254.218412230865,"d":"254.22"}},{"v":0.259717044161428,"d":"25.97%"},{"$f":"[1]网约车!AH38-[1]网约车!AH40","v":{"v":232.986073332064,"d":"232.99"}},{"v":0.0168323086388089,"d":"1.68%"},{"$f":"[1]网约车!AJ38-[1]网约车!AJ40","v":{"v":386.051263005785,"d":"386.05"}},{"$f":"AJ143/BL143-1","v":{"v":0.563536845087953,"d":"56.35%"}},{"$f":"[1]网约车!AL38-[1]网约车!AL40","v":{"v":394.015334475393,"d":"394.02"}},{"v":0.566282069966551,"d":"56.63%"},{"$f":"[1]网约车!AN38-[1]网约车!AN40","v":{"v":420.739721182494,"d":"420.74"}},{"v":0.457707436544851,"d":"45.77%"},{"v":3044.07525700557,"d":"3044.08"},{"v":0.214494274311246,"d":"21.45%"},null,{"v":2217.82389487725,"d":"2217.82"},{"v":218.093899071224,"d":"218.09"},null,{"v":129.488880231963,"d":"129.49"},null,{"v":167.1008049627,"d":"167.10"},null,{"v":185.347296194228,"d":"185.35"},null,{"v":199.616220920734,"d":"199.62"},null,{"v":178.465102207085,"d":"178.47"},null,{"v":210.306560286132,"d":"210.31"},null,{"v":201.80596381475,"d":"201.81"},null,{"v":229.129298265466,"d":"229.13"},null,{"v":246.908964261772,"d":"246.91"},null,{"v":251.560904661194,"d":"251.56"},null,{"v":288.631113922117,"d":"288.63"},null,{"v":2506.45500879937,"d":"2506.46"}]
["荆州市","总旅客周转量（万人公里）",{"$f":"C145+C146+C147+C148","v":{"v":10455.1783481108,"d":"10455.18"}},{"$f":"C144/R144-1","v":{"v":-0.121334478116622,"d":"-12.13%"}},{"v":12949.3708480345,"d":"12949.37"},{"v":-0.0909455366442774,"d":"-9.09%"},{"v":12684.0476804685,"d":"12684.05"},{"v":0.0590224406899234,"d":"5.90%"},{"$f":"I145+I146+I147+I148","v":{"v":10792.5320112604,"d":"10792.53"}},{"$f":"I144/X144-1","v":{"v":-0.117843745321439,"d":"-11.78%"}},{"v":11546.3662860992,"d":"11546.37"},{"v":-0.0422578428987582,"d":"-4.23%"},{"v":10883.4078336583,"d":"10883.41"},{"v":-0.0361215055524348,"d":"-3.61%"},{"v":69310.9030076316,"d":"69310.90"},{"v":-0.059582698426037,"d":"-5.96%"},{"v":62411.0186292877,"d":"62411.02"},{"$f":"R145+R146+R147+R148","v":{"v":11898.9286454538,"d":"11898.93"}},{"$f":"R144/AT144-1","v":{"v":0.109845534700944,"d":"10.98%"}},{"v":14244.8790144351,"d":"14244.88"},{"v":-0.0381661849129168,"d":"-3.82%"},{"v":11977.1283337539,"d":"11977.13"},{"v":0.0471170342817635,"d":"4.71%"},{"$f":"X145+X146+X147+X148","v":{"v":12234.2634357822,"d":"12234.26"}},{"$f":"X144/AZ144-1","v":{"v":-0.0104298915739096,"d":"-1.04%"}},{"v":12055.8191998628,"d":"12055.82"},{"v":-0.0676842500815112,"d":"-6.77%"},{"v":11291.2653372311,"d":"11291.27"},{"v":-0.0296137230893652,"d":"-2.96%"},{"$f":"AD145+AD146+AD147+AD148","v":{"v":12631.125249984,"d":"12631.13"}},{"$f":"AD144/BF144-1","v":{"v":0.0458782307448451,"d":"4.59%"}},{"v":11999.9488623679,"d":"11999.95"},{"v":0.0446101255227369,"d":"4.46%"},{"v":11728.4752332775,"d":"11728.48"},{"v":0.0780211362882663,"d":"7.80%"},{"$f":"AJ145+AJ146+AJ147+AJ148","v":{"v":12698.6249019774,"d":"12698.62"}},{"$f":"AJ144/BL144-1","v":{"v":0.0781064421886828,"d":"7.81%"}},{"v":11344.1673422838,"d":"11344.17"},{"v":0.116295459653889,"d":"11.63%"},{"v":10893.3915800271,"d":"10893.39"},{"v":0.0724806557436346,"d":"7.25%"},{"v":144998.017136437,"d":"144998.02"},{"v":0.0324404878049402,"d":"3.24%"},null,{"v":130284.818161813,"d":"130284.82"},{"$f":"AT145+AT146+AT147+AT148","v":{"v":10721.2474830203,"d":"10721.25"}},null,{"v":14810.1249831244,"d":"14810.12"},null,{"v":11438.1945299641,"d":"11438.19"},null,{"$f":"AZ145+AZ146+AZ147+AZ148","v":{"v":12363.2103795463,"d":"12363.21"}},null,{"v":12931.0474492325,"d":"12931.05"},null,{"v":11635.8460603735,"d":"11635.85"},null,{"$f":"BF145+BF146+BF147+BF148","v":{"v":12077.0514947887,"d":"12077.05"}},null,{"v":11487.490470536,"d":"11487.49"},null,{"v":10879.6338387759,"d":"10879.63"},null,{"$f":"BL145+BL146+BL147+BL148","v":{"v":11778.6374378746,"d":"11778.64"}},null,{"v":10162.3340345764,"d":"10162.33"},null,{"v":10157.1916674561,"d":"10157.19"},null,{"v":140442.009829269,"d":"140442.01"}]
[null,"公路班线旅客周转量（万人公里）",{"$f":"[1]班线包车!C37","v":8460.3268},{"$f":"C145/R145-1","v":{"v":-0.216620297348893,"d":"-21.66%"}},{"$f":"[1]班线包车!E37","v":10893.6835},{"v":-0.171772853618809,"d":"-17.18%"},{"$f":"[1]班线包车!G37","v":10915.655},{"v":0.00317419641194538,"d":"0.32%"},{"$f":"[1]班线包车!I37","v":9181.1169},{"$f":"I145/X145-1","v":{"v":-0.173222011404474,"d":"-17.32%"}},{"$f":"[1]班线包车!K37","v":9903.441},{"v":-0.0910160450689843,"d":"-9.10%"},{"$f":"[1]班线包车!M37","v":9184.0432},{"v":-0.101314713439389,"d":"-10.13%"},{"v":58538.2664,"d":"58538.27"},{"v":-0.126986304789357,"d":"-12.70%"},{"v":56833.6697,"d":"56833.67"},{"$f":"[1]班线包车!R37","v":10799.7779},{"$f":"R145/AT145-1","v":{"v":0.142506943675852,"d":"14.25%"}},{"$f":"[1]班线包车!T37","v":13153.0143},{"v":-0.029851774375794,"d":"-2.99%"},{"$f":"[1]班线包车!V37","v":10881.1162},{"v":0.0592041177943108,"d":"5.92%"},{"$f":"[1]班线包车!X37","v":11104.6944},{"$f":"X145/AZ145-1","v":{"v":-0.0125135450766491,"d":"-1.25%"}},{"$f":"[1]班线包车!Z37","v":10895.0669},{"v":-0.0770680780308525,"d":"-7.71%"},{"$f":"[1]班线包车!AB37","v":10219.4209},{"v":-0.0289627602934664,"d":"-2.90%"},{"$f":"[1]班线包车!AD37","v":10813.7971},{"$f":"AD145/BF145-1","v":{"v":-0.00921554942140501,"d":"-0.92%"}},{"$f":"[1]班线包车!AF37","v":9954.1267},{"v":-0.0416789267271775,"d":"-4.17%"},{"$f":"[1]班线包车!AH37","v":9722.3011},{"v":-0.0138498380819374,"d":"-1.38%"},{"$f":"[1]班线包车!AJ37","v":10569.0524},{"$f":"AJ145/BL145-1","v":{"v":-0.0145912863039589,"d":"-1.46%"}},{"$f":"[1]班线包车!AL37","v":9485.8706},{"v":0.0386798892734175,"d":"3.87%"},{"$f":"[1]班线包车!AN37","v":8968.5755},{"v":-0.0115738618178997,"d":"-1.16%"},{"v":126566.814,"d":"126566.81"},{"v":-0.00301748131821244,"d":"-0.30%"},null,{"v":117876.2909,"d":"117876.29"},{"v":9452.7022,"d":"9452.70"},null,{"v":13557.7368,"d":"13557.74"},null,10272.9172,null,{"v":11245.4144,"d":"11245.41"},null,{"v":11804.8435,"d":"11804.84"},null,{"v":10524.2317,"d":"10524.23"},null,{"v":10914.3791,"d":"10914.38"},null,{"v":10387.0477,"d":"10387.05"},null,{"v":9858.8445,"d":"9858.84"},null,{"v":10725.552,"d":"10725.55"},null,{"v":9132.6218,"d":"9132.62"},null,{"v":9073.592,"d":"9073.59"},null,{"v":126949.8829,"d":"126949.88"}]
[null,"城际城乡公交旅客周转量（万人公里）",{"$f":"[1]公交!C42-[1]公交!C44","v":101.48},{"$f":"C146/R146-1","v":{"v":-0.189197826781715,"d":"-18.92%"}},{"$f":"[1]公交!E42-[1]公交!E44","v":102.02},{"v":-0.18468792455846,"d":"-18.47%"},{"$f":"[1]公交!G42-[1]公交!G44","v":102.58},{"v":-0.182694606007491,"d":"-18.27%"},{"$f":"[1]公交!I42-[1]公交!I44","v":102.82},{"$f":"I146/X146-1","v":{"v":-0.183449809402792,"d":"-18.34%"}},{"$f":"[1]公交!K42-[1]公交!K44","v":102.860000000001},{"v":-0.183326716951165,"d":"-18.33%"},{"$f":"[1]公交!M42-[1]公交!M44","v":103.059999999999},{"v":0.139288083130659,"d":"13.93%"},614.82,{"v":-0.143859746842492,"d":"-14.39%"},{"v":627.669999999999,"d":"627.67"},{"$f":"[1]公交!R42-[1]公交!R44","v":125.16},{"$f":"R146/AT146-1","v":{"v":0.00935483870967624,"d":"0.94%"}},{"$f":"[1]公交!T42-[1]公交!T44","v":125.13},{"v":0.0128703254006808,"d":"1.29%"},{"$f":"[1]公交!V42-[1]公交!V44","v":125.51},{"v":0.0152887882219723,"d":"1.53%"},{"$f":"[1]公交!X42-[1]公交!X44","v":125.919999999999},{"$f":"X146/AZ146-1","v":{"v":0.0178643601972288,"d":"1.79%"}},{"$f":"[1]公交!Z42-[1]公交!Z44","v":125.95},{"v":0.0190953960676414,"d":"1.91%"},{"$f":"[1]公交!AB42-[1]公交!AB44","v":90.46},{"v":-0.268063759203819,"d":"-26.81%"},{"$f":"[1]公交!AD42-[1]公交!AD44","v":96.1700000000001},{"$f":"AD146/BF146-1","v":{"v":-0.246375675887475,"d":"-24.64%"}},{"$f":"[1]公交!AF42-[1]公交!AF44","v":103.62},{"v":-0.186592354187928,"d":"-18.66%"},{"$f":"[1]公交!AH42-[1]公交!AH44","v":103.700000000001},{"v":-0.169735788630899,"d":"-16.97%"},{"$f":"[1]公交!AJ42-[1]公交!AJ44","v":101.05},{"$f":"AJ146/BL146-1","v":{"v":-0.19256891729924,"d":"-19.26%"}},{"$f":"[1]公交!AL42-[1]公交!AL44","v":101.25},{"v":-0.188246612683396,"d":"-18.82%"},{"$f":"[1]公交!AN42-[1]公交!AN44","v":101.37},{"v":-0.188390712570057,"d":"-18.84%"},1325.29,{"v":-0.114543037154331,"d":"-11.45%"},null,1371.83,{"v":124,"d":"124.00"},null,123.54,null,123.62,null,123.71,null,123.59,null,123.59,null,{"v":127.610000000001,"d":"127.61"},null,127.39,null,{"v":124.9,"d":"124.90"},null,125.15,null,124.73,null,{"v":124.9,"d":"124.90"},null,1496.73]
[null,"城际城乡巡游出租旅客周转量（万人公里）",{"$f":"[1]出租!C42-[1]出租!C44","v":1505.33},{"$f":"C147/R147-1","v":{"v":0.744480884449131,"d":"74.45%"}},{"$f":"[1]出租!E42-[1]出租!E44","v":1560.51},{"v":0.998527208227143,"d":"99.85%"},{"$f":"[1]出租!G42-[1]出租!G44","v":1249.19},{"v":0.627291083175926,"d":"62.73%"},{"$f":"[1]出租!I42-[1]出租!I44","v":1111.64},{"$f":"I147/X147-1","v":{"v":0.525092605295651,"d":"52.51%"}},{"$f":"[1]出租!K42-[1]出租!K44","v":1122.2},{"v":0.490305444887118,"d":"49.03%"},{"$f":"[1]出租!M42-[1]出租!M44","v":1138.82},{"v":0.563905024787487,"d":"56.39%"},7687.69,{"v":0.663469278239871,"d":"66.35%"},3893.29,{"$f":"[1]出租!R42-[1]出租!R44","v":862.91},{"$f":"R147/AT147-1","v":{"v":-0.0737830730424512,"d":"-7.38%"}},{"$f":"[1]出租!T42-[1]出租!T44","v":780.83},{"v":-0.230557745368546,"d":"-23.06%"},{"$f":"[1]出租!V42-[1]出租!V44","v":767.65},{"v":-0.114672233242607,"d":"-11.47%"},{"$f":"[1]出租!X42-[1]出租!X44","v":728.9},{"$f":"X147/AZ147-1","v":{"v":-0.0860188087774294,"d":"-8.60%"}},{"$f":"[1]出租!Z42-[1]出租!Z44","v":753},{"v":-0.0596315953793318,"d":"-5.96%"},{"$f":"[1]出租!AB42-[1]出租!AB44","v":728.19},{"v":-0.0910123580077393,"d":"-9.10%"},{"$f":"[1]出租!AD42-[1]出租!AD44","v":1360.1},{"$f":"AD147/BF147-1","v":{"v":0.665748123109331,"d":"66.57%"}},{"$f":"[1]出租!AF42-[1]出租!AF44","v":1569.88},{"v":1.03787888622055,"d":"103.79%"},{"$f":"[1]出租!AH42-[1]出租!AH44","v":1573.32},{"v":1.25378180151272,"d":"125.38%"},{"$f":"[1]出租!AJ42-[1]出租!AJ44","v":1675.06},{"$f":"AJ147/BL147-1","v":{"v":1.34585813318395,"d":"134.59%"}},{"$f":"[1]出租!AL42-[1]出租!AL44","v":1457.61},{"v":1.10084748205586,"d":"110.08%"},{"$f":"[1]出租!AN42-[1]出租!AN44","v":1453.79},{"v":0.9867847430063,"d":"98.68%"},13711.24,{"v":0.422708567230649,"d":"42.27%"},null,8905.69,931.65,null,{"v":1014.8,"d":"1014.80"},null,867.08,null,{"v":797.5,"d":"797.50"},null,800.75,null,{"v":801.1,"d":"801.10"},null,816.51,null,770.35,null,698.08,null,714.05,null,693.82,null,731.73,null,9637.42]
[null,"城际城乡网约车旅客周转量(万人公里)",{"$f":"[1]网约车!C42-[1]网约车!C44","v":{"v":388.041548110759,"d":"388.04"}},{"$f":"C148/R148-1","v":{"v":2.49332862797604,"d":"249.33%"}},{"$f":"[1]网约车!E42-[1]网约车!E44","v":{"v":393.157348034454,"d":"393.16"}},{"v":1.11483258630216,"d":"111.48%"},{"$f":"[1]网约车!G42-[1]网约车!G44","v":{"v":416.622680468504,"d":"416.62"}},{"v":1.0538244915576,"d":"105.38%"},{"$f":"[1]网约车!I42-[1]网约车!I44","v":{"v":396.95511126045,"d":"396.96"}},{"$f":"I148/X148-1","v":{"v":0.444791644601753,"d":"44.48%"}},{"$f":"[1]网约车!K42-[1]网约车!K44","v":{"v":417.865286099163,"d":"417.87"}},{"v":0.482831354827872,"d":"48.28%"},{"$f":"[1]网约车!M42-[1]网约车!M44","v":{"v":457.484633658322,"d":"457.48"}},{"v":0.806851045628251,"d":"80.69%"},{"v":2470.12660763165,"d":"2470.13"},{"v":0.886192716541384,"d":"88.62%"},{"v":1056.38892928775,"d":"1056.39"},{"$f":"[1]网约车!R42-[1]网约车!R44","v":{"v":111.080745453823,"d":"111.08"}},{"$f":"R148/AT148-1","v":{"v":-0.47823763928472,"d":"-47.82%"}},{"$f":"[1]网约车!T42-[1]网约车!T44","v":{"v":185.904714435056,"d":"185.90"}},{"v":0.630054152044639,"d":"63.01%"},{"$f":"[1]网约车!V42-[1]网约车!V44","v":{"v":202.852133753913,"d":"202.85"}},{"v":0.161961486039524,"d":"16.20%"},{"$f":"[1]网约车!X42-[1]网约车!X44","v":{"v":274.749035782158,"d":"274.75"}},{"$f":"X148/AZ148-1","v":{"v":0.397602394719627,"d":"39.76%"}},{"$f":"[1]网约车!Z42-[1]网约车!Z44","v":{"v":281.802299862798,"d":"281.80"}},{"v":0.396001123202888,"d":"39.60%"},{"$f":"[1]网约车!AB42-[1]网约车!AB44","v":{"v":253.194437231129,"d":"253.19"}},{"v":0.354528841105562,"d":"35.45%"},{"$f":"[1]网约车!AD42-[1]网约车!AD44","v":{"v":361.058149983989,"d":"361.06"}},{"$f":"AD148/BF148-1","v":{"v":0.65204389699356,"d":"65.20%"}},{"$f":"[1]网约车!AF42-[1]网约车!AF44","v":{"v":372.322162367876,"d":"372.32"}},{"v":0.836788719677157,"d":"83.68%"},{"$f":"[1]网约车!AH42-[1]网约车!AH44","v":{"v":329.154133277492,"d":"329.15"}},{"v":0.663996934191037,"d":"66.40%"},{"$f":"[1]网约车!AJ42-[1]网约车!AJ44","v":{"v":353.462501977382,"d":"353.46"}},{"$f":"AJ148/BL148-1","v":{"v":0.6525786210123,"d":"65.26%"}},{"$f":"[1]网约车!AL42-[1]网约车!AL44","v":{"v":299.436742283824,"d":"299.44"}},{"v":0.418041170498621,"d":"41.80%"},{"$f":"[1]网约车!AN42-[1]网约车!AN44","v":{"v":369.65608002714,"d":"369.66"}},{"v":0.628658508294166,"d":"62.87%"},{"v":3394.67313643658,"d":"3394.67"},{"v":0.439654940767016,"d":"43.97%"},null,{"v":2131.00726181274,"d":"2131.01"},{"v":212.895283020307,"d":"212.90"},null,{"v":114.048183124388,"d":"114.05"},null,{"v":174.577329964113,"d":"174.58"},null,{"v":196.585979546261,"d":"196.59"},null,{"v":201.863949232541,"d":"201.86"},null,{"v":186.92436037351,"d":"186.92"},null,{"v":218.552394788694,"d":"218.55"},null,{"v":202.702770536024,"d":"202.70"},null,{"v":197.809338775923,"d":"197.81"},null,{"v":213.885437874578,"d":"213.89"},null,{"v":211.162234576401,"d":"211.16"},null,{"v":226.96966745614,"d":"226.97"},null,{"v":2357.97692926888,"d":"2357.98"}]
["黄冈市","总旅客周转量（万人公里）",{"$f":"C150+C151+C152+C153","v":{"v":13827.1122831202,"d":"13827.11"}},{"$f":"C149/R149-1","v":{"v":-0.0128512303950356,"d":"-1.29%"}},{"v":15512.0319997076,"d":"15512.03"},{"v":0.00544819865245505,"d":"0.54%"},{"v":15453.6212860353,"d":"15453.62"},{"v":0.0102384132534854,"d":"1.02%"},{"$f":"I150+I151+I152+I153","v":{"v":15694.9181515705,"d":"15694.92"}},{"$f":"I149/X149-1","v":{"v":0.00890436278515772,"d":"0.89%"}},{"v":16006.2464424318,"d":"16006.25"},{"v":0.0420175634562023,"d":"4.20%"},{"v":15353.4782978662,"d":"15353.48"},{"v":0.0225310197120183,"d":"2.25%"},{"v":91847.4084607316,"d":"91847.41"},{"v":0.0130471609370826,"d":"1.30%"},{"v":75649.3230334199,"d":"75649.32"},{"$f":"R150+R151+R152+R153","v":{"v":14007.1210225521,"d":"14007.12"}},{"$f":"R149/AT149-1","v":{"v":0.121643922994557,"d":"12.16%"}},{"v":15427.9773144926,"d":"15427.98"},{"v":0.252074122883166,"d":"25.21%"},{"v":15297.0042351357,"d":"15297.00"},{"v":0.257339810739171,"d":"25.73%"},{"$f":"X150+X151+X152+X153","v":{"v":15556.3983371461,"d":"15556.40"}},{"$f":"X149/AZ149-1","v":{"v":0.232964106632666,"d":"23.30%"}},{"v":15360.8221240933,"d":"15360.82"},{"v":0.258646378653836,"d":"25.86%"},{"v":15015.1711800296,"d":"15015.17"},{"v":0.284247491933882,"d":"28.42%"},{"$f":"AD150+AD151+AD152+AD153","v":{"v":14360.1585143768,"d":"14360.16"}},{"$f":"AD149/BF149-1","v":{"v":0.252093665442104,"d":"25.21%"}},{"v":14492.7399688497,"d":"14492.74"},{"v":0.0240697251800541,"d":"2.41%"},{"v":14820.751709187,"d":"14820.75"},{"v":-0.0722406689471429,"d":"-7.22%"},{"$f":"AJ150+AJ151+AJ152+AJ153","v":{"v":15858.2011919657,"d":"15858.20"}},{"$f":"AJ149/BL149-1","v":{"v":-0.0710744269300835,"d":"-7.11%"}},{"v":14768.3445352655,"d":"14768.34"},{"v":-0.0177443904309177,"d":"-1.77%"},{"v":14108.1109443145,"d":"14108.11"},{"v":0.0153935996755385,"d":"1.54%"},{"v":179072.801077409,"d":"179072.80"},{"v":0.111659874770303,"d":"11.17%"},null,{"v":147191.733910436,"d":"147191.73"},{"$f":"AT150+AT151+AT152+AT153","v":{"v":12488.0282729621,"d":"12488.03"}},null,{"v":12321.9360839169,"d":"12321.94"},null,{"v":12166.1655063183,"d":"12166.17"},null,{"$f":"AZ150+AZ151+AZ152+AZ153","v":{"v":12617.0731600874,"d":"12617.07"}},null,{"v":12204.239717054,"d":"12204.24"},null,{"v":11691.8049475176,"d":"11691.80"},null,{"$f":"BF150+BF151+BF152+BF153","v":{"v":11468.9171511034,"d":"11468.92"}},null,{"v":14152.1027450563,"d":"14152.10"},null,{"v":15974.7805418112,"d":"15974.78"},null,{"$f":"BL150+BL151+BL152+BL153","v":{"v":17071.5519646611,"d":"17071.55"}},null,{"v":15035.1338199477,"d":"15035.13"},null,{"v":13894.2287491497,"d":"13894.23"},null,{"v":161085.962659586,"d":"161085.96"}]
[null,"公路班线旅客周转量（万人公里）",{"$f":"[1]班线包车!C39","v":7888.0719},{"$f":"C150/R150-1","v":{"v":-0.0883690133026297,"d":"-8.84%"}},{"$f":"[1]班线包车!E39","v":9890.8954},{"v":0.114481402916049,"d":"11.45%"},{"$f":"[1]班线包车!G39","v":9258.3636},{"v":0.0687122063091785,"d":"6.87%"},{"$f":"[1]班线包车!I39","v":9236.1468},{"$f":"I150/X150-1","v":{"v":0.00372528740688627,"d":"0.37%"}},{"$f":"[1]班线包车!K39","v":9544.8729},{"v":0.0624049506392519,"d":"6.24%"},{"$f":"[1]班线包车!M39","v":9053.128},{"v":0.054127389488043,"d":"5.41%"},{"v":54871.4786,"d":"54871.48"},{"v":0.0359942900901749,"d":"3.60%"},{"v":44376.7721,"d":"44376.77"},{"$f":"[1]班线包车!R39","v":8652.7027},{"$f":"R150/AT150-1","v":{"v":0.267291043395115,"d":"26.73%"}},{"$f":"[1]班线包车!T39","v":8874.886},{"v":0.220181911318047,"d":"22.02%"},{"$f":"[1]班线包车!V39","v":8663.1027},{"v":0.238947473182783,"d":"23.89%"},{"$f":"[1]班线包车!X39","v":9201.8672},{"$f":"X150/AZ150-1","v":{"v":0.259940498239036,"d":"25.99%"}},{"$f":"[1]班线包车!Z39","v":8984.2135},{"v":0.249525371751042,"d":"24.95%"},{"$f":"[1]班线包车!AB39","v":8588.2675},{"v":0.280762431963852,"d":"28.08%"},{"$f":"[1]班线包车!AD39","v":8528.6379},{"$f":"AD150/BF150-1","v":{"v":0.287825656185902,"d":"28.78%"}},{"$f":"[1]班线包车!AF39","v":8864.1288},{"v":-0.0244619436622191,"d":"-2.45%"},{"$f":"[1]班线包车!AH39","v":8956.6383},{"v":-0.1607590050883,"d":"-16.08%"},{"$f":"[1]班线包车!AJ39","v":9643.3971},{"$f":"AJ150/BL150-1","v":{"v":-0.168040238104792,"d":"-16.80%"}},{"$f":"[1]班线包车!AL39","v":8993.5855},{"v":-0.0628773762191415,"d":"-6.29%"},{"$f":"[1]班线包车!AN39","v":8330.8369},{"v":-0.0224045191400478,"d":"-2.24%"},{"v":106282.2641,"d":"106282.26"},{"v":0.0802829935970242,"d":"8.03%"},null,{"v":89861.9613,"d":"89861.96"},{"v":6827.7155,"d":"6827.72"},null,{"v":7273.4122,"d":"7273.41"},null,6992.3083,null,{"v":7303.4141,"d":"7303.41"},null,{"v":7190.1009,"d":"7190.10"},null,{"v":6705.5898,"d":"6705.59"},null,{"v":6622.5097,"d":"6622.51"},null,{"v":9086.3998,"d":"9086.40"},null,{"v":10672.3079,"d":"10672.31"},null,{"v":11591.1821,"d":"11591.18"},null,{"v":9597.021,"d":"9597.02"},null,{"v":8521.7629,"d":"8521.76"},null,{"v":98383.7242,"d":"98383.72"}]
[null,"城际城乡公交旅客周转量（万人公里）",{"$f":"[1]公交!C46-[1]公交!C48","v":5139.01},{"$f":"C151/R151-1","v":{"v":0.0729988578921323,"d":"7.30%"}},{"$f":"[1]公交!E46-[1]公交!E48","v":4912.05},{"v":-0.179325289288232,"d":"-17.93%"},{"$f":"[1]公交!G46-[1]公交!G48","v":5501.57},{"v":-0.106899585719666,"d":"-10.69%"},{"$f":"[1]公交!I46-[1]公交!I48","v":5644.45},{"$f":"I151/X151-1","v":{"v":-0.0377947413640267,"d":"-3.78%"}},{"$f":"[1]公交!K46-[1]公交!K48","v":5668.25},{"v":-0.0403937801027618,"d":"-4.04%"},{"$f":"[1]公交!M46-[1]公交!M48","v":5491.85},{"v":-0.0684785355784088,"d":"-6.85%"},32357.18,{"v":-0.0649140851065918,"d":"-6.49%"},28707.86,{"$f":"[1]公交!R46-[1]公交!R48","v":4789.39},{"$f":"R151/AT151-1","v":{"v":0.0626747313020866,"d":"6.27%"}},{"$f":"[1]公交!T46-[1]公交!T48","v":5985.38},{"v":0.489700933835095,"d":"48.97%"},{"$f":"[1]公交!V46-[1]公交!V48","v":6160.08},{"v":0.418275252339203,"d":"41.83%"},{"$f":"[1]公交!X46-[1]公交!X48","v":5866.16},{"$f":"X151/AZ151-1","v":{"v":0.304138849427871,"d":"30.41%"}},{"$f":"[1]公交!Z46-[1]公交!Z48","v":5906.85},{"v":0.322590973820676,"d":"32.26%"},{"$f":"[1]公交!AB46-[1]公交!AB48","v":5895.57},{"v":0.334567037683443,"d":"33.46%"},{"$f":"[1]公交!AD46-[1]公交!AD48","v":5278.18},{"$f":"AD151/BF151-1","v":{"v":0.235358412578787,"d":"23.54%"}},{"$f":"[1]公交!AF46-[1]公交!AF48","v":5025.74},{"v":0.100716619797279,"d":"10.07%"},{"$f":"[1]公交!AH46-[1]公交!AH48","v":5273.14},{"v":0.098838675260428,"d":"9.88%"},{"$f":"[1]公交!AJ46-[1]公交!AJ48","v":5435.17},{"$f":"AJ151/BL151-1","v":{"v":0.107489327886056,"d":"10.75%"}},{"$f":"[1]公交!AL46-[1]公交!AL48","v":5196.39},{"v":0.0840763719963782,"d":"8.41%"},{"$f":"[1]公交!AN46-[1]公交!AN48","v":5050},{"v":0.0574941785468983,"d":"5.75%"},65862.05,{"v":0.211507639931123,"d":"21.15%"},null,49588.27,4506.92,null,4017.84,null,4343.36,null,4498.11,null,4466.12,null,4417.59,null,4272.59,null,4565.88,null,4798.83,null,4907.65,null,4793.38,null,4775.44,null,54363.71]
[null,"城际城乡巡游出租旅客周转量（万人公里）",{"$f":"[1]出租!C46-[1]出租!C48","v":502.62},{"$f":"C152/R152-1","v":{"v":0.0986469649609825,"d":"9.86%"}},{"$f":"[1]出租!E46-[1]出租!E48","v":430.92},{"v":-0.0367919889132272,"d":"-3.68%"},{"$f":"[1]出租!G46-[1]出租!G48","v":409.59},{"v":0.151633582635101,"d":"15.16%"},{"$f":"[1]出租!I46-[1]出租!I48","v":506.65},{"$f":"I152/X152-1","v":{"v":0.4462491436401,"d":"44.62%"}},{"$f":"[1]出租!K46-[1]出租!K48","v":480.17},{"v":0.514970815586056,"d":"51.50%"},{"$f":"[1]出租!M46-[1]出租!M48","v":481.46},{"v":0.280002126867655,"d":"28.00%"},2811.41,{"v":0.220261812373586,"d":"22.03%"},{"v":1927.8,"d":"1927.80"},{"$f":"[1]出租!R46-[1]出租!R48","v":457.49},{"$f":"R152/AT152-1","v":{"v":-0.484808558558558,"d":"-48.48%"}},{"$f":"[1]出租!T46-[1]出租!T48","v":447.38},{"v":-0.468846464358646,"d":"-46.88%"},{"$f":"[1]出租!V46-[1]出租!V48","v":355.66},{"v":-0.459088696921767,"d":"-45.91%"},{"$f":"[1]出租!X46-[1]出租!X48","v":350.32},{"$f":"X152/AZ152-1","v":{"v":-0.44038338658147,"d":"-44.04%"}},{"$f":"[1]出租!Z46-[1]出租!Z48","v":316.95},{"v":-0.13467838811838,"d":"-13.47%"},{"$f":"[1]出租!AB46-[1]出租!AB48","v":376.14},{"v":-0.0745497490404485,"d":"-7.45%"},{"$f":"[1]出租!AD46-[1]出租!AD48","v":386.16},{"$f":"AD152/BF152-1","v":{"v":-0.0297731212783602,"d":"-2.98%"}},{"$f":"[1]出租!AF46-[1]出租!AF48","v":422.01},{"v":0.228451663610165,"d":"22.85%"},{"$f":"[1]出租!AH46-[1]出租!AH48","v":429.95},{"v":0.241481866481867,"d":"24.15%"},{"$f":"[1]出租!AJ46-[1]出租!AJ48","v":571.05},{"$f":"AJ152/BL152-1","v":{"v":0.438485566023477,"d":"43.85%"}},{"$f":"[1]出租!AL46-[1]出租!AL48","v":419.81},{"v":-0.0620028599517379,"d":"-6.20%"},{"$f":"[1]出租!AN46-[1]出租!AN48","v":499.04},{"v":0.281693034723649,"d":"28.17%"},5031.96,{"v":-0.17620672267807,"d":"-17.62%"},null,5718.92,{"v":888,"d":"888.00"},null,842.28,null,657.52,null,{"v":626,"d":"626.00"},null,366.28,null,406.44,null,398.01,null,343.53,null,346.32,null,396.98,null,447.56,null,389.36,null,6108.28]
[null,"城际城乡网约车旅客周转量(万人公里)",{"$f":"[1]网约车!C46-[1]网约车!C48","v":{"v":297.410383120181,"d":"297.41"}},{"$f":"C153/R153-1","v":{"v":1.76562230153783,"d":"176.56%"}},{"$f":"[1]网约车!E46-[1]网约车!E48","v":{"v":278.166599707576,"d":"278.17"}},{"v":1.31167257567493,"d":"131.17%"},{"$f":"[1]网约车!G46-[1]网约车!G48","v":{"v":284.097686035285,"d":"284.10"}},{"v":1.40431613984307,"d":"140.43%"},{"$f":"[1]网约车!I46-[1]网约车!I48","v":{"v":307.671351570464,"d":"307.67"}},{"$f":"I153/X153-1","v":{"v":1.22867669133992,"d":"122.87%"}},{"$f":"[1]网约车!K46-[1]网约车!K48","v":{"v":312.953542431841,"d":"312.95"}},{"v":1.04800968720674,"d":"104.80%"},{"$f":"[1]网约车!M46-[1]网约车!M48","v":{"v":327.040297866205,"d":"327.04"}},{"v":1.1073042265881,"d":"110.73%"},{"v":1807.33986073155,"d":"1807.34"},{"v":1.28175100240956,"d":"128.18%"},{"v":636.890933419854,"d":"636.89"},{"$f":"[1]网约车!R46-[1]网约车!R48","v":{"v":107.538322552145,"d":"107.54"}},{"$f":"R153/AT153-1","v":{"v":-0.594795587868152,"d":"-59.48%"}},{"$f":"[1]网约车!T46-[1]网约车!T48","v":{"v":120.331314492651,"d":"120.33"}},{"v":-0.361311922074042,"d":"-36.13%"},{"$f":"[1]网约车!V46-[1]网约车!V48","v":{"v":118.161535135653,"d":"118.16"}},{"v":-0.316895343319182,"d":"-31.69%"},{"$f":"[1]网约车!X46-[1]网约车!X48","v":{"v":138.051137146091,"d":"138.05"}},{"$f":"X153/AZ153-1","v":{"v":-0.271686511753377,"d":"-27.17%"}},{"$f":"[1]网约车!Z46-[1]网约车!Z48","v":{"v":152.808624093314,"d":"152.81"}},{"v":-0.159185546762265,"d":"-15.92%"},{"$f":"[1]网约车!AB46-[1]网约车!AB48","v":{"v":155.193680029632,"d":"155.19"}},{"v":-0.0431079392594268,"d":"-4.31%"},{"$f":"[1]网约车!AD46-[1]网约车!AD48","v":{"v":167.180614376831,"d":"167.18"}},{"$f":"AD153/BF153-1","v":{"v":-0.0490698014924837,"d":"-4.91%"}},{"$f":"[1]网约车!AF46-[1]网约车!AF48","v":{"v":180.861168849701,"d":"180.86"}},{"v":0.157193427921805,"d":"15.72%"},{"$f":"[1]网约车!AH46-[1]网约车!AH48","v":{"v":161.023409186982,"d":"161.02"}},{"v":0.023523425065507,"d":"2.35%"},{"$f":"[1]网约车!AJ46-[1]网约车!AJ48","v":{"v":208.584091965662,"d":"208.58"}},{"$f":"AJ153/BL153-1","v":{"v":0.186891160795603,"d":"18.69%"}},{"$f":"[1]网约车!AL46-[1]网约车!AL48","v":{"v":158.559035265503,"d":"158.56"}},{"v":-0.195837259377216,"d":"-19.58%"},{"$f":"[1]网约车!AN46-[1]网约车!AN48","v":{"v":228.234044314507,"d":"228.23"}},{"v":0.0990446683890738,"d":"9.90%"},{"v":1896.52697740867,"d":"1896.53"},{"v":-0.149634217094799,"d":"-14.96%"},null,{"v":2022.58261043592,"d":"2022.58"},{"v":265.392772962091,"d":"265.39"},null,{"v":188.40388391687,"d":"188.40"},null,{"v":172.977206318276,"d":"172.98"},null,{"v":189.549060087356,"d":"189.55"},null,{"v":181.738817053979,"d":"181.74"},null,{"v":162.185147517602,"d":"162.19"},null,{"v":175.807451103373,"d":"175.81"},null,{"v":156.292945056306,"d":"156.29"},null,{"v":157.322641811228,"d":"157.32"},null,{"v":175.739864661089,"d":"175.74"},null,{"v":197.172819947747,"d":"197.17"},null,{"v":207.665849149736,"d":"207.67"},null,{"v":2230.24845958565,"d":"2230.25"}]
["咸宁市","总旅客周转量（万人公里）",{"$f":"C155+C156+C157+C158","v":{"v":9673.86101083028,"d":"9673.86"}},{"$f":"C154/R154-1","v":{"v":-0.186132483784195,"d":"-18.61%"}},{"v":10892.929130885,"d":"10892.93"},{"v":-0.0787705300601074,"d":"-7.88%"},{"v":11678.9654857043,"d":"11678.97"},{"v":-0.0701229106360831,"d":"-7.01%"},{"$f":"I155+I156+I157+I158","v":{"v":12396.9809468923,"d":"12396.98"}},{"$f":"I154/X154-1","v":{"v":-0.04464577435284,"d":"-4.46%"}},{"v":12306.030129602,"d":"12306.03"},{"v":-0.0224330324145435,"d":"-2.24%"},{"v":11177.8291783568,"d":"11177.83"},{"v":-0.0862614163977867,"d":"-8.63%"},{"v":68126.5958822707,"d":"68126.60"},{"v":-0.0802171135655688,"d":"-8.02%"},{"v":61835.0560286153,"d":"61835.06"},{"$f":"R155+R156+R157+R158","v":{"v":11886.2847061525,"d":"11886.28"}},{"$f":"R154/AT154-1","v":{"v":0.19396779800022,"d":"19.40%"}},{"v":11824.3385457433,"d":"11824.34"},{"v":0.316321751112422,"d":"31.63%"},{"v":12559.6873170553,"d":"12559.69"},{"v":0.337140688447195,"d":"33.71%"},{"$f":"X155+X156+X157+X158","v":{"v":12976.318745536,"d":"12976.32"}},{"$f":"X154/AZ154-1","v":{"v":0.269886494679744,"d":"26.99%"}},{"v":12588.4267141281,"d":"12588.43"},{"v":0.213730118150337,"d":"21.37%"},{"v":12233.0712295093,"d":"12233.07"},{"v":0.254777235585211,"d":"25.48%"},{"$f":"AD155+AD156+AD157+AD158","v":{"v":10034.8974738718,"d":"10034.90"}},{"$f":"AD154/BF154-1","v":{"v":0.0608734930407597,"d":"6.09%"}},{"v":9539.86134942716,"d":"9539.86"},{"v":-0.0204184003795116,"d":"-2.04%"},{"v":10038.9787612291,"d":"10038.98"},{"v":0.0023898441059369,"d":"0.24%"},{"$f":"AJ155+AJ156+AJ157+AJ158","v":{"v":10727.0780615804,"d":"10727.08"}},{"$f":"AJ154/BL154-1","v":{"v":-0.129948675719221,"d":"-12.99%"}},{"v":10482.8216834665,"d":"10482.82"},{"v":-0.132742740552603,"d":"-13.27%"},{"v":9906.64656313465,"d":"9906.65"},{"v":-0.128244395471548,"d":"-12.82%"},{"v":134798.411150834,"d":"134798.41"},{"v":0.0900385422177408,"d":"9.00%"},null,{"v":112299.876167832,"d":"112299.88"},{"$f":"AT155+AT156+AT157+AT158","v":{"v":9955.28080913146,"d":"9955.28"}},null,{"v":8982.86344941925,"d":"8982.86"},null,{"v":9392.94378338058,"d":"9392.94"},null,{"$f":"AZ155+AZ156+AZ157+AZ158","v":{"v":10218.4870851852,"d":"10218.49"}},null,{"v":10371.6852089922,"d":"10371.69"},null,{"v":9749.19761259771,"d":"9749.20"},null,{"$f":"BF155+BF156+BF157+BF158","v":{"v":9459.08964612641,"d":"9459.09"}},null,{"v":9738.71023416846,"d":"9738.71"},null,{"v":10015.0443664792,"d":"10015.04"},null,{"$f":"BL155+BL156+BL157+BL158","v":{"v":12329.2474388771,"d":"12329.25"}},null,{"v":12087.326533474,"d":"12087.33"},null,{"v":11364.0182083984,"d":"11364.02"},null,{"v":123663.89437623,"d":"123663.89"}]
[null,"公路班线旅客周转量（万人公里）",{"$f":"[1]班线包车!C43","v":4330.6841},{"$f":"C155/R155-1","v":{"v":-0.180909556305246,"d":"-18.09%"}},{"$f":"[1]班线包车!E43","v":5973.8076},{"v":0.0381535273105909,"d":"3.82%"},{"$f":"[1]班线包车!G43","v":6126.3787},{"v":-0.00233761980287239,"d":"-0.23%"},{"$f":"[1]班线包车!I43","v":6709.8015},{"$f":"I155/X155-1","v":{"v":0.0652986250572951,"d":"6.53%"}},{"$f":"[1]班线包车!K43","v":6422.9636},{"v":0.0791398398593102,"d":"7.91%"},{"$f":"[1]班线包车!M43","v":5719.9664},{"v":-0.0154656453152844,"d":"-1.55%"},{"v":35283.6019,"d":"35283.60"},{"v":1.16775942846559E-3,"d":"0.12%"},{"v":29432.6282,"d":"29432.63"},{"$f":"[1]班线包车!R43","v":5287.1867},{"$f":"R155/AT155-1","v":{"v":0.418697357674891,"d":"41.87%"}},{"$f":"[1]班线包车!T43","v":5754.2622},{"v":0.377105338732374,"d":"37.71%"},{"$f":"[1]班线包车!V43","v":6140.7334},{"v":0.351694653162898,"d":"35.17%"},{"$f":"[1]班线包车!X43","v":6298.517},{"$f":"X155/AZ155-1","v":{"v":0.32306859499254,"d":"32.31%"}},{"$f":"[1]班线包车!Z43","v":5951.9289},{"v":0.221508973590812,"d":"22.15%"},{"$f":"[1]班线包车!AB43","v":5809.819},{"v":0.308953550505181,"d":"30.90%"},{"$f":"[1]班线包车!AD43","v":5215.6359},{"$f":"AD155/BF155-1","v":{"v":0.174158422408037,"d":"17.42%"}},{"$f":"[1]班线包车!AF43","v":5112.6802},{"v":0.090779363774929,"d":"9.08%"},{"$f":"[1]班线包车!AH43","v":5120.6557},{"v":0.0510662255654803,"d":"5.11%"},{"$f":"[1]班线包车!AJ43","v":5405.8883},{"$f":"AJ155/BL155-1","v":{"v":-0.0713593329920346,"d":"-7.14%"}},{"$f":"[1]班线包车!AL43","v":5115.4008},{"v":-0.128764451796653,"d":"-12.88%"},{"$f":"[1]班线包车!AN43","v":4543.3814},{"v":-0.125755927696944,"d":"-12.58%"},{"v":65756.0895,"d":"65756.09"},{"v":0.145363362705337,"d":"14.54%"},null,{"v":52213.7544,"d":"52213.75"},{"v":3726.7897,"d":"3726.79"},null,4178.52,null,4542.9886,null,{"v":4760.537,"d":"4760.54"},null,{"v":4872.6035,"d":"4872.60"},null,{"v":4438.5219,"d":"4438.52"},null,{"v":4442.0206,"d":"4442.02"},null,{"v":4687.1809,"d":"4687.18"},null,{"v":4871.8678,"d":"4871.87"},null,{"v":5821.2918,"d":"5821.29"},null,{"v":5871.4326,"d":"5871.43"},null,{"v":5196.9256,"d":"5196.93"},null,57410.68]
[null,"城际城乡公交旅客周转量（万人公里）",{"$f":"[1]公交!C50-[1]公交!C52","v":4344.69},{"$f":"C156/R156-1","v":{"v":-0.201920303898103,"d":"-20.19%"}},{"$f":"[1]公交!E50-[1]公交!E52","v":4041.1},{"v":-0.212950069042884,"d":"-21.30%"},{"$f":"[1]公交!G50-[1]公交!G52","v":4617.24},{"v":-0.161855041315113,"d":"-16.19%"},{"$f":"[1]公交!I50-[1]公交!I52","v":4796.78},{"$f":"I156/X156-1","v":{"v":-0.168258151773406,"d":"-16.83%"}},{"$f":"[1]公交!K50-[1]公交!K52","v":4871.22},{"v":-0.14633154697856,"d":"-14.63%"},{"$f":"[1]公交!M50-[1]公交!M52","v":4476.01},{"v":-0.187423980016048,"d":"-18.74%"},27147.04,{"v":-0.179081129840585,"d":"-17.91%"},27560.67,{"$f":"[1]公交!R50-[1]公交!R52","v":5443.93},{"$f":"R156/AT156-1","v":{"v":0.156459709266879,"d":"15.65%"}},{"$f":"[1]公交!T50-[1]公交!T52","v":5134.49},{"v":0.272188704022597,"d":"27.22%"},{"$f":"[1]公交!V50-[1]公交!V52","v":5508.88},{"v":0.365547978652468,"d":"36.55%"},{"$f":"[1]公交!X50-[1]公交!X52","v":5767.15},{"$f":"X156/AZ156-1","v":{"v":0.291614689131414,"d":"29.16%"}},{"$f":"[1]公交!Z50-[1]公交!Z52","v":5706.22},{"v":0.269688197428235,"d":"26.97%"},{"$f":"[1]公交!AB50-[1]公交!AB52","v":5508.42},{"v":0.300296486540078,"d":"30.03%"},{"$f":"[1]公交!AD50-[1]公交!AD52","v":3899.87},{"$f":"AD156/BF156-1","v":{"v":-0.00198075038194701,"d":"-0.20%"}},{"$f":"[1]公交!AF50-[1]公交!AF52","v":3522.37},{"v":-0.121914434290102,"d":"-12.19%"},{"$f":"[1]公交!AH50-[1]公交!AH52","v":4052.78},{"v":-0.0115749321990908,"d":"-1.16%"},{"$f":"[1]公交!AJ50-[1]公交!AJ52","v":4338.11},{"$f":"AJ156/BL156-1","v":{"v":-0.190078432324349,"d":"-19.01%"}},{"$f":"[1]公交!AL50-[1]公交!AL52","v":4413.38},{"v":-0.139168461130356,"d":"-13.92%"},{"$f":"[1]公交!AN50-[1]公交!AN52","v":4271.8},{"v":-0.18330280771922,"d":"-18.33%"},{"v":57567.4,"d":"57567.40"},{"v":0.0718982579795975,"d":"7.19%"},null,48475.45,4707.41,null,4035.95,null,4034.19,null,4465.07,null,4494.19,null,4236.28,null,3907.61,null,4011.42,null,4100.24,null,5356.21,null,5126.88,null,5230.58,null,53706.03]
[null,"城际城乡巡游出租旅客周转量（万人公里）",{"$f":"[1]出租!C50-[1]出租!C52","v":566.35},{"$f":"C157/R157-1","v":{"v":-0.111719313654757,"d":"-11.17%"}},{"$f":"[1]出租!E50-[1]出租!E52","v":554.25},{"v":-0.103416480636708,"d":"-10.34%"},{"$f":"[1]出租!G50-[1]出租!G52","v":558.67},{"v":-0.0340946420235482,"d":"-3.41%"},{"$f":"[1]出租!I50-[1]出租!I52","v":550.89},{"$f":"I157/X157-1","v":{"v":-0.036855079811878,"d":"-3.69%"}},{"$f":"[1]出租!K50-[1]出租!K52","v":591.47},{"v":0.034816382945221,"d":"3.48%"},{"$f":"[1]出租!M50-[1]出租!M52","v":553.09},{"v":-0.0322134733158357,"d":"-3.22%"},3374.72,{"v":-0.0491576951360734,"d":"-4.92%"},2977.69,{"$f":"[1]出租!R50-[1]出租!R52","v":637.58},{"$f":"R157/AT157-1","v":{"v":-0.433845989912623,"d":"-43.38%"}},{"$f":"[1]出租!T50-[1]出租!T52","v":618.18},{"v":0.200722554580063,"d":"20.07%"},{"$f":"[1]出租!V50-[1]出租!V52","v":578.39},{"v":0.173442889024143,"d":"17.34%"},{"$f":"[1]出租!X50-[1]出租!X52","v":571.97},{"$f":"X157/AZ157-1","v":{"v":-0.0400610902255641,"d":"-4.01%"}},{"$f":"[1]出租!Z50-[1]出租!Z52","v":571.57},{"v":-0.0435735680460503,"d":"-4.36%"},{"$f":"[1]出租!AB50-[1]出租!AB52","v":571.5},{"v":-0.0417183674838191,"d":"-4.17%"},{"$f":"[1]出租!AD50-[1]出租!AD52","v":581.7},{"$f":"AD157/BF157-1","v":{"v":-0.0285246668225392,"d":"-2.85%"}},{"$f":"[1]出租!AF50-[1]出租!AF52","v":575.09},{"v":0.0320513970891732,"d":"3.21%"},{"$f":"[1]出租!AH50-[1]出租!AH52","v":563.44},{"v":0.0089896493678594,"d":"0.90%"},{"$f":"[1]出租!AJ50-[1]出租!AJ52","v":558.33},{"$f":"AJ157/BL157-1","v":{"v":-0.119381092079114,"d":"-11.94%"}},{"$f":"[1]出租!AL50-[1]出租!AL52","v":531.37},{"v":-0.0696163745557051,"d":"-6.96%"},{"$f":"[1]出租!AN50-[1]出租!AN52","v":545.64},{"v":0.183831984552299,"d":"18.38%"},6904.76,{"v":-0.054688933246808,"d":"-5.47%"},null,6843.31,1126.16,null,514.84,null,{"v":492.9,"d":"492.90"},null,595.84,null,597.61,null,596.38,null,598.78,null,557.23,null,558.42,null,634.02,null,571.13,null,460.91,null,7304.22]
[null,"城际城乡网约车旅客周转量(万人公里)",{"$f":"[1]网约车!C50-[1]网约车!C52","v":{"v":432.136910830279,"d":"432.14"}},{"$f":"C158/R158-1","v":{"v":-0.165094813454933,"d":"-16.51%"}},{"$f":"[1]网约车!E50-[1]网约车!E52","v":{"v":323.771530884959,"d":"323.77"}},{"v":0.0200537425511502,"d":"2.01%"},{"$f":"[1]网约车!G50-[1]网约车!G52","v":{"v":376.676785704294,"d":"376.68"}},{"v":0.135649835085258,"d":"13.56%"},{"$f":"[1]网约车!I50-[1]网约车!I52","v":{"v":339.509446892303,"d":"339.51"}},{"$f":"I158/X158-1","v":{"v":2.44389125537325E-3,"d":"0.24%"}},{"$f":"[1]网约车!K50-[1]网约车!K52","v":{"v":420.376529602005,"d":"420.38"}},{"v":0.17191907464783,"d":"17.19%"},{"$f":"[1]网约车!M50-[1]网约车!M52","v":{"v":428.762778356815,"d":"428.76"}},{"v":0.248827641289644,"d":"24.88%"},{"v":2321.23398227065,"d":"2321.23"},{"v":0.0515692312895506,"d":"5.16%"},{"v":1864.06782861536,"d":"1864.07"},{"$f":"[1]网约车!R50-[1]网约车!R52","v":{"v":517.588006152544,"d":"517.59"}},{"$f":"R158/AT158-1","v":{"v":0.31061114279471,"d":"31.06%"}},{"$f":"[1]网约车!T50-[1]网约车!T52","v":{"v":317.406345743321,"d":"317.41"}},{"v":0.251832094851475,"d":"25.18%"},{"$f":"[1]网约车!V50-[1]网约车!V52","v":{"v":331.683917055309,"d":"331.68"}},{"v":0.027313981589439,"d":"2.73%"},{"$f":"[1]网约车!X50-[1]网约车!X52","v":{"v":338.681745536033,"d":"338.68"}},{"$f":"X158/AZ158-1","v":{"v":-0.146983495688916,"d":"-14.70%"}},{"$f":"[1]网约车!Z50-[1]网约车!Z52","v":{"v":358.707814128148,"d":"358.71"}},{"v":-0.119263629550679,"d":"-11.93%"},{"$f":"[1]网约车!AB50-[1]网约车!AB52","v":{"v":343.332229509301,"d":"343.33"}},{"v":-0.281755347238473,"d":"-28.18%"},{"$f":"[1]网约车!AD50-[1]网约车!AD52","v":{"v":337.691573871806,"d":"337.69"}},{"$f":"AD158/BF158-1","v":{"v":-0.338740102157591,"d":"-33.87%"}},{"$f":"[1]网约车!AF50-[1]网约车!AF52","v":{"v":329.721149427159,"d":"329.72"}},{"v":-0.317176929936429,"d":"-31.72%"},{"$f":"[1]网约车!AH50-[1]网约车!AH52","v":{"v":302.103061229134,"d":"302.10"}},{"v":-0.376485589699443,"d":"-37.65%"},{"$f":"[1]网约车!AJ50-[1]网约车!AJ52","v":{"v":424.749761580403,"d":"424.75"}},{"$f":"AJ158/BL158-1","v":{"v":-0.179585228767743,"d":"-17.96%"}},{"$f":"[1]网约车!AL50-[1]网约车!AL52","v":{"v":422.670883466502,"d":"422.67"}},{"v":-0.183850171541015,"d":"-18.39%"},{"$f":"[1]网约车!AN50-[1]网约车!AN52","v":{"v":545.825163134648,"d":"545.83"}},{"v":0.147649641730871,"d":"14.76%"},{"v":4570.16165083431,"d":"4570.16"},{"v":-0.128324870648726,"d":"-12.83%"},null,{"v":4767.36176783152,"d":"4767.36"},{"v":394.921109131465,"d":"394.92"},null,{"v":253.553449419253,"d":"253.55"},null,{"v":322.865183380581,"d":"322.87"},null,{"v":397.040085185175,"d":"397.04"},null,{"v":407.281708992156,"d":"407.28"},null,{"v":478.015712597717,"d":"478.02"},null,{"v":510.679046126406,"d":"510.68"},null,{"v":482.879334168457,"d":"482.88"},null,{"v":484.516566479208,"d":"484.52"},null,{"v":517.725638877067,"d":"517.73"},null,{"v":517.88393347404,"d":"517.88"},null,{"v":475.602608398362,"d":"475.60"},null,{"v":5242.96437622989,"d":"5242.96"}]
["随州市","总旅客周转量（万人公里）",{"$f":"C160+C161+C162+C163","v":{"v":7095.87676252053,"d":"7095.88"}},{"$f":"C159/R159-1","v":{"v":-0.0580349485812642,"d":"-5.80%"}},{"v":7434.48957774369,"d":"7434.49"},{"v":-0.0323726073085912,"d":"-3.24%"},{"v":7420.3952870259,"d":"7420.40"},{"v":-0.030652556800021,"d":"-3.07%"},{"$f":"I160+I161+I162+I163","v":{"v":7649.01636919679,"d":"7649.02"}},{"$f":"I159/X159-1","v":{"v":-0.0375894783244444,"d":"-3.76%"}},{"v":7656.45766086237,"d":"7656.46"},{"v":-0.0327206773593286,"d":"-3.27%"},{"v":7394.32586467529,"d":"7394.33"},{"v":-0.0340176765270522,"d":"-3.40%"},{"v":44650.5615220246,"d":"44650.56"},{"v":-0.0374806643452872,"d":"-3.75%"},{"v":38734.540163839,"d":"38734.54"},{"$f":"R160+R161+R162+R163","v":{"v":7533.05735901041,"d":"7533.06"}},{"$f":"R159/AT159-1","v":{"v":0.0551521263473547,"d":"5.52%"}},{"v":7683.21528916726,"d":"7683.22"},{"v":0.0473544049193451,"d":"4.74%"},{"v":7655.0418934721,"d":"7655.04"},{"v":0.0449610034126495,"d":"4.50%"},{"$f":"X160+X161+X162+X163","v":{"v":7947.76885427214,"d":"7947.77"}},{"$f":"X159/AZ159-1","v":{"v":0.0346160958450923,"d":"3.46%"}},{"v":7915.4567679171,"d":"7915.46"},{"v":-0.00454554646943872,"d":"-0.45%"},{"v":7654.72171177092,"d":"7654.72"},{"v":0.00293719852104934,"d":"0.29%"},{"$f":"AD160+AD161+AD162+AD163","v":{"v":7513.09665821566,"d":"7513.10"}},{"$f":"AD159/BF159-1","v":{"v":-0.0131369404669159,"d":"-1.31%"}},{"v":7161.62665640656,"d":"7161.63"},{"v":-0.0370940508667669,"d":"-3.71%"},{"v":7093.19777805973,"d":"7093.20"},{"v":-0.00938489782357832,"d":"-0.94%"},{"$f":"AJ160+AJ161+AJ162+AJ163","v":{"v":7497.97982113025,"d":"7497.98"}},{"$f":"AJ159/BL159-1","v":{"v":-0.0193565484146726,"d":"-1.94%"}},{"v":7292.5046673586,"d":"7292.50"},{"v":-0.0186716343847985,"d":"-1.87%"},{"v":7178.04447536046,"d":"7178.04"},{"v":-0.005861673435551,"d":"-0.59%"},{"v":90125.7119321412,"d":"90125.71"},{"v":0.00614582538460318,"d":"0.61%"},null,{"v":82354.8304898015,"d":"82354.83"},{"$f":"AT160+AT161+AT162+AT163","v":{"v":7139.30927200779,"d":"7139.31"}},null,{"v":7335.83136050202,"d":"7335.83"},null,{"v":7325.67231549517,"d":"7325.67"},null,{"$f":"AZ160+AZ161+AZ162+AZ163","v":{"v":7681.85309139258,"d":"7681.85"}},null,{"v":7951.60114040726,"d":"7951.60"},null,{"v":7632.30411939922,"d":"7632.30"},null,{"$f":"BF160+BF161+BF162+BF163","v":{"v":7613.10962614239,"d":"7613.11"}},null,{"v":7437.5141859422,"d":"7437.51"},null,{"v":7160.39737580791,"d":"7160.40"},null,{"$f":"BL160+BL161+BL162+BL163","v":{"v":7645.97959534515,"d":"7645.98"}},null,{"v":7431.25840735979,"d":"7431.26"},null,{"v":7220.36791415778,"d":"7220.37"},null,{"v":89575.1984039593,"d":"89575.20"}]
[null,"公路班线旅客周转量（万人公里）",{"$f":"[1]班线包车!C45","v":6018.7633},{"$f":"C160/R160-1","v":{"v":-0.0877542062490159,"d":"-8.78%"}},{"$f":"[1]班线包车!E45","v":6370.467},{"v":-0.0544902306761915,"d":"-5.45%"},{"$f":"[1]班线包车!G45","v":6382.2507},{"v":-0.0547271627195128,"d":"-5.47%"},{"$f":"[1]班线包车!I45","v":6638.9771},{"$f":"I160/X160-1","v":{"v":-0.0598665161617136,"d":"-5.99%"}},{"$f":"[1]班线包车!K45","v":6644.3877},{"v":-0.05579188354961,"d":"-5.58%"},{"$f":"[1]班线包车!M45","v":6426.1171},{"v":-0.0595861054257059,"d":"-5.96%"},{"v":38480.9629,"d":"38480.96"},{"v":-0.0618773735608973,"d":"-6.19%"},{"v":34185.8322,"d":"34185.83"},{"$f":"[1]班线包车!R45","v":6597.743},{"$f":"R160/AT160-1","v":{"v":0.0748073905318649,"d":"7.48%"}},{"$f":"[1]班线包车!T45","v":6737.6004},{"v":0.0647162419817198,"d":"6.47%"},{"$f":"[1]班线包车!V45","v":6751.7551},{"v":0.0699416361481104,"d":"6.99%"},{"$f":"[1]班线包车!X45","v":7061.7388},{"$f":"X160/AZ160-1","v":{"v":0.0446439374290464,"d":"4.46%"}},{"$f":"[1]班线包车!Z45","v":7036.9949},{"v":-0.00495462818887393,"d":"-0.50%"},{"$f":"[1]班线包车!AB45","v":6833.286},{"v":0.0127860780453517,"d":"1.28%"},{"$f":"[1]班线包车!AD45","v":6717.576},{"$f":"AD160/BF160-1","v":{"v":-0.00635451103809681,"d":"-0.64%"}},{"$f":"[1]班线包车!AF45","v":6359.2432},{"v":-0.0418301462308058,"d":"-4.18%"},{"$f":"[1]班线包车!AH45","v":6290.8263},{"v":-0.0136180444863491,"d":"-1.36%"},{"$f":"[1]班线包车!AJ45","v":6607.9652},{"$f":"AJ160/BL160-1","v":{"v":-0.0254421121069575,"d":"-2.54%"}},{"$f":"[1]班线包车!AL45","v":6390.1947},{"v":-0.026391779681641,"d":"-2.64%"},{"$f":"[1]班线包车!AN45","v":6195.4234},{"v":-0.0105336230757113,"d":"-1.05%"},{"v":79580.347,"d":"79580.35"},{"v":0.0107192969185781,"d":"1.07%"},null,{"v":72474.9703,"d":"72474.97"},{"v":6138.5352,"d":"6138.54"},null,{"v":6328.0714,"d":"6328.07"},null,6310.3957,null,{"v":6759.9481,"d":"6759.95"},null,{"v":7072.0342,"d":"7072.03"},null,{"v":6747.0181,"d":"6747.02"},null,{"v":6760.5359,"d":"6760.54"},null,{"v":6636.8642,"d":"6636.86"},null,{"v":6377.6778,"d":"6377.68"},null,{"v":6780.4748,"d":"6780.47"},null,{"v":6563.4149,"d":"6563.41"},null,{"v":6261.3784,"d":"6261.38"},null,{"v":78736.3487,"d":"78736.35"}]
[null,"城际城乡公交旅客周转量（万人公里）",{"$f":"[1]公交!C54-[1]公交!C56","v":613.91},{"$f":"C161/R161-1","v":{"v":-0.0227008612318321,"d":"-2.27%"}},{"$f":"[1]公交!E54-[1]公交!E56","v":578.52},{"v":-0.101258350163119,"d":"-10.13%"},{"$f":"[1]公交!G54-[1]公交!G56","v":573.87},{"v":-0.051344783693981,"d":"-5.13%"},{"$f":"[1]公交!I54-[1]公交!I56","v":549.26},{"$f":"I161/X161-1","v":{"v":-0.0614630145412913,"d":"-6.15%"}},{"$f":"[1]公交!K54-[1]公交!K56","v":552.73},{"v":0.0078773180649514,"d":"0.79%"},{"$f":"[1]公交!M54-[1]公交!M56","v":508.73},{"v":0.0214436301576146,"d":"2.14%"},3377.02,{"v":-0.0374719608720562,"d":"-3.75%"},3010.44,{"$f":"[1]公交!R54-[1]公交!R56","v":628.17},{"$f":"R161/AT161-1","v":{"v":0.0603457006853245,"d":"6.03%"}},{"$f":"[1]公交!T54-[1]公交!T56","v":643.7},{"v":0.00048182284461995,"d":"0.05%"},{"$f":"[1]公交!V54-[1]公交!V56","v":604.93},{"v":-0.0863878694516184,"d":"-8.64%"},{"$f":"[1]公交!X54-[1]公交!X56","v":585.23},{"$f":"X161/AZ161-1","v":{"v":0.0288853727144867,"d":"2.89%"}},{"$f":"[1]公交!Z54-[1]公交!Z56","v":548.41},{"v":0.0289890423296306,"d":"2.90%"},{"$f":"[1]公交!AB54-[1]公交!AB56","v":498.05},{"v":-0.0376589249140163,"d":"-3.77%"},{"$f":"[1]公交!AD54-[1]公交!AD56","v":466.28},{"$f":"AD161/BF161-1","v":{"v":-0.052295685047052,"d":"-5.23%"}},{"$f":"[1]公交!AF54-[1]公交!AF56","v":464.79},{"v":0.0512756717633223,"d":"5.13%"},{"$f":"[1]公交!AH54-[1]公交!AH56","v":475.35},{"v":0.0880064087891965,"d":"8.80%"},{"$f":"[1]公交!AJ54-[1]公交!AJ56","v":547.91},{"$f":"AJ161/BL161-1","v":{"v":0.0865624876056001,"d":"8.66%"}},{"$f":"[1]公交!AL54-[1]公交!AL56","v":546.39},{"v":0.0846882258352688,"d":"8.47%"},{"$f":"[1]公交!AN54-[1]公交!AN56","v":563.41},{"v":-0.0266735769197546,"d":"-2.67%"},6572.62,{"v":0.0150592036274286,"d":"1.51%"},null,5896.26,592.42,null,643.39,null,662.13,null,{"v":568.8,"d":"568.80"},null,532.96,null,517.54,null,492.01,null,442.12,null,{"v":436.9,"d":"436.90"},null,504.26,null,503.73,null,578.85,null,6475.11]
[null,"城际城乡巡游出租旅客周转量（万人公里）",{"$f":"[1]出租!C54-[1]出租!C56","v":256.23},{"$f":"C162/R162-1","v":{"v":-0.0508945438382042,"d":"-5.09%"}},{"$f":"[1]出租!E54-[1]出租!E56","v":282.11},{"v":0.0791033928776348,"d":"7.91%"},{"$f":"[1]出租!G54-[1]出租!G56","v":274.28},{"v":0.0725793837009232,"d":"7.26%"},{"$f":"[1]出租!I54-[1]出租!I56","v":281.87},{"$f":"I162/X162-1","v":{"v":0.120577244175877,"d":"12.06%"}},{"$f":"[1]出租!K54-[1]出租!K56","v":284.25},{"v":0.0276201149633053,"d":"2.76%"},{"$f":"[1]出租!M54-[1]出租!M56","v":282.01},{"v":0.0453719835415349,"d":"4.54%"},1660.75,{"v":0.0477653560793418,"d":"4.78%"},1315.27,{"$f":"[1]出租!R54-[1]出租!R56","v":269.97},{"$f":"R162/AT162-1","v":{"v":0.00278582571874297,"d":"0.28%"}},{"$f":"[1]出租!T54-[1]出租!T56","v":261.43},{"v":-0.0570264031164336,"d":"-5.70%"},{"$f":"[1]出租!V54-[1]出租!V56","v":255.72},{"v":-0.0141485793592663,"d":"-1.41%"},{"$f":"[1]出租!X54-[1]出租!X56","v":251.54},{"$f":"X162/AZ162-1","v":{"v":0.0035507680031921,"d":"0.36%"}},{"$f":"[1]出租!Z54-[1]出租!Z56","v":276.61},{"v":0.0817755181853737,"d":"8.18%"},{"$f":"[1]出租!AB54-[1]出租!AB56","v":269.77},{"v":-0.035122858471333,"d":"-3.51%"},{"$f":"[1]出租!AD54-[1]出租!AD56","v":264.4},{"$f":"AD162/BF162-1","v":{"v":0.0602718851505799,"d":"6.03%"}},{"$f":"[1]出租!AF54-[1]出租!AF56","v":265.25},{"v":0.0517446471054719,"d":"5.17%"},{"$f":"[1]出租!AH54-[1]出租!AH56","v":259.37},{"v":0.0233172887240589,"d":"2.33%"},{"$f":"[1]出租!AJ54-[1]出租!AJ56","v":257.48},{"$f":"AJ162/BL162-1","v":{"v":-0.00332894634977143,"d":"-0.33%"}},{"$f":"[1]出租!AL54-[1]出租!AL56","v":248.7},{"v":-0.00781935689778968,"d":"-0.78%"},{"$f":"[1]出租!AN54-[1]出租!AN56","v":250.83},{"v":-0.0111566664038475,"d":"-1.12%"},3131.07,{"v":0.00694328312129366,"d":"0.69%"},null,2855.82,269.22,null,277.24,null,259.39,null,250.65,null,{"v":255.7,"d":"255.70"},null,279.59,null,249.37,null,{"v":252.2,"d":"252.20"},null,253.46,null,258.34,null,250.66,null,253.66,null,3109.48]
[null,"城际城乡网约车旅客周转量(万人公里)",{"$f":"[1]网约车!C54-[1]网约车!C56","v":{"v":206.973462520526,"d":"206.97"}},{"$f":"C163/R163-1","v":{"v":4.56764038520689,"d":"456.76%"}},{"$f":"[1]网约车!E54-[1]网约车!E56","v":{"v":203.392577743688,"d":"203.39"}},{"v":4.02391341380179,"d":"402.39%"},{"$f":"[1]网约车!G54-[1]网约车!G56","v":{"v":189.994587025903,"d":"189.99"}},{"v":3.45611809786429,"d":"345.61%"},{"$f":"[1]网约车!I54-[1]网约车!I56","v":{"v":178.909269196787,"d":"178.91"}},{"$f":"I163/X163-1","v":{"v":2.63193406585334,"d":"263.19%"}},{"$f":"[1]网约车!K54-[1]网约车!K56","v":{"v":175.089960862367,"d":"175.09"}},{"v":2.27626948096158,"d":"227.63%"},{"$f":"[1]网约车!M54-[1]网约车!M56","v":{"v":177.468764675292,"d":"177.47"}},{"v":2.31001415095546,"d":"231.00%"},{"$f":"E163+C163+G163+I163+K163+M163","v":{"v":1131.82862202456,"d":"1131.83"}},{"$f":"O163/SUM(R163,T163,V163,X163,Z163,AB163)-1","v":{"v":3.09173053186509,"d":"309.17%"}},{"$f":"R163+T163+V163+X163+Z163","v":{"v":222.997963839007,"d":"223.00"}},{"$f":"[1]网约车!R54-[1]网约车!R56","v":{"v":37.1743590104078,"d":"37.17"}},{"$f":"R163/AT163-1","v":{"v":-0.732816279478075,"d":"-73.28%"}},{"$f":"[1]网约车!T54-[1]网约车!T56","v":{"v":40.4848891672623,"d":"40.48"}},{"v":-0.535350539194567,"d":"-53.54%"},{"$f":"[1]网约车!V54-[1]网约车!V56","v":{"v":42.6367934720947,"d":"42.64"}},{"v":-0.54523962659154,"d":"-54.52%"},{"$f":"[1]网约车!X54-[1]网约车!X56","v":{"v":49.2600542721448,"d":"49.26"}},{"$f":"X163/AZ163-1","v":{"v":-0.519202982669795,"d":"-51.92%"}},{"$f":"[1]网约车!Z54-[1]网约车!Z56","v":{"v":53.4418679170977,"d":"53.44"}},{"v":-0.412125546435947,"d":"-41.21%"},{"$f":"[1]网约车!AB54-[1]网约车!AB56","v":{"v":53.6157117709192,"d":"53.62"}},{"v":-0.391808839188658,"d":"-39.18%"},{"$f":"[1]网约车!AD54-[1]网约车!AD56","v":{"v":64.8406582156566,"d":"64.84"}},{"$f":"AD163/BF163-1","v":{"v":-0.416867655531014,"d":"-41.69%"}},{"$f":"[1]网约车!AF54-[1]网约车!AF56","v":{"v":72.3434564065568,"d":"72.34"}},{"v":-0.319632596905598,"d":"-31.96%"},{"$f":"[1]网约车!AH54-[1]网约车!AH56","v":{"v":67.6514780597338,"d":"67.65"}},{"v":-0.267520693247477,"d":"-26.75%"},{"$f":"[1]网约车!AJ54-[1]网约车!AJ56","v":{"v":84.624621130251,"d":"84.62"}},{"$f":"AJ163/BL163-1","v":{"v":-0.177641616735006,"d":"-17.76%"}},{"$f":"[1]网约车!AL54-[1]网约车!AL56","v":{"v":107.219967358605,"d":"107.22"}},{"v":-0.0549435636345202,"d":"-5.49%"},{"$f":"[1]网约车!AN54-[1]网约车!AN56","v":{"v":168.381075360461,"d":"168.38"}},{"v":0.331291288409003,"d":"33.13%"},{"$f":"T163+R163+V163+X163+Z163+AB163+AD163+AF163+AH163+AJ163+AL163+AN163","v":{"v":841.674932141191,"d":"841.67"}},{"$f":"AP163/SUM(AT163,AV163,AX163,AZ163,BB163,BD163,BF163,BH163,BJ163,BL163,BN163,BP163)-1","v":{"v":-0.328946844513686,"d":"-32.89%"}},null,{"$f":"AT163+AV163+AX163+AZ163+BB163+BD163+BF163+BH163+BJ163+BL163+BN163","v":{"v":1127.78018980147,"d":"1127.78"}},{"v":139.134072007794,"d":"139.13"},null,{"v":87.12996050202,"d":"87.13"},null,{"v":93.7566154951652,"d":"93.76"},null,{"v":102.454991392581,"d":"102.45"},null,{"v":90.9069404072597,"d":"90.91"},null,{"v":88.1560193992207,"d":"88.16"},null,{"v":111.193726142394,"d":"111.19"},null,{"v":106.329985942197,"d":"106.33"},null,{"v":92.3595758079084,"d":"92.36"},null,{"v":102.904795345148,"d":"102.90"},null,{"v":113.453507359787,"d":"113.45"},null,{"v":126.479514157784,"d":"126.48"},null,{"$f":"AT163+AV163+AX163+AZ163+BB163+BD163+BF163+BH163+BJ163+BL163+BN163+BP163","v":{"v":1254.25970395926,"d":"1254.26"}}]
["恩施州","总旅客周转量（万人公里）",{"$f":"C165+C166+C167+C168","v":{"v":14292.8562850431,"d":"14292.86"}},{"$f":"C164/R164-1","v":{"v":-0.0355310152064635,"d":"-3.55%"}},{"v":16352.394236129,"d":"16352.39"},{"v":0.0242732571530129,"d":"2.43%"},{"v":17256.9048774099,"d":"17256.90"},{"v":0.0496295110688634,"d":"4.96%"},{"$f":"I165+I166+I167+I168","v":{"v":18292.6528446721,"d":"18292.65"}},{"$f":"I164/X164-1","v":{"v":-0.0424402263323814,"d":"-4.24%"}},{"v":17553.2510824687,"d":"17553.25"},{"v":-0.0744677490222618,"d":"-7.45%"},{"v":15799.1005102305,"d":"15799.10"},{"v":-0.0761359496898486,"d":"-7.61%"},{"v":99547.1598359533,"d":"99547.16"},{"v":-0.0278153195269435,"d":"-2.78%"},{"v":85294.2085923405,"d":"85294.21"},{"$f":"R165+R166+R167+R168","v":{"v":14819.4047816921,"d":"14819.40"}},{"$f":"R164/AT164-1","v":{"v":-0.0384801687249622,"d":"-3.85%"}},{"v":15964.8747264776,"d":"15964.87"},{"v":-0.0306307029277948,"d":"-3.06%"},{"v":16440.9486351396,"d":"16440.95"},{"v":-0.000874345663169129,"d":"-0.09%"},{"$f":"X165+X166+X167+X168","v":{"v":19103.4057065786,"d":"19103.41"}},{"$f":"X164/AZ164-1","v":{"v":0.0197360985311621,"d":"1.97%"}},{"v":18965.5747424526,"d":"18965.57"},{"v":-0.034604814147007,"d":"-3.46%"},{"v":17101.1097411211,"d":"17101.11"},{"v":-0.096166705414252,"d":"-9.62%"},{"$f":"AD165+AD166+AD167+AD168","v":{"v":19677.8668717389,"d":"19677.87"}},{"$f":"AD164/BF164-1","v":{"v":-0.0727660758488335,"d":"-7.28%"}},{"v":17991.0440077224,"d":"17991.04"},{"v":-0.130612302266445,"d":"-13.06%"},{"v":15311.527410868,"d":"15311.53"},{"v":-0.169674888903515,"d":"-16.97%"},{"$f":"AJ165+AJ166+AJ167+AJ168","v":{"v":14230.7837427687,"d":"14230.78"}},{"$f":"AJ164/BL164-1","v":{"v":-0.214667899231475,"d":"-21.47%"}},{"v":14272.8937544219,"d":"14272.89"},{"v":-0.144665914196521,"d":"-14.47%"},{"v":13491.0054227187,"d":"13491.01"},{"v":-0.088267070535258,"d":"-8.83%"},{"v":197370.4395437,"d":"197370.44"},{"v":-0.0845444913957974,"d":"-8.45%"},null,{"v":200800.966304668,"d":"200800.97"},{"$f":"AT165+AT166+AT167+AT168","v":{"v":15412.4795970569,"d":"15412.48"}},null,{"v":16469.3422565543,"d":"16469.34"},null,{"v":16455.3362870582,"d":"16455.34"},null,{"$f":"AZ165+AZ166+AZ167+AZ168","v":{"v":18733.676030588,"d":"18733.68"}},null,{"v":19645.4001639704,"d":"19645.40"},null,{"v":18920.6459239356,"d":"18920.65"},null,{"$f":"BF165+BF166+BF167+BF168","v":{"v":21222.1170507247,"d":"21222.12"}},null,{"v":20693.9252241826,"d":"20693.93"},null,{"v":18440.4002796548,"d":"18440.40"},null,{"$f":"BL165+BL166+BL167+BL168","v":{"v":18120.720812052,"d":"18120.72"}},null,{"v":16686.9226788902,"d":"16686.92"},null,{"v":14797.1022946807,"d":"14797.10"},null,{"v":215598.068599348,"d":"215598.07"}]
[null,"公路班线旅客周转量（万人公里）",{"$f":"[1]班线包车!C49","v":10684.8007},{"$f":"C165/R165-1","v":{"v":0.0891794572376348,"d":"8.92%"}},{"$f":"[1]班线包车!E49","v":13255.0026},{"v":0.117912712060009,"d":"11.79%"},{"$f":"[1]班线包车!G49","v":13786.1171},{"v":0.174692143335253,"d":"17.47%"},{"$f":"[1]班线包车!I49","v":14831.9663},{"$f":"I165/X165-1","v":{"v":0.0420732699034427,"d":"4.21%"}},{"$f":"[1]班线包车!K49","v":13914.4557},{"v":-0.0113665323304102,"d":"-1.14%"},{"$f":"[1]班线包车!M49","v":12216.1679},{"v":-0.014161970671528,"d":"-1.42%"},{"v":78688.5103,"d":"78688.51"},{"v":0.0618939959263469,"d":"6.19%"},{"v":61710.3808,"d":"61710.38"},{"$f":"[1]班线包车!R49","v":9809.9543},{"$f":"R165/AT165-1","v":{"v":-0.0789879049518225,"d":"-7.90%"}},{"$f":"[1]班线包车!T49","v":11856.9209},{"v":-0.0759822229545628,"d":"-7.60%"},{"$f":"[1]班线包车!V49","v":11735.9405},{"v":-0.0160517928950228,"d":"-1.61%"},{"$f":"[1]班线包车!X49","v":14233.1319},{"$f":"X165/AZ165-1","v":{"v":0.0358616823576945,"d":"3.59%"}},{"$f":"[1]班线包车!Z49","v":14074.4332},{"v":-0.0407968754848388,"d":"-4.08%"},{"$f":"[1]班线包车!AB49","v":12391.6582},{"v":-0.113889138295201,"d":"-11.39%"},{"$f":"[1]班线包车!AD49","v":14757.5267},{"$f":"AD165/BF165-1","v":{"v":-0.0475360397317872,"d":"-4.75%"}},{"$f":"[1]班线包车!AF49","v":14360.2888},{"v":-0.0551707968798998,"d":"-5.52%"},{"$f":"[1]班线包车!AH49","v":11934.8122},{"v":-0.0946443498057074,"d":"-9.46%"},{"$f":"[1]班线包车!AJ49","v":11428.8009},{"$f":"AJ165/BL165-1","v":{"v":-0.106839257806364,"d":"-10.68%"}},{"$f":"[1]班线包车!AL49","v":11283.7082},{"v":1.18111194063908E-3,"d":"0.12%"},{"$f":"[1]班线包车!AN49","v":10386.9353},{"v":0.0983713748614905,"d":"9.84%"},{"v":148254.1111,"d":"148254.11"},{"v":-0.0447953082553804,"d":"-4.48%"},null,{"v":145749.9707,"d":"145749.97"},{"v":10651.2763,"d":"10651.28"},null,{"v":12831.9186,"d":"12831.92"},null,11927.3966,null,{"v":13740.3788,"d":"13740.38"},null,{"v":14673.0477,"d":"14673.05"},null,{"v":13984.3204,"d":"13984.32"},null,{"v":15494.0526,"d":"15494.05"},null,{"v":15198.8198,"d":"15198.82"},null,{"v":13182.4573,"d":"13182.46"},null,{"v":12795.906,"d":"12795.91"},null,{"v":11270.3966,"d":"11270.40"},null,{"v":9456.6697,"d":"9456.67"},null,{"v":155206.6404,"d":"155206.64"}]
[null,"城际城乡公交旅客周转量（万人公里）",{"$f":"[1]公交!C58-[1]公交!C60","v":1613.52},{"$f":"C166/R166-1","v":{"v":-0.539457459926017,"d":"-53.95%"}},{"$f":"[1]公交!E58-[1]公交!E60","v":1188.04},{"v":-0.56363449375225,"d":"-56.36%"},{"$f":"[1]公交!G58-[1]公交!G60","v":1545.24},{"v":-0.540023635243303,"d":"-54.00%"},{"$f":"[1]公交!I58-[1]公交!I60","v":1550.19},{"$f":"I166/X166-1","v":{"v":-0.548966095136123,"d":"-54.90%"}},{"$f":"[1]公交!K58-[1]公交!K60","v":1626.06},{"v":-0.518696443635395,"d":"-51.87%"},{"$f":"[1]公交!M58-[1]公交!M60","v":1556.31},{"v":-0.50702257868329,"d":"-50.70%"},9079.36,{"v":-0.535769488190687,"d":"-53.58%"},16400.91,{"$f":"[1]公交!R58-[1]公交!R60","v":3503.52},{"$f":"R166/AT166-1","v":{"v":-0.0619281837630296,"d":"-6.19%"}},{"$f":"[1]公交!T58-[1]公交!T60","v":2722.58},{"v":-0.00957473898650363,"d":"-0.96%"},{"$f":"[1]公交!V58-[1]公交!V60","v":3359.39},{"v":-0.0822492255071767,"d":"-8.22%"},{"$f":"[1]公交!X58-[1]公交!X60","v":3436.97},{"$f":"X166/AZ166-1","v":{"v":-0.113922647375776,"d":"-11.39%"}},{"$f":"[1]公交!Z58-[1]公交!Z60","v":3378.45},{"v":-0.118551778837624,"d":"-11.86%"},{"$f":"[1]公交!AB58-[1]公交!AB60","v":3156.96},{"v":-0.175489502179483,"d":"-17.55%"},{"$f":"[1]公交!AD58-[1]公交!AD60","v":3291.04},{"$f":"AD166/BF166-1","v":{"v":-0.174671163997944,"d":"-17.47%"}},{"$f":"[1]公交!AF58-[1]公交!AF60","v":1961.26},{"v":-0.472581078900661,"d":"-47.26%"},{"$f":"[1]公交!AH58-[1]公交!AH60","v":1754.73},{"v":-0.494736387457169,"d":"-49.47%"},{"$f":"[1]公交!AJ58-[1]公交!AJ60","v":926.36},{"$f":"AJ166/BL166-1","v":{"v":-0.735502549723899,"d":"-73.55%"}},{"$f":"[1]公交!AL58-[1]公交!AL60","v":966.26},{"v":-0.731177769987926,"d":"-73.12%"},{"$f":"[1]公交!AN58-[1]公交!AN60","v":957.34},{"v":-0.731590929481428,"d":"-73.16%"},29414.86,{"v":-0.324220276520776,"d":"-32.42%"},null,39960.57,3734.81,null,{"v":2748.9,"d":"2748.90"},null,3660.46,null,3878.86,null,3832.84,null,3828.89,null,3987.55,null,{"v":3718.6,"d":"3718.60"},null,{"v":3472.9,"d":"3472.90"},null,3502.34,null,3594.42,null,3566.72,null,43527.29]
[null,"城际城乡巡游出租旅客周转量（万人公里）",{"$f":"[1]出租!C58-[1]出租!C60","v":1335.24},{"$f":"C167/R167-1","v":{"v":0.00492966756730295,"d":"0.49%"}},{"$f":"[1]出租!E58-[1]出租!E60","v":1399.46},{"v":0.16533295584182,"d":"16.53%"},{"$f":"[1]出租!G58-[1]出租!G60","v":1219.59},{"v":0.0853341639227554,"d":"8.53%"},{"$f":"[1]出租!I58-[1]出租!I60","v":1184.76},{"$f":"I167/X167-1","v":{"v":0.023993085566119,"d":"2.40%"}},{"$f":"[1]出租!K58-[1]出租!K60","v":1208.02},{"v":0.032292797142442,"d":"3.23%"},{"$f":"[1]出租!M58-[1]出租!M60","v":1194.75},{"v":0.03719040550043,"d":"3.72%"},7541.82,{"v":0.0573969076501171,"d":"5.74%"},5980.53,{"$f":"[1]出租!R58-[1]出租!R60","v":1328.69},{"$f":"R167/AT167-1","v":{"v":0.51526452039641,"d":"51.53%"}},{"$f":"[1]出租!T58-[1]出租!T60","v":1200.91},{"v":0.54910155695729,"d":"54.91%"},{"$f":"[1]出租!V58-[1]出租!V60","v":1123.7},{"v":0.505795644891122,"d":"50.58%"},{"$f":"[1]出租!X58-[1]出租!X60","v":1157},{"$f":"X167/AZ167-1","v":{"v":0.283943493169687,"d":"28.39%"}},{"$f":"[1]出租!Z58-[1]出租!Z60","v":1170.23},{"v":0.279905065021711,"d":"27.99%"},{"$f":"[1]出租!AB58-[1]出租!AB60","v":1151.91},{"v":0.329244510091277,"d":"32.92%"},{"$f":"[1]出租!AD58-[1]出租!AD60","v":1198.98},{"$f":"AD167/BF167-1","v":{"v":-0.135084833795014,"d":"-13.51%"}},{"$f":"[1]出租!AF58-[1]出租!AF60","v":1210.96},{"v":-0.164739964132984,"d":"-16.47%"},{"$f":"[1]出租!AH58-[1]出租!AH60","v":1229.41},{"v":-0.149573891148557,"d":"-14.96%"},{"$f":"[1]出租!AJ58-[1]出租!AJ60","v":1250.61},{"$f":"AJ167/BL167-1","v":{"v":-0.152760653072285,"d":"-15.28%"}},{"$f":"[1]出租!AL58-[1]出租!AL60","v":1359.49},{"v":-0.0581988223068928,"d":"-5.82%"},{"$f":"[1]出租!AN58-[1]出租!AN60","v":1449.15},{"v":0.0606071695185679,"d":"6.06%"},14831.04,{"v":0.0866822977725672,"d":"8.67%"},null,12281.66,876.87,null,775.23,null,746.25,null,901.13,null,914.31,null,866.59,null,1386.24,null,{"v":1449.8,"d":"1449.80"},null,1445.64,null,{"v":1476.1,"d":"1476.10"},null,{"v":1443.5,"d":"1443.50"},null,1366.34,null,{"v":13648,"d":"13648.00"}]
[null,"城际城乡网约车旅客周转量(万人公里)",{"$f":"[1]网约车!C58-[1]网约车!C60","v":{"v":659.295585043073,"d":"659.30"}},{"$f":"C168/R168-1","v":{"v":2.71977992131807,"d":"271.98%"}},{"$f":"[1]网约车!E58-[1]网约车!E60","v":{"v":509.891636129035,"d":"509.89"}},{"v":1.76418225657337,"d":"176.42%"},{"$f":"[1]网约车!G58-[1]网约车!G60","v":{"v":705.957777409858,"d":"705.96"}},{"v":2.18116307604074,"d":"218.12%"},{"$f":"[1]网约车!I58-[1]网约车!I60","v":{"v":725.736544672053,"d":"725.74"}},{"$f":"I168/X168-1","v":{"v":1.62658902046552,"d":"162.66%"}},{"$f":"[1]网约车!K58-[1]网约车!K60","v":{"v":804.715382468729,"d":"804.72"}},{"v":1.34979781001254,"d":"134.98%"},{"$f":"[1]网约车!M58-[1]网约车!M60","v":{"v":831.872610230504,"d":"831.87"}},{"v":1.07666236417784,"d":"107.67%"},{"v":4237.46953595325,"d":"4237.47"},{"v":1.6435125410681,"d":"164.35%"},{"v":1202.3877923405,"d":"1202.39"},{"$f":"[1]网约车!R58-[1]网约车!R60","v":{"v":177.240481692115,"d":"177.24"}},{"$f":"R168/AT168-1","v":{"v":0.18537034148375,"d":"18.54%"}},{"$f":"[1]网约车!T58-[1]网约车!T60","v":{"v":184.463826477609,"d":"184.46"}},{"v":0.62819201081392,"d":"62.82%"},{"$f":"[1]网约车!V58-[1]网约车!V60","v":{"v":221.918135139582,"d":"221.92"}},{"v":0.830559333483317,"d":"83.06%"},{"$f":"[1]网约车!X58-[1]网约车!X60","v":{"v":276.303806578552,"d":"276.30"}},{"$f":"X168/AZ168-1","v":{"v":0.29533258585233,"d":"29.53%"}},{"$f":"[1]网约车!Z58-[1]网约车!Z60","v":{"v":342.46154245264,"d":"342.46"}},{"v":0.520682928662923,"d":"52.07%"},{"$f":"[1]网约车!AB58-[1]网约车!AB60","v":{"v":400.581541121079,"d":"400.58"}},{"v":0.663230167517088,"d":"66.32%"},{"$f":"[1]网约车!AD58-[1]网约车!AD60","v":{"v":430.320171738886,"d":"430.32"}},{"$f":"AD168/BF168-1","v":{"v":0.214652004564743,"d":"21.47%"}},{"$f":"[1]网约车!AF58-[1]网约车!AF60","v":{"v":458.535207722418,"d":"458.54"}},{"v":0.403512686909595,"d":"40.35%"},{"$f":"[1]网约车!AH58-[1]网约车!AH60","v":{"v":392.575210868005,"d":"392.58"}},{"v":0.156664008275095,"d":"15.67%"},{"$f":"[1]网约车!AJ58-[1]网约车!AJ60","v":{"v":625.012842768737,"d":"625.01"}},{"$f":"AJ168/BL168-1","v":{"v":0.804440799450738,"d":"80.44%"}},{"$f":"[1]网约车!AL58-[1]网约车!AL60","v":{"v":663.435554421917,"d":"663.44"}},{"v":0.752310888315894,"d":"75.23%"},{"$f":"[1]网约车!AN58-[1]网约车!AN60","v":{"v":697.580122718713,"d":"697.58"}},{"v":0.712388441999735,"d":"71.24%"},{"v":4870.42844370025,"d":"4870.43"},{"v":0.514371628895498,"d":"51.44%"},null,{"v":2808.76560466767,"d":"2808.77"},{"v":149.523297056901,"d":"149.52"},null,{"v":113.293656554301,"d":"113.29"},null,{"v":121.229687058163,"d":"121.23"},null,{"v":213.307230587999,"d":"213.31"},null,{"v":225.202463970417,"d":"225.20"},null,{"v":240.845523935558,"d":"240.85"},null,{"v":354.274450724746,"d":"354.27"},null,{"v":326.70542418257,"d":"326.71"},null,{"v":339.402979654777,"d":"339.40"},null,{"v":346.374812052015,"d":"346.37"},null,{"v":378.606078890219,"d":"378.61"},null,{"v":407.372594680723,"d":"407.37"},null,{"v":3216.13819934839,"d":"3216.14"}]
["仙桃市","总旅客周转量（万人公里）",{"$f":"C170+C171+C172+C173","v":{"v":958.71325430899,"d":"958.71"}},{"$f":"C169/R169-1","v":{"v":-0.0894012796781622,"d":"-8.94%"}},{"v":983.672983148429,"d":"983.67"},{"v":-0.0675271897327181,"d":"-6.75%"},{"v":972.673334996947,"d":"972.67"},{"v":-0.0703682863632238,"d":"-7.04%"},{"$f":"I170+I171+I172+I173","v":{"v":945.914216430373,"d":"945.91"}},{"$f":"I169/X169-1","v":{"v":-0.067806240980567,"d":"-6.78%"}},{"v":973.352776480579,"d":"973.35"},{"v":-0.0704076543624507,"d":"-7.04%"},{"v":1007.11727046419,"d":"1007.12"},{"v":-0.177886356682365,"d":"-17.79%"},{"v":5841.4438358295,"d":"5841.44"},{"v":-0.0930665033261012,"d":"-9.31%"},{"v":5215.83927331917,"d":"5215.84"},{"$f":"R170+R171+R172+R173","v":{"v":1052.83835010239,"d":"1052.84"}},{"$f":"R169/AT169-1","v":{"v":-0.0763557871480812,"d":"-7.64%"}},{"v":1054.90795261523,"d":"1054.91"},{"v":-0.0424559562255595,"d":"-4.25%"},{"v":1046.29964826801,"d":"1046.30"},{"v":-0.0402169018528927,"d":"-4.02%"},{"$f":"X170+X171+X172+X173","v":{"v":1014.71846091887,"d":"1014.72"}},{"$f":"X169/AZ169-1","v":{"v":-0.0818556896012878,"d":"-8.19%"}},{"v":1047.07486141467,"d":"1047.07"},{"v":-0.0530601008125561,"d":"-5.31%"},{"v":1225.0341283718,"d":"1225.03"},{"v":0.0339066139842992,"d":"3.39%"},{"$f":"AD170+AD171+AD172+AD173","v":{"v":844.551511198551,"d":"844.55"}},{"$f":"AD169/BF169-1","v":{"v":-0.20357393668315,"d":"-20.36%"}},{"v":838.746729949297,"d":"838.75"},{"v":-0.26003953820844,"d":"-26.00%"},{"v":877.477566273299,"d":"877.48"},{"v":-0.128100950761665,"d":"-12.81%"},{"$f":"AJ170+AJ171+AJ172+AJ173","v":{"v":815.048959631178,"d":"815.05"}},{"$f":"AJ169/BL169-1","v":{"v":-0.2761911462842,"d":"-27.62%"}},{"v":805.85750006362,"d":"805.86"},{"v":-0.23189208591935,"d":"-23.19%"},{"v":824.61942140084,"d":"824.62"},{"v":-0.23280328583694,"d":"-23.28%"},{"v":11447.1750902078,"d":"11447.18"},{"v":-0.131332945226261,"d":"-13.13%"},null,{"v":12103.0151604789,"d":"12103.02"},{"$f":"AT170+AT171+AT172+AT173","v":{"v":1139.8743536232,"d":"1139.87"}},null,{"v":1101.6808672915,"d":"1101.68"},null,{"v":1090.14177295675,"d":"1090.14"},null,{"$f":"AZ170+AZ171+AZ172+AZ173","v":{"v":1105.18406466868,"d":"1105.18"}},null,{"v":1105.74584755923,"d":"1105.75"},null,{"v":1184.85955288647,"d":"1184.86"},null,{"$f":"BF170+BF171+BF172+BF173","v":{"v":1060.42676162715,"d":"1060.43"}},null,{"v":1133.5020899881,"d":"1133.50"},null,{"v":1006.39812262651,"d":"1006.40"},null,{"$f":"BL170+BL171+BL172+BL173","v":{"v":1126.05552618897,"d":"1126.06"}},null,{"v":1049.14620106232,"d":"1049.15"},null,{"v":1074.84743635851,"d":"1074.85"},null,{"v":13177.8625968374,"d":"13177.86"}]
[null,"公路班线旅客周转量（万人公里）",{"$f":"[1]班线包车!C51","v":447.8643},{"$f":"C170/R170-1","v":{"v":0.398974378517237,"d":"39.90%"}},{"$f":"[1]班线包车!E51","v":448.4483},{"v":0.391781984261274,"d":"39.18%"},{"$f":"[1]班线包车!G51","v":460.931},{"v":0.45763820304809,"d":"45.76%"},{"$f":"[1]班线包车!I51","v":465.732},{"$f":"I170/X170-1","v":{"v":0.47218017210396,"d":"47.22%"}},{"$f":"[1]班线包车!K51","v":484.5462},{"v":0.489565733847822,"d":"48.96%"},{"$f":"[1]班线包车!M51","v":516.0528},{"v":0.0914503764484031,"d":"9.15%"},{"v":2823.5746,"d":"2823.57"},{"v":0.362052235047681,"d":"36.21%"},{"v":1600.2158,"d":"1600.22"},{"$f":"[1]班线包车!R51","v":320.1376},{"$f":"R170/AT170-1","v":{"v":-0.167136858645826,"d":"-16.71%"}},{"$f":"[1]班线包车!T51","v":322.2116},{"v":-0.0959392241630866,"d":"-9.59%"},{"$f":"[1]班线包车!V51","v":316.2177},{"v":-0.0850161111484055,"d":"-8.50%"},{"$f":"[1]班线包车!X51","v":316.3553},{"$f":"X170/AZ170-1","v":{"v":-0.0986681823944795,"d":"-9.87%"}},{"$f":"[1]班线包车!Z51","v":325.2936},{"v":-0.0816077967470263,"d":"-8.16%"},{"$f":"[1]班线包车!AB51","v":472.8138},{"v":0.280218280593562,"d":"28.02%"},{"$f":"[1]班线包车!AD51","v":479.6233},{"$f":"AD170/BF170-1","v":{"v":0.288570750005239,"d":"28.86%"}},{"$f":"[1]班线包车!AF51","v":481.2883},{"v":0.295588431645752,"d":"29.56%"},{"$f":"[1]班线包车!AH51","v":526.2857},{"v":0.398572688957274,"d":"39.86%"},{"$f":"[1]班线包车!AJ51","v":445.2084},{"$f":"AJ170/BL170-1","v":{"v":0.137854969165786,"d":"13.79%"}},{"$f":"[1]班线包车!AL51","v":440.1304},{"v":0.107099511586766,"d":"10.71%"},{"$f":"[1]班线包车!AN51","v":440.8022},{"v":0.0878656936799713,"d":"8.79%"},{"v":4886.3679,"d":"4886.37"},{"v":0.0919468214113979,"d":"9.19%"},null,{"v":4069.7147,"d":"4069.71"},{"v":384.382,"d":"384.38"},null,{"v":356.4048,"d":"356.40"},null,345.5992,null,{"v":350.9865,"d":"350.99"},null,{"v":354.199,"d":"354.20"},null,{"v":369.3228,"d":"369.32"},null,{"v":372.2134,"d":"372.21"},null,{"v":371.4824,"d":"371.48"},null,{"v":376.302,"d":"376.30"},null,{"v":391.2699,"d":"391.27"},null,{"v":397.5527,"d":"397.55"},null,{"v":405.1991,"d":"405.20"},null,{"v":4474.9138,"d":"4474.91"}]
[null,"城际城乡公交旅客周转量（万人公里）",{"$f":"[1]公交!C62-[1]公交!C64","v":268},{"$f":"C171/R171-1","v":{"v":-0.603139345476085,"d":"-60.31%"}},{"$f":"[1]公交!E62-[1]公交!E64","v":275.12},{"v":-0.584285282562708,"d":"-58.43%"},{"$f":"[1]公交!G62-[1]公交!G64","v":266.86},{"v":-0.588115449915111,"d":"-58.81%"},{"$f":"[1]公交!I62-[1]公交!I64","v":268.26},{"$f":"I171/X171-1","v":{"v":-0.579793233082707,"d":"-57.98%"}},{"$f":"[1]公交!K62-[1]公交!K64","v":266.7},{"v":-0.594619243046056,"d":"-59.46%"},{"$f":"[1]公交!M62-[1]公交!M64","v":262.72},{"v":-0.617026239067055,"d":"-61.70%"},1607.66,{"v":-0.594772263252086,"d":"-59.48%"},{"v":3281.3,"d":"3281.30"},{"$f":"[1]公交!R62-[1]公交!R64","v":675.3},{"$f":"R171/AT171-1","v":{"v":0.291698546289212,"d":"29.17%"}},{"$f":"[1]公交!T62-[1]公交!T64","v":661.8},{"v":0.103183863977329,"d":"10.32%"},{"$f":"[1]公交!V62-[1]公交!V64","v":647.9},{"v":0.0473650177820888,"d":"4.74%"},{"$f":"[1]公交!X62-[1]公交!X64","v":638.4},{"$f":"X171/AZ171-1","v":{"v":0.0237331622835149,"d":"2.37%"}},{"$f":"[1]公交!Z62-[1]公交!Z64","v":657.9},{"v":0.0601031260070897,"d":"6.01%"},{"$f":"[1]公交!AB62-[1]公交!AB64","v":686},{"v":0.107523409751372,"d":"10.75%"},{"$f":"[1]公交!AD62-[1]公交!AD64","v":290.68},{"$f":"AD171/BF171-1","v":{"v":-0.471586984184694,"d":"-47.16%"}},{"$f":"[1]公交!AF62-[1]公交!AF64","v":284.1},{"v":-0.492497320471597,"d":"-49.25%"},{"$f":"[1]公交!AH62-[1]公交!AH64","v":277.4},{"v":-0.453614339176679,"d":"-45.36%"},{"$f":"[1]公交!AJ62-[1]公交!AJ64","v":290.2},{"$f":"AJ171/BL171-1","v":{"v":-0.51463455427329,"d":"-51.46%"}},{"$f":"[1]公交!AL62-[1]公交!AL64","v":268.2},{"v":-0.493293028528245,"d":"-49.33%"},{"$f":"[1]公交!AN62-[1]公交!AN64","v":246.1},{"v":-0.546610169491525,"d":"-54.66%"},5623.98,{"v":-0.184043525571273,"d":"-18.40%"},null,{"v":6349.7,"d":"6349.70"},{"v":522.8,"d":"522.80"},null,{"v":599.9,"d":"599.90"},null,{"v":618.6,"d":"618.60"},null,{"v":623.6,"d":"623.60"},null,{"v":620.6,"d":"620.60"},null,{"v":619.4,"d":"619.40"},null,{"v":550.1,"d":"550.10"},null,{"v":559.8,"d":"559.80"},null,{"v":507.7,"d":"507.70"},null,{"v":597.9,"d":"597.90"},null,{"v":529.3,"d":"529.30"},null,{"v":542.8,"d":"542.80"},null,{"v":6892.5,"d":"6892.50"}]
[null,"城际城乡巡游出租旅客周转量（万人公里）",{"$f":"[1]出租!C62-[1]出租!C64","v":89.77},{"$f":"C172/R172-1","v":{"v":0.951521739130436,"d":"95.15%"}},{"$f":"[1]出租!E62-[1]出租!E64","v":98.6},{"v":0.8125,"d":"81.25%"},{"$f":"[1]出租!G62-[1]出租!G64","v":94.34},{"v":0.684642857142856,"d":"68.46%"},{"$f":"[1]出租!I62-[1]出租!I64","v":78.65},{"$f":"I172/X172-1","v":{"v":0.803899082568808,"d":"80.39%"}},{"$f":"[1]出租!K62-[1]出租!K64","v":76.01},{"v":0.775934579439252,"d":"77.59%"},{"$f":"[1]出租!M62-[1]出租!M64","v":77.96},{"v":0.788073394495413,"d":"78.81%"},515.33,{"v":0.799336592178771,"d":"79.93%"},{"v":242.8,"d":"242.80"},{"$f":"[1]出租!R62-[1]出租!R64","v":46},{"$f":"R172/AT172-1","v":{"v":-0.516806722689076,"d":"-51.68%"}},{"$f":"[1]出租!T62-[1]出租!T64","v":54.4},{"v":-0.32397166645955,"d":"-32.40%"},{"$f":"[1]出租!V62-[1]出租!V64","v":56},{"v":0.039346696362287,"d":"3.93%"},{"$f":"[1]出租!X62-[1]出租!X64","v":43.6},{"$f":"X172/AZ172-1","v":{"v":-0.116514690982776,"d":"-11.65%"}},{"$f":"[1]出租!Z62-[1]出租!Z64","v":42.8},{"v":-0.0813479287400728,"d":"-8.13%"},{"$f":"[1]出租!AB62-[1]出租!AB64","v":43.6},{"v":-0.0828775767774507,"d":"-8.29%"},{"$f":"[1]出租!AD62-[1]出租!AD64","v":45.88},{"$f":"AD172/BF172-1","v":{"v":-0.0663410663410664,"d":"-6.63%"}},{"$f":"[1]出租!AF62-[1]出租!AF64","v":47.36},{"v":-0.103200151486461,"d":"-10.32%"},{"$f":"[1]出租!AH62-[1]出租!AH64","v":48.68},{"v":5.16208961387576E-3,"d":"0.52%"},{"$f":"[1]出租!AJ62-[1]出租!AJ64","v":48.42},{"$f":"AJ172/BL172-1","v":{"v":-0.128823317740195,"d":"-12.88%"}},{"$f":"[1]出租!AL62-[1]出租!AL64","v":47.52},{"v":0.0330434782608697,"d":"3.30%"},{"$f":"[1]出租!AN62-[1]出租!AN64","v":46.7},{"v":0.0331858407079644,"d":"3.32%"},570.96,{"v":-0.148062489741715,"d":"-14.81%"},null,624.99,{"v":95.2,"d":"95.20"},null,80.47,null,53.88,null,49.35,null,46.59,null,47.54,null,49.14,null,52.81,null,48.43,null,55.58,null,{"v":46,"d":"46.00"},null,{"v":45.2,"d":"45.20"},null,670.19]
[null,"城际城乡网约车旅客周转量(万人公里)",{"$f":"[1]网约车!C62-[1]网约车!C64","v":{"v":153.07895430899,"d":"153.08"}},{"$f":"C173/R173-1","v":{"v":12.4270949660518,"d":"1242.71%"}},{"$f":"[1]网约车!E62-[1]网约车!E64","v":{"v":161.504683148429,"d":"161.50"}},{"v":8.79032680226006,"d":"879.03%"},{"$f":"[1]网约车!G62-[1]网约车!G64","v":{"v":150.542334996947,"d":"150.54"}},{"v":4.74985228203517,"d":"474.99%"},{"$f":"[1]网约车!I62-[1]网约车!I64","v":{"v":133.272216430373,"d":"133.27"}},{"$f":"I173/X173-1","v":{"v":7.14464986876103,"d":"714.46%"}},{"$f":"[1]网约车!K62-[1]网约车!K64","v":{"v":146.096576480579,"d":"146.10"}},{"v":5.93016293507388,"d":"593.02%"},{"$f":"[1]网约车!M62-[1]网约车!M64","v":{"v":150.384470464185,"d":"150.38"}},{"v":5.64820014954585,"d":"564.82%"},{"v":894.879235829503,"d":"894.88"},{"v":6.83992842863472,"d":"683.99%"},{"v":91.5234733191718,"d":"91.52"},{"$f":"[1]网约车!R62-[1]网约车!R64","v":{"v":11.4007501023881,"d":"11.40"}},{"$f":"R173/AT173-1","v":{"v":-0.917080842665388,"d":"-91.71%"}},{"$f":"[1]网约车!T62-[1]网约车!T64","v":{"v":16.496352615231,"d":"16.50"}},{"v":-0.745842672286007,"d":"-74.58%"},{"$f":"[1]网约车!V62-[1]网约车!V64","v":{"v":26.1819482680105,"d":"26.18"}},{"v":-0.636677581804857,"d":"-63.67%"},{"$f":"[1]网约车!X62-[1]网约车!X64","v":{"v":16.3631609188679,"d":"16.36"}},{"$f":"X173/AZ173-1","v":{"v":-0.798601213641343,"d":"-79.86%"}},{"$f":"[1]网约车!Z62-[1]网约车!Z64","v":{"v":21.0812614146743,"d":"21.08"}},{"v":-0.750094248129984,"d":"-75.01%"},{"$f":"[1]网约车!AB62-[1]网约车!AB64","v":{"v":22.6203283718012,"d":"22.62"}},{"v":-0.847773737094488,"d":"-84.78%"},{"$f":"[1]网约车!AD62-[1]网约车!AD64","v":{"v":28.3682111985508,"d":"28.37"}},{"$f":"AD173/BF173-1","v":{"v":-0.68116062291286,"d":"-68.12%"}},{"$f":"[1]网约车!AF62-[1]网约车!AF64","v":{"v":25.9984299492969,"d":"26.00"}},{"v":-0.825992343927849,"d":"-82.60%"},{"$f":"[1]网约车!AH62-[1]网约车!AH64","v":{"v":25.1118662732987,"d":"25.11"}},{"v":-0.660495029594825,"d":"-66.05%"},{"$f":"[1]网约车!AJ62-[1]网约车!AJ64","v":{"v":31.2205596311783,"d":"31.22"}},{"$f":"AJ173/BL173-1","v":{"v":-0.616009849569119,"d":"-61.60%"}},{"$f":"[1]网约车!AL62-[1]网约车!AL64","v":{"v":50.0071000636201,"d":"50.01"}},{"v":-0.344543121402056,"d":"-34.45%"},{"$f":"[1]网约车!AN62-[1]网约车!AN64","v":{"v":91.01722140084,"d":"91.02"}},{"v":0.11474679656899,"d":"11.47%"},{"v":365.867190207758,"d":"365.87"},{"v":-0.679136708944916,"d":"-67.91%"},null,{"v":1058.61046047888,"d":"1058.61"},{"v":137.492353623198,"d":"137.49"},null,{"v":64.9060672914952,"d":"64.91"},null,{"v":72.0625729567505,"d":"72.06"},null,{"v":81.2475646686764,"d":"81.25"},null,{"v":84.3568475592323,"d":"84.36"},null,{"v":148.59675288647,"d":"148.60"},null,{"v":88.9733616271546,"d":"88.97"},null,{"v":149.409689988105,"d":"149.41"},null,{"v":73.9661226265096,"d":"73.97"},null,{"v":81.3056261889666,"d":"81.31"},null,{"v":76.2935010623244,"d":"76.29"},null,{"v":81.6483363585132,"d":"81.65"},null,{"v":1140.2587968374,"d":"1140.26"}]
["潜江市","总旅客周转量（万人公里）",{"$f":"C175+C176+C177+C178","v":{"v":2392.03306788899,"d":"2392.03"}},{"$f":"C174/R174-1","v":{"v":-0.035535219049302,"d":"-3.55%"}},{"v":2347.01153795417,"d":"2347.01"},{"v":0.0189674933135731,"d":"1.90%"},{"v":2163.53048158518,"d":"2163.53"},{"v":0.0365012040192594,"d":"3.65%"},{"$f":"I175+I176+I177+I178","v":{"v":2165.26981631797,"d":"2165.27"}},{"$f":"I174/X174-1","v":{"v":-0.0547807634414691,"d":"-5.48%"}},{"v":2323.90882205633,"d":"2323.91"},{"v":-0.0629508224511314,"d":"-6.30%"},{"v":2380.38599334565,"d":"2380.39"},{"v":-0.0844378544150196,"d":"-8.44%"},{"v":13772.1397191483,"d":"13772.14"},{"v":-0.0329596070383605,"d":"-3.30%"},{"v":11641.6176763669,"d":"11641.62"},{"$f":"R175+R176+R177+R178","v":{"v":2480.16632139859,"d":"2480.17"}},{"$f":"R174/AT174-1","v":{"v":0.00330512781685788,"d":"0.33%"}},{"v":2303.32326924575,"d":"2303.32"},{"v":0.0651585220208306,"d":"6.52%"},{"v":2087.34005633145,"d":"2087.34"},{"v":0.0708633684428219,"d":"7.09%"},{"$f":"X175+X176+X177+X178","v":{"v":2290.75936308866,"d":"2290.76"}},{"$f":"X174/AZ174-1","v":{"v":0.0198611760857677,"d":"1.99%"}},{"v":2480.02866630245,"d":"2480.03"},{"v":-0.0019270356332961,"d":"-0.19%"},{"v":2599.91744397072,"d":"2599.92"},{"v":-0.0379206453494741,"d":"-3.79%"},{"$f":"AD175+AD176+AD177+AD178","v":{"v":2743.37017365987,"d":"2743.37"}},{"$f":"AD174/BF174-1","v":{"v":-0.0134081348031855,"d":"-1.34%"}},{"v":2588.33753739278,"d":"2588.34"},{"v":-0.0629531483297124,"d":"-6.30%"},{"v":2522.97800387872,"d":"2522.98"},{"v":-0.0137529001102105,"d":"-1.38%"},{"$f":"AJ175+AJ176+AJ177+AJ178","v":{"v":2722.17507444759,"d":"2722.18"}},{"$f":"AJ174/BL174-1","v":{"v":-0.0166794458677401,"d":"-1.67%"}},{"v":2479.08873654132,"d":"2479.09"},{"v":-0.00442456866160734,"d":"-0.44%"},{"v":2500.16775658982,"d":"2500.17"},{"v":1.09525584469816E-3,"d":"0.11%"},{"v":29797.6524028477,"d":"29797.65"},{"v":-0.00255302097043109,"d":"-0.26%"},null,{"v":27376.4887208876,"d":"27376.49"},{"$f":"AT175+AT176+AT177+AT178","v":{"v":2471.9960584626,"d":"2472.00"}},null,{"v":2162.42298364741,"d":"2162.42"},null,{"v":1949.21230648381,"d":"1949.21"},null,{"$f":"AZ175+AZ176+AZ177+AZ178","v":{"v":2246.1482178198,"d":"2246.15"}},null,{"v":2484.81699719827,"d":"2484.82"},null,{"v":2702.39396719529,"d":"2702.39"},null,{"$f":"BF175+BF176+BF177+BF178","v":{"v":2780.65355131688,"d":"2780.65"}},null,{"v":2762.22851907465,"d":"2762.23"},null,{"v":2558.16012453741,"d":"2558.16"},null,{"$f":"BL175+BL176+BL177+BL178","v":{"v":2768.34961194297,"d":"2768.35"}},null,{"v":2490.10638320853,"d":"2490.11"},null,{"v":2497.43242912509,"d":"2497.43"},null,{"v":29873.9211500127,"d":"29873.92"}]
[null,"公路班线旅客周转量（万人公里）",{"$f":"[1]班线包车!C53","v":237.4332},{"$f":"C175/R175-1","v":{"v":-0.106984070507553,"d":"-10.70%"}},{"$f":"[1]班线包车!E53","v":176.7706},{"v":-0.100896862126966,"d":"-10.09%"},{"$f":"[1]班线包车!G53","v":172.2912},{"v":0.069308110523572,"d":"6.93%"},{"$f":"[1]班线包车!I53","v":179.4491},{"$f":"I175/X175-1","v":{"v":0.221724543136045,"d":"22.17%"}},{"$f":"[1]班线包车!K53","v":154.2538},{"v":-0.0652315926364485,"d":"-6.52%"},{"$f":"[1]班线包车!M53","v":175.321},{"v":-0.0277121529741902,"d":"-2.77%"},{"v":1095.5189,"d":"1095.52"},{"v":-0.0182005714861331,"d":"-1.82%"},{"v":935.5096,"d":"935.51"},{"$f":"[1]班线包车!R53","v":265.8779},{"$f":"R175/AT175-1","v":{"v":0.0767639803647371,"d":"7.68%"}},{"$f":"[1]班线包车!T53","v":196.6077},{"v":0.557510773813296,"d":"55.75%"},{"$f":"[1]班线包车!V53","v":161.124},{"v":0.195421128425195,"d":"19.54%"},{"$f":"[1]班线包车!X53","v":146.8818},{"$f":"X175/AZ175-1","v":{"v":-0.0915484987045694,"d":"-9.15%"}},{"$f":"[1]班线包车!Z53","v":165.0182},{"v":-0.121539446779945,"d":"-12.15%"},{"$f":"[1]班线包车!AB53","v":180.318},{"v":-0.116384506371393,"d":"-11.64%"},{"$f":"[1]班线包车!AD53","v":189.287},{"$f":"AD175/BF175-1","v":{"v":-0.276876134853335,"d":"-27.69%"}},{"$f":"[1]班线包车!AF53","v":221.28},{"v":-0.1430735652446,"d":"-14.31%"},{"$f":"[1]班线包车!AH53","v":248.1032},{"v":-0.0071539219715484,"d":"-0.72%"},{"$f":"[1]班线包车!AJ53","v":208.8209},{"$f":"AJ175/BL175-1","v":{"v":-0.0537509040124559,"d":"-5.38%"}},{"$f":"[1]班线包车!AL53","v":208.7586},{"v":-0.0843945147512769,"d":"-8.44%"},{"$f":"[1]班线包车!AN53","v":205.6995},{"v":-0.0940347526823374,"d":"-9.40%"},{"v":2397.7768,"d":"2397.78"},{"v":-0.0436257727040462,"d":"-4.36%"},null,{"v":2280.1032,"d":"2280.10"},{"v":246.9231,"d":"246.92"},null,{"v":126.232,"d":"126.23"},null,134.7843,null,{"v":161.6837,"d":"161.68"},null,{"v":187.8493,"d":"187.85"},null,{"v":204.0684,"d":"204.07"},null,{"v":261.7629,"d":"261.76"},null,{"v":258.2252,"d":"258.23"},null,{"v":249.8909,"d":"249.89"},null,{"v":220.6828,"d":"220.68"},null,{"v":228.0006,"d":"228.00"},null,{"v":227.0501,"d":"227.05"},null,{"v":2507.1533,"d":"2507.15"}]
[null,"城际城乡公交旅客周转量（万人公里）",{"$f":"[1]公交!C66-[1]公交!C68","v":1764.63},{"$f":"C176/R176-1","v":{"v":-0.012833063880016,"d":"-1.28%"}},{"$f":"[1]公交!E66-[1]公交!E68","v":1782.03},{"v":0.0527487978071055,"d":"5.27%"},{"$f":"[1]公交!G66-[1]公交!G68","v":1628.76},{"v":0.0874131243198495,"d":"8.74%"},{"$f":"[1]公交!I66-[1]公交!I68","v":1622.53},{"$f":"I176/X176-1","v":{"v":-0.0677633053140818,"d":"-6.78%"}},{"$f":"[1]公交!K66-[1]公交!K68","v":1748.21},{"v":-0.0405837028581464,"d":"-4.06%"},{"$f":"[1]公交!M66-[1]公交!M68","v":1838.57},{"v":-0.0914315646944293,"d":"-9.14%"},10384.73,{"v":-0.0170033963250023,"d":"-1.70%"},8540.77,{"$f":"[1]公交!R66-[1]公交!R68","v":1787.57},{"$f":"R176/AT176-1","v":{"v":0.017167406395812,"d":"1.72%"}},{"$f":"[1]公交!T66-[1]公交!T68","v":1692.74},{"v":0.0549295774647889,"d":"5.49%"},{"$f":"[1]公交!V66-[1]公交!V68","v":1497.83},{"v":0.0593756188644015,"d":"5.94%"},{"$f":"[1]公交!X66-[1]公交!X68","v":1740.47},{"$f":"X176/AZ176-1","v":{"v":0.0562899036244022,"d":"5.63%"}},{"$f":"[1]公交!Z66-[1]公交!Z68","v":1822.16},{"v":0.0377947374416221,"d":"3.78%"},{"$f":"[1]公交!AB66-[1]公交!AB68","v":2023.59},{"v":0.0302781907419098,"d":"3.03%"},{"$f":"[1]公交!AD66-[1]公交!AD68","v":2137.47},{"$f":"AD176/BF176-1","v":{"v":0.0422005734012054,"d":"4.22%"}},{"$f":"[1]公交!AF66-[1]公交!AF68","v":2015.55},{"v":0.0270527806936194,"d":"2.71%"},{"$f":"[1]公交!AH66-[1]公交!AH68","v":1942.77},{"v":0.0302864779440619,"d":"3.03%"},{"$f":"[1]公交!AJ66-[1]公交!AJ68","v":2127.6},{"$f":"AJ176/BL176-1","v":{"v":0.0320540183941946,"d":"3.21%"}},{"$f":"[1]公交!AL66-[1]公交!AL68","v":1904.04},{"v":0.0372848115057747,"d":"3.73%"},{"$f":"[1]公交!AN66-[1]公交!AN68","v":1892.98},{"v":0.0310685534385655,"d":"3.11%"},22584.77,{"v":0.0371585286664629,"d":"3.72%"},null,19939.68,{"v":1757.4,"d":"1757.40"},null,{"v":1604.6,"d":"1604.60"},null,1413.88,null,1647.72,null,{"v":1755.8,"d":"1755.80"},null,1964.12,null,2050.92,null,1962.46,null,1885.66,null,2061.52,null,{"v":1835.6,"d":"1835.60"},null,1835.94,null,21775.62]
[null,"城际城乡巡游出租旅客周转量（万人公里）",{"$f":"[1]出租!C66-[1]出租!C68","v":269.63},{"$f":"C177/R177-1","v":{"v":-0.322043700183551,"d":"-32.20%"}},{"$f":"[1]出租!E66-[1]出租!E68","v":265.17},{"v":-0.304709213907389,"d":"-30.47%"},{"$f":"[1]出租!G66-[1]出租!G68","v":248.93},{"v":-0.312196065428824,"d":"-31.22%"},{"$f":"[1]出租!I66-[1]出租!I68","v":248.16},{"$f":"I177/X177-1","v":{"v":-0.313223003265622,"d":"-31.32%"}},{"$f":"[1]出租!K66-[1]出租!K68","v":295.67},{"v":-0.327931081511115,"d":"-32.79%"},{"$f":"[1]出租!M66-[1]出租!M68","v":247.99},{"v":-0.26732058971253,"d":"-26.73%"},1575.55,{"v":-0.309199565057262,"d":"-30.92%"},1942.29,{"$f":"[1]出租!R66-[1]出租!R68","v":397.71},{"$f":"R177/AT177-1","v":{"v":0.0157323458051335,"d":"1.57%"}},{"$f":"[1]出租!T66-[1]出租!T68","v":381.38},{"v":-0.00754658061829905,"d":"-0.75%"},{"$f":"[1]出租!V66-[1]出租!V68","v":361.92},{"v":0.0745524182773669,"d":"7.46%"},{"$f":"[1]出租!X66-[1]出租!X68","v":361.34},{"$f":"X177/AZ177-1","v":{"v":0.00263603318627048,"d":"0.26%"}},{"$f":"[1]出租!Z66-[1]出租!Z68","v":439.94},{"v":-0.0331201512054679,"d":"-3.31%"},{"$f":"[1]出租!AB66-[1]出租!AB68","v":338.47},{"v":-0.00179898549014967,"d":"-0.18%"},{"$f":"[1]出租!AD66-[1]出租!AD68","v":351.06},{"$f":"AD177/BF177-1","v":{"v":0.000940894705328654,"d":"0.09%"}},{"$f":"[1]出租!AF66-[1]出租!AF68","v":293.45},{"v":-0.0621604346436559,"d":"-6.22%"},{"$f":"[1]出租!AH66-[1]出租!AH68","v":278.53},{"v":-0.0981706329933626,"d":"-9.82%"},{"$f":"[1]出租!AJ66-[1]出租!AJ68","v":311.47},{"$f":"AJ177/BL177-1","v":{"v":-0.151723950106215,"d":"-15.17%"}},{"$f":"[1]出租!AL66-[1]出租!AL68","v":284.55},{"v":-0.125699010631107,"d":"-12.57%"},{"$f":"[1]出租!AN66-[1]出租!AN68","v":277.13},{"v":-0.150403139274656,"d":"-15.04%"},4076.95,{"v":-0.0426166451015982,"d":"-4.26%"},null,3932.24,391.55,null,384.28,null,336.81,null,360.39,null,455.01,null,339.08,null,350.73,null,{"v":312.9,"d":"312.90"},null,308.85,null,367.18,null,325.46,null,326.19,null,4258.43]
[null,"城际城乡网约车旅客周转量(万人公里)",{"$f":"[1]网约车!C66-[1]网约车!C68","v":{"v":120.339867888986,"d":"120.34"}},{"$f":"C178/R178-1","v":{"v":3.1484459369738,"d":"314.84%"}},{"$f":"[1]网约车!E66-[1]网约车!E68","v":{"v":123.040937954168,"d":"123.04"}},{"v":2.77477494031505,"d":"277.48%"},{"$f":"[1]网约车!G66-[1]网约车!G68","v":{"v":113.549281585179,"d":"113.55"}},{"v":0.708380004056989,"d":"70.84%"},{"$f":"[1]网约车!I66-[1]网约车!I68","v":{"v":115.130716317966,"d":"115.13"}},{"$f":"I178/X178-1","v":{"v":1.73680498381451,"d":"173.68%"}},{"$f":"[1]网约车!K66-[1]网约车!K68","v":{"v":125.77502205633,"d":"125.78"}},{"v":1.37712934407652,"d":"137.71%"},{"$f":"[1]网约车!M66-[1]网约车!M68","v":{"v":118.504993345653,"d":"118.50"}},{"v":1.05954359597133,"d":"105.95%"},{"v":716.340819148283,"d":"716.34"},{"v":1.55300313530101,"d":"155.30%"},{"v":223.048076366898,"d":"223.05"},{"$f":"[1]网约车!R66-[1]网约车!R68","v":{"v":29.0084213985855,"d":"29.01"}},{"$f":"R178/AT178-1","v":{"v":-0.618926773414375,"d":"-61.89%"}},{"$f":"[1]网约车!T66-[1]网约车!T68","v":{"v":32.5955692457519,"d":"32.60"}},{"v":-0.311035900486188,"d":"-31.10%"},{"$f":"[1]网约车!V66-[1]网约车!V68","v":{"v":66.4660563314528,"d":"66.47"}},{"v":0.0428009910905816,"d":"4.28%"},{"$f":"[1]网约车!X66-[1]网约车!X68","v":{"v":42.0675630886564,"d":"42.07"}},{"$f":"X178/AZ178-1","v":{"v":-0.44904945653726,"d":"-44.90%"}},{"$f":"[1]网约车!Z66-[1]网约车!Z68","v":{"v":52.9104663024518,"d":"52.91"}},{"v":-0.385888109559261,"d":"-38.59%"},{"$f":"[1]网约车!AB66-[1]网约车!AB68","v":{"v":57.5394439707228,"d":"57.54"}},{"v":-0.705115814407173,"d":"-70.51%"},{"$f":"[1]网约车!AD66-[1]网约车!AD68","v":{"v":65.5531736598709,"d":"65.55"}},{"$f":"AD178/BF178-1","v":{"v":-0.440866517512851,"d":"-44.09%"}},{"$f":"[1]网约车!AF66-[1]网约车!AF68","v":{"v":58.05753739278,"d":"58.06"}},{"v":-0.746078137652362,"d":"-74.61%"},{"$f":"[1]网约车!AH66-[1]网约车!AH68","v":{"v":53.5748038787238,"d":"53.57"}},{"v":-0.529050904692959,"d":"-52.91%"},{"$f":"[1]网约车!AJ66-[1]网约车!AJ68","v":{"v":74.2841744475918,"d":"74.28"}},{"$f":"AJ178/BL178-1","v":{"v":-0.375589097208056,"d":"-37.56%"}},{"$f":"[1]网约车!AL66-[1]网约车!AL68","v":{"v":81.7401365413167,"d":"81.74"}},{"v":-0.191058409902884,"d":"-19.11%"},{"$f":"[1]网约车!AN66-[1]网约车!AN68","v":{"v":124.358256589824,"d":"124.36"}},{"v":0.148781348123488,"d":"14.88%"},{"v":738.155602847728,"d":"738.16"},{"v":-0.446127623457071,"d":"-44.61%"},null,{"v":1224.46552088763,"d":"1224.47"},{"v":76.1229584625974,"d":"76.12"},null,{"v":47.310983647412,"d":"47.31"},null,{"v":63.7380064838079,"d":"63.74"},null,{"v":76.3545178198039,"d":"76.35"},null,{"v":86.1576971982724,"d":"86.16"},null,{"v":195.125567195294,"d":"195.13"},null,{"v":117.240651316884,"d":"117.24"},null,{"v":228.643319074649,"d":"228.64"},null,{"v":113.75922453741,"d":"113.76"},null,{"v":118.966811942974,"d":"118.97"},null,{"v":101.04578320853,"d":"101.05"},null,{"v":108.252329125086,"d":"108.25"},null,{"v":1332.71785001272,"d":"1332.72"}]
["天门市","总旅客周转量（万人公里）",{"$f":"C180+C181+C182+C183","v":{"v":2087.4202000282,"d":"2087.42"}},{"$f":"C179/R179-1","v":{"v":-0.210646333529773,"d":"-21.06%"}},{"v":3033.26309145909,"d":"3033.26"},{"v":0.047432504461296,"d":"4.74%"},{"v":2800.38727432439,"d":"2800.39"},{"v":0.221397982886687,"d":"22.14%"},{"$f":"I180+I181+I182+I183","v":{"v":3622.55713200354,"d":"3622.56"}},{"$f":"I179/X179-1","v":{"v":0.536247486563593,"d":"53.62%"}},{"v":3336.85933128298,"d":"3336.86"},{"v":0.491212840959113,"d":"49.12%"},{"v":3755.99072471309,"d":"3755.99"},{"v":0.876286683146541,"d":"87.63%"},{"v":18636.4777538113,"d":"18636.48"},{"v":0.291446426348491,"d":"29.14%"},{"v":12428.8800595391,"d":"12428.88"},{"$f":"R180+R181+R182+R183","v":{"v":2644.46760520233,"d":"2644.47"}},{"$f":"R179/AT179-1","v":{"v":-0.0483556722503988,"d":"-4.84%"}},{"v":2895.90315226958,"d":"2895.90"},{"v":-0.0206471475684797,"d":"-2.06%"},{"v":2292.77214598462,"d":"2292.77"},{"v":-0.0968743459597343,"d":"-9.69%"},{"$f":"X180+X181+X182+X183","v":{"v":2358.05569329638,"d":"2358.06"}},{"$f":"X179/AZ179-1","v":{"v":0.0345668431187103,"d":"3.46%"}},{"v":2237.68146278622,"d":"2237.68"},{"v":-0.0976395064459512,"d":"-9.76%"},{"v":2001.82134129646,"d":"2001.82"},{"v":-0.161503992267162,"d":"-16.15%"},{"$f":"AD180+AD181+AD182+AD183","v":{"v":2448.87191795731,"d":"2448.87"}},{"$f":"AD179/BF179-1","v":{"v":0.0942400394938643,"d":"9.42%"}},{"v":2296.70915833459,"d":"2296.71"},{"v":-0.0647667291429042,"d":"-6.48%"},{"v":2010.88841935746,"d":"2010.89"},{"v":-0.121940673147023,"d":"-12.19%"},{"$f":"AJ180+AJ181+AJ182+AJ183","v":{"v":2331.51005852275,"d":"2331.51"}},{"$f":"AJ179/BL179-1","v":{"v":-0.0312738654212656,"d":"-3.13%"}},{"v":1937.41894071725,"d":"1937.42"},{"v":-0.153570715605696,"d":"-15.36%"},{"v":1830.04942007675,"d":"1830.05"},{"v":-0.0730855292164234,"d":"-7.31%"},{"v":27286.1493158017,"d":"27286.15"},{"v":-0.0615225109053108,"d":"-6.15%"},null,{"v":27100.5653284428,"d":"27100.57"},{"$f":"AT180+AT181+AT182+AT183","v":{"v":2778.84029578133,"d":"2778.84"}},null,{"v":2956.95585618573,"d":"2956.96"},null,{"v":2538.70780408857,"d":"2538.71"},null,{"$f":"AZ180+AZ181+AZ182+AZ183","v":{"v":2279.26857407106,"d":"2279.27"}},null,{"v":2479.80876686307,"d":"2479.81"},null,{"v":2387.39519667967,"d":"2387.40"},null,{"$f":"BF180+BF181+BF182+BF183","v":{"v":2237.96592116116,"d":"2237.97"}},null,{"v":2455.76074964674,"d":"2455.76"},null,{"v":2290.15097028195,"d":"2290.15"},null,{"$f":"BL180+BL181+BL182+BL183","v":{"v":2406.77935207832,"d":"2406.78"}},null,{"v":2288.93184160523,"d":"2288.93"},null,{"v":1974.34550625766,"d":"1974.35"},null,{"v":29074.9108347005,"d":"29074.91"}]
[null,"公路班线旅客周转量（万人公里）",{"$f":"[1]班线包车!C55","v":524.6797},{"$f":"C180/R180-1","v":{"v":-0.434860554228612,"d":"-43.49%"}},{"$f":"[1]班线包车!E55","v":1354.6626},{"v":0.193998307185015,"d":"19.40%"},{"$f":"[1]班线包车!G55","v":1233.6733},{"v":0.865993027142717,"d":"86.60%"},{"$f":"[1]班线包车!I55","v":2058.7247},{"$f":"I180/X180-1","v":{"v":1.63039569942426,"d":"163.04%"}},{"$f":"[1]班线包车!K55","v":1725.1329},{"v":1.89992011965914,"d":"189.99%"},{"$f":"[1]班线包车!M55","v":2213.7637},{"v":3.43518874503818,"d":"343.52%"},{"v":9110.6369,"d":"9110.64"},{"v":0.980230659226389,"d":"98.02%"},{"v":4101.6595,"d":"4101.66"},{"$f":"[1]班线包车!R55","v":928.4075},{"$f":"R180/AT180-1","v":{"v":-0.0713066481863117,"d":"-7.13%"}},{"$f":"[1]班线包车!T55","v":1134.5599},{"v":-0.0409242111458081,"d":"-4.09%"},{"$f":"[1]班线包车!V55","v":661.135},{"v":-0.310430102580999,"d":"-31.04%"},{"$f":"[1]班线包车!X55","v":782.6673},{"$f":"X180/AZ180-1","v":{"v":0.00708760921669715,"d":"0.71%"}},{"$f":"[1]班线包车!Z55","v":594.8898},{"v":-0.356617843481007,"d":"-35.66%"},{"$f":"[1]班线包车!AB55","v":499.1363},{"v":-0.327780846904906,"d":"-32.78%"},{"$f":"[1]班线包车!AD55","v":977.6583},{"$f":"AD180/BF180-1","v":{"v":0.457234665628856,"d":"45.72%"}},{"$f":"[1]班线包车!AF55","v":992.5601},{"v":0.230806746520624,"d":"23.08%"},{"$f":"[1]班线包车!AH55","v":754.3291},{"v":0.016229952528817,"d":"1.62%"},{"$f":"[1]班线包车!AJ55","v":935.997},{"$f":"AJ180/BL180-1","v":{"v":0.222328407264415,"d":"22.23%"}},{"$f":"[1]班线包车!AL55","v":601.1448},{"v":-0.184615543208222,"d":"-18.46%"},{"$f":"[1]班线包车!AN55","v":420.0929},{"v":0.0282324456509635,"d":"2.82%"},{"v":9282.578,"d":"9282.58"},{"v":-0.0446985423771099,"d":"-4.47%"},null,{"v":9308.3514,"d":"9308.35"},{"v":999.6922,"d":"999.69"},null,{"v":1182.9721,"d":"1182.97"},null,958.7643,null,{"v":777.1591,"d":"777.16"},null,{"v":924.629,"d":"924.63"},null,{"v":742.5202,"d":"742.52"},null,{"v":670.8997,"d":"670.90"},null,{"v":806.4305,"d":"806.43"},null,{"v":742.2819,"d":"742.28"},null,{"v":765.7492,"d":"765.75"},null,{"v":737.2532,"d":"737.25"},null,{"v":408.5583,"d":"408.56"},null,{"v":9716.9097,"d":"9716.91"}]
[null,"城际城乡公交旅客周转量（万人公里）",{"$f":"[1]公交!C70-[1]公交!C72","v":1204.45},{"$f":"C181/R181-1","v":{"v":-0.196234926693849,"d":"-19.62%"}},{"$f":"[1]公交!E70-[1]公交!E72","v":1327.61},{"v":-0.140265896477811,"d":"-14.03%"},{"$f":"[1]公交!G70-[1]公交!G72","v":1232.6},{"v":-0.112963002943357,"d":"-11.30%"},{"$f":"[1]公交!I70-[1]公交!I72","v":1234.04},{"$f":"I181/X181-1","v":{"v":-0.0880916312580824,"d":"-8.81%"}},{"$f":"[1]公交!K70-[1]公交!K72","v":1265.04},{"v":-0.100243246703367,"d":"-10.02%"},{"$f":"[1]公交!M70-[1]公交!M72","v":1226.04},{"v":-0.0390632347869707,"d":"-3.91%"},7489.78,{"v":-0.115456928927416,"d":"-11.55%"},7191.52,{"$f":"[1]公交!R70-[1]公交!R72","v":1498.51},{"$f":"R181/AT181-1","v":{"v":0.011065305544123,"d":"1.11%"}},{"$f":"[1]公交!T70-[1]公交!T72","v":1544.21},{"v":0.024351575456053,"d":"2.44%"},{"$f":"[1]公交!V70-[1]公交!V72","v":1389.57},{"v":0.0603114770360085,"d":"6.03%"},{"$f":"[1]公交!X70-[1]公交!X72","v":1353.25},{"$f":"X181/AZ181-1","v":{"v":0.100230086912689,"d":"10.02%"}},{"$f":"[1]公交!Z70-[1]公交!Z72","v":1405.98},{"v":0.105139048277814,"d":"10.51%"},{"$f":"[1]公交!AB70-[1]公交!AB72","v":1275.88},{"v":-9.04833285438E-3,"d":"-0.90%"},{"$f":"[1]公交!AD70-[1]公交!AD72","v":1235.55},{"$f":"AD181/BF181-1","v":{"v":-0.0309867770928425,"d":"-3.10%"}},{"$f":"[1]公交!AF70-[1]公交!AF72","v":1067.92},{"v":-0.148972793777792,"d":"-14.90%"},{"$f":"[1]公交!AH70-[1]公交!AH72","v":1029.09},{"v":-0.191907214875773,"d":"-19.19%"},{"$f":"[1]公交!AJ70-[1]公交!AJ72","v":1134.22},{"$f":"AJ181/BL181-1","v":{"v":-0.158147095280155,"d":"-15.81%"}},{"$f":"[1]公交!AL70-[1]公交!AL72","v":1068.77},{"v":-0.162300915475295,"d":"-16.23%"},{"$f":"[1]公交!AN70-[1]公交!AN72","v":1105.04},{"v":-0.147707377270448,"d":"-14.77%"},15107.99,{"v":-0.044580577678787,"d":"-4.46%"},null,14516.39,1482.11,null,{"v":1507.5,"d":"1507.50"},null,1310.53,null,1229.97,null,1272.22,null,1287.53,null,1275.06,null,1254.86,null,1273.48,null,1347.29,null,1275.84,null,1296.55,null,15812.94]
[null,"城际城乡巡游出租旅客周转量（万人公里）",{"$f":"[1]出租!C70-[1]出租!C72","v":197.34},{"$f":"C182/R182-1","v":{"v":-0.0138423866873221,"d":"-1.38%"}},{"$f":"[1]出租!E70-[1]出租!E72","v":203.92},{"v":0.0415772806211052,"d":"4.16%"},{"$f":"[1]出租!G70-[1]出租!G72","v":192.94},{"v":-0.0178171451842803,"d":"-1.78%"},{"$f":"[1]出租!I70-[1]出租!I72","v":190.66},{"$f":"I182/X182-1","v":{"v":-0.0113047085666876,"d":"-1.13%"}},{"$f":"[1]出租!K70-[1]出租!K72","v":196.6},{"v":-0.0145363408521304,"d":"-1.45%"},{"$f":"[1]出租!M70-[1]出租!M72","v":164.88},{"v":-0.10995951417004,"d":"-11.00%"},1146.34,{"v":-0.0201552242888404,"d":"-2.02%"},984.67,{"$f":"[1]出租!R70-[1]出租!R72","v":200.11},{"$f":"R182/AT182-1","v":{"v":0.0022036359993991,"d":"0.22%"}},{"$f":"[1]出租!T70-[1]出租!T72","v":195.78},{"v":-0.11174629100313,"d":"-11.17%"},{"$f":"[1]出租!V70-[1]出租!V72","v":196.44},{"v":-0.0138554216867469,"d":"-1.39%"},{"$f":"[1]出租!X70-[1]出租!X72","v":192.84},{"$f":"X182/AZ182-1","v":{"v":-0.00868760602477747,"d":"-0.87%"}},{"$f":"[1]出租!Z70-[1]出租!Z72","v":199.5},{"v":-0.00766016713091922,"d":"-0.77%"},{"$f":"[1]出租!AB70-[1]出租!AB72","v":185.25},{"v":0.00909685150887896,"d":"0.91%"},{"$f":"[1]出租!AD70-[1]出租!AD72","v":185.02},{"$f":"AD182/BF182-1","v":{"v":-0.00124156545209175,"d":"-0.12%"}},{"$f":"[1]出租!AF70-[1]出租!AF72","v":183.67},{"v":0.00169066317626521,"d":"0.17%"},{"$f":"[1]出租!AH70-[1]出租!AH72","v":182.29},{"v":-0.0126205178203879,"d":"-1.26%"},{"$f":"[1]出租!AJ70-[1]出租!AJ72","v":198.01},{"$f":"AJ182/BL182-1","v":{"v":-0.0104447776111944,"d":"-1.04%"}},{"$f":"[1]出租!AL70-[1]出租!AL72","v":179.94},{"v":-0.0108839050131927,"d":"-1.09%"},{"$f":"[1]出租!AN70-[1]出租!AN72","v":168.48},{"v":0.0197929907390593,"d":"1.98%"},2267.33,{"v":-0.0137283645585478,"d":"-1.37%"},null,2133.68,199.67,null,220.41,null,{"v":199.2,"d":"199.20"},null,194.53,null,201.04,null,183.58,null,185.25,null,183.36,null,184.62,null,{"v":200.1,"d":"200.10"},null,181.92,null,165.21,null,2298.89]
[null,"城际城乡网约车旅客周转量(万人公里)",{"$f":"[1]网约车!C70-[1]网约车!C72","v":{"v":160.9505000282,"d":"160.95"}},{"$f":"C183/R183-1","v":{"v":8.22875740489798,"d":"822.88%"}},{"$f":"[1]网约车!E70-[1]网约车!E72","v":{"v":147.070491459089,"d":"147.07"}},{"v":5.88749842892082,"d":"588.75%"},{"$f":"[1]网约车!G70-[1]网约车!G72","v":{"v":141.173974324394,"d":"141.17"}},{"v":2.09407856393171,"d":"209.41%"},{"$f":"[1]网约车!I70-[1]网约车!I72","v":{"v":139.132432003536,"d":"139.13"}},{"$f":"I183/X183-1","v":{"v":3.7488075743977,"d":"374.88%"}},{"$f":"[1]网约车!K70-[1]网约车!K72","v":{"v":150.086431282977,"d":"150.09"}},{"v":3.02250717538168,"d":"302.25%"},{"$f":"[1]网约车!M70-[1]网约车!M72","v":{"v":151.307024713094,"d":"151.31"}},{"v":2.64112319450366,"d":"264.11%"},{"v":889.72085381129,"d":"889.72"},{"v":3.61987215010358,"d":"361.99%"},{"v":151.030559539127,"d":"151.03"},{"$f":"[1]网约车!R70-[1]网约车!R72","v":{"v":17.4401052023297,"d":"17.44"}},{"$f":"R183/AT183-1","v":{"v":-0.820884807673591,"d":"-82.09%"}},{"$f":"[1]网约车!T70-[1]网约车!T72","v":{"v":21.353252269581,"d":"21.35"}},{"v":-0.536541970150997,"d":"-53.65%"},{"$f":"[1]网约车!V70-[1]网约车!V72","v":{"v":45.6271459846195,"d":"45.63"}},{"v":-0.350165661479287,"d":"-35.02%"},{"$f":"[1]网约车!X70-[1]网约车!X72","v":{"v":29.2983932963808,"d":"29.30"}},{"$f":"X183/AZ183-1","v":{"v":-0.622489475066473,"d":"-62.25%"}},{"$f":"[1]网约车!Z70-[1]网约车!Z72","v":{"v":37.3116627862164,"d":"37.31"}},{"v":-0.54453407016424,"d":"-54.45%"},{"$f":"[1]网约车!AB70-[1]网约车!AB72","v":{"v":41.5550412964589,"d":"41.56"}},{"v":-0.760854935743683,"d":"-76.09%"},{"$f":"[1]网约车!AD70-[1]网约车!AD72","v":{"v":50.6436179573096,"d":"50.64"}},{"$f":"AD183/BF183-1","v":{"v":-0.525614363205517,"d":"-52.56%"}},{"$f":"[1]网约车!AF70-[1]网约车!AF72","v":{"v":52.5590583345906,"d":"52.56"}},{"v":-0.751035023536086,"d":"-75.10%"},{"$f":"[1]网约车!AH70-[1]网约车!AH72","v":{"v":45.1793193574568,"d":"45.18"}},{"v":-0.496716193945664,"d":"-49.67%"},{"$f":"[1]网约车!AJ70-[1]网约车!AJ72","v":{"v":63.2830585227458,"d":"63.28"}},{"$f":"AJ183/BL183-1","v":{"v":-0.324188853625378,"d":"-32.42%"}},{"$f":"[1]网约车!AL70-[1]网约车!AL72","v":{"v":87.5641407172479,"d":"87.56"}},{"v":-0.0676596336932652,"d":"-6.77%"},{"$f":"[1]网约车!AN70-[1]网约车!AN72","v":{"v":136.43652007675,"d":"136.44"}},{"v":0.311546517348728,"d":"31.15%"},{"v":628.251315801687,"d":"628.25"},{"v":-0.495854703814267,"d":"-49.59%"},null,{"v":1142.14392844283,"d":"1142.14"},{"v":97.368095781333,"d":"97.37"},null,{"v":46.0737561857284,"d":"46.07"},null,{"v":70.2135040885734,"d":"70.21"},null,{"v":77.60947407106,"d":"77.61"},null,{"v":81.919766863069,"d":"81.92"},null,{"v":173.764996679672,"d":"173.76"},null,{"v":106.75622116116,"d":"106.76"},null,{"v":211.110249646736,"d":"211.11"},null,{"v":89.7690702819456,"d":"89.77"},null,{"v":93.6401520783236,"d":"93.64"},null,{"v":93.9186416052266,"d":"93.92"},null,{"v":104.027206257659,"d":"104.03"},null,{"v":1246.17113470049,"d":"1246.17"}]
["林区","总旅客周转量（万人公里）",{"$f":"C185+C186+C187+C188","v":{"v":320.029405984799,"d":"320.03"}},{"$f":"C184/R184-1","v":{"v":-0.263292918075178,"d":"-26.33%"}},{"v":670.263973358114,"d":"670.26"},{"v":0.806399742063591,"d":"80.64%"},{"v":189.367916072058,"d":"189.37"},{"v":-0.0653102703745996,"d":"-6.53%"},{"$f":"I185+I186+I187+I188","v":{"v":288.827121315898,"d":"288.83"}},{"$f":"I184/X184-1","v":{"v":-0.107825002035052,"d":"-10.78%"}},{"v":345.536935687748,"d":"345.54"},{"v":-0.174335937059142,"d":"-17.43%"},{"v":252.374330883605,"d":"252.37"},{"v":-0.215127369719334,"d":"-21.51%"},{"v":2066.39968330222,"d":"2066.40"},{"v":-2.62211351837183E-3,"d":"-0.26%"},{"v":1750.28412717088,"d":"1750.28"},{"$f":"R185+R186+R187+R188","v":{"v":434.40522541014,"d":"434.41"}},{"$f":"R184/AT184-1","v":{"v":-0.0258480454760296,"d":"-2.58%"}},{"v":371.049639650867,"d":"371.05"},{"v":-0.288108660764475,"d":"-28.81%"},{"v":202.599761257622,"d":"202.60"},{"v":0.109347466537409,"d":"10.93%"},{"$f":"X185+X186+X187+X188","v":{"v":323.733709165481,"d":"323.73"}},{"$f":"X184/AZ184-1","v":{"v":0.206406314571297,"d":"20.64%"}},{"v":418.495791686768,"d":"418.50"},{"v":0.17736790770842,"d":"17.74%"},{"v":321.548135515131,"d":"321.55"},{"v":-0.00352947959571603,"d":"-0.35%"},{"$f":"AD185+AD186+AD187+AD188","v":{"v":670.314995943388,"d":"670.31"}},{"$f":"AD184/BF184-1","v":{"v":0.217161933320743,"d":"21.72%"}},{"v":836.698140522095,"d":"836.70"},{"v":4.25343988852656E-3,"d":"0.43%"},{"v":315.513406729148,"d":"315.51"},{"v":0.093100001360843,"d":"9.31%"},{"$f":"AJ185+AJ186+AJ187+AJ188","v":{"v":287.285725197792,"d":"287.29"}},{"$f":"AJ184/BL184-1","v":{"v":-0.297212589695097,"d":"-29.72%"}},{"v":220.152577776324,"d":"220.15"},{"v":0.190699634926892,"d":"19.07%"},{"v":205.043317167018,"d":"205.04"},{"v":0.11445030982825,"d":"11.45%"},{"v":4606.84042602178,"d":"4606.84"},{"v":0.0132861521458678,"d":"1.33%"},null,{"v":4362.44973236725,"d":"4362.45"},{"$f":"AT185+AT186+AT187+AT188","v":{"v":445.931687959726,"d":"445.93"}},null,{"v":521.216679007956,"d":"521.22"},null,{"v":182.629669575029,"d":"182.63"},null,{"$f":"AZ185+AZ186+AZ187+AZ188","v":{"v":268.345502883514,"d":"268.35"}},null,{"v":355.450313319064,"d":"355.45"},null,{"v":322.687052884087,"d":"322.69"},null,{"$f":"BF185+BF186+BF187+BF188","v":{"v":550.719651669182,"d":"550.72"}},null,{"v":833.154368497827,"d":"833.15"},null,{"v":288.640935263337,"d":"288.64"},null,{"$f":"BL185+BL186+BL187+BL188","v":{"v":408.780409246593,"d":"408.78"}},null,{"v":184.893462060935,"d":"184.89"},null,{"v":183.986056048222,"d":"183.99"},null,{"v":4546.43578841547,"d":"4546.44"}]
[null,"公路班线旅客周转量（万人公里）",{"$f":"[1]班线包车!C57","v":265.8931},{"$f":"C185/R185-1","v":{"v":-0.333669055228967,"d":"-33.37%"}},{"$f":"[1]班线包车!E57","v":624.3892},{"v":0.843002623165857,"d":"84.30%"},{"$f":"[1]班线包车!G57","v":137.2869},{"v":-0.154370192061901,"d":"-15.44%"},{"$f":"[1]班线包车!I57","v":237.1374},{"$f":"I185/X185-1","v":{"v":-0.164315006725657,"d":"-16.43%"}},{"$f":"[1]班线包车!K57","v":292.4533},{"v":-0.221377181723377,"d":"-22.14%"},{"$f":"[1]班线包车!M57","v":196.8723},{"v":-0.295899404953074,"d":"-29.59%"},{"v":1754.0322,"d":"1754.03"},{"v":-0.0462831280034189,"d":"-4.63%"},{"v":1559.5458,"d":"1559.55"},{"$f":"[1]班线包车!R57","v":399.0406},{"$f":"R185/AT185-1","v":{"v":-0.0299470341764237,"d":"-2.99%"}},{"$f":"[1]班线包车!T57","v":338.7891},{"v":-0.30722126465633,"d":"-30.72%"},{"$f":"[1]班线包车!V57","v":162.3487},{"v":0.0786285661134511,"d":"7.86%"},{"$f":"[1]班线包车!X57","v":283.7641},{"$f":"X185/AZ185-1","v":{"v":0.21818693850812,"d":"21.82%"}},{"$f":"[1]班线包车!Z57","v":375.6033},{"v":0.181542988472193,"d":"18.15%"},{"$f":"[1]班线包车!AB57","v":279.6082},{"v":-0.0228641681239402,"d":"-2.29%"},{"$f":"[1]班线包车!AD57","v":625.9363},{"$f":"AD185/BF185-1","v":{"v":0.289025405857796,"d":"28.90%"}},{"$f":"[1]班线包车!AF57","v":795.8587},{"v":0.0312134808195872,"d":"3.12%"},{"$f":"[1]班线包车!AH57","v":275.5023},{"v":0.0907029729820679,"d":"9.07%"},{"$f":"[1]班线包车!AJ57","v":244.5013},{"$f":"AJ185/BL185-1","v":{"v":-0.345122055743343,"d":"-34.51%"}},{"$f":"[1]班线包车!AL57","v":179.5328},{"v":0.194482830200856,"d":"19.45%"},{"$f":"[1]班线包车!AN57","v":161.6252},{"v":0.0860821060256736,"d":"8.61%"},{"v":4122.1106,"d":"4122.11"},{"v":0.0127275455680773,"d":"1.27%"},null,{"v":3921.4907,"d":"3921.49"},{"v":411.3596,"d":"411.36"},null,{"v":489.0293,"d":"489.03"},null,150.514,null,{"v":232.9397,"d":"232.94"},null,{"v":317.8922,"d":"317.89"},null,{"v":286.1508,"d":"286.15"},null,{"v":485.5888,"d":"485.59"},null,{"v":771.7691,"d":"771.77"},null,{"v":252.5915,"d":"252.59"},null,{"v":373.354,"d":"373.35"},null,{"v":150.3017,"d":"150.30"},null,{"v":148.8149,"d":"148.81"},null,{"v":4070.3056,"d":"4070.31"}]
[null,"城际城乡公交旅客周转量（万人公里）",{"$f":"[1]公交!C74-[1]公交!C76","v":28.07},{"$f":"C186/R186-1","v":{"v":0.497066666666668,"d":"49.71%"}},{"$f":"[1]公交!E74-[1]公交!E76","v":20},{"v":0.277955271565495,"d":"27.80%"},{"$f":"[1]公交!G74-[1]公交!G76","v":26},{"v":0.109688433632095,"d":"10.97%"},{"$f":"[1]公交!I74-[1]公交!I76","v":25.6},{"$f":"I186/X186-1","v":{"v":0.0963597430406853,"d":"9.64%"}},{"$f":"[1]公交!K74-[1]公交!K76","v":26.75},{"v":0.019047619047619,"d":"1.90%"},{"$f":"[1]公交!M74-[1]公交!M76","v":28.93},{"v":0.142123963679431,"d":"14.21%"},155.35,{"v":0.170156673696897,"d":"17.02%"},107.43,{"$f":"[1]公交!R74-[1]公交!R76","v":18.75},{"$f":"R186/AT186-1","v":{"v":-0.00688559322033933,"d":"-0.69%"}},{"$f":"[1]公交!T74-[1]公交!T76","v":15.65},{"v":-0.0515151515151516,"d":"-5.15%"},{"$f":"[1]公交!V74-[1]公交!V76","v":23.43},{"v":0.428658536585366,"d":"42.87%"},{"$f":"[1]公交!X74-[1]公交!X76","v":23.35},{"$f":"X186/AZ186-1","v":{"v":0.181680161943319,"d":"18.17%"}},{"$f":"[1]公交!Z74-[1]公交!Z76","v":26.25},{"v":0.198630136986301,"d":"19.86%"},{"$f":"[1]公交!AB74-[1]公交!AB76","v":25.33},{"v":0.213122605363985,"d":"21.31%"},{"$f":"[1]公交!AD74-[1]公交!AD76","v":27.2},{"$f":"AD186/BF186-1","v":{"v":0.140939597315436,"d":"14.09%"}},{"$f":"[1]公交!AF74-[1]公交!AF76","v":23.91},{"v":0.196696696696697,"d":"19.67%"},{"$f":"[1]公交!AH74-[1]公交!AH76","v":23.22},{"v":0.158104738154613,"d":"15.81%"},{"$f":"[1]公交!AJ74-[1]公交!AJ76","v":25.95},{"$f":"AJ186/BL186-1","v":{"v":0.320610687022901,"d":"32.06%"}},{"$f":"[1]公交!AL74-[1]公交!AL76","v":24.13},{"v":0.286933333333333,"d":"28.69%"},{"$f":"[1]公交!AN74-[1]公交!AN76","v":26.75},{"v":0.361323155216285,"d":"36.13%"},283.92,{"v":0.201828648831696,"d":"20.18%"},null,216.59,18.88,null,{"v":16.5,"d":"16.50"},null,{"v":16.4,"d":"16.40"},null,19.76,null,{"v":21.9,"d":"21.90"},null,20.88,null,23.84,null,19.98,null,20.05,null,19.65,null,18.75,null,19.65,null,236.24]
[null,"城际城乡巡游出租旅客周转量（万人公里）",{"$f":"[1]出租!C74-[1]出租!C76","v":25.4},{"$f":"C187/R187-1","v":{"v":0.553516819571866,"d":"55.35%"}},{"$f":"[1]出租!E74-[1]出租!E76","v":25.38},{"v":0.553243574051407,"d":"55.32%"},{"$f":"[1]出租!G74-[1]出租!G76","v":25.39},{"v":0.552905198776758,"d":"55.29%"},{"$f":"[1]出租!I74-[1]出租!I76","v":25.4},{"$f":"I187/X187-1","v":{"v":0.551618814905315,"d":"55.16%"}},{"$f":"[1]出租!K74-[1]出租!K76","v":25.5},{"v":0.555826723611959,"d":"55.58%"},{"$f":"[1]出租!M74-[1]出租!M76","v":25.57},{"v":0.559146341463415,"d":"55.91%"},152.64,{"v":0.554378818737271,"d":"55.44%"},{"v":81.8,"d":"81.80"},{"$f":"[1]出租!R74-[1]出租!R76","v":16.35},{"$f":"R187/AT187-1","v":{"v":0.0453964194373402,"d":"4.54%"}},{"$f":"[1]出租!T74-[1]出租!T76","v":16.34},{"v":0.0440894568690098,"d":"4.41%"},{"$f":"[1]出租!V74-[1]出租!V76","v":16.35},{"v":0.0427295918367347,"d":"4.27%"},{"$f":"[1]出租!X74-[1]出租!X76","v":16.37},{"$f":"X187/AZ187-1","v":{"v":0.0486867392696988,"d":"4.87%"}},{"$f":"[1]出租!Z74-[1]出租!Z76","v":16.39},{"v":0.0492957746478875,"d":"4.93%"},{"$f":"[1]出租!AB74-[1]出租!AB76","v":16.4},{"v":0.0519563822963438,"d":"5.20%"},{"$f":"[1]出租!AD74-[1]出租!AD76","v":16.73},{"$f":"AD187/BF187-1","v":{"v":-0.593240943350352,"d":"-59.32%"}},{"$f":"[1]出租!AF74-[1]出租!AF76","v":16.41},{"v":-0.59808963997061,"d":"-59.81%"},{"$f":"[1]出租!AH74-[1]出租!AH76","v":16.42},{"v":0.0314070351758791,"d":"3.14%"},{"$f":"[1]出租!AJ74-[1]出租!AJ76","v":16.4},{"$f":"AJ187/BL187-1","v":{"v":0.0472541507024264,"d":"4.73%"}},{"$f":"[1]出租!AL74-[1]出租!AL76","v":16.12},{"v":0.0254452926208655,"d":"2.54%"},{"$f":"[1]出租!AN74-[1]出租!AN76","v":16.25},{"v":0.0572543916720885,"d":"5.73%"},196.53,{"v":-0.175698347454073,"d":"-17.57%"},null,223.05,15.64,null,15.65,null,15.68,null,15.61,null,15.62,null,15.59,null,41.13,null,40.83,null,15.92,null,15.66,null,15.72,null,15.37,null,238.42]
[null,"城际城乡网约车旅客周转量(万人公里)",{"$f":"[1]网约车!C74-[1]网约车!C76","v":{"v":0.666305984798609,"d":"0.67"}},{"$f":"C188/R188-1","v":{"v":1.51792140613488,"d":"151.79%"}},{"$f":"[1]网约车!E74-[1]网约车!E76","v":{"v":0.49477335811447,"d":"0.49"}},{"v":0.828838606573815,"d":"82.88%"},{"$f":"[1]网约车!G74-[1]网约车!G76","v":{"v":0.691016072057778,"d":"0.69"}},{"v":0.466934630849378,"d":"46.69%"},{"$f":"[1]网约车!I74-[1]网约车!I76","v":{"v":0.689721315898305,"d":"0.69"}},{"$f":"I188/X188-1","v":{"v":1.76320508731427,"d":"176.32%"}},{"$f":"[1]网约车!K74-[1]网约车!K76","v":{"v":0.83363568774828,"d":"0.83"}},{"v":2.30163617827544,"d":"230.16%"},{"$f":"[1]网约车!M74-[1]网约车!M76","v":{"v":1.00203088360468,"d":"1.00"}},{"v":3.77304129785217,"d":"377.30%"},{"v":4.37748330222212,"d":"4.38"},{"v":1.54762169827934,"d":"154.76%"},{"v":1.50832717087903,"d":"1.51"},{"$f":"[1]网约车!R74-[1]网约车!R76","v":{"v":0.264625410139953,"d":"0.26"}},{"$f":"R188/AT188-1","v":{"v":4.0803566032134,"d":"408.04%"}},{"$f":"[1]网约车!T74-[1]网约车!T76","v":{"v":0.270539650866945,"d":"0.27"}},{"v":6.23774293808836,"d":"623.77%"},{"$f":"[1]网约车!V74-[1]网约车!V76","v":{"v":0.471061257622413,"d":"0.47"}},{"v":12.206248104741,"d":"1220.62%"},{"$f":"[1]网约车!X74-[1]网约车!X76","v":{"v":0.249609165481339,"d":"0.25"}},{"$f":"X188/AZ188-1","v":{"v":5.97176151705557,"d":"597.18%"}},{"$f":"[1]网约车!Z74-[1]网约车!Z76","v":{"v":0.252491686768382,"d":"0.25"}},{"v":5.62476249696751,"d":"562.48%"},{"$f":"[1]网约车!AB74-[1]网约车!AB76","v":{"v":0.209935515130696,"d":"0.21"}},{"v":2.16870001999245,"d":"216.87%"},{"$f":"[1]网约车!AD74-[1]网约车!AD76","v":{"v":0.44869594338779,"d":"0.45"}},{"$f":"AD188/BF188-1","v":{"v":1.78950131925719,"d":"178.95%"}},{"$f":"[1]网约车!AF74-[1]网约车!AF76","v":{"v":0.51944052209534,"d":"0.52"}},{"v":-0.097046815429781,"d":"-9.70%"},{"$f":"[1]网约车!AH74-[1]网约车!AH76","v":{"v":0.371106729148078,"d":"0.37"}},{"v":3.67181341838174,"d":"367.18%"},{"$f":"[1]网约车!AJ74-[1]网约车!AJ76","v":{"v":0.43442519779153,"d":"0.43"}},{"$f":"AJ188/BL188-1","v":{"v":2.73187878546452,"d":"273.19%"}},{"$f":"[1]网约车!AL74-[1]网约车!AL76","v":{"v":0.369777776324247,"d":"0.37"}},{"v":2.03688828429278,"d":"203.69%"},{"$f":"[1]网约车!AN74-[1]网约车!AN76","v":{"v":0.418117167018412,"d":"0.42"}},{"v":1.76612925475025,"d":"176.61%"},{"v":4.27982602177513,"d":"4.28"},{"v":1.91107315004186,"d":"191.11%"},null,{"v":1.31903236724758,"d":"1.32"},{"v":0.0520879597256172,"d":"0.05"},null,{"v":0.0373790079560908,"d":"0.04"},null,{"v":0.0356695750289065,"d":"0.04"},null,{"v":0.0358028835138294,"d":"0.04"},null,{"v":0.038113319063734,"d":"0.04"},null,{"v":0.0662528840868932,"d":"0.07"},null,{"v":0.160851669181957,"d":"0.16"},null,{"v":0.575268497826473,"d":"0.58"},null,{"v":0.0794352633364851,"d":"0.08"},null,{"v":0.116409246592787,"d":"0.12"},null,{"v":0.121762060934803,"d":"0.12"},null,{"v":0.151156048221674,"d":"0.15"},null,{"v":1.47018841546925,"d":"1.47"}]

{"sheet":"中口径排名","index":4,"n_rows":20,"n_cols":18,"rows_kept":20,"merged":[[0,0,0,7],[0,9,0,17]]}
[{"$nulls":9},"2026年1-6月全省分市州累计完成道路客运生产情况"]
["客运量","排名","同比增速","增速排名","周转量","排名","同比增速","增速排名",null,"市州","客运量","排名","同比增速","增速排名","周转量","排名","同比增速","增速排名"]
[{"$f":"SUM(A4:A20)","v":{"v":3733.7901,"d":"3733.79"}},null,{"v":0.0894895845283503,"d":"8.95%"},null,{"$f":"SUM(E4:E20)","v":{"v":148916.514818,"d":"148916.51"}},null,{"v":-0.0221937850408358,"d":"-2.22%"},null,null,"全省",{"$f":"SUM(K4:K20)","v":{"v":23496.1693,"d":"23496.17"}},null,{"v":0.0776981366611473,"d":"7.77%"},null,{"$f":"SUM(O4:O20)","v":{"v":917059.199270001,"d":"917059.20"}},null,{"v":-0.0294617749859419,"d":"-2.95%"}]
[{"v":349.5304,"d":"349.53"},{"$f":"RANK(A4,A$4:A$20)","v":3},{"v":-0.0529000328537245,"d":"-5.29%"},{"$f":"RANK(C4,C$4:C$20)","v":16},{"v":14192.4661,"d":"14192.47"},5,{"v":-0.000661406355434102,"d":"-0.07%"},9,null,"武汉",{"v":2043.5225,"d":"2043.52"},{"$f":"RANK(K4,K$4:K$20)","v":4},{"v":0.06469574472342,"d":"6.47%"},10,{"v":113473.3099,"d":"113473.31"},1,{"v":0.0475191149676382,"d":"4.75%"},{"$f":"RANK(Q4,Q$4:Q$20)","v":2}]
[{"v":221.141365541547,"d":"221.14"},9,{"v":0.0372078162613729,"d":"3.72%"},{"$f":"RANK(C5,C$4:C$20)","v":13},{"v":5188.80735994792,"d":"5188.81"},11,{"v":-0.221184910752482,"d":"-22.12%"},17,null,"黄石",{"v":1412.69720528149,"d":"1412.70"},{"$f":"RANK(K5,K$4:K$20)","v":9},{"v":0.088518460207196,"d":"8.85%"},7,{"v":34657.2646406627,"d":"34657.26"},11,{"v":-0.16410066290516,"d":"-16.41%"},17]
[{"v":173.234142925779,"d":"173.23"},10,{"v":-0.0314145937562877,"d":"-3.14%"},{"$f":"RANK(C6,C$4:C$20)","v":14},{"v":8786.97856069023,"d":"8786.98"},8,{"v":-0.135659849394126,"d":"-13.57%"},16,null,"十堰",{"v":1154.16157683964,"d":"1154.16"},{"$f":"RANK(K6,K$4:K$20)","v":10},{"v":0.00453609309429526,"d":"0.45%"},13,{"v":51231.7527370974,"d":"51231.75"},8,{"v":-0.111718692813251,"d":"-11.17%"},15]
[{"v":266.584590941652,"d":"266.58"},8,{"v":-0.283133981157434,"d":"-28.31%"},{"$f":"RANK(C7,C$4:C$20)","v":17},{"v":15665.6798545577,"d":"15665.68"},3,{"v":-0.120760255268696,"d":"-12.08%"},15,null,"宜昌",{"v":2040.95028992988,"d":"2040.95"},{"$f":"RANK(K7,K$4:K$20)","v":5},{"v":-0.178509998845935,"d":"-17.85%"},17,{"v":107622.251871491,"d":"107622.25"},3,{"v":-0.0424234517531478,"d":"-4.24%"},11]
[{"v":394.461782104102,"d":"394.46"},2,{"v":0.383309874768095,"d":"38.33%"},{"$f":"RANK(C8,C$4:C$20)","v":3},{"v":21087.1401810592,"d":"21087.14"},1,{"v":0.167680282798066,"d":"16.77%"},2,null,"襄阳",{"v":2492.25392566496,"d":"2492.25"},{"$f":"RANK(K8,K$4:K$20)","v":2},{"v":0.102001654915558,"d":"10.20%"},5,{"v":109502.090067462,"d":"109502.09"},2,{"v":-0.00398629195935907,"d":"-0.40%"},6]
[{"v":88.7385285569001,"d":"88.74"},15,{"v":0.110318894661182,"d":"11.03%"},{"$f":"RANK(C9,C$4:C$20)","v":9},{"v":2605.9371157795,"d":"2605.94"},14,{"v":0.0101923151636794,"d":"1.02%"},7,null,"鄂州",{"v":455.402129445322,"d":"455.40"},{"$f":"RANK(K9,K$4:K$20)","v":15},{"v":0.0469952137207925,"d":"4.70%"},11,{"v":15951.086268888,"d":"15951.09"},14,{"v":-0.0344989419559495,"d":"-3.45%"},9]
[{"v":100.628313877539,"d":"100.63"},13,{"v":0.130200600410014,"d":"13.02%"},{"$f":"RANK(C10,C$4:C$20)","v":8},{"v":3905.09050423355,"d":"3905.09"},12,{"v":-0.0931280048007869,"d":"-9.31%"},14,null,"荆门",{"v":589.506985796763,"d":"589.51"},{"$f":"RANK(K10,K$4:K$20)","v":14},{"v":0.0264433933229673,"d":"2.64%"},12,{"v":22897.2797104503,"d":"22897.28"},12,{"v":-0.148769960793238,"d":"-14.88%"},16]
[{"v":324.791951951275,"d":"324.79"},5,{"v":0.152183671641563,"d":"15.22%"},{"$f":"RANK(C11,C$4:C$20)","v":6},{"v":7308.98776331239,"d":"7308.99"},10,{"v":0.0854477105738252,"d":"8.54%"},3,null,"孝感",{"v":1999.07924977082,"d":"1999.08"},{"$f":"RANK(K11,K$4:K$20)","v":6},{"v":0.0654181795395354,"d":"6.54%"},9,{"v":47925.0743732459,"d":"47925.07"},9,{"v":0.0136330461433936,"d":"1.36%"},3]
[{"v":300.581697540454,"d":"300.58"},6,{"v":0.656616334248797,"d":"65.66%"},{"$f":"RANK(C12,C$4:C$20)","v":2},{"v":12949.3708480345,"d":"12949.37"},6,{"v":-0.0909455366442803,"d":"-9.09%"},13,null,"荆州",{"v":1763.67922551397,"d":"1763.68"},{"$f":"RANK(K12,K$4:K$20)","v":8},{"v":0.620376690949333,"d":"62.04%"},1,{"v":69310.9030076317,"d":"69310.90"},6,{"v":-0.059582698426036,"d":"-5.96%"},12]
[{"v":419.825340055154,"d":"419.83"},1,{"v":0.0473667852985913,"d":"4.74%"},{"$f":"RANK(C13,C$4:C$20)","v":12},{"v":15512.0319997076,"d":"15512.03"},4,{"v":0.00544819865245838,"d":"0.54%"},8,null,"黄冈",{"v":2629.9810696774,"d":"2629.98"},{"$f":"RANK(K13,K$4:K$20)","v":1},{"v":0.0948078378516,"d":"9.48%"},6,{"v":91847.4084607316,"d":"91847.41"},5,{"v":0.0130471609370841,"d":"1.30%"},4]
[{"v":278.571008184142,"d":"278.57"},7,{"v":0.149256398670949,"d":"14.93%"},{"$f":"RANK(C14,C$4:C$20)","v":7},{"v":10892.929130885,"d":"10892.93"},7,{"v":-0.0787705300601058,"d":"-7.88%"},12,null,"咸宁",{"v":1889.6457616742,"d":"1889.65"},{"$f":"RANK(K14,K$4:K$20)","v":7},{"v":0.171044853112754,"d":"17.10%"},3,{"v":68126.5958822707,"d":"68126.60"},7,{"v":-0.0802171135655664,"d":"-8.02%"},13]
[{"v":170.613186895033,"d":"170.61"},11,{"v":-0.0398600357915098,"d":"-3.99%"},{"$f":"RANK(C15,C$4:C$20)","v":15},{"v":7434.48957774369,"d":"7434.49"},9,{"v":-0.0323726073085908,"d":"-3.24%"},10,null,"随州",{"v":1036.72933796965,"d":"1036.73"},{"$f":"RANK(K15,K$4:K$20)","v":11},{"v":-0.0266078616905996,"d":"-2.66%"},15,{"v":44650.5615220246,"d":"44650.56"},10,{"v":-0.0374806643452875,"d":"-3.75%"},10]
[{"v":345.742122157979,"d":"345.74"},4,{"v":0.193812147082404,"d":"19.38%"},{"$f":"RANK(C16,C$4:C$20)","v":4},{"v":16352.394236129,"d":"16352.39"},2,{"v":0.0242732571530135,"d":"2.43%"},5,null,"恩施",{"v":2145.53705184804,"d":"2145.54"},{"$f":"RANK(K16,K$4:K$20)","v":3},{"v":0.148270371057994,"d":"14.83%"},4,{"v":99547.1598359533,"d":"99547.16"},4,{"v":-0.0278153195269434,"d":"-2.78%"},7]
[{"v":51.4708183706736,"d":"51.47"},16,{"v":0.177778811478571,"d":"17.78%"},{"$f":"RANK(C17,C$4:C$20)","v":5},{"v":983.672983148429,"d":"983.67"},16,{"v":-0.0675271897327173,"d":"-6.75%"},11,null,"仙桃",{"v":303.859341820361,"d":"303.86"},{"$f":"RANK(K17,K$4:K$20)","v":16},{"v":0.17774400393688,"d":"17.77%"},2,{"v":5841.4438358295,"d":"5841.44"},16,{"v":-0.0930665033261009,"d":"-9.31%"},14]
[{"v":142.244369214885,"d":"142.24"},12,{"v":0.0802548943835857,"d":"8.03%"},{"$f":"RANK(C18,C$4:C$20)","v":10},{"v":2347.01153795417,"d":"2347.01"},15,{"v":0.0189674933135739,"d":"1.90%"},6,null,"潜江",{"v":865.978990103,"d":"865.98"},{"$f":"RANK(K18,K$4:K$20)","v":12},{"v":-0.0148606105623186,"d":"-1.49%"},14,{"v":13772.1397191483,"d":"13772.14"},15,{"v":-0.0329596070383599,"d":"-3.30%"},8]
[{"v":96.2590227928098,"d":"96.26"},14,{"v":0.0479115468301443,"d":"4.79%"},{"$f":"RANK(C19,C$4:C$20)","v":11},{"v":3033.26309145909,"d":"3033.26"},13,{"v":0.0474325044612964,"d":"4.74%"},4,null,"天门",{"v":613.908228247196,"d":"613.91"},{"$f":"RANK(K19,K$4:K$20)","v":13},{"v":0.0847682605064113,"d":"8.48%"},8,{"v":18636.4777538113,"d":"18636.48"},13,{"v":0.291446426348491,"d":"29.14%"},1]
[{"v":9.3714588900758,"d":"9.37"},17,{"v":0.819976601764174,"d":"82.00%"},{"$f":"RANK(C20,C$4:C$20)","v":1},{"v":670.263973358114,"d":"670.26"},17,{"v":0.806399742063591,"d":"80.64%"},1,null,"林区",{"v":59.2764304173151,"d":"59.28"},{"$f":"RANK(K20,K$4:K$20)","v":17},{"v":-0.067705737008401,"d":"-6.77%"},16,{"v":2066.39968330222,"d":"2066.40"},17,{"v":-0.00262211351837138,"d":"-0.26%"},5]

{"sheet":"中口径分析","index":5,"n_rows":7,"n_cols":8,"rows_kept":7,"merged":[[0,0,0,7]]}
["1-6月中口径客运量及周转量"]
["客运量（万人次）","累计客运量","同比","客运量占比情况","周转量（万人次公里）","累计周转量","同比","周转量占比"]
["总客运量",{"v":23496.1693,"d":"23496.17"},{"v":0.07769813666115,"d":"7.77%"},null,"总旅客周转量",{"v":917059.1993,"d":"917059.20"},{"v":-0.02946177498594,"d":"-2.95%"}]
["公路班线",{"v":9573.3393,"d":"9573.34"},{"v":-0.08690031671218,"d":"-8.69%"},{"$f":"B4/B$3","v":{"v":0.407442557029924,"d":"40.74%"}},"公路班线",{"v":674142.9293,"d":"674142.93"},{"v":-0.01897823606554,"d":"-1.90%"},{"$f":"F4/F$3","v":{"v":0.735113861585577,"d":"73.51%"}}]
["城际城乡公交",8727.43,{"v":0.150703480683453,"d":"15.07%"},{"v":0.371440547970515,"d":"37.14%"},"城际城乡公交",172013.69,{"v":-0.115515760588966,"d":"-11.55%"},{"v":0.187570977022312,"d":"18.76%"}]
["城际城乡巡游出租",3131.95,{"v":0.186830218422688,"d":"18.68%"},{"v":0.133296196499572,"d":"13.33%"},"城际城乡巡游出租",42740.38,{"v":-0.0453499418034951,"d":"-4.53%"},{"v":0.0466059116277598,"d":"4.66%"}]
["城际城乡网约车",2063.45,{"v":0.88547958223303,"d":"88.55%"},{"v":0.0878206984999891,"d":"8.78%"},"城际城乡网约车",{"v":28162.2,"d":"28162.20"},{"v":0.52531026481781,"d":"52.53%"},{"v":0.0307092497643516,"d":"3.07%"}]