Workbook

Sheet  货运
A1: 3月10日厅开会确定拆分方案，1-2月数据以此为准。
A3: 地区 名称 | B3: 指标 | C3: 46023 | D3: 1月与去年同比 | E3: 46054 | F3: 2月与去年同比 | G3: 46082 | H3: 3月与去年同比 | I3: 46113 | J3: 4月与去年同比 | K3: 46143 | L3: 5月与去年同比 | M3: 46174 | N3: 6月与去年同比 | O3: 46204 | P3: 7月与去年同比 | Q3: 46235 | R3: 8月与去年同比 | S3: 累计周转量 | T3: 同比 | V3: 2025年1月 | W3: 1月与去年同比 | X3: 2025年2月 | Y3: 2月与去年同比 | Z3: 2025年3月 | AA3: 3月与去年同比 | AB3: 2025年4月 | AC3: 4月与去年同比 | AD3: 2025年5月 | AE3: 5月与去年同比 | AF3: 2025年6月 | AG3: 6月与去年同比 | AH3: 2025年7月 | AI3: 7月与去年同比 | AJ3: 2025年8月 | AK3: 8月与去年同比 | AL3: 2025年9月 | AM3: 9月与去年同比 | AN3: 2025年10月 | AO3: 10月与去年同比 | AP3: 2025年11月 | AQ3: 11月与去年同比 | AR3: 2025年12月 | AS3: 12月与去年同比 | AT3: 2025年累计 | AU3: 2025年累计同比 | AX3: 2024年1月 | AY3: 1月与去年同比 | AZ3: 2024年2月 | BA3: 2月与去年同比 | BB3: 2024年3月 | BC3: 3月与去年同比 | BD3: 2024年4月 | BE3: 4月与去年同比 | BF3: 2024年5月 | BG3: 5月与去年同比 | BH3: 2024年6月 | BI3: 6月与去年同比 | BJ3: 2024年7月 | BK3: 7月与去年同比 | BL3: 2024年8月 | BM3: 8月与去年同比 | BN3: 2024年9月 | BO3: 9月与去年同比 | BP3: 2024年10月 | BQ3: 10月与去年同比 | BR3: 2024年11月 | BS3: 11月与去年同比 | BT3: 2024年12月 | BU3: 12月与去年同比 | BV3: 2024年累计 | BW3: 累计同比 | BY3: 2023年1月 | BZ3: 1月与去年同比 | CA3: 2023年2月 | CB3: 2月与去年同比 | CC3: 2023年3月 | CD3: 3月与去年同比 | CE3: 2023年4月 | CF3: 4月与去年同比 | CG3: 2023年5月 | CH3: 5月与去年同比 | CI3: 2023年6月 | CJ3: 6月与去年同比 | CK3: 45108 | CL3: 7月与去年同比 | CM3: 45139 | CN3: 8月与去年同比 | CO3: 45170 | CP3: 9月与去年同比 | CQ3: 45200 | CR3: 10月与去年同比 | CS3: 45231 | CT3: 11月与去年同比 | CU3: 45261 | CV3: 12月与去年同比 | CW3: 累计 | CX3: 累计同比 | DM3: 2022年1月 | DN3: 2022年2月 | DO3: 2022年3月 | DP3: 2022年4月 | DQ3: 2022年5月 | DR3: 2022年6月 | DS3: 2022年7月 | DT3: 2022年8月 | DU3: 2022年9月 | DV3: 2022年10月 | DW3: 2022年11月 | DX3: 2022年12月 | DY3: 12月与去年同比 | DZ3: 累计 | EA3: 累计同比 | EC3: 2021年1月 | ED3: 2021年2月 | EE3: 2021年3月 | EF3: 2021年4月 | EG3: 44317 | EH3: 44348 | EI3: 44378 | EJ3: 44409 | EK3: 44440 | EL3: 44470 | EM3: 44501 | EN3: 44531 | EP3: 累计同比
CZ4: 12月环比% | DA4: 11月环比% | DB4: 10月环比% | DC4: 9月环比% | DD4: 8月环比% | DE4: 7月环比% | DF4: 6月环比% | DG4: 5月环比% | DH4: 4月环比% | DI4: 3月环比% | DJ4: 2月份环比 | DK4: 1月份环比 | EO4: 累计
A5: 全省 | B5: 货运量 （万吨） | C5: =C7+C9 -> 17322.043 | D5: =C5/V5-1 -> 0.19778185 | E5: =E7+E9 -> 11089.384 | F5: =E5/X5-1 -> -0.1491624 | G5: =G7+G9 -> 16768.312 | H5: =G5/Z5-1 -> -0.030771437 | I5: =I7+I9 -> 17531.028 | J5: =I5/AB5-1 -> -0.0086271186 | K5: =K7+K9 -> 17582.56 | L5: =K5/AD5-1 -> 0.011890656 | M5: =M7+M9 -> 16844.094 | N5: =M5/AF5-1 -> 0.055809806 | O5: =O7+O9 -> 16285.711 | P5: =O5/AH5-1 -> 0.015419278 | S5: =C5+E5+G5+I5+K5+M5+O5+Q5 -> 113423.13 | T5: =S5/SUM(V5,X5,Z5,AB5,AD5,AF5,AH5,AJ5)-1 -> -0.11324272 | V5: =V7+V9 -> 14461.768 | W5: =V5/AX5-1 -> -0.064907726 | X5: =X7+X9 -> 13033.491 | Y5: =X5/AZ5-1 -> 0.61232207 | Z5: =Z7+Z9 -> 17300.678 | AA5: =Z5/BB5-1 -> 0.12128595 | AB5: =AB7+AB9 -> 17683.587 | AC5: =AB5/BD5-1 -> 0.10211403 | AD5: =AD7+AD9 -> 17375.949 | AE5: =AD5/BF5-1 -> 0.075075947 | AF5: =AF7+AF9 -> 15953.72 | AG5: =AF5/BH5-1 -> 0.070130538 | AH5: =AH7+AH9 -> 16038.41 | AI5: =AH5/BJ5-1 -> 0.0398145 | AJ5: =AJ7+AJ9 -> 16060.151 | AK5: =AJ5/BL5-1 -> 0.0055472205 | AL5: =AL7+AL9 -> 16721.667 | AM5: =AL5/BN5-1 -> 0.029546221 | AN5: =AN7+AN9 -> 15799.319 | AO5: =AN5/BP5-1 -> -0.023263013 | AP5: =AP7+AP9 -> 17081.533 | AQ5: =AP5/BR5-1 -> 0.011229228 | AR5: =AR7+AR9 -> 17922.951 | AS5: =AR5/BT5-1 -> -0.011910484 | AT5: =V5+X5+Z5+AB5+AD5+AF5+AH5+AJ5+AL5+AN5+AP5+AR5 -> 195433.22 | AU5: =AT5/SUM(AX5,AZ5,BB5,BD5,BF5,BH5,BJ5,BL5,BN5,BP5,BR5,BT5)-1 -> 0.056746653 | AW5: =AX5+AZ5+BB5+BD5+BF5+BH5+BJ5+BL5+BN5+BP5+BR5 -> 166799.58 | AX5: =AX7+AX9 -> 15465.605 | AY5: =AX5/BY5-1 -> 0.66888207 | AZ5: =AZ7+AZ9 -> 8083.677 | BA5: =AZ5/CA5-1 -> -0.32592716 | BB5: =BB7+BB9 -> 15429.319 | BC5: =BB5/CC5-1 -> 0.04647016 | BD5: =BD7+BD9 -> 16045.152 | BE5: =BD5/CE5-1 -> 0.12175617 | BF5: =BF7+BF9 -> 16162.531 | BG5: =BF5/CG5-1 -> 0.0946976 | BH5: =BH7+BH9 -> 14908.2 | BI5: =BH5/CI5-1 -> 0.013058376 | BJ5: =BJ7+BJ9 -> 15424.299 | BK5: =BJ5/CK5-1 -> 0.047270518 | BL5: =BL7+BL9 -> 15971.553 | BM5: =BL5/CM5-1 -> 0.032166451 | BN5: =BN7+BN9 -> 16241.784 | BO5: =BN5/CO5-1 -> 0.058551879 | BP5: =BP7+BP9 -> 16175.613 | BQ5: =BP5/CQ5-1 -> 0.059525257 | BR5: =BR7+BR9 -> 16891.85 | BS5: =BR5/CS5-1 -> 0.049813935 | BT5: =BT7+BT9 -> 18138.996 | BU5: =BT5/CU5-1 -> 0.10905866 | BV5: =AX5+AZ5+BB5+BD5+BF5+BH5+BJ5+BL5+BN5+BP5+BR5+BT5 -> 184938.58 | BW5: =BV5/SUM(BY5,CA5,CC5,CE5,CG5,CI5,CK5,CM5,CO5,CQ5,CS5,CU5)-1 -> 0.068729297 | BY5: =BY7+BY9 -> 9267.0447 | BZ5: =BY5/DM5-1 -> -0.13469121 | CA5: =CA7+CA9 -> 11992.29 | CB5: =CA5/DN5-1 -> 0.49355077 | CC5: =CC7+CC9 -> 14744.155 | CD5: =CC5/DO5-1 -> 0.17377826 | CE5: =CE7+CE9 -> 14303.6 | CF5: =CE5/DP5-1 -> 0.23803531 | CG5: =CG7+CG9 -> 14764.38 | CH5: =CG5/DQ5-1 -> 0.16948351 | CI5: =CI7+CI9 -> 14716.032 | CJ5: =CI5/DR5-1 -> 0.23539596 | CK5: =CK7+CK9 -> 14728.094 | CL5: =CK5/DS5-1 -> 0.21033762 | CM5: =CM7+CM9 -> 15473.816 | CN5: =CM5/DT5-1 -> 0.27089464 | CO5: =CO7+CO9 -> 15343.399 | CP5: =CO5/DU5-1 -> 0.13506479 | CQ5: =CQ7+CQ9 -> 15266.849 | CR5: =CQ5/DV5-1 -> 0.20429616 | CS5: =CS7+CS9 -> 16090.328 | CT5: =CS5/DX5-1 -> 0.17257538 | CU5: =CU7+CU9 -> 16355.308 | CV5: =CU5/DX5-1 -> 0.19188567 | CW5: =BY5+CA5+CC5+CE5+CG5+CI5+CK5+CM5+CO5+CQ5+CS5+CU5 -> 173045.3 | CX5: =CW5/SUM(DM5:DX5)-1 -> 0.19358638 | CZ5: =CU5/CS5-1 -> 0.016468266 | DA5: =CS5/CQ5-1 -> 0.053938988 | DB5: =CQ5/CO5-1 -> -0.0049890724 | DC5: =CO5/CM5-1 -> -0.0084282283 | DD5: =CM5/CK5-1 -> 0.050632568 | DE5: =CK5/CI5-1 -> 0.00081966254 | DF5: =CI5/CG5-1 -> -0.0032746211 | DG5: =CG5/CE5-1 -> 0.032214268 | DH5: =CE5/CC5-1 -> -0.029880006 | DI5: =CC5/CA5-1 -> 0.22946956 | DJ5: =(CA5-BY5)/BY5 -> 0.29407922 | DK5: =(BY5-DX5)/DX5 -> -0.3246683 | DM5: =DM7+DM9 -> 10709.523 | DN5: =DN7+DN9 -> 8029.3822 | DO5: =DO7+DO9 -> 12561.278 | DP5: =DP7+DP9 -> 11553.467 | DQ5: =DQ7+DQ9 -> 12624.701 | DR5: =DR7+DR9 -> 11911.996 | DS5: =DS7+DS9 -> 12168.584 | DT5: =DT7+DT9 -> 12175.53 | ... DX5: =DX7+DX9 -> 13722.212 | DY5: -0.062421932 | DZ5: =SUM(DM5:DX5) -> 144979.28 | EA5: =IFERROR(DZ5/SUM(EC5:EN5)-1,"") -> -0.10123549 | EC5: =EC7+EC9 -> 14945.336 | ED5: =ED7+ED9 -> 6495.0054 | EE5: =EE7+EE9 -> 11923.964 | EF5: =EF7+EF9 -> 14358.291 | EG5: =EG7+EG9 -> 14364.367 | EH5: =EH7+EH9 -> 15566.363 | EI5: =EI7+EI9 -> 13749.192 | EJ5: =EJ7+EJ9 -> 12857.503 | ... EN5: =EN7+EN9 -> 14635.806 | EO5: =SUM(EC5:EN5) -> 161309.53
B6: 货物周转量 （万吨公里） | C6: =C8+C10 -> 2238211.1 | D6: =C6/V6-1 -> 0.14599142 | E6: =E8+E10 -> 1550233.6 | F6: =E6/X6-1 -> -0.15726363 | G6: =G8+G10 -> 2286618 | H6: =G6/Z6-1 -> -0.036051782 | I6: =I8+I10 -> 2339073.2 | J6: =I6/AB6-1 -> -0.01196128 | K6: =K8+K10 -> 2370340.3 | L6: =K6/AD6-1 -> -0.014394459 | M6: =M8+M10 -> 2255716.5 | N6: =M6/AF6-1 -> 0.015439906 | O6: =O8+O10 -> 2181925.7 | P6: =O6/AH6-1 -> 0.0067919124 | S6: =C6+E6+G6+I6+K6+M6+O6+Q6 -> 15222118 | T6: =S6/SUM(V6,X6,Z6,AB6,AD6,AF6,AH6,AJ6)-1 -> -0.12977025 | V6: =V8+V10 -> 1953078.4 | W6: =V6/AX6-1 -> -0.060947025 | X6: =X8+X10 -> 1839523.8 | Y6: =X6/AZ6-1 -> 0.52552684 | Z6: =Z8+Z10 -> 2372137.8 | AA6: =Z6/BB6-1 -> 0.12299861 | AB6: =AB8+AB10 -> 2367390.3 | AC6: =AB6/BD6-1 -> 0.11330718 | AD6: =AD8+AD10 -> 2404958.3 | AE6: =AD6/BF6-1 -> 0.10721041 | AF6: =AF8+AF10 -> 2221418.1 | AG6: =AF6/BH6-1 -> 0.11138583 | AH6: =AH8+AH10 -> 2167206.2 | AI6: =AH6/BJ6-1 -> 0.045716533 | AJ6: =AJ8+AJ10 -> 2166355.6 | AK6: =AJ6/BL6-1 -> 0.014740551 | AL6: =AL8+AL10 -> 2263752.3 | AM6: =AL6/BN6-1 -> 0.032288356 | AN6: =AN8+AN10 -> 2102640.3 | AO6: =AN6/BP6-1 -> -0.046302031 | AP6: =AP8+AP10 -> 2203278.9 | AQ6: =AP6/BR6-1 -> -0.028409558 | AR6: =AR8+AR10 -> 2341822.9 | AS6: =AR6/BT6-1 -> -0.064569432 | AT6: =V6+X6+Z6+AB6+AD6+AF6+AH6+AJ6+AL6+AN6+AP6+AR6 -> 26403563 | AU6: =AT6/SUM(AX6,AZ6,BB6,BD6,BF6,BH6,BJ6,BL6,BN6,BP6,BR6,BT6)-1 -> 0.053130569 | AW6: =AX6+AZ6+BB6+BD6+BF6+BH6+BJ6+BL6+BN6+BP6+BR6 -> 22568029 | AX6: =AX8+AX10 -> 2079838.4 | AY6: =AX6/BY6-1 -> 0.42820675 | AZ6: =AZ8+AZ10 -> 1205828.5 | BA6: =AZ6/CA6-1 -> -0.30623222 | BB6: =BB8+BB10 -> 2112324.7 | BC6: =BB6/CC6-1 -> 0.026808815 | BD6: =BD8+BD10 -> 2126448.4 | BE6: =BD6/CE6-1 -> 0.064670716 | BF6: =BF8+BF10 -> 2172087.9 | BG6: =BF6/CG6-1 -> 0.061726112 | BH6: =BH8+BH10 -> 1998782.1 | BI6: =BH6/CI6-1 -> -0.0058040128 | BJ6: =BJ8+BJ10 -> 2072460.5 | BK6: =BJ6/CK6-1 -> 0.020651111 | BL6: =BL8+BL10 -> 2134886.2 | BM6: =BL6/CM6-1 -> 0.0048612073 | BN6: =BN8+BN10 -> 2192945.7 | BO6: =BN6/CO6-1 -> 0.020842893 | BP6: =BP8+BP10 -> 2204723.5 | BQ6: =BP6/CQ6-1 -> 0.042054885 | BR6: =BR8+BR10 -> 2267703.4 | BS6: =BR6/CS6-1 -> 0.021543509 | BT6: =BT8+BT10 -> 2503470.5 | BU6: =BT6/CU6-1 -> 0.088791049 | BV6: =AX6+AZ6+BB6+BD6+BF6+BH6+BJ6+BL6+BN6+BP6+BR6+BT6 -> 25071500 | BW6: =BV6/SUM(BY6,CA6,CC6,CE6,CG6,CI6,CK6,CM6,CO6,CQ6,CS6,CU6)-1 -> 0.034163863 | BY6: =BY8+BY10 -> 1456258.6 | BZ6: =BY6/DM6-1 -> -0.088425274 | CA6: =CA8+CA10 -> 1738086.7 | CB6: =CA6/DN6-1 -> 0.51421123 | CC6: =CC8+CC10 -> 2057174.3 | CD6: =CC6/DO6-1 -> 0.20181252 | CE6: =CE8+CE10 -> 1997282.7 | CF6: =CE6/DP6-1 -> 0.19409991 | CG6: =CG8+CG10 -> 2045808.1 | CH6: =CG6/DQ6-1 -> 0.17198567 | CI6: =CI8+CI10 -> 2010450.7 | CJ6: =CI6/DR6-1 -> 0.23633584 | CK6: =CK8+CK10 -> 2030527.9 | CL6: =CK6/DS6-1 -> 0.20894058 | CM6: =CM8+CM10 -> 2124558.3 | CN6: =CM6/DT6-1 -> 0.25834086 | CO6: =CO8+CO10 -> 2148171.6 | CP6: =CO6/DU6-1 -> 0.1364706 | CQ6: =CQ8+CQ10 -> 2115746.1 | CR6: =CQ6/DV6-1 -> 0.12231338 | CS6: =CS8+CS10 -> 2219879.4 | CT6: =CS6/DX6-1 -> 0.11906446 | CU6: =CU8+CU10 -> 2299312.2 | CV6: =CU6/DX6-1 -> 0.15910739 | CW6: =BY6+CA6+CC6+CE6+CG6+CI6+CK6+CM6+CO6+CQ6+CS6+CU6 -> 24243257 | CX6: =CW6/SUM(DM6:DX6)-1 -> 0.17756625 | CY6: =CW6*1.032 -> 25019041 | CZ6: =CU6/CS6-1 -> 0.0357825 | DA6: =CS6/CQ6-1 -> 0.049218241 | DB6: =CQ6/CO6-1 -> -0.015094477 | DC6: =CO6/CM6-1 -> 0.011114457 | DD6: =CM6/CK6-1 -> 0.046308357 | DE6: =CK6/CI6-1 -> 0.009986378 | DF6: =CI6/CG6-1 -> -0.01728284 | DG6: =CG6/CE6-1 -> 0.024295725 | DH6: =CE6/CC6-1 -> -0.029113552 | DI6: =CC6/CA6-1 -> 0.18358558 | DJ6: =(CA6-BY6)/BY6 -> 0.19352887 | DK6: =(BY6-DX6)/DX6 -> -0.26588477 | DM6: =DM8+DM10 -> 1597519.7 | DN6: =DN8+DN10 -> 1147849.6 | DO6: =DO8+DO10 -> 1711726.5 | DP6: =DP8+DP10 -> 1672626.1 | DQ6: =DQ8+DQ10 -> 1745591.4 | DR6: =DR8+DR10 -> 1626136.4 | DS6: =DS8+DS10 -> 1679592.8 | DT6: =DT8+DT10 -> 1688380.6 | ... DX6: =DX8+DX10 -> 1983692.1 | DY6: 0.04159894 | DZ6: =SUM(DM6:DX6) -> 20587595 | EA6: =IFERROR(DZ6/SUM(EC6:EN6)-1,"") -> -0.062571693 | EC6: =EC8+EC10 -> 2157113.3 | ED6: =ED8+ED10 -> 1097282.5 | EE6: =EE8+EE10 -> 1676880 | EF6: =EF8+EF10 -> 1941623.2 | EG6: =EG8+EG10 -> 1929056.1 | EH6: =EH8+EH10 -> 1982624.9 | EI6: =EI8+EI10 -> 1765481.8 | EJ6: =EJ8+EJ10 -> 1829069 | ... EN6: =EN8+EN10 -> 1904468.3 | EO6: =SUM(EC6:EN6) -> 21961780
B7: 其中规上货运量 (万吨) | C7: 3735.5321 | D7: =C7/V7-1 -> -0.10300103 | E7: 3402.8177 | F7: =E7/X7-1 -> -0.15033938 | G7: 4284.9515 | H7: =G7/Z7-1 -> -0.040988568 | I7: 4183.3731 | J7: =I7/AB7-1 -> -0.086391964 | K7: 4131.7772 | L7: =K7/AD7-1 -> -0.10726263 | M7: 4241.2271 | N7: =M7/AF7-1 -> -0.074476839 | O7: 3754.7823 | P7: =O7/AH7-1 -> -0.025025755 | S7: =C7+E7+G7+I7+K7+M7+O7+Q7 -> 27734.461 | T7: =S7/SUM(V7,X7,Z7,AB7,AD7,AF7,AH7,AJ7)-1 -> -0.18414734 | V7: =SUM(V12,V18,V24,V30,V36,V42,V48,V54,V60,V66,V72,V78,V84,V90,V96,V102,V108) -> 4164.4776 | W7: =V7/AX7-1 -> 0.15846865 | X7: =SUM(X12,X18,X24,X30,X36,X42,X48,X54,X60,X66,X72,X78,X84,X90,X96,X102,X108) -> 4004.914 | Y7: =X7/AZ7-1 -> 0.45450154 | Z7: =SUM(Z12,Z18,Z24,Z30,Z36,Z42,Z48,Z54,Z60,Z66,Z72,Z78,Z84,Z90,Z96,Z102,Z108) -> 4468.0922 | AA7: =Z7/BB7-1 -> 0.22845791 | AB7: =SUM(AB12,AB18,AB24,AB30,AB36,AB42,AB48,AB54,AB60,AB66,AB72,AB78,AB84,AB90,AB96,AB102,AB108) -> 4578.9583 | AC7: =AB7/BD7-1 -> 0.15212191 | AD7: =SUM(AD12,AD18,AD24,AD30,AD36,AD42,AD48,AD54,AD60,AD66,AD72,AD78,AD84,AD90,AD96,AD102,AD108) -> 4628.2113 | AE7: =AD7/BF7-1 -> 0.19602166 | AF7: =SUM(AF12,AF18,AF24,AF30,AF36,AF42,AF48,AF54,AF60,AF66,AF72,AF78,AF84,AF90,AF96,AF102,AF108) -> 4582.5186 | AG7: =AF7/BH7-1 -> 0.16872133 | AH7: =SUM(AH12,AH18,AH24,AH30,AH36,AH42,AH48,AH54,AH60,AH66,AH72,AH78,AH84,AH90,AH96,AH102,AH108) -> 3851.1605 | AI7: =AH7/BJ7-1 -> -0.031668793 | AJ7: =SUM(AJ12,AJ18,AJ24,AJ30,AJ36,AJ42,AJ48,AJ54,AJ60,AJ66,AJ72,AJ78,AJ84,AJ90,AJ96,AJ102,AJ108) -> 3716.1158 | AK7: =AJ7/BL7-1 -> -0.095091742 | AL7: =SUM(AL12,AL18,AL24,AL30,AL36,AL42,AL48,AL54,AL60,AL66,AL72,AL78,AL84,AL90,AL96,AL102,AL108) -> 4005.4214 | AM7: =AL7/BN7-1 -> -0.025319819 | AN7: =SUM(AN12,AN18,AN24,AN30,AN36,AN42,AN48,AN54,AN60,AN66,AN72,AN78,AN84,AN90,AN96,AN102,AN108) -> 3836.8558 | AO7: =AN7/BP7-1 -> -0.058079383 | AP7: =SUM(AP12,AP18,AP24,AP30,AP36,AP42,AP48,AP54,AP60,AP66,AP72,AP78,AP84,AP90,AP96,AP102,AP108) -> 4043.4248 | AQ7: =AP7/BR7-1 -> -0.026502708 | AR7: =SUM(AR12,AR18,AR24,AR30,AR36,AR42,AR48,AR54,AR60,AR66,AR72,AR78,AR84,AR90,AR96,AR102,AR108) -> 4236.9437 | AS7: =AR7/BT7-1 -> -0.097957862 | AT7: =V7+X7+Z7+AB7+AD7+AF7+AH7+AJ7+AL7+AN7+AP7+AR7 -> 50117.094 | AU7: =AT7/SUM(AX7,AZ7,BB7,BD7,BF7,BH7,BJ7,BL7,BN7,BP7,BR7,BT7)-1 -> 0.069332498 | AV7: =AT7/AT5 -> 0.25644101 | AW7: =AX7+AZ7+BB7+BD7+BF7+BH7+BJ7+BL7+BN7+BP7+BR7 -> 42170.586 | AX7: =SUM(AX12,AX18,AX24,AX30,AX36,AX42,AX48,AX54,AX60,AX66,AX72,AX78,AX84,AX90,AX96,AX102,AX108) -> 3594.8125 | AY7: =AX7/BY7-1 -> 1.0571359 | AZ7: =SUM(AZ12,AZ18,AZ24,AZ30,AZ36,AZ42,AZ48,AZ54,AZ60,AZ66,AZ72,AZ78,AZ84,AZ90,AZ96,AZ102,AZ108) -> 2753.4615 | BA7: =AZ7/CA7-1 -> 0.29332202 | BB7: =SUM(BB12,BB18,BB24,BB30,BB36,BB42,BB48,BB54,BB60,BB66,BB72,BB78,BB84,BB90,BB96,BB102,BB108) -> 3637.1553 | BC7: =BB7/CC7-1 -> 0.4974592 | BD7: =SUM(BD12,BD18,BD24,BD30,BD36,BD42,BD48,BD54,BD60,BD66,BD72,BD78,BD84,BD90,BD96,BD102,BD108) -> 3974.3696 | BE7: =BD7/CE7-1 -> 0.50593714 | BF7: =SUM(BF12,BF18,BF24,BF30,BF36,BF42,BF48,BF54,BF60,BF66,BF72,BF78,BF84,BF90,BF96,BF102,BF108) -> 3869.6718 | BG7: =BF7/CG7-1 -> 0.48645997 | BH7: =SUM(BH12,BH18,BH24,BH30,BH36,BH42,BH48,BH54,BH60,BH66,BH72,BH78,BH84,BH90,BH96,BH102,BH108) -> 3920.9677 | BI7: =BH7/CI7-1 -> 0.45836423 | BJ7: =SUM(BJ12,BJ18,BJ24,BJ30,BJ36,BJ42,BJ48,BJ54,BJ60,BJ66,BJ72,BJ78,BJ84,BJ90,BJ96,BJ102,BJ108) -> 3977.1108 | BK7: =BJ7/CK7-1 -> 0.54030667 | BL7: =SUM(BL12,BL18,BL24,BL30,BL36,BL42,BL48,BL54,BL60,BL66,BL72,BL78,BL84,BL90,BL96,BL102,BL108) -> 4106.6216 | BM7: =BL7/CM7-1 -> 0.53886252 | BN7: =SUM(BN12,BN18,BN24,BN30,BN36,BN42,BN48,BN54,BN60,BN66,BN72,BN78,BN84,BN90,BN96,BN102,BN108) -> 4109.4725 | BO7: =BN7/CO7-1 -> 0.57121442 | BP7: =SUM(BP12,BP18,BP24,BP30,BP36,BP42,BP48,BP54,BP60,BP66,BP72,BP78,BP84,BP90,BP96,BP102,BP108) -> 4073.4386 | BQ7: =BP7/CQ7-1 -> 0.51048493 | BR7: =SUM(BR12,BR18,BR24,BR30,BR36,BR42,BR48,BR54,BR60,BR66,BR72,BR78,BR84,BR90,BR96,BR102,BR108) -> 4153.5039 | BS7: =BR7/CS7-1 -> 0.43933328 | BT7: =SUM(BT12,BT18,BT24,BT30,BT36,BT42,BT48,BT54,BT60,BT66,BT72,BT78,BT84,BT90,BT96,BT102,BT108) -> 4697.0574 | BU7: =BT7/CU7-1 -> 0.55571383 | BV7: =AX7+AZ7+BB7+BD7+BF7+BH7+BJ7+BL7+BN7+BP7+BR7+BT7 -> 46867.643 | BW7: =BV7/SUM(BY7,CA7,CC7,CE7,CG7,CI7,CK7,CM7,CO7,CQ7,CS7,CU7)-1 -> 0.52642446 | BX7: =BV7/BV5 -> 0.25342275 | BY7: =SUM(BY12,BY18,BY24,BY30,BY36,BY42,BY48,BY54,BY60,BY66,BY72,BY78,BY84,BY90,BY96,BY102,BY108) -> 1747.4842 | BZ7: =BY7/DM7-1 -> 1.7651646 | CA7: =SUM(CA12,CA18,CA24,CA30,CA36,CA42,CA48,CA54,CA60,CA66,CA72,CA78,CA84,CA90,CA96,CA102,CA108) -> 2128.9837 | CB7: =CA7/DN7-1 -> 2.8494631 | CC7: =SUM(CC12,CC18,CC24,CC30,CC36,CC42,CC48,CC54,CC60,CC66,CC72,CC78,CC84,CC90,CC96,CC102,CC108) -> 2428.8844 | CD7: =CC7/DO7-1 -> 2.7380932 | CE7: =SUM(CE12,CE18,CE24,CE30,CE36,CE42,CE48,CE54,CE60,CE66,CE72,CE78,CE84,CE90,CE96,CE102,CE108) -> 2639.1338 | CF7: =CE7/DP7-1 -> 3.3646676 | CG7: =SUM(CG12,CG18,CG24,CG30,CG36,CG42,CG48,CG54,CG60,CG66,CG72,CG78,CG84,CG90,CG96,CG102,CG108) -> 2603.2802 | CH7: =CG7/DQ7-1 -> 3.0756646 | CI7: =SUM(CI12,CI18,CI24,CI30,CI36,CI42,CI48,CI54,CI60,CI66,CI72,CI78,CI84,CI90,CI96,CI102,CI108) -> 2688.6066 | CJ7: =CI7/DR7-1 -> 3.1369906 | CK7: =SUM(CK12,CK18,CK24,CK30,CK36,CK42,CK48,CK54,CK60,CK66,CK72,CK78,CK84,CK90,CK96,CK102,CK108) -> 2582.0253 | CL7: =CK7/DS7-1 -> 2.9743417 | CM7: =SUM(CM12,CM18,CM24,CM30,CM36,CM42,CM48,CM54,CM60,CM66,CM72,CM78,CM84,CM90,CM96,CM102,CM108) -> 2668.6085 | CN7: =CM7/DT7-1 -> 3.2767546 | CO7: =SUM(CO12,CO18,CO24,CO30,CO36,CO42,CO48,CO54,CO60,CO66,CO72,CO78,CO84,CO90,CO96,CO102,CO108) -> 2615.4753 | CP7: =CO7/DU7-1 -> 2.6573716 | CQ7: =SUM(CQ12,CQ18,CQ24,CQ30,CQ36,CQ42,CQ48,CQ54,CQ60,CQ66,CQ72,CQ78,CQ84,CQ90,CQ96,CQ102,CQ108) -> 2696.7754 | CR7: =CQ7/DV7-1 -> 2.6185077 | CS7: =SUM(CS12,CS18,CS24,CS30,CS36,CS42,CS48,CS54,CS60,CS66,CS72,CS78,CS84,CS90,CS96,CS102,CS108) -> 2885.7138 | CT7: =CS7/DX7-1 -> 1.8149958 | CU7: =SUM(CU12,CU18,CU24,CU30,CU36,CU42,CU48,CU54,CU60,CU66,CU72,CU78,CU84,CU90,CU96,CU102,CU108) -> 3019.2297 | CV7: =CU7/DX7-1 -> 1.9452397 | CW7: =BY7+CA7+CC7+CE7+CG7+CI7+CK7+CM7+CO7+CQ7+CS7+CU7 -> 30704.201 | CX7: =CW7/SUM(DM7:DX7)-1 -> 2.6423345 | CY7: =CW7/CW5 -> 0.17743447 | CZ7: =CU7/CS7-1 -> 0.046267894 | DA7: =CS7/CQ7-1 -> 0.070060859 | DB7: =CQ7/CO7-1 -> 0.031084255 | DC7: =CO7/CM7-1 -> -0.019910451 | DD7: =CM7/CK7-1 -> 0.033533056 | DE7: =CK7/CI7-1 -> -0.039641835 | DF7: =CI7/CG7-1 -> 0.032776495 | DG7: =CG7/CE7-1 -> -0.013585367 | DH7: =CE7/CC7-1 -> 0.086562127 | DI7: =CC7/CA7-1 -> 0.14086566 | DJ7: =(CA7-BY7)/BY7 -> 0.21831356 | DK7: =(BY7-DX7)/DX7 -> 0.7046599 | DM7: =SUM(DM12,DM18,DM24,DM30,DM36,DM42,DM48,DM54,DM60,DM66,DM72,DM78,DM84,DM90,DM96,DM102,DM108) -> 631.9639 | DN7: =SUM(DN12,DN18,DN24,DN30,DN36,DN42,DN48,DN54,DN60,DN66,DN72,DN78,DN84,DN90,DN96,DN102,DN108) -> 553.0599 | DO7: =SUM(DO12,DO18,DO24,DO30,DO36,DO42,DO48,DO54,DO60,DO66,DO72,DO78,DO84,DO90,DO96,DO102,DO108) -> 649.7656 | DP7: =SUM(DP12,DP18,DP24,DP30,DP36,DP42,DP48,DP54,DP60,DP66,DP72,DP78,DP84,DP90,DP96,DP102,DP108) -> 604.6586 | DQ7: =SUM(DQ12,DQ18,DQ24,DQ30,DQ36,DQ42,DQ48,DQ54,DQ60,DQ66,DQ72,DQ78,DQ84,DQ90,DQ96,DQ102,DQ108) -> 638.7376 | DR7: =SUM(DR12,DR18,DR24,DR30,DR36,DR42,DR48,DR54,DR60,DR66,DR72,DR78,DR84,DR90,DR96,DR102,DR108) -> 649.8943 | DS7: =SUM(DS12,DS18,DS24,DS30,DS36,DS42,DS48,DS54,DS60,DS66,DS72,DS78,DS84,DS90,DS96,DS102,DS108) -> 649.6737 | DT7: =SUM(DT12,DT18,DT24,DT30,DT36,DT42,DT48,DT54,DT60,DT66,DT72,DT78,DT84,DT90,DT96,DT102,DT108) -> 623.9798 | ... DX7: =SUM(DX12,DX18,DX24,DX30,DX36,DX42,DX48,DX54,DX60,DX66,DX72,DX78,DX84,DX90,DX96,DX102,DX108) -> 1025.1219 | DY7: 0.43037903 | DZ7: =SUM(DM7:DX7) -> 8429.8135 | EA7: =IFERROR(DZ7/SUM(EC7:EN7)-1,"") -> 0.01402656 | EB7: =DZ7/DZ5 -> 0.058144953 | EC7: =SUM(EC12,EC18,EC24,EC30,EC36,EC42,EC48,EC54,EC60,EC66,EC72,EC78,EC84,EC90,EC96,EC102,EC108) -> 785.25098 | ED7: =SUM(ED12,ED18,ED24,ED30,ED36,ED42,ED48,ED54,ED60,ED66,ED72,ED78,ED84,ED90,ED96,ED102,ED108) -> 519.31779 | EE7: =SUM(EE12,EE18,EE24,EE30,EE36,EE42,EE48,EE54,EE60,EE66,EE72,EE78,EE84,EE90,EE96,EE102,EE108) -> 694.03236 | EF7: =SUM(EF12,EF18,EF24,EF30,EF36,EF42,EF48,EF54,EF60,EF66,EF72,EF78,EF84,EF90,EF96,EF102,EF108) -> 698.01376 | EG7: =SUM(EG12,EG18,EG24,EG30,EG36,EG42,EG48,EG54,EG60,EG66,EG72,EG78,EG84,EG90,EG96,EG102,EG108) -> 729.6929 | EH7: =SUM(EH12,EH18,EH24,EH30,EH36,EH42,EH48,EH54,EH60,EH66,EH72,EH78,EH84,EH90,EH96,EH102,EH108) -> 717.4151 | EI7: =SUM(EI12,EI18,EI24,EI30,EI36,EI42,EI48,EI54,EI60,EI66,EI72,EI78,EI84,EI90,EI96,EI102,EI108) -> 694.7123 | EJ7: =SUM(EJ12,EJ18,EJ24,EJ30,EJ36,EJ42,EJ48,EJ54,EJ60,EJ66,EJ72,EJ78,EJ84,EJ90,EJ96,EJ102,EJ108) -> 647.7486 | ... EN7: =SUM(EN12,EN18,EN24,EN30,EN36,EN42,EN48,EN54,EN60,EN66,EN72,EN78,EN84,EN90,EN96,EN102,EN108) -> 716.6785 | EO7: =SUM(EC7:EN7) -> 8313.2078
B8: 其中规上货物周转量 (万吨公里) | C8: 565704.65 | D8: =C8/V8-1 -> -0.091814632 | E8: 500562.26 | F8: =E8/X8-1 -> -0.14891363 | G8: 669448.89 | H8: =G8/Z8-1 -> -0.0096586042 | I8: 650911.77 | J8: =I8/AB8-1 -> -0.043482506 | K8: 680437.39 | L8: =K8/AD8-1 -> -0.062360436 | M8: 692813.75 | N8: =M8/AF8-1 -> -0.043707473 | O8: 597278.64 | P8: =O8/AH8-1 -> 0.05762202 | S8: =C8+E8+G8+I8+K8+M8+O8+Q8 -> 4357157.3 | T8: =S8/SUM(V8,X8,Z8,AB8,AD8,AF8,AH8,AJ8)-1 -> -0.14607719 | V8: =SUM(V15,V21,V27,V33,V39,V45,V51,V57,V63,V69,V75,V81,V87,V93,V99,V105,V111) -> 622895.58 | W8: =V8/AX8-1 -> 0.1256817 | X8: =SUM(X15,X21,X27,X33,X39,X45,X51,X57,X63,X69,X75,X81,X87,X93,X99,X105,X111) -> 588145.08 | Y8: =X8/AZ8-1 -> 0.45566936 | Z8: =SUM(Z15,Z21,Z27,Z33,Z39,Z45,Z51,Z57,Z63,Z69,Z75,Z81,Z87,Z93,Z99,Z105,Z111) -> 675977.89 | AA8: =Z8/BB8-1 -> 0.24623271 | AB8: =SUM(AB15,AB21,AB27,AB33,AB39,AB45,AB51,AB57,AB63,AB69,AB75,AB81,AB87,AB93,AB99,AB105,AB111) -> 680501.69 | AC8: =AB8/BD8-1 -> 0.23266035 | AD8: =SUM(AD15,AD21,AD27,AD33,AD39,AD45,AD51,AD57,AD63,AD69,AD75,AD81,AD87,AD93,AD99,AD105,AD111) -> 725691.85 | AE8: =AD8/BF8-1 -> 0.3046049 | AF8: =SUM(AF15,AF21,AF27,AF33,AF39,AF45,AF51,AF57,AF63,AF69,AF75,AF81,AF87,AF93,AF99,AF105,AF111) -> 724478.89 | AG8: =AF8/BH8-1 -> 0.28064482 | AH8: =SUM(AH15,AH21,AH27,AH33,AH39,AH45,AH51,AH57,AH63,AH69,AH75,AH81,AH87,AH93,AH99,AH105,AH111) -> 564737.33 | AI8: =AH8/BJ8-1 -> -0.016950856 | AJ8: =SUM(AJ15,AJ21,AJ27,AJ33,AJ39,AJ45,AJ51,AJ57,AJ63,AJ69,AJ75,AJ81,AJ87,AJ93,AJ99,AJ105,AJ111) -> 520090.64 | AK8: =AJ8/BL8-1 -> -0.10813291 | AL8: =SUM(AL15,AL21,AL27,AL33,AL39,AL45,AL51,AL57,AL63,AL69,AL75,AL81,AL87,AL93,AL99,AL105,AL111) -> 563611.92 | AM8: =AL8/BN8-1 -> -0.048540845 | AN8: =SUM(AN15,AN21,AN27,AN33,AN39,AN45,AN51,AN57,AN63,AN69,AN75,AN81,AN87,AN93,AN99,AN105,AN111) -> 543427.32 | AO8: =AN8/BP8-1 -> -0.080198648 | AP8: =SUM(AP15,AP21,AP27,AP33,AP39,AP45,AP51,AP57,AP63,AP69,AP75,AP81,AP87,AP93,AP99,AP105,AP111) -> 582674.65 | AQ8: =AP8/BR8-1 -> -0.053874223 | AR8: =SUM(AR15,AR21,AR27,AR33,AR39,AR45,AR51,AR57,AR63,AR69,AR75,AR81,AR87,AR93,AR99,AR105,AR111) -> 642808.17 | AS8: =AR8/BT8-1 -> -0.16167875 | AT8: =V8+X8+Z8+AB8+AD8+AF8+AH8+AJ8+AL8+AN8+AP8+AR8 -> 7435041 | AU8: =AT8/SUM(AX8,AZ8,BB8,BD8,BF8,BH8,BJ8,BL8,BN8,BP8,BR8,BT8)-1 -> 0.077969611 | AV8: =AT8/AT6 -> 0.28159234 | AW8: =AX8+AZ8+BB8+BD8+BF8+BH8+BJ8+BL8+BN8+BP8+BR8 -> 6130483.8 | AX8: =SUM(AX15,AX21,AX27,AX33,AX39,AX45,AX51,AX57,AX63,AX69,AX75,AX81,AX87,AX93,AX99,AX105,AX111) -> 553349.65 | AY8: =AX8/BY8-1 -> 0.71693583 | AZ8: =SUM(AZ15,AZ21,AZ27,AZ33,AZ39,AZ45,AZ51,AZ57,AZ63,AZ69,AZ75,AZ81,AZ87,AZ93,AZ99,AZ105,AZ111) -> 404037.55 | BA8: =AZ8/CA8-1 -> 0.10243325 | BB8: =SUM(BB15,BB21,BB27,BB33,BB39,BB45,BB51,BB57,BB63,BB69,BB75,BB81,BB87,BB93,BB99,BB105,BB111) -> 542417.07 | BC8: =BB8/CC8-1 -> 0.33697467 | BD8: =SUM(BD15,BD21,BD27,BD33,BD39,BD45,BD51,BD57,BD63,BD69,BD75,BD81,BD87,BD93,BD99,BD105,BD111) -> 552059.36 | BE8: =BD8/CE8-1 -> 0.33448026 | BF8: =SUM(BF15,BF21,BF27,BF33,BF39,BF45,BF51,BF57,BF63,BF69,BF75,BF81,BF87,BF93,BF99,BF105,BF111) -> 556254.12 | BG8: =BF8/CG8-1 -> 0.31281978 | BH8: =SUM(BH15,BH21,BH27,BH33,BH39,BH45,BH51,BH57,BH63,BH69,BH75,BH81,BH87,BH93,BH99,BH105,BH111) -> 565714.14 | BI8: =BH8/CI8-1 -> 0.28621091 | BJ8: =SUM(BJ15,BJ21,BJ27,BJ33,BJ39,BJ45,BJ51,BJ57,BJ63,BJ69,BJ75,BJ81,BJ87,BJ93,BJ99,BJ105,BJ111) -> 574475.18 | BK8: =BJ8/CK8-1 -> 0.36464333 | BL8: =SUM(BL15,BL21,BL27,BL33,BL39,BL45,BL51,BL57,BL63,BL69,BL75,BL81,BL87,BL93,BL99,BL105,BL111) -> 583148.15 | BM8: =BL8/CM8-1 -> 0.34688512 | BN8: =SUM(BN15,BN21,BN27,BN33,BN39,BN45,BN51,BN57,BN63,BN69,BN75,BN81,BN87,BN93,BN99,BN105,BN111) -> 592365.86 | BO8: =BN8/CO8-1 -> 0.3597058 | BP8: =SUM(BP15,BP21,BP27,BP33,BP39,BP45,BP51,BP57,BP63,BP69,BP75,BP81,BP87,BP93,BP99,BP105,BP111) -> 590809.44 | BQ8: =BP8/CQ8-1 -> 0.34028976 | BR8: =SUM(BR15,BR21,BR27,BR33,BR39,BR45,BR51,BR57,BR63,BR69,BR75,BR81,BR87,BR93,BR99,BR105,BR111) -> 615853.26 | BS8: =BR8/CS8-1 -> 0.32437191 | BT8: =SUM(BT15,BT21,BT27,BT33,BT39,BT45,BT51,BT57,BT63,BT69,BT75,BT81,BT87,BT93,BT99,BT105,BT111) -> 766780.24 | BU8: =BT8/CU8-1 -> 0.51230484 | BV8: =AX8+AZ8+BB8+BD8+BF8+BH8+BJ8+BL8+BN8+BP8+BR8+BT8 -> 6897264 | BW8: =BV8/SUM(BY8,CA8,CC8,CE8,CG8,CI8,CK8,CM8,CO8,CQ8,CS8,CU8)-1 -> 0.35929254 | BX8: =BV8/BV6 -> 0.27510377 | BY8: =SUM(BY15,BY21,BY27,BY33,BY39,BY45,BY51,BY57,BY63,BY69,BY75,BY81,BY87,BY93,BY99,BY105,BY111) -> 322289.07 | BZ8: =BY8/DM8-1 -> 1.9050024 | CA8: =SUM(CA15,CA21,CA27,CA33,CA39,CA45,CA51,CA57,CA63,CA69,CA75,CA81,CA87,CA93,CA99,CA105,CA111) -> 366496.16 | CB8: =CA8/DN8-1 -> 2.7648249 | CC8: =SUM(CC15,CC21,CC27,CC33,CC39,CC45,CC51,CC57,CC63,CC69,CC75,CC81,CC87,CC93,CC99,CC105,CC111) -> 405704.82 | CD8: =CC8/DO8-1 -> 3.0456223 | CE8: =SUM(CE15,CE21,CE27,CE33,CE39,CE45,CE51,CE57,CE63,CE69,CE75,CE81,CE87,CE93,CE99,CE105,CE111) -> 413688.67 | CF8: =CE8/DP8-1 -> 3.5825043 | CG8: =SUM(CG15,CG21,CG27,CG33,CG39,CG45,CG51,CG57,CG63,CG69,CG75,CG81,CG87,CG93,CG99,CG105,CG111) -> 423709.43 | CH8: =CG8/DQ8-1 -> 3.3148506 | CI8: =SUM(CI15,CI21,CI27,CI33,CI39,CI45,CI51,CI57,CI63,CI69,CI75,CI81,CI87,CI93,CI99,CI105,CI111) -> 439830 | CJ8: =CI8/DR8-1 -> 3.5322705 | CK8: =SUM(CK15,CK21,CK27,CK33,CK39,CK45,CK51,CK57,CK63,CK69,CK75,CK81,CK87,CK93,CK99,CK105,CK111) -> 420970.94 | CL8: =CK8/DS8-1 -> 3.3696093 | CM8: =SUM(CM15,CM21,CM27,CM33,CM39,CM45,CM51,CM57,CM63,CM69,CM75,CM81,CM87,CM93,CM99,CM105,CM111) -> 432960.57 | CN8: =CM8/DT8-1 -> 3.7496385 | CO8: =SUM(CO15,CO21,CO27,CO33,CO39,CO45,CO51,CO57,CO63,CO69,CO75,CO81,CO87,CO93,CO99,CO105,CO111) -> 435657.37 | CP8: =CO8/DU8-1 -> 2.9256029 | CQ8: =SUM(CQ15,CQ21,CQ27,CQ33,CQ39,CQ45,CQ51,CQ57,CQ63,CQ69,CQ75,CQ81,CQ87,CQ93,CQ99,CQ105,CQ111) -> 440807.25 | CR8: =CQ8/DV8-1 -> 2.4316817 | CS8: =SUM(CS15,CS21,CS27,CS33,CS39,CS45,CS51,CS57,CS63,CS69,CS75,CS81,CS87,CS93,CS99,CS105,CS111) -> 465015.35 | CT8: =CS8/DX8-1 -> 1.5897858 | CU8: =SUM(CU15,CU21,CU27,CU33,CU39,CU45,CU51,CU57,CU63,CU69,CU75,CU81,CU87,CU93,CU99,CU105,CU111) -> 507027.56 | CV8: =CU8/DX8-1 -> 1.8237622 | CW8: =BY8+CA8+CC8+CE8+CG8+CI8+CK8+CM8+CO8+CQ8+CS8+CU8 -> 5074157.2 | CX8: =CW8/SUM(DM8:DX8)-1 -> 2.6810904 | CY8: =CW8/CW6 -> 0.2093018 | CZ8: =CU8/CS8-1 -> 0.09034587 | DA8: =CS8/CQ8-1 -> 0.054917645 | DB8: =CQ8/CO8-1 -> 0.011820936 | DC8: =CO8/CM8-1 -> 0.0062287571 | DD8: =CM8/CK8-1 -> 0.028480899 | DE8: =CK8/CI8-1 -> -0.042878074 | DF8: =CI8/CG8-1 -> 0.038046291 | DG8: =CG8/CE8-1 -> 0.024222949 | DH8: =CE8/CC8-1 -> 0.019678962 | DI8: =CC8/CA8-1 -> 0.10698246 | DJ8: =(CA8-BY8)/BY8 -> 0.13716595 | DK8: =(BY8-DX8)/DX8 -> 0.79490774 | DM8: =SUM(DM15,DM21,DM27,DM33,DM39,DM45,DM51,DM57,DM63,DM69,DM75,DM81,DM87,DM93,DM99,DM105,DM111) -> 110942.79 | DN8: =SUM(DN15,DN21,DN27,DN33,DN39,DN45,DN51,DN57,DN63,DN69,DN75,DN81,DN87,DN93,DN99,DN105,DN111) -> 97347.464 | DO8: =SUM(DO15,DO21,DO27,DO33,DO39,DO45,DO51,DO57,DO63,DO69,DO75,DO81,DO87,DO93,DO99,DO105,DO111) -> 100282.43 | DP8: =SUM(DP15,DP21,DP27,DP33,DP39,DP45,DP51,DP57,DP63,DP69,DP75,DP81,DP87,DP93,DP99,DP105,DP111) -> 90275.674 | DQ8: =SUM(DQ15,DQ21,DQ27,DQ33,DQ39,DQ45,DQ51,DQ57,DQ63,DQ69,DQ75,DQ81,DQ87,DQ93,DQ99,DQ105,DQ111) -> 98197.937 | DR8: =SUM(DR15,DR21,DR27,DR33,DR39,DR45,DR51,DR57,DR63,DR69,DR75,DR81,DR87,DR93,DR99,DR105,DR111) -> 97044.075 | DS8: =SUM(DS15,DS21,DS27,DS33,DS39,DS45,DS51,DS57,DS63,DS69,DS75,DS81,DS87,DS93,DS99,DS105,DS111) -> 96340.636 | DT8: =SUM(DT15,DT21,DT27,DT33,DT39,DT45,DT51,DT57,DT63,DT69,DT75,DT81,DT87,DT93,DT99,DT105,DT111) -> 91156.53 | ... DX8: =SUM(DX15,DX21,DX27,DX33,DX39,DX45,DX51,DX57,DX63,DX69,DX75,DX81,DX87,DX93,DX99,DX105,DX111) -> 179557.46 | DY8: 0.78353118 | DZ8: =SUM(DM8:DX8) -> 1378438.6 | EA8: =IFERROR(DZ8/SUM(EC8:EN8)-1,"") -> 0.19537121 | EB8: =DZ8/DZ6 -> 0.066954817 | EC8: =SUM(EC15,EC21,EC27,EC33,EC39,EC45,EC51,EC57,EC63,EC69,EC75,EC81,EC87,EC93,EC99,EC105,EC111) -> 110604.62 | ED8: =SUM(ED15,ED21,ED27,ED33,ED39,ED45,ED51,ED57,ED63,ED69,ED75,ED81,ED87,ED93,ED99,ED105,ED111) -> 77071.965 | EE8: =SUM(EE15,EE21,EE27,EE33,EE39,EE45,EE51,EE57,EE63,EE69,EE75,EE81,EE87,EE93,EE99,EE105,EE111) -> 96943.13 | EF8: =SUM(EF15,EF21,EF27,EF33,EF39,EF45,EF51,EF57,EF63,EF69,EF75,EF81,EF87,EF93,EF99,EF105,EF111) -> 95953.911 | EG8: =SUM(EG15,EG21,EG27,EG33,EG39,EG45,EG51,EG57,EG63,EG69,EG75,EG81,EG87,EG93,EG99,EG105,EG111) -> 96138.668 | EH8: =SUM(EH15,EH21,EH27,EH33,EH39,EH45,EH51,EH57,EH63,EH69,EH75,EH81,EH87,EH93,EH99,EH105,EH111) -> 98149.7 | EI8: =SUM(EI15,EI21,EI27,EI33,EI39,EI45,EI51,EI57,EI63,EI69,EI75,EI81,EI87,EI93,EI99,EI105,EI111) -> 95350.7 | EJ8: =SUM(EJ15,EJ21,EJ27,EJ33,EJ39,EJ45,EJ51,EJ57,EJ63,EJ69,EJ75,EJ81,EJ87,EJ93,EJ99,EJ105,EJ111) -> 91415.643 | ... EN8: =SUM(EN15,EN21,EN27,EN33,EN39,EN45,EN51,EN57,EN63,EN69,EN75,EN81,EN87,EN93,EN99,EN105,EN111) -> 100675.26 | EO8: =SUM(EC8:EN8) -> 1153146.9
B9: 其中规下货运量 (万吨) | C9: 13586.511 | D9: =C9/V9-1 -> 0.31942586 | E9: 7686.5664 | F9: =E9/X9-1 -> -0.14864031 | G9: 12483.36 | H9: =G9/Z9-1 -> -0.027214003 | I9: 13347.655 | J9: =I9/AB9-1 -> 0.018545112 | K9: 13450.783 | L9: =K9/AD9-1 -> 0.055150613 | M9: 12602.867 | N9: =M9/AF9-1 -> 0.10831446 | O9: 12530.928 | P9: =O9/AH9-1 -> 0.028199875 | S9: =C9+E9+G9+I9+K9+M9+O9+Q9 -> 85688.67 | T9: =S9/SUM(V9,X9,Z9,AB9,AD9,AF9,AH9,AJ9)-1 -> -0.087576882 | V9: =SUM(V13,V19,V25,V31,V37,V43,V49,V55,V61,V67,V73,V79,V85,V91,V97,V103,V109) -> 10297.29 | W9: =V9/AX9-1 -> -0.13255243 | X9: =SUM(X13,X19,X25,X31,X37,X43,X49,X55,X61,X67,X73,X79,X85,X91,X97,X103,X109) -> 9028.5768 | Y9: =X9/AZ9-1 -> 0.69384837 | Z9: =SUM(Z13,Z19,Z25,Z31,Z37,Z43,Z49,Z55,Z61,Z67,Z73,Z79,Z85,Z91,Z97,Z103,Z109) -> 12832.586 | AA9: =Z9/BB9-1 -> 0.088230012 | AB9: =SUM(AB13,AB19,AB25,AB31,AB37,AB43,AB49,AB55,AB61,AB67,AB73,AB79,AB85,AB91,AB97,AB103,AB109) -> 13104.628 | AC9: =AB9/BD9-1 -> 0.085648667 | AD9: =SUM(AD13,AD19,AD25,AD31,AD37,AD43,AD49,AD55,AD61,AD67,AD73,AD79,AD85,AD91,AD97,AD103,AD109) -> 12747.737 | AE9: =AD9/BF9-1 -> 0.03700342 | AF9: =SUM(AF13,AF19,AF25,AF31,AF37,AF43,AF49,AF55,AF61,AF67,AF73,AF79,AF85,AF91,AF97,AF103,AF109) -> 11371.201 | AG9: =AF9/BH9-1 -> 0.034946852 | AH9: =SUM(AH13,AH19,AH25,AH31,AH37,AH43,AH49,AH55,AH61,AH67,AH73,AH79,AH85,AH91,AH97,AH103,AH109) -> 12187.249 | AI9: =AH9/BJ9-1 -> 0.064650029 | AJ9: =SUM(AJ13,AJ19,AJ25,AJ31,AJ37,AJ43,AJ49,AJ55,AJ61,AJ67,AJ73,AJ79,AJ85,AJ91,AJ97,AJ103,AJ109) -> 12344.035 | AK9: =AJ9/BL9-1 -> 0.040379796 | AL9: =SUM(AL13,AL19,AL25,AL31,AL37,AL43,AL49,AL55,AL61,AL67,AL73,AL79,AL85,AL91,AL97,AL103,AL109) -> 12716.246 | AM9: =AL9/BN9-1 -> 0.048130519 | AN9: =SUM(AN13,AN19,AN25,AN31,AN37,AN43,AN49,AN55,AN61,AN67,AN73,AN79,AN85,AN91,AN97,AN103,AN109) -> 11962.463 | AO9: =AN9/BP9-1 -> -0.011544264 | AP9: =SUM(AP13,AP19,AP25,AP31,AP37,AP43,AP49,AP55,AP61,AP67,AP73,AP79,AP85,AP91,AP97,AP103,AP109) -> 13038.108 | AQ9: =AP9/BR9-1 -> 0.023532217 | AR9: =SUM(AR13,AR19,AR25,AR31,AR37,AR43,AR49,AR55,AR61,AR67,AR73,AR79,AR85,AR91,AR97,AR103,AR109) -> 13686.008 | AS9: =AR9/BT9-1 -> 0.018157313 | AT9: =V9+X9+Z9+AB9+AD9+AF9+AH9+AJ9+AL9+AN9+AP9+AR9 -> 145316.13 | AU9: =AT9/SUM(AX9,AZ9,BB9,BD9,BF9,BH9,BJ9,BL9,BN9,BP9,BR9,BT9)-1 -> 0.052474436 | AV9: =AT9/AT5 -> 0.74355899 | AW9: =AX9+AZ9+BB9+BD9+BF9+BH9+BJ9+BL9+BN9+BP9+BR9 -> 124629 | AX9: =SUM(AX13,AX19,AX25,AX31,AX37,AX43,AX49,AX55,AX61,AX67,AX73,AX79,AX85,AX91,AX97,AX103,AX109) -> 11870.792 | AY9: =AX9/BY9-1 -> 0.57865506 | AZ9: =SUM(AZ13,AZ19,AZ25,AZ31,AZ37,AZ43,AZ49,AZ55,AZ61,AZ67,AZ73,AZ79,AZ85,AZ91,AZ97,AZ103,AZ109) -> 5330.2155 | BA9: =AZ9/CA9-1 -> -0.4595914 | BB9: =SUM(BB13,BB19,BB25,BB31,BB37,BB43,BB49,BB55,BB61,BB67,BB73,BB79,BB85,BB91,BB97,BB103,BB109) -> 11792.163 | BC9: =BB9/CC9-1 -> -0.04247634 | BD9: =SUM(BD13,BD19,BD25,BD31,BD37,BD43,BD49,BD55,BD61,BD67,BD73,BD79,BD85,BD91,BD97,BD103,BD109) -> 12070.782 | BE9: =BD9/CE9-1 -> 0.03483364 | BF9: =SUM(BF13,BF19,BF25,BF31,BF37,BF43,BF49,BF55,BF61,BF67,BF73,BF79,BF85,BF91,BF97,BF103,BF109) -> 12292.86 | BG9: =BF9/CG9-1 -> 0.010834526 | BH9: =SUM(BH13,BH19,BH25,BH31,BH37,BH43,BH49,BH55,BH61,BH67,BH73,BH79,BH85,BH91,BH97,BH103,BH109) -> 10987.232 | BI9: =BH9/CI9-1 -> -0.086485142 | BJ9: =SUM(BJ13,BJ19,BJ25,BJ31,BJ37,BJ43,BJ49,BJ55,BJ61,BJ67,BJ73,BJ79,BJ85,BJ91,BJ97,BJ103,BJ109) -> 11447.188 | BK9: =BJ9/CK9-1 -> -0.057539674 | BL9: =SUM(BL13,BL19,BL25,BL31,BL37,BL43,BL49,BL55,BL61,BL67,BL73,BL79,BL85,BL91,BL97,BL103,BL109) -> 11864.932 | BM9: =BL9/CM9-1 -> -0.073429141 | BN9: =SUM(BN13,BN19,BN25,BN31,BN37,BN43,BN49,BN55,BN61,BN67,BN73,BN79,BN85,BN91,BN97,BN103,BN109) -> 12132.311 | BO9: =BN9/CO9-1 -> -0.046795722 | BP9: =SUM(BP13,BP19,BP25,BP31,BP37,BP43,BP49,BP55,BP61,BP67,BP73,BP79,BP85,BP91,BP97,BP103,BP109) -> 12102.174 | BQ9: =BP9/CQ9-1 -> -0.037223333 | BR9: =SUM(BR13,BR19,BR25,BR31,BR37,BR43,BR49,BR55,BR61,BR67,BR73,BR79,BR85,BR91,BR97,BR103,BR109) -> 12738.347 | BS9: =BR9/CS9-1 -> -0.035310956 | BT9: =SUM(BT13,BT19,BT25,BT31,BT37,BT43,BT49,BT55,BT61,BT67,BT73,BT79,BT85,BT91,BT97,BT103,BT109) -> 13441.938 | BU9: =BT9/CU9-1 -> 0.00793788 | BV9: =AX9+AZ9+BB9+BD9+BF9+BH9+BJ9+BL9+BN9+BP9+BR9+BT9 -> 138070.93 | BW9: =BV9/SUM(BY9,CA9,CC9,CE9,CG9,CI9,CK9,CM9,CO9,CQ9,CS9,CU9)-1 -> -0.029999493 | BY9: =SUM(BY13,BY19,BY25,BY31,BY37,BY43,BY49,BY55,BY61,BY67,BY73,BY79,BY85,BY91,BY97,BY103,BY109) -> 7519.5605 | BZ9: =BY9/DM9-1 -> -0.2538312 | CA9: =SUM(CA13,CA19,CA25,CA31,CA37,CA43,CA49,CA55,CA61,CA67,CA73,CA79,CA85,CA91,CA97,CA103,CA109) -> 9863.3063 | CB9: =CA9/DN9-1 -> 0.31927249 | CC9: =SUM(CC13,CC19,CC25,CC31,CC37,CC43,CC49,CC55,CC61,CC67,CC73,CC79,CC85,CC91,CC97,CC103,CC109) -> 12315.271 | CD9: =CC9/DO9-1 -> 0.033896472 | CE9: =SUM(CE13,CE19,CE25,CE31,CE37,CE43,CE49,CE55,CE61,CE67,CE73,CE79,CE85,CE91,CE97,CE103,CE109) -> 11664.466 | CF9: =CE9/DP9-1 -> 0.065363999 | CG9: =SUM(CG13,CG19,CG25,CG31,CG37,CG43,CG49,CG55,CG61,CG67,CG73,CG79,CG85,CG91,CG97,CG103,CG109) -> 12161.1 | CH9: =CG9/DQ9-1 -> 0.014611766 | CI9: =SUM(CI13,CI19,CI25,CI31,CI37,CI43,CI49,CI55,CI61,CI67,CI73,CI79,CI85,CI91,CI97,CI103,CI109) -> 12027.426 | CJ9: =CI9/DR9-1 -> 0.067955657 | CK9: =SUM(CK13,CK19,CK25,CK31,CK37,CK43,CK49,CK55,CK61,CK67,CK73,CK79,CK85,CK91,CK97,CK103,CK109) -> 12146.069 | CL9: =CK9/DS9-1 -> 0.054446067 | CM9: =SUM(CM13,CM19,CM25,CM31,CM37,CM43,CM49,CM55,CM61,CM67,CM73,CM79,CM85,CM91,CM97,CM103,CM109) -> 12805.207 | CN9: =CM9/DT9-1 -> 0.10852717 | CO9: =SUM(CO13,CO19,CO25,CO31,CO37,CO43,CO49,CO55,CO61,CO67,CO73,CO79,CO85,CO91,CO97,CO103,CO109) -> 12727.924 | CP9: =CO9/DU9-1 -> -0.0058264776 | CQ9: =SUM(CQ13,CQ19,CQ25,CQ31,CQ37,CQ43,CQ49,CQ55,CQ61,CQ67,CQ73,CQ79,CQ85,CQ91,CQ97,CQ103,CQ109) -> 12570.074 | CR9: =CQ9/DV9-1 -> 0.053500902 | CS9: =SUM(CS13,CS19,CS25,CS31,CS37,CS43,CS49,CS55,CS61,CS67,CS73,CS79,CS85,CS91,CS97,CS103,CS109) -> 13204.614 | CT9: =CS9/DX9-1 -> 0.039971686 | CU9: =SUM(CU13,CU19,CU25,CU31,CU37,CU43,CU49,CU55,CU61,CU67,CU73,CU79,CU85,CU91,CU97,CU103,CU109) -> 13336.078 | CV9: =CU9/DX9-1 -> 0.050325547 | CW9: =BY9+CA9+CC9+CE9+CG9+CI9+CK9+CM9+CO9+CQ9+CS9+CU9 -> 142341.1 | CX9: =CW9/SUM(DM9:DX9)-1 -> 0.042414127 | CZ9: =CU9/CS9-1 -> 0.0099559063 | DA9: =CS9/CQ9-1 -> 0.050480212 | DB9: =CQ9/CO9-1 -> -0.012401821 | DC9: =CO9/CM9-1 -> -0.00603533 | DD9: =CM9/CK9-1 -> 0.054267602 | DE9: =CK9/CI9-1 -> 0.0098644119 | DF9: =CI9/CG9-1 -> -0.010991946 | DG9: =CG9/CE9-1 -> 0.042576625 | DH9: =CE9/CC9-1 -> -0.052845354 | DI9: =CC9/CA9-1 -> 0.24859461 | DJ9: =(CA9-BY9)/BY9 -> 0.31168654 | DK9: =(BY9-DX9)/DX9 -> -0.40777292 | DM9: =SUM(DM13,DM19,DM25,DM31,DM37,DM43,DM49,DM55,DM61,DM67,DM73,DM79,DM85,DM91,DM97,DM103,DM109) -> 10077.559 | DN9: =SUM(DN13,DN19,DN25,DN31,DN37,DN43,DN49,DN55,DN61,DN67,DN73,DN79,DN85,DN91,DN97,DN103,DN109) -> 7476.3223 | DO9: =SUM(DO13,DO19,DO25,DO31,DO37,DO43,DO49,DO55,DO61,DO67,DO73,DO79,DO85,DO91,DO97,DO103,DO109) -> 11911.513 | DP9: =SUM(DP13,DP19,DP25,DP31,DP37,DP43,DP49,DP55,DP61,DP67,DP73,DP79,DP85,DP91,DP97,DP103,DP109) -> 10948.808 | DQ9: =SUM(DQ13,DQ19,DQ25,DQ31,DQ37,DQ43,DQ49,DQ55,DQ61,DQ67,DQ73,DQ79,DQ85,DQ91,DQ97,DQ103,DQ109) -> 11985.964 | DR9: =SUM(DR13,DR19,DR25,DR31,DR37,DR43,DR49,DR55,DR61,DR67,DR73,DR79,DR85,DR91,DR97,DR103,DR109) -> 11262.102 | DS9: =SUM(DS13,DS19,DS25,DS31,DS37,DS43,DS49,DS55,DS61,DS67,DS73,DS79,DS85,DS91,DS97,DS103,DS109) -> 11518.91 | DT9: =SUM(DT13,DT19,DT25,DT31,DT37,DT43,DT49,DT55,DT61,DT67,DT73,DT79,DT85,DT91,DT97,DT103,DT109) -> 11551.55 | ... DX9: =SUM(DX13,DX19,DX25,DX31,DX37,DX43,DX49,DX55,DX61,DX67,DX73,DX79,DX85,DX91,DX97,DX103,DX109) -> 12697.09 | DY9: -0.087795638 | DZ9: =SUM(DM9:DX9) -> 136549.47 | EA9: =IFERROR(DZ9/SUM(EC9:EN9)-1,"") -> -0.10749837 | EC9: =SUM(EC13,EC19,EC25,EC31,EC37,EC43,EC49,EC55,EC61,EC67,EC73,EC79,EC85,EC91,EC97,EC103,EC109) -> 14160.085 | ED9: =SUM(ED13,ED19,ED25,ED31,ED37,ED43,ED49,ED55,ED61,ED67,ED73,ED79,ED85,ED91,ED97,ED103,ED109) -> 5975.6876 | EE9: =SUM(EE13,EE19,EE25,EE31,EE37,EE43,EE49,EE55,EE61,EE67,EE73,EE79,EE85,EE91,EE97,EE103,EE109) -> 11229.931 | EF9: =SUM(EF13,EF19,EF25,EF31,EF37,EF43,EF49,EF55,EF61,EF67,EF73,EF79,EF85,EF91,EF97,EF103,EF109) -> 13660.278 | EG9: =SUM(EG13,EG19,EG25,EG31,EG37,EG43,EG49,EG55,EG61,EG67,EG73,EG79,EG85,EG91,EG97,EG103,EG109) -> 13634.674 | EH9: =SUM(EH13,EH19,EH25,EH31,EH37,EH43,EH49,EH55,EH61,EH67,EH73,EH79,EH85,EH91,EH97,EH103,EH109) -> 14848.948 | EI9: =SUM(EI13,EI19,EI25,EI31,EI37,EI43,EI49,EI55,EI61,EI67,EI73,EI79,EI85,EI91,EI97,EI103,EI109) -> 13054.48 | EJ9: =SUM(EJ13,EJ19,EJ25,EJ31,EJ37,EJ43,EJ49,EJ55,EJ61,EJ67,EJ73,EJ79,EJ85,EJ91,EJ97,EJ103,EJ109) -> 12209.754 | ... EN9: =SUM(EN13,EN19,EN25,EN31,EN37,EN43,EN49,EN55,EN61,EN67,EN73,EN79,EN85,EN91,EN97,EN103,EN109) -> 13919.128 | EO9: =SUM(EC9:EN9) -> 152996.32
B10: 其中规下货物周转量 (万吨公里) | C10: 1672506.4 | D10: =C10/V10-1 -> 0.2573508 | E10: 1049671.4 | F10: =E10/X10-1 -> -0.1611881 | G10: 1617169.1 | H10: =G10/Z10-1 -> -0.046570369 | I10: 1688161.5 | J10: =I10/AB10-1 -> 0.00075458555 | K10: 1689902.9 | L10: =K10/AD10-1 -> 0.0063339478 | M10: 1562902.8 | N10: =M10/AF10-1 -> 0.04406567 | O10: 1584647.1 | P10: =O10/AH10-1 -> -0.011121483 | S10: =C10+E10+G10+I10+K10+M10+O10+Q10 -> 10864961 | T10: =S10/SUM(V10,X10,Z10,AB10,AD10,AF10,AH10,AJ10)-1 -> -0.12305439 | V10: =SUM(V16,V22,V28,V34,V40,V46,V52,V58,V64,V70,V76,V82,V88,V94,V100,V106,V112) -> 1330182.8 | W10: =V10/AX10-1 -> -0.12859963 | X10: =SUM(X16,X22,X28,X34,X40,X46,X52,X58,X64,X70,X76,X82,X88,X94,X100,X106,X112) -> 1251378.7 | Y10: =X10/AZ10-1 -> 0.56072933 | Z10: =SUM(Z16,Z22,Z28,Z34,Z40,Z46,Z52,Z58,Z64,Z70,Z76,Z82,Z88,Z94,Z100,Z106,Z112) -> 1696159.9 | AA10: =Z10/BB10-1 -> 0.080420139 | AB10: =SUM(AB16,AB22,AB28,AB34,AB40,AB46,AB52,AB58,AB64,AB70,AB76,AB82,AB88,AB94,AB100,AB106,AB112) -> 1686888.6 | AC10: =AB10/BD10-1 -> 0.071456005 | AD10: =SUM(AD16,AD22,AD28,AD34,AD40,AD46,AD52,AD58,AD64,AD70,AD76,AD82,AD88,AD94,AD100,AD106,AD112) -> 1679266.5 | AE10: =AD10/BF10-1 -> 0.039256953 | AF10: =SUM(AF16,AF22,AF28,AF34,AF40,AF46,AF52,AF58,AF64,AF70,AF76,AF82,AF88,AF94,AF100,AF106,AF112) -> 1496939.2 | AG10: =AF10/BH10-1 -> 0.044569586 | AH10: =SUM(AH16,AH22,AH28,AH34,AH40,AH46,AH52,AH58,AH64,AH70,AH76,AH82,AH88,AH94,AH100,AH106,AH112) -> 1602468.9 | AI10: =AH10/BJ10-1 -> 0.069749385 | AJ10: =SUM(AJ16,AJ22,AJ28,AJ34,AJ40,AJ46,AJ52,AJ58,AJ64,AJ70,AJ76,AJ82,AJ88,AJ94,AJ100,AJ106,AJ112) -> 1646265 | AK10: =AJ10/BL10-1 -> 0.060916791 | AL10: =SUM(AL16,AL22,AL28,AL34,AL40,AL46,AL52,AL58,AL64,AL70,AL76,AL82,AL88,AL94,AL100,AL106,AL112) -> 1700140.4 | AM10: =AL10/BN10-1 -> 0.062202801 | AN10: =SUM(AN16,AN22,AN28,AN34,AN40,AN46,AN52,AN58,AN64,AN70,AN76,AN82,AN88,AN94,AN100,AN106,AN112) -> 1559213 | AO10: =AN10/BP10-1 -> -0.033893415 | AP10: =SUM(AP16,AP22,AP28,AP34,AP40,AP46,AP52,AP58,AP64,AP70,AP76,AP82,AP88,AP94,AP100,AP106,AP112) -> 1620604.3 | AQ10: =AP10/BR10-1 -> -0.01891566 | AR10: =SUM(AR16,AR22,AR28,AR34,AR40,AR46,AR52,AR58,AR64,AR70,AR76,AR82,AR88,AR94,AR100,AR106,AR112) -> 1699014.7 | AS10: =AR10/BT10-1 -> -0.021693909 | AT10: =V10+X10+Z10+AB10+AD10+AF10+AH10+AJ10+AL10+AN10+AP10+AR10 -> 18968522 | AU10: =AT10/SUM(AX10,AZ10,BB10,BD10,BF10,BH10,BJ10,BL10,BN10,BP10,BR10,BT10)-1 -> 0.043703959 | AV10: =AT10/AT6 -> 0.71840766 | AW10: =AX10+AZ10+BB10+BD10+BF10+BH10+BJ10+BL10+BN10+BP10+BR10 -> 16437546 | AX10: =SUM(AX16,AX22,AX28,AX34,AX40,AX46,AX52,AX58,AX64,AX70,AX76,AX82,AX88,AX94,AX100,AX106,AX112) -> 1526488.7 | AY10: =AX10/BY10-1 -> 0.34614614 | AZ10: =SUM(AZ16,AZ22,AZ28,AZ34,AZ40,AZ46,AZ52,AZ58,AZ64,AZ70,AZ76,AZ82,AZ88,AZ94,AZ100,AZ106,AZ112) -> 801790.99 | BA10: =AZ10/CA10-1 -> -0.41542977 | BB10: =SUM(BB16,BB22,BB28,BB34,BB40,BB46,BB52,BB58,BB64,BB70,BB76,BB82,BB88,BB94,BB100,BB106,BB112) -> 1569907.7 | BC10: =BB10/CC10-1 -> -0.049387434 | BD10: =SUM(BD16,BD22,BD28,BD34,BD40,BD46,BD52,BD58,BD64,BD70,BD76,BD82,BD88,BD94,BD100,BD106,BD112) -> 1574389 | BE10: =BD10/CE10-1 -> -0.0058127227 | BF10: =SUM(BF16,BF22,BF28,BF34,BF40,BF46,BF52,BF58,BF64,BF70,BF76,BF82,BF88,BF94,BF100,BF106,BF112) -> 1615833.8 | BG10: =BF10/CG10-1 -> -0.0038622257 | BH10: =SUM(BH16,BH22,BH28,BH34,BH40,BH46,BH52,BH58,BH64,BH70,BH76,BH82,BH88,BH94,BH100,BH106,BH112) -> 1433067.9 | BI10: =BH10/CI10-1 -> -0.087578638 | BJ10: =SUM(BJ16,BJ22,BJ28,BJ34,BJ40,BJ46,BJ52,BJ58,BJ64,BJ70,BJ76,BJ82,BJ88,BJ94,BJ100,BJ106,BJ112) -> 1497985.3 | BK10: =BJ10/CK10-1 -> -0.069318198 | BL10: =SUM(BL16,BL22,BL28,BL34,BL40,BL46,BL52,BL58,BL64,BL70,BL76,BL82,BL88,BL94,BL100,BL106,BL112) -> 1551738 | BM10: =BL10/CM10-1 -> -0.082679032 | BN10: =SUM(BN16,BN22,BN28,BN34,BN40,BN46,BN52,BN58,BN64,BN70,BN76,BN82,BN88,BN94,BN100,BN106,BN112) -> 1600579.8 | BO10: =BN10/CO10-1 -> -0.065362594 | BP10: =SUM(BP16,BP22,BP28,BP34,BP40,BP46,BP52,BP58,BP64,BP70,BP76,BP82,BP88,BP94,BP100,BP106,BP112) -> 1613914.1 | BQ10: =BP10/CQ10-1 -> -0.036434008 | BR10: =SUM(BR16,BR22,BR28,BR34,BR40,BR46,BR52,BR58,BR64,BR70,BR76,BR82,BR88,BR94,BR100,BR106,BR112) -> 1651850.1 | BS10: =BR10/CS10-1 -> -0.058701942 | BT10: =SUM(BT16,BT22,BT28,BT34,BT40,BT46,BT52,BT58,BT64,BT70,BT76,BT82,BT88,BT94,BT100,BT106,BT112) -> 1736690.3 | BU10: =BT10/CU10-1 -> -0.031018696 | BV10: =AX10+AZ10+BB10+BD10+BF10+BH10+BJ10+BL10+BN10+BP10+BR10+BT10 -> 18174236 | BW10: =BV10/SUM(BY10,CA10,CC10,CE10,CG10,CI10,CK10,CM10,CO10,CQ10,CS10,CU10)-1 -> -0.051899337 | BY10: =SUM(BY16,BY22,BY28,BY34,BY40,BY46,BY52,BY58,BY64,BY70,BY76,BY82,BY88,BY94,BY100,BY106,BY112) -> 1133969.5 | BZ10: =BY10/DM10-1 -> -0.23719418 | CA10: =SUM(CA16,CA22,CA28,CA34,CA40,CA46,CA52,CA58,CA64,CA70,CA76,CA82,CA88,CA94,CA100,CA106,CA112) -> 1371590.5 | CB10: =CA10/DN10-1 -> 0.30565236 | CC10: =SUM(CC16,CC22,CC28,CC34,CC40,CC46,CC52,CC58,CC64,CC70,CC76,CC82,CC88,CC94,CC100,CC106,CC112) -> 1651469.5 | CD10: =CC10/DO10-1 -> 0.02483825 | CE10: =SUM(CE16,CE22,CE28,CE34,CE40,CE46,CE52,CE58,CE64,CE70,CE76,CE82,CE88,CE94,CE100,CE106,CE112) -> 1583594 | CF10: =CE10/DP10-1 -> 0.00078591358 | CG10: =SUM(CG16,CG22,CG28,CG34,CG40,CG46,CG52,CG58,CG64,CG70,CG76,CG82,CG88,CG94,CG100,CG106,CG112) -> 1622098.7 | CH10: =CG10/DQ10-1 -> -0.015354425 | CI10: =SUM(CI16,CI22,CI28,CI34,CI40,CI46,CI52,CI58,CI64,CI70,CI76,CI82,CI88,CI94,CI100,CI106,CI112) -> 1570620.7 | CJ10: =CI10/DR10-1 -> 0.027158857 | CK10: =SUM(CK16,CK22,CK28,CK34,CK40,CK46,CK52,CK58,CK64,CK70,CK76,CK82,CK88,CK94,CK100,CK106,CK112) -> 1609556.9 | CL10: =CK10/DS10-1 -> 0.016614405 | CM10: =SUM(CM16,CM22,CM28,CM34,CM40,CM46,CM52,CM58,CM64,CM70,CM76,CM82,CM88,CM94,CM100,CM106,CM112) -> 1691597.7 | CN10: =CM10/DT10-1 -> 0.05908605 | CO10: =SUM(CO16,CO22,CO28,CO34,CO40,CO46,CO52,CO58,CO64,CO70,CO76,CO82,CO88,CO94,CO100,CO106,CO112) -> 1712514.2 | CP10: =CO10/DU10-1 -> -0.037499494 | CQ10: =SUM(CQ16,CQ22,CQ28,CQ34,CQ40,CQ46,CQ52,CQ58,CQ64,CQ70,CQ76,CQ82,CQ88,CQ94,CQ100,CQ106,CQ112) -> 1674938.8 | CR10: =CQ10/DV10-1 -> -0.046549482 | CS10: =SUM(CS16,CS22,CS28,CS34,CS40,CS46,CS52,CS58,CS64,CS70,CS76,CS82,CS88,CS94,CS100,CS106,CS112) -> 1754864 | CT10: =CS10/DX10-1 -> -0.027309853 | CU10: =SUM(CU16,CU22,CU28,CU34,CU40,CU46,CU52,CU58,CU64,CU70,CU76,CU82,CU88,CU94,CU100,CU106,CU112) -> 1792284.6 | CV10: =CU10/DX10-1 -> -0.0065682663 | CW10: =BY10+CA10+CC10+CE10+CG10+CI10+CK10+CM10+CO10+CQ10+CS10+CU10 -> 19169099 | CX10: =CW10/SUM(DM10:DX10)-1 -> -0.002085288 | CZ10: =CU10/CS10-1 -> 0.021323941 | DA10: =CS10/CQ10-1 -> 0.047718283 | DB10: =CQ10/CO10-1 -> -0.021941659 | DC10: =CO10/CM10-1 -> 0.012364941 | DD10: =CM10/CK10-1 -> 0.050971032 | DE10: =CK10/CI10-1 -> 0.024790316 | DF10: =CI10/CG10-1 -> -0.031735397 | DG10: =CG10/CE10-1 -> 0.024314736 | DH10: =CE10/CC10-1 -> -0.041100063 | DI10: =CC10/CA10-1 -> 0.20405433 | DJ10: =(CA10-BY10)/BY10 -> 0.20954796 | DK10: =(BY10-DX10)/DX10 -> -0.37146071 | DM10: =SUM(DM16,DM22,DM28,DM34,DM40,DM46,DM52,DM58,DM64,DM70,DM76,DM82,DM88,DM94,DM100,DM106,DM112) -> 1486576.9 | DN10: =SUM(DN16,DN22,DN28,DN34,DN40,DN46,DN52,DN58,DN64,DN70,DN76,DN82,DN88,DN94,DN100,DN106,DN112) -> 1050502.1 | DO10: =SUM(DO16,DO22,DO28,DO34,DO40,DO46,DO52,DO58,DO64,DO70,DO76,DO82,DO88,DO94,DO100,DO106,DO112) -> 1611444.1 | DP10: =SUM(DP16,DP22,DP28,DP34,DP40,DP46,DP52,DP58,DP64,DP70,DP76,DP82,DP88,DP94,DP100,DP106,DP112) -> 1582350.4 | DQ10: =SUM(DQ16,DQ22,DQ28,DQ34,DQ40,DQ46,DQ52,DQ58,DQ64,DQ70,DQ76,DQ82,DQ88,DQ94,DQ100,DQ106,DQ112) -> 1647393.5 | DR10: =SUM(DR16,DR22,DR28,DR34,DR40,DR46,DR52,DR58,DR64,DR70,DR76,DR82,DR88,DR94,DR100,DR106,DR112) -> 1529092.3 | DS10: =SUM(DS16,DS22,DS28,DS34,DS40,DS46,DS52,DS58,DS64,DS70,DS76,DS82,DS88,DS94,DS100,DS106,DS112) -> 1583252.1 | DT10: =SUM(DT16,DT22,DT28,DT34,DT40,DT46,DT52,DT58,DT64,DT70,DT76,DT82,DT88,DT94,DT100,DT106,DT112) -> 1597224.1 | ... DX10: =SUM(DX16,DX22,DX28,DX34,DX40,DX46,DX52,DX58,DX64,DX70,DX76,DX82,DX88,DX94,DX100,DX106,DX112) -> 1804134.7 | DY10: 0.00018941137 | DZ10: =SUM(DM10:DX10) -> 19209156 | EA10: =IFERROR(DZ10/SUM(EC10:EN10)-1,"") -> -0.076866052 | EC10: =SUM(EC16,EC22,EC28,EC34,EC40,EC46,EC52,EC58,EC64,EC70,EC76,EC82,EC88,EC94,EC100,EC106,EC112) -> 2046508.7 | ED10: =SUM(ED16,ED22,ED28,ED34,ED40,ED46,ED52,ED58,ED64,ED70,ED76,ED82,ED88,ED94,ED100,ED106,ED112) -> 1020210.5 | EE10: =SUM(EE16,EE22,EE28,EE34,EE40,EE46,EE52,EE58,EE64,EE70,EE76,EE82,EE88,EE94,EE100,EE106,EE112) -> 1579936.8 | EF10: =SUM(EF16,EF22,EF28,EF34,EF40,EF46,EF52,EF58,EF64,EF70,EF76,EF82,EF88,EF94,EF100,EF106,EF112) -> 1845669.3 | EG10: =SUM(EG16,EG22,EG28,EG34,EG40,EG46,EG52,EG58,EG64,EG70,EG76,EG82,EG88,EG94,EG100,EG106,EG112) -> 1832917.4 | EH10: =SUM(EH16,EH22,EH28,EH34,EH40,EH46,EH52,EH58,EH64,EH70,EH76,EH82,EH88,EH94,EH100,EH106,EH112) -> 1884475.2 | EI10: =SUM(EI16,EI22,EI28,EI34,EI40,EI46,EI52,EI58,EI64,EI70,EI76,EI82,EI88,EI94,EI100,EI106,EI112) -> 1670131.1 | EJ10: =SUM(EJ16,EJ22,EJ28,EJ34,EJ40,EJ46,EJ52,EJ58,EJ64,EJ70,EJ76,EJ82,EJ88,EJ94,EJ100,EJ106,EJ112) -> 1737653.3 | ... EN10: =SUM(EN16,EN22,EN28,EN34,EN40,EN46,EN52,EN58,EN64,EN70,EN76,EN82,EN88,EN94,EN100,EN106,EN112) -> 1803793 | EO10: =SUM(EC10:EN10) -> 20808633
A11: 武汉市 | B11: 规上+规下货运量 (万吨) | C11: 5367.976 | D11: =C11/V11-1 -> 0.15270283 | E11: 3325.2226 | F11: =E11/X11-1 -> -0.17358272 | G11: 5045.5091 | H11: =G11/Z11-1 -> -0.046011972 | I11: 5344.9192 | J11: =I11/AB11-1 -> -0.021095289 | K11: 5241.1373 | L11: =K11/AD11-1 -> -0.00012572066 | M11: 5041.0422 | N11: =M11/AF11-1 -> 0.039727842 | O11: 4940.9715 | P11: =O11/AH11-1 -> 0.012827398 | S11: =C11+E11+G11+I11+K11+M11+O11+Q11 -> 34306.778 | T11: =S11/SUM(V11,X11,Z11,AB11,AD11,AF11,AH11,AJ11)-1 -> -0.12667442 | V11: 4656.8602 | W11: =V11/AX11-1 -> -0.044590632 | X11: 4023.6605 | Y11: =X11/AZ11-1 -> 0.63478625 | Z11: 5288.86 | AA11: =Z11/BB11-1 -> 0.13328875 | AB11: 5460.1016 | AC11: =AB11/BD11-1 -> 0.10522227 | AD11: 5241.7963 | AE11: =AD11/BF11-1 -> 0.085787831 | AF11: 4848.4248 | AG11: =AF11/BH11-1 -> 0.081351108 | AH11: 4878.3944 | AI11: =AH11/BJ11-1 -> 0.026722254 | AJ11: 4884.821 | AK11: =AJ11/BL11-1 -> -0.018721276 | AL11: 5013.4556 | AM11: =AL11/BN11-1 -> -0.0089098466 | AN11: 4807.0288 | AO11: =AN11/BP11-1 -> -0.048256692 | AP11: 5151.9778 | AQ11: =AP11/BR11-1 -> -0.019588611 | AR11: 5606.9689 | AS11: =AR11/BT11-1 -> -0.043477689 | AT11: =V11+X11+Z11+AB11+AD11+AF11+AH11+AJ11+AL11+AN11+AP11+AR11 -> 59862.35 | AU11: =AT11/SUM(AX11,AZ11,BB11,BD11,BF11,BH11,BJ11,BL11,BN11,BP11,BR11,BT11)-1 -> 0.046373217 | AW11: =AX11+AZ11+BB11+BD11+BF11+BH11+BJ11+BL11+BN11+BP11+BR11 -> 51347.54 | AX11: 4874.2041 | AY11: =AX11/BY11-1 -> 0.63300391 | AZ11: 2461.2762 | BA11: =AZ11/CA11-1 -> -0.32500468 | BB11: 4666.8247 | BC11: =BB11/CC11-1 -> 0.023038022 | BD11: 4940.2747 | BE11: =BD11/CE11-1 -> 0.13546903 | BF11: 4827.6433 | BG11: =BF11/CG11-1 -> 0.1098849 | BH11: 4483.673 | BI11: =BH11/CI11-1 -> 0.023564405 | BJ11: 4751.4256 | BK11: =BJ11/CK11-1 -> 0.059972471 | BL11: 4978.0158 | BM11: =BL11/CM11-1 -> 0.040642983 | BN11: 5058.5262 | BO11: =BN11/CO11-1 -> 0.051435194 | BP11: 5050.7619 | BQ11: =BP11/CQ11-1 -> 0.077577337 | BR11: 5254.9143 | BS11: =BR11/CS11-1 -> 0.064778593 | BT11: 5861.8276 | BU11: =BT11/CU11-1 -> 0.10350805 | BV11: =AX11+AZ11+BB11+BD11+BF11+BH11+BJ11+BL11+BN11+BP11+BR11+BT11 -> 57209.368 | BW11: =BV11/SUM(BY11,CA11,CC11,CE11,CG11,CI11,CK11,CM11,CO11,CQ11,CS11,CU11)-1 -> 0.073638327 | BY11: 2984.8086 | BZ11: =BY11/DM11-1 -> -0.15394042 | CA11: 3646.3604 | CB11: =CA11/DN11-1 -> 0.44640423 | CC11: 4561.7315 | CD11: =CC11/DO11-1 -> 0.14526827 | CE11: 4350.867 | CF11: =CE11/DP11-1 -> 0.21621651 | CG11: 4349.6792 | CH11: =CG11/DQ11-1 -> 0.17955263 | CI11: 4380.4503 | CJ11: =CI11/DR11-1 -> 0.23415661 | CK11: 4482.5934 | CL11: =CK11/DS11-1 -> 0.20996593 | CM11: 4783.5962 | CN11: =CM11/DT11-1 -> 0.26700842 | CO11: 4811.068 | CP11: =CO11/DU11-1 -> 0.13560974 | CQ11: 4687.1456 | CR11: =CQ11/DV11-1 -> 0.19094061 | CS11: 4935.2178 | CT11: =CS11/DX11-1 -> 0.13860922 | CU11: 5311.9935 | CV11: =CU11/DX11-1 -> 0.22553554 | CW11: =BY11+CA11+CC11+CE11+CG11+CI11+CK11+CM11+CO11+CQ11+CS11+CU11 -> 53285.512 | CX11: =CW11/SUM(DM11:DX11)-1 -> 0.18471725 | CZ11: =CU11/CS11-1 -> 0.076344288 | DA11: =CS11/CQ11-1 -> 0.052926072 | DM11: 3527.8941 | DN11: 2520.983 | DO11: 3983.1117 | DP11: 3577.3787 | DQ11: 3687.5669 | DR11: 3549.3472 | DS11: 3704.727 | DT11: 3775.5047 | DU11: 4236.5505 | DV11: 3935.667 | DW11: 4144.2516 | DX11: 4334.4264 | DY11: -0.057195789 | DZ11: =SUM(DM11:DX11) -> 44977.409 | EA11: =IFERROR(DZ11/SUM(EC11:EN11)-1,"") -> -0.088660671 | EC11: 4863.5297 | ED11: 2088.3234 | EE11: 3828.3068 | EF11: 4386.9744 | EG11: 4073.4711 | EH11: 4516.8977 | EI11: 4020.7726 | EJ11: 3939.6845 | EK11: 4321.4984 | EL11: 3983.3497 | EM11: 4732.901 | EN11: 4597.377 | EO11: =SUM(EC11:EN11) -> 49353.086
B12: 规上货运量 (万吨) | C12: 1068.203 | D12: =C12/V12-1 -> -0.36391234 | E12: 1082.0457 | F12: =E12/X12-1 -> -0.31854184 | G12: 1315.4117 | H12: =G12/Z12-1 -> -0.20699314 | I12: 1395.7514 | J12: =I12/AB12-1 -> -0.18348528 | K12: 1404.6304 | L12: =K12/AD12-1 -> -0.16646907 | M12: 1411.5586 | N12: =M12/AF12-1 -> -0.14816827 | O12: 1227.5499 | P12: =O12/AH12-1 -> 0.060076749 | S12: =C12+E12+G12+I12+K12+M12+O12+Q12 -> 8905.1507 | T12: =S12/SUM(V12,X12,Z12,AB12,AD12,AF12,AH12,AJ12)-1 -> -0.26954496 | V12: 1679.333 | W12: =V12/AX12-1 -> 0.34456992 | X12: 1587.8388 | Y12: =X12/AZ12-1 -> 0.78224722 | Z12: 1658.7646 | AA12: =Z12/BB12-1 -> 0.44237929 | AB12: 1709.4014 | AC12: =AB12/BD12-1 -> 0.22379054 | AD12: 1685.1569 | AE12: =AD12/BF12-1 -> 0.26100623 | AF12: 1657.0862 | AG12: =AF12/BH12-1 -> 0.21444334 | AH12: 1157.9821 | AI12: =AH12/BJ12-1 -> -0.21054509 | AJ12: 1055.6742 | AK12: =AJ12/BL12-1 -> -0.31356131 | AL12: 1130.5905 | AM12: =AL12/BN12-1 -> -0.23723886 | AN12: 1091.9593 | AO12: =AN12/BP12-1 -> -0.27261321 | AP12: 1282.9303 | AQ12: =AP12/BR12-1 -> -0.1998101 | AR12: 1454.2056 | AS12: =AR12/BT12-1 -> -0.20389443 | AT12: =V12+X12+Z12+AB12+AD12+AF12+AH12+AJ12+AL12+AN12+AP12+AR12 -> 17150.923 | AU12: =AT12/SUM(AX12,AZ12,BB12,BD12,BF12,BH12,BJ12,BL12,BN12,BP12,BR12,BT12)-1 -> 0.020545073 | AV12: 0.050613496 | AW12: =AX12+AZ12+BB12+BD12+BF12+BH12+BJ12+BL12+BN12+BP12+BR12 -> 14979 | AX12: 1248.9741 | AY12: =AX12/BY12-1 -> 1.4836864 | AZ12: 890.9195 | BA12: =AZ12/CA12-1 -> 0.55050761 | BB12: 1150.0197 | BC12: =BB12/CC12-1 -> 0.73297472 | BD12: 1396.8088 | BE12: =BD12/CE12-1 -> 0.96962943 | BF12: 1336.3589 | BG12: =BF12/CG12-1 -> 0.83375984 | BH12: 1364.4821 | BI12: =BH12/CI12-1 -> 0.93684194 | BJ12: 1466.8122 | BK12: =BJ12/CK12-1 -> 0.87732666 | BL12: 1537.9002 | BM12: =BL12/CM12-1 -> 0.87739704 | BN12: 1482.234 | BO12: =BN12/CO12-1 -> 0.81558237 | BP12: 1501.2086 | BQ12: =BP12/CQ12-1 -> 0.73549004 | BR12: 1603.2823 | BS12: =BR12/CS12-1 -> 0.83078142 | BT12: 1826.6492 | BU12: =BT12/CU12-1 -> 1.0032925 | BV12: =AX12+AZ12+BB12+BD12+BF12+BH12+BJ12+BL12+BN12+BP12+BR12+BT12 -> 16805.65 | BW12: =BV12/SUM(BY12,CA12,CC12,CE12,CG12,CI12,CK12,CM12,CO12,CQ12,CS12,CU12)-1 -> 0.87710687 | BY12: 502.8711 | BZ12: =BY12/DM12-1 -> 1.5450733 | CA12: 574.5986 | CB12: =CA12/DN12-1 -> 2.3668531 | CC12: 663.6102 | CD12: =CC12/DO12-1 -> 2.273531 | CE12: 709.1734 | CF12: =CE12/DP12-1 -> 3.088692 | CG12: 728.7535 | CH12: =CG12/DQ12-1 -> 3.1498146 | CI12: 704.4881 | CJ12: =CI12/DR12-1 -> 2.9331301 | CK12: 781.3303 | CL12: =CK12/DS12-1 -> 2.9960103 | CM12: 819.1662 | CN12: =CM12/DT12-1 -> 3.5058126 | CO12: 816.3959 | CP12: =CO12/DU12-1 -> 3.3898743 | CQ12: 865.0056 | CR12: =CQ12/DV12-1 -> 3.9193494 | CS12: 875.7366 | CT12: =CS12/DX12-1 -> 3.5739351 | CU12: 911.8235 | CV12: =CU12/DX12-1 -> 3.7624155 | CW12: =BY12+CA12+CC12+CE12+CG12+CI12+CK12+CM12+CO12+CQ12+CS12+CU12 -> 8952.953 | CX12: =CW12/SUM(DM12:DX12)-1 -> 3.0955532 | CZ12: =CU12/CS12-1 -> 0.041207482 | DA12: =CS12/CQ12-1 -> 0.0124057 | DL12: 武汉市 | DM12: 197.5861 | DN12: 170.6634 | DO12: 202.72 | DP12: 173.4475 | DQ12: 175.6111 | DR12: 179.1164 | DS12: 195.5276 | DT12: 181.8021 | DU12: 185.9725 | DV12: 175.8374 | DW12: 156.2715 | DX12: 191.4624 | DY12: -0.17101454 | DZ12: =SUM(DM12:DX12) -> 2186.018 | EA12: =IFERROR(DZ12/SUM(EC12:EN12)-1,"") -> -0.17604362 | EC12: 281.7984 | ED12: 158.6914 | EE12: 244.86636 | EF12: 240.82636 | EG12: 236.0501 | EH12: 226.246 | EI12: 223.3899 | EJ12: 183.2319 | EK12: 195.7 | EL12: 209.6869 | EM12: 221.6277 | EN12: 230.9599 | EO12: =SUM(EC12:EN12) -> 2653.0749
B13: 规下货运量 (万吨) | C13: 4299.773 | D13: =C13/V13-1 -> 0.44407512 | E13: 2243.1769 | F13: =E13/X13-1 -> -0.079088227 | G13: 3730.0974 | H13: =G13/Z13-1 -> 0.027548044 | I13: 3949.1678 | J13: =I13/AB13-1 -> 0.052914806 | K13: 3836.5069 | L13: =K13/AD13-1 -> 0.078688746 | M13: 3629.4836 | N13: =M13/AF13-1 -> 0.13729194 | O13: 3713.4216 | P13: =O13/AH13-1 -> -0.0018790103 | S13: =C13+E13+G13+I13+K13+M13+O13+Q13 -> 25401.627 | T13: =S13/SUM(V13,X13,Z13,AB13,AD13,AF13,AH13,AJ13)-1 -> -0.06238278 | V13: 2977.5272 | W13: =V13/AX13-1 -> -0.17866528 | X13: 2435.8217 | Y13: =X13/AZ13-1 -> 0.55112637 | Z13: 3630.0954 | AA13: =Z13/BB13-1 -> 0.032213989 | AB13: 3750.7002 | AC13: =AB13/BD13-1 -> 0.058483502 | AD13: 3556.6394 | AE13: =AD13/BF13-1 -> 0.018719485 | AF13: 3191.3386 | AG13: =AF13/BH13-1 -> 0.023130251 | AH13: 3720.4123 | AI13: =AH13/BJ13-1 -> 0.1326789 | AJ13: 3829.1468 | AK13: =AJ13/BL13-1 -> 0.11308666 | AL13: 3882.8651 | AM13: =AL13/BN13-1 -> 0.085723645 | AN13: 3715.0695 | AO13: =AN13/BP13-1 -> 0.046630159 | AP13: 3869.0475 | AQ13: =AP13/BR13-1 -> 0.059539277 | AR13: 4152.7633 | AS13: =AR13/BT13-1 -> 0.029139947 | AT13: =V13+X13+Z13+AB13+AD13+AF13+AH13+AJ13+AL13+AN13+AP13+AR13 -> 42711.427 | AU13: =AT13/SUM(AX13,AZ13,BB13,BD13,BF13,BH13,BJ13,BL13,BN13,BP13,BR13,BT13)-1 -> 0.057116257 | AW13: =AX13+AZ13+BB13+BD13+BF13+BH13+BJ13+BL13+BN13+BP13+BR13 -> 36368.54 | AX13: 3625.23 | AY13: =AX13/BY13-1 -> 0.46064517 | AZ13: 1570.3567 | BA13: =AZ13/CA13-1 -> -0.48877654 | BB13: 3516.805 | BC13: =BB13/CC13-1 -> -0.097820514 | BD13: 3543.4659 | BE13: =BD13/CE13-1 -> -0.026973075 | BF13: 3491.2844 | BG13: =BF13/CG13-1 -> -0.035803364 | BH13: 3119.1909 | BI13: =BH13/CI13-1 -> -0.15146274 | BJ13: 3284.6134 | BK13: =BJ13/CK13-1 -> -0.1125696 | BL13: 3440.1156 | BM13: =BL13/CM13-1 -> -0.13225467 | BN13: 3576.2922 | BO13: =BN13/CO13-1 -> -0.10473447 | BP13: 3549.5533 | BQ13: =BP13/CQ13-1 -> -0.071317828 | BR13: 3651.632 | BS13: =BR13/CS13-1 -> -0.10046831 | BT13: 4035.1784 | BU13: =BT13/CU13-1 -> -0.082949436 | BV13: =AX13+AZ13+BB13+BD13+BF13+BH13+BJ13+BL13+BN13+BP13+BR13+BT13 -> 40403.718 | BW13: =BV13/SUM(BY13,CA13,CC13,CE13,CG13,CI13,CK13,CM13,CO13,CQ13,CS13,CU13)-1 -> -0.088622015 | BY13: 2481.9375 | BZ13: =BY13/DM13-1 -> -0.25474236 | CA13: 3071.7618 | CB13: =CA13/DN13-1 -> 0.30695497 | CC13: 3898.1213 | CD13: =CC13/DO13-1 -> 0.031142157 | CE13: 3641.6936 | CF13: =CE13/DP13-1 -> 0.069849368 | CG13: 3620.9257 | CH13: =CG13/DQ13-1 -> 0.031028278 | CI13: 3675.9622 | CJ13: =CI13/DR13-1 -> 0.090715275 | CK13: 3701.2631 | CL13: =CK13/DS13-1 -> 0.054731497 | CM13: 3964.43 | CN13: =CM13/DT13-1 -> 0.1031603 | CO13: 3994.6721 | CP13: =CO13/DU13-1 -> -0.013801951 | CQ13: 3822.14 | CR13: =CQ13/DV13-1 -> 0.016572681 | CS13: 4059.4812 | CT13: =CS13/DX13-1 -> -0.020150482 | CU13: 4400.17 | CV13: =CU13/DX13-1 -> 0.062082624 | CW13: =BY13+CA13+CC13+CE13+CG13+CI13+CK13+CM13+CO13+CQ13+CS13+CU13 -> 44332.559 | CX13: =CW13/SUM(DM13:DX13)-1 -> 0.036015845 | CZ13: =CU13/CS13-1 -> 0.083924219 | DA13: =CS13/CQ13-1 -> 0.062096419 | DM13: 3330.308 | DN13: 2350.3196 | DO13: 3780.3917 | DP13: 3403.9312 | DQ13: 3511.9558 | DR13: 3370.2308 | DS13: 3509.1994 | DT13: 3593.7026 | DU13: 4050.578 | DV13: 3759.8296 | DW13: 3987.9801 | DX13: 4142.964 | DY13: -0.051175392 | DZ13: =SUM(DM13:DX13) -> 42791.391 | EA13: =IFERROR(DZ13/SUM(EC13:EN13)-1,"") -> -0.083696357 | EC13: 4581.7313 | ED13: 1929.632 | EE13: 3583.4404 | EF13: 4146.1481 | EG13: 3837.421 | EH13: 4290.6517 | EI13: 3797.3827 | EJ13: 3756.4526 | EK13: 4125.7984 | EL13: 3773.6628 | EM13: 4511.2733 | EN13: 4366.4171 | EO13: =SUM(EC13:EN13) -> 46700.011
B14: 规上+规下周转量 (万吨公里) | C14: =C15+C16 -> 687807.49 | D14: =C14/V14-1 -> 0.11512203 | E14: =E15+E16 -> 459304.08 | F14: =E14/X14-1 -> -0.17744664 | G14: =G15+G16 -> 675053.06 | H14: =G14/Z14-1 -> -0.043102128 | I14: =I15+I16 -> 704560.76 | J14: =I14/AB14-1 -> -0.015545996 | K14: =K15+K16 -> 714138.9 | L14: =K14/AD14-1 -> -0.012854581 | M14: =M15+M16 -> 687103.88 | N14: =M14/AF14-1 -> 0.013855721 | O14: =O15+O16 -> 667561.37 | P14: =O14/AH14-1 -> 0.007630684 | S14: =C14+E14+G14+I14+K14+M14+O14+Q14 -> 4595529.6 | T14: =S14/SUM(V14,X14,Z14,AB14,AD14,AF14,AH14,AJ14)-1 -> -0.13609629 | V14: =V15+V16 -> 616800.2 | W14: =V14/AX14-1 -> -0.031830072 | X14: =X15+X16 -> 558388.19 | Y14: =X14/AZ14-1 -> 0.53840346 | Z14: =Z15+Z16 -> 705459.88 | AA14: =Z14/BB14-1 -> 0.13800183 | AB14: =AB15+AB16 -> 715686.83 | AC14: =AB14/BD14-1 -> 0.12832867 | AD14: =AD15+AD16 -> 723438.4 | AE14: =AD14/BF14-1 -> 0.11888277 | AF14: =AF15+AF16 -> 677713.67 | AG14: =AF14/BH14-1 -> 0.12868728 | AH14: =AH15+AH16 -> 662506 | AI14: =AH14/BJ14-1 -> 0.037547905 | AJ14: =AJ15+AJ16 -> 659499.61 | AK14: =AJ14/BL14-1 -> -0.0046547699 | AL14: =AL15+AL16 -> 692383.63 | AM14: =AL14/BN14-1 -> 0.011668144 | AN14: =AN15+AN16 -> 643793.39 | AO14: =AN14/BP14-1 -> -0.059944986 | AP14: =AP15+AP16 -> 666125.44 | AQ14: =AP14/BR14-1 -> -0.041272987 | AR14: =AR15+AR16 -> 721624.6 | AS14: =AR14/BT14-1 -> -0.085894425 | AT14: =V14+X14+Z14+AB14+AD14+AF14+AH14+AJ14+AL14+AN14+AP14+AR14 -> 8043419.8 | AU14: =AT14/SUM(AX14,AZ14,BB14,BD14,BF14,BH14,BJ14,BL14,BN14,BP14,BR14,BT14)-1 -> 0.05062342 | AW14: =AX14+AZ14+BB14+BD14+BF14+BH14+BJ14+BL14+BN14+BP14+BR14 -> 6866421.9 | AX14: =AX15+AX16 -> 637078.46 | AY14: =AX14/BY14-1 -> 0.3837758 | AZ14: =AZ15+AZ16 -> 362966.02 | BA14: =AZ14/CA14-1 -> -0.30568756 | BB14: =BB15+BB16 -> 619911.02 | BC14: =BB14/CC14-1 -> -0.0017424351 | BD14: =BD15+BD16 -> 634289.32 | BE14: =BD14/CE14-1 -> 0.062126959 | BF14: =BF15+BF16 -> 646572.12 | BG14: =BF14/CG14-1 -> 0.055546729 | BH14: =BH15+BH16 -> 600444.15 | BI14: =BH14/CI14-1 -> -0.01157175 | BJ14: =BJ15+BJ16 -> 638530.52 | BK14: =BJ14/CK14-1 -> 0.028140972 | BL14: =BL15+BL16 -> 662583.78 | BM14: =BL14/CM14-1 -> 0.0088072412 | BN14: =BN15+BN16 -> 684397.98 | BO14: =BN14/CO14-1 -> 0.0065235605 | BP14: =BP15+BP16 -> 684846.51 | BQ14: =BP14/CQ14-1 -> 0.043472125 | BR14: =BR15+BR16 -> 694802 | BS14: =BR14/CS14-1 -> 0.031041373 | BT14: =BT15+BT16 -> 789432.44 | BU14: =BT14/CU14-1 -> 0.098360181 | BV14: =AX14+AZ14+BB14+BD14+BF14+BH14+BJ14+BL14+BN14+BP14+BR14+BT14 -> 7655854.3 | BW14: =BV14/SUM(BY14,CA14,CC14,CE14,CG14,CI14,CK14,CM14,CO14,CQ14,CS14,CU14)-1 -> 0.030659161 | BY14: =BY15+BY16 -> 460391.39 | BZ14: =BY14/DM14-1 -> -0.11431772 | CA14: =CA15+CA16 -> 522770.45 | CB14: =CA14/DN14-1 -> 0.45082084 | CC14: =SUM(CC15:CC16) -> 620993.06 | CD14: =CC14/DO14-1 -> 0.17806366 | CE14: 597187.86 | CF14: =CE14/DP14-1 -> 0.18396494 | CG14: 612547.13 | CH14: =CG14/DQ14-1 -> 0.1876765 | CI14: =CI15+CI16 -> 607473.68 | CJ14: =CI14/DR14-1 -> 0.23449333 | CK14: =CK15+CK16 -> 621053.47 | CL14: =CK14/DS14-1 -> 0.21998713 | CM14: 656799.19 | CN14: =CM14/DT14-1 -> 0.26187877 | CO14: =SUM(CO15:CO16) -> 679962.21 | CP14: =CO14/DU14-1 -> 0.1439399 | CQ14: =SUM(CQ15:CQ16) -> 656315.09 | CR14: =CQ14/DV14-1 -> 0.11959001 | CS14: =CS15+CS16 -> 673883.72 | CT14: =CS14/DX14-1 -> 0.10686221 | CU14: =CU15+CU16 -> 718737.31 | CV14: =CU14/DX14-1 -> 0.18053478 | CW14: =BY14+CA14+CC14+CE14+CG14+CI14+CK14+CM14+CO14+CQ14+CS14+CU14 -> 7428114.6 | CX14: =CW14/SUM(DM14:DX14)-1 -> 0.17351557 | CZ14: =CU14/CS14-1 -> 0.066559839 | DA14: =CS14/CQ14-1 -> 0.026768584 | DD14: =CW7/CW5 -> 0.17743447 | DM14: 519815.51 | DN14: 360327.36 | DO14: 527130.31 | DP14: 504396.57 | DQ14: 515752.5 | DR14: 492083.41 | DS14: 509065.59 | DT14: 520493.1 | DU14: 594403.79 | DV14: 586210.21 | DW14: 591294.48 | DX14: 608823.5 | DY14: 0.016112404 | DZ14: =SUM(DM14:DX14) -> 6329796.3 | EA14: =IFERROR(DZ14/SUM(EC14:EN14)-1,"") -> -0.052265989 | EC14: =EC15+EC16 -> 682463.55 | ED14: =ED15+ED16 -> 350917.79 | EE14: =EE15+EE16 -> 507722.02 | EF14: =EF15+EF16 -> 564164.49 | EG14: =EG15+EG16 -> 540414.11 | EH14: =EH15+EH16 -> 583262.72 | EI14: =EI15+EI16 -> 525523.95 | EJ14: =EJ15+EJ16 -> 557543.33 | ... EN14: =EN15+EN16 -> 599169.44 | EO14: =SUM(EC14:EN14) -> 6678874.3
B15: 规上货物周转量 (万吨公里) | C15: 165332.61 | D15: =C15/V15-1 -> -0.26114537 | E15: 149830.21 | F15: =E15/X15-1 -> -0.30555906 | G15: 212998.43 | H15: =G15/Z15-1 -> -0.065928501 | I15: 227544.83 | J15: =I15/AB15-1 -> -0.016440863 | K15: 238395.12 | L15: =K15/AD15-1 -> 0.013506732 | M15: 241659.53 | N15: =M15/AF15-1 -> -0.0077224221 | O15: 204809.56 | P15: =O15/AH15-1 -> 0.22325109 | S15: =C15+E15+G15+I15+K15+M15+O15+Q15 -> 1440570.3 | T15: =S15/SUM(V15,X15,Z15,AB15,AD15,AF15,AH15,AJ15)-1 -> -0.14724899 | V15: 223768.79 | W15: =V15/AX15-1 -> 0.24198281 | X15: 215756.59 | Y15: =X15/AZ15-1 -> 0.66702042 | Z15: 228032.26 | AA15: =Z15/BB15-1 -> 0.43404841 | AB15: 231348.39 | AC15: =AB15/BD15-1 -> 0.33102509 | AD15: 235218.1 | AE15: =AD15/BF15-1 -> 0.3541907 | AF15: 243540.25 | AG15: =AF15/BH15-1 -> 0.3599606 | AH15: 167430.52 | AI15: =AH15/BJ15-1 -> -0.17335452 | AJ15: 144226.23 | AK15: =AJ15/BL15-1 -> -0.29806702 | AL15: 162619.79 | AM15: =AL15/BN15-1 -> -0.21057257 | AN15: 154248.88 | AO15: =AN15/BP15-1 -> -0.24303045 | AP15: 189963.88 | AQ15: =AP15/BR15-1 -> -0.14052627 | AR15: 228375.1 | AS15: =AR15/BT15-1 -> -0.22358365 | AT15: =V15+X15+Z15+AB15+AD15+AF15+AH15+AJ15+AL15+AN15+AP15+AR15 -> 2424528.8 | AU15: =AT15/SUM(AX15,AZ15,BB15,BD15,BF15,BH15,BJ15,BL15,BN15,BP15,BR15,BT15)-1 -> 0.041400751 | AW15: =AX15+AZ15+BB15+BD15+BF15+BH15+BJ15+BL15+BN15+BP15+BR15 -> 2034002 | AX15: 180170.6 | AY15: =AX15/BY15-1 -> 1.1956858 | AZ15: 129426.48 | BA15: =AZ15/CA15-1 -> 0.54176956 | BB15: 159012.94 | BC15: =BB15/CC15-1 -> 0.66584263 | BD15: 173812.2 | BE15: =BD15/CE15-1 -> 0.69367917 | BF15: 173696.43 | BG15: =BF15/CG15-1 -> 0.57936537 | BH15: 179078.9 | BI15: =BH15/CI15-1 -> 0.49267107 | BJ15: 202542.11 | BK15: =BJ15/CK15-1 -> 0.5426248 | BL15: 205470.09 | BM15: =BL15/CM15-1 -> 0.52108815 | BN15: 205997.13 | BO15: =BN15/CO15-1 -> 0.50358576 | BP15: 203771.58 | BQ15: =BP15/CQ15-1 -> 0.45150462 | BR15: 221023.49 | BS15: =BR15/CS15-1 -> 0.51672096 | BT15: 294139.99 | BU15: =BT15/CU15-1 -> 0.89132278 | BV15: =AX15+AZ15+BB15+BD15+BF15+BH15+BJ15+BL15+BN15+BP15+BR15+BT15 -> 2328141.9 | BW15: =BV15/SUM(BY15,CA15,CC15,CE15,CG15,CI15,CK15,CM15,CO15,CQ15,CS15,CU15)-1 -> 0.61783612 | BY15: 82056.639 | BZ15: =BY15/DM15-1 -> 1.5914503 | CA15: 83946.71 | CB15: =CA15/DN15-1 -> 1.8891347 | CC15: 95454.96 | CD15: =CC15/DO15-1 -> 2.0015184 | CE15: 102624.04 | CF15: =CE15/DP15-1 -> 2.8824721 | CG15: 109978.63 | CH15: =CG15/DQ15-1 -> 2.8559878 | CI15: 119972.11 | CJ15: =CI15/DR15-1 -> 3.1381509 | CK15: 131297.07 | CL15: =CK15/DS15-1 -> 3.3757741 | CM15: 135080.99 | CN15: =CM15/DT15-1 -> 3.7443238 | CO15: 137003.91 | CP15: =CO15/DU15-1 -> 3.8618526 | CQ15: 140386.45 | CR15: =CQ15/DV15-1 -> 4.0199995 | CS15: 145724.56 | CT15: =CS15/DX15-1 -> 3.7189832 | CU15: 155520.78 | CV15: =CU15/DX15-1 -> 4.0362133 | CW15: =BY15+CA15+CC15+CE15+CG15+CI15+CK15+CM15+CO15+CQ15+CS15+CU15 -> 1439046.8 | CX15: =CW15/SUM(DM15:DX15)-1 -> 3.1521021 | CZ15: =CU15/CS15-1 -> 0.067224234 | DA15: =CS15/CQ15-1 -> 0.038024364 | DD15: =CW8/CW6 -> 0.2093018 | DM15: 31664.369 | DN15: 29056.004 | DO15: 31802.224 | DP15: 26432.653 | DQ15: 28521.518 | DR15: 28991.72 | DS15: 30005.449 | DT15: 28472.126 | DU15: 28179.364 | DV15: 27965.431 | DW15: 24611.36 | DX15: 30880.499 | DY15: -0.089590155 | DZ15: =SUM(DM15:DX15) -> 346582.72 | EA15: =IFERROR(DZ15/SUM(EC15:EN15)-1,"") -> -0.15931483 | EC15: 43194.122 | ED15: 28235.53 | EE15: 37322.587 | EF15: 35839.149 | EG15: 34720.017 | EH15: 34634.98 | EI15: 33474.004 | EJ15: 31149.232 | EK15: 32160.23 | EL15: 32968.479 | EM15: 34644.534 | EN15: 33919.338 | EO15: =SUM(EC15:EN15) -> 412262.2
B16: 规下货物周转量 (万吨公里) | C16: 522474.89 | D16: =C16/V16-1 -> 0.32934638 | E16: 309473.87 | F16: =E16/X16-1 -> -0.096773694 | G16: 462054.63 | H16: =G16/Z16-1 -> -0.03219964 | I16: 477015.93 | J16: =I16/AB16-1 -> -0.015118555 | K16: 475743.78 | L16: =K16/AD16-1 -> -0.025555114 | M16: 445444.36 | N16: =M16/AF16-1 -> 0.025959517 | O16: 462751.81 | P16: =O16/AH16-1 -> -0.06529039 | S16: =C16+E16+G16+I16+K16+M16+O16+Q16 -> 3154959.3 | T16: =S16/SUM(V16,X16,Z16,AB16,AD16,AF16,AH16,AJ16)-1 -> -0.13090631 | V16: 393031.41 | W16: =V16/AX16-1 -> -0.13980158 | X16: 342631.6 | Y16: =X16/AZ16-1 -> 0.46712457 | Z16: 477427.62 | AA16: =Z16/BB16-1 -> 0.035863769 | AB16: 484338.43 | AC16: =AB16/BD16-1 -> 0.051818655 | AD16: 488220.3 | AE16: =AD16/BF16-1 -> 0.032449592 | AF16: 434173.42 | AG16: =AF16/BH16-1 -> 0.030396847 | AH16: 495075.48 | AI16: =AH16/BJ16-1 -> 0.13552442 | AJ16: 515273.38 | AK16: =AJ16/BL16-1 -> 0.12723242 | AL16: 529763.85 | AM16: =AL16/BN16-1 -> 0.10736394 | AN16: 489544.51 | AO16: =AN16/BP16-1 -> 0.017605541 | AP16: 476161.56 | AQ16: =AP16/BR16-1 -> 0.0050298889 | AR16: 493249.5 | AS16: =AR16/BT16-1 -> -0.00412474 | AT16: =V16+X16+Z16+AB16+AD16+AF16+AH16+AJ16+AL16+AN16+AP16+AR16 -> 5618891.1 | AU16: =AT16/SUM(AX16,AZ16,BB16,BD16,BF16,BH16,BJ16,BL16,BN16,BP16,BR16,BT16)-1 -> 0.054653608 | AW16: =AX16+AZ16+BB16+BD16+BF16+BH16+BJ16+BL16+BN16+BP16+BR16 -> 4832419.9 | AX16: 456907.86 | AY16: =AX16/BY16-1 -> 0.20768145 | AZ16: 233539.54 | BA16: =AZ16/CA16-1 -> -0.46780559 | BB16: 460898.08 | BC16: =BB16/CC16-1 -> -0.12299778 | BD16: 460477.13 | BE16: =BD16/CE16-1 -> -0.068922737 | BF16: 472875.68 | BG16: =BF16/CG16-1 -> -0.059082132 | BH16: 421365.25 | BI16: =BH16/CI16-1 -> -0.13566381 | BJ16: 435988.41 | BK16: =BJ16/CK16-1 -> -0.10978518 | BL16: 457113.69 | BM16: =BL16/CM16-1 -> -0.12383028 | BN16: 478400.85 | BO16: =BN16/CO16-1 -> -0.11889945 | BP16: 481074.92 | BQ16: =BP16/CQ16-1 -> -0.067555311 | BR16: 473778.51 | BS16: =BR16/CS16-1 -> -0.10296263 | BT16: 495292.45 | BU16: =BT16/CU16-1 -> -0.1206003 | BV16: =AX16+AZ16+BB16+BD16+BF16+BH16+BJ16+BL16+BN16+BP16+BR16+BT16 -> 5327712.4 | BW16: =BV16/SUM(BY16,CA16,CC16,CE16,CG16,CI16,CK16,CM16,CO16,CQ16,CS16,CU16)-1 -> -0.1104271 | BY16: 378334.75 | BZ16: =BY16/DM16-1 -> -0.22496392 | CA16: 438823.74 | CB16: =CA16/DN16-1 -> 0.32466549 | CC16: 525538.1 | CD16: =CC16/DO16-1 -> 0.060989911 | CE16: 494563.82 | CF16: =CE16/DP16-1 -> 0.034730443 | CG16: 502568.5 | CH16: =CG16/DQ16-1 -> 0.031478942 | CI16: 487501.57 | CJ16: =CI16/DR16-1 -> 0.052710689 | CK16: 489756.4 | CL16: =CK16/DS16-1 -> 0.022327594 | CM16: 521718.21 | CN16: =CM16/DT16-1 -> 0.060357657 | CO16: 542958.29 | CP16: =CO16/DU16-1 -> -0.041089943 | CQ16: 515928.64 | CR16: =CQ16/DV16-1 -> -0.075802115 | CS16: 528159.16 | CT16: =CS16/DX16-1 -> -0.086139696 | CU16: 563216.53 | CV16: =CU16/DX16-1 -> -0.025480823 | CW16: =BY16+CA16+CC16+CE16+CG16+CI16+CK16+CM16+CO16+CQ16+CS16+CU16 -> 5989067.7 | CX16: =CW16/SUM(DM16:DX16)-1 -> 0.00097842112 | CZ16: =CU16/CS16-1 -> 0.066376526 | DA16: =CS16/CQ16-1 -> 0.023705837 | DM16: 488151.14 | DN16: 331271.36 | DO16: 495328.09 | DP16: 477963.92 | DQ16: 487230.98 | DR16: 463091.69 | DS16: 479060.14 | DT16: 492020.97 | DU16: 566224.42 | DV16: 558244.78 | DW16: 566683.12 | DX16: 577943 | DY16: 0.022455368 | DZ16: =SUM(DM16:DX16) -> 5983213.6 | EA16: =IFERROR(DZ16/SUM(EC16:EN16)-1,"") -> -0.045223556 | EC16: 639269.43 | ED16: 322682.26 | EE16: 470399.43 | EF16: 528325.35 | EG16: 505694.1 | EH16: 548627.74 | EI16: 492049.95 | EJ16: 526394.1 | EK16: 569654.95 | EL16: 504832.07 | EM16: 593432.62 | EN16: 565250.1 | EO16: =SUM(EC16:EN16) -> 6266612.1 | EQ16: =SUM(EC16:EN16) -> 6266612.1
A17: 黄石市 | B17: 规上+规下货运量 (万吨) | C17: 569.93509 | D17: =C17/V17-1 -> 0.18580127 | E17: 411.12461 | F17: =E17/X17-1 -> -0.15805594 | G17: 559.37453 | H17: =G17/Z17-1 -> -0.040545363 | I17: 632.22243 | J17: =I17/AB17-1 -> -0.013942318 | K17: 628.24764 | L17: =K17/AD17-1 -> -0.0020484893 | M17: 601.69526 | N17: =M17/AF17-1 -> 0.043227688 | O17: 560.58694 | P17: =O17/AH17-1 -> 0.0042473292 | S17: =C17+E17+G17+I17+K17+M17+O17+Q17 -> 3963.1865 | T17: =S17/SUM(V17,X17,Z17,AB17,AD17,AF17,AH17,AJ17)-1 -> -0.12504609 | V17: 480.63289 | W17: =V17/AX17-1 -> -0.084882257 | X17: 488.30395 | Y17: =X17/AZ17-1 -> 0.50380587 | Z17: 583.013 | AA17: =Z17/BB17-1 -> 0.10856243 | AB17: 641.16171 | AC17: =AB17/BD17-1 -> 0.061114257 | AD17: 629.53724 | AE17: =AD17/BF17-1 -> 0.025853808 | AF17: 576.76312 | AG17: =AF17/BH17-1 -> 0.04242268 | AH17: 558.21601 | AI17: =AH17/BJ17-1 -> 0.019092859 | AJ17: 571.96664 | AK17: =AJ17/BL17-1 -> -0.005880728 | AL17: 580.2096 | AM17: =AL17/BN17-1 -> 0.03000811 | AN17: 557.14353 | AO17: =AN17/BP17-1 -> -0.0013154539 | AP17: 582.4312 | AQ17: =AP17/BR17-1 -> 0.031332842 | AR17: 592.65485 | AS17: =AR17/BT17-1 -> -0.019090685 | AT17: =V17+X17+Z17+AB17+AD17+AF17+AH17+AJ17+AL17+AN17+AP17+AR17 -> 6842.0338 | AU17: =AT17/SUM(AX17,AZ17,BB17,BD17,BF17,BH17,BJ17,BL17,BN17,BP17,BR17,BT17)-1 -> 0.042951919 | AW17: =AX17+AZ17+BB17+BD17+BF17+BH17+BJ17+BL17+BN17+BP17+BR17 -> 5956.0688 | AX17: 525.21427 | AY17: =AX17/BY17-1 -> 0.75363507 | AZ17: 324.71209 | BA17: =AZ17/CA17-1 -> -0.25455276 | BB17: 525.91806 | BC17: =BB17/CC17-1 -> 0.042837861 | BD17: 604.23437 | BE17: =BD17/CE17-1 -> 0.12238151 | BF17: 613.67149 | BG17: =BF17/CG17-1 -> 0.11057631 | BH17: 553.29103 | BI17: =BH17/CI17-1 -> 0.014147573 | BJ17: 547.75775 | BK17: =BJ17/CK17-1 -> 0.041410761 | BL17: 575.35012 | BM17: =BL17/CM17-1 -> 0.019036062 | BN17: 563.30586 | BO17: =BN17/CO17-1 -> 0.0578224 | BP17: 557.8774 | BQ17: =BP17/CQ17-1 -> 0.035223236 | BR17: 564.73641 | BS17: =BR17/CS17-1 -> 0.024871161 | BT17: 604.18924 | BU17: =BT17/CU17-1 -> 0.11168652 | BV17: =AX17+AZ17+BB17+BD17+BF17+BH17+BJ17+BL17+BN17+BP17+BR17+BT17 -> 6560.2581 | BW17: =BV17/SUM(BY17,CA17,CC17,CE17,CG17,CI17,CK17,CM17,CO17,CQ17,CS17,CU17)-1 -> 0.069768146 | BY17: 299.50032 | BZ17: =BY17/DM17-1 -> -0.18134005 | CA17: 435.59366 | CB17: =CA17/DN17-1 -> 0.31325543 | CC17: 504.31431 | CD17: =CC17/DO17-1 -> 0.071296357 | CE17: 538.35025 | CF17: =CE17/DP17-1 -> 0.21564821 | CG17: 552.5703 | CH17: =CG17/DQ17-1 -> 0.18757554 | CI17: 545.57251 | CJ17: =CI17/DR17-1 -> 0.26342837 | CK17: 525.97666 | CL17: =CK17/DS17-1 -> 0.17924219 | CM17: 564.60231 | CN17: =CM17/DT17-1 -> 0.17939244 | CO17: 532.51459 | CP17: =CO17/DU17-1 -> 0.088834879 | CQ17: 538.89574 | CR17: =CQ17/DV17-1 -> 0.13455527 | CS17: 551.03161 | CT17: =CS17/DX17-1 -> 0.13060139 | CU17: 543.48886 | CV17: =CU17/DX17-1 -> 0.11512524 | CW17: =BY17+CA17+CC17+CE17+CG17+CI17+CK17+CM17+CO17+CQ17+CS17+CU17 -> 6132.4111 | CX17: =CW17/SUM(DM17:DX17)-1 -> 0.13960437 | CZ17: =CU17/CS17-1 -> -0.013688425 | DA17: =CS17/CQ17-1 -> 0.02251988 | DM17: 365.84215 | DN17: 331.68997 | DO17: 470.75145 | DP17: 442.85037 | DQ17: 465.29276 | DR17: 431.81911 | DS17: 446.02937 | DT17: 478.72302 | DU17: 489.06827 | DV17: 474.98413 | DW17: 496.7457 | DX17: 487.37921 | DY17: -0.063625183 | DZ17: =SUM(DM17:DX17) -> 5381.1755 | EA17: =IFERROR(DZ17/SUM(EC17:EN17)-1,"") -> -0.10456908 | EC17: 509.03783 | ED17: 283.56333 | EE17: 467.80407 | EF17: 518.02636 | EG17: 533.24037 | EH17: 581.70238 | EI17: 525.40355 | EJ17: 533.48166 | EK17: 516.57371 | EL17: 489.23075 | EM17: 531.03331 | EN17: 520.49585 | EO17: =SUM(EC17:EN17) -> 6009.5932 | EQ17: =SUM(EC17:EN17) -> 6009.5932
B18: 规上货运量 (万吨) | C18: 146.2244 | D18: =C18/V18-1 -> -0.32014391 | E18: 138.363 | F18: =E18/X18-1 -> -0.40744075 | G18: 141.3944 | H18: =G18/Z18-1 -> -0.39757521 | I18: 153.0738 | J18: =I18/AB18-1 -> -0.37347671 | K18: 145.4478 | L18: =K18/AD18-1 -> -0.3526968 | M18: 152.4682 | N18: =M18/AF18-1 -> -0.3160214 | O18: 133.0799 | P18: =O18/AH18-1 -> -0.32456077 | S18: =C18+E18+G18+I18+K18+M18+O18+Q18 -> 1010.0515 | T18: =S18/SUM(V18,X18,Z18,AB18,AD18,AF18,AH18,AJ18)-1 -> -0.43016128 | V18: 215.0814 | W18: =V18/AX18-1 -> 0.077879116 | X18: 233.5007 | Y18: =X18/AZ18-1 -> 0.26828801 | Z18: 234.7088 | AA18: =Z18/BB18-1 -> 0.097949106 | AB18: 244.3226 | AC18: =AB18/BD18-1 -> 0.015299982 | AD18: 224.6981 | AE18: =AD18/BF18-1 -> -0.073901397 | AF18: 222.9137 | AG18: =AF18/BH18-1 -> -0.041158815 | AH18: 197.0272 | AI18: =AH18/BJ18-1 -> -0.13779465 | AJ18: 200.2692 | AK18: =AJ18/BL18-1 -> -0.17065652 | AL18: 237.2793 | AM18: =AL18/BN18-1 -> 0.0046553516 | AN18: 226.4434 | AO18: =AN18/BP18-1 -> 0.027591721 | AP18: 232.4916 | AQ18: =AP18/BR18-1 -> 0.11449461 | AR18: 247.7827 | AS18: =AR18/BT18-1 -> 0.052996 | AT18: =V18+X18+Z18+AB18+AD18+AF18+AH18+AJ18+AL18+AN18+AP18+AR18 -> 2716.5187 | AU18: =AT18/SUM(AX18,AZ18,BB18,BD18,BF18,BH18,BJ18,BL18,BN18,BP18,BR18,BT18)-1 -> 0.012256322 | AW18: =AX18+AZ18+BB18+BD18+BF18+BH18+BJ18+BL18+BN18+BP18+BR18 -> 2448.3152 | AX18: 199.5413 | AY18: =AX18/BY18-1 -> 1.1896239 | AZ18: 184.107 | BA18: =AZ18/CA18-1 -> 0.81650719 | BB18: 213.7702 | BC18: =BB18/CC18-1 -> 0.98092193 | BD18: 240.6408 | BE18: =BD18/CE18-1 -> 0.042722717 | BF18: 242.6287 | BG18: =BF18/CG18-1 -> -0.10501149 | BH18: 232.4824 | BI18: =BH18/CI18-1 -> -0.19888131 | BJ18: 228.5154 | BK18: =BJ18/CK18-1 -> 0.14267813 | BL18: 241.4792 | BM18: =BL18/CM18-1 -> 0.39000035 | BN18: 236.1798 | BO18: =BN18/CO18-1 -> 0.40905872 | BP18: 220.3632 | BQ18: =BP18/CQ18-1 -> 0.45727436 | BR18: 208.6072 | BS18: =BR18/CS18-1 -> 0.21593177 | BT18: 235.3121 | BU18: =BT18/CU18-1 -> 0.19535082 | BV18: =AX18+AZ18+BB18+BD18+BF18+BH18+BJ18+BL18+BN18+BP18+BR18+BT18 -> 2683.6273 | BW18: =BV18/SUM(BY18,CA18,CC18,CE18,CG18,CI18,CK18,CM18,CO18,CQ18,CS18,CU18)-1 -> 0.24621072 | BY18: 91.1304 | BZ18: =BY18/DM18-1 -> 1.7256152 | CA18: 101.3522 | CB18: =CA18/DN18-1 -> 1.992689 | CC18: 107.9145 | CD18: =CC18/DO18-1 -> 2.543897 | CE18: 230.7812 | CF18: =CE18/DP18-1 -> 5.3843245 | CG18: 271.097 | CH18: =CG18/DQ18-1 -> 8.4534974 | CI18: 290.1972 | CJ18: =CI18/DR18-1 -> 8.6187657 | CK18: 199.9823 | CL18: =CK18/DS18-1 -> 4.2369347 | CM18: 173.726 | CN18: =CM18/DT18-1 -> 5.5140817 | CO18: 167.6153 | CP18: =CO18/DU18-1 -> 2.1520737 | CQ18: 151.216 | CR18: =CQ18/DV18-1 -> 2.6495455 | CS18: 171.5616 | CT18: =CS18/DX18-1 -> 2.4924618 | CU18: 196.8561 | CV18: =CU18/DX18-1 -> 3.0073794 | CW18: =BY18+CA18+CC18+CE18+CG18+CI18+CK18+CM18+CO18+CQ18+CS18+CU18 -> 2153.4298 | CX18: =CW18/SUM(DM18:DX18)-1 -> 3.2478074 | CZ18: =CU18/CS18-1 -> 0.14743684 | DA18: =CS18/CQ18-1 -> 0.13454661 | DL18: 黄石市 | DM18: 33.4348 | DN18: 33.8666 | DO18: 30.4508 | DP18: 36.1481 | DQ18: 28.6769 | DR18: 30.1699 | DS18: 38.1869 | DT18: 26.6693 | DU18: 53.1762 | DV18: 41.4342 | DW18: 105.6138 | DX18: 49.1234 | DY18: -0.4632654 | DZ18: =SUM(DM18:DX18) -> 506.9509 | EA18: =IFERROR(DZ18/SUM(EC18:EN18)-1,"") -> -0.64689091 | EC18: 116.4564 | ED18: 111.7571 | EE18: 134.45383 | EF18: 130.23113 | EG18: 127.0119 | EH18: 131.2854 | EI18: 126.5023 | EJ18: 126.1601 | EK18: 125.5644 | EL18: 123.4414 | EM18: 91.2912 | EN18: 91.5227 | EO18: =SUM(EC18:EN18) -> 1435.6779 | EQ18: =SUM(EC18:EN18) -> 1435.6779
B19: 规下货运量 (万吨) | C19: 423.71069 | D19: =C19/V19-1 -> 0.59558769 | E19: 272.76161 | F19: =E19/X19-1 -> 0.070479319 | G19: 417.98013 | H19: =G19/Z19-1 -> 0.20004331 | I19: 479.14863 | J19: =I19/AB19-1 -> 0.20741282 | K19: 482.79984 | L19: =K19/AD19-1 -> 0.19257204 | M19: 449.22706 | N19: =M19/AF19-1 -> 0.269543 | O19: 427.50704 | P19: =O19/AH19-1 -> 0.18361097 | S19: =C19+E19+G19+I19+K19+M19+O19+Q19 -> 2953.135 | T19: =S19/SUM(V19,X19,Z19,AB19,AD19,AF19,AH19,AJ19)-1 -> 0.071112423 | V19: 265.55149 | W19: =V19/AX19-1 -> -0.18460689 | X19: 254.80325 | Y19: =X19/AZ19-1 -> 0.81219079 | Z19: 348.3042 | AA19: =Z19/BB19-1 -> 0.11583081 | AB19: 396.83911 | AC19: =AB19/BD19-1 -> 0.09143598 | AD19: 404.83914 | AE19: =AD19/BF19-1 -> 0.091084764 | AF19: 353.84942 | AG19: =AF19/BH19-1 -> 0.10299221 | AH19: 361.18881 | AI19: =AH19/BJ19-1 -> 0.13139379 | AJ19: 371.69744 | AK19: =AJ19/BL19-1 -> 0.11329685 | AL19: 342.9303 | AM19: =AL19/BN19-1 -> 0.048312397 | AN19: 330.70013 | AO19: =AN19/BP19-1 -> -0.020188964 | AP19: 349.9396 | AQ19: =AP19/BR19-1 -> -0.017380218 | AR19: 344.87215 | AS19: =AR19/BT19-1 -> -0.065075831 | AT19: =V19+X19+Z19+AB19+AD19+AF19+AH19+AJ19+AL19+AN19+AP19+AR19 -> 4125.5151 | AU19: =AT19/SUM(AX19,AZ19,BB19,BD19,BF19,BH19,BJ19,BL19,BN19,BP19,BR19,BT19)-1 -> 0.06420118 | AW19: =AX19+AZ19+BB19+BD19+BF19+BH19+BJ19+BL19+BN19+BP19+BR19 -> 3507.7536 | AX19: 325.67297 | AY19: =AX19/BY19-1 -> 0.56295575 | AZ19: 140.60509 | BA19: =AZ19/CA19-1 -> -0.57933079 | BB19: 312.14786 | BC19: =BB19/CC19-1 -> -0.21254287 | BD19: 363.59357 | BE19: =BD19/CE19-1 -> 0.18215265 | BF19: 371.04279 | BG19: =BF19/CG19-1 -> 0.31821663 | BH19: 320.80863 | BI19: =BH19/CI19-1 -> 0.25622417 | BJ19: 319.24235 | BK19: =BJ19/CK19-1 -> -0.020712034 | BL19: 333.87092 | BM19: =BL19/CM19-1 -> -0.14583998 | BN19: 327.12606 | BO19: =BN19/CO19-1 -> -0.10351686 | BP19: 337.5142 | BQ19: =BP19/CQ19-1 -> -0.12939946 | BR19: 356.12921 | BS19: =BR19/CS19-1 -> -0.061508955 | BT19: 368.87714 | BU19: =BT19/CU19-1 -> 0.064172762 | BV19: =AX19+AZ19+BB19+BD19+BF19+BH19+BJ19+BL19+BN19+BP19+BR19+BT19 -> 3876.6308 | BW19: =BV19/SUM(BY19,CA19,CC19,CE19,CG19,CI19,CK19,CM19,CO19,CQ19,CS19,CU19)-1 -> -0.025722801 | BY19: 208.36992 | BZ19: =BY19/DM19-1 -> -0.37314888 | CA19: 334.24146 | CB19: =CA19/DN19-1 -> 0.12228081 | CC19: 396.39981 | CD19: =CC19/DO19-1 -> -0.099706499 | CE19: 307.56905 | CF19: =CE19/DP19-1 -> -0.24374885 | CG19: 281.4733 | CH19: =CG19/DQ19-1 -> -0.35532964 | CI19: 255.37531 | CJ19: =CI19/DR19-1 -> -0.36418321 | CK19: 325.99436 | CL19: =CK19/DS19-1 -> -0.20068562 | CM19: 390.87631 | CN19: =CM19/DT19-1 -> -0.13533217 | CO19: 364.89929 | CP19: =CO19/DU19-1 -> -0.16286779 | CQ19: 387.67974 | CR19: =CQ19/DV19-1 -> -0.10580138 | CS19: 379.47001 | CT19: =CS19/DX19-1 -> -0.13413581 | CU19: 346.63276 | CV19: =CU19/DX19-1 -> -0.20906295 | CW19: =BY19+CA19+CC19+CE19+CG19+CI19+CK19+CM19+CO19+CQ19+CS19+CU19 -> 3978.9813 | CX19: =CW19/SUM(DM19:DX19)-1 -> -0.18366886 | CZ19: =CU19/CS19-1 -> -0.086534519 | DA19: =CS19/CQ19-1 -> -0.021176584 | DM19: 332.40735 | DN19: 297.82337 | DO19: 440.30065 | DP19: 406.70227 | DQ19: 436.61586 | DR19: 401.64921 | DS19: 407.84247 | DT19: 452.05372 | DU19: 435.89207 | DV19: 433.54993 | DW19: 391.1319 | DX19: 438.25581 | DY19: 0.021639247 | DZ19: =SUM(DM19:DX19) -> 4874.2246 | EA19: =IFERROR(DZ19/SUM(EC19:EN19)-1,"") -> 0.065656946 | EC19: 392.58143 | ED19: 171.80623 | EE19: 333.35024 | EF19: 387.79523 | EG19: 406.22847 | EH19: 450.41698 | EI19: 398.90125 | EJ19: 407.32156 | EK19: 391.00931 | EL19: 365.78935 | EM19: 439.74211 | EN19: 428.97315 | EO19: =SUM(EC19:EN19) -> 4573.9153 | EQ19: =SUM(EC19:EN19) -> 4573.9153
B20: 规上+规下周转量 (万吨公里) | C20: =C21+C22 -> 47508.235 | D20: =C20/V20-1 -> 0.14093892 | E20: =E21+E22 -> 35950.622 | F20: =E20/X20-1 -> -0.14143785 | G20: =G21+G22 -> 49150.059 | H20: =G20/Z20-1 -> -0.025322547 | I20: =I21+I22 -> 51334.845 | J20: =I20/AB20-1 -> -0.0069948562 | K20: =K21+K22 -> 50815.385 | L20: =K20/AD20-1 -> -0.018464991 | M20: =M21+M22 -> 49166.969 | N20: =M20/AF20-1 -> 0.012578912 | O20: =O21+O22 -> 46579.005 | P20: =O20/AH20-1 -> 0.022476408 | S20: =C20+E20+G20+I20+K20+M20+O20+Q20 -> 330505.12 | T20: =S20/SUM(V20,X20,Z20,AB20,AD20,AF20,AH20,AJ20)-1 -> -0.12623452 | V20: =V21+V22 -> 41639.595 | W20: =V20/AX20-1 -> -0.061319126 | X20: =X21+X22 -> 41873.057 | Y20: =X20/AZ20-1 -> 0.44456884 | Z20: =Z21+Z22 -> 50426.999 | AA20: =Z20/BB20-1 -> 0.091396486 | AB20: =AB21+AB22 -> 51696.454 | AC20: =AB20/BD20-1 -> 0.066007011 | AD20: =AD21+AD22 -> 51771.342 | AE20: =AD20/BF20-1 -> 0.052301 | AF20: =AF21+AF22 -> 48556.185 | AG20: =AF20/BH20-1 -> 0.071963962 | AH20: =AH21+AH22 -> 45555.09 | AI20: =AH20/BJ20-1 -> 0.0003634629 | AJ20: =AJ21+AJ22 -> 46735.083 | AK20: =AJ20/BL20-1 -> -0.039207696 | AL20: =AL21+AL22 -> 49315.594 | AM20: =AL20/BN20-1 -> 0.030652499 | AN20: =AN21+AN22 -> 47624.175 | AO20: =AN20/BP20-1 -> -0.028856054 | AP20: =AP21+AP22 -> 51126.854 | AQ20: =AP20/BR20-1 -> -0.019680831 | AR20: =AR21+AR22 -> 53504.951 | AS20: =AR20/BT20-1 -> -0.062468762 | AT20: =V20+X20+Z20+AB20+AD20+AF20+AH20+AJ20+AL20+AN20+AP20+AR20 -> 579825.38 | AU20: =AT20/SUM(AX20,AZ20,BB20,BD20,BF20,BH20,BJ20,BL20,BN20,BP20,BR20,BT20)-1 -> 0.030191338 | AW20: =AX20+AZ20+BB20+BD20+BF20+BH20+BJ20+BL20+BN20+BP20+BR20 -> 505762.66 | AX20: =AX21+AX22 -> 44359.693 | AY20: =AX20/BY20-1 -> 0.53132543 | AZ20: =AZ21+AZ22 -> 28986.543 | BA20: =AZ20/CA20-1 -> -0.19619626 | BB20: =BB21+BB22 -> 46204.106 | BC20: =BB20/CC20-1 -> 0.039425286 | BD20: =BD21+BD22 -> 48495.417 | BE20: =BD20/CE20-1 -> 0.091269782 | BF20: =BF21+BF22 -> 49198.226 | BG20: =BF20/CG20-1 -> 0.10079548 | BH20: =BH21+BH22 -> 45296.472 | BI20: =BH20/CI20-1 -> 0.016253129 | BJ20: =BJ21+BJ22 -> 45538.539 | BK20: =BJ20/CK20-1 -> 0.027171311 | BL20: =BL21+BL22 -> 48642.233 | BM20: =BL20/CM20-1 -> -2.5732395e-05 | BN20: =BN21+BN22 -> 47848.906 | BO20: =BN20/CO20-1 -> 0.033627661 | BP20: =BP21+BP22 -> 49039.254 | BQ20: =BP20/CQ20-1 -> 0.027207174 | BR20: =BR21+BR22 -> 52153.274 | BS20: =BR20/CS20-1 -> -0.0091162144 | BT20: =BT21+BT22 -> 57070.046 | BU20: =BT20/CU20-1 -> 0.095493272 | BV20: =AX20+AZ20+BB20+BD20+BF20+BH20+BJ20+BL20+BN20+BP20+BR20+BT20 -> 562832.71 | BW20: =BV20/SUM(BY20,CA20,CC20,CE20,CG20,CI20,CK20,CM20,CO20,CQ20,CS20,CU20)-1 -> 0.052171908 | BY20: =BY21+BY22 -> 28968.168 | BZ20: =BY20/DM20-1 -> -0.084903977 | CA20: =CA21+CA22 -> 36061.718 | CB20: =CA20/DN20-1 -> 0.48786588 | CC20: =SUM(CC21:CC22) -> 44451.589 | CD20: =CC20/DO20-1 -> 0.22963031 | CE20: 44439.439 | CF20: =CE20/DP20-1 -> 0.20762458 | CG20: 44693.339 | CH20: =CG20/DQ20-1 -> 0.19648023 | CI20: =CI21+CI22 -> 44572.037 | CJ20: =CI20/DR20-1 -> 0.27170646 | CK20: =CK21+CK22 -> 44333.928 | CL20: =CK20/DS20-1 -> 0.20081046 | CM20: 48643.485 | CN20: =CM20/DT20-1 -> 0.21815401 | CO20: =SUM(CO21:CO22) -> 46292.207 | CP20: =CO20/DU20-1 -> 0.15012525 | CQ20: =SUM(CQ21:CQ22) -> 47740.374 | CR20: =CQ20/DV20-1 -> 0.1454529 | CS20: =CS21+CS22 -> 52633.088 | CT20: =CS20/DX20-1 -> 0.16607553 | CU20: =CU21+CU22 -> 52095.296 | CV20: =CU20/DX20-1 -> 0.15416084 | CW20: =BY20+CA20+CC20+CE20+CG20+CI20+CK20+CM20+CO20+CQ20+CS20+CU20 -> 534924.67 | CX20: =CW20/SUM(DM20:DX20)-1 -> 0.17817245 | CZ20: =CU20/CS20-1 -> -0.010217768 | DA20: =CS20/CQ20-1 -> 0.10248589 | DM20: 31655.878 | DN20: 24237.21 | DO20: 36150.369 | DP20: 36799.051 | DQ20: 37354.014 | DR20: 35048.998 | DS20: 36920.005 | DT20: 39932.131 | DU20: 40249.709 | DV20: 41678.164 | DW20: 48866.702 | DX20: 45136.946 | DY20: 0.089376292 | DZ20: =SUM(DM20:DX20) -> 454029.18 | EA20: =IFERROR(DZ20/SUM(EC20:EN20)-1,"") -> -0.024556351 | EC20: =EC21+EC22 -> 40301.612 | ED20: =ED21+ED22 -> 21642.817 | EE20: =EE21+EE22 -> 34755.706 | EF20: =EF21+EF22 -> 39023.336 | EG20: =EG21+EG22 -> 39695.704 | EH20: =EH21+EH22 -> 43025.74 | EI20: =EI21+EI22 -> 39391.521 | EJ20: =EJ21+EJ22 -> 44491.93 | ... EN20: =EN21+EN22 -> 41433.751 | EO20: =SUM(EC20:EN20) -> 465459.15
B21: 规上货物周转量 (万吨公里) | C21: 18790.831 | D21: =C21/V21-1 -> -0.17961935 | E21: 18331.502 | F21: =E21/X21-1 -> -0.17939931 | G21: 17686.344 | H21: =G21/Z21-1 -> -0.1307394 | I21: 16648.408 | J21: =I21/AB21-1 -> -0.21376073 | K21: 15402.928 | L21: =K21/AD21-1 -> -0.23087368 | M21: 16044.6 | N21: =M21/AF21-1 -> -0.20906344 | O21: 15366.326 | P21: =O21/AH21-1 -> 0.10305926 | S21: =C21+E21+G21+I21+K21+M21+O21+Q21 -> 118270.94 | T21: =S21/SUM(V21,X21,Z21,AB21,AD21,AF21,AH21,AJ21)-1 -> -0.23275201 | V21: 22905.014 | W21: =V21/AX21-1 -> 0.27152072 | X21: 22339.126 | Y21: =X21/AZ21-1 -> 0.3021542 | Z21: 20346.423 | AA21: =Z21/BB21-1 -> 0.2108736 | AB21: 21174.735 | AC21: =AB21/BD21-1 -> 0.15088177 | AD21: 20026.525 | AE21: =AD21/BF21-1 -> 0.045448444 | AF21: 20285.571 | AG21: =AF21/BH21-1 -> 0.024382682 | AH21: 13930.644 | AI21: =AH21/BJ21-1 -> -0.29030148 | AJ21: 13141.519 | AK21: =AJ21/BL21-1 -> -0.35627822 | AL21: 21230.292 | AM21: =AL21/BN21-1 -> 0.021433508 | AN21: 20153.559 | AO21: =AN21/BP21-1 -> -0.0090944639 | AP21: 21854.12 | AQ21: =AP21/BR21-1 -> 0.017631872 | AR21: 27481.376 | AS21: =AR21/BT21-1 -> 0.02807087 | AT21: =V21+X21+Z21+AB21+AD21+AF21+AH21+AJ21+AL21+AN21+AP21+AR21 -> 244868.91 | AU21: =AT21/SUM(AX21,AZ21,BB21,BD21,BF21,BH21,BJ21,BL21,BN21,BP21,BR21,BT21)-1 -> 0.025828678 | AW21: =AX21+AZ21+BB21+BD21+BF21+BH21+BJ21+BL21+BN21+BP21+BR21 -> 211972.5 | AX21: 18013.874 | AY21: =AX21/BY21-1 -> 1.1164157 | AZ21: 17155.515 | BA21: =AZ21/CA21-1 -> 0.92148271 | BB21: 16803.094 | BC21: =BB21/CC21-1 -> 0.3168177 | BD21: 18398.706 | BE21: =BD21/CE21-1 -> 0.3331252 | BF21: 19155.919 | BG21: =BF21/CG21-1 -> 0.3173931 | BH21: 19802.728 | BI21: =BH21/CI21-1 -> 0.13542154 | BJ21: 19628.961 | BK21: =BJ21/CK21-1 -> 0.5378709 | BL21: 20414.905 | BM21: =BL21/CM21-1 -> 0.4864175 | BN21: 20784.801 | BO21: =BN21/CO21-1 -> 0.45659988 | BP21: 20338.527 | BQ21: =BP21/CQ21-1 -> 0.30210697 | BR21: 21475.468 | BS21: =BR21/CS21-1 -> 0.30476666 | BT21: 26731.013 | BU21: =BT21/CU21-1 -> 0.36507981 | BV21: =AX21+AZ21+BB21+BD21+BF21+BH21+BJ21+BL21+BN21+BP21+BR21+BT21 -> 238703.51 | BW21: =BV21/SUM(BY21,CA21,CC21,CE21,CG21,CI21,CK21,CM21,CO21,CQ21,CS21,CU21)-1 -> 0.41738373 | BY21: 8511.501 | BZ21: =BY21/DM21-1 -> 3.4719978 | CA21: 8928.2693 | CB21: =CA21/DN21-1 -> 3.1910878 | CC21: 12760.38 | CD21: =CC21/DO21-1 -> 6.3956847 | CE21: 13801.184 | CF21: =CE21/DP21-1 -> 5.9838363 | CG21: 14540.776 | CH21: =CG21/DQ21-1 -> 6.8604417 | CI21: 17440.859 | CJ21: =CI21/DR21-1 -> 8.5905465 | CK21: 12763.725 | CL21: =CK21/DS21-1 -> 5.003056 | CM21: 13734.301 | CN21: =CM21/DT21-1 -> 7.0377027 | CO21: 14269.396 | CP21: =CO21/DU21-1 -> 3.8468801 | CQ21: 15619.705 | CR21: =CQ21/DV21-1 -> 3.9716104 | CS21: 16459.24 | CT21: =CS21/DX21-1 -> 3.3377387 | CU21: 19582.015 | CV21: =CU21/DX21-1 -> 4.1607281 | CW21: =BY21+CA21+CC21+CE21+CG21+CI21+CK21+CM21+CO21+CQ21+CS21+CU21 -> 168411.35 | CX21: =CW21/SUM(DM21:DX21)-1 -> 3.1632332 | CZ21: =CU21/CS21-1 -> 0.18972776 | DA21: =CS21/CQ21-1 -> 0.053748447 | DM21: 1903.2883 | DN21: 2130.2988 | DO21: 1725.3818 | DP21: 1976.1608 | DQ21: 1849.8676 | DR21: 1818.547 | DS21: 2126.2045 | DT21: 1708.7346 | DU21: 2944.0374 | DV21: 3141.7798 | DW21: 15333.329 | DX21: 3794.4287 | DY21: 0.55142766 | DZ21: =SUM(DM21:DX21) -> 40452.058 | EA21: =IFERROR(DZ21/SUM(EC21:EN21)-1,"") -> 0.10039681 | EC21: 3237.998 | ED21: 3002.1352 | EE21: 3766.6047 | EF21: 3609.6626 | EG21: 3346.6557 | EH21: 3182.3725 | EI21: 2933.6125 | EJ21: 2950.7339 | EK21: 2918.4024 | EL21: 2923.2801 | EM21: 2444.1137 | EN21: 2445.7658 | EO21: =SUM(EC21:EN21) -> 36761.337 | EQ21: =SUM(EC21:EN21) -> 36761.337
B22: 规下货物周转量 (万吨公里) | C22: 28717.404 | D22: =C22/V22-1 -> 0.53285543 | E22: 17619.12 | F22: =E22/X22-1 -> -0.098024899 | G22: 31463.715 | H22: =G22/Z22-1 -> 0.045981136 | I22: 34686.437 | J22: =I22/AB22-1 -> 0.13645095 | K22: 35412.457 | L22: =K22/AD22-1 -> 0.11553509 | M22: 33122.37 | N22: =M22/AF22-1 -> 0.17161832 | O22: 31212.679 | P22: =O22/AH22-1 -> -0.013020532 | S22: =C22+E22+G22+I22+K22+M22+O22+Q22 -> 212234.18 | T22: =S22/SUM(V22,X22,Z22,AB22,AD22,AF22,AH22,AJ22)-1 -> -0.052966725 | V22: 18734.581 | W22: =V22/AX22-1 -> -0.28889737 | X22: 19533.931 | Y22: =X22/AZ22-1 -> 0.65107639 | Z22: 30080.576 | AA22: =Z22/BB22-1 -> 0.023113624 | AB22: 30521.719 | AC22: =AB22/BD22-1 -> 0.014121419 | AD22: 31744.817 | AE22: =AD22/BF22-1 -> 0.056670404 | AF22: 28270.614 | AG22: =AF22/BH22-1 -> 0.10892358 | AH22: 31624.446 | AI22: =AH22/BJ22-1 -> 0.2205697 | AJ22: 33593.564 | AK22: =AJ22/BL22-1 -> 0.19010783 | AL22: 28085.302 | AM22: =AL22/BN22-1 -> 0.037732538 | AN22: 27470.616 | AO22: =AN22/BP22-1 -> -0.042859938 | AP22: 29272.734 | AQ22: =AP22/BR22-1 -> -0.045800943 | AR22: 26023.575 | AS22: =AR22/BT22-1 -> -0.14224112 | AT22: =V22+X22+Z22+AB22+AD22+AF22+AH22+AJ22+AL22+AN22+AP22+AR22 -> 334956.47 | AU22: =AT22/SUM(AX22,AZ22,BB22,BD22,BF22,BH22,BJ22,BL22,BN22,BP22,BR22,BT22)-1 -> 0.033404201 | AW22: =AX22+AZ22+BB22+BD22+BF22+BH22+BJ22+BL22+BN22+BP22+BR22 -> 293790.16 | AX22: 26345.818 | AY22: =AX22/BY22-1 -> 0.28788419 | AZ22: 11831.028 | BA22: =AZ22/CA22-1 -> -0.56396887 | BB22: 29401.012 | BC22: =BB22/CC22-1 -> -0.07226602 | BD22: 30096.711 | BE22: =BD22/CE22-1 -> -0.017675423 | BF22: 30042.307 | BG22: =BF22/CG22-1 -> -0.0036565884 | BH22: 25493.744 | BI22: =BH22/CI22-1 -> -0.060352451 | BJ22: 25909.578 | BK22: =BJ22/CK22-1 -> -0.17930278 | BL22: 28227.328 | BM22: =BL22/CM22-1 -> -0.19140682 | BN22: 27064.105 | BO22: =BN22/CO22-1 -> -0.15484918 | BP22: 28700.727 | BQ22: =BP22/CQ22-1 -> -0.10647167 | BR22: 30677.806 | BS22: =BR22/CS22-1 -> -0.15193413 | BT22: 30339.033 | BU22: =BT22/CU22-1 -> -0.06687261 | BV22: =AX22+AZ22+BB22+BD22+BF22+BH22+BJ22+BL22+BN22+BP22+BR22+BT22 -> 324129.2 | BW22: =BV22/SUM(BY22,CA22,CC22,CE22,CG22,CI22,CK22,CM22,CO22,CQ22,CS22,CU22)-1 -> -0.11564141 | BY22: 20456.667 | BZ22: =BY22/DM22-1 -> -0.31244079 | CA22: 27133.448 | CB22: =CA22/DN22-1 -> 0.22737402 | CC22: 31691.209 | CD22: =CC22/DO22-1 -> -0.079412595 | CE22: 30638.255 | CF22: =CE22/DP22-1 -> -0.1201691 | CG22: 30152.562 | CH22: =CG22/DQ22-1 -> -0.15073123 | CI22: 27131.177 | CJ22: =CI22/DR22-1 -> -0.18354471 | CK22: 31570.203 | CL22: =CK22/DS22-1 -> -0.092648604 | CM22: 34909.184 | CN22: =CM22/DT22-1 -> -0.086706366 | CO22: 32022.811 | CP22: =CO22/DU22-1 -> -0.14161013 | CQ22: 32120.668 | CR22: =CQ22/DV22-1 -> -0.16648463 | CS22: 36173.848 | CT22: =CS22/DX22-1 -> -0.12502067 | CU22: 32513.281 | CV22: =CU22/DX22-1 -> -0.21356311 | CW22: =BY22+CA22+CC22+CE22+CG22+CI22+CK22+CM22+CO22+CQ22+CS22+CU22 -> 366513.32 | CX22: =CW22/SUM(DM22:DX22)-1 -> -0.11379692 | CZ22: =CU22/CS22-1 -> -0.10119375 | DA22: =CS22/CQ22-1 -> 0.12618604 | DM22: 29752.59 | DN22: 22106.911 | DO22: 34424.987 | DP22: 34822.89 | DQ22: 35504.146 | DR22: 33230.451 | DS22: 34793.8 | DT22: 38223.396 | DU22: 37305.672 | DV22: 38536.384 | DW22: 33533.373 | DX22: 41342.518 | DY22: 0.060391224 | DZ22: =SUM(DM22:DX22) -> 413577.12 | EA22: =IFERROR(DZ22/SUM(EC22:EN22)-1,"") -> -0.03527123 | EC22: 37063.614 | ED22: 18640.682 | EE22: 30989.101 | EF22: 35413.673 | EG22: 36349.048 | EH22: 39843.367 | EI22: 36457.908 | EJ22: 41541.196 | EK22: 37898.746 | EL22: 34121.826 | EM22: 41390.669 | EN22: 38987.985 | EO22: =SUM(EC22:EN22) -> 428697.82 | EQ22: =SUM(EC22:EN22) -> 428697.82
A23: 十堰市 | B23: 规上+规下货运量 (万吨) | C23: 358.65571 | D23: =C23/V23-1 -> 0.30261474 | E23: 237.36543 | F23: =E23/X23-1 -> -0.085934809 | G23: 355.60202 | H23: =G23/Z23-1 -> 0.011231253 | I23: 366.87975 | J23: =I23/AB23-1 -> 0.022085943 | K23: 365.51249 | L23: =K23/AD23-1 -> 0.060110596 | M23: 341.79658 | N23: =M23/AF23-1 -> 0.11265158 | O23: 325.09413 | P23: =O23/AH23-1 -> 0.044843263 | S23: =C23+E23+G23+I23+K23+M23+O23+Q23 -> 2350.9061 | T23: =S23/SUM(V23,X23,Z23,AB23,AD23,AF23,AH23,AJ23)-1 -> -0.067168804 | V23: 275.33522 | W23: =V23/AX23-1 -> -0.069692806 | X23: 259.68108 | Y23: =X23/AZ23-1 -> 0.66759188 | Z23: 351.65252 | AA23: =Z23/BB23-1 -> 0.1144479 | AB23: 358.95196 | AC23: =AB23/BD23-1 -> 0.098463336 | AD23: 344.78713 | AE23: =AD23/BF23-1 -> 0.063894423 | AF23: 307.19102 | AG23: =AF23/BH23-1 -> 0.045452504 | AH23: 311.14153 | AI23: =AH23/BJ23-1 -> 0.055966006 | AJ23: 311.44339 | AK23: =AJ23/BL23-1 -> 0.014945514 | AL23: 329.085 | AM23: =AL23/BN23-1 -> 0.05638833 | AN23: 311.41603 | AO23: =AN23/BP23-1 -> 0.00044958894 | AP23: 351.15314 | AQ23: =AP23/BR23-1 -> 0.072026254 | AR23: 366.1713 | AS23: =AR23/BT23-1 -> 0.048108098 | AT23: =V23+X23+Z23+AB23+AD23+AF23+AH23+AJ23+AL23+AN23+AP23+AR23 -> 3878.0093 | AU23: =AT23/SUM(AX23,AZ23,BB23,BD23,BF23,BH23,BJ23,BL23,BN23,BP23,BR23,BT23)-1 -> 0.073306268 | AW23: =AX23+AZ23+BB23+BD23+BF23+BH23+BJ23+BL23+BN23+BP23+BR23 -> 3263.7792 | AX23: 295.96162 | AY23: =AX23/BY23-1 -> 0.70341131 | AZ23: 155.7222 | BA23: =AZ23/CA23-1 -> -0.37908444 | BB23: 315.53967 | BC23: =BB23/CC23-1 -> 0.016242719 | BD23: 326.77646 | BE23: =BD23/CE23-1 -> 0.099974334 | BF23: 324.08021 | BG23: =BF23/CG23-1 -> 0.056570472 | BH23: 293.83547 | BI23: =BH23/CI23-1 -> 0.0077679832 | BJ23: 294.65109 | BK23: =BJ23/CK23-1 -> 0.0064305852 | BL23: 306.85725 | BM23: =BL23/CM23-1 -> 0.032784758 | BN23: 311.51897 | BO23: =BN23/CO23-1 -> 0.039470179 | BP23: 311.27608 | BQ23: =BP23/CQ23-1 -> 0.035808276 | BR23: 327.5602 | BS23: =BR23/CS23-1 -> 0.01430515 | BT23: 349.36406 | BU23: =BT23/CU23-1 -> 0.12603521 | BV23: =AX23+AZ23+BB23+BD23+BF23+BH23+BJ23+BL23+BN23+BP23+BR23+BT23 -> 3613.1433 | BW23: =BV23/SUM(BY23,CA23,CC23,CE23,CG23,CI23,CK23,CM23,CO23,CQ23,CS23,CU23)-1 -> 0.046164839 | BY23: 173.74642 | BZ23: =BY23/DM23-1 -> -0.1164176 | CA23: 250.79449 | CB23: =CA23/DN23-1 -> 0.4541277 | CC23: 310.49637 | CD23: =CC23/DO23-1 -> 0.15589509 | CE23: 297.07644 | CF23: =CE23/DP23-1 -> 0.24625706 | CG23: 306.72844 | CH23: =CG23/DQ23-1 -> 0.21769627 | CI23: 291.57055 | CJ23: =CI23/DR23-1 -> 0.24170318 | CK23: 292.76841 | CL23: =CK23/DS23-1 -> 0.19654963 | CM23: 297.11636 | CN23: =CM23/DT23-1 -> 0.25628808 | CO23: 299.69014 | CP23: =CO23/DU23-1 -> 0.1088832 | CQ23: 300.51515 | CR23: =CQ23/DV23-1 -> 0.18231196 | CS23: 322.94049 | CT23: =CS23/DX23-1 -> 0.15969766 | CU23: 310.26033 | CV23: =CU23/DX23-1 -> 0.1141625 | CW23: =BY23+CA23+CC23+CE23+CG23+CI23+CK23+CM23+CO23+CQ23+CS23+CU23 -> 3453.7036 | CX23: =CW23/SUM(DM23:DX23)-1 -> 0.17993519 | CZ23: =CU23/CS23-1 -> -0.039264683 | DA23: =CS23/CQ23-1 -> 0.07462299 | DM23: 196.63861 | DN23: 172.47075 | DO23: 268.61985 | DP23: 238.37493 | DQ23: 251.8924 | DR23: 234.81502 | DS23: 244.6772 | DT23: 236.50337 | DU23: 270.26304 | DV23: 254.17585 | DW23: 280.12766 | DX23: 278.46955 | DY23: -0.095250974 | DZ23: =SUM(DM23:DX23) -> 2927.0282 | EA23: =IFERROR(DZ23/SUM(EC23:EN23)-1,"") -> -0.11168147 | EC23: 256.78565 | ED23: 137.96745 | EE23: 258.92894 | EF23: 305.16843 | EG23: 292.64203 | EH23: 306.46666 | EI23: 282.70762 | EJ23: 268.34729 | EK23: 289.72082 | EL23: 276.60906 | EM23: 311.89056 | EN23: 307.78652 | EO23: =SUM(EC23:EN23) -> 3295.021 | EQ23: =SUM(EC23:EN23) -> 3295.021
B24: 规上货运量 (万吨) | C24: 12.1174 | D24: =C24/V24-1 -> -0.029606554 | E24: 9.6443 | F24: =E24/X24-1 -> -0.23671173 | G24: 12.6232 | H24: =G24/Z24-1 -> -0.0011868779 | I24: 12.4025 | J24: =I24/AB24-1 -> -0.036908478 | K24: 12.4069 | L24: =K24/AD24-1 -> -0.039111207 | M24: 12.7324 | N24: =M24/AF24-1 -> -0.0035764316 | O24: 12.3819 | P24: =O24/AH24-1 -> -0.023755834 | S24: =C24+E24+G24+I24+K24+M24+O24+Q24 -> 84.3086 | T24: =S24/SUM(V24,X24,Z24,AB24,AD24,AF24,AH24,AJ24)-1 -> -0.17035508 | V24: 12.4871 | W24: =V24/AX24-1 -> -0.073677886 | X24: 12.6352 | Y24: =X24/AZ24-1 -> 0.049539821 | Z24: 12.6382 | AA24: =Z24/BB24-1 -> -0.022575231 | AB24: 12.8778 | AC24: =AB24/BD24-1 -> -0.13358406 | AD24: 12.9119 | AE24: =AD24/BF24-1 -> -0.13035367 | AF24: 12.7781 | AG24: =AF24/BH24-1 -> -0.13944655 | AH24: 12.6832 | AI24: =AH24/BJ24-1 -> -0.19412393 | AJ24: 12.6086 | AK24: =AJ24/BL24-1 -> -0.24157885 | AL24: 12.3113 | AM24: =AL24/BN24-1 -> -0.2966338 | AN24: 11.9473 | AO24: =AN24/BP24-1 -> -0.3216194 | AP24: 12.675 | AQ24: =AP24/BR24-1 -> -0.27134653 | AR24: 13.0982 | AS24: =AR24/BT24-1 -> -0.2933452 | AT24: =V24+X24+Z24+AB24+AD24+AF24+AH24+AJ24+AL24+AN24+AP24+AR24 -> 151.6519 | AU24: =AT24/SUM(AX24,AZ24,BB24,BD24,BF24,BH24,BJ24,BL24,BN24,BP24,BR24,BT24)-1 -> -0.18649191 | AW24: =AX24+AZ24+BB24+BD24+BF24+BH24+BJ24+BL24+BN24+BP24+BR24 -> 167.8817 | AX24: 13.4803 | AY24: =AX24/BY24-1 -> 0.24263011 | AZ24: 12.0388 | BA24: =AZ24/CA24-1 -> -0.12671193 | BB24: 12.9301 | BC24: =BB24/CC24-1 -> -0.18579786 | BD24: 14.8633 | BE24: =BD24/CE24-1 -> -0.16096236 | BF24: 14.8473 | BG24: =BF24/CG24-1 -> -0.11445578 | BH24: 14.8487 | BI24: =BH24/CI24-1 -> -0.089656737 | BJ24: 15.7384 | BK24: =BJ24/CK24-1 -> 0.23310768 | BL24: 16.6248 | BM24: =BL24/CM24-1 -> -0.022179874 | BN24: 17.5034 | BO24: =BN24/CO24-1 -> 0.084050216 | BP24: 17.6115 | BQ24: =BP24/CQ24-1 -> -0.070014891 | BR24: 17.3951 | BS24: =BR24/CS24-1 -> 0.0099455405 | BT24: 18.5355 | BU24: =BT24/CU24-1 -> 0.0014966663 | BV24: =AX24+AZ24+BB24+BD24+BF24+BH24+BJ24+BL24+BN24+BP24+BR24+BT24 -> 186.4172 | BW24: =BV24/SUM(BY24,CA24,CC24,CE24,CG24,CI24,CK24,CM24,CO24,CQ24,CS24,CU24)-1 -> -0.028505318 | BY24: 10.8482 | BZ24: =BY24/DM24-1 -> 0.29834598 | CA24: 13.7856 | CB24: =CA24/DN24-1 -> 0.92187369 | CC24: 15.8807 | CD24: =CC24/DO24-1 -> 0.97811465 | CE24: 17.7147 | CF24: =CE24/DP24-1 -> 1.10074 | CG24: 16.7663 | CH24: =CG24/DQ24-1 -> 0.95858838 | CI24: 16.3111 | CJ24: =CI24/DR24-1 -> 1.0026643 | CK24: 12.7632 | CL24: =CK24/DS24-1 -> 0.63183062 | CM24: 17.0019 | CN24: =CM24/DT24-1 -> 1.2125215 | CO24: 16.1463 | CP24: =CO24/DU24-1 -> 0.9835262 | CQ24: 18.9374 | CR24: =CQ24/DV24-1 -> 1.3352982 | CS24: 17.2238 | CT24: =CS24/DX24-1 -> 1.3939234 | CU24: 18.5078 | CV24: =CU24/DX24-1 -> 1.5723856 | CW24: =BY24+CA24+CC24+CE24+CG24+CI24+CK24+CM24+CO24+CQ24+CS24+CU24 -> 191.887 | CX24: =CW24/SUM(DM24:DX24)-1 -> 1.0254812 | CZ24: =CU24/CS24-1 -> 0.074548009 | DA24: =CS24/CQ24-1 -> -0.090487607 | DL24: 十堰市 | DM24: 8.3554 | DN24: 7.173 | DO24: 8.0282 | DP24: 8.4326 | DQ24: 8.5604 | DR24: 8.1447 | DS24: 7.8214 | DT24: 7.6844 | DU24: 8.1402 | DV24: 8.1092 | DW24: 7.0922 | DX24: 7.1948 | DY24: -0.64883372 | DZ24: =SUM(DM24:DX24) -> 94.7365 | EA24: =IFERROR(DZ24/SUM(EC24:EN24)-1,"") -> -0.48985265 | EC24: 7.7461 | ED24: 6.8842 | EE24: 15.74859 | EF24: 16.4857 | EG24: 17.6823 | EH24: 16.5942 | EI24: 16.5411 | EJ24: 16.6305 | EK24: 16.3572 | EL24: 16.8031 | EM24: 17.7429 | EN24: 20.4883 | EO24: =SUM(EC24:EN24) -> 185.70419 | EQ24: =SUM(EC24:EN24) -> 185.70419
B25: 规下货运量 (万吨) | C25: 346.53831 | D25: =C25/V25-1 -> 0.31839754 | E25: 227.72113 | F25: =E25/X25-1 -> -0.0782233 | G25: 342.97882 | H25: =G25/Z25-1 -> 0.011694191 | I25: 354.47725 | J25: =I25/AB25-1 -> 0.02428119 | K25: 353.10559 | L25: =K25/AD25-1 -> 0.063970908 | M25: 329.06418 | N25: =M25/AF25-1 -> 0.1176961 | O25: 312.71223 | P25: =O25/AH25-1 -> 0.04775843 | S25: =C25+E25+G25+I25+K25+M25+O25+Q25 -> 2266.5975 | T25: =S25/SUM(V25,X25,Z25,AB25,AD25,AF25,AH25,AJ25)-1 -> -0.062833256 | V25: 262.84812 | W25: =V25/AX25-1 -> -0.069502634 | X25: 247.04588 | Y25: =X25/AZ25-1 -> 0.71937661 | Z25: 339.01432 | AA25: =Z25/BB25-1 -> 0.12030271 | AB25: 346.07416 | AC25: =AB25/BD25-1 -> 0.10952087 | AD25: 331.87523 | AE25: =AD25/BF25-1 -> 0.07322092 | AF25: 294.41292 | AG25: =AF25/BH25-1 -> 0.05529351 | AH25: 298.45833 | AI25: =AH25/BJ25-1 -> 0.070078004 | AJ25: 298.83479 | AK25: =AJ25/BL25-1 -> 0.029639481 | AL25: 316.7737 | AM25: =AL25/BN25-1 -> 0.077404522 | AN25: 299.46873 | AO25: =AN25/BP25-1 -> 0.019764543 | AP25: 338.47814 | AQ25: =AP25/BR25-1 -> 0.091283752 | AR25: 353.0731 | AS25: =AR25/BT25-1 -> 0.067238876 | AT25: =V25+X25+Z25+AB25+AD25+AF25+AH25+AJ25+AL25+AN25+AP25+AR25 -> 3726.3574 | AU25: =AT25/SUM(AX25,AZ25,BB25,BD25,BF25,BH25,BJ25,BL25,BN25,BP25,BR25,BT25)-1 -> 0.087439539 | AW25: =AX25+AZ25+BB25+BD25+BF25+BH25+BJ25+BL25+BN25+BP25+BR25 -> 3095.8975 | AX25: 282.48132 | AY25: =AX25/BY25-1 -> 0.73409701 | AZ25: 143.6834 | BA25: =AZ25/CA25-1 -> -0.39376367 | BB25: 302.60957 | BC25: =BB25/CC25-1 -> 0.027133334 | BD25: 311.91316 | BE25: =BD25/CE25-1 -> 0.11652068 | BF25: 309.23291 | BG25: =BF25/CG25-1 -> 0.066459617 | BH25: 278.98677 | BI25: =BH25/CI25-1 -> 0.013541098 | BJ25: 278.91269 | BK25: =BJ25/CK25-1 -> -0.0039018122 | BL25: 290.23245 | BM25: =BL25/CM25-1 -> 0.036120906 | BN25: 294.01557 | BO25: =BN25/CO25-1 -> 0.036931586 | BP25: 293.66458 | BQ25: =BP25/CQ25-1 -> 0.042925372 | BR25: 310.1651 | BS25: =BR25/CS25-1 -> 0.014550766 | BT25: 330.82856 | BU25: =BT25/CU25-1 -> 0.13393551 | BV25: =AX25+AZ25+BB25+BD25+BF25+BH25+BJ25+BL25+BN25+BP25+BR25+BT25 -> 3426.7261 | BW25: =BV25/SUM(BY25,CA25,CC25,CE25,CG25,CI25,CK25,CM25,CO25,CQ25,CS25,CU25)-1 -> 0.050557554 | BY25: 162.89822 | BZ25: =BY25/DM25-1 -> -0.13482346 | CA25: 237.00889 | CB25: =CA25/DN25-1 -> 0.43383014 | CC25: 294.61567 | CD25: =CC25/DO25-1 -> 0.13056449 | CE25: 279.36174 | CF25: =CE25/DP25-1 -> 0.21492089 | CG25: 289.96214 | CH25: =CG25/DQ25-1 -> 0.19163174 | CI25: 275.25945 | CJ25: =CI25/DR25-1 -> 0.21436038 | CK25: 280.00521 | CL25: =CK25/DS25-1 -> 0.18217588 | CM25: 280.11446 | CN25: =CM25/DT25-1 -> 0.22417501 | CO25: 283.54384 | CP25: =CO25/DU25-1 -> 0.081721245 | CQ25: 281.57775 | CR25: =CQ25/DV25-1 -> 0.14431495 | CS25: 305.71669 | CT25: =CS25/DX25-1 -> 0.12696329 | CU25: 291.75253 | CV25: =CU25/DX25-1 -> 0.075487228 | CW25: =BY25+CA25+CC25+CE25+CG25+CI25+CK25+CM25+CO25+CQ25+CS25+CU25 -> 3261.8166 | CX25: =CW25/SUM(DM25:DX25)-1 -> 0.15165276 | CZ25: =CU25/CS25-1 -> -0.045676787 | DA25: =CS25/CQ25-1 -> 0.085727437 | DM25: 188.28321 | DN25: 165.29775 | DO25: 260.59165 | DP25: 229.94233 | DQ25: 243.332 | DR25: 226.67032 | DS25: 236.8558 | DT25: 228.81897 | DU25: 262.12284 | DV25: 246.06665 | DW25: 273.03546 | DX25: 271.27475 | DY25: -0.055772938 | DZ25: =SUM(DM25:DX25) -> 2832.2917 | EA25: =IFERROR(DZ25/SUM(EC25:EN25)-1,"") -> -0.089095169 | EC25: 249.03955 | ED25: 131.08325 | EE25: 243.18035 | EF25: 288.68273 | EG25: 274.95973 | EH25: 289.87246 | EI25: 266.16652 | EJ25: 251.71679 | EK25: 273.36362 | EL25: 259.80596 | EM25: 294.14766 | EN25: 287.29822 | EO25: =SUM(EC25:EN25) -> 3109.3168 | EQ25: =SUM(EC25:EN25) -> 3109.3168
B26: 规上+规下周转量 (万吨公里) | C26: =C27+C28 -> 48698.529 | D26: =C26/V26-1 -> 0.21243644 | E26: =E27+E28 -> 34422.378 | F26: =E26/X26-1 -> -0.11398392 | G26: =G27+G28 -> 49380.835 | H26: =G26/Z26-1 -> -0.017121959 | I26: =I27+I28 -> 49924.576 | J26: =I26/AB26-1 -> -0.0022105607 | K26: =K27+K28 -> 49674.885 | L26: =K26/AD26-1 -> -0.012611426 | M26: =M27+M28 -> 45341.535 | N26: =M26/AF26-1 -> 0.021824883 | O26: =O27+O28 -> 43908.837 | P26: =O26/AH26-1 -> 0.0052257954 | S26: =C26+E26+G26+I26+K26+M26+O26+Q26 -> 321351.57 | T26: =S26/SUM(V26,X26,Z26,AB26,AD26,AF26,AH26,AJ26)-1 -> -0.11203381 | V26: =V27+V28 -> 40165.841 | W26: =V26/AX26-1 -> -0.055038037 | X26: =X27+X28 -> 38850.738 | Y26: =X26/AZ26-1 -> 0.54387746 | Z26: =Z27+Z28 -> 50241.06 | AA26: =Z26/BB26-1 -> 0.093461829 | AB26: =AB27+AB28 -> 50035.182 | AC26: =AB26/BD26-1 -> 0.10648456 | AD26: =AD27+AD28 -> 50309.358 | AE26: =AD26/BF26-1 -> 0.1044265 | AF26: =AF27+AF28 -> 44373.097 | AG26: =AF26/BH26-1 -> 0.088652987 | AH26: =AH27+AH28 -> 43680.571 | AI26: =AH26/BJ26-1 -> 0.05847209 | AJ26: =AJ27+AJ28 -> 44240.336 | AK26: =AJ26/BL26-1 -> 0.027176283 | AL26: =AL27+AL28 -> 46706.027 | AM26: =AL26/BN26-1 -> 0.054062004 | AN26: =AN27+AN28 -> 43773.135 | AO26: =AN26/BP26-1 -> -0.016869194 | AP26: =AP27+AP28 -> 46747.958 | AQ26: =AP26/BR26-1 -> 0.0077108666 | AR26: =AR27+AR28 -> 48759.501 | AS26: =AR26/BT26-1 -> -0.032430692 | AT26: =V26+X26+Z26+AB26+AD26+AF26+AH26+AJ26+AL26+AN26+AP26+AR26 -> 547882.8 | AU26: =AT26/SUM(AX26,AZ26,BB26,BD26,BF26,BH26,BJ26,BL26,BN26,BP26,BR26,BT26)-1 -> 0.063633853 | AW26: =AX26+AZ26+BB26+BD26+BF26+BH26+BJ26+BL26+BN26+BP26+BR26 -> 464710.9 | AX26: =AX27+AX28 -> 42505.246 | AY26: =AX26/BY26-1 -> 0.43157202 | AZ26: =AZ27+AZ28 -> 25164.392 | BA26: =AZ26/CA26-1 -> -0.32997198 | BB26: =BB27+BB28 -> 45946.789 | BC26: =BB26/CC26-1 -> 0.030083688 | BD26: =BD27+BD28 -> 45219.955 | BE26: =BD26/CE26-1 -> 0.04890561 | BF26: =BF27+BF28 -> 45552.472 | BG26: =BF26/CG26-1 -> 0.041257566 | BH26: =BH27+BH28 -> 40759.634 | BI26: =BH26/CI26-1 -> 0.002053559 | BJ26: =BJ27+BJ28 -> 41267.57 | BK26: =BJ26/CK26-1 -> 0.0031544986 | BL26: =BL27+BL28 -> 43069.857 | BM26: =BL26/CM26-1 -> 0.020441959 | BN26: =BN27+BN28 -> 44310.512 | BO26: =BN26/CO26-1 -> 0.021322107 | BP26: =BP27+BP28 -> 44524.222 | BQ26: =BP26/CQ26-1 -> 0.035376764 | BR26: =BR27+BR28 -> 46390.249 | BS26: =BR26/CS26-1 -> -0.00041723771 | BT26: =BT27+BT28 -> 50393.807 | BU26: =BT26/CU26-1 -> 0.099173801 | BV26: =AX26+AZ26+BB26+BD26+BF26+BH26+BJ26+BL26+BN26+BP26+BR26+BT26 -> 515104.71 | BW26: =BV26/SUM(BY26,CA26,CC26,CE26,CG26,CI26,CK26,CM26,CO26,CQ26,CS26,CU26)-1 -> 0.027376974 | BY26: =BY27+BY28 -> 29691.308 | BZ26: =BY26/DM26-1 -> -0.079406874 | CA26: =CA27+CA28 -> 37557.223 | CB26: =CA26/DN26-1 -> 0.44243751 | CC26: =SUM(CC27:CC28) -> 44604.909 | CD26: =CC26/DO26-1 -> 0.16298778 | CE26: 43111.558 | CF26: =CE26/DP26-1 -> 0.1921662 | CG26: 43747.555 | CH26: =CG26/DQ26-1 -> 0.2249164 | CI26: =CI27+CI28 -> 40676.103 | CJ26: =CI26/DR26-1 -> 0.23392321 | CK26: =CK27+CK28 -> 41137.801 | CL26: =CK26/DS26-1 -> 0.17880026 | CM26: 42207.062 | CN26: =CM26/DT26-1 -> 0.23700412 | CO26: =SUM(CO27:CO28) -> 43385.443 | CP26: =CO26/DU26-1 -> 0.099648536 | CQ26: =SUM(CQ27:CQ28) -> 43002.918 | CR26: =CQ26/DV26-1 -> 0.099003349 | CS26: =CS27+CS28 -> 46409.613 | CT26: =CS26/DX26-1 -> 0.11235709 | CU26: =CU27+CU28 -> 45846.987 | CV26: =CU26/DX26-1 -> 0.098871943 | CW26: =BY26+CA26+CC26+CE26+CG26+CI26+CK26+CM26+CO26+CQ26+CS26+CU26 -> 501378.48 | CX26: =CW26/SUM(DM26:DX26)-1 -> 0.15551657 | CZ26: =CU26/CS26-1 -> -0.012123037 | DA26: =CS26/CQ26-1 -> 0.079220079 | DM26: 32252.368 | DN26: 26037.331 | DO26: 38353.721 | DP26: 36162.372 | DQ26: 35714.727 | DR26: 32964.857 | DS26: 34898.025 | DT26: 34120.389 | DU26: 39453.918 | DV26: 39129.015 | DW26: 43091.274 | DX26: 41721.865 | DY26: 0.026491689 | DZ26: =SUM(DM26:DX26) -> 433899.86 | EA26: =IFERROR(DZ26/SUM(EC26:EN26)-1,"") -> -0.046314655 | EC26: =EC27+EC28 -> 40261.613 | ED26: =ED27+ED28 -> 24472.864 | EE26: =EE27+EE28 -> 37230.513 | EF26: =EF27+EF28 -> 41803.433 | EG26: =EG27+EG28 -> 38779.648 | EH26: =EH27+EH28 -> 39027.903 | EI26: =EI27+EI28 -> 36547.276 | EJ26: =EJ27+EJ28 -> 37668.852 | ... EN26: =EN27+EN28 -> 40645.108 | EO26: =SUM(EC26:EN26) -> 454971.72
B27: 规上货物周转量 (万吨公里) | C27: 3888.2247 | D27: =C27/V27-1 -> -0.087973757 | E27: 3250.6985 | F27: =E27/X27-1 -> -0.21283608 | G27: 3958.8157 | H27: =G27/Z27-1 -> -0.06574255 | I27: 4024.9189 | J27: =I27/AB27-1 -> -0.00052609393 | K27: 4033.1107 | L27: =K27/AD27-1 -> -0.069919495 | M27: 3953.8801 | N27: =M27/AF27-1 -> -0.014454139 | O27: 3944.1367 | P27: =O27/AH27-1 -> -0.053137571 | S27: =C27+E27+G27+I27+K27+M27+O27+Q27 -> 27053.785 | T27: =S27/SUM(V27,X27,Z27,AB27,AD27,AF27,AH27,AJ27)-1 -> -0.18698538 | V27: 4263.2816 | W27: =V27/AX27-1 -> -0.072613262 | X27: 4129.6335 | Y27: =X27/AZ27-1 -> 0.043513181 | Z27: 4237.3927 | AA27: =Z27/BB27-1 -> -0.12976924 | AB27: 4027.0375 | AC27: =AB27/BD27-1 -> -0.19184902 | AD27: 4336.3028 | AE27: =AD27/BF27-1 -> -0.085684022 | AF27: 4011.8682 | AG27: =AF27/BH27-1 -> -0.15750829 | AH27: 4165.4802 | AI27: =AH27/BJ27-1 -> -0.073955771 | AJ27: 4104.8936 | AK27: =AJ27/BL27-1 -> -0.1401171 | AL27: 4157.138 | AM27: =AL27/BN27-1 -> -0.16812721 | AN27: 4213.3321 | AO27: =AN27/BP27-1 -> -0.16832355 | AP27: 4146.2456 | AQ27: =AP27/BR27-1 -> -0.20219352 | AR27: 4367.2385 | AS27: =AR27/BT27-1 -> -0.24776014 | AT27: =V27+X27+Z27+AB27+AD27+AF27+AH27+AJ27+AL27+AN27+AP27+AR27 -> 50159.844 | AU27: =AT27/SUM(AX27,AZ27,BB27,BD27,BF27,BH27,BJ27,BL27,BN27,BP27,BR27,BT27)-1 -> -0.1388784 | AW27: =AX27+AZ27+BB27+BD27+BF27+BH27+BJ27+BL27+BN27+BP27+BR27 -> 52443.786 | AX27: 4597.0914 | AY27: =AX27/BY27-1 -> 0.4533144 | AZ27: 3957.433 | BA27: =AZ27/CA27-1 -> 0.034862202 | BB27: 4869.2748 | BC27: =BB27/CC27-1 -> 0.17334287 | BD27: 4983.0262 | BE27: =BD27/CE27-1 -> 0.12797644 | BF27: 4742.6742 | BG27: =BF27/CG27-1 -> 0.11983708 | BH27: 4761.9082 | BI27: =BH27/CI27-1 -> 0.099184425 | BJ27: 4498.1439 | BK27: =BJ27/CK27-1 -> 0.33024578 | BL27: 4773.7821 | BM27: =BL27/CM27-1 -> 0.0813306 | BN27: 4997.3242 | BO27: =BN27/CO27-1 -> 0.086635477 | BP27: 5066.0712 | BQ27: =BP27/CQ27-1 -> -0.12490414 | BR27: 5197.0568 | BS27: =BR27/CS27-1 -> 0.0082875598 | BT27: 5805.6462 | BU27: =BT27/CU27-1 -> 0.05105976 | BV27: =AX27+AZ27+BB27+BD27+BF27+BH27+BJ27+BL27+BN27+BP27+BR27+BT27 -> 58249.432 | BW27: =BV27/SUM(BY27,CA27,CC27,CE27,CG27,CI27,CK27,CM27,CO27,CQ27,CS27,CU27)-1 -> 0.09936902 | BY27: 3163.1775 | BZ27: =BY27/DM27-1 -> 0.87583983 | CA27: 3824.1159 | CB27: =CA27/DN27-1 -> 1.5141758 | CC27: 4149.9164 | CD27: =CC27/DO27-1 -> 1.4154423 | CE27: 4417.6687 | CF27: =CE27/DP27-1 -> 1.402886 | CG27: 4235.1466 | CH27: =CG27/DQ27-1 -> 1.1996223 | CI27: 4332.2195 | CJ27: =CI27/DR27-1 -> 1.2689946 | CK27: 3381.4382 | CL27: =CK27/DS27-1 -> 0.82566111 | CM27: 4414.7295 | CN27: =CM27/DT27-1 -> 1.4398547 | CO27: 4598.8966 | CP27: =CO27/DU27-1 -> 1.3080643 | CQ27: 5789.1614 | CR27: =CQ27/DV27-1 -> 1.0616757 | CS27: 5154.3399 | CT27: =CS27/DX27-1 -> 1.4179312 | CU27: 5523.6119 | CV27: =CU27/DX27-1 -> 1.5911588 | CW27: =BY27+CA27+CC27+CE27+CG27+CI27+CK27+CM27+CO27+CQ27+CS27+CU27 -> 52984.422 | CX27: =CW27/SUM(DM27:DX27)-1 -> 1.2757188 | CZ27: =CU27/CS27-1 -> 0.071642928 | DA27: =CS27/CQ27-1 -> -0.1096569 | DM27: 1686.2727 | DN27: 1521.0217 | DO27: 1718.0772 | DP27: 1838.4845 | DQ27: 1925.3972 | DR27: 1909.3124 | DS27: 1852.1719 | DT27: 1809.4231 | DU27: 1992.534 | DV27: 2807.9884 | DW27: 2090.102 | DX27: 2131.7149 | DY27: 0.23402172 | DZ27: =SUM(DM27:DX27) -> 23282.5 | EA27: =IFERROR(DZ27/SUM(EC27:EN27)-1,"") -> 0.091267403 | EC27: 1486.3346 | ED27: 1524.0044 | EE27: 1860.7996 | EF27: 1868.9434 | EG27: 2211.0663 | EH27: 1870.4187 | EI27: 1736.8293 | EJ27: 1735.9292 | EK27: 1769.9264 | EL27: 1819.6756 | EM27: 1723.9032 | EN27: 1727.4533 | EO27: =SUM(EC27:EN27) -> 21335.284 | EQ27: =SUM(EC27:EN27) -> 21335.284
B28: 规下货物周转量 (万吨公里) | C28: 44810.304 | D28: =C28/V28-1 -> 0.24810892 | E28: 31171.68 | F28: =E28/X28-1 -> -0.10222672 | G28: 45422.019 | H28: =G28/Z28-1 -> -0.012643522 | I28: 45899.657 | J28: =I28/AB28-1 -> -0.0023580001 | K28: 45641.774 | L28: =K28/AD28-1 -> -0.0072059742 | M28: 41387.654 | N28: =M28/AF28-1 -> 0.025430984 | O28: 39964.7 | P28: =O28/AH28-1 -> 0.011378165 | S28: =C28+E28+G28+I28+K28+M28+O28+Q28 -> 294297.79 | T28: =S28/SUM(V28,X28,Z28,AB28,AD28,AF28,AH28,AJ28)-1 -> -0.10444426 | V28: 35902.559 | W28: =V28/AX28-1 -> -0.052906703 | X28: 34721.104 | Y28: =X28/AZ28-1 -> 0.6372505 | Z28: 46003.667 | AA28: =Z28/BB28-1 -> 0.11992335 | AB28: 46008.144 | AC28: =AB28/BD28-1 -> 0.14343082 | AD28: 45973.055 | AE28: =AD28/BF28-1 -> 0.12652003 | AF28: 40361.229 | AG28: =AF28/BH28-1 -> 0.12121608 | AH28: 39515.091 | AI28: =AH28/BJ28-1 -> 0.074672494 | AJ28: 40135.442 | AK28: =AJ28/BL28-1 -> 0.048030174 | AL28: 42548.889 | AM28: =AL28/BN28-1 -> 0.082305747 | AN28: 39559.802 | AO28: =AN28/BP28-1 -> 0.0025761811 | AP28: 42601.712 | AQ28: =AP28/BR28-1 -> 0.034193034 | AR28: 44392.263 | AS28: =AR28/BT28-1 -> -0.0043935055 | AT28: =V28+X28+Z28+AB28+AD28+AF28+AH28+AJ28+AL28+AN28+AP28+AR28 -> 497722.96 | AU28: =AT28/SUM(AX28,AZ28,BB28,BD28,BF28,BH28,BJ28,BL28,BN28,BP28,BR28,BT28)-1 -> 0.089454336 | AW28: =AX28+AZ28+BB28+BD28+BF28+BH28+BJ28+BL28+BN28+BP28+BR28 -> 412267.11 | AX28: 37908.154 | AY28: =AX28/BY28-1 -> 0.42897949 | AZ28: 21206.959 | BA28: =AZ28/CA28-1 -> -0.37133099 | BB28: 41077.514 | BC28: =BB28/CC28-1 -> 0.015388008 | BD28: 40236.929 | BE28: =BD28/CE28-1 -> 0.039878119 | BF28: 40809.798 | BG28: =BF28/CG28-1 -> 0.032835002 | BH28: 35997.725 | BI28: =BH28/CI28-1 -> -0.0095245166 | BJ28: 36769.426 | BK28: =BJ28/CK28-1 -> -0.026139609 | BL28: 38296.075 | BM28: =BL28/CM28-1 -> 0.013329223 | BN28: 39313.188 | BO28: =BN28/CO28-1 -> 0.013577942 | BP28: 39458.151 | BQ28: =BP28/CQ28-1 -> 0.060310877 | BR28: 41193.192 | BS28: =BR28/CS28-1 -> -0.0015047953 | BT28: 44588.161 | BU28: =BT28/CU28-1 -> 0.1057646 | BV28: =AX28+AZ28+BB28+BD28+BF28+BH28+BJ28+BL28+BN28+BP28+BR28+BT28 -> 456855.27 | BW28: =BV28/SUM(BY28,CA28,CC28,CE28,CG28,CI28,CK28,CM28,CO28,CQ28,CS28,CU28)-1 -> 0.018870044 | BY28: 26528.131 | BZ28: =BY28/DM28-1 -> -0.132106 | CA28: 33733.107 | CB28: =CA28/DN28-1 -> 0.37594557 | CC28: 40454.992 | CD28: =CC28/DO28-1 -> 0.10425225 | CE28: 38693.889 | CF28: =CE28/DP28-1 -> 0.12731663 | CG28: 39512.408 | CH28: =CG28/DQ28-1 -> 0.16937532 | CI28: 36343.883 | CJ28: =CI28/DR28-1 -> 0.17028644 | CK28: 37756.363 | CL28: =CK28/DS28-1 -> 0.14254465 | CM28: 37792.333 | CN28: =CM28/DT28-1 -> 0.16964416 | CO28: 38786.546 | CP28: =CO28/DU28-1 -> 0.035374095 | CQ28: 37213.757 | CR28: =CQ28/DV28-1 -> 0.02457889 | CS28: 41255.273 | CT28: =CS28/DX28-1 -> 0.042059006 | CU28: 40323.375 | CV28: =CU28/DX28-1 -> 0.018520387 | CW28: =BY28+CA28+CC28+CE28+CG28+CI28+CK28+CM28+CO28+CQ28+CS28+CU28 -> 448394.06 | CX28: =CW28/SUM(DM28:DX28)-1 -> 0.091999751 | CZ28: =CU28/CS28-1 -> -0.022588566 | DA28: =CS28/CQ28-1 -> 0.10860274 | DM28: 30566.095 | DN28: 24516.31 | DO28: 36635.644 | DP28: 34323.888 | DQ28: 33789.33 | DR28: 31055.545 | DS28: 33045.853 | DT28: 32310.966 | DU28: 37461.384 | DV28: 36321.026 | DW28: 41001.172 | DX28: 39590.151 | DY28: 0.017279971 | DZ28: =SUM(DM28:DX28) -> 410617.36 | EA28: =IFERROR(DZ28/SUM(EC28:EN28)-1,"") -> -0.05308381 | EC28: 38775.278 | ED28: 22948.86 | EE28: 35369.713 | EF28: 39934.489 | EG28: 36568.582 | EH28: 37157.485 | EI28: 34810.447 | EJ28: 35932.923 | EK28: 38302.155 | EL28: 34726.234 | EM28: 40192.617 | EN28: 38917.655 | EO28: =SUM(EC28:EN28) -> 433636.44 | EQ28: =SUM(EC28:EN28) -> 433636.44
A29: 宜昌市 | B29: 规上+规下货运量 (万吨) | C29: 1215.4772 | D29: =C29/V29-1 -> 0.19722391 | E29: 839.28067 | F29: =E29/X29-1 -> -0.14902789 | G29: 1325.1102 | H29: =G29/Z29-1 -> -0.030452188 | I29: 1386.6372 | J29: =I29/AB29-1 -> -0.02052092 | K29: 1388.5812 | L29: =K29/AD29-1 -> -0.026419722 | M29: 1320.5191 | N29: =M29/AF29-1 -> 0.020984182 | O29: 1291.6655 | P29: =O29/AH29-1 -> 0.014360773 | S29: =C29+E29+G29+I29+K29+M29+O29+Q29 -> 8767.2711 | T29: =S29/SUM(V29,X29,Z29,AB29,AD29,AF29,AH29,AJ29)-1 -> -0.1345986 | V29: 1015.2464 | W29: =V29/AX29-1 -> -0.044179693 | X29: 986.26108 | Y29: =X29/AZ29-1 -> 0.65405905 | Z29: 1366.7302 | AA29: =Z29/BB29-1 -> 0.12828186 | AB29: 1415.6884 | AC29: =AB29/BD29-1 -> 0.099810873 | AD29: 1426.2627 | AE29: =AD29/BF29-1 -> 0.096918263 | AF29: 1293.3786 | AG29: =AF29/BH29-1 -> 0.076967755 | AH29: 1273.3788 | AI29: =AH29/BJ29-1 -> 0.043280498 | AJ29: 1353.9263 | AK29: =AJ29/BL29-1 -> 0.024295508 | AL29: 1448.5599 | AM29: =AL29/BN29-1 -> 0.071915241 | AN29: 1385.087 | AO29: =AN29/BP29-1 -> 0.017795304 | AP29: 1553.0852 | AQ29: =AP29/BR29-1 -> 0.073880622 | AR29: 1476.81 | AS29: =AR29/BT29-1 -> 0.034193318 | AT29: =V29+X29+Z29+AB29+AD29+AF29+AH29+AJ29+AL29+AN29+AP29+AR29 -> 15994.414 | AU29: =AT29/SUM(AX29,AZ29,BB29,BD29,BF29,BH29,BJ29,BL29,BN29,BP29,BR29,BT29)-1 -> 0.081653261 | AW29: =AX29+AZ29+BB29+BD29+BF29+BH29+BJ29+BL29+BN29+BP29+BR29 -> 13359.025 | AX29: 1062.1728 | AY29: =AX29/BY29-1 -> 0.7751462 | AZ29: 596.26715 | BA29: =AZ29/CA29-1 -> -0.28836354 | BB29: 1211.3375 | BC29: =BB29/CC29-1 -> 0.1296175 | BD29: 1287.2108 | BE29: =BD29/CE29-1 -> 0.18581756 | BF29: 1300.2452 | BG29: =BF29/CG29-1 -> 0.12383318 | BH29: 1200.9446 | BI29: =BH29/CI29-1 -> 0.056917431 | BJ29: 1220.5527 | BK29: =BJ29/CK29-1 -> 0.071756447 | BL29: 1321.8122 | BM29: =BL29/CM29-1 -> 0.039184759 | BN29: 1351.3754 | BO29: =BN29/CO29-1 -> 0.086371286 | BP29: 1360.8699 | BQ29: =BP29/CQ29-1 -> 0.081802483 | BR29: 1446.2363 | BS29: =BR29/CS29-1 -> 0.040290349 | BT29: 1427.9826 | BU29: =BT29/CU29-1 -> 0.10673875 | BV29: =AX29+AZ29+BB29+BD29+BF29+BH29+BJ29+BL29+BN29+BP29+BR29+BT29 -> 14787.007 | BW29: =BV29/SUM(BY29,CA29,CC29,CE29,CG29,CI29,CK29,CM29,CO29,CQ29,CS29,CU29)-1 -> 0.096916499 | BY29: 598.35794 | BZ29: =BY29/DM29-1 -> -0.10572984 | CA29: 837.88168 | CB29: =CA29/DN29-1 -> 0.60153931 | CC29: 1072.3431 | CD29: =CC29/DO29-1 -> 0.27567022 | CE29: 1085.5049 | CF29: =CE29/DP29-1 -> 0.36121901 | CG29: 1156.9735 | CH29: =CG29/DQ29-1 -> 0.32022645 | CI29: 1136.271 | CJ29: =CI29/DR29-1 -> 0.38919547 | CK29: 1138.834 | CL29: =CK29/DS29-1 -> 0.33278193 | CM29: 1271.9703 | CN29: =CM29/DT29-1 -> 0.38229914 | CO29: 1243.9351 | CP29: =CO29/DU29-1 -> 0.24629657 | CQ29: 1257.9652 | CR29: =CQ29/DV29-1 -> 0.34553673 | CS29: 1390.2237 | CT29: =CS29/DX29-1 -> 0.3540172 | CU29: 1290.2617 | CV29: =CU29/DX29-1 -> 0.2566585 | CW29: =BY29+CA29+CC29+CE29+CG29+CI29+CK29+CM29+CO29+CQ29+CS29+CU29 -> 13480.522 | CX29: =CW29/SUM(DM29:DX29)-1 -> 0.30830148 | CZ29: =CU29/CS29-1 -> -0.071903592 | DA29: =CS29/CQ29-1 -> 0.10513685 | DM29: 669.10199 | DN29: 523.17272 | DO29: 840.61153 | DP29: 797.4506 | DQ29: 876.3447 | DR29: 817.93457 | DS29: 854.47886 | DT29: 920.18455 | DU29: 998.10524 | DV29: 934.91705 | DW29: 1044.7928 | DX29: 1026.7401 | DY29: 0.029963029 | DZ29: =SUM(DM29:DX29) -> 10303.835 | EA29: =IFERROR(DZ29/SUM(EC29:EN29)-1,"") -> -0.050523011 | EC29: 905.36128 | ED29: 413.8287 | EE29: 724.5113 | EF29: 905.07902 | EG29: 944.52487 | EH29: 1000.2098 | EI29: 925.33342 | EJ29: 980.75949 | EK29: 1019.9206 | EL29: 946.32254 | EM29: 1089.3944 | EN29: 996.87082 | EO29: =SUM(EC29:EN29) -> 10852.116 | EQ29: =SUM(EC29:EN29) -> 10852.116
B30: 规上货运量 (万吨) | C30: 745.1372 | D30: =C30/V30-1 -> 0.30465146 | E30: 602.0208 | F30: =E30/X30-1 -> -0.015996371 | G30: 905.9963 | H30: =G30/Z30-1 -> 0.11962833 | I30: 795.8832 | J30: =I30/AB30-1 -> -0.020484358 | K30: 687.2748 | L30: =K30/AD30-1 -> -0.15923826 | M30: 730.8846 | N30: =M30/AF30-1 -> -0.06366735 | O30: 696.23 | P30: =O30/AH30-1 -> 0.096257219 | S30: =C30+E30+G30+I30+K30+M30+O30+Q30 -> 5163.4269 | T30: =S30/SUM(V30,X30,Z30,AB30,AD30,AF30,AH30,AJ30)-1 -> -0.10358605 | V30: 571.1389 | W30: =V30/AX30-1 -> 0.23087256 | X30: 611.8075 | Y30: =X30/AZ30-1 -> 0.87969168 | Z30: 809.1938 | AA30: =Z30/BB30-1 -> 0.25141706 | AB30: 812.5273 | AC30: =AB30/BD30-1 -> 0.10573748 | AD30: 817.443 | AE30: =AD30/BF30-1 -> 0.25694849 | AF30: 780.5822 | AG30: =AF30/BH30-1 -> 0.15457913 | AH30: 635.0973 | AI30: =AH30/BJ30-1 -> 0.0044915244 | AJ30: 722.3021 | AK30: =AJ30/BL30-1 -> 0.10053108 | AL30: 807.5782 | AM30: =AL30/BN30-1 -> 0.12310953 | AN30: 818.5038 | AO30: =AN30/BP30-1 -> 0.15798737 | AP30: 833.4438 | AQ30: =AP30/BR30-1 -> 0.24698881 | AR30: 763.6925 | AS30: =AR30/BT30-1 -> 0.13675267 | AT30: =V30+X30+Z30+AB30+AD30+AF30+AH30+AJ30+AL30+AN30+AP30+AR30 -> 8983.3104 | AU30: =AT30/SUM(AX30,AZ30,BB30,BD30,BF30,BH30,BJ30,BL30,BN30,BP30,BR30,BT30)-1 -> 0.18952557 | AW30: =AX30+AZ30+BB30+BD30+BF30+BH30+BJ30+BL30+BN30+BP30+BR30 -> 6880.1918 | AX30: 464.0114 | AY30: =AX30/BY30-1 -> 2.4820685 | AZ30: 325.4829 | BA30: =AZ30/CA30-1 -> 0.30591516 | BB30: 646.622 | BC30: =BB30/CC30-1 -> 0.89439336 | BD30: 734.8284 | BE30: =BD30/CE30-1 -> 0.89172726 | BF30: 650.3393 | BG30: =BF30/CG30-1 -> 0.74059246 | BH30: 676.0751 | BI30: =BH30/CI30-1 -> 0.73200484 | BJ30: 632.2575 | BK30: =BJ30/CK30-1 -> 0.94599988 | BL30: 656.3214 | BM30: =BL30/CM30-1 -> 0.77566432 | BN30: 719.0556 | BO30: =BN30/CO30-1 -> 0.98433463 | BP30: 706.8331 | BQ30: =BP30/CQ30-1 -> 0.88154213 | BR30: 668.3651 | BS30: =BR30/CS30-1 -> 0.62303879 | BT30: 671.8194 | BU30: =BT30/CU30-1 -> 0.96506566 | BV30: =AX30+AZ30+BB30+BD30+BF30+BH30+BJ30+BL30+BN30+BP30+BR30+BT30 -> 7552.0112 | BW30: =BV30/SUM(BY30,CA30,CC30,CE30,CG30,CI30,CK30,CM30,CO30,CQ30,CS30,CU30)-1 -> 0.85896562 | BY30: 133.2574 | BZ30: =BY30/DM30-1 -> 2.3762035 | CA30: 249.2374 | CB30: =CA30/DN30-1 -> 4.6125575 | CC30: 341.3346 | CD30: =CC30/DO30-1 -> 3.8892279 | CE30: 388.4431 | CF30: =CE30/DP30-1 -> 4.7579626 | CG30: 373.631 | CH30: =CG30/DQ30-1 -> 3.310429 | CI30: 390.3425 | CJ30: =CI30/DR30-1 -> 3.9506762 | CK30: 324.9011 | CL30: =CK30/DS30-1 -> 3.274244 | CM30: 369.6202 | CN30: =CM30/DT30-1 -> 4.8796519 | CO30: 362.3661 | CP30: =CO30/DU30-1 -> 3.8730927 | CQ30: 375.6669 | CR30: =CQ30/DV30-1 -> 3.1195747 | CS30: 411.7986 | CT30: =CS30/DX30-1 -> 0.41028753 | CU30: 341.8814 | CV30: =CU30/DX30-1 -> 0.17084195 | CW30: =BY30+CA30+CC30+CE30+CG30+CI30+CK30+CM30+CO30+CQ30+CS30+CU30 -> 4062.4803 | CX30: =CW30/SUM(DM30:DX30)-1 -> 2.3737781 | CZ30: =CU30/CS30-1 -> -0.16978494 | DA30: =CS30/CQ30-1 -> 0.096180153 | DL30: 宜昌市 | DM30: 39.4696 | DN30: 44.4071 | DO30: 69.8136 | DP30: 67.4619 | DQ30: 86.6807 | DR30: 78.8463 | DS30: 76.0137 | DT30: 62.8643 | DU30: 74.3606 | DV30: 91.1907 | DW30: 221.0291 | DX30: 291.9962 | DY30: 4.6581832 | DZ30: =SUM(DM30:DX30) -> 1204.1338 | EA30: =IFERROR(DZ30/SUM(EC30:EN30)-1,"") -> 1.0928896 | EC30: 44.168 | ED30: 34.7348 | EE30: 53.47846 | EF30: 48.74774 | EG30: 53.5033 | EH30: 51.2957 | EI30: 41.9926 | EJ30: 46.9933 | EK30: 47.945 | EL30: 50.2436 | EM30: 50.6366 | EN30: 51.606 | EO30: =SUM(EC30:EN30) -> 575.3451 | EQ30: =SUM(EC30:EN30) -> 575.3451
B31: 规下货运量 (万吨) | C31: 470.34 | D31: =C31/V31-1 -> 0.059068025 | E31: 237.25987 | F31: =E31/X31-1 -> -0.36638376 | G31: 419.11394 | H31: =G31/Z31-1 -> -0.24827515 | I31: 590.75399 | J31: =I31/AB31-1 -> -0.020570174 | K31: 701.30639 | L31: =K31/AD31-1 -> 0.15191155 | M31: 589.63453 | N31: =M31/AF31-1 -> 0.14984132 | O31: 595.4355 | P31: =O31/AH31-1 -> -0.067127116 | S31: =C31+E31+G31+I31+K31+M31+O31+Q31 -> 3603.8442 | T31: =S31/SUM(V31,X31,Z31,AB31,AD31,AF31,AH31,AJ31)-1 -> -0.17546891 | V31: 444.10745 | W31: =V31/AX31-1 -> -0.25754581 | X31: 374.45358 | Y31: =X31/AZ31-1 -> 0.38284844 | Z31: 557.53637 | AA31: =Z31/BB31-1 -> -0.012712897 | AB31: 603.16112 | AC31: =AB31/BD31-1 -> 0.091926776 | AD31: 608.81966 | AE31: =AD31/BF31-1 -> -0.063218691 | AF31: 512.79643 | AG31: =AF31/BH31-1 -> -0.023002076 | AH31: 638.28149 | AI31: =AH31/BJ31-1 -> 0.084968109 | AJ31: 631.62416 | AK31: =AJ31/BL31-1 -> -0.050889665 | AL31: 640.9817 | AM31: =AL31/BN31-1 -> 0.013698588 | AN31: 566.5832 | AO31: =AN31/BP31-1 -> -0.13371359 | AP31: 719.64137 | AQ31: =AP31/BR31-1 -> -0.074857969 | AR31: 713.11753 | AS31: =AR31/BT31-1 -> -0.056926387 | AT31: =V31+X31+Z31+AB31+AD31+AF31+AH31+AJ31+AL31+AN31+AP31+AR31 -> 7011.1041 | AU31: =AT31/SUM(AX31,AZ31,BB31,BD31,BF31,BH31,BJ31,BL31,BN31,BP31,BR31,BT31)-1 -> -0.030945678 | AW31: =AX31+AZ31+BB31+BD31+BF31+BH31+BJ31+BL31+BN31+BP31+BR31 -> 6478.8328 | AX31: 598.16142 | AY31: =AX31/BY31-1 -> 0.28609058 | AZ31: 270.78425 | BA31: =AZ31/CA31-1 -> -0.5399866 | BB31: 564.71554 | BC31: =BB31/CC31-1 -> -0.22748431 | BD31: 552.38239 | BE31: =BD31/CE31-1 -> -0.20755609 | BF31: 649.90585 | BG31: =BF31/CG31-1 -> -0.17034261 | BH31: 524.86952 | BI31: =BH31/CI31-1 -> -0.29635411 | BJ31: 588.29516 | BK31: =BJ31/CK31-1 -> -0.27721907 | BL31: 665.49076 | BM31: =BL31/CM31-1 -> -0.26249163 | BN31: 632.31982 | BO31: =BN31/CO31-1 -> -0.28273364 | BP31: 654.03681 | BQ31: =BP31/CQ31-1 -> -0.2587124 | BR31: 777.87123 | BS31: =BR31/CS31-1 -> -0.20497624 | BT31: 756.16317 | BU31: =BT31/CU31-1 -> -0.20267934 | BV31: =AX31+AZ31+BB31+BD31+BF31+BH31+BJ31+BL31+BN31+BP31+BR31+BT31 -> 7234.9959 | BW31: =BV31/SUM(BY31,CA31,CC31,CE31,CG31,CI31,CK31,CM31,CO31,CQ31,CS31,CU31)-1 -> -0.23179403 | BY31: 465.10054 | BZ31: =BY31/DM31-1 -> -0.26131414 | CA31: 588.64428 | CB31: =CA31/DN31-1 -> 0.22950407 | CC31: 731.0085 | CD31: =CC31/DO31-1 -> -0.051621095 | CE31: 697.06181 | CF31: =CE31/DP31-1 -> -0.045106018 | CG31: 783.34245 | CH31: =CG31/DQ31-1 -> -0.0080053624 | CI31: 745.9285 | CJ31: =CI31/DR31-1 -> 0.0092549523 | CK31: 813.93288 | CL31: =CK31/DS31-1 -> 0.045561097 | CM31: 902.35011 | CN31: =CM31/DT31-1 -> 0.052523968 | CO31: 881.56904 | CP31: =CO31/DU31-1 -> -0.045657211 | CQ31: 882.29833 | CR31: =CQ31/DV31-1 -> 0.04571622 | CS31: 978.42513 | CT31: =CS31/DX31-1 -> 0.33165468 | CU31: 948.38025 | CV31: =CU31/DX31-1 -> 0.29076304 | CW31: =BY31+CA31+CC31+CE31+CG31+CI31+CK31+CM31+CO31+CQ31+CS31+CU31 -> 9418.0418 | CX31: =CW31/SUM(DM31:DX31)-1 -> 0.034983674 | CZ31: =CU31/CS31-1 -> -0.030707388 | DA31: =CS31/CQ31-1 -> 0.10895045 | DM31: 629.63239 | DN31: 478.76562 | DO31: 770.79793 | DP31: 729.9887 | DQ31: 789.664 | DR31: 739.08827 | DS31: 778.46516 | DT31: 857.32025 | DU31: 923.74464 | DV31: 843.72635 | DW31: 823.76367 | DX31: 734.74388 | DY31: -0.22271106 | DZ31: =SUM(DM31:DX31) -> 9099.7009 | EA31: =IFERROR(DZ31/SUM(EC31:EN31)-1,"") -> -0.11453698 | EC31: 861.19328 | ED31: 379.0939 | EE31: 671.03284 | EF31: 856.33128 | EG31: 891.02157 | EH31: 948.91405 | EI31: 883.34082 | EJ31: 933.76619 | EK31: 971.97563 | EL31: 896.07894 | EM31: 1038.7578 | EN31: 945.26482 | EO31: =SUM(EC31:EN31) -> 10276.771 | EQ31: =SUM(EC31:EN31) -> 10276.771
B32: 规上+规下周转量 (万吨公里) | C32: =C33+C34 -> 104923.01 | D32: =C32/V32-1 -> 0.13716401 | E32: =E33+E34 -> 79232.399 | F32: =E32/X32-1 -> -0.14235004 | G32: =G33+G34 -> 126115.29 | H32: =G32/Z32-1 -> -0.030479512 | I32: =I33+I34 -> 127911.69 | J32: =I32/AB32-1 -> -0.017283647 | K32: =K33+K34 -> 131817.92 | L32: =K32/AD32-1 -> -0.022139188 | M32: =M33+M34 -> 125778.98 | N32: =M32/AF32-1 -> 0.0052654883 | O32: =O33+O34 -> 118603.81 | P32: =O32/AH32-1 -> 0.018061473 | S32: =C32+E32+G32+I32+K32+M32+O32+Q32 -> 814383.09 | T32: =S32/SUM(V32,X32,Z32,AB32,AD32,AF32,AH32,AJ32)-1 -> -0.13782797 | V32: =V33+V34 -> 92267.262 | W32: =V32/AX32-1 -> -0.008611695 | X32: =X33+X34 -> 92383.142 | Y32: =X32/AZ32-1 -> 0.5720592 | Z32: =Z33+Z34 -> 130080.06 | AA32: =Z32/BB32-1 -> 0.095395738 | AB32: =AB33+AB34 -> 130161.35 | AC32: =AB32/BD32-1 -> 0.11917783 | AD32: =AD33+AD34 -> 134802.33 | AE32: =AD32/BF32-1 -> 0.11056611 | AF32: =AF33+AF34 -> 125120.16 | AG32: =AF32/BH32-1 -> 0.10911428 | AH32: =AH33+AH34 -> 116499.65 | AI32: =AH32/BJ32-1 -> 0.033220552 | AJ32: =AJ33+AJ34 -> 123257.49 | AK32: =AJ32/BL32-1 -> 0.025813981 | AL32: =AL33+AL34 -> 130396.67 | AM32: =AL32/BN32-1 -> 0.04724391 | AN32: =AN33+AN34 -> 127599.9 | AO32: =AN32/BP32-1 -> -0.02374107 | AP32: =AP33+AP34 -> 133409.95 | AQ32: =AP32/BR32-1 -> -0.004235711 | AR32: =AR33+AR34 -> 137113.06 | AS32: =AR32/BT32-1 -> -0.026479651 | AT32: =V32+X32+Z32+AB32+AD32+AF32+AH32+AJ32+AL32+AN32+AP32+AR32 -> 1473091 | AU32: =AT32/SUM(AX32,AZ32,BB32,BD32,BF32,BH32,BJ32,BL32,BN32,BP32,BR32,BT32)-1 -> 0.064351988 | AW32: =AX32+AZ32+BB32+BD32+BF32+BH32+BJ32+BL32+BN32+BP32+BR32 -> 1243183.7 | AX32: =AX33+AX34 -> 93068.741 | AY32: =AX32/BY32-1 -> 0.44118683 | AZ32: =AZ33+AZ34 -> 58765.689 | BA32: =AZ32/CA32-1 -> -0.32092566 | BB32: =BB33+BB34 -> 118751.66 | BC32: =BB32/CC32-1 -> 0.086408849 | BD32: =BD33+BD34 -> 116300.87 | BE32: =BD32/CE32-1 -> 0.079824645 | BF32: =BF33+BF34 -> 121381.64 | BG32: =BF32/CG32-1 -> 0.065418983 | BH32: =BH33+BH34 -> 112810.88 | BI32: =BH32/CI32-1 -> 0.012294359 | BJ32: =BJ33+BJ34 -> 112753.91 | BK32: =BJ32/CK32-1 -> 0.035856278 | BL32: =BL33+BL34 -> 120155.79 | BM32: =BL32/CM32-1 -> -0.010920044 | BN32: =BN33+BN34 -> 124514.13 | BO32: =BN32/CO32-1 -> 0.017784518 | BP32: =BP33+BP34 -> 130702.93 | BQ32: =BP32/CQ32-1 -> 0.018982698 | BR32: =BR33+BR34 -> 133977.44 | BS32: =BR32/CS32-1 -> 0.0044156827 | BT32: =BT33+BT34 -> 140842.52 | BU32: =BT32/CU32-1 -> 0.049321087 | BV32: =AX32+AZ32+BB32+BD32+BF32+BH32+BJ32+BL32+BN32+BP32+BR32+BT32 -> 1384026.2 | BW32: =BV32/SUM(BY32,CA32,CC32,CE32,CG32,CI32,CK32,CM32,CO32,CQ32,CS32,CU32)-1 -> 0.031280812 | BY32: =BY33+BY34 -> 64577.846 | BZ32: =BY32/DM32-1 -> -0.10268326 | CA32: =CA33+CA34 -> 86537.932 | CB32: =CA32/DN32-1 -> 0.6753092 | CC32: =SUM(CC33:CC34) -> 109306.6 | CD32: =CC32/DO32-1 -> 0.34334444 | CE32: 107703.48 | CF32: =CE32/DP32-1 -> 0.33572248 | CG32: 113928.55 | CH32: =CG32/DQ32-1 -> 0.33059882 | CI32: =CI33+CI34 -> 111440.79 | CJ32: =CI32/DR32-1 -> 0.39680236 | CK32: =CK33+CK34 -> 108850.92 | CL32: =CK32/DS32-1 -> 0.31127733 | CM32: 121482.38 | CN32: =CM32/DT32-1 -> 0.33470884 | CO32: =SUM(CO33:CO34) -> 122338.4 | CP32: =CO32/DU32-1 -> 0.24120313 | CQ32: =SUM(CQ33:CQ34) -> 128268.05 | CR32: =CQ32/DV32-1 -> 0.19770898 | CS32: =CS33+CS34 -> 133388.44 | CT32: =CS32/DX32-1 -> 0.1657602 | CU32: =CU33+CU34 -> 134222.52 | CV32: =CU32/DX32-1 -> 0.17304974 | CW32: =BY32+CA32+CC32+CE32+CG32+CI32+CK32+CM32+CO32+CQ32+CS32+CU32 -> 1342045.9 | CX32: =CW32/SUM(DM32:DX32)-1 -> 0.27029125 | CZ32: =CU32/CS32-1 -> 0.0062530429 | DA32: =CS32/CQ32-1 -> 0.039919407 | DM32: 71967.727 | DN32: 51654.902 | DO32: 81369.007 | DP32: 80633.124 | DQ32: 85622.011 | DR32: 79782.788 | DS32: 83011.362 | DT32: 91017.889 | DU32: 98564.369 | DV32: 107094.51 | DW32: 111347.24 | DX32: 114421.85 | DY32: 0.19217282 | DZ32: =SUM(DM32:DX32) -> 1056486.8 | EA32: =IFERROR(DZ32/SUM(EC32:EN32)-1,"") -> -0.012918818 | EC32: =EC33+EC34 -> 96418.701 | ED32: =ED33+ED34 -> 48096.905 | EE32: =EE33+EE34 -> 73568.765 | EF32: =EF33+EF34 -> 87893.46 | EG32: =EG33+EG34 -> 89552.087 | EH32: =EH33+EH34 -> 92421.475 | EI32: =EI33+EI34 -> 85841.34 | EJ32: =EJ33+EJ34 -> 99815.456 | ... EN32: =EN33+EN34 -> 95977.57 | EO32: =SUM(EC32:EN32) -> 1070314
B33: 规上货物周转量 (万吨公里) | C33: 55934.484 | D33: =C33/V33-1 -> 0.15721428 | E33: 49820.738 | F33: =E33/X33-1 -> 0.10698958 | G33: 81458.571 | H33: =G33/Z33-1 -> 0.18913185 | I33: 68707.26 | J33: =I33/AB33-1 -> 0.013032904 | K33: 69708.717 | L33: =K33/AD33-1 -> 0.00062492193 | M33: 69260.868 | N33: =M33/AF33-1 -> 0.0021293448 | O33: 63308.348 | P33: =O33/AH33-1 -> 0.24901001 | S33: =C33+E33+G33+I33+K33+M33+O33+Q33 -> 458198.99 | T33: =S33/SUM(V33,X33,Z33,AB33,AD33,AF33,AH33,AJ33)-1 -> -0.034872247 | V33: 48335.46 | W33: =V33/AX33-1 -> 0.53964201 | X33: 45005.607 | Y33: =X33/AZ33-1 -> 0.88282029 | Z33: 68502.556 | AA33: =Z33/BB33-1 -> 0.025896856 | AB33: 67823.325 | AC33: =AB33/BD33-1 -> 0.20951125 | AD33: 69665.182 | AE33: =AD33/BF33-1 -> 0.23374324 | AF33: 69113.702 | AG33: =AF33/BH33-1 -> 0.19003604 | AH33: 50686.822 | AI33: =AH33/BJ33-1 -> -0.082441182 | AJ33: 55622.099 | AK33: =AJ33/BL33-1 -> 0.06229839 | AL33: 57908.341 | AM33: =AL33/BN33-1 -> -0.0058921453 | AN33: 62774.594 | AO33: =AN33/BP33-1 -> 0.052513027 | AP33: 63596.042 | AQ33: =AP33/BR33-1 -> 0.084806949 | AR33: 62339.181 | AS33: =AR33/BT33-1 -> 0.052627966 | AT33: =V33+X33+Z33+AB33+AD33+AF33+AH33+AJ33+AL33+AN33+AP33+AR33 -> 721372.91 | AU33: =AT33/SUM(AX33,AZ33,BB33,BD33,BF33,BH33,BJ33,BL33,BN33,BP33,BR33,BT33)-1 -> 0.13417878 | AW33: =AX33+AZ33+BB33+BD33+BF33+BH33+BJ33+BL33+BN33+BP33+BR33 -> 576808.61 | AX33: 31393.96 | AY33: =AX33/BY33-1 -> 1.1742364 | AZ33: 23903.294 | BA33: =AZ33/CA33-1 -> -0.27674029 | BB33: 66773.337 | BC33: =BB33/CC33-1 -> 0.50478151 | BD33: 56074.985 | BE33: =BD33/CE33-1 -> 0.34794818 | BF33: 56466.516 | BG33: =BF33/CG33-1 -> 0.38567246 | BH33: 58076.982 | BI33: =BH33/CI33-1 -> 0.28186464 | BJ33: 55240.951 | BK33: =BJ33/CK33-1 -> 0.67070799 | BL33: 52360.146 | BM33: =BL33/CM33-1 -> 0.40516101 | BN33: 58251.567 | BO33: =BN33/CO33-1 -> 0.47848777 | BP33: 59642.582 | BQ33: =BP33/CQ33-1 -> 0.46991928 | BR33: 58624.295 | BS33: =BR33/CS33-1 -> 0.455922 | BT33: 59222.425 | BU33: =BT33/CU33-1 -> 0.48931165 | BV33: =AX33+AZ33+BB33+BD33+BF33+BH33+BJ33+BL33+BN33+BP33+BR33+BT33 -> 636031.04 | BW33: =BV33/SUM(BY33,CA33,CC33,CE33,CG33,CI33,CK33,CM33,CO33,CQ33,CS33,CU33)-1 -> 0.41386492 | BY33: 14439.074 | BZ33: =BY33/DM33-1 -> 1.097709 | CA33: 33049.393 | CB33: =CA33/DN33-1 -> 3.6597335 | CC33: 44374.107 | CD33: =CC33/DO33-1 -> 3.2566784 | CE33: 41600.253 | CF33: =CE33/DP33-1 -> 3.3246363 | CG33: 40750.262 | CH33: =CG33/DQ33-1 -> 2.2497129 | CI33: 45306.642 | CJ33: =CI33/DR33-1 -> 3.3108376 | CK33: 33064.396 | CL33: =CK33/DS33-1 -> 2.5379252 | CM33: 37262.738 | CN33: =CM33/DT33-1 -> 3.0917264 | CO33: 39399.425 | CP33: =CO33/DU33-1 -> 2.3067161 | CQ33: 40575.413 | CR33: =CQ33/DV33-1 -> 1.7444958 | CS33: 40266.096 | CT33: =CS33/DX33-1 -> 0.1145869 | CU33: 39764.965 | CV33: =CU33/DX33-1 -> 0.10071532 | CW33: =BY33+CA33+CC33+CE33+CG33+CI33+CK33+CM33+CO33+CQ33+CS33+CU33 -> 449852.76 | CX33: =CW33/SUM(DM33:DX33)-1 -> 1.8064428 | CZ33: =CU33/CS33-1 -> -0.012445488 | DA33: =CS33/CQ33-1 -> -0.0076232668 | DM33: 6883.2587 | DN33: 7092.5499 | DO33: 10424.585 | DP33: 9619.3644 | DQ33: 12539.65 | DR33: 10509.939 | DS33: 9345.7025 | DT33: 9106.8498 | DU33: 11914.97 | DV33: 14784.287 | DW33: 21945.238 | DX33: 36126.475 | DY33: 2.6705482 | DZ33: =SUM(DM33:DX33) -> 160292.87 | EA33: =IFERROR(DZ33/SUM(EC33:EN33)-1,"") -> 0.47470723 | EC33: 9393.4327 | ED33: 7047.9617 | EE33: 9063.729 | EF33: 8784.3851 | EG33: 9409.6691 | EH33: 9088.7772 | EI33: 8211.5924 | EJ33: 9562.8517 | EK33: 9184.8753 | EL33: 9849.0128 | EM33: 9256.1635 | EN33: 9842.256 | EO33: =SUM(EC33:EN33) -> 108694.71 | EQ33: =SUM(EC33:EN33) -> 108694.71
B34: 规下货物周转量 (万吨公里) | C34: 48988.526 | D34: =C34/V34-1 -> 0.11510394 | E34: 29411.66 | F34: =E34/X34-1 -> -0.37920662 | G34: 44656.716 | H34: =G34/Z34-1 -> -0.27478852 | I34: 59204.43 | J34: =I34/AB34-1 -> -0.050267836 | K34: 62109.2 | L34: =K34/AD34-1 -> -0.046485753 | M34: 56518.108 | N34: =M34/AF34-1 -> 0.0091355865 | O34: 55295.461 | P34: =O34/AH34-1 -> -0.1598073 | S34: =C34+E34+G34+I34+K34+M34+O34+Q34 -> 356184.1 | T34: =S34/SUM(V34,X34,Z34,AB34,AD34,AF34,AH34,AJ34)-1 -> -0.24186581 | V34: 43931.802 | W34: =V34/AX34-1 -> -0.28768613 | X34: 47377.535 | Y34: =X34/AZ34-1 -> 0.35898681 | Z34: 61577.508 | AA34: =Z34/BB34-1 -> 0.18467665 | AB34: 62338.027 | AC34: =AB34/BD34-1 -> 0.035070383 | AD34: 65137.149 | AE34: =AD34/BF34-1 -> 0.0034202921 | AF34: 56006.456 | AG34: =AF34/BH34-1 -> 0.023249916 | AH34: 65812.832 | AI34: =AH34/BJ34-1 -> 0.14431316 | AJ34: 67635.389 | AK34: =AJ34/BL34-1 -> -0.0023637744 | AL34: 72488.327 | AM34: =AL34/BN34-1 -> 0.093955934 | AN34: 64825.306 | AO34: =AN34/BP34-1 -> -0.087742887 | AP34: 69813.908 | AQ34: =AP34/BR34-1 -> -0.073510367 | AR34: 74773.881 | AS34: =AR34/BT34-1 -> -0.083879054 | AT34: =V34+X34+Z34+AB34+AD34+AF34+AH34+AJ34+AL34+AN34+AP34+AR34 -> 751718.12 | AU34: =AT34/SUM(AX34,AZ34,BB34,BD34,BF34,BH34,BJ34,BL34,BN34,BP34,BR34,BT34)-1 -> 0.0049772594 | AW34: =AX34+AZ34+BB34+BD34+BF34+BH34+BJ34+BL34+BN34+BP34+BR34 -> 666375.06 | AX34: 61674.781 | AY34: =AX34/BY34-1 -> 0.23008161 | AZ34: 34862.395 | BA34: =AZ34/CA34-1 -> -0.34822682 | BB34: 51978.325 | BC34: =BB34/CC34-1 -> -0.19950213 | BD34: 60225.883 | BE34: =BD34/CE34-1 -> -0.088911558 | BF34: 64915.121 | BG34: =BF34/CG34-1 -> -0.11291825 | BH34: 54733.898 | BI34: =BH34/CI34-1 -> -0.17238066 | BJ34: 57512.955 | BK34: =BJ34/CK34-1 -> -0.24111895 | BL34: 67795.642 | BM34: =BL34/CM34-1 -> -0.1950139 | BN34: 66262.566 | BO34: =BN34/CO34-1 -> -0.20106847 | BP34: 71060.346 | BQ34: =BP34/CQ34-1 -> -0.1896658 | BR34: 75353.145 | BS34: =BR34/CS34-1 -> -0.19081562 | BT34: 81620.098 | BU34: =BT34/CU34-1 -> -0.13590717 | BV34: =AX34+AZ34+BB34+BD34+BF34+BH34+BJ34+BL34+BN34+BP34+BR34+BT34 -> 747995.15 | BW34: =BV34/SUM(BY34,CA34,CC34,CE34,CG34,CI34,CK34,CM34,CO34,CQ34,CS34,CU34)-1 -> -0.16162194 | BY34: 50138.772 | BZ34: =BY34/DM34-1 -> -0.22963537 | CA34: 53488.539 | CB34: =CA34/DN34-1 -> 0.20030782 | CC34: 64932.496 | CD34: =CC34/DO34-1 -> -0.084741343 | CE34: 66103.223 | CF34: =CE34/DP34-1 -> -0.069149083 | CG34: 73178.285 | CH34: =CG34/DQ34-1 -> 0.0013125415 | CI34: 66134.145 | CJ34: =CI34/DR34-1 -> -0.045309293 | CK34: 75786.521 | CL34: =CK34/DS34-1 -> 0.028790368 | CM34: 84219.643 | CN34: =CM34/DT34-1 -> 0.028184286 | CO34: 82938.979 | CP34: =CO34/DU34-1 -> -0.042821067 | CQ34: 87692.641 | CR34: =CQ34/DV34-1 -> -0.050022415 | CS34: 93122.343 | CT34: =CS34/DX34-1 -> 0.1893722 | CU34: 94457.558 | CV34: =CU34/DX34-1 -> 0.20642576 | CW34: =BY34+CA34+CC34+CE34+CG34+CI34+CK34+CM34+CO34+CQ34+CS34+CU34 -> 892193.15 | CX34: =CW34/SUM(DM34:DX34)-1 -> -0.0044641684 | CZ34: =CU34/CS34-1 -> 0.014338286 | DA34: =CS34/CQ34-1 -> 0.061917417 | DM34: 65084.468 | DN34: 44562.352 | DO34: 70944.422 | DP34: 71013.76 | DQ34: 73082.361 | DR34: 69272.849 | DS34: 73665.66 | DT34: 81911.039 | DU34: 86649.399 | DV34: 92310.221 | DW34: 89402.001 | DX34: 78295.375 | DY34: -0.091018869 | DZ34: =SUM(DM34:DX34) -> 896193.91 | EA34: =IFERROR(DZ34/SUM(EC34:EN34)-1,"") -> -0.068036651 | EC34: 87025.268 | ED34: 41048.943 | EE34: 64505.036 | EF34: 79109.074 | EG34: 80142.418 | EH34: 83332.698 | EI34: 77629.747 | EJ34: 90252.604 | EK34: 90445.77 | EL34: 83221.346 | EM34: 98771.041 | EN34: 86135.314 | EO34: =SUM(EC34:EN34) -> 961619.26 | EQ34: =SUM(EC34:EN34) -> 961619.26
A35: 襄阳市 | B35: 规上+规下货运量 (万吨) | C35: 3028.382 | D35: =C35/V35-1 -> 0.19377369 | E35: 2004.5014 | F35: =E35/X35-1 -> -0.17021142 | G35: 3124.4326 | H35: =G35/Z35-1 -> -0.047970381 | I35: 3141.0637 | J35: =I35/AB35-1 -> -0.020621576 | K35: 3188.7809 | L35: =K35/AD35-1 -> -0.009691336 | M35: 3051.0954 | N35: =M35/AF35-1 -> 0.033392206 | O35: 2923.4441 | P35: =O35/AH35-1 -> 0.0063158736 | S35: =C35+E35+G35+I35+K35+M35+O35+Q35 -> 20461.7 | T35: =S35/SUM(V35,X35,Z35,AB35,AD35,AF35,AH35,AJ35)-1 -> -0.12609352 | V35: 2536.8142 | W35: =V35/AX35-1 -> -0.086988978 | X35: 2415.6772 | Y35: =X35/AZ35-1 -> 0.63919918 | Z35: 3281.8649 | AA35: =Z35/BB35-1 -> 0.077161471 | AB35: 3207.2013 | AC35: =AB35/BD35-1 -> 0.10133861 | AD35: 3219.9869 | AE35: =AD35/BF35-1 -> 0.06775374 | AF35: 2952.5047 | AG35: =AF35/BH35-1 -> 0.058355322 | AH35: 2905.0959 | AI35: =AH35/BJ35-1 -> 0.043205509 | AJ35: 2894.9165 | AK35: =AJ35/BL35-1 -> 0.019189121 | AL35: 2911.4979 | AM35: =AL35/BN35-1 -> 0.017786416 | AN35: 2788.6452 | AO35: =AN35/BP35-1 -> -0.036346611 | AP35: 3042.3711 | AQ35: =AP35/BR35-1 -> -0.0031668537 | AR35: 3198.3163 | AS35: =AR35/BT35-1 -> -0.032310769 | AT35: =V35+X35+Z35+AB35+AD35+AF35+AH35+AJ35+AL35+AN35+AP35+AR35 -> 35354.892 | AU35: =AT35/SUM(AX35,AZ35,BB35,BD35,BF35,BH35,BJ35,BL35,BN35,BP35,BR35,BT35)-1 -> 0.047452287 | AW35: =AX35+AZ35+BB35+BD35+BF35+BH35+BJ35+BL35+BN35+BP35+BR35 -> 30448.118 | AX35: 2778.5143 | AY35: =AX35/BY35-1 -> 0.66281159 | AZ35: 1473.6935 | BA35: =AZ35/CA35-1 -> -0.37579267 | BB35: 3046.7715 | BC35: =BB35/CC35-1 -> 0.067069847 | BD35: 2912.0937 | BE35: =BD35/CE35-1 -> 0.087181215 | BF35: 3015.6644 | BG35: =BF35/CG35-1 -> 0.06051155 | BH35: 2789.7103 | BI35: =BH35/CI35-1 -> -0.0022734451 | BJ35: 2784.7782 | BK35: =BJ35/CK35-1 -> 0.004348884 | BL35: 2840.4115 | BM35: =BL35/CM35-1 -> -0.0034550101 | BN35: 2860.6178 | BO35: =BN35/CO35-1 -> 0.048218428 | BP35: 2893.826 | BQ35: =BP35/CQ35-1 -> 0.031335465 | BR35: 3052.0365 | BS35: =BR35/CS35-1 -> 0.028521664 | BT35: 3305.1068 | BU35: =BT35/CU35-1 -> 0.088864427 | BV35: =AX35+AZ35+BB35+BD35+BF35+BH35+BJ35+BL35+BN35+BP35+BR35+BT35 -> 33753.224 | BW35: =BV35/SUM(BY35,CA35,CC35,CE35,CG35,CI35,CK35,CM35,CO35,CQ35,CS35,CU35)-1 -> 0.042858582 | BY35: 1670.9736 | BZ35: =BY35/DM35-1 -> -0.11599183 | CA35: 2360.9039 | CB35: =CA35/DN35-1 -> 0.5201902 | CC35: 2855.2691 | CD35: =CC35/DO35-1 -> 0.18477434 | CE35: 2678.5725 | CF35: =CE35/DP35-1 -> 0.25097121 | CG35: 2843.5941 | CH35: =CG35/DQ35-1 -> 0.13994567 | CI35: 2796.067 | CJ35: =CI35/DR35-1 -> 0.22071083 | CK35: 2772.7199 | CL35: =CK35/DS35-1 -> 0.22383445 | CM35: 2850.2591 | CN35: =CM35/DT35-1 -> 0.29676713 | CO35: 2729.0283 | CP35: =CO35/DU35-1 -> 0.16485442 | CQ35: 2805.9018 | CR35: =CQ35/DV35-1 -> 0.24420016 | CS35: 2967.4013 | CT35: =CS35/DX35-1 -> 0.20523905 | CU35: 3035.3704 | CV35: =CU35/DX35-1 -> 0.23284538 | CW35: =BY35+CA35+CC35+CE35+CG35+CI35+CK35+CM35+CO35+CQ35+CS35+CU35 -> 32366.061 | CX35: =CW35/SUM(DM35:DX35)-1 -> 0.21796236 | CZ35: =CU35/CS35-1 -> 0.02290527 | DA35: =CS35/CQ35-1 -> 0.057557076 | DM35: 1890.2242 | DN35: 1553.0319 | DO35: 2409.9687 | DP35: 2141.1944 | DQ35: 2494.4997 | DR35: 2290.5236 | DS35: 2265.6005 | DT35: 2197.973 | DU35: 2342.8063 | DV35: 2255.1852 | DW35: 2270.8492 | DX35: 2462.0852 | DY35: -0.12710852 | DZ35: =SUM(DM35:DX35) -> 26573.942 | EA35: =IFERROR(DZ35/SUM(EC35:EN35)-1,"") -> -0.14154085 | EC35: 2696.8791 | ED35: 1250.6139 | EE35: 2289.1712 | EF35: 2822.2901 | EG35: 2890.3933 | EH35: 2996.7781 | EI35: 2629.027 | EJ35: 2477.1877 | EK35: 2656.885 | EL35: 2554.7556 | EM35: 2870.8052 | EN35: 2820.6086 | EO35: =SUM(EC35:EN35) -> 30955.395 | EQ35: =SUM(EC35:EN35) -> 30955.395
B36: 规上货运量 (万吨) | C36: 348.675 | D36: =C36/V36-1 -> -0.15915714 | E36: 303.525 | F36: =E36/X36-1 -> -0.18874515 | G36: 271.9212 | H36: =G36/Z36-1 -> -0.32320299 | I36: 292.4452 | J36: =I36/AB36-1 -> -0.31648462 | K36: 305.8056 | L36: =K36/AD36-1 -> -0.37600627 | M36: 335.2829 | N36: =M36/AF36-1 -> -0.29923223 | O36: 344.5188 | P36: =O36/AH36-1 -> -0.23562617 | S36: =C36+E36+G36+I36+K36+M36+O36+Q36 -> 2202.1737 | T36: =S36/SUM(V36,X36,Z36,AB36,AD36,AF36,AH36,AJ36)-1 -> -0.36370747 | V36: 414.6732 | W36: =V36/AX36-1 -> 0.079311486 | X36: 374.1426 | Y36: =X36/AZ36-1 -> 0.30317414 | Z36: 401.7766 | AA36: =Z36/BB36-1 -> 0.028696623 | AB36: 427.8546 | AC36: =AB36/BD36-1 -> 0.056079345 | AD36: 490.078 | AE36: =AD36/BF36-1 -> 0.19422603 | AF36: 478.4508 | AG36: =AF36/BH36-1 -> 0.087065027 | AH36: 450.7203 | AI36: =AH36/BJ36-1 -> 0.05573624 | AJ36: 423.2493 | AK36: =AJ36/BL36-1 -> -0.035013837 | AL36: 413.3566 | AM36: =AL36/BN36-1 -> -0.068990456 | AN36: 448.0272 | AO36: =AN36/BP36-1 -> 0.0073169942 | AP36: 445.1043 | AQ36: =AP36/BR36-1 -> -0.026717665 | AR36: 468.898 | AS36: =AR36/BT36-1 -> -0.15215187 | AT36: =V36+X36+Z36+AB36+AD36+AF36+AH36+AJ36+AL36+AN36+AP36+AR36 -> 5236.3315 | AU36: =AT36/SUM(AX36,AZ36,BB36,BD36,BF36,BH36,BJ36,BL36,BN36,BP36,BR36,BT36)-1 -> 0.030333896 | AW36: =AX36+AZ36+BB36+BD36+BF36+BH36+BJ36+BL36+BN36+BP36+BR36 -> 4529.1247 | AX36: 384.2016 | AY36: =AX36/BY36-1 -> 0.73872447 | AZ36: 287.101 | BA36: =AZ36/CA36-1 -> 0.11581636 | BB36: 390.5686 | BC36: =BB36/CC36-1 -> 0.28791247 | BD36: 405.1349 | BE36: =BD36/CE36-1 -> 0.32632427 | BF36: 410.3729 | BG36: =BF36/CG36-1 -> 0.57301872 | BH36: 440.1308 | BI36: =BH36/CI36-1 -> 0.46529888 | BJ36: 426.9251 | BK36: =BJ36/CK36-1 -> 0.35224625 | BL36: 438.6066 | BM36: =BL36/CM36-1 -> 0.37706922 | BN36: 443.9875 | BO36: =BN36/CO36-1 -> 0.42248154 | BP36: 444.7728 | BQ36: =BP36/CQ36-1 -> 0.37331802 | BR36: 457.3229 | BS36: =BR36/CS36-1 -> 0.23939373 | BT36: 553.0448 | BU36: =BT36/CU36-1 -> 0.39496652 | BV36: =AX36+AZ36+BB36+BD36+BF36+BH36+BJ36+BL36+BN36+BP36+BR36+BT36 -> 5082.1695 | BW36: =BV36/SUM(BY36,CA36,CC36,CE36,CG36,CI36,CK36,CM36,CO36,CQ36,CS36,CU36)-1 -> 0.37956491 | BY36: 220.9675 | BZ36: =BY36/DM36-1 -> 4.4289768 | CA36: 257.3013 | CB36: =CA36/DN36-1 -> 5.1083762 | CC36: 303.2571 | CD36: =CC36/DO36-1 -> 6.0459691 | CE36: 305.4569 | CF36: =CE36/DP36-1 -> 4.8917217 | CG36: 260.8824 | CH36: =CG36/DQ36-1 -> 3.45607 | CI36: 300.3693 | CJ36: =CI36/DR36-1 -> 5.2595586 | CK36: 315.7155 | CL36: =CK36/DS36-1 -> 6.4269748 | CM36: 318.5073 | CN36: =CM36/DT36-1 -> 6.5599274 | CO36: 312.1218 | CP36: =CO36/DU36-1 -> 6.3241723 | CQ36: 323.8673 | CR36: =CQ36/DV36-1 -> 8.1678027 | CS36: 368.9892 | CT36: =CS36/DX36-1 -> 9.3985436 | CU36: 396.4574 | CV36: =CU36/DX36-1 -> 10.172629 | CW36: =BY36+CA36+CC36+CE36+CG36+CI36+CK36+CM36+CO36+CQ36+CS36+CU36 -> 3683.893 | CX36: =CW36/SUM(DM36:DX36)-1 -> 6.1901154 | CZ36: =CU36/CS36-1 -> 0.074441745 | DA36: =CS36/CQ36-1 -> 0.13932219 | DL36: 襄阳市 | DM36: 40.7015 | DN36: 42.1227 | DO36: 43.0398 | DP36: 51.8451 | DQ36: 58.5454 | DR36: 47.9857 | DS36: 42.5093 | DT36: 42.131 | DU36: 42.6153 | DV36: 35.3266 | DW36: 30.0481 | DX36: 35.4847 | DY36: -0.44915871 | DZ36: =SUM(DM36:DX36) -> 512.3552 | EA36: =IFERROR(DZ36/SUM(EC36:EN36)-1,"") -> -0.21915065 | EC36: 46.2984 | ED36: 32.3507 | EE36: 42.94563 | EF36: 48.38992 | EG36: 68.3686 | EH36: 47.3707 | EI36: 46.8497 | EJ36: 48.8398 | EK36: 58.6177 | EL36: 84.2941 | EM36: 67.4068 | EN36: 64.4191 | EO36: =SUM(EC36:EN36) -> 656.15115 | EQ36: =SUM(EC36:EN36) -> 656.15115
B37: 规下货运量 (万吨) | C37: 2679.707 | D37: =C37/V37-1 -> 0.26273752 | E37: 1700.9764 | F37: =E37/X37-1 -> -0.16681483 | G37: 2852.5114 | H37: =G37/Z37-1 -> -0.0095750225 | I37: 2848.6185 | J37: =I37/AB37-1 -> 0.02492379 | K37: 2882.9753 | L37: =K37/AD37-1 -> 0.056070158 | M37: 2715.8125 | N37: =M37/AF37-1 -> 0.097717573 | O37: 2578.9253 | P37: =O37/AH37-1 -> 0.050745989 | S37: =C37+E37+G37+I37+K37+M37+O37+Q37 -> 18259.526 | T37: =S37/SUM(V37,X37,Z37,AB37,AD37,AF37,AH37,AJ37)-1 -> -0.084878457 | V37: 2122.141 | W37: =V37/AX37-1 -> -0.11367426 | X37: 2041.5346 | Y37: =X37/AZ37-1 -> 0.72050183 | Z37: 2880.0883 | AA37: =Z37/BB37-1 -> 0.084287752 | AB37: 2779.3467 | AC37: =AB37/BD37-1 -> 0.1086527 | AD37: 2729.9089 | AE37: =AD37/BF37-1 -> 0.047832437 | AF37: 2474.0539 | AG37: =AF37/BH37-1 -> 0.052977327 | AH37: 2454.3756 | AI37: =AH37/BJ37-1 -> 0.04093663 | AJ37: 2471.6672 | AK37: =AJ37/BL37-1 -> 0.029087417 | AL37: 2498.1413 | AM37: =AL37/BN37-1 -> 0.033729213 | AN37: 2340.618 | AO37: =AN37/BP37-1 -> -0.044276363 | AP37: 2597.2668 | AQ37: =AP37/BR37-1 -> 0.00098401883 | AR37: 2729.4183 | AS37: =AR37/BT37-1 -> -0.0082279188 | AT37: =V37+X37+Z37+AB37+AD37+AF37+AH37+AJ37+AL37+AN37+AP37+AR37 -> 30118.561 | AU37: =AT37/SUM(AX37,AZ37,BB37,BD37,BF37,BH37,BJ37,BL37,BN37,BP37,BR37,BT37)-1 -> 0.050486656 | AW37: =AX37+AZ37+BB37+BD37+BF37+BH37+BJ37+BL37+BN37+BP37+BR37 -> 25918.993 | AX37: 2394.3127 | AY37: =AX37/BY37-1 -> 0.65124317 | AZ37: 1186.5925 | BA37: =AZ37/CA37-1 -> -0.43592363 | BB37: 2656.2029 | BC37: =BB37/CC37-1 -> 0.040826987 | BD37: 2506.9588 | BE37: =BD37/CE37-1 -> 0.056399783 | BF37: 2605.2915 | BG37: =BF37/CG37-1 -> 0.0087426663 | BH37: 2349.5795 | BI37: =BH37/CI37-1 -> -0.058548039 | BJ37: 2357.8531 | BK37: =BJ37/CK37-1 -> -0.040354572 | BL37: 2401.8049 | BM37: =BL37/CM37-1 -> -0.0513269 | BN37: 2416.6303 | BO37: =BN37/CO37-1 -> -0.00011429732 | BP37: 2449.0532 | BQ37: =BP37/CQ37-1 -> -0.013287995 | BR37: 2594.7136 | BS37: =BR37/CS37-1 -> -0.0014233605 | BT37: 2752.062 | BU37: =BT37/CU37-1 -> 0.042877143 | BV37: =AX37+AZ37+BB37+BD37+BF37+BH37+BJ37+BL37+BN37+BP37+BR37+BT37 -> 28671.055 | BW37: =BV37/SUM(BY37,CA37,CC37,CE37,CG37,CI37,CK37,CM37,CO37,CQ37,CS37,CU37)-1 -> -0.00038745431 | BY37: 1450.0061 | BZ37: =BY37/DM37-1 -> -0.21601063 | CA37: 2103.6026 | CB37: =CA37/DN37-1 -> 0.39227597 | CC37: 2552.012 | CD37: =CC37/DO37-1 -> 0.078195454 | CE37: 2373.1156 | CF37: =CE37/DP37-1 -> 0.13581566 | CG37: 2582.7117 | CH37: =CG37/DQ37-1 -> 0.060246376 | CI37: 2495.6977 | CJ37: =CI37/DR37-1 -> 0.11288985 | CK37: 2457.0044 | CL37: =CK37/DS37-1 -> 0.10521981 | CM37: 2531.7518 | CN37: =CM37/DT37-1 -> 0.17436799 | CO37: 2416.9065 | CP37: =CO37/DU37-1 -> 0.050741645 | CQ37: 2482.0345 | CR37: =CQ37/DV37-1 -> 0.11810476 | CS37: 2598.4121 | CT37: =CS37/DX37-1 -> 0.070803389 | CU37: 2638.913 | CV37: =CU37/DX37-1 -> 0.087493787 | CW37: =BY37+CA37+CC37+CE37+CG37+CI37+CK37+CM37+CO37+CQ37+CS37+CU37 -> 28682.168 | CX37: =CW37/SUM(DM37:DX37)-1 -> 0.10055341 | CZ37: =CU37/CS37-1 -> 0.015586799 | DA37: =CS37/CQ37-1 -> 0.046887988 | DM37: 1849.5227 | DN37: 1510.9092 | DO37: 2366.9289 | DP37: 2089.3493 | DQ37: 2435.9543 | DR37: 2242.5379 | DS37: 2223.0912 | DT37: 2155.842 | DU37: 2300.191 | DV37: 2219.8586 | DW37: 2240.8011 | DX37: 2426.6005 | DY37: -0.11958139 | DZ37: =SUM(DM37:DX37) -> 26061.587 | EA37: =IFERROR(DZ37/SUM(EC37:EN37)-1,"") -> -0.13986015 | EC37: 2650.5807 | ED37: 1218.2632 | EE37: 2246.2255 | EF37: 2773.9002 | EG37: 2822.0247 | EH37: 2949.4074 | EI37: 2582.1773 | EJ37: 2428.3479 | EK37: 2598.2673 | EL37: 2470.4615 | EM37: 2803.3984 | EN37: 2756.1895 | EO37: =SUM(EC37:EN37) -> 30299.244 | EQ37: =SUM(EC37:EN37) -> 30299.244
B38: 规上+规下周转量 (万吨公里) | C38: =C39+C40 -> 513760.43 | D38: =C38/V38-1 -> 0.14991219 | E38: =E39+E40 -> 361067.98 | F38: =E38/X38-1 -> -0.16754616 | G38: =G39+G40 -> 543947.42 | H38: =G38/Z38-1 -> -0.045887401 | I38: =I39+I40 -> 552442.41 | J38: =I38/AB38-1 -> -0.018060987 | K38: =K39+K40 -> 560267.75 | L38: =K38/AD38-1 -> -0.028909892 | M38: =M39+M40 -> 535610.06 | N38: =M38/AF38-1 -> 0.0084696197 | O38: =O39+O40 -> 521712.64 | P38: =O38/AH38-1 -> 0.0065566284 | S38: =C38+E38+G38+I38+K38+M38+O38+Q38 -> 3588808.7 | T38: =S38/SUM(V38,X38,Z38,AB38,AD38,AF38,AH38,AJ38)-1 -> -0.1371694 | V38: =V39+V40 -> 446782.32 | W38: =V38/AX38-1 -> -0.091206283 | X38: =X39+X40 -> 433739.34 | Y38: =X38/AZ38-1 -> 0.53948337 | Z38: =Z39+Z40 -> 570108.2 | AA38: =Z38/BB38-1 -> 0.095823261 | AB38: =AB39+AB40 -> 562603.58 | AC38: =AB38/BD38-1 -> 0.10140777 | AD38: =AD39+AD40 -> 576947.23 | AE38: =AD38/BF38-1 -> 0.10036251 | AF38: =AF39+AF40 -> 531111.75 | AG38: =AF38/BH38-1 -> 0.097921024 | AH38: =AH39+AH40 -> 518314.24 | AI38: =AH38/BJ38-1 -> 0.04912963 | AJ38: =AJ39+AJ40 -> 519736.66 | AK38: =AJ38/BL38-1 -> 0.032499567 | AL38: =AL39+AL40 -> 525790.62 | AM38: =AL38/BN38-1 -> 0.027017042 | AN38: =AN39+AN40 -> 487433.15 | AO38: =AN38/BP38-1 -> -0.051738906 | AP38: =AP39+AP40 -> 508771.62 | AQ38: =AP38/BR38-1 -> -0.031351571 | AR38: =AR39+AR40 -> 535330.18 | AS38: =AR38/BT38-1 -> -0.072500956 | AT38: =V38+X38+Z38+AB38+AD38+AF38+AH38+AJ38+AL38+AN38+AP38+AR38 -> 6216668.9 | AU38: =AT38/SUM(AX38,AZ38,BB38,BD38,BF38,BH38,BJ38,BL38,BN38,BP38,BR38,BT38)-1 -> 0.046874476 | AW38: =AX38+AZ38+BB38+BD38+BF38+BH38+BJ38+BL38+BN38+BP38+BR38 -> 5361137.6 | AX38: =AX39+AX40 -> 491621.26 | AY38: =AX38/BY38-1 -> 0.449085 | AZ38: =AZ39+AZ40 -> 281743.44 | BA38: =AZ38/CA38-1 -> -0.34176363 | BB38: =BB39+BB40 -> 520255.61 | BC38: =BB38/CC38-1 -> 0.031871218 | BD38: =BD39+BD40 -> 510804.08 | BE38: =BD38/CE38-1 -> 0.051067152 | BF38: =BF39+BF40 -> 524324.69 | BG38: =BF38/CG38-1 -> 0.058513938 | BH38: =BH39+BH40 -> 483743.12 | BI38: =BH38/CI38-1 -> -0.0021610922 | BJ38: =BJ39+BJ40 -> 494042.14 | BK38: =BJ38/CK38-1 -> -0.0040222899 | BL38: =BL39+BL40 -> 503377.13 | BM38: =BL38/CM38-1 -> -0.020083283 | BN38: =BN39+BN40 -> 511959 | BO38: =BN38/CO38-1 -> 0.023449408 | BP38: =BP39+BP40 -> 514028.42 | BQ38: =BP38/CQ38-1 -> 0.043378262 | BR38: =BR39+BR40 -> 525238.68 | BS38: =BR38/CS38-1 -> 0.027121864 | BT38: =BT39+BT40 -> 577175.99 | BU38: =BT38/CU38-1 -> 0.087842577 | BV38: =AX38+AZ38+BB38+BD38+BF38+BH38+BJ38+BL38+BN38+BP38+BR38+BT38 -> 5938313.6 | BW38: =BV38/SUM(BY38,CA38,CC38,CE38,CG38,CI38,CK38,CM38,CO38,CQ38,CS38,CU38)-1 -> 0.0270076 | BY38: =BY39+BY40 -> 339263.24 | BZ38: =BY38/DM38-1 -> -0.080820839 | CA38: =CA39+CA40 -> 428027.77 | CB38: =CA38/DN38-1 -> 0.53383435 | CC38: =SUM(CC39:CC40) -> 504186.57 | CD38: =CC38/DO38-1 -> 0.17909305 | CE38: 485986.15 | CF38: =CE38/DP38-1 -> 0.15909059 | CG38: 495340.38 | CH38: =CG38/DQ38-1 -> 0.12184066 | CI38: 484790.8 | CJ38: =CI38/DR38-1 -> 0.21171644 | CK38: =CK39+CK40 -> 496037.34 | CL38: =CK38/DS38-1 -> 0.19628723 | CM38: 513693.78 | CN38: =CM38/DT38-1 -> 0.24934238 | CO38: =SUM(CO39:CO40) -> 500228.93 | CP38: =CO38/DU38-1 -> 0.14204324 | CQ38: =SUM(CQ39:CQ40) -> 492657.78 | CR38: =CQ38/DV38-1 -> 0.15402086 | CS38: =CS39+CS40 -> 511369.39 | CT38: =CS38/DX38-1 -> 0.17255022 | CU38: =CU39+CU40 -> 530569.41 | CV38: =CU38/DX38-1 -> 0.21657512 | CW38: =BY38+CA38+CC38+CE38+CG38+CI38+CK38+CM38+CO38+CQ38+CS38+CU38 -> 5782151.5 | CX38: =CW38/SUM(DM38:DX38)-1 -> 0.18307359 | CZ38: =CU38/CS38-1 -> 0.037546282 | DA38: =CS38/CQ38-1 -> 0.037980931 | DM38: 369093.7 | DN38: 279057.36 | DO38: 427605.41 | DP38: 419282.29 | DQ38: 441542.54 | DR38: 400086.01 | DS38: 414647.36 | DT38: 411171.34 | DU38: 438012.25 | DV38: 426905.44 | DW38: 423877.05 | DX38: 436117.26 | DY38: -0.0013266201 | DZ38: =SUM(DM38:DX38) -> 4887398 | EA38: =IFERROR(DZ38/SUM(EC38:EN38)-1,"") -> -0.11008437 | EC38: =EC39+EC40 -> 535915.7 | ED38: =ED39+ED40 -> 278121.66 | EE38: =EE39+EE40 -> 441425.88 | EF38: =EF39+EF40 -> 526719.58 | EG38: =EG39+EG40 -> 528244.64 | EH38: =EH39+EH40 -> 507421.04 | EI38: =EI39+EI40 -> 444795.75 | EJ38: =EJ39+EJ40 -> 464430.94 | ... EN38: =EN39+EN40 -> 436696.59 | EO38: =SUM(EC38:EN38) -> 5491979.1
B39: 规上货物周转量 (万吨公里) | C39: 85975.352 | D39: =C39/V39-1 -> -0.044020686 | E39: 70041.806 | F39: =E39/X39-1 -> -0.086819473 | G39: 74518.378 | H39: =G39/Z39-1 -> -0.16007461 | I39: 79662.66 | J39: =I39/AB39-1 -> -0.16991642 | K39: 90461.487 | L39: =K39/AD39-1 -> -0.25962547 | M39: 99449.26 | N39: =M39/AF39-1 -> -0.16764752 | O39: 100128.69 | P39: =O39/AH39-1 -> -0.0070720736 | S39: =C39+E39+G39+I39+K39+M39+O39+Q39 -> 600237.63 | T39: =S39/SUM(V39,X39,Z39,AB39,AD39,AF39,AH39,AJ39)-1 -> -0.23581953 | V39: 89934.323 | W39: =V39/AX39-1 -> 0.092055131 | X39: 76700.942 | Y39: =X39/AZ39-1 -> 0.52490785 | Z39: 88720.235 | AA39: =Z39/BB39-1 -> 0.088684684 | AB39: 95969.445 | AC39: =AB39/BD39-1 -> 0.12121456 | AD39: 122183.41 | AE39: =AD39/BF39-1 -> 0.42592024 | AF39: 119479.74 | AG39: =AF39/BH39-1 -> 0.3055893 | AH39: 100841.85 | AI39: =AH39/BJ39-1 -> 0.17046183 | AJ39: 91635.858 | AK39: =AJ39/BL39-1 -> 0.035178816 | AL39: 90134.955 | AM39: =AL39/BN39-1 -> 0.02871305 | AN39: 94198.735 | AO39: =AN39/BP39-1 -> 0.036611679 | AP39: 94885.775 | AQ39: =AP39/BR39-1 -> -0.0027129497 | AR39: 97300.068 | AS39: =AR39/BT39-1 -> -0.16758803 | AT39: =V39+X39+Z39+AB39+AD39+AF39+AH39+AJ39+AL39+AN39+AP39+AR39 -> 1161985.3 | AU39: =AT39/SUM(AX39,AZ39,BB39,BD39,BF39,BH39,BJ39,BL39,BN39,BP39,BR39,BT39)-1 -> 0.11499692 | AW39: =AX39+AZ39+BB39+BD39+BF39+BH39+BJ39+BL39+BN39+BP39+BR39 -> 925252.88 | AX39: 82353.281 | AY39: =AX39/BY39-1 -> 0.86109644 | AZ39: 50298.739 | BA39: =AZ39/CA39-1 -> -0.040587779 | BB39: 81493.05 | BC39: =BB39/CC39-1 -> 0.38723931 | BD39: 85594.183 | BE39: =BD39/CE39-1 -> 0.46303292 | BF39: 85687.41 | BG39: =BF39/CG39-1 -> 0.51029204 | BH39: 91514.033 | BI39: =BH39/CI39-1 -> 0.51835702 | BJ39: 86155.61 | BK39: =BJ39/CK39-1 -> 0.52205263 | BL39: 88521.767 | BM39: =BL39/CM39-1 -> 0.54456776 | BN39: 87619.143 | BO39: =BN39/CO39-1 -> 0.45815427 | BP39: 90871.767 | BQ39: =BP39/CQ39-1 -> 0.5312044 | BR39: 95143.896 | BS39: =BR39/CS39-1 -> 0.37067969 | BT39: 116889.32 | BU39: =BT39/CU39-1 -> 0.52755021 | BV39: =AX39+AZ39+BB39+BD39+BF39+BH39+BJ39+BL39+BN39+BP39+BR39+BT39 -> 1042142.2 | BW39: =BV39/SUM(BY39,CA39,CC39,CE39,CG39,CI39,CK39,CM39,CO39,CQ39,CS39,CU39)-1 -> 0.46735136 | BY39: 44249.873 | BZ39: =BY39/DM39-1 -> 3.2139751 | CA39: 52426.619 | CB39: =CA39/DN39-1 -> 4.1835617 | CC39: 58744.767 | CD39: =CC39/DO39-1 -> 4.0781146 | CE39: 58504.619 | CF39: =CE39/DP39-1 -> 4.759229 | CG39: 56735.656 | CH39: =CG39/DQ39-1 -> 4.0300164 | CI39: 60271.749 | CJ39: =CI39/DR39-1 -> 4.6819482 | CK39: 56604.882 | CL39: =CK39/DS39-1 -> 4.4297998 | CM39: 57311.676 | CN39: =CM39/DT39-1 -> 4.6902329 | CO39: 60089.076 | CP39: =CO39/DU39-1 -> 4.8375985 | CQ39: 59346.595 | CR39: =CQ39/DV39-1 -> 4.7327607 | CS39: 69413.661 | CT39: =CS39/DX39-1 -> 5.6674845 | CU39: 76520.771 | CV39: =CU39/DX39-1 -> 6.3501533 | CW39: =BY39+CA39+CC39+CE39+CG39+CI39+CK39+CM39+CO39+CQ39+CS39+CU39 -> 710219.94 | CX39: =CW39/SUM(DM39:DX39)-1 -> 4.6471503 | CZ39: =CU39/CS39-1 -> 0.10238776 | DA39: =CS39/CQ39-1 -> 0.16963175 | DM39: 10500.744 | DN39: 10114.014 | DO39: 11568.224 | DP39: 10158.412 | DQ39: 11279.418 | DR39: 10607.585 | DS39: 10424.856 | DT39: 10071.939 | DU39: 10293.458 | DV39: 10352.184 | DW39: 9984.4711 | DX39: 10410.772 | DY39: -0.1282707 | DZ39: =SUM(DM39:DX39) -> 125766.08 | EA39: =IFERROR(DZ39/SUM(EC39:EN39)-1,"") -> 0.043011393 | EC39: 10480.064 | ED39: 7477.3938 | EE39: 9376.9398 | EF39: 9450.6698 | EG39: 9460.6443 | EH39: 9715.1838 | EI39: 9960.4595 | EJ39: 9807.5993 | EK39: 10774.204 | EL39: 11020.046 | EM39: 11113.902 | EN39: 11942.666 | EO39: =SUM(EC39:EN39) -> 120579.77 | EQ39: =SUM(EC39:EN39) -> 120579.77
B40: 规下货物周转量 (万吨公里) | C40: 427785.08 | D40: =C40/V40-1 -> 0.19878796 | E40: 291026.18 | F40: =E40/X40-1 -> -0.1848883 | G40: 469429.04 | H40: =G40/Z40-1 -> -0.024842596 | I40: 472779.75 | J40: =I40/AB40-1 -> 0.01317008 | K40: 469806.26 | L40: =K40/AD40-1 -> 0.033077485 | M40: 436160.8 | N40: =M40/AF40-1 -> 0.05958914 | O40: 421583.95 | P40: =O40/AH40-1 -> 0.0098486869 | S40: =C40+E40+G40+I40+K40+M40+O40+Q40 -> 2988571.1 | T40: =S40/SUM(V40,X40,Z40,AB40,AD40,AF40,AH40,AJ40)-1 -> -0.11420286 | V40: 356847.99 | W40: =V40/AX40-1 -> -0.12808231 | X40: 357038.4 | Y40: =X40/AZ40-1 -> 0.542651 | Z40: 481387.96 | AA40: =Z40/BB40-1 -> 0.097149136 | AB40: 466634.14 | AC40: =AB40/BD40-1 -> 0.097420695 | AD40: 454763.82 | AE40: =AD40/BF40-1 -> 0.036765087 | AF40: 411632 | AG40: =AF40/BH40-1 -> 0.049468317 | AH40: 417472.39 | AI40: =AH40/BJ40-1 -> 0.023501303 | AJ40: 428100.81 | AK40: =AJ40/BL40-1 -> 0.031927869 | AL40: 435655.66 | AM40: =AL40/BN40-1 -> 0.026666844 | AN40: 393234.42 | AO40: =AN40/BP40-1 -> -0.070711959 | AP40: 413885.84 | AQ40: =AP40/BR40-1 -> -0.037686895 | AR40: 438030.11 | AS40: =AR40/BT40-1 -> -0.048353692 | AT40: =V40+X40+Z40+AB40+AD40+AF40+AH40+AJ40+AL40+AN40+AP40+AR40 -> 5054683.6 | AU40: =AT40/SUM(AX40,AZ40,BB40,BD40,BF40,BH40,BJ40,BL40,BN40,BP40,BR40,BT40)-1 -> 0.032374723 | AW40: =AX40+AZ40+BB40+BD40+BF40+BH40+BJ40+BL40+BN40+BP40+BR40 -> 4435884.7 | AX40: 409267.98 | AY40: =AX40/BY40-1 -> 0.38728626 | AZ40: 231444.7 | BA40: =AZ40/CA40-1 -> -0.38380192 | BB40: 438762.56 | BC40: =BB40/CC40-1 -> -0.014994648 | BD40: 425209.89 | BE40: =BD40/CE40-1 -> -0.0053139982 | BF40: 438637.28 | BG40: =BF40/CG40-1 -> 7.424018e-05 | BH40: 392229.09 | BI40: =BH40/CI40-1 -> -0.076062457 | BJ40: 407886.53 | BK40: =BJ40/CK40-1 -> -0.0717879 | BL40: 414855.36 | BM40: =BL40/CM40-1 -> -0.090991185 | BN40: 424339.86 | BO40: =BN40/CO40-1 -> -0.035897668 | BP40: 423156.66 | BQ40: =BP40/CQ40-1 -> -0.023434737 | BR40: 430094.78 | BS40: =BR40/CS40-1 -> -0.026837401 | BT40: 460286.67 | BU40: =BT40/CU40-1 -> 0.013738694 | BV40: =AX40+AZ40+BB40+BD40+BF40+BH40+BJ40+BL40+BN40+BP40+BR40+BT40 -> 4896171.4 | BW40: =BV40/SUM(BY40,CA40,CC40,CE40,CG40,CI40,CK40,CM40,CO40,CQ40,CS40,CU40)-1 -> -0.034653508 | BY40: 295013.36 | BZ40: =BY40/DM40-1 -> -0.17730296 | CA40: 375601.15 | CB40: =CA40/DN40-1 -> 0.39658093 | CC40: 445441.8 | CD40: =CC40/DO40-1 -> 0.070677851 | CE40: 427481.53 | CF40: =CE40/DP40-1 -> 0.044870658 | CG40: 438604.72 | CH40: =CG40/DQ40-1 -> 0.019387193 | CI40: 424519.05 | CJ40: =CI40/DR40-1 -> 0.089968069 | CK40: 439432.46 | CL40: =CK40/DS40-1 -> 0.08710538 | CM40: 456382.11 | CN40: =CM40/DT40-1 -> 0.13782793 | CO40: 440139.85 | CP40: =CO40/DU40-1 -> 0.02904025 | CQ40: 433311.19 | CR40: =CQ40/DV40-1 -> 0.040229984 | CS40: 441955.72 | CT40: =CS40/DX40-1 -> 0.038170056 | CU40: 454048.63 | CV40: =CU40/DX40-1 -> 0.066576741 | CW40: =BY40+CA40+CC40+CE40+CG40+CI40+CK40+CM40+CO40+CQ40+CS40+CU40 -> 5071931.6 | CX40: =CW40/SUM(DM40:DX40)-1 -> 0.065166659 | CZ40: =CU40/CS40-1 -> 0.027362266 | DA40: =CS40/CQ40-1 -> 0.019949946 | DM40: 358592.95 | DN40: 268943.35 | DO40: 416037.19 | DP40: 409123.87 | DQ40: 430263.12 | DR40: 389478.43 | DS40: 404222.51 | DT40: 401099.4 | DU40: 427718.79 | DV40: 416553.26 | DW40: 413892.58 | DX40: 425706.48 | DY40: 0.0022426247 | DZ40: =SUM(DM40:DX40) -> 4761631.9 | EA40: =IFERROR(DZ40/SUM(EC40:EN40)-1,"") -> -0.11352114 | EC40: 525435.64 | ED40: 270644.26 | EE40: 432048.94 | EF40: 517268.91 | EG40: 518784 | EH40: 497705.86 | EI40: 434835.29 | EJ40: 454623.34 | EK40: 443273.15 | EL40: 402881.25 | EM40: 449144.75 | EN40: 424753.92 | EO40: =SUM(EC40:EN40) -> 5371399.3 | EQ40: =SUM(EC40:EN40) -> 5371399.3
A41: 鄂州市 | B41: 规上+规下货运量 (万吨) | C41: 235.76325 | D41: =C41/V41-1 -> 0.20340761 | E41: 164.41449 | F41: =E41/X41-1 -> -0.097971501 | G41: 217.66524 | H41: =G41/Z41-1 -> 0.0068162082 | I41: 206.79756 | J41: =I41/AB41-1 -> 0.019775871 | K41: 205.90331 | L41: =K41/AD41-1 -> 0.077372782 | M41: 211.58039 | N41: =M41/AF41-1 -> 0.12714649 | O41: 196.92796 | P41: =O41/AH41-1 -> 0.034468671 | S41: =C41+E41+G41+I41+K41+M41+O41+Q41 -> 1439.0522 | T41: =S41/SUM(V41,X41,Z41,AB41,AD41,AF41,AH41,AJ41)-1 -> -0.07614921 | V41: 195.91304 | W41: =V41/AX41-1 -> -0.10652908 | X41: 182.27195 | Y41: =X41/AZ41-1 -> 0.48035974 | Z41: 216.19163 | AA41: =Z41/BB41-1 -> 0.16661881 | AB41: 202.78727 | AC41: =AB41/BD41-1 -> 0.10855246 | AD41: 191.11612 | AE41: =AD41/BF41-1 -> 0.083014927 | AF41: 187.7133 | AG41: =AF41/BH41-1 -> 0.096421653 | AH41: 190.36629 | AI41: =AH41/BJ41-1 -> 0.051758159 | AJ41: 191.30773 | AK41: =AJ41/BL41-1 -> 0.027625479 | AL41: 229.13941 | AM41: =AL41/BN41-1 -> 0.13331451 | AN41: 211.34778 | AO41: =AN41/BP41-1 -> 0.032446998 | AP41: 235.67972 | AQ41: =AP41/BR41-1 -> 0.0073892387 | AR41: 280.00683 | AS41: =AR41/BT41-1 -> -0.1186786 | AT41: =V41+X41+Z41+AB41+AD41+AF41+AH41+AJ41+AL41+AN41+AP41+AR41 -> 2513.8411 | AU41: =AT41/SUM(AX41,AZ41,BB41,BD41,BF41,BH41,BJ41,BL41,BN41,BP41,BR41,BT41)-1 -> 0.054449073 | AW41: =AX41+AZ41+BB41+BD41+BF41+BH41+BJ41+BL41+BN41+BP41+BR41 -> 2066.3202 | AX41: 219.27187 | AY41: =AX41/BY41-1 -> 0.78332401 | AZ41: 123.12679 | BA41: =AZ41/CA41-1 -> -0.25917836 | BB41: 185.31472 | BC41: =BB41/CC41-1 -> 0.053497689 | BD41: 182.92979 | BE41: =BD41/CE41-1 -> 0.19862697 | BF41: 176.46675 | BG41: =BF41/CG41-1 -> 0.13888478 | BH41: 171.2054 | BI41: =BH41/CI41-1 -> 0.004891611 | BJ41: 180.99815 | BK41: =BJ41/CK41-1 -> 0.063206343 | BL41: 186.16484 | BM41: =BL41/CM41-1 -> 0.017885813 | BN41: 202.18519 | BO41: =BN41/CO41-1 -> 0.064341536 | BP41: 204.7057 | BQ41: =BP41/CQ41-1 -> 0.0014415376 | BR41: 233.951 | BS41: =BR41/CS41-1 -> 0.014046265 | BT41: 317.71251 | BU41: =BT41/CU41-1 -> 0.11839612 | BV41: =AX41+AZ41+BB41+BD41+BF41+BH41+BJ41+BL41+BN41+BP41+BR41+BT41 -> 2384.0327 | BW41: =BV41/SUM(BY41,CA41,CC41,CE41,CG41,CI41,CK41,CM41,CO41,CQ41,CS41,CU41)-1 -> 0.081049998 | BY41: 122.95683 | BZ41: =BY41/DM41-1 -> -0.071681663 | CA41: 166.20302 | CB41: =CA41/DN41-1 -> 0.47710188 | CC41: 175.90424 | CD41: =CC41/DO41-1 -> 0.18649564 | CE41: 152.61612 | CF41: =CE41/DP41-1 -> 0.25065945 | CG41: 154.94697 | CH41: =CG41/DQ41-1 -> 0.13600789 | CI41: 170.372 | CJ41: =CI41/DR41-1 -> 0.24175437 | CK41: 170.23803 | CL41: =CK41/DS41-1 -> 0.20909444 | CM41: 182.89364 | CN41: =CM41/DT41-1 -> 0.2689867 | CO41: 189.9627 | CP41: =CO41/DU41-1 -> 0.10608185 | CQ41: 204.41103 | CR41: =CQ41/DV41-1 -> 0.16962137 | CS41: 230.71038 | CT41: =CS41/DX41-1 -> 0.31549847 | CU41: 284.0787 | CV41: =CU41/DX41-1 -> 0.61980177 | CW41: =BY41+CA41+CC41+CE41+CG41+CI41+CK41+CM41+CO41+CQ41+CS41+CU41 -> 2205.2937 | CX41: =CW41/SUM(DM41:DX41)-1 -> 0.23741589 | CZ41: =CU41/CS41-1 -> 0.23132167 | DA41: =CS41/CQ41-1 -> 0.12865916 | DM41: 132.45115 | DN41: 112.51967 | DO41: 148.25528 | DP41: 122.02851 | DQ41: 136.39604 | DR41: 137.20266 | DS41: 140.79796 | DT41: 144.12573 | DU41: 171.7438 | DV41: 174.76684 | DW41: 186.51028 | DX41: 175.37868 | DY41: -0.021942145 | DZ41: =SUM(DM41:DX41) -> 1782.1766 | EA41: =IFERROR(DZ41/SUM(EC41:EN41)-1,"") -> -0.038393284 | EC41: 176.0401 | ED41: 92.701715 | EE41: 137.75565 | EF41: 155.06511 | EG41: 151.69987 | EH41: 171.86749 | EI41: 151.85829 | EJ41: 142.96702 | EK41: 160.79222 | EL41: 157.30369 | EM41: 175.96777 | EN41: 179.3132 | EO41: =SUM(EC41:EN41) -> 1853.3321 | EQ41: =SUM(EC41:EN41) -> 1853.3321
B42: 规上货运量 (万吨) | C42: 93.97 | D42: =C42/V42-1 -> 0.11832702 | E42: 92.6829 | F42: =E42/X42-1 -> 0.13396049 | G42: 136.4071 | H42: =G42/Z42-1 -> 0.40870584 | I42: 122.0455 | J42: =I42/AB42-1 -> 0.42977222 | K42: 124.0954 | L42: =K42/AD42-1 -> 0.745379 | M42: 122.807 | N42: =M42/AF42-1 -> 0.61257368 | O42: 88.2501 | P42: =O42/AH42-1 -> 0.32663228 | S42: =C42+E42+G42+I42+K42+M42+O42+Q42 -> 780.258 | T42: =S42/SUM(V42,X42,Z42,AB42,AD42,AF42,AH42,AJ42)-1 -> 0.23347551 | V42: 84.0273 | W42: =V42/AX42-1 -> -0.16964722 | X42: 81.7338 | Y42: =X42/AZ42-1 -> 0.05071154 | Z42: 96.8315 | AA42: =Z42/BB42-1 -> 0.25446304 | AB42: 85.3601 | AC42: =AB42/BD42-1 -> 0.17669415 | AD42: 71.0994 | AE42: =AD42/BF42-1 -> 0.019682476 | AF42: 76.1559 | AG42: =AF42/BH42-1 -> 0.18705917 | AH42: 66.5219 | AI42: =AH42/BJ42-1 -> 0.066173984 | AJ42: 70.8388 | AK42: =AJ42/BL42-1 -> 0.15157515 | AL42: 126.7464 | AM42: =AL42/BN42-1 -> 1.0718998 | AN42: 88.3077 | AO42: =AN42/BP42-1 -> 0.38089095 | AP42: 85.3593 | AQ42: =AP42/BR42-1 -> 0.02652561 | AR42: 83.883 | AS42: =AR42/BT42-1 -> -0.53458011 | AT42: =V42+X42+Z42+AB42+AD42+AF42+AH42+AJ42+AL42+AN42+AP42+AR42 -> 1016.8651 | AU42: =AT42/SUM(AX42,AZ42,BB42,BD42,BF42,BH42,BJ42,BL42,BN42,BP42,BR42,BT42)-1 -> 0.04292391 | AW42: =AX42+AZ42+BB42+BD42+BF42+BH42+BJ42+BL42+BN42+BP42+BR42 -> 794.7829 | AX42: 101.1947 | AY42: =AX42/BY42-1 -> 0.16936721 | AZ42: 77.789 | BA42: =AZ42/CA42-1 -> -0.14005585 | BB42: 77.1896 | BC42: =BB42/CC42-1 -> -0.17139422 | BD42: 72.5423 | BE42: =BD42/CE42-1 -> 0.010532665 | BF42: 69.727 | BG42: =BF42/CG42-1 -> 0.12545134 | BH42: 64.1551 | BI42: =BH42/CI42-1 -> -0.3378946 | BJ42: 62.3931 | BK42: =BJ42/CK42-1 -> -0.26945382 | BL42: 61.5147 | BM42: =BL42/CM42-1 -> -0.25126706 | BN42: 61.174 | BO42: =BN42/CO42-1 -> -0.22022664 | BP42: 63.9498 | BQ42: =BP42/CQ42-1 -> -0.27542042 | BR42: 83.1536 | BS42: =BR42/CS42-1 -> -0.35021782 | BT42: 180.2308 | BU42: =BT42/CU42-1 -> 0.06672901 | BV42: =AX42+AZ42+BB42+BD42+BF42+BH42+BJ42+BL42+BN42+BP42+BR42+BT42 -> 975.0137 | BW42: =BV42/SUM(BY42,CA42,CC42,CE42,CG42,CI42,CK42,CM42,CO42,CQ42,CS42,CU42)-1 -> -0.13867287 | BY42: 86.538 | BZ42: =BY42/DM42-1 -> 3.066043 | CA42: 90.4582 | CB42: =CA42/DN42-1 -> 3.8105317 | CC42: 93.156 | CD42: =CC42/DO42-1 -> 3.8170517 | CE42: 71.7862 | CF42: =CE42/DP42-1 -> 2.7138541 | CG42: 61.9547 | CH42: =CG42/DQ42-1 -> 2.1912054 | CI42: 96.8956 | CJ42: =CI42/DR42-1 -> 2.0943616 | CK42: 85.4061 | CL42: =CK42/DS42-1 -> 1.6544325 | CM42: 82.1584 | CN42: =CM42/DT42-1 -> 1.5830614 | CO42: 78.451 | CP42: =CO42/DU42-1 -> 0.23392924 | CQ42: 88.2578 | CR42: =CQ42/DV42-1 -> 0.092568591 | CS42: 127.9715 | CT42: =CS42/DX42-1 -> 0.70991853 | CU42: 168.9565 | CV42: =CU42/DX42-1 -> 1.2575484 | CW42: =BY42+CA42+CC42+CE42+CG42+CI42+CK42+CM42+CO42+CQ42+CS42+CU42 -> 1131.99 | CX42: =CW42/SUM(DM42:DX42)-1 -> 1.2833031 | CZ42: =CU42/CS42-1 -> 0.32026662 | DA42: =CS42/CQ42-1 -> 0.44997383 | DL42: 鄂州市 | DM42: 21.2831 | DN42: 18.8042 | DO42: 19.3388 | DP42: 19.3293 | DQ42: 19.4142 | DR42: 31.3136 | DS42: 32.1749 | DT42: 31.8066 | DU42: 63.5782 | DV42: 80.7801 | DW42: 83.1049 | DX42: 74.8407 | DY42: 2.7340628 | DZ42: =SUM(DM42:DX42) -> 495.7686 | EA42: =IFERROR(DZ42/SUM(EC42:EN42)-1,"") -> 0.85326574 | EC42: 23.9025 | ED42: 22.1369 | EE42: 25.7831 | EF42: 23.2322 | EG42: 21.118 | EH42: 22.2616 | EI42: 20.4522 | EJ42: 22.1513 | EK42: 22.4784 | EL42: 22.6202 | EM42: 21.3317 | EN42: 20.0427 | EO42: =SUM(EC42:EN42) -> 267.5108 | EQ42: =SUM(EC42:EN42) -> 267.5108
B43: 规下货运量 (万吨) | C43: 141.79325 | D43: =C43/V43-1 -> 0.26730397 | E43: 71.731591 | F43: =E43/X43-1 -> -0.28652364 | G43: 81.258139 | H43: =G43/Z43-1 -> -0.31921876 | I43: 84.752065 | J43: =I43/AB43-1 -> -0.27825847 | K43: 81.80791 | L43: =K43/AD43-1 -> -0.31836241 | M43: 88.77339 | N43: =M43/AF43-1 -> -0.20423577 | O43: 108.67786 | P43: =O43/AH43-1 -> -0.12246439 | S43: =C43+E43+G43+I43+K43+M43+O43+Q43 -> 658.7942 | T43: =S43/SUM(V43,X43,Z43,AB43,AD43,AF43,AH43,AJ43)-1 -> -0.28786599 | V43: 111.88574 | W43: =V43/AX43-1 -> -0.052435464 | X43: 100.53815 | Y43: =X43/AZ43-1 -> 1.2175351 | Z43: 119.36013 | AA43: =Z43/BB43-1 -> 0.10390756 | AB43: 117.42717 | AC43: =AB43/BD43-1 -> 0.06377243 | AD43: 120.01672 | AE43: =AD43/BF43-1 -> 0.12438641 | AF43: 111.5574 | AG43: =AF43/BH43-1 -> 0.042102707 | AH43: 123.84439 | AI43: =AH43/BJ43-1 -> 0.044174603 | AJ43: 120.46893 | AK43: =AJ43/BL43-1 -> -0.033543542 | AL43: 102.39301 | AM43: =AL43/BN43-1 -> -0.27386606 | AN43: 123.04008 | AO43: =AN43/BP43-1 -> -0.12586197 | AP43: 150.32042 | AQ43: =AP43/BR43-1 -> -0.0031630531 | AR43: 196.12383 | AS43: =AR43/BT43-1 -> 0.4265449 | AT43: =V43+X43+Z43+AB43+AD43+AF43+AH43+AJ43+AL43+AN43+AP43+AR43 -> 1496.976 | AU43: =AT43/SUM(AX43,AZ43,BB43,BD43,BF43,BH43,BJ43,BL43,BN43,BP43,BR43,BT43)-1 -> 0.062424261 | AW43: =AX43+AZ43+BB43+BD43+BF43+BH43+BJ43+BL43+BN43+BP43+BR43 -> 1271.5373 | AX43: 118.07717 | AY43: =AX43/BY43-1 -> 2.2422009 | AZ43: 45.337793 | BA43: =AZ43/CA43-1 -> -0.40144035 | BB43: 108.12512 | BC43: =BB43/CC43-1 -> 0.30667564 | BD43: 110.38749 | BE43: =BD43/CE43-1 -> 0.3656762 | BF43: 106.73975 | BG43: =BF43/CG43-1 -> 0.1478346 | BH43: 107.0503 | BI43: =BH43/CI43-1 -> 0.45693437 | BJ43: 118.60505 | BK43: =BJ43/CK43-1 -> 0.39811805 | BL43: 124.65014 | BM43: =BL43/CM43-1 -> 0.23740353 | BN43: 141.01119 | BO43: =BN43/CO43-1 -> 0.26454167 | BP43: 140.7559 | BQ43: =BP43/CQ43-1 -> 0.21181215 | BR43: 150.7974 | BS43: =BR43/CS43-1 -> 0.46777342 | BT43: 137.48171 | BU43: =BT43/CU43-1 -> 0.19422419 | BV43: =AX43+AZ43+BB43+BD43+BF43+BH43+BJ43+BL43+BN43+BP43+BR43+BT43 -> 1409.019 | BW43: =BV43/SUM(BY43,CA43,CC43,CE43,CG43,CI43,CK43,CM43,CO43,CQ43,CS43,CU43)-1 -> 0.31278692 | BY43: 36.418834 | BZ43: =BY43/DM43-1 -> -0.67239838 | CA43: 75.744819 | CB43: =CA43/DN43-1 -> -0.19175759 | CC43: 82.748244 | CD43: =CC43/DO43-1 -> -0.35812517 | CE43: 80.829915 | CF43: =CE43/DP43-1 -> -0.21294515 | CG43: 92.992274 | CH43: =CG43/DQ43-1 -> -0.20507083 | CI43: 73.476402 | CJ43: =CI43/DR43-1 -> -0.30610016 | CK43: 84.831931 | CL43: =CK43/DS43-1 -> -0.21902467 | CM43: 100.73524 | CN43: =CM43/DT43-1 -> -0.10313376 | CO43: 111.5117 | CP43: =CO43/DU43-1 -> 0.030934976 | CQ43: 116.15323 | CR43: =CQ43/DV43-1 -> 0.23584699 | CS43: 102.73888 | CT43: =CS43/DX43-1 -> 0.021891282 | CU43: 115.1222 | CV43: =CU43/DX43-1 -> 0.14506176 | CW43: =BY43+CA43+CC43+CE43+CG43+CI43+CK43+CM43+CO43+CQ43+CS43+CU43 -> 1073.3037 | CX43: =CW43/SUM(DM43:DX43)-1 -> -0.16565844 | CZ43: =CU43/CS43-1 -> 0.12053188 | DA43: =CS43/CQ43-1 -> -0.11548838 | DM43: 111.16805 | DN43: 93.715472 | DO43: 128.91648 | DP43: 102.69921 | DQ43: 116.98184 | DR43: 105.88906 | DS43: 108.62306 | DT43: 112.31913 | DU43: 108.1656 | DV43: 93.986742 | DW43: 103.40538 | DX43: 100.53798 | DY43: -0.36875955 | DZ43: =SUM(DM43:DX43) -> 1286.408 | EA43: =IFERROR(DZ43/SUM(EC43:EN43)-1,"") -> -0.18880646 | EC43: 152.1376 | ED43: 70.564815 | EE43: 111.97255 | EF43: 131.83291 | EG43: 130.58187 | EH43: 149.60589 | EI43: 131.40609 | EJ43: 120.81572 | EK43: 138.31382 | EL43: 134.68349 | EM43: 154.63607 | EN43: 159.2705 | EO43: =SUM(EC43:EN43) -> 1585.8213 | EQ43: =SUM(EC43:EN43) -> 1585.8213
B44: 规上+规下周转量 (万吨公里) | C44: =C45+C46 -> 17119.035 | D44: =C44/V44-1 -> 0.084504079 | E44: =E45+E46 -> 12817.749 | F44: =E44/X44-1 -> -0.18441092 | G44: =G45+G46 -> 15537.681 | H44: =G44/Z44-1 -> -0.08835463 | I44: =I45+I46 -> 14279.873 | J44: =I44/AB44-1 -> -0.058922977 | K44: =K45+K46 -> 13887.884 | L44: =K44/AD44-1 -> -0.067466427 | M44: =M45+M46 -> 15011.811 | N44: =M44/AF44-1 -> -0.026889307 | O44: =O45+O46 -> 12779.331 | P44: =O44/AH44-1 -> -0.028892565 | S44: =C44+E44+G44+I44+K44+M44+O44+Q44 -> 101433.36 | T44: =S44/SUM(V44,X44,Z44,AB44,AD44,AF44,AH44,AJ44)-1 -> -0.16011491 | V44: =V45+V46 -> 15785.127 | W44: =V44/AX44-1 -> -0.13963499 | X44: =X45+X46 -> 15715.94 | Y44: =X44/AZ44-1 -> 0.38322901 | Z44: =Z45+Z46 -> 17043.558 | AA44: =Z44/BB44-1 -> 0.16783882 | AB44: =AB45+AB46 -> 15173.969 | AC44: =AB44/BD44-1 -> 0.14781399 | AD44: =AD45+AD46 -> 14892.637 | AE44: =AD44/BF44-1 -> 0.15433188 | AF44: =AF45+AF46 -> 15426.622 | AG44: =AF44/BH44-1 -> 0.15446645 | AH44: =AH45+AH46 -> 13159.544 | AI44: =AH44/BJ44-1 -> -0.02106897 | AJ44: =AJ45+AJ46 -> 13573.129 | AK44: =AJ44/BL44-1 -> -0.0083066869 | AL44: =AL45+AL46 -> 14946.708 | AM44: =AL44/BN44-1 -> 0.031033155 | AN44: =AN45+AN46 -> 15735.106 | AO44: =AN44/BP44-1 -> -0.028789181 | AP44: =AP45+AP46 -> 17922.217 | AQ44: =AP44/BR44-1 -> -0.065408287 | AR44: =AR45+AR46 -> 21097.508 | AS44: =AR44/BT44-1 -> -0.25779102 | AT44: =V44+X44+Z44+AB44+AD44+AF44+AH44+AJ44+AL44+AN44+AP44+AR44 -> 190472.07 | AU44: =AT44/SUM(AX44,AZ44,BB44,BD44,BF44,BH44,BJ44,BL44,BN44,BP44,BR44,BT44)-1 -> 0.0066349775 | AW44: =AX44+AZ44+BB44+BD44+BF44+BH44+BJ44+BL44+BN44+BP44+BR44 -> 160791.32 | AX44: =AX45+AX46 -> 18347.012 | AY44: =AX44/BY44-1 -> 0.55096043 | AZ44: =AZ45+AZ46 -> 11361.778 | BA44: =AZ44/CA44-1 -> -0.17727629 | BB44: =BB45+BB46 -> 14594.101 | BC44: =BB44/CC44-1 -> 0.08202722 | BD44: =BD45+BD46 -> 13219.885 | BE44: =BD44/CE44-1 -> 0.14716438 | BF44: =BF45+BF46 -> 12901.521 | BG44: =BF44/CG44-1 -> 0.090999948 | BH44: =BH45+BH46 -> 13362.555 | BI44: =BH44/CI44-1 -> -0.031779622 | BJ44: =BJ45+BJ46 -> 13442.77 | BK44: =BJ44/CK44-1 -> 0.0019516544 | BL44: =BL45+BL46 -> 13686.821 | BM44: =BL44/CM44-1 -> -0.0630242 | BN44: =BN45+BN46 -> 14496.826 | BO44: =BN44/CO44-1 -> -0.063276368 | BP44: =BP45+BP46 -> 16201.535 | BQ44: =BP44/CQ44-1 -> -0.083316431 | BR44: =BR45+BR46 -> 19176.52 | BS44: =BR44/CS44-1 -> -0.088748591 | BT44: =BT45+BT46 -> 28425.294 | BU44: =BT44/CU44-1 -> 0.1583779 | BV44: =AX44+AZ44+BB44+BD44+BF44+BH44+BJ44+BL44+BN44+BP44+BR44+BT44 -> 189216.62 | BW44: =BV44/SUM(BY44,CA44,CC44,CE44,CG44,CI44,CK44,CM44,CO44,CQ44,CS44,CU44)-1 -> 0.033773362 | BY44: =BY45+BY46 -> 11829.452 | BZ44: =BY44/DM44-1 -> 0.0016417072 | CA44: =CA45+CA46 -> 13809.955 | CB44: =CA44/DN44-1 -> 0.55819027 | CC44: =SUM(CC45:CC46) -> 13487.74 | CD44: =CC44/DO44-1 -> 0.130727 | CE44: 11523.967 | CF44: =CE44/DP44-1 -> 0.12655756 | CG44: 11825.409 | CH44: =CG44/DQ44-1 -> 0.037826716 | CI44: =CI45+CI46 -> 13801.151 | CJ44: =CI44/DR44-1 -> 0.22714739 | CK44: =CK45+CK46 -> 13416.585 | CL44: =CK44/DS44-1 -> 0.19104312 | CM44: 14607.443 | CN44: =CM44/DT44-1 -> 0.23042854 | CO44: =SUM(CO45:CO46) -> 15476.097 | CP44: =CO44/DU44-1 -> 0.056894479 | CQ44: =SUM(CQ45:CQ46) -> 17674.076 | CR44: =CQ44/DV44-1 -> 0.016501803 | CS44: =CS45+CS46 -> 21044.159 | CT44: =CS44/DX44-1 -> 0.077292911 | CU44: =CU45+CU46 -> 24538.878 | CV44: =CU44/DX44-1 -> 0.25619459 | CW44: =BY44+CA44+CC44+CE44+CG44+CI44+CK44+CM44+CO44+CQ44+CS44+CU44 -> 183034.91 | CX44: =CW44/SUM(DM44:DX44)-1 -> 0.14571187 | CZ44: =CU44/CS44-1 -> 0.16606596 | DA44: =CS44/CQ44-1 -> 0.19067944 | DM44: 11810.063 | DN44: 8862.817 | DO44: 11928.379 | DP44: 10229.364 | DQ44: 11394.397 | DR44: 11246.531 | DS44: 11264.567 | DT44: 11871.834 | DU44: 14642.992 | DV44: 17387.157 | DW44: 19584.1 | DX44: 19534.297 | DY44: 0.24760649 | DZ44: =SUM(DM44:DX44) -> 159756.5 | EA44: =IFERROR(DZ44/SUM(EC44:EN44)-1,"") -> 0.062855493 | EC44: =EC45+EC46 -> 14261.71 | ED44: =ED45+ED46 -> 7820.823 | EE44: =EE45+EE46 -> 10331.186 | EF44: =EF45+EF46 -> 11709.555 | EG44: =EG45+EG46 -> 11535.439 | EH44: =EH45+EH46 -> 13091.623 | EI44: =EI45+EI46 -> 11692.396 | EJ44: =EJ45+EJ46 -> 12429.045 | ... EN44: =EN45+EN46 -> 15657.418 | EO44: =SUM(EC44:EN44) -> 150308.76
B45: 规上货物周转量 (万吨公里) | C45: 5007.3952 | D45: =C45/V45-1 -> -0.44781 | E45: 5066.8202 | F45: =E45/X45-1 -> -0.47661347 | G45: 5704.8297 | H45: =G45/Z45-1 -> -0.5227426 | I45: 5032.3218 | J45: =I45/AB45-1 -> -0.47956529 | K45: 4849.3545 | L45: =K45/AD45-1 -> -0.46222687 | M45: 4836.8822 | N45: =M45/AF45-1 -> -0.46991645 | O45: 1218.075 | P45: =O45/AH45-1 -> -0.61009784 | S45: =C45+E45+G45+I45+K45+M45+O45+Q45 -> 31715.679 | T45: =S45/SUM(V45,X45,Z45,AB45,AD45,AF45,AH45,AJ45)-1 -> -0.51552221 | V45: 9068.2468 | W45: =V45/AX45-1 -> -0.26083555 | X45: 9680.8379 | Y45: =X45/AZ45-1 -> -0.004086134 | Z45: 11953.36 | AA45: =Z45/BB45-1 -> 0.5158196 | AB45: 9669.4584 | AC45: =AB45/BD45-1 -> 0.44611375 | AD45: 9017.4726 | AE45: =AD45/BF45-1 -> 0.46675448 | AF45: 9124.7544 | AG45: =AF45/BH45-1 -> 0.4737401 | AH45: 3124.053 | AI45: =AH45/BJ45-1 -> -0.41357863 | AJ45: 3825.4544 | AK45: =AJ45/BL45-1 -> -0.21247604 | AL45: 4235.0173 | AM45: =AL45/BN45-1 -> 0.023110609 | AN45: 4101.1481 | AO45: =AN45/BP45-1 -> -0.15262105 | AP45: 4113.2192 | AQ45: =AP45/BR45-1 -> -0.41921764 | AR45: 4842.5816 | AS45: =AR45/BT45-1 -> -0.79773198 | AT45: =V45+X45+Z45+AB45+AD45+AF45+AH45+AJ45+AL45+AN45+AP45+AR45 -> 82755.604 | AU45: =AT45/SUM(AX45,AZ45,BB45,BD45,BF45,BH45,BJ45,BL45,BN45,BP45,BR45,BT45)-1 -> -0.16482875 | AW45: =AX45+AZ45+BB45+BD45+BF45+BH45+BJ45+BL45+BN45+BP45+BR45 -> 75146.775 | AX45: 12268.24 | AY45: =AX45/BY45-1 -> 0.20459916 | AZ45: 9720.5574 | BA45: =AZ45/CA45-1 -> -0.050207816 | BB45: 7885.7407 | BC45: =BB45/CC45-1 -> 0.026756212 | BD45: 6686.513 | BE45: =BD45/CE45-1 -> 0.13370874 | BF45: 6147.9087 | BG45: =BF45/CG45-1 -> 0.30614429 | BH45: 6191.5628 | BI45: =BH45/CI45-1 -> -0.34732731 | BJ45: 5327.3178 | BK45: =BJ45/CK45-1 -> -0.36529628 | BL45: 4857.5721 | BM45: =BL45/CM45-1 -> -0.42527008 | BN45: 4139.3543 | BO45: =BN45/CO45-1 -> -0.47265639 | BP45: 4839.8041 | BQ45: =BP45/CQ45-1 -> -0.46169494 | BR45: 7082.2041 | BS45: =BR45/CS45-1 -> -0.452419 | BT45: 23941.41 | BU45: =BT45/CU45-1 -> 0.27662378 | BV45: =AX45+AZ45+BB45+BD45+BF45+BH45+BJ45+BL45+BN45+BP45+BR45+BT45 -> 99088.185 | BW45: =BV45/SUM(BY45,CA45,CC45,CE45,CG45,CI45,CK45,CM45,CO45,CQ45,CS45,CU45)-1 -> -0.12746328 | BY45: 10184.5 | BZ45: =BY45/DM45-1 -> 12.471771 | CA45: 10234.405 | CB45: =CA45/DN45-1 -> 13.956584 | CC45: 7680.2464 | CD45: =CC45/DO45-1 -> 10.781655 | CE45: 5897.9108 | CF45: =CE45/DP45-1 -> 8.1586235 | CG45: 4706.9139 | CH45: =CG45/DQ45-1 -> 5.8361099 | CI45: 9486.4745 | CJ45: =CI45/DR45-1 -> 9.8203412 | CK45: 8393.393 | CL45: =CK45/DS45-1 -> 9.3264255 | CM45: 8451.9214 | CN45: =CM45/DT45-1 -> 8.9217643 | CO45: 7849.4443 | CP45: =CO45/DU45-1 -> -0.096372595 | CQ45: 8990.8204 | CR45: =CQ45/DV45-1 -> -0.11439597 | CS45: 12933.619 | CT45: =CS45/DX45-1 -> 0.1592702 | CU45: 18753.693 | CV45: =CU45/DX45-1 -> 0.68093687 | CW45: =BY45+CA45+CC45+CE45+CG45+CI45+CK45+CM45+CO45+CQ45+CS45+CU45 -> 113563.34 | CX45: =CW45/SUM(DM45:DX45)-1 -> 1.4009238 | CZ45: =CU45/CS45-1 -> 0.44999575 | DA45: =CS45/CQ45-1 -> 0.43853604 | DM45: 755.9882 | DN45: 684.2742 | DO45: 651.8818 | DP45: 643.9735 | DQ45: 688.5369 | DR45: 876.726 | DS45: 812.8072 | DT45: 851.8567 | DU45: 8686.5939 | DV45: 10152.19 | DW45: 11338.333 | DX45: 11156.691 | DY45: 13.802762 | DZ45: =SUM(DM45:DX45) -> 47299.852 | EA45: =IFERROR(DZ45/SUM(EC45:EN45)-1,"") -> 3.9685116 | EC45: 936.8451 | ED45: 756.8276 | EE45: 945.0325 | EF45: 781.1431 | EG45: 733.3142 | EH45: 695.4321 | EI45: 709.7047 | EJ45: 772.2527 | EK45: 835.6722 | EL45: 807.7691 | EM45: 792.2406 | EN45: 753.6898 | EO45: =SUM(EC45:EN45) -> 9519.9237 | EQ45: =SUM(EC45:EN45) -> 9519.9237
B46: 规下货物周转量 (万吨公里) | C46: 12111.639 | D46: =C46/V46-1 -> 0.80316443 | E46: 7750.9291 | F46: =E46/X46-1 -> 0.2843078 | G46: 9832.8512 | H46: =G46/Z46-1 -> 0.93172278 | I46: 9247.5514 | J46: =I46/AB46-1 -> 0.67999532 | K46: 9038.5294 | L46: =K46/AD46-1 -> 0.53843007 | M46: 10174.928 | N46: =M46/AF46-1 -> 0.61458941 | O46: 11561.256 | P46: =O46/AH46-1 -> 0.1520369 | S46: =C46+E46+G46+I46+K46+M46+O46+Q46 -> 69717.685 | T46: =S46/SUM(V46,X46,Z46,AB46,AD46,AF46,AH46,AJ46)-1 -> 0.26056063 | V46: 6716.8802 | W46: =V46/AX46-1 -> 0.10497323 | X46: 6035.1024 | Y46: =X46/AZ46-1 -> 2.6772046 | Z46: 5090.1979 | AA46: =Z46/BB46-1 -> -0.24121583 | AB46: 5504.5102 | AC46: =AB46/BD46-1 -> -0.15747788 | AD46: 5875.1643 | AE46: =AD46/BF46-1 -> -0.13007083 | AF46: 6301.8675 | AG46: =AF46/BH46-1 -> -0.12120011 | AH46: 10035.491 | AI46: =AH46/BJ46-1 -> 0.23659058 | AJ46: 9747.6741 | AK46: =AJ46/BL46-1 -> 0.10402081 | AL46: 10711.691 | AM46: =AL46/BN46-1 -> 0.034199393 | AN46: 11633.958 | AO46: =AN46/BP46-1 -> 0.023959998 | AP46: 13808.997 | AQ46: =AP46/BR46-1 -> 0.14177582 | AR46: 16254.927 | AS46: =AR46/BT46-1 -> 2.6251893 | AT46: =V46+X46+Z46+AB46+AD46+AF46+AH46+AJ46+AL46+AN46+AP46+AR46 -> 107716.46 | AU46: =AT46/SUM(AX46,AZ46,BB46,BD46,BF46,BH46,BJ46,BL46,BN46,BP46,BR46,BT46)-1 -> 0.19514407 | AW46: =AX46+AZ46+BB46+BD46+BF46+BH46+BJ46+BL46+BN46+BP46+BR46 -> 85644.549 | AX46: 6078.7719 | AY46: =AX46/BY46-1 -> 2.6954096 | AZ46: 1641.2202 | BA46: =AZ46/CA46-1 -> -0.54098814 | BB46: 6708.3607 | BC46: =BB46/CC46-1 -> 0.15512157 | BD46: 6533.3717 | BE46: =BD46/CE46-1 -> 0.16127022 | BF46: 6753.6122 | BG46: =BF46/CG46-1 -> -0.051258468 | BH46: 7170.9925 | BI46: =BH46/CI46-1 -> 0.66200017 | BJ46: 8115.4519 | BK46: =BJ46/CK46-1 -> 0.61559654 | BL46: 8829.2485 | BM46: =BL46/CM46-1 -> 0.43436236 | BN46: 10357.472 | BO46: =BN46/CO46-1 -> 0.35806255 | BP46: 11361.731 | BQ46: =BP46/CQ46-1 -> 0.3084644 | BR46: 12094.316 | BS46: =BR46/CS46-1 -> 0.49118499 | BT46: 4483.8835 | BU46: =BT46/CU46-1 -> -0.22493688 | BV46: =AX46+AZ46+BB46+BD46+BF46+BH46+BJ46+BL46+BN46+BP46+BR46+BT46 -> 90128.432 | BW46: =BV46/SUM(BY46,CA46,CC46,CE46,CG46,CI46,CK46,CM46,CO46,CQ46,CS46,CU46)-1 -> 0.29734263 | BY46: 1644.9521 | BZ46: =BY46/DM46-1 -> -0.85119043 | CA46: 3575.5507 | CB46: =CA46/DN46-1 -> -0.56281323 | CC46: 5807.4933 | CD46: =CC46/DO46-1 -> -0.48499136 | CE46: 5626.0564 | CF46: =CE46/DP46-1 -> -0.41305923 | CG46: 7118.4954 | CH46: =CG46/DQ46-1 -> -0.33508419 | CI46: 4314.6762 | CJ46: =CI46/DR46-1 -> -0.58391924 | CK46: 5023.1922 | CL46: =CK46/DS46-1 -> -0.51939269 | CM46: 6155.5217 | CN46: =CM46/DT46-1 -> -0.44142155 | CO46: 7626.6529 | CP46: =CO46/DU46-1 -> 0.2804136 | CQ46: 8683.256 | CR46: =CQ46/DV46-1 -> 0.20017908 | CS46: 8110.5402 | CT46: =CS46/DX46-1 -> -0.031878528 | CU46: 5785.185 | CV46: =CU46/DX46-1 -> -0.30944651 | CW46: =BY46+CA46+CC46+CE46+CG46+CI46+CK46+CM46+CO46+CQ46+CS46+CU46 -> 69471.572 | CX46: =CW46/SUM(DM46:DX46)-1 -> -0.38223684 | CZ46: =CU46/CS46-1 -> -0.2867078 | DA46: =CS46/CQ46-1 -> -0.065956346 | DM46: 11054.075 | DN46: 8178.5428 | DO46: 11276.497 | DP46: 9585.3904 | DQ46: 10705.86 | DR46: 10369.805 | DS46: 10451.76 | DT46: 11019.977 | DU46: 5956.3979 | DV46: 7234.967 | DW46: 8245.7671 | DX46: 8377.6059 | DY46: -0.43788523 | DZ46: =SUM(DM46:DX46) -> 112456.64 | EA46: =IFERROR(DZ46/SUM(EC46:EN46)-1,"") -> -0.20123894 | EC46: 13324.865 | ED46: 7063.9954 | EE46: 9386.1533 | EF46: 10928.412 | EG46: 10802.125 | EH46: 12396.191 | EI46: 10982.691 | EJ46: 11656.793 | EK46: 12449.396 | EL46: 12366.421 | EM46: 14528.07 | EN46: 14903.729 | EO46: =SUM(EC46:EN46) -> 140788.84 | EQ46: =SUM(EC46:EN46) -> 140788.84
A47: 荆门市 | B47: 规上+规下货运量 (万吨) | C47: 1048.4686 | D47: =C47/V47-1 -> 0.24319922 | E47: 667.30608 | F47: =E47/X47-1 -> -0.13535179 | G47: 1044.845 | H47: =G47/Z47-1 -> -0.014270822 | I47: 1125.1053 | J47: =I47/AB47-1 -> 0.0084086917 | K47: 1162.9345 | L47: =K47/AD47-1 -> 0.028210211 | M47: 1064.7373 | N47: =M47/AF47-1 -> 0.063556096 | O47: 1060.9465 | P47: =O47/AH47-1 -> 0.003985665 | S47: =C47+E47+G47+I47+K47+M47+O47+Q47 -> 7174.3433 | T47: =S47/SUM(V47,X47,Z47,AB47,AD47,AF47,AH47,AJ47)-1 -> -0.099221865 | V47: 843.36333 | W47: =V47/AX47-1 -> -0.057929359 | X47: 771.76599 | Y47: =X47/AZ47-1 -> 0.63744802 | Z47: 1059.9716 | AA47: =Z47/BB47-1 -> 0.096134159 | AB47: 1115.7235 | AC47: =AB47/BD47-1 -> 0.1013265 | AD47: 1131.028 | AE47: =AD47/BF47-1 -> 0.070896177 | AF47: 1001.1107 | AG47: =AF47/BH47-1 -> 0.057923919 | AH47: 1056.7347 | AI47: =AH47/BJ47-1 -> 0.063920211 | AJ47: 984.90862 | AK47: =AJ47/BL47-1 -> 0.034766354 | AL47: 1025.3874 | AM47: =AL47/BN47-1 -> 0.06955134 | AN47: 919.3459 | AO47: =AN47/BP47-1 -> 0.0072061657 | AP47: 976.13897 | AQ47: =AP47/BR47-1 -> 0.023843615 | AR47: 1003.6947 | AS47: =AR47/BT47-1 -> 0.011472698 | AT47: =V47+X47+Z47+AB47+AD47+AF47+AH47+AJ47+AL47+AN47+AP47+AR47 -> 11889.173 | AU47: =AT47/SUM(AX47,AZ47,BB47,BD47,BF47,BH47,BJ47,BL47,BN47,BP47,BR47,BT47)-1 -> 0.070004363 | AW47: =AX47+AZ47+BB47+BD47+BF47+BH47+BJ47+BL47+BN47+BP47+BR47 -> 10119.022 | AX47: 895.22303 | AY47: =AX47/BY47-1 -> 0.59931072 | AZ47: 471.32244 | BA47: =AZ47/CA47-1 -> -0.39009989 | BB47: 967.00903 | BC47: =BB47/CC47-1 -> 0.022600013 | BD47: 1013.0724 | BE47: =BD47/CE47-1 -> 0.11012343 | BF47: 1056.1509 | BG47: =BF47/CG47-1 -> 0.095055069 | BH47: 946.29741 | BI47: =BH47/CI47-1 -> -0.029967259 | BJ47: 993.24623 | BK47: =BJ47/CK47-1 -> 0.010828359 | BL47: 951.8174 | BM47: =BL47/CM47-1 -> 0.050772976 | BN47: 958.708 | BO47: =BN47/CO47-1 -> 0.0030267544 | BP47: 912.76834 | BQ47: =BP47/CQ47-1 -> 0.061945827 | BR47: 953.40632 | BS47: =BR47/CS47-1 -> 0.064644316 | BT47: 992.31021 | BU47: =BT47/CU47-1 -> 0.14461396 | BV47: =AX47+AZ47+BB47+BD47+BF47+BH47+BJ47+BL47+BN47+BP47+BR47+BT47 -> 11111.332 | BW47: =BV47/SUM(BY47,CA47,CC47,CE47,CG47,CI47,CK47,CM47,CO47,CQ47,CS47,CU47)-1 -> 0.048536919 | BY47: 559.75554 | BZ47: =BY47/DM47-1 -> -0.10497081 | CA47: 772.78628 | CB47: =CA47/DN47-1 -> 0.60574318 | CC47: 945.63761 | CD47: =CC47/DO47-1 -> 0.29255927 | CE47: 912.57637 | CF47: =CE47/DP47-1 -> 0.25028001 | CG47: 964.47287 | CH47: =CG47/DQ47-1 -> 0.16388745 | CI47: 975.53141 | CJ47: =CI47/DR47-1 -> 0.24740689 | CK47: 982.60622 | CL47: =CK47/DS47-1 -> 0.18218215 | CM47: 905.82593 | CN47: =CM47/DT47-1 -> 0.33366993 | CO47: 955.81499 | CP47: =CO47/DU47-1 -> 0.11091112 | CQ47: 859.52439 | CR47: =CQ47/DV47-1 -> 0.22302839 | CS47: 895.51628 | CT47: =CS47/DX47-1 -> 0.12727608 | CU47: 866.93876 | CV47: =CU47/DX47-1 -> 0.091302688 | CW47: =BY47+CA47+CC47+CE47+CG47+CI47+CK47+CM47+CO47+CQ47+CS47+CU47 -> 10596.987 | CX47: =CW47/SUM(DM47:DX47)-1 -> 0.20474695 | CZ47: =CU47/CS47-1 -> -0.031911784 | DA47: =CS47/CQ47-1 -> 0.041874197 | DM47: 625.40478 | DN47: 481.26393 | DO47: 731.60097 | DP47: 729.8976 | DQ47: 828.66506 | DR47: 782.04748 | DS47: 831.18005 | DT47: 679.19798 | DU47: 860.38835 | DV47: 702.78367 | DW47: 749.18982 | DX47: 794.40724 | DY47: -0.068951003 | DZ47: =SUM(DM47:DX47) -> 8796.0269 | EA47: =IFERROR(DZ47/SUM(EC47:EN47)-1,"") -> -0.09449012 | EC47: 866.56391 | ED47: 381.29786 | EE47: 706.50154 | EF47: 903.28573 | EG47: 958.99271 | EH47: 1044.1303 | EI47: 902.97085 | EJ47: 605.57545 | EK47: 844.24864 | EL47: 764.13328 | EM47: 882.95473 | EN47: 853.23892 | EO47: =SUM(EC47:EN47) -> 9713.8939 | EQ47: =SUM(EC47:EN47) -> 9713.8939
B48: 规上货运量 (万吨) | C48: 81.4962 | D48: =C48/V48-1 -> -0.076044515 | E48: 61.1436 | F48: =E48/X48-1 -> -0.085387252 | G48: 80.3358 | H48: =G48/Z48-1 -> -0.02152895 | I48: 82.9171 | J48: =I48/AB48-1 -> -0.005092301 | K48: 86.6882 | L48: =K48/AD48-1 -> -0.16149389 | M48: 81.6839 | N48: =M48/AF48-1 -> -0.068184255 | O48: 77.6389 | P48: =O48/AH48-1 -> -0.11316451 | S48: =C48+E48+G48+I48+K48+M48+O48+Q48 -> 551.9037 | T48: =S48/SUM(V48,X48,Z48,AB48,AD48,AF48,AH48,AJ48)-1 -> -0.19048926 | V48: 88.2036 | W48: =V48/AX48-1 -> -0.037021833 | X48: 66.8519 | Y48: =X48/AZ48-1 -> 0.0797908 | Z48: 82.1034 | AA48: =Z48/BB48-1 -> -0.12642854 | AB48: 83.3415 | AC48: =AB48/BD48-1 -> -0.13725602 | AD48: 103.3841 | AE48: =AD48/BF48-1 -> 0.10750919 | AF48: 87.661 | AG48: =AF48/BH48-1 -> 0.0092914546 | AH48: 87.546 | AI48: =AH48/BJ48-1 -> 0.022899747 | AJ48: 82.6829 | AK48: =AJ48/BL48-1 -> -0.087170604 | AL48: 80.5562 | AM48: =AL48/BN48-1 -> -0.13334395 | AN48: 76.3913 | AO48: =AN48/BP48-1 -> -0.16563214 | AP48: 80.6073 | AQ48: =AP48/BR48-1 -> -0.15361273 | AR48: 86.5227 | AS48: =AR48/BT48-1 -> -0.14257556 | AT48: =V48+X48+Z48+AB48+AD48+AF48+AH48+AJ48+AL48+AN48+AP48+AR48 -> 1005.8519 | AU48: =AT48/SUM(AX48,AZ48,BB48,BD48,BF48,BH48,BJ48,BL48,BN48,BP48,BR48,BT48)-1 -> -0.069614806 | AW48: =AX48+AZ48+BB48+BD48+BF48+BH48+BJ48+BL48+BN48+BP48+BR48 -> 980.2034 | AX48: 91.5946 | AY48: =AX48/BY48-1 -> 1.1653058 | AZ48: 61.9119 | BA48: =AZ48/CA48-1 -> 0.27576067 | BB48: 93.9859 | BC48: =BB48/CC48-1 -> 0.68811068 | BD48: 96.6005 | BE48: =BD48/CE48-1 -> 0.69681752 | BF48: 93.3483 | BG48: =BF48/CG48-1 -> 0.55350323 | BH48: 86.854 | BI48: =BH48/CI48-1 -> 0.50256817 | BJ48: 85.5861 | BK48: =BJ48/CK48-1 -> 0.45250997 | BL48: 90.5787 | BM48: =BL48/CM48-1 -> 0.42043238 | BN48: 92.9506 | BO48: =BN48/CO48-1 -> 0.58192785 | BP48: 91.5559 | BQ48: =BP48/CQ48-1 -> 0.45825642 | BR48: 95.2369 | BS48: =BR48/CS48-1 -> 0.4924326 | BT48: 100.91 | BU48: =BT48/CU48-1 -> 0.68391859 | BV48: =AX48+AZ48+BB48+BD48+BF48+BH48+BJ48+BL48+BN48+BP48+BR48+BT48 -> 1081.1134 | BW48: =BV48/SUM(BY48,CA48,CC48,CE48,CG48,CI48,CK48,CM48,CO48,CQ48,CS48,CU48)-1 -> 0.56841966 | BY48: 42.301 | BZ48: =BY48/DM48-1 -> 0.42019721 | CA48: 48.5294 | CB48: =CA48/DN48-1 -> 1.3505929 | CC48: 55.6752 | CD48: =CC48/DO48-1 -> 1.3154296 | CE48: 56.9304 | CF48: =CE48/DP48-1 -> 1.1637901 | CG48: 60.0889 | CH48: =CG48/DQ48-1 -> 1.2014134 | CI48: 57.8037 | CJ48: =CI48/DR48-1 -> 1.0659378 | CK48: 58.9229 | CL48: =CK48/DS48-1 -> 1.2055946 | CM48: 63.7684 | CN48: =CM48/DT48-1 -> 1.523822 | CO48: 58.7578 | CP48: =CO48/DU48-1 -> 1.2453208 | CQ48: 62.7845 | CR48: =CQ48/DV48-1 -> 1.4789651 | CS48: 63.8132 | CT48: =CS48/DX48-1 -> 1.2112752 | CU48: 59.9257 | CV48: =CU48/DX48-1 -> 1.0765643 | CW48: =BY48+CA48+CC48+CE48+CG48+CI48+CK48+CM48+CO48+CQ48+CS48+CU48 -> 689.3011 | CX48: =CW48/SUM(DM48:DX48)-1 -> 1.1813927 | CZ48: =CU48/CS48-1 -> -0.060919998 | DA48: =CS48/CQ48-1 -> 0.016384617 | DL48: 荆门市 | DM48: 29.7853 | DN48: 20.6456 | DO48: 24.0453 | DP48: 26.3105 | DQ48: 27.2956 | DR48: 27.9794 | DS48: 26.7152 | DT48: 25.2666 | DU48: 26.169 | DV48: 25.3269 | DW48: 27.5938 | DX48: 28.8581 | DY48: 0.80662347 | DZ48: =SUM(DM48:DX48) -> 315.9913 | EA48: =IFERROR(DZ48/SUM(EC48:EN48)-1,"") -> 0.85280632 | EC48: 18.8902 | ED48: 10.2183 | EE48: 13.1202 | EF48: 15.2223 | EG48: 14.0881 | EH48: 14.3922 | EI48: 15.823 | EJ48: 8.0435 | EK48: 13.6418 | EL48: 15.0801 | EM48: 16.0542 | EN48: 15.9735 | EO48: =SUM(EC48:EN48) -> 170.5474 | EQ48: =SUM(EC48:EN48) -> 170.5474
B49: 规下货运量 (万吨) | C49: 966.97244 | D49: =C49/V49-1 -> 0.28048729 | E49: 606.16248 | F49: =E49/X49-1 -> -0.14009028 | G49: 964.50917 | H49: =G49/Z49-1 -> -0.013661418 | I49: 1042.1882 | J49: =I49/AB49-1 -> 0.0094985915 | K49: 1076.2463 | L49: =K49/AD49-1 -> 0.04729502 | M49: 983.05345 | N49: =M49/AF49-1 -> 0.076198818 | O49: 983.30763 | P49: =O49/AH49-1 -> 0.014567741 | S49: =C49+E49+G49+I49+K49+M49+O49+Q49 -> 6622.4396 | T49: =S49/SUM(V49,X49,Z49,AB49,AD49,AF49,AH49,AJ49)-1 -> -0.090677967 | V49: 755.15973 | W49: =V49/AX49-1 -> -0.060312322 | X49: 704.91409 | Y49: =X49/AZ49-1 -> 0.72177808 | Z49: 977.86823 | AA49: =Z49/BB49-1 -> 0.1200943 | AB49: 1032.382 | AC49: =AB49/BD49-1 -> 0.12647423 | AD49: 1027.6439 | AE49: =AD49/BF49-1 -> 0.067346371 | AF49: 913.44966 | AG49: =AF49/BH49-1 -> 0.062838639 | AH49: 969.18874 | AI49: =AH49/BJ49-1 -> 0.067788158 | AJ49: 902.22572 | AK49: =AJ49/BL49-1 -> 0.047590779 | AL49: 944.83123 | AM49: =AL49/BN49-1 -> 0.091334855 | AN49: 842.9546 | AO49: =AN49/BP49-1 -> 0.026475683 | AP49: 895.53167 | AQ49: =AP49/BR49-1 -> 0.043537152 | AR49: 917.17198 | AS49: =AR49/BT49-1 -> 0.028911565 | AT49: =V49+X49+Z49+AB49+AD49+AF49+AH49+AJ49+AL49+AN49+AP49+AR49 -> 10883.322 | AU49: =AT49/SUM(AX49,AZ49,BB49,BD49,BF49,BH49,BJ49,BL49,BN49,BP49,BR49,BT49)-1 -> 0.085053303 | AW49: =AX49+AZ49+BB49+BD49+BF49+BH49+BJ49+BL49+BN49+BP49+BR49 -> 9138.8181 | AX49: 803.62843 | AY49: =AX49/BY49-1 -> 0.55304161 | AZ49: 409.41054 | BA49: =AZ49/CA49-1 -> -0.4347164 | BB49: 873.02313 | BC49: =BB49/CC49-1 -> -0.0190337 | BD49: 916.47191 | BE49: =BD49/CE49-1 -> 0.071087738 | BF49: 962.80261 | BG49: =BF49/CG49-1 -> 0.064594948 | BH49: 859.44341 | BI49: =BH49/CI49-1 -> -0.063509363 | BJ49: 907.66013 | BK49: =BJ49/CK49-1 -> -0.017347057 | BL49: 861.2387 | BM49: =BL49/CM49-1 -> 0.02277894 | BN49: 865.7574 | BO49: =BN49/CO49-1 -> -0.034891625 | BP49: 821.21244 | BQ49: =BP49/CQ49-1 -> 0.030715858 | BR49: 858.16942 | BS49: =BR49/CS49-1 -> 0.031821858 | BT49: 891.40021 | BU49: =BT49/CU49-1 -> 0.10456726 | BV49: =AX49+AZ49+BB49+BD49+BF49+BH49+BJ49+BL49+BN49+BP49+BR49+BT49 -> 10030.218 | BW49: =BV49/SUM(BY49,CA49,CC49,CE49,CG49,CI49,CK49,CM49,CO49,CQ49,CS49,CU49)-1 -> 0.012367448 | BY49: 517.45454 | BZ49: =BY49/DM49-1 -> -0.13123303 | CA49: 724.25688 | CB49: =CA49/DN49-1 -> 0.57235791 | CC49: 889.96241 | CD49: =CC49/DO49-1 -> 0.25779843 | CE49: 855.64597 | CF49: =CE49/DP49-1 -> 0.21611948 | CG49: 904.38397 | CH49: =CG49/DQ49-1 -> 0.12854808 | CI49: 917.72771 | CJ49: =CI49/DR49-1 -> 0.21703562 | CK49: 923.68332 | CL49: =CK49/DS49-1 -> 0.14819599 | CM49: 842.05753 | CN49: =CM49/DT49-1 -> 0.28768483 | CO49: 897.05719 | CP49: =CO49/DU49-1 -> 0.075325316 | CQ49: 796.73989 | CR49: =CQ49/DV49-1 -> 0.17607487 | CS49: 831.70308 | CT49: =CS49/DX49-1 -> 0.086413706 | CU49: 807.01306 | CV49: =CU49/DX49-1 -> 0.054162318 | CW49: =BY49+CA49+CC49+CE49+CG49+CI49+CK49+CM49+CO49+CQ49+CS49+CU49 -> 9907.6855 | CX49: =CW49/SUM(DM49:DX49)-1 -> 0.16835423 | CZ49: =CU49/CS49-1 -> -0.029686102 | DA49: =CS49/CQ49-1 -> 0.043882821 | DM49: 595.61948 | DN49: 460.61833 | DO49: 707.55567 | DP49: 703.5871 | DQ49: 801.36946 | DR49: 754.06808 | DS49: 804.46485 | DT49: 653.93138 | DU49: 834.21935 | DV49: 677.45677 | DW49: 721.59602 | DX49: 765.54914 | DY49: -0.08565537 | DZ49: =SUM(DM49:DX49) -> 8480.0356 | EA49: =IFERROR(DZ49/SUM(EC49:EN49)-1,"") -> -0.11141908 | EC49: 847.67371 | ED49: 371.07956 | EE49: 693.38134 | EF49: 888.06343 | EG49: 944.90461 | EH49: 1029.7381 | EI49: 887.14785 | EJ49: 597.53195 | EK49: 830.60684 | EL49: 749.05318 | EM49: 866.90053 | EN49: 837.26542 | EO49: =SUM(EC49:EN49) -> 9543.3465 | EQ49: =SUM(EC49:EN49) -> 9543.3465
B50: 规上+规下周转量 (万吨公里) | C50: =C51+C52 -> 128146.11 | D50: =C50/V50-1 -> 0.18276278 | E50: =E51+E52 -> 87616.107 | F50: =E50/X50-1 -> -0.14447335 | G50: =G51+G52 -> 134668.99 | H50: =G50/Z50-1 -> -0.024556937 | I50: =I51+I52 -> 139784.65 | J50: =I50/AB50-1 -> 0.00017424126 | K50: =K51+K52 -> 146992.94 | L50: =K50/AD50-1 -> -0.011937637 | M50: =M51+M52 -> 128084.72 | N50: =M50/AF50-1 -> 0.015496624 | O50: =O51+O52 -> 130534.35 | P50: =O50/AH50-1 -> -0.0077186083 | S50: =C50+E50+G50+I50+K50+M50+O50+Q50 -> 895827.88 | T50: =S50/SUM(V50,X50,Z50,AB50,AD50,AF50,AH50,AJ50)-1 -> -0.12121635 | V50: =V51+V52 -> 108344.72 | W50: =V50/AX50-1 -> -0.039971225 | X50: =X51+X52 -> 102411.9 | Y50: =X50/AZ50-1 -> 0.5555605 | Z50: =Z51+Z52 -> 138059.31 | AA50: =Z50/BB50-1 -> 0.11354374 | AB50: =AB51+AB52 -> 139760.3 | AC50: =AB50/BD50-1 -> 0.082530431 | AD50: =AD51+AD52 -> 148768.89 | AE50: =AD50/BF50-1 -> 0.092781731 | AF50: =AF51+AF52 -> 126130.13 | AG50: =AF50/BH50-1 -> 0.099052583 | AH50: =AH51+AH52 -> 131549.73 | AI50: =AH50/BJ50-1 -> 0.073027503 | AJ50: =AJ51+AJ52 -> 124370.27 | AK50: =AJ50/BL50-1 -> 0.050197924 | AL50: =AL51+AL52 -> 128140.6 | AM50: =AL50/BN50-1 -> 0.065599054 | AN50: =AN51+AN52 -> 116538.81 | AO50: =AN50/BP50-1 -> -0.015541694 | AP50: =AP51+AP52 -> 123473.07 | AQ50: =AP50/BR50-1 -> -0.018017857 | AR50: =AR51+AR52 -> 129596.71 | AS50: =AR50/BT50-1 -> -0.04250661 | AT50: =V50+X50+Z50+AB50+AD50+AF50+AH50+AJ50+AL50+AN50+AP50+AR50 -> 1517144.4 | AU50: =AT50/SUM(AX50,AZ50,BB50,BD50,BF50,BH50,BJ50,BL50,BN50,BP50,BR50,BT50)-1 -> 0.06584383 | AW50: =AX50+AZ50+BB50+BD50+BF50+BH50+BJ50+BL50+BN50+BP50+BR50 -> 1288071 | AX50: =AX51+AX52 -> 112855.7 | AY50: =AX50/BY50-1 -> 0.38696242 | AZ50: =AZ51+AZ52 -> 65836.011 | BA50: =AZ50/CA50-1 -> -0.35952556 | BB50: =BB51+BB52 -> 123981.94 | BC50: =BB50/CC50-1 -> 0.020304712 | BD50: =BD51+BD52 -> 129105.19 | BE50: =BD50/CE50-1 -> 0.093306286 | BF50: =BF51+BF52 -> 136137.79 | BG50: =BF50/CG50-1 -> 0.095229169 | BH50: =BH51+BH52 -> 114762.6 | BI50: =BH50/CI50-1 -> -0.02084696 | BJ50: =BJ51+BJ52 -> 122596.79 | BK50: =BJ50/CK50-1 -> 0.020309564 | BL50: =BL51+BL52 -> 118425.55 | BM50: =BL50/CM50-1 -> 0.061766753 | BN50: =BN51+BN52 -> 120252.17 | BO50: =BN50/CO50-1 -> 0.0061224323 | BP50: =BP51+BP52 -> 118378.62 | BQ50: =BP50/CQ50-1 -> 0.062987116 | BR50: =BR51+BR52 -> 125738.61 | BS50: =BR50/CS50-1 -> 0.043042011 | BT50: =BT51+BT52 -> 135349.98 | BU50: =BT50/CU50-1 -> 0.11940132 | BV50: =AX50+AZ50+BB50+BD50+BF50+BH50+BJ50+BL50+BN50+BP50+BR50+BT50 -> 1423421 | BW50: =BV50/SUM(BY50,CA50,CC50,CE50,CG50,CI50,CK50,CM50,CO50,CQ50,CS50,CU50)-1 -> 0.039517063 | BY50: =BY51+BY52 -> 81368.971 | BZ50: =BY50/DM50-1 -> -0.081198396 | CA50: =CA51+CA52 -> 102792.56 | CB50: =CA50/DN50-1 -> 0.6046107 | CC50: =SUM(CC51:CC52) -> 121514.62 | CD50: =CC50/DO50-1 -> 0.34476869 | CE50: 118086.94 | CF50: =CE50/DP50-1 -> 0.28034802 | CG50: 124300.74 | CH50: =CG50/DQ50-1 -> 0.24906484 | CI50: =CI51+CI52 -> 117205.99 | CJ50: =CI50/DR50-1 -> 0.28049218 | CK50: =CK51+CK52 -> 120156.47 | CL50: =CK50/DS50-1 -> 0.20616303 | CM50: 111536.31 | CN50: =CM50/DT50-1 -> 0.35265694 | CO50: =SUM(CO51:CO52) -> 119520.41 | CP50: =CO50/DU50-1 -> 0.13376762 | CQ50: =SUM(CQ51:CQ52) -> 111364.11 | CR50: =CQ50/DV50-1 -> 0.14944655 | CS50: =CS51+CS52 -> 120549.9 | CT50: =CS50/DX50-1 -> 0.083705959 | CU50: =CU51+CU52 -> 120912.83 | CV50: =CU50/DX50-1 -> 0.086968611 | CW50: =BY50+CA50+CC50+CE50+CG50+CI50+CK50+CM50+CO50+CQ50+CS50+CU50 -> 1369309.8 | CX50: =CW50/SUM(DM50:DX50)-1 -> 0.21235595 | CZ50: =CU50/CS50-1 -> 0.0030106436 | DA50: =CS50/CQ50-1 -> 0.082484227 | DM50: 88559.892 | DN50: 64060.75 | DO50: 90360.98 | DP50: 92230.345 | DQ50: 99515.039 | DR50: 91531.982 | DS50: 99618.761 | DT50: 82457.207 | DU50: 105418.79 | DV50: 96884.987 | DW50: 107584.59 | DX50: 111238.57 | DY50: 0.023537674 | DZ50: =SUM(DM50:DX50) -> 1129461.9 | EA50: =IFERROR(DZ50/SUM(EC50:EN50)-1,"") -> -0.030445786 | EC50: =EC51+EC52 -> 107417 | ED50: =ED51+ED52 -> 56878.452 | EE50: =EE51+EE52 -> 86189.7 | EF50: =EF51+EF52 -> 100384.66 | EG50: =EG51+EG52 -> 104601.8 | EH50: =EH51+EH52 -> 105554.06 | EI50: =EI51+EI52 -> 99951.77 | EJ50: =EJ51+EJ52 -> 79455.206 | ... EN50: =EN51+EN52 -> 108680.48 | EO50: =SUM(EC50:EN50) -> 1164929.1
B51: 规上货物周转量 (万吨公里) | C51: 23366.627 | D51: =C51/V51-1 -> -0.044551293 | E51: 17066.172 | F51: =E51/X51-1 -> -0.12401133 | G51: 20978.348 | H51: =G51/Z51-1 -> -0.10135169 | I51: 20966.328 | J51: =I51/AB51-1 -> -0.11516793 | K51: 24910.305 | L51: =K51/AD51-1 -> -0.29074914 | M51: 23589.968 | N51: =M51/AF51-1 -> -0.14514943 | O51: 23761.161 | P51: =O51/AH51-1 -> -0.10120448 | S51: =C51+E51+G51+I51+K51+M51+O51+Q51 -> 154638.91 | T51: =S51/SUM(V51,X51,Z51,AB51,AD51,AF51,AH51,AJ51)-1 -> -0.24697735 | V51: 24456.182 | W51: =V51/AX51-1 -> 0.18808788 | X51: 19482.183 | Y51: =X51/AZ51-1 -> 0.40852373 | Z51: 23344.336 | AA51: =Z51/BB51-1 -> 0.010158306 | AB51: 23695.262 | AC51: =AB51/BD51-1 -> -0.16771649 | AD51: 35121.995 | AE51: =AD51/BF51-1 -> 0.15783514 | AF51: 27595.429 | AG51: =AF51/BH51-1 -> 0.22669337 | AH51: 26436.671 | AI51: =AH51/BJ51-1 -> 0.13856312 | AJ51: 25225.522 | AK51: =AJ51/BL51-1 -> 0.056685852 | AL51: 25747.932 | AM51: =AL51/BN51-1 -> 0.022708697 | AN51: 23993.649 | AO51: =AN51/BP51-1 -> -0.045067873 | AP51: 24179.745 | AQ51: =AP51/BR51-1 -> -0.08347364 | AR51: 26789.699 | AS51: =AR51/BT51-1 -> -0.12940466 | AT51: =V51+X51+Z51+AB51+AD51+AF51+AH51+AJ51+AL51+AN51+AP51+AR51 -> 306068.61 | AU51: =AT51/SUM(AX51,AZ51,BB51,BD51,BF51,BH51,BJ51,BL51,BN51,BP51,BR51,BT51)-1 -> 0.0432733 | AW51: =AX51+AZ51+BB51+BD51+BF51+BH51+BJ51+BL51+BN51+BP51+BR51 -> 262601.67 | AX51: 20584.489 | AY51: =AX51/BY51-1 -> 0.87166899 | AZ51: 13831.633 | BA51: =AZ51/CA51-1 -> -0.18161873 | BB51: 23109.582 | BC51: =BB51/CC51-1 -> 0.28076052 | BD51: 28470.181 | BE51: =BD51/CE51-1 -> 0.4825881 | BF51: 30334.193 | BG51: =BF51/CG51-1 -> 0.045342303 | BH51: 22495.784 | BI51: =BH51/CI51-1 -> 0.24500892 | BJ51: 23219.328 | BK51: =BJ51/CK51-1 -> 0.19794293 | BL51: 23872.301 | BM51: =BL51/CM51-1 -> 0.17607327 | BN51: 25176.213 | BO51: =BN51/CO51-1 -> 0.35289368 | BP51: 25126.025 | BQ51: =BP51/CQ51-1 -> 0.31470977 | BR51: 26381.942 | BS51: =BR51/CS51-1 -> 0.3446021 | BT51: 30771.7 | BU51: =BT51/CU51-1 -> 0.59921475 | BV51: =AX51+AZ51+BB51+BD51+BF51+BH51+BJ51+BL51+BN51+BP51+BR51+BT51 -> 293373.37 | BW51: =BV51/SUM(BY51,CA51,CC51,CE51,CG51,CI51,CK51,CM51,CO51,CQ51,CS51,CU51)-1 -> 0.28392659 | BY51: 10997.932 | BZ51: =BY51/DM51-1 -> -0.28485961 | CA51: 16901.209 | CB51: =CA51/DN51-1 -> 0.773114 | CC51: 18043.64 | CD51: =CC51/DO51-1 -> 1.692935 | CE51: 19203.028 | CF51: =CE51/DP51-1 -> 1.4980672 | CG51: 29018.431 | CH51: =CG51/DQ51-1 -> 2.7348407 | CI51: 18068.773 | CJ51: =CI51/DR51-1 -> 1.2390804 | CK51: 19382.667 | CL51: =CK51/DS51-1 -> 1.439415 | CM51: 20298.311 | CN51: =CM51/DT51-1 -> 1.6481564 | CO51: 18609.159 | CP51: =CO51/DU51-1 -> 1.3087652 | CQ51: 19111.461 | CR51: =CQ51/DV51-1 -> 1.6201733 | CS51: 19620.631 | CT51: =CS51/DX51-1 -> 1.2178418 | CU51: 19241.756 | CV51: =CU51/DX51-1 -> 1.1750153 | CW51: =BY51+CA51+CC51+CE51+CG51+CI51+CK51+CM51+CO51+CQ51+CS51+CU51 -> 228497 | CX51: =CW51/SUM(DM51:DX51)-1 -> 1.2177517 | CZ51: =CU51/CS51-1 -> -0.019310016 | DA51: =CS51/CQ51-1 -> 0.026642102 | DM51: 15378.704 | DN51: 9531.936 | DO51: 6700.3623 | DP51: 7687.1542 | DQ51: 7769.6569 | DR51: 8069.7297 | DS51: 7945.6209 | DT51: 7665.0725 | DU51: 8060.2212 | DV51: 7293.9685 | DW51: 8081.7716 | DX51: 8846.7223 | DY51: 1.0682501 | DZ51: =SUM(DM51:DX51) -> 103030.92 | EA51: =IFERROR(DZ51/SUM(EC51:EN51)-1,"") -> 1.1842844 | EC51: 5273.7508 | ED51: 2966.4902 | EE51: 3809.1411 | EF51: 4040.478 | EG51: 3968.8496 | EH51: 4025.1416 | EI51: 4415.3939 | EJ51: 2242.5845 | EK51: 3796.2662 | EL51: 4067.525 | EM51: 4286.1706 | EN51: 4277.3949 | EO51: =SUM(EC51:EN51) -> 47169.186 | EQ51: =SUM(EC51:EN51) -> 47169.186
