{"text_format":"3","workbook":"xlsx","n_sheets":2,"sheets":["Sheet1","Sheet2"],"not_rendered":{"external_links":1},"read":"whole","date_system":"1900"}

{"sheet":"Sheet1","index":0,"n_rows":94,"n_cols":16,"rows_kept":94,"merged":[[0,0,0,1],[0,3,1,3],[0,5,1,5],[0,7,1,7],[0,9,1,9],[0,11,1,11],[0,13,1,13],[0,15,1,15],[1,0,1,1],[2,0,3,0],[2,1,3,1],[2,2,3,2],[2,3,3,3],[2,4,3,4],[2,5,3,5],[2,6,3,6],[2,7,3,7],[2,8,3,8],[2,9,3,9],[2,10,3,10],[2,11,3,11],[2,12,3,12],[2,13,3,13],[2,14,3,14],[2,15,3,15],[4,0,8,0],[9,0,13,0],[14,0,18,0],[19,0,23,0],[24,0,28,0],[29,0,33,0],[34,0,38,0],[39,0,43,0],[44,0,48,0],[49,0,53,0],[54,0,58,0],[59,0,63,0],[64,0,68,0],[69,0,73,0],[74,0,78,0],[79,0,83,0],[84,0,88,0],[89,0,93,0]]}
["中口径客运量",{"$nulls":13},{"$f":"O5-([1]网约车!O5-[1]网约车!O7)-([1]出租!O5-[1]出租!O7)-([1]公交!O5-[1]公交!O7)-[1]班线包车!O4","v":0}]
["注：中口径客运量由公路班线、城际城乡公交、城际城乡出租、城际城乡网约车客运量四部分构成",{"$nulls":13},{"$f":"Sheet2!O5-[1]网约车!O6+[1]网约车!O8-[1]出租!O6+[1]出租!O8-[1]公交!O6+[1]公交!O8-[1]班线包车!O5","v":0}]
["地区 名称","指标","2026年1月","1月同比","2026年2月","2月同比","2026年3月","3月同比","2026年4月","4月同比","2026年5月","5月同比","2026年6月","6月同比","累计","累计同比"]
[]
["全省","总客运量（万人次）",{"$f":"C6+C7+C8+C9","v":{"v":3733.7901000000015,"d":"3733.79"}},{"$f":"C5/#REF!-1","v":{"$error":"#REF!"}},{"$f":"E6+E7+E8+E9","v":{"v":3777.8315000000002,"d":"3777.83"}},{"$f":"E5/#REF!-1","v":{"$error":"#REF!"}},{"$f":"G6+G7+G8+G9","v":{"v":3874.4356999999977,"d":"3874.44"}},{"$f":"G5/#REF!-1","v":{"$error":"#REF!"}},{"$f":"I6+I7+I8+I9","v":{"v":3959.2492999999977,"d":"3959.25"}},{"$f":"I5/#REF!-1","v":{"$error":"#REF!"}},{"$f":"K6+K7+K8+K9","v":{"v":4115.869900000005,"d":"4115.87"}},{"$f":"K5/#REF!-1","v":{"$error":"#REF!"}},{"$f":"M6+M7+M8+M9","v":{"v":4034.9928,"d":"4034.99"}},{"$f":"M5/#REF!-1","v":{"$error":"#REF!"}},{"$f":"E5+C5+G5+I5+K5+M5","v":{"v":23496.1693,"d":"23496.17"}},{"$f":"O5/SUM(#REF!,#REF!,#REF!,#REF!,#REF!,#REF!)-1","v":{"$error":"#REF!"}}]
[null,"公路班线客运量（万人次）",{"$f":"C11+C16+C21+C26+C31+C36+C41+C46+C51+C56+C61+C66+C71+C76+C81+C86+C91","v":{"v":1473.3801000000003,"d":"1473.38"}},{"$f":"C6/#REF!-1","v":{"$error":"#REF!"}},{"$f":"E11+E16+E21+E26+E31+E36+E41+E46+E51+E56+E61+E66+E71+E76+E81+E86+E91","v":{"v":1543.1715000000002,"d":"1543.17"}},{"$f":"E6/#REF!-1","v":{"$error":"#REF!"}},{"$f":"G11+G16+G21+G26+G31+G36+G41+G46+G51+G56+G61+G66+G71+G76+G81+G86+G91","v":{"v":1575.6656999999996,"d":"1575.67"}},{"$f":"G6/#REF!-1","v":{"$error":"#REF!"}},{"$f":"I11+I16+I21+I26+I31+I36+I41+I46+I51+I56+I61+I66+I71+I76+I81+I86+I91","v":{"v":1662.9693,"d":"1662.97"}},{"$f":"I6/#REF!-1","v":{"$error":"#REF!"}},{"$f":"K11+K16+K21+K26+K31+K36+K41+K46+K51+K56+K61+K66+K71+K76+K81+K86+K91","v":{"v":1699.6399000000001,"d":"1699.64"}},{"$f":"K6/#REF!-1","v":{"$error":"#REF!"}},{"$f":"M11+M16+M21+M26+M31+M36+M41+M46+M51+M56+M61+M66+M71+M76+M81+M86+M91","v":{"v":1618.5128000000002,"d":"1618.51"}},{"$f":"M6/#REF!-1","v":{"$error":"#REF!"}},{"v":9573.3393,"d":"9573.34"},{"$f":"O6/SUM(#REF!,#REF!,#REF!,#REF!,#REF!,#REF!)-1","v":{"$error":"#REF!"}}]
[null,"城际城乡公交客运量（万人次）",{"$f":"C12+C17+C22+C27+C32+C37+C42+C47+C52+C57+C62+C67+C72+C77+C82+C87+C92","v":{"v":1391.1899999999996,"d":"1391.19"}},{"$f":"C7/#REF!-1","v":{"$error":"#REF!"}},{"$f":"E12+E17+E22+E27+E32+E37+E42+E47+E52+E57+E62+E67+E72+E77+E82+E87+E92","v":{"v":1389.6499999999996,"d":"1389.65"}},{"$f":"E7/#REF!-1","v":{"$error":"#REF!"}},{"$f":"G12+G17+G22+G27+G32+G37+G42+G47+G52+G57+G62+G67+G72+G77+G82+G87+G92","v":1437.57},{"$f":"G7/#REF!-1","v":{"$error":"#REF!"}},{"$f":"I12+I17+I22+I27+I32+I37+I42+I47+I52+I57+I62+I67+I72+I77+I82+I87+I92","v":{"v":1462.0800000000002,"d":"1462.08"}},{"$f":"I7/#REF!-1","v":{"$error":"#REF!"}},{"$f":"K12+K17+K22+K27+K32+K37+K42+K47+K52+K57+K62+K67+K72+K77+K82+K87+K92","v":{"v":1529.4200000000003,"d":"1529.42"}},{"$f":"K7/#REF!-1","v":{"$error":"#REF!"}},{"$f":"M12+M17+M22+M27+M32+M37+M42+M47+M52+M57+M62+M67+M72+M77+M82+M87+M92","v":{"v":1517.5200000000004,"d":"1517.52"}},{"$f":"M7/#REF!-1","v":{"$error":"#REF!"}},8727.43,{"$f":"O7/SUM(#REF!,#REF!,#REF!,#REF!,#REF!,#REF!)-1","v":{"$error":"#REF!"}}]
[null,"城际城乡巡游出租客运量（万人次）",{"$f":"C13+C18+C23+C28+C33+C38+C43+C48+C53+C58+C63+C68+C73+C78+C83+C88+C93","v":{"v":535.8299999999999,"d":"535.83"}},{"$f":"C8/#REF!-1","v":{"$error":"#REF!"}},{"$f":"E13+E18+E23+E28+E33+E38+E43+E48+E53+E58+E63+E68+E73+E78+E83+E88+E93","v":550.52},{"$f":"E8/#REF!-1","v":{"$error":"#REF!"}},{"$f":"G13+G18+G23+G28+G33+G38+G43+G48+G53+G58+G63+G68+G73+G78+G83+G88+G93","v":513.97},{"$f":"G8/#REF!-1","v":{"$error":"#REF!"}},{"$f":"I13+I18+I23+I28+I33+I38+I43+I48+I53+I58+I63+I68+I73+I78+I83+I88+I93","v":{"v":498.8099999999999,"d":"498.81"}},{"$f":"I8/#REF!-1","v":{"$error":"#REF!"}},{"$f":"K13+K18+K23+K28+K33+K38+K43+K48+K53+K58+K63+K68+K73+K78+K83+K88+K93","v":{"v":517.5400000000002,"d":"517.54"}},{"$f":"K8/#REF!-1","v":{"$error":"#REF!"}},{"$f":"M13+M18+M23+M28+M33+M38+M43+M48+M53+M58+M63+M68+M73+M78+M83+M88+M93","v":{"v":515.2800000000001,"d":"515.28"}},{"$f":"M8/#REF!-1","v":{"$error":"#REF!"}},{"v":3131.9500000000003,"d":"3131.95"},{"$f":"O8/SUM(#REF!,#REF!,#REF!,#REF!,#REF!,#REF!)-1","v":{"$error":"#REF!"}}]
[null,"城际城乡网约车客运量(万人次)",{"$f":"C14+C19+C24+C29+C34+C39+C44+C49+C54+C59+C64+C69+C74+C79+C84+C89+C94","v":{"v":333.3900000000015,"d":"333.39"}},{"$f":"C9/#REF!-1","v":{"$error":"#REF!"}},{"$f":"E14+E19+E24+E29+E34+E39+E44+E49+E54+E59+E64+E69+E74+E79+E84+E89+E94","v":294.49},{"$f":"E9/#REF!-1","v":{"$error":"#REF!"}},{"$f":"G14+G19+G24+G29+G34+G39+G44+G49+G54+G59+G64+G69+G74+G79+G84+G89+G94","v":{"v":347.22999999999826,"d":"347.23"}},{"$f":"G9/#REF!-1","v":{"$error":"#REF!"}},{"$f":"I14+I19+I24+I29+I34+I39+I44+I49+I54+I59+I64+I69+I74+I79+I84+I89+I94","v":{"v":335.38999999999754,"d":"335.39"}},{"$f":"I9/#REF!-1","v":{"$error":"#REF!"}},{"$f":"K14+K19+K24+K29+K34+K39+K44+K49+K54+K59+K64+K69+K74+K79+K84+K89+K94","v":{"v":369.27000000000476,"d":"369.27"}},{"$f":"K9/#REF!-1","v":{"$error":"#REF!"}},{"$f":"M14+M19+M24+M29+M34+M39+M44+M49+M54+M59+M64+M69+M74+M79+M84+M89+M94","v":{"v":383.6799999999991,"d":"383.68"}},{"$f":"M9/#REF!-1","v":{"$error":"#REF!"}},{"v":2063.450000000001,"d":"2063.45"},{"$f":"O9/SUM(#REF!,#REF!,#REF!,#REF!,#REF!,#REF!)-1","v":{"$error":"#REF!"}}]
["武汉市","总客运量（万人次）",{"$f":"C11+C12+C13+C14","v":{"v":349.53039999999964,"d":"349.53"}},{"$f":"C10/#REF!-1","v":{"$error":"#REF!"}},{"$f":"E11+E12+E13+E14","v":{"v":256.8555,"d":"256.86"}},{"$f":"E10/#REF!-1","v":{"$error":"#REF!"}},{"$f":"G11+G12+G13+G14","v":{"v":356.8859999999994,"d":"356.89"}},{"$f":"G10/#REF!-1","v":{"$error":"#REF!"}},{"$f":"I11+I12+I13+I14","v":{"v":362.1270000000001,"d":"362.13"}},{"$f":"I10/#REF!-1","v":{"$error":"#REF!"}},{"$f":"K11+K12+K13+K14","v":{"v":353.1776999999999,"d":"353.18"}},{"$f":"K10/#REF!-1","v":{"$error":"#REF!"}},{"$f":"M11+M12+M13+M14","v":{"v":364.94590000000045,"d":"364.95"}},{"$f":"M10/#REF!-1","v":{"$error":"#REF!"}},{"v":2043.5224999999996,"d":"2043.52"},{"$f":"O10/SUM(#REF!,#REF!,#REF!,#REF!,#REF!,#REF!)-1","v":{"$error":"#REF!"}}]
[null,"公路班线客运量（万人次）",{"$f":"[1]班线包车!C8","v":323.8804},{"$f":"C11/#REF!-1","v":{"$error":"#REF!"}},{"$f":"[1]班线包车!E8","v":236.0855},{"$f":"E11/#REF!-1","v":{"$error":"#REF!"}},{"$f":"[1]班线包车!G8","v":326.996},{"$f":"G11/#REF!-1","v":{"$error":"#REF!"}},{"$f":"[1]班线包车!I8","v":335.787},{"$f":"I11/#REF!-1","v":{"$error":"#REF!"}},{"$f":"[1]班线包车!K8","v":327.5977},{"$f":"K11/#REF!-1","v":{"$error":"#REF!"}},{"$f":"[1]班线包车!M8","v":341.1759},{"$f":"M11/#REF!-1","v":{"$error":"#REF!"}},{"v":1891.5225,"d":"1891.52"},{"$f":"O11/SUM(#REF!,#REF!,#REF!,#REF!,#REF!,#REF!)-1","v":{"$error":"#REF!"}}]
[null,"城际城乡公交客运量（万人次）",{"$f":"[1]公交!C9-[1]公交!C11","v":25.649999999999636},{"$f":"C12/#REF!-1","v":{"$error":"#REF!"}},{"$f":"[1]公交!E9-[1]公交!E11","v":20.769999999999982},{"$f":"E12/#REF!-1","v":{"$error":"#REF!"}},{"$f":"[1]公交!G9-[1]公交!G11","v":29.889999999999418},{"$f":"G12/#REF!-1","v":{"$error":"#REF!"}},{"$f":"[1]公交!I9-[1]公交!I11","v":26.340000000000146},{"$f":"I12/#REF!-1","v":{"$error":"#REF!"}},{"$f":"[1]公交!K9-[1]公交!K11","v":25.579999999999927},{"$f":"K12/#REF!-1","v":{"$error":"#REF!"}},{"$f":"[1]公交!M9-[1]公交!M11","v":23.770000000000437},{"$f":"M12/#REF!-1","v":{"$error":"#REF!"}},{"v":151.99999999999955,"d":"152.00"},{"$f":"O12/SUM(#REF!,#REF!,#REF!,#REF!,#REF!,#REF!)-1","v":{"$error":"#REF!"}}]
[null,"城际城乡巡游出租客运量（万人次）",0,{"$f":"C13/#REF!-1","v":{"$error":"#REF!"}},0,{"$f":"E13/#REF!-1","v":{"$error":"#REF!"}},0,{"$f":"G13/#REF!-1","v":{"$error":"#REF!"}},0,{"$f":"I13/#REF!-1","v":{"$error":"#REF!"}},0,{"$f":"K13/#REF!-1","v":{"$error":"#REF!"}},0,{"$f":"M13/#REF!-1","v":{"$error":"#REF!"}},{"v":0,"d":"0.00"},{"$f":"O13/SUM(#REF!,#REF!,#REF!,#REF!,#REF!,#REF!)-1","v":{"$error":"#REF!"}}]
[null,"城际城乡网约车客运量(万人次)",{"v":0,"d":"0.000"},{"$f":"C14/#REF!-1","v":{"$error":"#REF!"}},{"v":0,"d":"0.000"},{"$f":"E14/#REF!-1","v":{"$error":"#REF!"}},{"v":0,"d":"0.000"},{"$f":"G14/#REF!-1","v":{"$error":"#REF!"}},{"v":0,"d":"0.000"},{"$f":"I14/#REF!-1","v":{"$error":"#REF!"}},{"v":0,"d":"0.000"},{"$f":"K14/#REF!-1","v":{"$error":"#REF!"}},{"v":0,"d":"0.000"},{"$f":"M14/#REF!-1","v":{"$error":"#REF!"}},{"v":0,"d":"0.00"},{"$f":"O14/SUM(#REF!,#REF!,#REF!,#REF!,#REF!,#REF!)-1","v":{"$error":"#REF!"}}]
["黄石市","总客运量（万人次）",{"$f":"C16+C17+C18+C19","v":{"v":221.14136554154766,"d":"221.14"}},{"$f":"C15/#REF!-1","v":{"$error":"#REF!"}},{"$f":"E16+E17+E18+E19","v":{"v":222.03631347554125,"d":"222.04"}},{"$f":"E15/#REF!-1","v":{"$error":"#REF!"}},{"$f":"G16+G17+G18+G19","v":{"v":230.29764193612135,"d":"230.30"}},{"$f":"G15/#REF!-1","v":{"$error":"#REF!"}},{"$f":"I16+I17+I18+I19","v":{"v":227.8861382480781,"d":"227.89"}},{"$f":"I15/#REF!-1","v":{"$error":"#REF!"}},{"$f":"K16+K17+K18+K19","v":{"v":258.3009215520641,"d":"258.30"}},{"$f":"K15/#REF!-1","v":{"$error":"#REF!"}},{"$f":"M16+M17+M18+M19","v":{"v":253.03482452813498,"d":"253.03"}},{"$f":"M15/#REF!-1","v":{"$error":"#REF!"}},{"v":1412.6972052814874,"d":"1412.70"},{"$f":"O15/SUM(#REF!,#REF!,#REF!,#REF!,#REF!,#REF!)-1","v":{"$error":"#REF!"}}]
[null,"公路班线客运量（万人次）",{"$f":"[1]班线包车!C10","v":75.4816},{"$f":"C16/#REF!-1","v":{"$error":"#REF!"}},{"$f":"[1]班线包车!E10","v":84.6235},{"$f":"E16/#REF!-1","v":{"$error":"#REF!"}},{"$f":"[1]班线包车!G10","v":79.3692},{"$f":"G16/#REF!-1","v":{"$error":"#REF!"}},{"$f":"[1]班线包车!I10","v":78.3745},{"$f":"I16/#REF!-1","v":{"$error":"#REF!"}},{"$f":"[1]班线包车!K10","v":75.5822},{"$f":"K16/#REF!-1","v":{"$error":"#REF!"}},{"$f":"[1]班线包车!M10","v":74.7909},{"$f":"M16/#REF!-1","v":{"$error":"#REF!"}},{"v":468.2219,"d":"468.22"},{"$f":"O16/SUM(#REF!,#REF!,#REF!,#REF!,#REF!,#REF!)-1","v":{"$error":"#REF!"}}]
[null,"城际城乡公交客运量（万人次）",{"$f":"[1]公交!C13-[1]公交!C15","v":106.04999999999995},{"$f":"C17/#REF!-1","v":{"$error":"#REF!"}},{"$f":"[1]公交!E13-[1]公交!E15","v":100.73000000000002},{"$f":"E17/#REF!-1","v":{"$error":"#REF!"}},{"$f":"[1]公交!G13-[1]公交!G15","v":111.80000000000007},{"$f":"G17/#REF!-1","v":{"$error":"#REF!"}},{"$f":"[1]公交!I13-[1]公交!I15","v":110.40000000000009},{"$f":"I17/#REF!-1","v":{"$error":"#REF!"}},{"$f":"[1]公交!K13-[1]公交!K15","v":141.4000000000001},{"$f":"K17/#REF!-1","v":{"$error":"#REF!"}},{"$f":"[1]公交!M13-[1]公交!M15","v":135.89999999999998},{"$f":"M17/#REF!-1","v":{"$error":"#REF!"}},{"v":706.2800000000002,"d":"706.28"},{"$f":"O17/SUM(#REF!,#REF!,#REF!,#REF!,#REF!,#REF!)-1","v":{"$error":"#REF!"}}]
[null,"城际城乡巡游出租客运量（万人次）",{"$f":"[1]出租!C13-[1]出租!C15","v":26.00999999999999},{"$f":"C18/#REF!-1","v":{"$error":"#REF!"}},{"$f":"[1]出租!E13-[1]出租!E15","v":24.860000000000014},{"$f":"E18/#REF!-1","v":{"$error":"#REF!"}},{"$f":"[1]出租!G13-[1]出租!G15","v":25.19999999999999},{"$f":"G18/#REF!-1","v":{"$error":"#REF!"}},{"$f":"[1]出租!I13-[1]出租!I15","v":26.129999999999995},{"$f":"I18/#REF!-1","v":{"$error":"#REF!"}},{"$f":"[1]出租!K13-[1]出租!K15","v":25.70999999999998},{"$f":"K18/#REF!-1","v":{"$error":"#REF!"}},{"$f":"[1]出租!M13-[1]出租!M15","v":24.50999999999999},{"$f":"M18/#REF!-1","v":{"$error":"#REF!"}},{"v":152.41999999999996,"d":"152.42"},{"$f":"O18/SUM(#REF!,#REF!,#REF!,#REF!,#REF!,#REF!)-1","v":{"$error":"#REF!"}}]
[null,"城际城乡网约车客运量(万人次)",{"$f":"[1]网约车!C13-[1]网约车!C15","v":{"v":13.599765541547697,"d":"13.600"}},{"$f":"C19/#REF!-1","v":{"$error":"#REF!"}},{"$f":"[1]网约车!E13-[1]网约车!E15","v":{"v":11.822813475541196,"d":"11.823"}},{"$f":"E19/#REF!-1","v":{"$error":"#REF!"}},{"$f":"[1]网约车!G13-[1]网约车!G15","v":{"v":13.928441936121303,"d":"13.928"}},{"$f":"G19/#REF!-1","v":{"$error":"#REF!"}},{"$f":"[1]网约车!I13-[1]网约车!I15","v":{"v":12.981638248078,"d":"12.982"}},{"$f":"I19/#REF!-1","v":{"$error":"#REF!"}},{"$f":"[1]网约车!K13-[1]网约车!K15","v":{"v":15.608721552063997,"d":"15.609"}},{"$f":"K19/#REF!-1","v":{"$error":"#REF!"}},{"$f":"[1]网约车!M13-[1]网约车!M15","v":{"v":17.833924528135014,"d":"17.834"}},{"$f":"M19/#REF!-1","v":{"$error":"#REF!"}},{"v":85.7753052814872,"d":"85.78"},{"$f":"O19/SUM(#REF!,#REF!,#REF!,#REF!,#REF!,#REF!)-1","v":{"$error":"#REF!"}}]
["十堰市","总客运量（万人次）",{"$f":"C21+C22+C23+C24","v":{"v":173.23414292578002,"d":"173.23"}},{"$f":"C20/#REF!-1","v":{"$error":"#REF!"}},{"$f":"E21+E22+E23+E24","v":{"v":186.934657911457,"d":"186.93"}},{"$f":"E20/#REF!-1","v":{"$error":"#REF!"}},{"$f":"G21+G22+G23+G24","v":{"v":188.9660598818311,"d":"188.97"}},{"$f":"G20/#REF!-1","v":{"$error":"#REF!"}},{"$f":"I21+I22+I23+I24","v":{"v":204.52504718293008,"d":"204.53"}},{"$f":"I20/#REF!-1","v":{"$error":"#REF!"}},{"$f":"K21+K22+K23+K24","v":{"v":201.4112892479191,"d":"201.41"}},{"$f":"K20/#REF!-1","v":{"$error":"#REF!"}},{"$f":"M21+M22+M23+M24","v":{"v":199.09037968972115,"d":"199.09"}},{"$f":"M20/#REF!-1","v":{"$error":"#REF!"}},{"v":1154.1615768396384,"d":"1154.16"},{"$f":"O20/SUM(#REF!,#REF!,#REF!,#REF!,#REF!,#REF!)-1","v":{"$error":"#REF!"}}]
[null,"公路班线客运量（万人次）",{"$f":"[1]班线包车!C14","v":44.2561},{"$f":"C21/#REF!-1","v":{"$error":"#REF!"}},{"$f":"[1]班线包车!E14","v":64.7578},{"$f":"E21/#REF!-1","v":{"$error":"#REF!"}},{"$f":"[1]班线包车!G14","v":60.4028},{"$f":"G21/#REF!-1","v":{"$error":"#REF!"}},{"$f":"[1]班线包车!I14","v":68.256},{"$f":"I21/#REF!-1","v":{"$error":"#REF!"}},{"$f":"[1]班线包车!K14","v":66.0753},{"$f":"K21/#REF!-1","v":{"$error":"#REF!"}},{"$f":"[1]班线包车!M14","v":57.5147},{"$f":"M21/#REF!-1","v":{"$error":"#REF!"}},{"v":361.2627,"d":"361.26"},{"$f":"O21/SUM(#REF!,#REF!,#REF!,#REF!,#REF!,#REF!)-1","v":{"$error":"#REF!"}}]
[null,"城际城乡公交客运量（万人次）",{"$f":"[1]公交!C17-[1]公交!C19","v":115.25},{"$f":"C22/#REF!-1","v":{"$error":"#REF!"}},{"$f":"[1]公交!E17-[1]公交!E19","v":111.24000000000001},{"$f":"E22/#REF!-1","v":{"$error":"#REF!"}},{"$f":"[1]公交!G17-[1]公交!G19","v":112.62000000000012},{"$f":"G22/#REF!-1","v":{"$error":"#REF!"}},{"$f":"[1]公交!I17-[1]公交!I19","v":122.17000000000007},{"$f":"I22/#REF!-1","v":{"$error":"#REF!"}},{"$f":"[1]公交!K17-[1]公交!K19","v":119.16000000000008},{"$f":"K22/#REF!-1","v":{"$error":"#REF!"}},{"$f":"[1]公交!M17-[1]公交!M19","v":124.86000000000013},{"$f":"M22/#REF!-1","v":{"$error":"#REF!"}},{"v":705.3000000000004,"d":"705.30"},{"$f":"O22/SUM(#REF!,#REF!,#REF!,#REF!,#REF!,#REF!)-1","v":{"$error":"#REF!"}}]
[null,"城际城乡巡游出租客运量（万人次）",{"$f":"[1]出租!C17-[1]出租!C19","v":3.0600000000000023},{"$f":"C23/#REF!-1","v":{"$error":"#REF!"}},{"$f":"[1]出租!E17-[1]出租!E19","v":1.8199999999999932},{"$f":"E23/#REF!-1","v":{"$error":"#REF!"}},{"$f":"[1]出租!G17-[1]出租!G19","v":2.009999999999991},{"$f":"G23/#REF!-1","v":{"$error":"#REF!"}},{"$f":"[1]出租!I17-[1]出租!I19","v":1.910000000000025},{"$f":"I23/#REF!-1","v":{"$error":"#REF!"}},{"$f":"[1]出租!K17-[1]出租!K19","v":2.269999999999982},{"$f":"K23/#REF!-1","v":{"$error":"#REF!"}},{"$f":"[1]出租!M17-[1]出租!M19","v":1.9499999999999886},{"$f":"M23/#REF!-1","v":{"$error":"#REF!"}},{"v":13.019999999999982,"d":"13.02"},{"$f":"O23/SUM(#REF!,#REF!,#REF!,#REF!,#REF!,#REF!)-1","v":{"$error":"#REF!"}}]
[null,"城际城乡网约车客运量(万人次)",{"$f":"[1]网约车!C17-[1]网约车!C19","v":{"v":10.668042925780014,"d":"10.668"}},{"$f":"C24/#REF!-1","v":{"$error":"#REF!"}},{"$f":"[1]网约车!E17-[1]网约车!E19","v":{"v":9.116857911457004,"d":"9.117"}},{"$f":"E24/#REF!-1","v":{"$error":"#REF!"}},{"$f":"[1]网约车!G17-[1]网约车!G19","v":{"v":13.933259881830963,"d":"13.933"}},{"$f":"G24/#REF!-1","v":{"$error":"#REF!"}},{"$f":"[1]网约车!I17-[1]网约车!I19","v":{"v":12.189047182929983,"d":"12.189"}},{"$f":"I24/#REF!-1","v":{"$error":"#REF!"}},{"$f":"[1]网约车!K17-[1]网约车!K19","v":{"v":13.905989247919024,"d":"13.906"}},{"$f":"K24/#REF!-1","v":{"$error":"#REF!"}},{"$f":"[1]网约车!M17-[1]网约车!M19","v":{"v":14.765679689721026,"d":"14.766"}},{"$f":"M24/#REF!-1","v":{"$error":"#REF!"}},{"v":74.57887683963801,"d":"74.58"},{"$f":"O24/SUM(#REF!,#REF!,#REF!,#REF!,#REF!,#REF!)-1","v":{"$error":"#REF!"}}]
["宜昌市","总客运量（万人次）",{"$f":"C26+C27+C28+C29","v":{"v":266.584590941652,"d":"266.58"}},{"$f":"C25/#REF!-1","v":{"$error":"#REF!"}},{"$f":"E26+E27+E28+E29","v":{"v":302.95420854876113,"d":"302.95"}},{"$f":"E25/#REF!-1","v":{"$error":"#REF!"}},{"$f":"G26+G27+G28+G29","v":{"v":318.3810257894879,"d":"318.38"}},{"$f":"G25/#REF!-1","v":{"$error":"#REF!"}},{"$f":"I26+I27+I28+I29","v":{"v":358.340748082941,"d":"358.34"}},{"$f":"I25/#REF!-1","v":{"$error":"#REF!"}},{"$f":"K26+K27+K28+K29","v":{"v":409.31081562906513,"d":"409.31"}},{"$f":"K25/#REF!-1","v":{"$error":"#REF!"}},{"$f":"M26+M27+M28+M29","v":{"v":385.378900937978,"d":"385.38"}},{"$f":"M25/#REF!-1","v":{"$error":"#REF!"}},{"v":2040.950289929885,"d":"2040.95"},{"$f":"O25/SUM(#REF!,#REF!,#REF!,#REF!,#REF!,#REF!)-1","v":{"$error":"#REF!"}}]
[null,"公路班线客运量（万人次）",{"$f":"[1]班线包车!C18","v":178.5701},{"$f":"C26/#REF!-1","v":{"$error":"#REF!"}},{"$f":"[1]班线包车!E18","v":215.5515},{"$f":"E26/#REF!-1","v":{"$error":"#REF!"}},{"$f":"[1]班线包车!G18","v":211.3526},{"$f":"G26/#REF!-1","v":{"$error":"#REF!"}},{"$f":"[1]班线包车!I18","v":243.5999},{"$f":"I26/#REF!-1","v":{"$error":"#REF!"}},{"$f":"[1]班线包车!K18","v":277.3764},{"$f":"K26/#REF!-1","v":{"$error":"#REF!"}},{"$f":"[1]班线包车!M18","v":250.6952},{"$f":"M26/#REF!-1","v":{"$error":"#REF!"}},{"v":1377.1457,"d":"1377.15"},{"$f":"O26/SUM(#REF!,#REF!,#REF!,#REF!,#REF!,#REF!)-1","v":{"$error":"#REF!"}}]
[null,"城际城乡公交客运量（万人次）",{"$f":"[1]公交!C21-[1]公交!C23","v":40.97000000000003},{"$f":"C27/#REF!-1","v":{"$error":"#REF!"}},{"$f":"[1]公交!E21-[1]公交!E23","v":38.56000000000006},{"$f":"E27/#REF!-1","v":{"$error":"#REF!"}},{"$f":"[1]公交!G21-[1]公交!G23","v":32.51999999999998},{"$f":"G27/#REF!-1","v":{"$error":"#REF!"}},{"$f":"[1]公交!I21-[1]公交!I23","v":31.470000000000027},{"$f":"I27/#REF!-1","v":{"$error":"#REF!"}},{"$f":"[1]公交!K21-[1]公交!K23","v":41.1400000000001},{"$f":"K27/#REF!-1","v":{"$error":"#REF!"}},{"$f":"[1]公交!M21-[1]公交!M23","v":42.97000000000003},{"$f":"M27/#REF!-1","v":{"$error":"#REF!"}},{"v":227.63000000000022,"d":"227.63"},{"$f":"O27/SUM(#REF!,#REF!,#REF!,#REF!,#REF!,#REF!)-1","v":{"$error":"#REF!"}}]
[null,"城际城乡巡游出租客运量（万人次）",{"$f":"[1]出租!C21-[1]出租!C23","v":27.43999999999994},{"$f":"C28/#REF!-1","v":{"$error":"#REF!"}},{"$f":"[1]出租!E21-[1]出租!E23","v":29.940000000000055},{"$f":"E28/#REF!-1","v":{"$error":"#REF!"}},{"$f":"[1]出租!G21-[1]出租!G23","v":40.92999999999995},{"$f":"G28/#REF!-1","v":{"$error":"#REF!"}},{"$f":"[1]出租!I21-[1]出租!I23","v":45.64999999999998},{"$f":"I28/#REF!-1","v":{"$error":"#REF!"}},{"$f":"[1]出租!K21-[1]出租!K23","v":48.430000000000064},{"$f":"K28/#REF!-1","v":{"$error":"#REF!"}},{"$f":"[1]出租!M21-[1]出租!M23","v":47.75},{"$f":"M28/#REF!-1","v":{"$error":"#REF!"}},240.14,{"$f":"O28/SUM(#REF!,#REF!,#REF!,#REF!,#REF!,#REF!)-1","v":{"$error":"#REF!"}}]
[null,"城际城乡网约车客运量(万人次)",{"$f":"[1]网约车!C21-[1]网约车!C23","v":{"v":19.60449094165199,"d":"19.604"}},{"$f":"C29/#REF!-1","v":{"$error":"#REF!"}},{"$f":"[1]网约车!E21-[1]网约车!E23","v":{"v":18.902708548761012,"d":"18.903"}},{"$f":"E29/#REF!-1","v":{"$error":"#REF!"}},{"$f":"[1]网约车!G21-[1]网约车!G23","v":{"v":33.578425789487994,"d":"33.578"}},{"$f":"G29/#REF!-1","v":{"$error":"#REF!"}},{"$f":"[1]网约车!I21-[1]网约车!I23","v":{"v":37.620848082940995,"d":"37.621"}},{"$f":"I29/#REF!-1","v":{"$error":"#REF!"}},{"$f":"[1]网约车!K21-[1]网约车!K23","v":{"v":42.36441562906498,"d":"42.364"}},{"$f":"K29/#REF!-1","v":{"$error":"#REF!"}},{"$f":"[1]网约车!M21-[1]网约车!M23","v":{"v":43.96370093797799,"d":"43.964"}},{"$f":"M29/#REF!-1","v":{"$error":"#REF!"}},{"v":196.03458992988496,"d":"196.03"},{"$f":"O29/SUM(#REF!,#REF!,#REF!,#REF!,#REF!,#REF!)-1","v":{"$error":"#REF!"}}]
["襄阳市","总客运量（万人次）",{"$f":"C31+C32+C33+C34","v":{"v":394.46178210410187,"d":"394.46"}},{"$f":"C30/#REF!-1","v":{"$error":"#REF!"}},{"$f":"E31+E32+E33+E34","v":{"v":423.81780486055305,"d":"423.82"}},{"$f":"E30/#REF!-1","v":{"$error":"#REF!"}},{"$f":"G31+G32+G33+G34","v":{"v":414.6527845155152,"d":"414.65"}},{"$f":"G30/#REF!-1","v":{"$error":"#REF!"}},{"$f":"I31+I32+I33+I34","v":{"v":413.642263314168,"d":"413.64"}},{"$f":"I30/#REF!-1","v":{"$error":"#REF!"}},{"$f":"K31+K32+K33+K34","v":{"v":424.473613606562,"d":"424.47"}},{"$f":"K30/#REF!-1","v":{"$error":"#REF!"}},{"$f":"M31+M32+M33+M34","v":{"v":421.2056772640651,"d":"421.21"}},{"$f":"M30/#REF!-1","v":{"$error":"#REF!"}},{"v":2492.253925664965,"d":"2492.25"},{"$f":"O30/SUM(#REF!,#REF!,#REF!,#REF!,#REF!,#REF!)-1","v":{"$error":"#REF!"}}]
[null,"公路班线客运量（万人次）",{"$f":"[1]班线包车!C22","v":103.0089},{"$f":"C31/#REF!-1","v":{"$error":"#REF!"}},{"$f":"[1]班线包车!E22","v":126.6864},{"$f":"E31/#REF!-1","v":{"$error":"#REF!"}},{"$f":"[1]班线包车!G22","v":116.5618},{"$f":"G31/#REF!-1","v":{"$error":"#REF!"}},{"$f":"[1]班线包车!I22","v":121.936},{"$f":"I31/#REF!-1","v":{"$error":"#REF!"}},{"$f":"[1]班线包车!K22","v":120.2889},{"$f":"K31/#REF!-1","v":{"$error":"#REF!"}},{"$f":"[1]班线包车!M22","v":113.3073},{"$f":"M31/#REF!-1","v":{"$error":"#REF!"}},{"v":701.7893000000001,"d":"701.79"},{"$f":"O31/SUM(#REF!,#REF!,#REF!,#REF!,#REF!,#REF!)-1","v":{"$error":"#REF!"}}]
[null,"城际城乡公交客运量（万人次）",{"$f":"[1]公交!C25-[1]公交!C27","v":175.89999999999986},{"$f":"C32/#REF!-1","v":{"$error":"#REF!"}},{"$f":"[1]公交!E25-[1]公交!E27","v":190.5},{"$f":"E32/#REF!-1","v":{"$error":"#REF!"}},{"$f":"[1]公交!G25-[1]公交!G27","v":182.06000000000017},{"$f":"G32/#REF!-1","v":{"$error":"#REF!"}},{"$f":"[1]公交!I25-[1]公交!I27","v":184.46000000000004},{"$f":"I32/#REF!-1","v":{"$error":"#REF!"}},{"$f":"[1]公交!K25-[1]公交!K27","v":192.51999999999998},{"$f":"K32/#REF!-1","v":{"$error":"#REF!"}},{"$f":"[1]公交!M25-[1]公交!M27","v":194.20000000000005},{"$f":"M32/#REF!-1","v":{"$error":"#REF!"}},1119.64,{"$f":"O32/SUM(#REF!,#REF!,#REF!,#REF!,#REF!,#REF!)-1","v":{"$error":"#REF!"}}]
[null,"城际城乡巡游出租客运量（万人次）",{"$f":"[1]出租!C25-[1]出租!C27","v":50.97000000000003},{"$f":"C33/#REF!-1","v":{"$error":"#REF!"}},{"$f":"[1]出租!E25-[1]出租!E27","v":50.04000000000002},{"$f":"E33/#REF!-1","v":{"$error":"#REF!"}},{"$f":"[1]出租!G25-[1]出租!G27","v":53},{"$f":"G33/#REF!-1","v":{"$error":"#REF!"}},{"$f":"[1]出租!I25-[1]出租!I27","v":49.21999999999997},{"$f":"I33/#REF!-1","v":{"$error":"#REF!"}},{"$f":"[1]出租!K25-[1]出租!K27","v":49.410000000000025},{"$f":"K33/#REF!-1","v":{"$error":"#REF!"}},{"$f":"[1]出租!M25-[1]出租!M27","v":51.14000000000004},{"$f":"M33/#REF!-1","v":{"$error":"#REF!"}},{"v":303.7800000000001,"d":"303.78"},{"$f":"O33/SUM(#REF!,#REF!,#REF!,#REF!,#REF!,#REF!)-1","v":{"$error":"#REF!"}}]
[null,"城际城乡网约车客运量(万人次)",{"$f":"[1]网约车!C25-[1]网约车!C27","v":{"v":64.582882104102,"d":"64.583"}},{"$f":"C34/#REF!-1","v":{"$error":"#REF!"}},{"$f":"[1]网约车!E25-[1]网约车!E27","v":{"v":56.59140486055304,"d":"56.591"}},{"$f":"E34/#REF!-1","v":{"$error":"#REF!"}},{"$f":"[1]网约车!G25-[1]网约车!G27","v":{"v":63.030984515515,"d":"63.031"}},{"$f":"G34/#REF!-1","v":{"$error":"#REF!"}},{"$f":"[1]网约车!I25-[1]网约车!I27","v":{"v":58.02626331416798,"d":"58.026"}},{"$f":"I34/#REF!-1","v":{"$error":"#REF!"}},{"$f":"[1]网约车!K25-[1]网约车!K27","v":{"v":62.25471360656201,"d":"62.255"}},{"$f":"K34/#REF!-1","v":{"$error":"#REF!"}},{"$f":"[1]网约车!M25-[1]网约车!M27","v":{"v":62.55837726406503,"d":"62.558"}},{"$f":"M34/#REF!-1","v":{"$error":"#REF!"}},{"v":367.04462566496505,"d":"367.04"},{"$f":"O34/SUM(#REF!,#REF!,#REF!,#REF!,#REF!,#REF!)-1","v":{"$error":"#REF!"}}]
["鄂州市","总客运量（万人次）",{"$f":"C36+C37+C38+C39","v":{"v":88.73852855690012,"d":"88.74"}},{"$f":"C35/#REF!-1","v":{"$error":"#REF!"}},{"$f":"E36+E37+E38+E39","v":{"v":77.3079710590833,"d":"77.31"}},{"$f":"E35/#REF!-1","v":{"$error":"#REF!"}},{"$f":"G36+G37+G38+G39","v":{"v":76.94935526751142,"d":"76.95"}},{"$f":"G35/#REF!-1","v":{"$error":"#REF!"}},{"$f":"I36+I37+I38+I39","v":{"v":77.63217245264269,"d":"77.63"}},{"$f":"I35/#REF!-1","v":{"$error":"#REF!"}},{"$f":"K36+K37+K38+K39","v":{"v":68.30564737411383,"d":"68.31"}},{"$f":"K35/#REF!-1","v":{"$error":"#REF!"}},{"$f":"M36+M37+M38+M39","v":{"v":66.46845473507122,"d":"66.47"}},{"$f":"M35/#REF!-1","v":{"$error":"#REF!"}},{"v":455.40212944532254,"d":"455.40"},{"$f":"O35/SUM(#REF!,#REF!,#REF!,#REF!,#REF!,#REF!)-1","v":{"$error":"#REF!"}}]
[null,"公路班线客运量（万人次）",{"$f":"[1]班线包车!C26","v":58.6181},{"$f":"C36/#REF!-1","v":{"$error":"#REF!"}},{"$f":"[1]班线包车!E26","v":51.2609},{"$f":"E36/#REF!-1","v":{"$error":"#REF!"}},{"$f":"[1]班线包车!G26","v":51.4017},{"$f":"G36/#REF!-1","v":{"$error":"#REF!"}},{"$f":"[1]班线包车!I26","v":51.5443},{"$f":"I36/#REF!-1","v":{"$error":"#REF!"}},{"$f":"[1]班线包车!K26","v":51.6972},{"$f":"K36/#REF!-1","v":{"$error":"#REF!"}},{"$f":"[1]班线包车!M26","v":50.2205},{"$f":"M36/#REF!-1","v":{"$error":"#REF!"}},{"v":314.7427,"d":"314.74"},{"$f":"O36/SUM(#REF!,#REF!,#REF!,#REF!,#REF!,#REF!)-1","v":{"$error":"#REF!"}}]
[null,"城际城乡公交客运量（万人次）",{"$f":"[1]公交!C29-[1]公交!C31","v":15.76000000000002},{"$f":"C37/#REF!-1","v":{"$error":"#REF!"}},{"$f":"[1]公交!E29-[1]公交!E31","v":15.719999999999999},{"$f":"E37/#REF!-1","v":{"$error":"#REF!"}},{"$f":"[1]公交!G29-[1]公交!G31","v":16.140000000000015},{"$f":"G37/#REF!-1","v":{"$error":"#REF!"}},{"$f":"[1]公交!I29-[1]公交!I31","v":16.810000000000002},{"$f":"I37/#REF!-1","v":{"$error":"#REF!"}},{"$f":"[1]公交!K29-[1]公交!K31","v":11.820000000000022},{"$f":"K37/#REF!-1","v":{"$error":"#REF!"}},{"$f":"[1]公交!M29-[1]公交!M31","v":11.380000000000024},{"$f":"M37/#REF!-1","v":{"$error":"#REF!"}},{"$f":"E37+C37+G37+I37+K37+M37","v":{"v":87.63000000000008,"d":"87.63"}},{"$f":"O37/SUM(#REF!,#REF!,#REF!,#REF!,#REF!,#REF!)-1","v":{"$error":"#REF!"}}]
[null,"城际城乡巡游出租客运量（万人次）",{"$f":"[1]出租!C29-[1]出租!C31","v":8.079999999999998},{"$f":"C38/#REF!-1","v":{"$error":"#REF!"}},{"$f":"[1]出租!E29-[1]出租!E31","v":5.119999999999997},{"$f":"E38/#REF!-1","v":{"$error":"#REF!"}},{"$f":"[1]出租!G29-[1]出租!G31","v":3.3399999999999963},{"$f":"G38/#REF!-1","v":{"$error":"#REF!"}},{"$f":"[1]出租!I29-[1]出租!I31","v":3.259999999999998},{"$f":"I38/#REF!-1","v":{"$error":"#REF!"}},{"$f":"[1]出租!K29-[1]出租!K31","v":1.1900000000000048},{"$f":"K38/#REF!-1","v":{"$error":"#REF!"}},{"$f":"[1]出租!M29-[1]出租!M31","v":1.1499999999999986},{"$f":"M38/#REF!-1","v":{"$error":"#REF!"}},{"v":22.139999999999993,"d":"22.14"},{"$f":"O38/SUM(#REF!,#REF!,#REF!,#REF!,#REF!,#REF!)-1","v":{"$error":"#REF!"}}]
[null,"城际城乡网约车客运量(万人次)",{"$f":"[1]网约车!C29-[1]网约车!C31","v":{"v":6.280428556900098,"d":"6.280"}},{"$f":"C39/#REF!-1","v":{"$error":"#REF!"}},{"$f":"[1]网约车!E29-[1]网约车!E31","v":{"v":5.2070710590833045,"d":"5.207"}},{"$f":"E39/#REF!-1","v":{"$error":"#REF!"}},{"$f":"[1]网约车!G29-[1]网约车!G31","v":{"v":6.067655267511398,"d":"6.068"}},{"$f":"G39/#REF!-1","v":{"$error":"#REF!"}},{"$f":"[1]网约车!I29-[1]网约车!I31","v":{"v":6.017872452642699,"d":"6.018"}},{"$f":"I39/#REF!-1","v":{"$error":"#REF!"}},{"$f":"[1]网约车!K29-[1]网约车!K31","v":{"v":3.598447374113803,"d":"3.598"}},{"$f":"K39/#REF!-1","v":{"$error":"#REF!"}},{"$f":"[1]网约车!M29-[1]网约车!M31","v":{"v":3.7179547350712028,"d":"3.718"}},{"$f":"M39/#REF!-1","v":{"$error":"#REF!"}},{"v":30.889429445322506,"d":"30.89"},{"$f":"O39/SUM(#REF!,#REF!,#REF!,#REF!,#REF!,#REF!)-1","v":{"$error":"#REF!"}}]
["荆门市","总客运量（万人次）",{"$f":"C41+C42+C43+C44","v":{"v":100.62831387753903,"d":"100.63"}},{"$f":"C40/#REF!-1","v":{"$error":"#REF!"}},{"$f":"E41+E42+E43+E44","v":{"v":102.00197212127101,"d":"102.00"}},{"$f":"E40/#REF!-1","v":{"$error":"#REF!"}},{"$f":"G41+G42+G43+G44","v":{"v":98.87500149921809,"d":"98.88"}},{"$f":"G40/#REF!-1","v":{"$error":"#REF!"}},{"$f":"I41+I42+I43+I44","v":{"v":99.04538928146897,"d":"99.05"}},{"$f":"I40/#REF!-1","v":{"$error":"#REF!"}},{"$f":"K41+K42+K43+K44","v":{"v":98.94656009616502,"d":"98.95"}},{"$f":"K40/#REF!-1","v":{"$error":"#REF!"}},{"$f":"M41+M42+M43+M44","v":{"v":90.00974892110096,"d":"90.01"}},{"$f":"M40/#REF!-1","v":{"$error":"#REF!"}},{"v":589.506985796763,"d":"589.51"},{"$f":"O40/SUM(#REF!,#REF!,#REF!,#REF!,#REF!,#REF!)-1","v":{"$error":"#REF!"}}]
[null,"公路班线客运量（万人次）",{"$f":"[1]班线包车!C28","v":39.055},{"$f":"C41/#REF!-1","v":{"$error":"#REF!"}},{"$f":"[1]班线包车!E28","v":40.8426},{"$f":"E41/#REF!-1","v":{"$error":"#REF!"}},{"$f":"[1]班线包车!G28","v":40.7877},{"$f":"G41/#REF!-1","v":{"$error":"#REF!"}},{"$f":"[1]班线包车!I28","v":41.5487},{"$f":"I41/#REF!-1","v":{"$error":"#REF!"}},{"$f":"[1]班线包车!K28","v":41.3523},{"$f":"K41/#REF!-1","v":{"$error":"#REF!"}},{"$f":"[1]班线包车!M28","v":35.2665},{"$f":"M41/#REF!-1","v":{"$error":"#REF!"}},{"v":238.8528,"d":"238.85"},{"$f":"O41/SUM(#REF!,#REF!,#REF!,#REF!,#REF!,#REF!)-1","v":{"$error":"#REF!"}}]
[null,"城际城乡公交客运量（万人次）",{"$f":"[1]公交!C33-[1]公交!C35","v":12.360000000000014},{"$f":"C42/#REF!-1","v":{"$error":"#REF!"}},{"$f":"[1]公交!E33-[1]公交!E35","v":12.139999999999986},{"$f":"E42/#REF!-1","v":{"$error":"#REF!"}},{"$f":"[1]公交!G33-[1]公交!G35","v":12.270000000000095},{"$f":"G42/#REF!-1","v":{"$error":"#REF!"}},{"$f":"[1]公交!I33-[1]公交!I35","v":12.240000000000009},{"$f":"I42/#REF!-1","v":{"$error":"#REF!"}},{"$f":"[1]公交!K33-[1]公交!K35","v":11.850000000000023},{"$f":"K42/#REF!-1","v":{"$error":"#REF!"}},{"$f":"[1]公交!M33-[1]公交!M35","v":11.819999999999936},{"$f":"M42/#REF!-1","v":{"$error":"#REF!"}},{"v":72.68000000000006,"d":"72.68"},{"$f":"O42/SUM(#REF!,#REF!,#REF!,#REF!,#REF!,#REF!)-1","v":{"$error":"#REF!"}}]
[null,"城际城乡巡游出租客运量（万人次）",{"$f":"[1]出租!C33-[1]出租!C35","v":29.99000000000001},{"$f":"C43/#REF!-1","v":{"$error":"#REF!"}},{"$f":"[1]出租!E33-[1]出租!E35","v":32.360000000000014},{"$f":"E43/#REF!-1","v":{"$error":"#REF!"}},{"$f":"[1]出租!G33-[1]出租!G35","v":28.50999999999999},{"$f":"G43/#REF!-1","v":{"$error":"#REF!"}},{"$f":"[1]出租!I33-[1]出租!I35","v":27.529999999999973},{"$f":"I43/#REF!-1","v":{"$error":"#REF!"}},{"$f":"[1]出租!K33-[1]出租!K35","v":27.689999999999998},{"$f":"K43/#REF!-1","v":{"$error":"#REF!"}},{"$f":"[1]出租!M33-[1]出租!M35","v":25.100000000000023},{"$f":"M43/#REF!-1","v":{"$error":"#REF!"}},171.18,{"$f":"O43/SUM(#REF!,#REF!,#REF!,#REF!,#REF!,#REF!)-1","v":{"$error":"#REF!"}}]
[null,"城际城乡网约车客运量(万人次)",{"$f":"[1]网约车!C33-[1]网约车!C35","v":{"v":19.223313877539,"d":"19.223"}},{"$f":"C44/#REF!-1","v":{"$error":"#REF!"}},{"$f":"[1]网约车!E33-[1]网约车!E35","v":{"v":16.659372121271005,"d":"16.659"}},{"$f":"E44/#REF!-1","v":{"$error":"#REF!"}},{"$f":"[1]网约车!G33-[1]网约车!G35","v":{"v":17.307301499218,"d":"17.307"}},{"$f":"G44/#REF!-1","v":{"$error":"#REF!"}},{"$f":"[1]网约车!I33-[1]网约车!I35","v":{"v":17.726689281468992,"d":"17.727"}},{"$f":"I44/#REF!-1","v":{"$error":"#REF!"}},{"$f":"[1]网约车!K33-[1]网约车!K35","v":{"v":18.054260096164995,"d":"18.054"}},{"$f":"K44/#REF!-1","v":{"$error":"#REF!"}},{"$f":"[1]网约车!M33-[1]网约车!M35","v":{"v":17.823248921100998,"d":"17.823"}},{"$f":"M44/#REF!-1","v":{"$error":"#REF!"}},{"v":106.79418579676299,"d":"106.79"},{"$f":"O44/SUM(#REF!,#REF!,#REF!,#REF!,#REF!,#REF!)-1","v":{"$error":"#REF!"}}]
["孝感市","总客运量（万人次）",{"$f":"C46+C47+C48+C49","v":{"v":324.79195195127494,"d":"324.79"}},{"$f":"C45/#REF!-1","v":{"$error":"#REF!"}},{"$f":"E46+E47+E48+E49","v":{"v":325.14963465565904,"d":"325.15"}},{"$f":"E45/#REF!-1","v":{"$error":"#REF!"}},{"$f":"G46+G47+G48+G49","v":{"v":321.92264637190505,"d":"321.92"}},{"$f":"G45/#REF!-1","v":{"$error":"#REF!"}},{"$f":"I46+I47+I48+I49","v":{"v":322.867200968946,"d":"322.87"}},{"$f":"I45/#REF!-1","v":{"$error":"#REF!"}},{"$f":"K46+K47+K48+K49","v":{"v":344.33181114515804,"d":"344.33"}},{"$f":"K45/#REF!-1","v":{"$error":"#REF!"}},{"$f":"M46+M47+M48+M49","v":{"v":360.016004677877,"d":"360.02"}},{"$f":"M45/#REF!-1","v":{"$error":"#REF!"}},{"v":1999.07924977082,"d":"1999.08"},{"$f":"O45/SUM(#REF!,#REF!,#REF!,#REF!,#REF!,#REF!)-1","v":{"$error":"#REF!"}}]
[null,"公路班线客运量（万人次）",{"$f":"[1]班线包车!C32","v":59.3255},{"$f":"C46/#REF!-1","v":{"$error":"#REF!"}},{"$f":"[1]班线包车!E32","v":60.7363},{"$f":"E46/#REF!-1","v":{"$error":"#REF!"}},{"$f":"[1]班线包车!G32","v":56.7931},{"$f":"G46/#REF!-1","v":{"$error":"#REF!"}},{"$f":"[1]班线包车!I32","v":61.8497},{"$f":"I46/#REF!-1","v":{"$error":"#REF!"}},{"$f":"[1]班线包车!K32","v":62.0998},{"$f":"K46/#REF!-1","v":{"$error":"#REF!"}},{"$f":"[1]班线包车!M32","v":62.8884},{"$f":"M46/#REF!-1","v":{"$error":"#REF!"}},{"v":363.69280000000003,"d":"363.69"},{"$f":"O46/SUM(#REF!,#REF!,#REF!,#REF!,#REF!,#REF!)-1","v":{"$error":"#REF!"}}]
[null,"城际城乡公交客运量（万人次）",{"$f":"[1]公交!C37-[1]公交!C39","v":155.57},{"$f":"C47/#REF!-1","v":{"$error":"#REF!"}},{"$f":"[1]公交!E37-[1]公交!E39","v":161},{"$f":"E47/#REF!-1","v":{"$error":"#REF!"}},{"$f":"[1]公交!G37-[1]公交!G39","v":159.76999999999998},{"$f":"G47/#REF!-1","v":{"$error":"#REF!"}},{"$f":"[1]公交!I37-[1]公交!I39","v":160.12},{"$f":"I47/#REF!-1","v":{"$error":"#REF!"}},{"$f":"[1]公交!K37-[1]公交!K39","v":166.94},{"$f":"K47/#REF!-1","v":{"$error":"#REF!"}},{"$f":"[1]公交!M37-[1]公交!M39","v":172.51},{"$f":"M47/#REF!-1","v":{"$error":"#REF!"}},{"v":975.9100000000001,"d":"975.91"},{"$f":"O47/SUM(#REF!,#REF!,#REF!,#REF!,#REF!,#REF!)-1","v":{"$error":"#REF!"}}]
[null,"城际城乡巡游出租客运量（万人次）",{"$f":"[1]出租!C37-[1]出租!C39","v":77.77999999999997},{"$f":"C48/#REF!-1","v":{"$error":"#REF!"}},{"$f":"[1]出租!E37-[1]出租!E39","v":78.39999999999998},{"$f":"E48/#REF!-1","v":{"$error":"#REF!"}},{"$f":"[1]出租!G37-[1]出租!G39","v":72.68},{"$f":"G48/#REF!-1","v":{"$error":"#REF!"}},{"$f":"[1]出租!I37-[1]出租!I39","v":68.88},{"$f":"I48/#REF!-1","v":{"$error":"#REF!"}},{"$f":"[1]出租!K37-[1]出租!K39","v":77.60000000000002},{"$f":"K48/#REF!-1","v":{"$error":"#REF!"}},{"$f":"[1]出租!M37-[1]出租!M39","v":85.80000000000001},{"$f":"M48/#REF!-1","v":{"$error":"#REF!"}},461.14,{"$f":"O48/SUM(#REF!,#REF!,#REF!,#REF!,#REF!,#REF!)-1","v":{"$error":"#REF!"}}]
[null,"城际城乡网约车客运量(万人次)",{"$f":"[1]网约车!C37-[1]网约车!C39","v":{"v":32.116451951274996,"d":"32.116"}},{"$f":"C49/#REF!-1","v":{"$error":"#REF!"}},{"$f":"[1]网约车!E37-[1]网约车!E39","v":{"v":25.01333465565901,"d":"25.013"}},{"$f":"E49/#REF!-1","v":{"$error":"#REF!"}},{"$f":"[1]网约车!G37-[1]网约车!G39","v":{"v":32.67954637190502,"d":"32.680"}},{"$f":"G49/#REF!-1","v":{"$error":"#REF!"}},{"$f":"[1]网约车!I37-[1]网约车!I39","v":{"v":32.017500968945996,"d":"32.018"}},{"$f":"I49/#REF!-1","v":{"$error":"#REF!"}},{"$f":"[1]网约车!K37-[1]网约车!K39","v":{"v":37.692011145158006,"d":"37.692"}},{"$f":"K49/#REF!-1","v":{"$error":"#REF!"}},{"$f":"[1]网约车!M37-[1]网约车!M39","v":{"v":38.817604677877,"d":"38.818"}},{"$f":"M49/#REF!-1","v":{"$error":"#REF!"}},{"v":198.33644977082002,"d":"198.34"},{"$f":"O49/SUM(#REF!,#REF!,#REF!,#REF!,#REF!,#REF!)-1","v":{"$error":"#REF!"}}]
["荆州市","总客运量（万人次）",{"$f":"C51+C52+C53+C54","v":{"v":300.5816975404539,"d":"300.58"}},{"$f":"C50/#REF!-1","v":{"$error":"#REF!"}},{"$f":"E51+E52+E53+E54","v":{"v":314.286571078882,"d":"314.29"}},{"$f":"E50/#REF!-1","v":{"$error":"#REF!"}},{"$f":"G51+G52+G53+G54","v":{"v":289.877435819156,"d":"289.88"}},{"$f":"G50/#REF!-1","v":{"$error":"#REF!"}},{"$f":"I51+I52+I53+I54","v":{"v":283.65048010719386,"d":"283.65"}},{"$f":"I50/#REF!-1","v":{"$error":"#REF!"}},{"$f":"K51+K52+K53+K54","v":{"v":290.0550321921139,"d":"290.06"}},{"$f":"K50/#REF!-1","v":{"$error":"#REF!"}},{"$f":"M51+M52+M53+M54","v":{"v":285.228008776166,"d":"285.23"}},{"$f":"M50/#REF!-1","v":{"$error":"#REF!"}},{"v":1763.6792255139655,"d":"1763.68"},{"$f":"O50/SUM(#REF!,#REF!,#REF!,#REF!,#REF!,#REF!)-1","v":{"$error":"#REF!"}}]
[null,"公路班线客运量（万人次）",{"$f":"[1]班线包车!C36","v":133.6683},{"$f":"C51/#REF!-1","v":{"$error":"#REF!"}},{"$f":"[1]班线包车!E36","v":143.6103},{"$f":"E51/#REF!-1","v":{"$error":"#REF!"}},{"$f":"[1]班线包车!G36","v":139.5382},{"$f":"G51/#REF!-1","v":{"$error":"#REF!"}},{"$f":"[1]班线包车!I36","v":141.171},{"$f":"I51/#REF!-1","v":{"$error":"#REF!"}},{"$f":"[1]班线包车!K36","v":140.9257},{"$f":"K51/#REF!-1","v":{"$error":"#REF!"}},{"$f":"[1]班线包车!M36","v":134.7257},{"$f":"M51/#REF!-1","v":{"$error":"#REF!"}},{"v":833.6391999999998,"d":"833.64"},{"$f":"O51/SUM(#REF!,#REF!,#REF!,#REF!,#REF!,#REF!)-1","v":{"$error":"#REF!"}}]
[null,"城际城乡公交客运量（万人次）",{"$f":"[1]公交!C41-[1]公交!C43","v":8.199999999999932},{"$f":"C52/#REF!-1","v":{"$error":"#REF!"}},{"$f":"[1]公交!E41-[1]公交!E43","v":8.230000000000018},{"$f":"E52/#REF!-1","v":{"$error":"#REF!"}},{"$f":"[1]公交!G41-[1]公交!G43","v":8.269999999999982},{"$f":"G52/#REF!-1","v":{"$error":"#REF!"}},{"$f":"[1]公交!I41-[1]公交!I43","v":8.279999999999973},{"$f":"I52/#REF!-1","v":{"$error":"#REF!"}},{"$f":"[1]公交!K41-[1]公交!K43","v":8.289999999999964},{"$f":"K52/#REF!-1","v":{"$error":"#REF!"}},{"$f":"[1]公交!M41-[1]公交!M43","v":8.299999999999955},{"$f":"M52/#REF!-1","v":{"$error":"#REF!"}},{"v":49.56999999999982,"d":"49.57"},{"$f":"O52/SUM(#REF!,#REF!,#REF!,#REF!,#REF!,#REF!)-1","v":{"$error":"#REF!"}}]
[null,"城际城乡巡游出租客运量（万人次）",{"$f":"[1]出租!C41-[1]出租!C43","v":125.29999999999995},{"$f":"C53/#REF!-1","v":{"$error":"#REF!"}},{"$f":"[1]出租!E41-[1]出租!E43","v":128.78999999999996},{"$f":"E53/#REF!-1","v":{"$error":"#REF!"}},{"$f":"[1]出租!G41-[1]出租!G43","v":105.59000000000003},{"$f":"G53/#REF!-1","v":{"$error":"#REF!"}},{"$f":"[1]出租!I41-[1]出租!I43","v":98.84999999999991},{"$f":"I53/#REF!-1","v":{"$error":"#REF!"}},{"$f":"[1]出租!K41-[1]出租!K43","v":102.39999999999998},{"$f":"K53/#REF!-1","v":{"$error":"#REF!"}},{"$f":"[1]出租!M41-[1]出租!M43","v":100.78000000000009},{"$f":"M53/#REF!-1","v":{"$error":"#REF!"}},{"v":661.7099999999999,"d":"661.71"},{"$f":"O53/SUM(#REF!,#REF!,#REF!,#REF!,#REF!,#REF!)-1","v":{"$error":"#REF!"}}]
[null,"城际城乡网约车客运量(万人次)",{"$f":"[1]网约车!C41-[1]网约车!C43","v":{"v":33.413397540454014,"d":"33.413"}},{"$f":"C54/#REF!-1","v":{"$error":"#REF!"}},{"$f":"[1]网约车!E41-[1]网约车!E43","v":{"v":33.656271078882014,"d":"33.656"}},{"$f":"E54/#REF!-1","v":{"$error":"#REF!"}},{"$f":"[1]网约车!G41-[1]网约车!G43","v":{"v":36.479235819156,"d":"36.479"}},{"$f":"G54/#REF!-1","v":{"$error":"#REF!"}},{"$f":"[1]网约车!I41-[1]网约车!I43","v":{"v":35.34948010719401,"d":"35.349"}},{"$f":"I54/#REF!-1","v":{"$error":"#REF!"}},{"$f":"[1]网约车!K41-[1]网约车!K43","v":{"v":38.439332192113994,"d":"38.439"}},{"$f":"K54/#REF!-1","v":{"$error":"#REF!"}},{"$f":"[1]网约车!M41-[1]网约车!M43","v":{"v":41.422308776166005,"d":"41.422"}},{"$f":"M54/#REF!-1","v":{"$error":"#REF!"}},{"v":218.76002551396604,"d":"218.76"},{"$f":"O54/SUM(#REF!,#REF!,#REF!,#REF!,#REF!,#REF!)-1","v":{"$error":"#REF!"}}]
["黄冈市","总客运量（万人次）",{"$f":"C56+C57+C58+C59","v":{"v":419.825340055154,"d":"419.83"}},{"$f":"C55/#REF!-1","v":{"$error":"#REF!"}},{"$f":"E56+E57+E58+E59","v":{"v":428.94346249185503,"d":"428.94"}},{"$f":"E55/#REF!-1","v":{"$error":"#REF!"}},{"$f":"G56+G57+G58+G59","v":{"v":437.659470083526,"d":"437.66"}},{"$f":"G55/#REF!-1","v":{"$error":"#REF!"}},{"$f":"I56+I57+I58+I59","v":{"v":445.0464546284129,"d":"445.05"}},{"$f":"I55/#REF!-1","v":{"$error":"#REF!"}},{"$f":"K56+K57+K58+K59","v":{"v":456.70805851306693,"d":"456.71"}},{"$f":"K55/#REF!-1","v":{"$error":"#REF!"}},{"$f":"M56+M57+M58+M59","v":{"v":441.798283905382,"d":"441.80"}},{"$f":"M55/#REF!-1","v":{"$error":"#REF!"}},{"v":2629.981069677397,"d":"2629.98"},{"$f":"O55/SUM(#REF!,#REF!,#REF!,#REF!,#REF!,#REF!)-1","v":{"$error":"#REF!"}}]
[null,"公路班线客运量（万人次）",{"$f":"[1]班线包车!C38","v":136.7024},{"$f":"C56/#REF!-1","v":{"$error":"#REF!"}},{"$f":"[1]班线包车!E38","v":146.6421},{"$f":"E56/#REF!-1","v":{"$error":"#REF!"}},{"$f":"[1]班线包车!G38","v":136.5708},{"$f":"G56/#REF!-1","v":{"$error":"#REF!"}},{"$f":"[1]班线包车!I38","v":136.3122},{"$f":"I56/#REF!-1","v":{"$error":"#REF!"}},{"$f":"[1]班线包车!K38","v":142.7334},{"$f":"K56/#REF!-1","v":{"$error":"#REF!"}},{"$f":"[1]班线包车!M38","v":133.5838},{"$f":"M56/#REF!-1","v":{"$error":"#REF!"}},{"v":832.5446999999999,"d":"832.54"},{"$f":"O56/SUM(#REF!,#REF!,#REF!,#REF!,#REF!,#REF!)-1","v":{"$error":"#REF!"}}]
[null,"城际城乡公交客运量（万人次）",{"$f":"[1]公交!C45-[1]公交!C47","v":239.64},{"$f":"C57/#REF!-1","v":{"$error":"#REF!"}},{"$f":"[1]公交!E45-[1]公交!E47","v":237.26000000000005},{"$f":"E57/#REF!-1","v":{"$error":"#REF!"}},{"$f":"[1]公交!G45-[1]公交!G47","v":256.38},{"$f":"G57/#REF!-1","v":{"$error":"#REF!"}},{"$f":"[1]公交!I45-[1]公交!I47","v":262.68999999999994},{"$f":"I57/#REF!-1","v":{"$error":"#REF!"}},{"$f":"[1]公交!K45-[1]公交!K47","v":263.68999999999994},{"$f":"K57/#REF!-1","v":{"$error":"#REF!"}},{"$f":"[1]公交!M45-[1]公交!M47","v":256.97999999999996},{"$f":"M57/#REF!-1","v":{"$error":"#REF!"}},{"v":1516.6399999999999,"d":"1516.64"},{"$f":"O57/SUM(#REF!,#REF!,#REF!,#REF!,#REF!,#REF!)-1","v":{"$error":"#REF!"}}]
[null,"城际城乡巡游出租客运量（万人次）",{"$f":"[1]出租!C45-[1]出租!C47","v":26.180000000000007},{"$f":"C58/#REF!-1","v":{"$error":"#REF!"}},{"$f":"[1]出租!E45-[1]出租!E47","v":27.180000000000007},{"$f":"E58/#REF!-1","v":{"$error":"#REF!"}},{"$f":"[1]出租!G45-[1]出租!G47","v":26},{"$f":"G58/#REF!-1","v":{"$error":"#REF!"}},{"$f":"[1]出租!I45-[1]出租!I47","v":27.75999999999999},{"$f":"I58/#REF!-1","v":{"$error":"#REF!"}},{"$f":"[1]出租!K45-[1]出租!K47","v":29.870000000000005},{"$f":"K58/#REF!-1","v":{"$error":"#REF!"}},{"$f":"[1]出租!M45-[1]出租!M47","v":29.900000000000034},{"$f":"M58/#REF!-1","v":{"$error":"#REF!"}},{"v":166.89000000000004,"d":"166.89"},{"$f":"O58/SUM(#REF!,#REF!,#REF!,#REF!,#REF!,#REF!)-1","v":{"$error":"#REF!"}}]
[null,"城际城乡网约车客运量(万人次)",{"$f":"[1]网约车!C45-[1]网约车!C47","v":{"v":17.30294005515401,"d":"17.303"}},{"$f":"C59/#REF!-1","v":{"$error":"#REF!"}},{"$f":"[1]网约车!E45-[1]网约车!E47","v":{"v":17.861362491855004,"d":"17.861"}},{"$f":"E59/#REF!-1","v":{"$error":"#REF!"}},{"$f":"[1]网约车!G45-[1]网约车!G47","v":{"v":18.708670083526016,"d":"18.709"}},{"$f":"G59/#REF!-1","v":{"$error":"#REF!"}},{"$f":"[1]网约车!I45-[1]网约车!I47","v":{"v":18.28425462841301,"d":"18.284"}},{"$f":"I59/#REF!-1","v":{"$error":"#REF!"}},{"$f":"[1]网约车!K45-[1]网约车!K47","v":{"v":20.414658513066996,"d":"20.415"}},{"$f":"K59/#REF!-1","v":{"$error":"#REF!"}},{"$f":"[1]网约车!M45-[1]网约车!M47","v":{"v":21.334483905382,"d":"21.334"}},{"$f":"M59/#REF!-1","v":{"$error":"#REF!"}},{"v":113.90636967739704,"d":"113.91"},{"$f":"O59/SUM(#REF!,#REF!,#REF!,#REF!,#REF!,#REF!)-1","v":{"$error":"#REF!"}}]
["咸宁市","总客运量（万人次）",{"$f":"C61+C62+C63+C64","v":{"v":278.57100818414204,"d":"278.57"}},{"$f":"C60/#REF!-1","v":{"$error":"#REF!"}},{"$f":"E61+E62+E63+E64","v":{"v":296.6070668143513,"d":"296.61"}},{"$f":"E60/#REF!-1","v":{"$error":"#REF!"}},{"$f":"G61+G62+G63+G64","v":{"v":325.939415713144,"d":"325.94"}},{"$f":"G60/#REF!-1","v":{"$error":"#REF!"}},{"$f":"I61+I62+I63+I64","v":{"v":329.56520807633,"d":"329.57"}},{"$f":"I60/#REF!-1","v":{"$error":"#REF!"}},{"$f":"K61+K62+K63+K64","v":{"v":341.04619647676304,"d":"341.05"}},{"$f":"K60/#REF!-1","v":{"$error":"#REF!"}},{"$f":"M61+M62+M63+M64","v":{"v":317.91686640946904,"d":"317.92"}},{"$f":"M60/#REF!-1","v":{"$error":"#REF!"}},{"v":1889.6457616741995,"d":"1889.65"},{"$f":"O60/SUM(#REF!,#REF!,#REF!,#REF!,#REF!,#REF!)-1","v":{"$error":"#REF!"}}]
[null,"公路班线客运量（万人次）",{"$f":"[1]班线包车!C42","v":39.3094},{"$f":"C61/#REF!-1","v":{"$error":"#REF!"}},{"$f":"[1]班线包车!E42","v":56.4335},{"$f":"E61/#REF!-1","v":{"$error":"#REF!"}},{"$f":"[1]班线包车!G42","v":56.8116},{"$f":"G61/#REF!-1","v":{"$error":"#REF!"}},{"$f":"[1]班线包车!I42","v":58.6924},{"$f":"I61/#REF!-1","v":{"$error":"#REF!"}},{"$f":"[1]班线包车!K42","v":58.0517},{"$f":"K61/#REF!-1","v":{"$error":"#REF!"}},{"$f":"[1]班线包车!M42","v":52.6658},{"$f":"M61/#REF!-1","v":{"$error":"#REF!"}},{"v":321.96439999999996,"d":"321.96"},{"$f":"O61/SUM(#REF!,#REF!,#REF!,#REF!,#REF!,#REF!)-1","v":{"$error":"#REF!"}}]
[null,"城际城乡公交客运量（万人次）",{"$f":"[1]公交!C49-[1]公交!C51","v":154.96000000000004},{"$f":"C62/#REF!-1","v":{"$error":"#REF!"}},{"$f":"[1]公交!E49-[1]公交!E51","v":163.37},{"$f":"E62/#REF!-1","v":{"$error":"#REF!"}},{"$f":"[1]公交!G49-[1]公交!G51","v":186.13},{"$f":"G62/#REF!-1","v":{"$error":"#REF!"}},{"$f":"[1]公交!I49-[1]公交!I51","v":195.02999999999997},{"$f":"I62/#REF!-1","v":{"$error":"#REF!"}},{"$f":"[1]公交!K49-[1]公交!K51","v":200.33000000000004},{"$f":"K62/#REF!-1","v":{"$error":"#REF!"}},{"$f":"[1]公交!M49-[1]公交!M51","v":184.33000000000004},{"$f":"M62/#REF!-1","v":{"$error":"#REF!"}},1084.15,{"$f":"O62/SUM(#REF!,#REF!,#REF!,#REF!,#REF!,#REF!)-1","v":{"$error":"#REF!"}}]
[null,"城际城乡巡游出租客运量（万人次）",{"$f":"[1]出租!C49-[1]出租!C51","v":47.70000000000002},{"$f":"C63/#REF!-1","v":{"$error":"#REF!"}},{"$f":"[1]出租!E49-[1]出租!E51","v":47.98999999999998},{"$f":"E63/#REF!-1","v":{"$error":"#REF!"}},{"$f":"[1]出租!G49-[1]出租!G51","v":49.53},{"$f":"G63/#REF!-1","v":{"$error":"#REF!"}},{"$f":"[1]出租!I49-[1]出租!I51","v":46.84},{"$f":"I63/#REF!-1","v":{"$error":"#REF!"}},{"$f":"[1]出租!K49-[1]出租!K51","v":47.849999999999994},{"$f":"K63/#REF!-1","v":{"$error":"#REF!"}},{"$f":"[1]出租!M49-[1]出租!M51","v":45.37999999999997},{"$f":"M63/#REF!-1","v":{"$error":"#REF!"}},{"v":285.28999999999996,"d":"285.29"},{"$f":"O63/SUM(#REF!,#REF!,#REF!,#REF!,#REF!,#REF!)-1","v":{"$error":"#REF!"}}]
[null,"城际城乡网约车客运量(万人次)",{"$f":"[1]网约车!C49-[1]网约车!C51","v":{"v":36.60160818414201,"d":"36.602"}},{"$f":"C64/#REF!-1","v":{"$error":"#REF!"}},{"$f":"[1]网约车!E49-[1]网约车!E51","v":{"v":28.81356681435132,"d":"28.814"}},{"$f":"E64/#REF!-1","v":{"$error":"#REF!"}},{"$f":"[1]网约车!G49-[1]网约车!G51","v":{"v":33.46781571314402,"d":"33.468"}},{"$f":"G64/#REF!-1","v":{"$error":"#REF!"}},{"$f":"[1]网约车!I49-[1]网约车!I51","v":{"v":29.002808076330012,"d":"29.003"}},{"$f":"I64/#REF!-1","v":{"$error":"#REF!"}},{"$f":"[1]网约车!K49-[1]网约车!K51","v":{"v":34.814496476763,"d":"34.814"}},{"$f":"K64/#REF!-1","v":{"$error":"#REF!"}},{"$f":"[1]网约车!M49-[1]网约车!M51","v":{"v":35.54106640946901,"d":"35.541"}},{"$f":"M64/#REF!-1","v":{"$error":"#REF!"}},{"v":198.24136167419937,"d":"198.24"},{"$f":"O64/SUM(#REF!,#REF!,#REF!,#REF!,#REF!,#REF!)-1","v":{"$error":"#REF!"}}]
["随州市","总客运量（万人次）",{"$f":"C66+C67+C68+C69","v":{"v":170.6131868950326,"d":"170.61"}},{"$f":"C65/#REF!-1","v":{"$error":"#REF!"}},{"$f":"E66+E67+E68+E69","v":{"v":175.4290788823352,"d":"175.43"}},{"$f":"E65/#REF!-1","v":{"$error":"#REF!"}},{"$f":"G66+G67+G68+G69","v":{"v":172.9896072069464,"d":"172.99"}},{"$f":"G65/#REF!-1","v":{"$error":"#REF!"}},{"$f":"I66+I67+I68+I69","v":{"v":172.17465746765959,"d":"172.17"}},{"$f":"I65/#REF!-1","v":{"$error":"#REF!"}},{"$f":"K66+K67+K68+K69","v":{"v":174.6690278705699,"d":"174.67"}},{"$f":"K65/#REF!-1","v":{"$error":"#REF!"}},{"$f":"M66+M67+M68+M69","v":{"v":170.8537796471015,"d":"170.85"}},{"$f":"M65/#REF!-1","v":{"$error":"#REF!"}},{"v":1036.729337969645,"d":"1036.73"},{"$f":"O65/SUM(#REF!,#REF!,#REF!,#REF!,#REF!,#REF!)-1","v":{"$error":"#REF!"}}]
[null,"公路班线客运量（万人次）",{"$f":"[1]班线包车!C44","v":114.3916},{"$f":"C66/#REF!-1","v":{"$error":"#REF!"}},{"$f":"[1]班线包车!E44","v":120.983},{"$f":"E66/#REF!-1","v":{"$error":"#REF!"}},{"$f":"[1]班线包车!G44","v":119.5115},{"$f":"G66/#REF!-1","v":{"$error":"#REF!"}},{"$f":"[1]班线包车!I44","v":120.3786},{"$f":"I66/#REF!-1","v":{"$error":"#REF!"}},{"$f":"[1]班线包车!K44","v":122.8015},{"$f":"K66/#REF!-1","v":{"$error":"#REF!"}},{"$f":"[1]班线包车!M44","v":121.1953},{"$f":"M66/#REF!-1","v":{"$error":"#REF!"}},{"v":719.2615,"d":"719.26"},{"$f":"O66/SUM(#REF!,#REF!,#REF!,#REF!,#REF!,#REF!)-1","v":{"$error":"#REF!"}}]
[null,"城际城乡公交客运量（万人次）",{"$f":"[1]公交!C53-[1]公交!C55","v":36.22},{"$f":"C67/#REF!-1","v":{"$error":"#REF!"}},{"$f":"[1]公交!E53-[1]公交!E55","v":34.03},{"$f":"E67/#REF!-1","v":{"$error":"#REF!"}},{"$f":"[1]公交!G53-[1]公交!G55","v":33.84},{"$f":"G67/#REF!-1","v":{"$error":"#REF!"}},{"$f":"[1]公交!I53-[1]公交!I55","v":32.5},{"$f":"I67/#REF!-1","v":{"$error":"#REF!"}},{"$f":"[1]公交!K53-[1]公交!K55","v":32.56},{"$f":"K67/#REF!-1","v":{"$error":"#REF!"}},{"$f":"[1]公交!M53-[1]公交!M55","v":30.22},{"$f":"M67/#REF!-1","v":{"$error":"#REF!"}},199.37,{"$f":"O67/SUM(#REF!,#REF!,#REF!,#REF!,#REF!,#REF!)-1","v":{"$error":"#REF!"}}]
[null,"城际城乡巡游出租客运量（万人次）",{"$f":"[1]出租!C53-[1]出租!C55","v":10.219999999999999},{"$f":"C68/#REF!-1","v":{"$error":"#REF!"}},{"$f":"[1]出租!E53-[1]出租!E55","v":11.060000000000002},{"$f":"E68/#REF!-1","v":{"$error":"#REF!"}},{"$f":"[1]出租!G53-[1]出租!G55","v":10.710000000000008},{"$f":"G68/#REF!-1","v":{"$error":"#REF!"}},{"$f":"[1]出租!I53-[1]出租!I55","v":10.97999999999999},{"$f":"I68/#REF!-1","v":{"$error":"#REF!"}},{"$f":"[1]出租!K53-[1]出租!K55","v":11.090000000000003},{"$f":"K68/#REF!-1","v":{"$error":"#REF!"}},{"$f":"[1]出租!M53-[1]出租!M55","v":11},{"$f":"M68/#REF!-1","v":{"$error":"#REF!"}},65.06,{"$f":"O68/SUM(#REF!,#REF!,#REF!,#REF!,#REF!,#REF!)-1","v":{"$error":"#REF!"}}]
[null,"城际城乡网约车客运量(万人次)",{"$f":"[1]网约车!C53-[1]网约车!C55","v":{"v":9.781586895032603,"d":"9.782"}},{"$f":"C69/#REF!-1","v":{"$error":"#REF!"}},{"$f":"[1]网约车!E53-[1]网约车!E55","v":{"v":9.356078882335197,"d":"9.356"}},{"$f":"E69/#REF!-1","v":{"$error":"#REF!"}},{"$f":"[1]网约车!G53-[1]网约车!G55","v":{"v":8.928107206946393,"d":"8.928"}},{"$f":"G69/#REF!-1","v":{"$error":"#REF!"}},{"$f":"[1]网约车!I53-[1]网约车!I55","v":{"v":8.316057467659604,"d":"8.316"}},{"$f":"I69/#REF!-1","v":{"$error":"#REF!"}},{"$f":"[1]网约车!K53-[1]网约车!K55","v":{"v":8.217527870569896,"d":"8.218"}},{"$f":"K69/#REF!-1","v":{"$error":"#REF!"}},{"$f":"[1]网约车!M53-[1]网约车!M55","v":{"v":8.438479647101502,"d":"8.438"}},{"$f":"M69/#REF!-1","v":{"$error":"#REF!"}},{"$f":"E69+C69+G69+I69+K69+M69","v":{"v":53.037837969645196,"d":"53.04"}},{"$f":"O69/SUM(#REF!,#REF!,#REF!,#REF!,#REF!,#REF!)-1","v":{"$error":"#REF!"}}]
["恩施州","总客运量（万人次）",{"$f":"C71+C72+C73+C74","v":{"v":345.742122157979,"d":"345.74"}},{"$f":"C70/#REF!-1","v":{"$error":"#REF!"}},{"$f":"E71+E72+E73+E74","v":{"v":340.892328018903,"d":"340.89"}},{"$f":"E70/#REF!-1","v":{"$error":"#REF!"}},{"$f":"G71+G72+G73+G74","v":{"v":349.400334656709,"d":"349.40"}},{"$f":"G70/#REF!-1","v":{"$error":"#REF!"}},{"$f":"I71+I72+I73+I74","v":{"v":366.088849642901,"d":"366.09"}},{"$f":"I70/#REF!-1","v":{"$error":"#REF!"}},{"$f":"K71+K72+K73+K74","v":{"v":377.9467098087381,"d":"377.95"}},{"$f":"K70/#REF!-1","v":{"$error":"#REF!"}},{"$f":"M71+M72+M73+M74","v":{"v":365.46670756281196,"d":"365.47"}},{"$f":"M70/#REF!-1","v":{"$error":"#REF!"}},{"v":2145.537051848042,"d":"2145.54"},{"$f":"O70/SUM(#REF!,#REF!,#REF!,#REF!,#REF!,#REF!)-1","v":{"$error":"#REF!"}}]
[null,"公路班线客运量（万人次）",{"$f":"[1]班线包车!C48","v":146.7156},{"$f":"C71/#REF!-1","v":{"$error":"#REF!"}},{"$f":"[1]班线包车!E48","v":164.4127},{"$f":"E71/#REF!-1","v":{"$error":"#REF!"}},{"$f":"[1]班线包车!G48","v":162.0982},{"$f":"G71/#REF!-1","v":{"$error":"#REF!"}},{"$f":"[1]班线包车!I48","v":182.7013},{"$f":"I71/#REF!-1","v":{"$error":"#REF!"}},{"$f":"[1]班线包车!K48","v":190.2239},{"$f":"K71/#REF!-1","v":{"$error":"#REF!"}},{"$f":"[1]班线包车!M48","v":170.9711},{"$f":"M71/#REF!-1","v":{"$error":"#REF!"}},{"v":1017.1227999999999,"d":"1017.12"},{"$f":"O71/SUM(#REF!,#REF!,#REF!,#REF!,#REF!,#REF!)-1","v":{"$error":"#REF!"}}]
[null,"城际城乡公交客运量（万人次）",{"$f":"[1]公交!C57-[1]公交!C59","v":101.06},{"$f":"C72/#REF!-1","v":{"$error":"#REF!"}},{"$f":"[1]公交!E57-[1]公交!E59","v":76.07999999999998},{"$f":"E72/#REF!-1","v":{"$error":"#REF!"}},{"$f":"[1]公交!G57-[1]公交!G59","v":92.71999999999997},{"$f":"G72/#REF!-1","v":{"$error":"#REF!"}},{"$f":"[1]公交!I57-[1]公交!I59","v":94.30999999999995},{"$f":"I72/#REF!-1","v":{"$error":"#REF!"}},{"$f":"[1]公交!K57-[1]公交!K59","v":98.21000000000004},{"$f":"K72/#REF!-1","v":{"$error":"#REF!"}},{"$f":"[1]公交!M57-[1]公交!M59","v":98.11999999999995},{"$f":"M72/#REF!-1","v":{"$error":"#REF!"}},{"v":560.4999999999999,"d":"560.50"},{"$f":"O72/SUM(#REF!,#REF!,#REF!,#REF!,#REF!,#REF!)-1","v":{"$error":"#REF!"}}]
[null,"城际城乡巡游出租客运量（万人次）",{"$f":"[1]出租!C57-[1]出租!C59","v":63.16999999999996},{"$f":"C73/#REF!-1","v":{"$error":"#REF!"}},{"$f":"[1]出租!E57-[1]出租!E59","v":71.99000000000001},{"$f":"E73/#REF!-1","v":{"$error":"#REF!"}},{"$f":"[1]出租!G57-[1]出租!G59","v":57.32000000000005},{"$f":"G73/#REF!-1","v":{"$error":"#REF!"}},{"$f":"[1]出租!I57-[1]出租!I59","v":52.639999999999986},{"$f":"I73/#REF!-1","v":{"$error":"#REF!"}},{"$f":"[1]出租!K57-[1]出租!K59","v":50.62000000000006},{"$f":"K73/#REF!-1","v":{"$error":"#REF!"}},{"$f":"[1]出租!M57-[1]出租!M59","v":53.64999999999998},{"$f":"M73/#REF!-1","v":{"$error":"#REF!"}},{"v":349.39000000000004,"d":"349.39"},{"$f":"O73/SUM(#REF!,#REF!,#REF!,#REF!,#REF!,#REF!)-1","v":{"$error":"#REF!"}}]
[null,"城际城乡网约车客运量(万人次)",{"$f":"[1]网约车!C57-[1]网约车!C59","v":{"v":34.79652215797901,"d":"34.797"}},{"$f":"C74/#REF!-1","v":{"$error":"#REF!"}},{"$f":"[1]网约车!E57-[1]网约车!E59","v":{"v":28.409628018902993,"d":"28.410"}},{"$f":"E74/#REF!-1","v":{"$error":"#REF!"}},{"$f":"[1]网约车!G57-[1]网约车!G59","v":{"v":37.26213465670898,"d":"37.262"}},{"$f":"G74/#REF!-1","v":{"$error":"#REF!"}},{"$f":"[1]网约车!I57-[1]网约车!I59","v":{"v":36.43754964290102,"d":"36.438"}},{"$f":"I74/#REF!-1","v":{"$error":"#REF!"}},{"$f":"[1]网约车!K57-[1]网约车!K59","v":{"v":38.892809808738036,"d":"38.893"}},{"$f":"K74/#REF!-1","v":{"$error":"#REF!"}},{"$f":"[1]网约车!M57-[1]网约车!M59","v":{"v":42.725607562812,"d":"42.726"}},{"$f":"M74/#REF!-1","v":{"$error":"#REF!"}},{"v":218.52425184804204,"d":"218.52"},{"$f":"O74/SUM(#REF!,#REF!,#REF!,#REF!,#REF!,#REF!)-1","v":{"$error":"#REF!"}}]
["仙桃市","总客运量（万人次）",{"$f":"C76+C77+C78+C79","v":{"v":51.47081837067361,"d":"51.47"}},{"$f":"C75/#REF!-1","v":{"$error":"#REF!"}},{"$f":"E76+E77+E78+E79","v":{"v":51.666847708579695,"d":"51.67"}},{"$f":"E75/#REF!-1","v":{"$error":"#REF!"}},{"$f":"G76+G77+G78+G79","v":{"v":50.31252450183559,"d":"50.31"}},{"$f":"G75/#REF!-1","v":{"$error":"#REF!"}},{"$f":"I76+I77+I78+I79","v":{"v":49.4007236152003,"d":"49.40"}},{"$f":"I75/#REF!-1","v":{"$error":"#REF!"}},{"$f":"K76+K77+K78+K79","v":{"v":50.29410294979598,"d":"50.29"}},{"$f":"K75/#REF!-1","v":{"$error":"#REF!"}},{"$f":"M76+M77+M78+M79","v":{"v":50.7143246742761,"d":"50.71"}},{"$f":"M75/#REF!-1","v":{"$error":"#REF!"}},{"v":303.85934182036124,"d":"303.86"},{"$f":"O75/SUM(#REF!,#REF!,#REF!,#REF!,#REF!,#REF!)-1","v":{"$error":"#REF!"}}]
[null,"公路班线客运量（万人次）",{"$f":"[1]班线包车!C50","v":9.2372},{"$f":"C76/#REF!-1","v":{"$error":"#REF!"}},{"$f":"[1]班线包车!E50","v":9.1901},{"$f":"E76/#REF!-1","v":{"$error":"#REF!"}},{"$f":"[1]班线包车!G50","v":9.1723},{"$f":"G76/#REF!-1","v":{"$error":"#REF!"}},{"$f":"[1]班线包车!I50","v":9.1413},{"$f":"I76/#REF!-1","v":{"$error":"#REF!"}},{"$f":"[1]班线包车!K50","v":9.3403},{"$f":"K76/#REF!-1","v":{"$error":"#REF!"}},{"$f":"[1]班线包车!M50","v":9.9419},{"$f":"M76/#REF!-1","v":{"$error":"#REF!"}},{"v":56.0231,"d":"56.02"},{"$f":"O76/SUM(#REF!,#REF!,#REF!,#REF!,#REF!,#REF!)-1","v":{"$error":"#REF!"}}]
[null,"城际城乡公交客运量（万人次）",{"$f":"[1]公交!C61-[1]公交!C63","v":23.500000000000014},{"$f":"C77/#REF!-1","v":{"$error":"#REF!"}},{"$f":"[1]公交!E61-[1]公交!E63","v":24.129999999999995},{"$f":"E77/#REF!-1","v":{"$error":"#REF!"}},{"$f":"[1]公交!G61-[1]公交!G63","v":23.39999999999999},{"$f":"G77/#REF!-1","v":{"$error":"#REF!"}},{"$f":"[1]公交!I61-[1]公交!I63","v":23.5},{"$f":"I77/#REF!-1","v":{"$error":"#REF!"}},{"$f":"[1]公交!K61-[1]公交!K63","v":23.359999999999985},{"$f":"K77/#REF!-1","v":{"$error":"#REF!"}},{"$f":"[1]公交!M61-[1]公交!M63","v":23.00999999999999},{"$f":"M77/#REF!-1","v":{"$error":"#REF!"}},{"v":140.89999999999998,"d":"140.90"},{"$f":"O77/SUM(#REF!,#REF!,#REF!,#REF!,#REF!,#REF!)-1","v":{"$error":"#REF!"}}]
[null,"城际城乡巡游出租客运量（万人次）",{"$f":"[1]出租!C61-[1]出租!C63","v":6.969999999999999},{"$f":"C78/#REF!-1","v":{"$error":"#REF!"}},{"$f":"[1]出租!E61-[1]出租!E63","v":7.299999999999997},{"$f":"E78/#REF!-1","v":{"$error":"#REF!"}},{"$f":"[1]出租!G61-[1]出租!G63","v":7.150000000000006},{"$f":"G78/#REF!-1","v":{"$error":"#REF!"}},{"$f":"[1]出租!I61-[1]出租!I63","v":6.619999999999997},{"$f":"I78/#REF!-1","v":{"$error":"#REF!"}},{"$f":"[1]出租!K61-[1]出租!K63","v":6.399999999999999},{"$f":"K78/#REF!-1","v":{"$error":"#REF!"}},{"$f":"[1]出租!M61-[1]出租!M63","v":6.480000000000004},{"$f":"M78/#REF!-1","v":{"$error":"#REF!"}},40.92,{"$f":"O78/SUM(#REF!,#REF!,#REF!,#REF!,#REF!,#REF!)-1","v":{"$error":"#REF!"}}]
[null,"城际城乡网约车客运量(万人次)",{"$f":"[1]网约车!C61-[1]网约车!C63","v":{"v":11.763618370673598,"d":"11.764"}},{"$f":"C79/#REF!-1","v":{"$error":"#REF!"}},{"$f":"[1]网约车!E61-[1]网约车!E63","v":{"v":11.046747708579701,"d":"11.047"}},{"$f":"E79/#REF!-1","v":{"$error":"#REF!"}},{"$f":"[1]网约车!G61-[1]网约车!G63","v":{"v":10.590224501835593,"d":"10.590"}},{"$f":"G79/#REF!-1","v":{"$error":"#REF!"}},{"$f":"[1]网约车!I61-[1]网约车!I63","v":{"v":10.1394236152003,"d":"10.139"}},{"$f":"I79/#REF!-1","v":{"$error":"#REF!"}},{"$f":"[1]网约车!K61-[1]网约车!K63","v":{"v":11.193802949795995,"d":"11.194"}},{"$f":"K79/#REF!-1","v":{"$error":"#REF!"}},{"$f":"[1]网约车!M61-[1]网约车!M63","v":{"v":11.2824246742761,"d":"11.282"}},{"$f":"M79/#REF!-1","v":{"$error":"#REF!"}},{"v":66.01624182036129,"d":"66.02"},{"$f":"O79/SUM(#REF!,#REF!,#REF!,#REF!,#REF!,#REF!)-1","v":{"$error":"#REF!"}}]
["潜江市","总客运量（万人次）",{"$f":"C81+C82+C83+C84","v":{"v":142.24436921488478,"d":"142.24"}},{"$f":"C80/#REF!-1","v":{"$error":"#REF!"}},{"$f":"E81+E82+E83+E84","v":{"v":146.4969493874677,"d":"146.50"}},{"$f":"E80/#REF!-1","v":{"$error":"#REF!"}},{"$f":"G81+G82+G83+G84","v":{"v":135.2834867756016,"d":"135.28"}},{"$f":"G80/#REF!-1","v":{"$error":"#REF!"}},{"$f":"I81+I82+I83+I84","v":{"v":137.0720327604175,"d":"137.07"}},{"$f":"I80/#REF!-1","v":{"$error":"#REF!"}},{"$f":"K81+K82+K83+K84","v":{"v":150.4934717351398,"d":"150.49"}},{"$f":"K80/#REF!-1","v":{"$error":"#REF!"}},{"$f":"M81+M82+M83+M84","v":{"v":154.3886802294879,"d":"154.39"}},{"$f":"M80/#REF!-1","v":{"$error":"#REF!"}},{"v":865.9789901029993,"d":"865.98"},{"$f":"O80/SUM(#REF!,#REF!,#REF!,#REF!,#REF!,#REF!)-1","v":{"$error":"#REF!"}}]
[null,"公路班线客运量（万人次）",{"$f":"[1]班线包车!C52","v":2.2826},{"$f":"C81/#REF!-1","v":{"$error":"#REF!"}},{"$f":"[1]班线包车!E52","v":2.1525},{"$f":"E81/#REF!-1","v":{"$error":"#REF!"}},{"$f":"[1]班线包车!G52","v":2.2929},{"$f":"G81/#REF!-1","v":{"$error":"#REF!"}},{"$f":"[1]班线包车!I52","v":2.26},{"$f":"I81/#REF!-1","v":{"$error":"#REF!"}},{"$f":"[1]班线包车!K52","v":2.0421},{"$f":"K81/#REF!-1","v":{"$error":"#REF!"}},{"$f":"[1]班线包车!M52","v":2.0576},{"$f":"M81/#REF!-1","v":{"$error":"#REF!"}},{"v":13.087699999999998,"d":"13.09"},{"$f":"O81/SUM(#REF!,#REF!,#REF!,#REF!,#REF!,#REF!)-1","v":{"$error":"#REF!"}}]
[null,"城际城乡公交客运量（万人次）",{"$f":"[1]公交!C65-[1]公交!C67","v":124.14999999999999},{"$f":"C82/#REF!-1","v":{"$error":"#REF!"}},{"$f":"[1]公交!E65-[1]公交!E67","v":128.99},{"$f":"E82/#REF!-1","v":{"$error":"#REF!"}},{"$f":"[1]公交!G65-[1]公交!G67","v":118.21000000000001},{"$f":"G82/#REF!-1","v":{"$error":"#REF!"}},{"$f":"[1]公交!I65-[1]公交!I67","v":118.81},{"$f":"I82/#REF!-1","v":{"$error":"#REF!"}},{"$f":"[1]公交!K65-[1]公交!K67","v":127.19000000000001},{"$f":"K82/#REF!-1","v":{"$error":"#REF!"}},{"$f":"[1]公交!M65-[1]公交!M67","v":134.92000000000002},{"$f":"M82/#REF!-1","v":{"$error":"#REF!"}},752.27,{"$f":"O82/SUM(#REF!,#REF!,#REF!,#REF!,#REF!,#REF!)-1","v":{"$error":"#REF!"}}]
[null,"城际城乡巡游出租客运量（万人次）",{"$f":"[1]出租!C65-[1]出租!C67","v":9.86999999999999},{"$f":"C83/#REF!-1","v":{"$error":"#REF!"}},{"$f":"[1]出租!E65-[1]出租!E67","v":9.629999999999995},{"$f":"E83/#REF!-1","v":{"$error":"#REF!"}},{"$f":"[1]出租!G65-[1]出租!G67","v":9.25},{"$f":"G83/#REF!-1","v":{"$error":"#REF!"}},{"$f":"[1]出租!I65-[1]出租!I67","v":10.11},{"$f":"I83/#REF!-1","v":{"$error":"#REF!"}},{"$f":"[1]出租!K65-[1]出租!K67","v":14.030000000000001},{"$f":"K83/#REF!-1","v":{"$error":"#REF!"}},{"$f":"[1]出租!M65-[1]出租!M67","v":10.86999999999999},{"$f":"M83/#REF!-1","v":{"$error":"#REF!"}},{"v":63.75999999999998,"d":"63.76"},{"$f":"O83/SUM(#REF!,#REF!,#REF!,#REF!,#REF!,#REF!)-1","v":{"$error":"#REF!"}}]
[null,"城际城乡网约车客运量(万人次)",{"$f":"[1]网约车!C65-[1]网约车!C67","v":{"v":5.9417692148848005,"d":"5.942"}},{"$f":"C84/#REF!-1","v":{"$error":"#REF!"}},{"$f":"[1]网约车!E65-[1]网约车!E67","v":{"v":5.7244493874677005,"d":"5.724"}},{"$f":"E84/#REF!-1","v":{"$error":"#REF!"}},{"$f":"[1]网约车!G65-[1]网约车!G67","v":{"v":5.5305867756015985,"d":"5.531"}},{"$f":"G84/#REF!-1","v":{"$error":"#REF!"}},{"$f":"[1]网约车!I65-[1]网约车!I67","v":{"v":5.8920327604175,"d":"5.892"}},{"$f":"I84/#REF!-1","v":{"$error":"#REF!"}},{"$f":"[1]网约车!K65-[1]网约车!K67","v":{"v":7.2313717351397955,"d":"7.231"}},{"$f":"K84/#REF!-1","v":{"$error":"#REF!"}},{"$f":"[1]网约车!M65-[1]网约车!M67","v":{"v":6.541080229487903,"d":"6.541"}},{"$f":"M84/#REF!-1","v":{"$error":"#REF!"}},{"v":36.8612901029993,"d":"36.86"},{"$f":"O84/SUM(#REF!,#REF!,#REF!,#REF!,#REF!,#REF!)-1","v":{"$error":"#REF!"}}]
["天门市","总客运量（万人次）",{"$f":"C86+C87+C88+C89","v":{"v":96.25902279280979,"d":"96.26"}},{"$f":"C85/#REF!-1","v":{"$error":"#REF!"}},{"$f":"E86+E87+E88+E89","v":{"v":107.7379167053826,"d":"107.74"}},{"$f":"E85/#REF!-1","v":{"$error":"#REF!"}},{"$f":"G86+G87+G88+G89","v":{"v":100.25544759678851,"d":"100.26"}},{"$f":"G85/#REF!-1","v":{"$error":"#REF!"}},{"$f":"I86+I87+I88+I89","v":{"v":101.94950754810101,"d":"101.95"}},{"$f":"I85/#REF!-1","v":{"$error":"#REF!"}},{"$f":"K86+K87+K88+K89","v":{"v":105.92971210681588,"d":"105.93"}},{"$f":"K85/#REF!-1","v":{"$error":"#REF!"}},{"$f":"M86+M87+M88+M89","v":{"v":101.7766214972972,"d":"101.78"}},{"$f":"M85/#REF!-1","v":{"$error":"#REF!"}},{"v":613.9082282471951,"d":"613.91"},{"$f":"O85/SUM(#REF!,#REF!,#REF!,#REF!,#REF!,#REF!)-1","v":{"$error":"#REF!"}}]
[null,"公路班线客运量（万人次）",{"$f":"[1]班线包车!C54","v":3.0068},{"$f":"C86/#REF!-1","v":{"$error":"#REF!"}},{"$f":"[1]班线包车!E54","v":3.7154},{"$f":"E86/#REF!-1","v":{"$error":"#REF!"}},{"$f":"[1]班线包车!G54","v":3.4623},{"$f":"G86/#REF!-1","v":{"$error":"#REF!"}},{"$f":"[1]班线包车!I54","v":4.4253},{"$f":"I86/#REF!-1","v":{"$error":"#REF!"}},{"$f":"[1]班线包车!K54","v":4.3403},{"$f":"K86/#REF!-1","v":{"$error":"#REF!"}},{"$f":"[1]班线包车!M54","v":4.3662},{"$f":"M86/#REF!-1","v":{"$error":"#REF!"}},{"v":23.3163,"d":"23.32"},{"$f":"O86/SUM(#REF!,#REF!,#REF!,#REF!,#REF!,#REF!)-1","v":{"$error":"#REF!"}}]
[null,"城际城乡公交客运量（万人次）",{"$f":"[1]公交!C69-[1]公交!C71","v":54.89999999999999},{"$f":"C87/#REF!-1","v":{"$error":"#REF!"}},{"$f":"[1]公交!E69-[1]公交!E71","v":66.10000000000001},{"$f":"E87/#REF!-1","v":{"$error":"#REF!"}},{"$f":"[1]公交!G69-[1]公交!G71","v":60.75},{"$f":"G87/#REF!-1","v":{"$error":"#REF!"}},{"$f":"[1]公交!I69-[1]公交!I71","v":62.150000000000006},{"$f":"I87/#REF!-1","v":{"$error":"#REF!"}},{"$f":"[1]公交!K69-[1]公交!K71","v":64.47999999999999},{"$f":"K87/#REF!-1","v":{"$error":"#REF!"}},{"$f":"[1]公交!M69-[1]公交!M71","v":63.16},{"$f":"M87/#REF!-1","v":{"$error":"#REF!"}},{"v":371.53999999999996,"d":"371.54"},{"$f":"O87/SUM(#REF!,#REF!,#REF!,#REF!,#REF!,#REF!)-1","v":{"$error":"#REF!"}}]
[null,"城际城乡巡游出租客运量（万人次）",{"$f":"[1]出租!C69-[1]出租!C71","v":20.699999999999996},{"$f":"C88/#REF!-1","v":{"$error":"#REF!"}},{"$f":"[1]出租!E69-[1]出租!E71","v":21.659999999999997},{"$f":"E88/#REF!-1","v":{"$error":"#REF!"}},{"$f":"[1]出租!G69-[1]出租!G71","v":20.369999999999997},{"$f":"G88/#REF!-1","v":{"$error":"#REF!"}},{"$f":"[1]出租!I69-[1]出租!I71","v":20.050000000000004},{"$f":"I88/#REF!-1","v":{"$error":"#REF!"}},{"$f":"[1]出租!K69-[1]出租!K71","v":20.6},{"$f":"K88/#REF!-1","v":{"$error":"#REF!"}},{"$f":"[1]出租!M69-[1]出租!M71","v":17.43},{"$f":"M88/#REF!-1","v":{"$error":"#REF!"}},120.81,{"$f":"O88/SUM(#REF!,#REF!,#REF!,#REF!,#REF!,#REF!)-1","v":{"$error":"#REF!"}}]
[null,"城际城乡网约车客运量(万人次)",{"$f":"[1]网约车!C69-[1]网约车!C71","v":{"v":17.652222792809802,"d":"17.652"}},{"$f":"C89/#REF!-1","v":{"$error":"#REF!"}},{"$f":"[1]网约车!E69-[1]网约车!E71","v":{"v":16.262516705382595,"d":"16.263"}},{"$f":"E89/#REF!-1","v":{"$error":"#REF!"}},{"$f":"[1]网约车!G69-[1]网约车!G71","v":{"v":15.673147596788503,"d":"15.673"}},{"$f":"G89/#REF!-1","v":{"$error":"#REF!"}},{"$f":"[1]网约车!I69-[1]网约车!I71","v":{"v":15.324207548101,"d":"15.324"}},{"$f":"I89/#REF!-1","v":{"$error":"#REF!"}},{"$f":"[1]网约车!K69-[1]网约车!K71","v":{"v":16.509412106815894,"d":"16.509"}},{"$f":"K89/#REF!-1","v":{"$error":"#REF!"}},{"$f":"[1]网约车!M69-[1]网约车!M71","v":{"v":16.820421497297204,"d":"16.820"}},{"$f":"M89/#REF!-1","v":{"$error":"#REF!"}},{"v":98.24192824719499,"d":"98.24"},{"$f":"O89/SUM(#REF!,#REF!,#REF!,#REF!,#REF!,#REF!)-1","v":{"$error":"#REF!"}}]
["林区","总客运量（万人次）",{"$f":"C91+C92+C93+C94","v":{"v":9.371458890075797,"d":"9.37"}},{"$f":"C90/#REF!-1","v":{"$error":"#REF!"}},{"$f":"E91+E92+E93+E94","v":{"v":18.713216279917923,"d":"18.71"}},{"$f":"E90/#REF!-1","v":{"$error":"#REF!"}},{"$f":"G91+G92+G93+G94","v":{"v":5.78746238470154,"d":"5.79"}},{"$f":"G90/#REF!-1","v":{"$error":"#REF!"}},{"$f":"I91+I92+I93+I94","v":{"v":8.23542662260639,"d":"8.24"}},{"$f":"I90/#REF!-1","v":{"$error":"#REF!"}},{"$f":"K91+K92+K93+K94","v":{"v":10.469229695954331,"d":"10.47"}},{"$f":"K90/#REF!-1","v":{"$error":"#REF!"}},{"$f":"M91+M92+M93+M94","v":{"v":6.6996365440590955,"d":"6.70"}},{"$f":"M90/#REF!-1","v":{"$error":"#REF!"}},{"v":59.276430417315076,"d":"59.28"},{"$f":"O90/SUM(#REF!,#REF!,#REF!,#REF!,#REF!,#REF!)-1","v":{"$error":"#REF!"}}]
[null,"公路班线客运量（万人次）",{"$f":"[1]班线包车!C56","v":5.8705},{"$f":"C91/#REF!-1","v":{"$error":"#REF!"}},{"$f":"[1]班线包车!E56","v":15.4874},{"$f":"E91/#REF!-1","v":{"$error":"#REF!"}},{"$f":"[1]班线包车!G56","v":2.543},{"$f":"G91/#REF!-1","v":{"$error":"#REF!"}},{"$f":"[1]班线包车!I56","v":4.9911},{"$f":"I91/#REF!-1","v":{"$error":"#REF!"}},{"$f":"[1]班线包车!K56","v":7.1112},{"$f":"K91/#REF!-1","v":{"$error":"#REF!"}},{"$f":"[1]班线包车!M56","v":3.146},{"$f":"M91/#REF!-1","v":{"$error":"#REF!"}},{"v":39.1492,"d":"39.15"},{"$f":"O91/SUM(#REF!,#REF!,#REF!,#REF!,#REF!,#REF!)-1","v":{"$error":"#REF!"}}]
[null,"城际城乡公交客运量（万人次）",{"$f":"[1]公交!C73-[1]公交!C75","v":1.049999999999999},{"$f":"C92/#REF!-1","v":{"$error":"#REF!"}},{"$f":"[1]公交!E73-[1]公交!E75","v":0.7999999999999998},{"$f":"E92/#REF!-1","v":{"$error":"#REF!"}},{"$f":"[1]公交!G73-[1]公交!G75","v":0.8000000000000007},{"$f":"G92/#REF!-1","v":{"$error":"#REF!"}},{"$f":"[1]公交!I73-[1]公交!I75","v":0.8000000000000007},{"$f":"I92/#REF!-1","v":{"$error":"#REF!"}},{"$f":"[1]公交!K73-[1]公交!K75","v":0.9000000000000004},{"$f":"K92/#REF!-1","v":{"$error":"#REF!"}},{"$f":"[1]公交!M73-[1]公交!M75","v":1.0699999999999985},{"$f":"M92/#REF!-1","v":{"$error":"#REF!"}},{"v":5.419999999999999,"d":"5.42"},{"$f":"O92/SUM(#REF!,#REF!,#REF!,#REF!,#REF!,#REF!)-1","v":{"$error":"#REF!"}}]
[null,"城际城乡巡游出租客运量（万人次）",{"$f":"[1]出租!C73-[1]出租!C75","v":2.3900000000000006},{"$f":"C93/#REF!-1","v":{"$error":"#REF!"}},{"$f":"[1]出租!E73-[1]出租!E75","v":2.379999999999999},{"$f":"E93/#REF!-1","v":{"$error":"#REF!"}},{"$f":"[1]出租!G73-[1]出租!G75","v":2.379999999999999},{"$f":"G93/#REF!-1","v":{"$error":"#REF!"}},{"$f":"[1]出租!I73-[1]出租!I75","v":2.380000000000001},{"$f":"I93/#REF!-1","v":{"$error":"#REF!"}},{"$f":"[1]出租!K73-[1]出租!K75","v":2.380000000000001},{"$f":"K93/#REF!-1","v":{"$error":"#REF!"}},{"$f":"[1]出租!M73-[1]出租!M75","v":2.3900000000000023},{"$f":"M93/#REF!-1","v":{"$error":"#REF!"}},{"v":14.300000000000002,"d":"14.30"},{"$f":"O93/SUM(#REF!,#REF!,#REF!,#REF!,#REF!,#REF!)-1","v":{"$error":"#REF!"}}]
[null,"城际城乡网约车客运量(万人次)",{"$f":"[1]网约车!C73-[1]网约车!C75","v":{"v":0.06095889007579797,"d":"0.061"}},{"$f":"C94/#REF!-1","v":{"$error":"#REF!"}},{"$f":"[1]网约车!E73-[1]网约车!E75","v":{"v":0.045816279917927,"d":"0.046"}},{"$f":"E94/#REF!-1","v":{"$error":"#REF!"}},{"$f":"[1]网约车!G73-[1]网约车!G75","v":{"v":0.06446238470153998,"d":"0.064"}},{"$f":"G94/#REF!-1","v":{"$error":"#REF!"}},{"$f":"[1]网约车!I73-[1]网约车!I75","v":{"v":0.064326622606387,"d":"0.064"}},{"$f":"I94/#REF!-1","v":{"$error":"#REF!"}},{"$f":"[1]网约车!K73-[1]网约车!K75","v":{"v":0.07802969595432996,"d":"0.078"}},{"$f":"K94/#REF!-1","v":{"$error":"#REF!"}},{"$f":"[1]网约车!M73-[1]网约车!M75","v":{"v":0.093636544059095,"d":"0.094"}},{"$f":"M94/#REF!-1","v":{"$error":"#REF!"}},{"v":0.40723041731507686,"d":"0.41"},{"$f":"O94/SUM(#REF!,#REF!,#REF!,#REF!,#REF!,#REF!)-1","v":{"$error":"#REF!"}}]

{"sheet":"Sheet2","index":1,"n_rows":94,"n_cols":16,"rows_kept":94,"merged":[[0,0,0,1],[0,3,1,3],[0,5,1,5],[0,7,1,7],[0,9,1,9],[0,11,1,11],[0,13,1,13],[0,15,1,15],[0,16,1,16],[1,0,1,1],[2,0,3,0],[2,1,3,1],[2,2,3,2],[2,3,3,3],[2,4,3,4],[2,5,3,5],[2,6,3,6],[2,7,3,7],[2,8,3,8],[2,9,3,9],[2,10,3,10],[2,11,3,11],[2,12,3,12],[2,13,3,13],[2,14,3,14],[2,15,3,15],[4,0,8,0],[9,0,13,0],[14,0,18,0],[19,0,23,0],[24,0,28,0],[29,0,33,0],[34,0,38,0],[39,0,43,0],[44,0,48,0],[49,0,53,0],[54,0,58,0],[59,0,63,0],[64,0,68,0],[69,0,73,0],[74,0,78,0],[79,0,83,0],[84,0,88,0],[89,0,93,0]]}
["中口径周转量"]
["注：中口径旅客周转量由公路班线、城际城乡公交、城际城乡出租、城际城乡网约车旅客周转量四部分构成"]
["地区 名称","指标","2026年1月","1月同比","2026年2月","2月同比","2026年3月","3月同比","2026年4月","4月同比","2026年5月","5月同比","2026年6月","6月同比","累计","同比"]
[]
["全省","总旅客周转量（万人公里）",{"$f":"C6+C7+C8+C9","v":{"v":131496.2814,"d":"131496.28"}},{"$f":"C5/#REF!-1","v":{"$error":"#REF!"}},{"$f":"E6+E7+E8+E9","v":{"v":148916.514818,"d":"148916.51"}},{"$f":"E5/#REF!-1","v":{"$error":"#REF!"}},{"$f":"G6+G7+G8+G9","v":{"v":155961.27027300003,"d":"155961.27"}},{"$f":"G5/#REF!-1","v":{"$error":"#REF!"}},{"$f":"I6+I7+I8+I9","v":{"v":162178.99010900003,"d":"162178.99"}},{"$f":"I5/#REF!-1","v":{"$error":"#REF!"}},{"$f":"K6+K7+K8+K9","v":{"v":163957.39039500002,"d":"163957.39"}},{"$f":"K5/#REF!-1","v":{"$error":"#REF!"}},{"$f":"M6+M7+M8+M9","v":{"v":154548.752275,"d":"154548.75"}},{"$f":"M5/#REF!-1","v":{"$error":"#REF!"}},{"$f":"E5+C5+G5+I5+K5+M5","v":{"v":917059.19927,"d":"917059.20"}},{"$f":"O5/SUM(#REF!,#REF!,#REF!,#REF!,#REF!,#REF!)-1","v":{"$error":"#REF!"}}]
[null,"公路班线旅客周转量（万人公里）",{"$f":"C11+C16+C21+C26+C31+C36+C41+C46+C51+C56+C61+C66+C71+C76+C81+C86+C91","v":{"v":91471.08140000001,"d":"91471.08"}},{"$f":"C6/#REF!-1","v":{"$error":"#REF!"}},{"$f":"E11+E16+E21+E26+E31+E36+E41+E46+E51+E56+E61+E66+E71+E76+E81+E86+E91","v":{"v":110843.064818,"d":"110843.06"}},{"$f":"E6/#REF!-1","v":{"$error":"#REF!"}},{"$f":"G11+G16+G21+G26+G31+G36+G41+G46+G51+G56+G61+G66+G71+G76+G81+G86+G91","v":{"v":115505.52027300002,"d":"115505.52"}},{"$f":"G6/#REF!-1","v":{"$error":"#REF!"}},{"$f":"I11+I16+I21+I26+I31+I36+I41+I46+I51+I56+I61+I66+I71+I76+I81+I86+I91","v":{"v":121466.09010900001,"d":"121466.09"}},{"$f":"I6/#REF!-1","v":{"$error":"#REF!"}},{"$f":"K11+K16+K21+K26+K31+K36+K41+K46+K51+K56+K61+K66+K71+K76+K81+K86+K91","v":{"v":121944.20039500002,"d":"121944.20"}},{"$f":"K6/#REF!-1","v":{"$error":"#REF!"}},{"$f":"M11+M16+M21+M26+M31+M36+M41+M46+M51+M56+M61+M66+M71+M76+M81+M86+M91","v":{"v":112912.97227500001,"d":"112912.97"}},{"$f":"M6/#REF!-1","v":{"$error":"#REF!"}},{"v":674142.9292700002,"d":"674142.93"},{"$f":"O6/SUM(#REF!,#REF!,#REF!,#REF!,#REF!,#REF!)-1","v":{"$error":"#REF!"}}]
[null,"城际城乡公交旅客周转量（万人公里）",{"$f":"C12+C17+C22+C27+C32+C37+C42+C47+C52+C57+C62+C67+C72+C77+C82+C87+C92","v":{"v":28031.860000000008,"d":"28031.86"}},{"$f":"C7/#REF!-1","v":{"$error":"#REF!"}},{"$f":"E12+E17+E22+E27+E32+E37+E42+E47+E52+E57+E62+E67+E72+E77+E82+E87+E92","v":{"v":26676.989999999998,"d":"26676.99"}},{"$f":"E7/#REF!-1","v":{"$error":"#REF!"}},{"$f":"G12+G17+G22+G27+G32+G37+G42+G47+G52+G57+G62+G67+G72+G77+G82+G87+G92","v":{"v":28698.139999999996,"d":"28698.14"}},{"$f":"G7/#REF!-1","v":{"$error":"#REF!"}},{"$f":"I12+I17+I22+I27+I32+I37+I42+I47+I52+I57+I62+I67+I72+I77+I82+I87+I92","v":{"v":29205.849999999995,"d":"29205.85"}},{"$f":"I7/#REF!-1","v":{"$error":"#REF!"}},{"$f":"K12+K17+K22+K27+K32+K37+K42+K47+K52+K57+K62+K67+K72+K77+K82+K87+K92","v":{"v":29927.920000000006,"d":"29927.92"}},{"$f":"K7/#REF!-1","v":{"$error":"#REF!"}},{"$f":"M12+M17+M22+M27+M32+M37+M42+M47+M52+M57+M62+M67+M72+M77+M82+M87+M92","v":29472.93},{"$f":"M7/#REF!-1","v":{"$error":"#REF!"}},172013.69,{"$f":"O7/SUM(#REF!,#REF!,#REF!,#REF!,#REF!,#REF!)-1","v":{"$error":"#REF!"}}]
[null,"城际城乡巡游出租旅客周转量（万人公里）",{"$f":"C13+C18+C23+C28+C33+C38+C43+C48+C53+C58+C63+C68+C73+C78+C83+C88+C93","v":7393.31},{"$f":"C8/#REF!-1","v":{"$error":"#REF!"}},{"$f":"E13+E18+E23+E28+E33+E38+E43+E48+E53+E58+E63+E68+E73+E78+E83+E88+E93","v":7424.72},{"$f":"E8/#REF!-1","v":{"$error":"#REF!"}},{"$f":"G13+G18+G23+G28+G33+G38+G43+G48+G53+G58+G63+G68+G73+G78+G83+G88+G93","v":{"v":7017.039999999999,"d":"7017.04"}},{"$f":"G8/#REF!-1","v":{"$error":"#REF!"}},{"$f":"I13+I18+I23+I28+I33+I38+I43+I48+I53+I58+I63+I68+I73+I78+I83+I88+I93","v":6880.66},{"$f":"I8/#REF!-1","v":{"$error":"#REF!"}},{"$f":"K13+K18+K23+K28+K33+K38+K43+K48+K53+K58+K63+K68+K73+K78+K83+K88+K93","v":{"v":7052.960000000001,"d":"7052.96"}},{"$f":"K8/#REF!-1","v":{"$error":"#REF!"}},{"$f":"M13+M18+M23+M28+M33+M38+M43+M48+M53+M58+M63+M68+M73+M78+M83+M88+M93","v":{"v":6971.6900000000005,"d":"6971.69"}},{"$f":"M8/#REF!-1","v":{"$error":"#REF!"}},{"v":42740.380000000005,"d":"42740.38"},{"$f":"O8/SUM(#REF!,#REF!,#REF!,#REF!,#REF!,#REF!)-1","v":{"$error":"#REF!"}}]
[null,"城际城乡网约车旅客周转量(万人公里)",{"$f":"C14+C19+C24+C29+C34+C39+C44+C49+C54+C59+C64+C69+C74+C79+C84+C89+C94","v":4600.03},{"$f":"C9/#REF!-1","v":{"$error":"#REF!"}},{"$f":"E14+E19+E24+E29+E34+E39+E44+E49+E54+E59+E64+E69+E74+E79+E84+E89+E94","v":{"v":3971.7399999999975,"d":"3971.74"}},{"$f":"E9/#REF!-1","v":{"$error":"#REF!"}},{"$f":"G14+G19+G24+G29+G34+G39+G44+G49+G54+G59+G64+G69+G74+G79+G84+G89+G94","v":{"v":4740.569999999997,"d":"4740.57"}},{"$f":"G9/#REF!-1","v":{"$error":"#REF!"}},{"$f":"I14+I19+I24+I29+I34+I39+I44+I49+I54+I59+I64+I69+I74+I79+I84+I89+I94","v":{"v":4626.390000000006,"d":"4626.39"}},{"$f":"I9/#REF!-1","v":{"$error":"#REF!"}},{"$f":"K14+K19+K24+K29+K34+K39+K44+K49+K54+K59+K64+K69+K74+K79+K84+K89+K94","v":{"v":5032.309999999987,"d":"5032.31"}},{"$f":"K9/#REF!-1","v":{"$error":"#REF!"}},{"$f":"M14+M19+M24+M29+M34+M39+M44+M49+M54+M59+M64+M69+M74+M79+M84+M89+M94","v":{"v":5191.159999999991,"d":"5191.16"}},{"$f":"M9/#REF!-1","v":{"$error":"#REF!"}},{"v":28162.199999999975,"d":"28162.20"},{"$f":"O9/SUM(#REF!,#REF!,#REF!,#REF!,#REF!,#REF!)-1","v":{"$error":"#REF!"}}]
["武汉市","总旅客周转量（万人公里）",{"$f":"C11+C12+C13+C14","v":{"v":16223.3155,"d":"16223.32"}},{"$f":"C10/#REF!-1","v":{"$error":"#REF!"}},{"$f":"E11+E12+E13+E14","v":{"v":14192.4661,"d":"14192.47"}},{"$f":"E10/#REF!-1","v":{"$error":"#REF!"}},{"$f":"G11+G12+G13+G14","v":{"v":19555.1537,"d":"19555.15"}},{"$f":"G10/#REF!-1","v":{"$error":"#REF!"}},{"$f":"I11+I12+I13+I14","v":{"v":22085.238400000002,"d":"22085.24"}},{"$f":"I10/#REF!-1","v":{"$error":"#REF!"}},{"$f":"K11+K12+K13+K14","v":{"v":21521.8522,"d":"21521.85"}},{"$f":"K10/#REF!-1","v":{"$error":"#REF!"}},{"$f":"M11+M12+M13+M14","v":{"v":19895.284,"d":"19895.28"}},{"$f":"M10/#REF!-1","v":{"$error":"#REF!"}},{"v":113473.30990000001,"d":"113473.31"},{"$f":"O10/SUM(#REF!,#REF!,#REF!,#REF!,#REF!,#REF!)-1","v":{"$error":"#REF!"}}]
[null,"公路班线旅客周转量（万人公里）",{"$f":"[1]班线包车!C9","v":15634.2955},{"$f":"C11/#REF!-1","v":{"$error":"#REF!"}},{"$f":"[1]班线包车!E9","v":13762.8961},{"$f":"E11/#REF!-1","v":{"$error":"#REF!"}},{"$f":"[1]班线包车!G9","v":18904.2637},{"$f":"G11/#REF!-1","v":{"$error":"#REF!"}},{"$f":"[1]班线包车!I9","v":21448.6084},{"$f":"I11/#REF!-1","v":{"$error":"#REF!"}},{"$f":"[1]班线包车!K9","v":20903.5122},{"$f":"K11/#REF!-1","v":{"$error":"#REF!"}},{"$f":"[1]班线包车!M9","v":19301.074},{"$f":"M11/#REF!-1","v":{"$error":"#REF!"}},{"v":109954.64989999999,"d":"109954.65"},{"$f":"O11/SUM(#REF!,#REF!,#REF!,#REF!,#REF!,#REF!)-1","v":{"$error":"#REF!"}}]
[null,"城际城乡公交旅客周转量（万人公里）",{"$f":"[1]公交!C10-[1]公交!C12","v":589.0200000000004},{"$f":"C12/#REF!-1","v":{"$error":"#REF!"}},{"$f":"[1]公交!E10-[1]公交!E12","v":429.5699999999997},{"$f":"E12/#REF!-1","v":{"$error":"#REF!"}},{"$f":"[1]公交!G10-[1]公交!G12","v":650.8899999999994},{"$f":"G12/#REF!-1","v":{"$error":"#REF!"}},{"$f":"[1]公交!I10-[1]公交!I12","v":636.630000000001},{"$f":"I12/#REF!-1","v":{"$error":"#REF!"}},{"$f":"[1]公交!K10-[1]公交!K12","v":618.3400000000001},{"$f":"K12/#REF!-1","v":{"$error":"#REF!"}},{"$f":"[1]公交!M10-[1]公交!M12","v":594.2099999999991},{"$f":"M12/#REF!-1","v":{"$error":"#REF!"}},3518.66,{"$f":"O12/SUM(#REF!,#REF!,#REF!,#REF!,#REF!,#REF!)-1","v":{"$error":"#REF!"}}]
[null,"城际城乡巡游出租旅客周转量（万人公里）",0,{"$f":"C13/#REF!-1","v":{"$error":"#REF!"}},0,{"$f":"E13/#REF!-1","v":{"$error":"#REF!"}},0,{"$f":"G13/#REF!-1","v":{"$error":"#REF!"}},0,{"$f":"I13/#REF!-1","v":{"$error":"#REF!"}},0,{"$f":"K13/#REF!-1","v":{"$error":"#REF!"}},0,{"$f":"M13/#REF!-1","v":{"$error":"#REF!"}},{"v":0,"d":"0.00"},{"$f":"O13/SUM(#REF!,#REF!,#REF!,#REF!,#REF!,#REF!)-1","v":{"$error":"#REF!"}}]
[null,"城际城乡网约车旅客周转量(万人公里)",{"v":0,"d":"0.00"},{"$f":"C14/#REF!-1","v":{"$error":"#REF!"}},{"v":0,"d":"0.00"},{"$f":"E14/#REF!-1","v":{"$error":"#REF!"}},{"v":0,"d":"0.00"},{"$f":"G14/#REF!-1","v":{"$error":"#REF!"}},{"v":0,"d":"0.00"},{"$f":"I14/#REF!-1","v":{"$error":"#REF!"}},{"v":0,"d":"0.00"},{"$f":"K14/#REF!-1","v":{"$error":"#REF!"}},{"v":0,"d":"0.00"},{"$f":"M14/#REF!-1","v":{"$error":"#REF!"}},{"v":0,"d":"0.00"},{"$f":"O14/SUM(#REF!,#REF!,#REF!,#REF!,#REF!,#REF!)-1","v":{"$error":"#REF!"}}]
["黄石市","总旅客周转量（万人公里）",{"$f":"C16+C17+C18+C19","v":{"v":5389.624111865433,"d":"5389.62"}},{"$f":"C15/#REF!-1","v":{"$error":"#REF!"}},{"$f":"E16+E17+E18+E19","v":{"v":5188.807359947919,"d":"5188.81"}},{"$f":"E15/#REF!-1","v":{"$error":"#REF!"}},{"$f":"G16+G17+G18+G19","v":{"v":5951.310642593794,"d":"5951.31"}},{"$f":"G15/#REF!-1","v":{"$error":"#REF!"}},{"$f":"I16+I17+I18+I19","v":{"v":6254.105707472008,"d":"6254.11"}},{"$f":"I15/#REF!-1","v":{"$error":"#REF!"}},{"$f":"K16+K17+K18+K19","v":{"v":6038.007452386873,"d":"6038.01"}},{"$f":"K15/#REF!-1","v":{"$error":"#REF!"}},{"$f":"M16+M17+M18+M19","v":{"v":5835.409366396663,"d":"5835.41"}},{"$f":"M15/#REF!-1","v":{"$error":"#REF!"}},{"v":34657.264640662695,"d":"34657.26"},{"$f":"O15/SUM(#REF!,#REF!,#REF!,#REF!,#REF!,#REF!)-1","v":{"$error":"#REF!"}}]
[null,"公路班线旅客周转量（万人公里）",{"$f":"[1]班线包车!C11","v":2072.6875},{"$f":"C16/#REF!-1","v":{"$error":"#REF!"}},{"$f":"[1]班线包车!E11","v":2381.0712},{"$f":"E16/#REF!-1","v":{"$error":"#REF!"}},{"$f":"[1]班线包车!G11","v":2528.9262},{"$f":"G16/#REF!-1","v":{"$error":"#REF!"}},{"$f":"[1]班线包车!I11","v":2913.672},{"$f":"I16/#REF!-1","v":{"$error":"#REF!"}},{"$f":"[1]班线包车!K11","v":2547.6156},{"$f":"K16/#REF!-1","v":{"$error":"#REF!"}},{"$f":"[1]班线包车!M11","v":2470.4711},{"$f":"M16/#REF!-1","v":{"$error":"#REF!"}},{"v":14914.4436,"d":"14914.44"},{"$f":"O16/SUM(#REF!,#REF!,#REF!,#REF!,#REF!,#REF!)-1","v":{"$error":"#REF!"}}]
[null,"城际城乡公交旅客周转量（万人公里）",{"$f":"[1]公交!C14-[1]公交!C16","v":2885.5699999999997},{"$f":"C17/#REF!-1","v":{"$error":"#REF!"}},{"$f":"[1]公交!E14-[1]公交!E16","v":2395.99},{"$f":"E17/#REF!-1","v":{"$error":"#REF!"}},{"$f":"[1]公交!G14-[1]公交!G16","v":3003.0199999999995},{"$f":"G17/#REF!-1","v":{"$error":"#REF!"}},{"$f":"[1]公交!I14-[1]公交!I16","v":2930.1400000000003},{"$f":"I17/#REF!-1","v":{"$error":"#REF!"}},{"$f":"[1]公交!K14-[1]公交!K16","v":3055.2199999999993},{"$f":"K17/#REF!-1","v":{"$error":"#REF!"}},{"$f":"[1]公交!M14-[1]公交!M16","v":2909.13},{"$f":"M17/#REF!-1","v":{"$error":"#REF!"}},{"v":17179.069999999996,"d":"17179.07"},{"$f":"O17/SUM(#REF!,#REF!,#REF!,#REF!,#REF!,#REF!)-1","v":{"$error":"#REF!"}}]
[null,"城际城乡巡游出租旅客周转量（万人公里）",{"$f":"[1]出租!C14-[1]出租!C16","v":266.4200000000001},{"$f":"C18/#REF!-1","v":{"$error":"#REF!"}},{"$f":"[1]出租!E14-[1]出租!E16","v":268.17999999999984},{"$f":"E18/#REF!-1","v":{"$error":"#REF!"}},{"$f":"[1]出租!G14-[1]出租!G16","v":258.1099999999999},{"$f":"G18/#REF!-1","v":{"$error":"#REF!"}},{"$f":"[1]出租!I14-[1]出租!I16","v":263.1700000000001},{"$f":"I18/#REF!-1","v":{"$error":"#REF!"}},{"$f":"[1]出租!K14-[1]出租!K16","v":260.1300000000001},{"$f":"K18/#REF!-1","v":{"$error":"#REF!"}},{"$f":"[1]出租!M14-[1]出租!M16","v":251.24},{"$f":"M18/#REF!-1","v":{"$error":"#REF!"}},1567.25,{"$f":"O18/SUM(#REF!,#REF!,#REF!,#REF!,#REF!,#REF!)-1","v":{"$error":"#REF!"}}]
[null,"城际城乡网约车旅客周转量(万人公里)",{"$f":"[1]网约车!C14-[1]网约车!C16","v":{"v":164.94661186543397,"d":"164.95"}},{"$f":"C19/#REF!-1","v":{"$error":"#REF!"}},{"$f":"[1]网约车!E14-[1]网约车!E16","v":{"v":143.566159947919,"d":"143.57"}},{"$f":"E19/#REF!-1","v":{"$error":"#REF!"}},{"$f":"[1]网约车!G14-[1]网约车!G16","v":{"v":161.25444259379498,"d":"161.25"}},{"$f":"G19/#REF!-1","v":{"$error":"#REF!"}},{"$f":"[1]网约车!I14-[1]网约车!I16","v":{"v":147.123707472008,"d":"147.12"}},{"$f":"I19/#REF!-1","v":{"$error":"#REF!"}},{"$f":"[1]网约车!K14-[1]网约车!K16","v":{"v":175.04185238687398,"d":"175.04"}},{"$f":"K19/#REF!-1","v":{"$error":"#REF!"}},{"$f":"[1]网约车!M14-[1]网约车!M16","v":{"v":204.568266396664,"d":"204.57"}},{"$f":"M19/#REF!-1","v":{"$error":"#REF!"}},{"v":996.5010406626939,"d":"996.50"},{"$f":"O19/SUM(#REF!,#REF!,#REF!,#REF!,#REF!,#REF!)-1","v":{"$error":"#REF!"}}]
["十堰市","总旅客周转量（万人公里）",{"$f":"C21+C22+C23+C24","v":{"v":7165.69391067177,"d":"7165.69"}},{"$f":"C20/#REF!-1","v":{"$error":"#REF!"}},{"$f":"E21+E22+E23+E24","v":{"v":8786.978560690231,"d":"8786.98"}},{"$f":"E20/#REF!-1","v":{"$error":"#REF!"}},{"$f":"G21+G22+G23+G24","v":{"v":8458.55983130833,"d":"8458.56"}},{"$f":"G20/#REF!-1","v":{"$error":"#REF!"}},{"$f":"I21+I22+I23+I24","v":{"v":9244.20634160103,"d":"9244.21"}},{"$f":"I20/#REF!-1","v":{"$error":"#REF!"}},{"$f":"K21+K22+K23+K24","v":{"v":9118.886995419662,"d":"9118.89"}},{"$f":"K20/#REF!-1","v":{"$error":"#REF!"}},{"$f":"M21+M22+M23+M24","v":{"v":8457.427097406351,"d":"8457.43"}},{"$f":"M20/#REF!-1","v":{"$error":"#REF!"}},{"v":51231.75273709737,"d":"51231.75"},{"$f":"O20/SUM(#REF!,#REF!,#REF!,#REF!,#REF!,#REF!)-1","v":{"$error":"#REF!"}}]
[null,"公路班线旅客周转量（万人公里）",{"$f":"[1]班线包车!C15","v":4442.6528},{"$f":"C21/#REF!-1","v":{"$error":"#REF!"}},{"$f":"[1]班线包车!E15","v":6222.1126},{"$f":"E21/#REF!-1","v":{"$error":"#REF!"}},{"$f":"[1]班线包车!G15","v":5800.6944},{"$f":"G21/#REF!-1","v":{"$error":"#REF!"}},{"$f":"[1]班线包车!I15","v":6318.1348},{"$f":"I21/#REF!-1","v":{"$error":"#REF!"}},{"$f":"[1]班线包车!K15","v":6328.6093},{"$f":"K21/#REF!-1","v":{"$error":"#REF!"}},{"$f":"[1]班线包车!M15","v":5538.8125},{"$f":"M21/#REF!-1","v":{"$error":"#REF!"}},{"v":34651.0164,"d":"34651.02"},{"$f":"O21/SUM(#REF!,#REF!,#REF!,#REF!,#REF!,#REF!)-1","v":{"$error":"#REF!"}}]
[null,"城际城乡公交旅客周转量（万人公里）",{"$f":"[1]公交!C18-[1]公交!C20","v":2382.46},{"$f":"C22/#REF!-1","v":{"$error":"#REF!"}},{"$f":"[1]公交!E18-[1]公交!E20","v":2303.04},{"$f":"E22/#REF!-1","v":{"$error":"#REF!"}},{"$f":"[1]公交!G18-[1]公交!G20","v":2284.6500000000005},{"$f":"G22/#REF!-1","v":{"$error":"#REF!"}},{"$f":"[1]公交!I18-[1]公交!I20","v":2590.88},{"$f":"I22/#REF!-1","v":{"$error":"#REF!"}},{"$f":"[1]公交!K18-[1]公交!K20","v":2426.630000000001},{"$f":"K22/#REF!-1","v":{"$error":"#REF!"}},{"$f":"[1]公交!M18-[1]公交!M20","v":2539.210000000001},{"$f":"M22/#REF!-1","v":{"$error":"#REF!"}},{"v":14526.870000000003,"d":"14526.87"},{"$f":"O22/SUM(#REF!,#REF!,#REF!,#REF!,#REF!,#REF!)-1","v":{"$error":"#REF!"}}]
[null,"城际城乡巡游出租旅客周转量（万人公里）",{"$f":"[1]出租!C18-[1]出租!C20","v":83.78999999999996},{"$f":"C23/#REF!-1","v":{"$error":"#REF!"}},{"$f":"[1]出租!E18-[1]出租!E20","v":46.84999999999991},{"$f":"E23/#REF!-1","v":{"$error":"#REF!"}},{"$f":"[1]出租!G18-[1]出租!G20","v":51.27999999999997},{"$f":"G23/#REF!-1","v":{"$error":"#REF!"}},{"$f":"[1]出租!I18-[1]出租!I20","v":52.48000000000002},{"$f":"I23/#REF!-1","v":{"$error":"#REF!"}},{"$f":"[1]出租!K18-[1]出租!K20","v":56.02000000000021},{"$f":"K23/#REF!-1","v":{"$error":"#REF!"}},{"$f":"[1]出租!M18-[1]出租!M20","v":50.5},{"$f":"M23/#REF!-1","v":{"$error":"#REF!"}},{"v":340.9200000000001,"d":"340.92"},{"$f":"O23/SUM(#REF!,#REF!,#REF!,#REF!,#REF!,#REF!)-1","v":{"$error":"#REF!"}}]
[null,"城际城乡网约车旅客周转量(万人公里)",{"$f":"[1]网约车!C18-[1]网约车!C20","v":{"v":256.79111067177007,"d":"256.79"}},{"$f":"C24/#REF!-1","v":{"$error":"#REF!"}},{"$f":"[1]网约车!E18-[1]网约车!E20","v":{"v":214.97596069022984,"d":"214.98"}},{"$f":"E24/#REF!-1","v":{"$error":"#REF!"}},{"$f":"[1]网约车!G18-[1]网约车!G20","v":{"v":321.93543130832995,"d":"321.94"}},{"$f":"G24/#REF!-1","v":{"$error":"#REF!"}},{"$f":"[1]网约车!I18-[1]网约车!I20","v":{"v":282.7115416010299,"d":"282.71"}},{"$f":"I24/#REF!-1","v":{"$error":"#REF!"}},{"$f":"[1]网约车!K18-[1]网约车!K20","v":{"v":307.6276954196601,"d":"307.63"}},{"$f":"K24/#REF!-1","v":{"$error":"#REF!"}},{"$f":"[1]网约车!M18-[1]网约车!M20","v":{"v":328.9045974063499,"d":"328.90"}},{"$f":"M24/#REF!-1","v":{"$error":"#REF!"}},{"v":1712.9463370973697,"d":"1712.95"},{"$f":"O24/SUM(#REF!,#REF!,#REF!,#REF!,#REF!,#REF!)-1","v":{"$error":"#REF!"}}]
["宜昌市","总旅客周转量（万人公里）",{"$f":"C26+C27+C28+C29","v":{"v":13411.321502379857,"d":"13411.32"}},{"$f":"C25/#REF!-1","v":{"$error":"#REF!"}},{"$f":"E26+E27+E28+E29","v":{"v":15665.679854557702,"d":"15665.68"}},{"$f":"E25/#REF!-1","v":{"$error":"#REF!"}},{"$f":"G26+G27+G28+G29","v":{"v":16808.188689779203,"d":"16808.19"}},{"$f":"G25/#REF!-1","v":{"$error":"#REF!"}},{"$f":"I26+I27+I28+I29","v":{"v":19190.16237054635,"d":"19190.16"}},{"$f":"I25/#REF!-1","v":{"$error":"#REF!"}},{"$f":"K26+K27+K28+K29","v":{"v":21559.758167056436,"d":"21559.76"}},{"$f":"K25/#REF!-1","v":{"$error":"#REF!"}},{"$f":"M26+M27+M28+M29","v":{"v":20987.14128717099,"d":"20987.14"}},{"$f":"M25/#REF!-1","v":{"$error":"#REF!"}},{"v":107622.25187149053,"d":"107622.25"},{"$f":"O25/SUM(#REF!,#REF!,#REF!,#REF!,#REF!,#REF!)-1","v":{"$error":"#REF!"}}]
[null,"公路班线旅客周转量（万人公里）",{"$f":"[1]班线包车!C19","v":12032.7491},{"$f":"C26/#REF!-1","v":{"$error":"#REF!"}},{"$f":"[1]班线包车!E19","v":14351.0886},{"$f":"E26/#REF!-1","v":{"$error":"#REF!"}},{"$f":"[1]班线包车!G19","v":14986.0133},{"$f":"G26/#REF!-1","v":{"$error":"#REF!"}},{"$f":"[1]班线包车!I19","v":17342.3056},{"$f":"I26/#REF!-1","v":{"$error":"#REF!"}},{"$f":"[1]班线包车!K19","v":19384.3163},{"$f":"K26/#REF!-1","v":{"$error":"#REF!"}},{"$f":"[1]班线包车!M19","v":18766.1584},{"$f":"M26/#REF!-1","v":{"$error":"#REF!"}},{"v":96862.6313,"d":"96862.63"},{"$f":"O26/SUM(#REF!,#REF!,#REF!,#REF!,#REF!,#REF!)-1","v":{"$error":"#REF!"}}]
[null,"城际城乡公交旅客周转量（万人公里）",{"$f":"[1]公交!C22-[1]公交!C24","v":809.6500000000001},{"$f":"C27/#REF!-1","v":{"$error":"#REF!"}},{"$f":"[1]公交!E22-[1]公交!E24","v":756.56},{"$f":"E27/#REF!-1","v":{"$error":"#REF!"}},{"$f":"[1]公交!G22-[1]公交!G24","v":824.7000000000003},{"$f":"G27/#REF!-1","v":{"$error":"#REF!"}},{"$f":"[1]公交!I22-[1]公交!I24","v":807.02},{"$f":"I27/#REF!-1","v":{"$error":"#REF!"}},{"$f":"[1]公交!K22-[1]公交!K24","v":1070.19},{"$f":"K27/#REF!-1","v":{"$error":"#REF!"}},{"$f":"[1]公交!M22-[1]公交!M24","v":1107},{"$f":"M27/#REF!-1","v":{"$error":"#REF!"}},{"v":5375.120000000001,"d":"5375.12"},{"$f":"O27/SUM(#REF!,#REF!,#REF!,#REF!,#REF!,#REF!)-1","v":{"$error":"#REF!"}}]
[null,"城际城乡巡游出租旅客周转量（万人公里）",{"$f":"[1]出租!C22-[1]出租!C24","v":280.25},{"$f":"C28/#REF!-1","v":{"$error":"#REF!"}},{"$f":"[1]出租!E22-[1]出租!E24","v":299.8800000000001},{"$f":"E28/#REF!-1","v":{"$error":"#REF!"}},{"$f":"[1]出租!G22-[1]出租!G24","v":523.2499999999995},{"$f":"G28/#REF!-1","v":{"$error":"#REF!"}},{"$f":"[1]出租!I22-[1]出租!I24","v":539.5499999999997},{"$f":"I28/#REF!-1","v":{"$error":"#REF!"}},{"$f":"[1]出租!K22-[1]出租!K24","v":559.7099999999996},{"$f":"K28/#REF!-1","v":{"$error":"#REF!"}},{"$f":"[1]出租!M22-[1]出租!M24","v":545.8899999999999},{"$f":"M28/#REF!-1","v":{"$error":"#REF!"}},{"v":2748.529999999999,"d":"2748.53"},{"$f":"O28/SUM(#REF!,#REF!,#REF!,#REF!,#REF!,#REF!)-1","v":{"$error":"#REF!"}}]
[null,"城际城乡网约车旅客周转量(万人公里)",{"$f":"[1]网约车!C22-[1]网约车!C24","v":{"v":288.67240237985607,"d":"288.67"}},{"$f":"C29/#REF!-1","v":{"$error":"#REF!"}},{"$f":"[1]网约车!E22-[1]网约车!E24","v":{"v":258.15125455770396,"d":"258.15"}},{"$f":"E29/#REF!-1","v":{"$error":"#REF!"}},{"$f":"[1]网约车!G22-[1]网约车!G24","v":{"v":474.2253897792,"d":"474.23"}},{"$f":"G29/#REF!-1","v":{"$error":"#REF!"}},{"$f":"[1]网约车!I22-[1]网约车!I24","v":{"v":501.28677054635,"d":"501.29"}},{"$f":"I29/#REF!-1","v":{"$error":"#REF!"}},{"$f":"[1]网约车!K22-[1]网约车!K24","v":{"v":545.5418670564402,"d":"545.54"}},{"$f":"K29/#REF!-1","v":{"$error":"#REF!"}},{"$f":"[1]网约车!M22-[1]网约车!M24","v":{"v":568.0928871709898,"d":"568.09"}},{"$f":"M29/#REF!-1","v":{"$error":"#REF!"}},{"v":2635.97057149054,"d":"2635.97"},{"$f":"O29/SUM(#REF!,#REF!,#REF!,#REF!,#REF!,#REF!)-1","v":{"$error":"#REF!"}}]
["襄阳市","总旅客周转量（万人公里）",{"$f":"C31+C32+C33+C34","v":{"v":14517.29063709465,"d":"14517.29"}},{"$f":"C30/#REF!-1","v":{"$error":"#REF!"}},{"$f":"E31+E32+E33+E34","v":{"v":21087.140181059185,"d":"21087.14"}},{"$f":"E30/#REF!-1","v":{"$error":"#REF!"}},{"$f":"G31+G32+G33+G34","v":{"v":20325.042770224252,"d":"20325.04"}},{"$f":"G30/#REF!-1","v":{"$error":"#REF!"}},{"$f":"I31+I32+I33+I34","v":{"v":18718.676210623256,"d":"18718.68"}},{"$f":"I30/#REF!-1","v":{"$error":"#REF!"}},{"$f":"K31+K32+K33+K34","v":{"v":18574.96785649048,"d":"18574.97"}},{"$f":"K30/#REF!-1","v":{"$error":"#REF!"}},{"$f":"M31+M32+M33+M34","v":{"v":16278.972411970408,"d":"16278.97"}},{"$f":"M30/#REF!-1","v":{"$error":"#REF!"}},{"v":109502.09006746222,"d":"109502.09"},{"$f":"O30/SUM(#REF!,#REF!,#REF!,#REF!,#REF!,#REF!)-1","v":{"$error":"#REF!"}}]
[null,"公路班线旅客周转量（万人公里）",{"$f":"[1]班线包车!C23","v":10120.8517},{"$f":"C31/#REF!-1","v":{"$error":"#REF!"}},{"$f":"[1]班线包车!E23","v":16615.7551},{"$f":"E31/#REF!-1","v":{"$error":"#REF!"}},{"$f":"[1]班线包车!G23","v":15869.8464},{"$f":"G31/#REF!-1","v":{"$error":"#REF!"}},{"$f":"[1]班线包车!I23","v":14345.6508},{"$f":"I31/#REF!-1","v":{"$error":"#REF!"}},{"$f":"[1]班线包车!K23","v":14014.5296},{"$f":"K31/#REF!-1","v":{"$error":"#REF!"}},{"$f":"[1]班线包车!M23","v":11627.7753},{"$f":"M31/#REF!-1","v":{"$error":"#REF!"}},{"v":82594.40889999998,"d":"82594.41"},{"$f":"O31/SUM(#REF!,#REF!,#REF!,#REF!,#REF!,#REF!)-1","v":{"$error":"#REF!"}}]
[null,"城际城乡公交旅客周转量（万人公里）",{"$f":"[1]公交!C26-[1]公交!C28","v":3119.4000000000005},{"$f":"C32/#REF!-1","v":{"$error":"#REF!"}},{"$f":"[1]公交!E26-[1]公交!E28","v":3309.51},{"$f":"E32/#REF!-1","v":{"$error":"#REF!"}},{"$f":"[1]公交!G26-[1]公交!G28","v":3202.6800000000003},{"$f":"G32/#REF!-1","v":{"$error":"#REF!"}},{"$f":"[1]公交!I26-[1]公交!I28","v":3199.1499999999996},{"$f":"I32/#REF!-1","v":{"$error":"#REF!"}},{"$f":"[1]公交!K26-[1]公交!K28","v":3343.2800000000007},{"$f":"K32/#REF!-1","v":{"$error":"#REF!"}},{"$f":"[1]公交!M26-[1]公交!M28","v":3431.54},{"$f":"M32/#REF!-1","v":{"$error":"#REF!"}},19605.56,{"$f":"O32/SUM(#REF!,#REF!,#REF!,#REF!,#REF!,#REF!)-1","v":{"$error":"#REF!"}}]
[null,"城际城乡巡游出租旅客周转量（万人公里）",{"$f":"[1]出租!C26-[1]出租!C28","v":518.6399999999999},{"$f":"C33/#REF!-1","v":{"$error":"#REF!"}},{"$f":"[1]出租!E26-[1]出租!E28","v":513.9100000000001},{"$f":"E33/#REF!-1","v":{"$error":"#REF!"}},{"$f":"[1]出租!G26-[1]出租!G28","v":540.9499999999998},{"$f":"G33/#REF!-1","v":{"$error":"#REF!"}},{"$f":"[1]出租!I26-[1]出租!I28","v":511.3700000000001},{"$f":"I33/#REF!-1","v":{"$error":"#REF!"}},{"$f":"[1]出租!K26-[1]出租!K28","v":512.2299999999998},{"$f":"K33/#REF!-1","v":{"$error":"#REF!"}},{"$f":"[1]出租!M26-[1]出租!M28","v":519.8000000000002},{"$f":"M33/#REF!-1","v":{"$error":"#REF!"}},{"v":3116.8999999999996,"d":"3116.90"},{"$f":"O33/SUM(#REF!,#REF!,#REF!,#REF!,#REF!,#REF!)-1","v":{"$error":"#REF!"}}]
[null,"城际城乡网约车旅客周转量(万人公里)",{"$f":"[1]网约车!C26-[1]网约车!C28","v":{"v":758.3989370946499,"d":"758.40"}},{"$f":"C34/#REF!-1","v":{"$error":"#REF!"}},{"$f":"[1]网约车!E26-[1]网约车!E28","v":{"v":647.96508105919,"d":"647.97"}},{"$f":"E34/#REF!-1","v":{"$error":"#REF!"}},{"$f":"[1]网约车!G26-[1]网约车!G28","v":{"v":711.56637022425,"d":"711.57"}},{"$f":"G34/#REF!-1","v":{"$error":"#REF!"}},{"$f":"[1]网约车!I26-[1]网约车!I28","v":{"v":662.5054106232599,"d":"662.51"}},{"$f":"I34/#REF!-1","v":{"$error":"#REF!"}},{"$f":"[1]网约车!K26-[1]网约车!K28","v":{"v":704.9282564904802,"d":"704.93"}},{"$f":"K34/#REF!-1","v":{"$error":"#REF!"}},{"$f":"[1]网约车!M26-[1]网约车!M28","v":{"v":699.85711197041,"d":"699.86"}},{"$f":"M34/#REF!-1","v":{"$error":"#REF!"}},{"v":4185.2211674622395,"d":"4185.22"},{"$f":"O34/SUM(#REF!,#REF!,#REF!,#REF!,#REF!,#REF!)-1","v":{"$error":"#REF!"}}]
["鄂州市","总旅客周转量（万人公里）",{"$f":"C36+C37+C38+C39","v":{"v":2964.861259684313,"d":"2964.86"}},{"$f":"C35/#REF!-1","v":{"$error":"#REF!"}},{"$f":"E36+E37+E38+E39","v":{"v":2605.937115779502,"d":"2605.94"}},{"$f":"E35/#REF!-1","v":{"$error":"#REF!"}},{"$f":"G36+G37+G38+G39","v":{"v":2635.8969580204734,"d":"2635.90"}},{"$f":"G35/#REF!-1","v":{"$error":"#REF!"}},{"$f":"I36+I37+I38+I39","v":{"v":2666.764530373931,"d":"2666.76"}},{"$f":"I35/#REF!-1","v":{"$error":"#REF!"}},{"$f":"K36+K37+K38+K39","v":{"v":2580.267002824463,"d":"2580.27"}},{"$f":"K35/#REF!-1","v":{"$error":"#REF!"}},{"$f":"M36+M37+M38+M39","v":{"v":2497.359402205327,"d":"2497.36"}},{"$f":"M35/#REF!-1","v":{"$error":"#REF!"}},{"v":15951.086268888012,"d":"15951.09"},{"$f":"O35/SUM(#REF!,#REF!,#REF!,#REF!,#REF!,#REF!)-1","v":{"$error":"#REF!"}}]
[null,"公路班线旅客周转量（万人公里）",{"$f":"[1]班线包车!C27","v":2574.3453},{"$f":"C36/#REF!-1","v":{"$error":"#REF!"}},{"$f":"[1]班线包车!E27","v":2270.4778},{"$f":"E36/#REF!-1","v":{"$error":"#REF!"}},{"$f":"[1]班线包车!G27","v":2312.8897},{"$f":"G36/#REF!-1","v":{"$error":"#REF!"}},{"$f":"[1]班线包车!I27","v":2341.8271},{"$f":"I36/#REF!-1","v":{"$error":"#REF!"}},{"$f":"[1]班线包车!K27","v":2329.9036},{"$f":"K36/#REF!-1","v":{"$error":"#REF!"}},{"$f":"[1]班线包车!M27","v":2252.8378},{"$f":"M36/#REF!-1","v":{"$error":"#REF!"}},{"v":14082.281299999999,"d":"14082.28"},{"$f":"O36/SUM(#REF!,#REF!,#REF!,#REF!,#REF!,#REF!)-1","v":{"$error":"#REF!"}}]
[null,"城际城乡公交旅客周转量（万人公里）",{"$f":"[1]公交!C30-[1]公交!C32","v":199.3900000000001},{"$f":"C37/#REF!-1","v":{"$error":"#REF!"}},{"$f":"[1]公交!E30-[1]公交!E32","v":201.08999999999992},{"$f":"E37/#REF!-1","v":{"$error":"#REF!"}},{"$f":"[1]公交!G30-[1]公交!G32","v":203.6199999999999},{"$f":"G37/#REF!-1","v":{"$error":"#REF!"}},{"$f":"[1]公交!I30-[1]公交!I32","v":211.85000000000014},{"$f":"I37/#REF!-1","v":{"$error":"#REF!"}},{"$f":"[1]公交!K30-[1]公交!K32","v":142.03999999999996},{"$f":"K37/#REF!-1","v":{"$error":"#REF!"}},{"$f":"[1]公交!M30-[1]公交!M32","v":136.31999999999994},{"$f":"M37/#REF!-1","v":{"$error":"#REF!"}},{"$f":"E37+C37+G37+I37+K37+M37","v":1094.31},{"$f":"O37/SUM(#REF!,#REF!,#REF!,#REF!,#REF!,#REF!)-1","v":{"$error":"#REF!"}}]
[null,"城际城乡巡游出租旅客周转量（万人公里）",{"$f":"[1]出租!C30-[1]出租!C32","v":103.07999999999993},{"$f":"C38/#REF!-1","v":{"$error":"#REF!"}},{"$f":"[1]出租!E30-[1]出租!E32","v":64.33999999999997},{"$f":"E38/#REF!-1","v":{"$error":"#REF!"}},{"$f":"[1]出租!G30-[1]出租!G32","v":40.54999999999998},{"$f":"G38/#REF!-1","v":{"$error":"#REF!"}},{"$f":"[1]出租!I30-[1]出租!I32","v":37.870000000000005},{"$f":"I38/#REF!-1","v":{"$error":"#REF!"}},{"$f":"[1]出租!K30-[1]出租!K32","v":33.400000000000006},{"$f":"K38/#REF!-1","v":{"$error":"#REF!"}},{"$f":"[1]出租!M30-[1]出租!M32","v":32.190000000000026},{"$f":"M38/#REF!-1","v":{"$error":"#REF!"}},{"v":311.42999999999995,"d":"311.43"},{"$f":"O38/SUM(#REF!,#REF!,#REF!,#REF!,#REF!,#REF!)-1","v":{"$error":"#REF!"}}]
[null,"城际城乡网约车旅客周转量(万人公里)",{"$f":"[1]网约车!C30-[1]网约车!C32","v":{"v":88.045959684313,"d":"88.05"}},{"$f":"C39/#REF!-1","v":{"$error":"#REF!"}},{"$f":"[1]网约车!E30-[1]网约车!E32","v":{"v":70.02931577950199,"d":"70.03"}},{"$f":"E39/#REF!-1","v":{"$error":"#REF!"}},{"$f":"[1]网约车!G30-[1]网约车!G32","v":{"v":78.837258020473,"d":"78.84"}},{"$f":"G39/#REF!-1","v":{"$error":"#REF!"}},{"$f":"[1]网约车!I30-[1]网约车!I32","v":{"v":75.217430373931,"d":"75.22"}},{"$f":"I39/#REF!-1","v":{"$error":"#REF!"}},{"$f":"[1]网约车!K30-[1]网约车!K32","v":{"v":74.92340282446298,"d":"74.92"}},{"$f":"K39/#REF!-1","v":{"$error":"#REF!"}},{"$f":"[1]网约车!M30-[1]网约车!M32","v":{"v":76.011602205327,"d":"76.01"}},{"$f":"M39/#REF!-1","v":{"$error":"#REF!"}},{"v":463.06496888800893,"d":"463.06"},{"$f":"O39/SUM(#REF!,#REF!,#REF!,#REF!,#REF!,#REF!)-1","v":{"$error":"#REF!"}}]
["荆门市","总旅客周转量（万人公里）",{"$f":"C41+C42+C43+C44","v":{"v":3471.489808669887,"d":"3471.49"}},{"$f":"C40/#REF!-1","v":{"$error":"#REF!"}},{"$f":"E41+E42+E43+E44","v":{"v":3905.090504233546,"d":"3905.09"}},{"$f":"E40/#REF!-1","v":{"$error":"#REF!"}},{"$f":"G41+G42+G43+G44","v":{"v":3939.390426165373,"d":"3939.39"}},{"$f":"G40/#REF!-1","v":{"$error":"#REF!"}},{"$f":"I41+I42+I43+I44","v":{"v":3991.33101393484,"d":"3991.33"}},{"$f":"I40/#REF!-1","v":{"$error":"#REF!"}},{"$f":"K41+K42+K43+K44","v":{"v":4041.7769203531616,"d":"4041.78"}},{"$f":"K40/#REF!-1","v":{"$error":"#REF!"}},{"$f":"M41+M42+M43+M44","v":{"v":3548.201037093451,"d":"3548.20"}},{"$f":"M40/#REF!-1","v":{"$error":"#REF!"}},{"v":22897.27971045026,"d":"22897.28"},{"$f":"O40/SUM(#REF!,#REF!,#REF!,#REF!,#REF!,#REF!)-1","v":{"$error":"#REF!"}}]
[null,"公路班线旅客周转量（万人公里）",{"$f":"[1]班线包车!C29","v":2914.7385},{"$f":"C41/#REF!-1","v":{"$error":"#REF!"}},{"$f":"[1]班线包车!E29","v":3370.793718},{"$f":"E41/#REF!-1","v":{"$error":"#REF!"}},{"$f":"[1]班线包车!G29","v":3406.832473},{"$f":"G41/#REF!-1","v":{"$error":"#REF!"}},{"$f":"[1]班线包车!I29","v":3476.813709},{"$f":"I41/#REF!-1","v":{"$error":"#REF!"}},{"$f":"[1]班线包车!K29","v":3514.446795},{"$f":"K41/#REF!-1","v":{"$error":"#REF!"}},{"$f":"[1]班线包车!M29","v":3038.760275},{"$f":"M41/#REF!-1","v":{"$error":"#REF!"}},{"v":19722.38547,"d":"19722.39"},{"$f":"O41/SUM(#REF!,#REF!,#REF!,#REF!,#REF!,#REF!)-1","v":{"$error":"#REF!"}}]
[null,"城际城乡公交旅客周转量（万人公里）",{"$f":"[1]公交!C34-[1]公交!C36","v":83.2800000000002},{"$f":"C42/#REF!-1","v":{"$error":"#REF!"}},{"$f":"[1]公交!E34-[1]公交!E36","v":81.83999999999969},{"$f":"E42/#REF!-1","v":{"$error":"#REF!"}},{"$f":"[1]公交!G34-[1]公交!G36","v":82.2800000000002},{"$f":"G42/#REF!-1","v":{"$error":"#REF!"}},{"$f":"[1]公交!I34-[1]公交!I36","v":81.30000000000018},{"$f":"I42/#REF!-1","v":{"$error":"#REF!"}},{"$f":"[1]公交!K34-[1]公交!K36","v":78.69000000000005},{"$f":"K42/#REF!-1","v":{"$error":"#REF!"}},{"$f":"[1]公交!M34-[1]公交!M36","v":78.55999999999995},{"$f":"M42/#REF!-1","v":{"$error":"#REF!"}},{"v":485.9500000000003,"d":"485.95"},{"$f":"O42/SUM(#REF!,#REF!,#REF!,#REF!,#REF!,#REF!)-1","v":{"$error":"#REF!"}}]
[null,"城际城乡巡游出租旅客周转量（万人公里）",{"$f":"[1]出租!C34-[1]出租!C36","v":271.46000000000004},{"$f":"C43/#REF!-1","v":{"$error":"#REF!"}},{"$f":"[1]出租!E34-[1]出租!E36","v":287.0899999999999},{"$f":"E43/#REF!-1","v":{"$error":"#REF!"}},{"$f":"[1]出租!G34-[1]出租!G36","v":269.53999999999996},{"$f":"G43/#REF!-1","v":{"$error":"#REF!"}},{"$f":"[1]出租!I34-[1]出租!I36","v":253.3499999999999},{"$f":"I43/#REF!-1","v":{"$error":"#REF!"}},{"$f":"[1]出租!K34-[1]出租!K36","v":263.01},{"$f":"K43/#REF!-1","v":{"$error":"#REF!"}},{"$f":"[1]出租!M34-[1]出租!M36","v":242.95000000000005},{"$f":"M43/#REF!-1","v":{"$error":"#REF!"}},{"v":1587.3999999999999,"d":"1587.40"},{"$f":"O43/SUM(#REF!,#REF!,#REF!,#REF!,#REF!,#REF!)-1","v":{"$error":"#REF!"}}]
[null,"城际城乡网约车旅客周转量(万人公里)",{"$f":"[1]网约车!C34-[1]网约车!C36","v":{"v":202.011308669887,"d":"202.01"}},{"$f":"C44/#REF!-1","v":{"$error":"#REF!"}},{"$f":"[1]网约车!E34-[1]网约车!E36","v":{"v":165.36678623354697,"d":"165.37"}},{"$f":"E44/#REF!-1","v":{"$error":"#REF!"}},{"$f":"[1]网约车!G34-[1]网约车!G36","v":{"v":180.73795316537297,"d":"180.74"}},{"$f":"G44/#REF!-1","v":{"$error":"#REF!"}},{"$f":"[1]网约车!I34-[1]网约车!I36","v":{"v":179.86730493484004,"d":"179.87"}},{"$f":"I44/#REF!-1","v":{"$error":"#REF!"}},{"$f":"[1]网约车!K34-[1]网约车!K36","v":{"v":185.63012535316193,"d":"185.63"}},{"$f":"K44/#REF!-1","v":{"$error":"#REF!"}},{"$f":"[1]网约车!M34-[1]网约车!M36","v":{"v":187.93076209345105,"d":"187.93"}},{"$f":"M44/#REF!-1","v":{"$error":"#REF!"}},{"v":1101.54424045026,"d":"1101.54"},{"$f":"O44/SUM(#REF!,#REF!,#REF!,#REF!,#REF!,#REF!)-1","v":{"$error":"#REF!"}}]
["孝感市","总旅客周转量（万人公里）",{"$f":"C46+C47+C48+C49","v":{"v":7249.6040517982965,"d":"7249.60"}},{"$f":"C45/#REF!-1","v":{"$error":"#REF!"}},{"$f":"E46+E47+E48+E49","v":{"v":7308.987763312394,"d":"7308.99"}},{"$f":"E45/#REF!-1","v":{"$error":"#REF!"}},{"$f":"G46+G47+G48+G49","v":{"v":7667.833631286154,"d":"7667.83"}},{"$f":"G45/#REF!-1","v":{"$error":"#REF!"}},{"$f":"I46+I47+I48+I49","v":{"v":8179.836924788756,"d":"8179.84"}},{"$f":"I45/#REF!-1","v":{"$error":"#REF!"}},{"$f":"K46+K47+K48+K49","v":{"v":8473.864333497168,"d":"8473.86"}},{"$f":"K45/#REF!-1","v":{"$error":"#REF!"}},{"$f":"M46+M47+M48+M49","v":{"v":9044.947668563125,"d":"9044.95"}},{"$f":"M45/#REF!-1","v":{"$error":"#REF!"}},{"v":47925.074373245894,"d":"47925.07"},{"$f":"O45/SUM(#REF!,#REF!,#REF!,#REF!,#REF!,#REF!)-1","v":{"$error":"#REF!"}}]
[null,"公路班线旅客周转量（万人公里）",{"$f":"[1]班线包车!C33","v":2820.2439},{"$f":"C46/#REF!-1","v":{"$error":"#REF!"}},{"$f":"[1]班线包车!E33","v":2880.7429},{"$f":"E46/#REF!-1","v":{"$error":"#REF!"}},{"$f":"[1]班线包车!G33","v":3223.1066},{"$f":"G46/#REF!-1","v":{"$error":"#REF!"}},{"$f":"[1]班线包车!I33","v":3740.0259},{"$f":"I46/#REF!-1","v":{"$error":"#REF!"}},{"$f":"[1]班线包车!K33","v":3834.7599},{"$f":"K46/#REF!-1","v":{"$error":"#REF!"}},{"$f":"[1]班线包车!M33","v":4215.6505},{"$f":"M46/#REF!-1","v":{"$error":"#REF!"}},{"v":20714.529700000003,"d":"20714.53"},{"$f":"O46/SUM(#REF!,#REF!,#REF!,#REF!,#REF!,#REF!)-1","v":{"$error":"#REF!"}}]
[null,"城际城乡公交旅客周转量（万人公里）",{"$f":"[1]公交!C38-[1]公交!C40","v":2885.33},{"$f":"C47/#REF!-1","v":{"$error":"#REF!"}},{"$f":"[1]公交!E38-[1]公交!E40","v":2972.9000000000005},{"$f":"E47/#REF!-1","v":{"$error":"#REF!"}},{"$f":"[1]公交!G38-[1]公交!G40","v":2951.5800000000004},{"$f":"G47/#REF!-1","v":{"$error":"#REF!"}},{"$f":"[1]公交!I38-[1]公交!I40","v":2954.95},{"$f":"I47/#REF!-1","v":{"$error":"#REF!"}},{"$f":"[1]公交!K38-[1]公交!K40","v":3065.71},{"$f":"K47/#REF!-1","v":{"$error":"#REF!"}},{"$f":"[1]公交!M38-[1]公交!M40","v":3184.7400000000002},{"$f":"M47/#REF!-1","v":{"$error":"#REF!"}},{"v":18015.210000000003,"d":"18015.21"},{"$f":"O47/SUM(#REF!,#REF!,#REF!,#REF!,#REF!,#REF!)-1","v":{"$error":"#REF!"}}]
[null,"城际城乡巡游出租旅客周转量（万人公里）",{"$f":"[1]出租!C38-[1]出租!C40","v":1121.7599999999998},{"$f":"C48/#REF!-1","v":{"$error":"#REF!"}},{"$f":"[1]出租!E38-[1]出租!E40","v":1124.1499999999999},{"$f":"E48/#REF!-1","v":{"$error":"#REF!"}},{"$f":"[1]出租!G38-[1]出租!G40","v":1060.4399999999998},{"$f":"G48/#REF!-1","v":{"$error":"#REF!"}},{"$f":"[1]出租!I38-[1]出租!I40","v":1044.19},{"$f":"I48/#REF!-1","v":{"$error":"#REF!"}},{"$f":"[1]出租!K38-[1]出租!K40","v":1088.57},{"$f":"K48/#REF!-1","v":{"$error":"#REF!"}},{"$f":"[1]出租!M38-[1]出租!M40","v":1162.5900000000001},{"$f":"M48/#REF!-1","v":{"$error":"#REF!"}},{"v":6601.699999999999,"d":"6601.70"},{"$f":"O48/SUM(#REF!,#REF!,#REF!,#REF!,#REF!,#REF!)-1","v":{"$error":"#REF!"}}]
[null,"城际城乡网约车旅客周转量(万人公里)",{"$f":"[1]网约车!C38-[1]网约车!C40","v":{"v":422.27015179829704,"d":"422.27"}},{"$f":"C49/#REF!-1","v":{"$error":"#REF!"}},{"$f":"[1]网约车!E38-[1]网约车!E40","v":{"v":331.19486331239403,"d":"331.19"}},{"$f":"E49/#REF!-1","v":{"$error":"#REF!"}},{"$f":"[1]网约车!G38-[1]网约车!G40","v":{"v":432.7070312861529,"d":"432.71"}},{"$f":"G49/#REF!-1","v":{"$error":"#REF!"}},{"$f":"[1]网约车!I38-[1]网约车!I40","v":{"v":440.671024788756,"d":"440.67"}},{"$f":"I49/#REF!-1","v":{"$error":"#REF!"}},{"$f":"[1]网约车!K38-[1]网约车!K40","v":{"v":484.82443349716795,"d":"484.82"}},{"$f":"K49/#REF!-1","v":{"$error":"#REF!"}},{"$f":"[1]网约车!M38-[1]网约车!M40","v":{"v":481.967168563125,"d":"481.97"}},{"$f":"M49/#REF!-1","v":{"$error":"#REF!"}},{"v":2593.634673245893,"d":"2593.63"},{"$f":"O49/SUM(#REF!,#REF!,#REF!,#REF!,#REF!,#REF!)-1","v":{"$error":"#REF!"}}]
["荆州市","总旅客周转量（万人公里）",{"$f":"C51+C52+C53+C54","v":{"v":10455.178348110761,"d":"10455.18"}},{"$f":"C50/#REF!-1","v":{"$error":"#REF!"}},{"$f":"E51+E52+E53+E54","v":{"v":12949.370848034454,"d":"12949.37"}},{"$f":"E50/#REF!-1","v":{"$error":"#REF!"}},{"$f":"G51+G52+G53+G54","v":{"v":12684.047680468504,"d":"12684.05"}},{"$f":"G50/#REF!-1","v":{"$error":"#REF!"}},{"$f":"I51+I52+I53+I54","v":{"v":10792.53201126045,"d":"10792.53"}},{"$f":"I50/#REF!-1","v":{"$error":"#REF!"}},{"$f":"K51+K52+K53+K54","v":{"v":11546.366286099163,"d":"11546.37"}},{"$f":"K50/#REF!-1","v":{"$error":"#REF!"}},{"$f":"M51+M52+M53+M54","v":{"v":10883.40783365832,"d":"10883.41"}},{"$f":"M50/#REF!-1","v":{"$error":"#REF!"}},{"v":69310.90300763164,"d":"69310.90"},{"$f":"O50/SUM(#REF!,#REF!,#REF!,#REF!,#REF!,#REF!)-1","v":{"$error":"#REF!"}}]
[null,"公路班线旅客周转量（万人公里）",{"$f":"[1]班线包车!C37","v":8460.3268},{"$f":"C51/#REF!-1","v":{"$error":"#REF!"}},{"$f":"[1]班线包车!E37","v":10893.6835},{"$f":"E51/#REF!-1","v":{"$error":"#REF!"}},{"$f":"[1]班线包车!G37","v":10915.655},{"$f":"G51/#REF!-1","v":{"$error":"#REF!"}},{"$f":"[1]班线包车!I37","v":9181.1169},{"$f":"I51/#REF!-1","v":{"$error":"#REF!"}},{"$f":"[1]班线包车!K37","v":9903.441},{"$f":"K51/#REF!-1","v":{"$error":"#REF!"}},{"$f":"[1]班线包车!M37","v":9184.0432},{"$f":"M51/#REF!-1","v":{"$error":"#REF!"}},{"v":58538.2664,"d":"58538.27"},{"$f":"O51/SUM(#REF!,#REF!,#REF!,#REF!,#REF!,#REF!)-1","v":{"$error":"#REF!"}}]
[null,"城际城乡公交旅客周转量（万人公里）",{"$f":"[1]公交!C42-[1]公交!C44","v":101.48000000000047},{"$f":"C52/#REF!-1","v":{"$error":"#REF!"}},{"$f":"[1]公交!E42-[1]公交!E44","v":102.01999999999998},{"$f":"E52/#REF!-1","v":{"$error":"#REF!"}},{"$f":"[1]公交!G42-[1]公交!G44","v":102.57999999999993},{"$f":"G52/#REF!-1","v":{"$error":"#REF!"}},{"$f":"[1]公交!I42-[1]公交!I44","v":102.81999999999971},{"$f":"I52/#REF!-1","v":{"$error":"#REF!"}},{"$f":"[1]公交!K42-[1]公交!K44","v":102.86000000000058},{"$f":"K52/#REF!-1","v":{"$error":"#REF!"}},{"$f":"[1]公交!M42-[1]公交!M44","v":103.05999999999949},{"$f":"M52/#REF!-1","v":{"$error":"#REF!"}},{"v":614.8200000000002,"d":"614.82"},{"$f":"O52/SUM(#REF!,#REF!,#REF!,#REF!,#REF!,#REF!)-1","v":{"$error":"#REF!"}}]
[null,"城际城乡巡游出租旅客周转量（万人公里）",{"$f":"[1]出租!C42-[1]出租!C44","v":1505.33},{"$f":"C53/#REF!-1","v":{"$error":"#REF!"}},{"$f":"[1]出租!E42-[1]出租!E44","v":1560.5100000000002},{"$f":"E53/#REF!-1","v":{"$error":"#REF!"}},{"$f":"[1]出租!G42-[1]出租!G44","v":1249.1899999999996},{"$f":"G53/#REF!-1","v":{"$error":"#REF!"}},{"$f":"[1]出租!I42-[1]出租!I44","v":1111.6400000000003},{"$f":"I53/#REF!-1","v":{"$error":"#REF!"}},{"$f":"[1]出租!K42-[1]出租!K44","v":1122.1999999999998},{"$f":"K53/#REF!-1","v":{"$error":"#REF!"}},{"$f":"[1]出租!M42-[1]出租!M44","v":1138.8200000000002},{"$f":"M53/#REF!-1","v":{"$error":"#REF!"}},{"v":7687.6900000000005,"d":"7687.69"},{"$f":"O53/SUM(#REF!,#REF!,#REF!,#REF!,#REF!,#REF!)-1","v":{"$error":"#REF!"}}]
[null,"城际城乡网约车旅客周转量(万人公里)",{"$f":"[1]网约车!C42-[1]网约车!C44","v":{"v":388.041548110759,"d":"388.04"}},{"$f":"C54/#REF!-1","v":{"$error":"#REF!"}},{"$f":"[1]网约车!E42-[1]网约车!E44","v":{"v":393.15734803445395,"d":"393.16"}},{"$f":"E54/#REF!-1","v":{"$error":"#REF!"}},{"$f":"[1]网约车!G42-[1]网约车!G44","v":{"v":416.622680468504,"d":"416.62"}},{"$f":"G54/#REF!-1","v":{"$error":"#REF!"}},{"$f":"[1]网约车!I42-[1]网约车!I44","v":{"v":396.95511126044994,"d":"396.96"}},{"$f":"I54/#REF!-1","v":{"$error":"#REF!"}},{"$f":"[1]网约车!K42-[1]网约车!K44","v":{"v":417.865286099163,"d":"417.87"}},{"$f":"K54/#REF!-1","v":{"$error":"#REF!"}},{"$f":"[1]网约车!M42-[1]网约车!M44","v":{"v":457.48463365832185,"d":"457.48"}},{"$f":"M54/#REF!-1","v":{"$error":"#REF!"}},{"v":2470.1266076316515,"d":"2470.13"},{"$f":"O54/SUM(#REF!,#REF!,#REF!,#REF!,#REF!,#REF!)-1","v":{"$error":"#REF!"}}]
["黄冈市","总旅客周转量（万人公里）",{"$f":"C56+C57+C58+C59","v":{"v":13827.112283120183,"d":"13827.11"}},{"$f":"C55/#REF!-1","v":{"$error":"#REF!"}},{"$f":"E56+E57+E58+E59","v":{"v":15512.031999707577,"d":"15512.03"}},{"$f":"E55/#REF!-1","v":{"$error":"#REF!"}},{"$f":"G56+G57+G58+G59","v":{"v":15453.621286035286,"d":"15453.62"}},{"$f":"G55/#REF!-1","v":{"$error":"#REF!"}},{"$f":"I56+I57+I58+I59","v":{"v":15694.918151570464,"d":"15694.92"}},{"$f":"I55/#REF!-1","v":{"$error":"#REF!"}},{"$f":"K56+K57+K58+K59","v":{"v":16006.246442431842,"d":"16006.25"}},{"$f":"K55/#REF!-1","v":{"$error":"#REF!"}},{"$f":"M56+M57+M58+M59","v":{"v":15353.478297866208,"d":"15353.48"}},{"$f":"M55/#REF!-1","v":{"$error":"#REF!"}},{"v":91847.40846073156,"d":"91847.41"},{"$f":"O55/SUM(#REF!,#REF!,#REF!,#REF!,#REF!,#REF!)-1","v":{"$error":"#REF!"}}]
[null,"公路班线旅客周转量（万人公里）",{"$f":"[1]班线包车!C39","v":7888.0719},{"$f":"C56/#REF!-1","v":{"$error":"#REF!"}},{"$f":"[1]班线包车!E39","v":9890.8954},{"$f":"E56/#REF!-1","v":{"$error":"#REF!"}},{"$f":"[1]班线包车!G39","v":9258.3636},{"$f":"G56/#REF!-1","v":{"$error":"#REF!"}},{"$f":"[1]班线包车!I39","v":9236.1468},{"$f":"I56/#REF!-1","v":{"$error":"#REF!"}},{"$f":"[1]班线包车!K39","v":9544.8729},{"$f":"K56/#REF!-1","v":{"$error":"#REF!"}},{"$f":"[1]班线包车!M39","v":9053.128},{"$f":"M56/#REF!-1","v":{"$error":"#REF!"}},{"v":54871.4786,"d":"54871.48"},{"$f":"O56/SUM(#REF!,#REF!,#REF!,#REF!,#REF!,#REF!)-1","v":{"$error":"#REF!"}}]
[null,"城际城乡公交旅客周转量（万人公里）",{"$f":"[1]公交!C46-[1]公交!C48","v":5139.01},{"$f":"C57/#REF!-1","v":{"$error":"#REF!"}},{"$f":"[1]公交!E46-[1]公交!E48","v":4912.050000000001},{"$f":"E57/#REF!-1","v":{"$error":"#REF!"}},{"$f":"[1]公交!G46-[1]公交!G48","v":5501.57},{"$f":"G57/#REF!-1","v":{"$error":"#REF!"}},{"$f":"[1]公交!I46-[1]公交!I48","v":5644.450000000001},{"$f":"I57/#REF!-1","v":{"$error":"#REF!"}},{"$f":"[1]公交!K46-[1]公交!K48","v":5668.250000000001},{"$f":"K57/#REF!-1","v":{"$error":"#REF!"}},{"$f":"[1]公交!M46-[1]公交!M48","v":5491.85},{"$f":"M57/#REF!-1","v":{"$error":"#REF!"}},32357.18,{"$f":"O57/SUM(#REF!,#REF!,#REF!,#REF!,#REF!,#REF!)-1","v":{"$error":"#REF!"}}]
[null,"城际城乡巡游出租旅客周转量（万人公里）",{"$f":"[1]出租!C46-[1]出租!C48","v":502.6200000000001},{"$f":"C58/#REF!-1","v":{"$error":"#REF!"}},{"$f":"[1]出租!E46-[1]出租!E48","v":430.9200000000001},{"$f":"E58/#REF!-1","v":{"$error":"#REF!"}},{"$f":"[1]出租!G46-[1]出租!G48","v":409.5899999999999},{"$f":"G58/#REF!-1","v":{"$error":"#REF!"}},{"$f":"[1]出租!I46-[1]出租!I48","v":506.64999999999986},{"$f":"I58/#REF!-1","v":{"$error":"#REF!"}},{"$f":"[1]出租!K46-[1]出租!K48","v":480.1700000000001},{"$f":"K58/#REF!-1","v":{"$error":"#REF!"}},{"$f":"[1]出租!M46-[1]出租!M48","v":481.46000000000004},{"$f":"M58/#REF!-1","v":{"$error":"#REF!"}},2811.41,{"$f":"O58/SUM(#REF!,#REF!,#REF!,#REF!,#REF!,#REF!)-1","v":{"$error":"#REF!"}}]
[null,"城际城乡网约车旅客周转量(万人公里)",{"$f":"[1]网约车!C46-[1]网约车!C48","v":{"v":297.41038312018105,"d":"297.41"}},{"$f":"C59/#REF!-1","v":{"$error":"#REF!"}},{"$f":"[1]网约车!E46-[1]网约车!E48","v":{"v":278.166599707576,"d":"278.17"}},{"$f":"E59/#REF!-1","v":{"$error":"#REF!"}},{"$f":"[1]网约车!G46-[1]网约车!G48","v":{"v":284.09768603528494,"d":"284.10"}},{"$f":"G59/#REF!-1","v":{"$error":"#REF!"}},{"$f":"[1]网约车!I46-[1]网约车!I48","v":{"v":307.671351570464,"d":"307.67"}},{"$f":"I59/#REF!-1","v":{"$error":"#REF!"}},{"$f":"[1]网约车!K46-[1]网约车!K48","v":{"v":312.953542431841,"d":"312.95"}},{"$f":"K59/#REF!-1","v":{"$error":"#REF!"}},{"$f":"[1]网约车!M46-[1]网约车!M48","v":{"v":327.04029786620504,"d":"327.04"}},{"$f":"M59/#REF!-1","v":{"$error":"#REF!"}},{"v":1807.339860731552,"d":"1807.34"},{"$f":"O59/SUM(#REF!,#REF!,#REF!,#REF!,#REF!,#REF!)-1","v":{"$error":"#REF!"}}]
["咸宁市","总旅客周转量（万人公里）",{"$f":"C61+C62+C63+C64","v":{"v":9673.86101083028,"d":"9673.86"}},{"$f":"C60/#REF!-1","v":{"$error":"#REF!"}},{"$f":"E61+E62+E63+E64","v":{"v":10892.929130884959,"d":"10892.93"}},{"$f":"E60/#REF!-1","v":{"$error":"#REF!"}},{"$f":"G61+G62+G63+G64","v":{"v":11678.965485704293,"d":"11678.97"}},{"$f":"G60/#REF!-1","v":{"$error":"#REF!"}},{"$f":"I61+I62+I63+I64","v":{"v":12396.980946892303,"d":"12396.98"}},{"$f":"I60/#REF!-1","v":{"$error":"#REF!"}},{"$f":"K61+K62+K63+K64","v":{"v":12306.030129602004,"d":"12306.03"}},{"$f":"K60/#REF!-1","v":{"$error":"#REF!"}},{"$f":"M61+M62+M63+M64","v":{"v":11177.829178356815,"d":"11177.83"}},{"$f":"M60/#REF!-1","v":{"$error":"#REF!"}},{"v":68126.59588227066,"d":"68126.60"},{"$f":"O60/SUM(#REF!,#REF!,#REF!,#REF!,#REF!,#REF!)-1","v":{"$error":"#REF!"}}]
[null,"公路班线旅客周转量（万人公里）",{"$f":"[1]班线包车!C43","v":4330.6841},{"$f":"C61/#REF!-1","v":{"$error":"#REF!"}},{"$f":"[1]班线包车!E43","v":5973.8076},{"$f":"E61/#REF!-1","v":{"$error":"#REF!"}},{"$f":"[1]班线包车!G43","v":6126.3787},{"$f":"G61/#REF!-1","v":{"$error":"#REF!"}},{"$f":"[1]班线包车!I43","v":6709.8015},{"$f":"I61/#REF!-1","v":{"$error":"#REF!"}},{"$f":"[1]班线包车!K43","v":6422.9636},{"$f":"K61/#REF!-1","v":{"$error":"#REF!"}},{"$f":"[1]班线包车!M43","v":5719.9664},{"$f":"M61/#REF!-1","v":{"$error":"#REF!"}},{"v":35283.6019,"d":"35283.60"},{"$f":"O61/SUM(#REF!,#REF!,#REF!,#REF!,#REF!,#REF!)-1","v":{"$error":"#REF!"}}]
[null,"城际城乡公交旅客周转量（万人公里）",{"$f":"[1]公交!C50-[1]公交!C52","v":4344.6900000000005},{"$f":"C62/#REF!-1","v":{"$error":"#REF!"}},{"$f":"[1]公交!E50-[1]公交!E52","v":4041.1000000000004},{"$f":"E62/#REF!-1","v":{"$error":"#REF!"}},{"$f":"[1]公交!G50-[1]公交!G52","v":4617.24},{"$f":"G62/#REF!-1","v":{"$error":"#REF!"}},{"$f":"[1]公交!I50-[1]公交!I52","v":4796.780000000001},{"$f":"I62/#REF!-1","v":{"$error":"#REF!"}},{"$f":"[1]公交!K50-[1]公交!K52","v":4871.22},{"$f":"K62/#REF!-1","v":{"$error":"#REF!"}},{"$f":"[1]公交!M50-[1]公交!M52","v":4476.01},{"$f":"M62/#REF!-1","v":{"$error":"#REF!"}},27147.04,{"$f":"O62/SUM(#REF!,#REF!,#REF!,#REF!,#REF!,#REF!)-1","v":{"$error":"#REF!"}}]
[null,"城际城乡巡游出租旅客周转量（万人公里）",{"$f":"[1]出租!C50-[1]出租!C52","v":566.35},{"$f":"C63/#REF!-1","v":{"$error":"#REF!"}},{"$f":"[1]出租!E50-[1]出租!E52","v":554.25},{"$f":"E63/#REF!-1","v":{"$error":"#REF!"}},{"$f":"[1]出租!G50-[1]出租!G52","v":558.6700000000001},{"$f":"G63/#REF!-1","v":{"$error":"#REF!"}},{"$f":"[1]出租!I50-[1]出租!I52","v":550.8900000000001},{"$f":"I63/#REF!-1","v":{"$error":"#REF!"}},{"$f":"[1]出租!K50-[1]出租!K52","v":591.4699999999999},{"$f":"K63/#REF!-1","v":{"$error":"#REF!"}},{"$f":"[1]出租!M50-[1]出租!M52","v":553.0899999999999},{"$f":"M63/#REF!-1","v":{"$error":"#REF!"}},{"v":3374.7199999999993,"d":"3374.72"},{"$f":"O63/SUM(#REF!,#REF!,#REF!,#REF!,#REF!,#REF!)-1","v":{"$error":"#REF!"}}]
[null,"城际城乡网约车旅客周转量(万人公里)",{"$f":"[1]网约车!C50-[1]网约车!C52","v":{"v":432.13691083027896,"d":"432.14"}},{"$f":"C64/#REF!-1","v":{"$error":"#REF!"}},{"$f":"[1]网约车!E50-[1]网约车!E52","v":{"v":323.77153088495896,"d":"323.77"}},{"$f":"E64/#REF!-1","v":{"$error":"#REF!"}},{"$f":"[1]网约车!G50-[1]网约车!G52","v":{"v":376.67678570429393,"d":"376.68"}},{"$f":"G64/#REF!-1","v":{"$error":"#REF!"}},{"$f":"[1]网约车!I50-[1]网约车!I52","v":{"v":339.50944689230306,"d":"339.51"}},{"$f":"I64/#REF!-1","v":{"$error":"#REF!"}},{"$f":"[1]网约车!K50-[1]网约车!K52","v":{"v":420.37652960200495,"d":"420.38"}},{"$f":"K64/#REF!-1","v":{"$error":"#REF!"}},{"$f":"[1]网约车!M50-[1]网约车!M52","v":{"v":428.76277835681503,"d":"428.76"}},{"$f":"M64/#REF!-1","v":{"$error":"#REF!"}},{"v":2321.2339822706545,"d":"2321.23"},{"$f":"O64/SUM(#REF!,#REF!,#REF!,#REF!,#REF!,#REF!)-1","v":{"$error":"#REF!"}}]
["随州市","总旅客周转量（万人公里）",{"$f":"C66+C67+C68+C69","v":{"v":7095.8767625205255,"d":"7095.88"}},{"$f":"C65/#REF!-1","v":{"$error":"#REF!"}},{"$f":"E66+E67+E68+E69","v":{"v":7434.489577743688,"d":"7434.49"}},{"$f":"E65/#REF!-1","v":{"$error":"#REF!"}},{"$f":"G66+G67+G68+G69","v":{"v":7420.395287025902,"d":"7420.40"}},{"$f":"G65/#REF!-1","v":{"$error":"#REF!"}},{"$f":"I66+I67+I68+I69","v":{"v":7649.016369196787,"d":"7649.02"}},{"$f":"I65/#REF!-1","v":{"$error":"#REF!"}},{"$f":"K66+K67+K68+K69","v":{"v":7656.457660862367,"d":"7656.46"}},{"$f":"K65/#REF!-1","v":{"$error":"#REF!"}},{"$f":"M66+M67+M68+M69","v":{"v":7394.325864675292,"d":"7394.33"}},{"$f":"M65/#REF!-1","v":{"$error":"#REF!"}},{"v":44650.56152202456,"d":"44650.56"},{"$f":"O65/SUM(#REF!,#REF!,#REF!,#REF!,#REF!,#REF!)-1","v":{"$error":"#REF!"}}]
[null,"公路班线旅客周转量（万人公里）",{"$f":"[1]班线包车!C45","v":6018.7633},{"$f":"C66/#REF!-1","v":{"$error":"#REF!"}},{"$f":"[1]班线包车!E45","v":6370.467},{"$f":"E66/#REF!-1","v":{"$error":"#REF!"}},{"$f":"[1]班线包车!G45","v":6382.2507},{"$f":"G66/#REF!-1","v":{"$error":"#REF!"}},{"$f":"[1]班线包车!I45","v":6638.9771},{"$f":"I66/#REF!-1","v":{"$error":"#REF!"}},{"$f":"[1]班线包车!K45","v":6644.3877},{"$f":"K66/#REF!-1","v":{"$error":"#REF!"}},{"$f":"[1]班线包车!M45","v":6426.1171},{"$f":"M66/#REF!-1","v":{"$error":"#REF!"}},{"v":38480.9629,"d":"38480.96"},{"$f":"O66/SUM(#REF!,#REF!,#REF!,#REF!,#REF!,#REF!)-1","v":{"$error":"#REF!"}}]
[null,"城际城乡公交旅客周转量（万人公里）",{"$f":"[1]公交!C54-[1]公交!C56","v":613.9099999999999},{"$f":"C67/#REF!-1","v":{"$error":"#REF!"}},{"$f":"[1]公交!E54-[1]公交!E56","v":578.5200000000001},{"$f":"E67/#REF!-1","v":{"$error":"#REF!"}},{"$f":"[1]公交!G54-[1]公交!G56","v":573.87},{"$f":"G67/#REF!-1","v":{"$error":"#REF!"}},{"$f":"[1]公交!I54-[1]公交!I56","v":549.26},{"$f":"I67/#REF!-1","v":{"$error":"#REF!"}},{"$f":"[1]公交!K54-[1]公交!K56","v":552.73},{"$f":"K67/#REF!-1","v":{"$error":"#REF!"}},{"$f":"[1]公交!M54-[1]公交!M56","v":508.7299999999999},{"$f":"M67/#REF!-1","v":{"$error":"#REF!"}},{"v":3377.0199999999995,"d":"3377.02"},{"$f":"O67/SUM(#REF!,#REF!,#REF!,#REF!,#REF!,#REF!)-1","v":{"$error":"#REF!"}}]
[null,"城际城乡巡游出租旅客周转量（万人公里）",{"$f":"[1]出租!C54-[1]出租!C56","v":256.23},{"$f":"C68/#REF!-1","v":{"$error":"#REF!"}},{"$f":"[1]出租!E54-[1]出租!E56","v":282.11},{"$f":"E68/#REF!-1","v":{"$error":"#REF!"}},{"$f":"[1]出租!G54-[1]出租!G56","v":274.28},{"$f":"G68/#REF!-1","v":{"$error":"#REF!"}},{"$f":"[1]出租!I54-[1]出租!I56","v":281.8700000000001},{"$f":"I68/#REF!-1","v":{"$error":"#REF!"}},{"$f":"[1]出租!K54-[1]出租!K56","v":284.2499999999999},{"$f":"K68/#REF!-1","v":{"$error":"#REF!"}},{"$f":"[1]出租!M54-[1]出租!M56","v":282.0099999999999},{"$f":"M68/#REF!-1","v":{"$error":"#REF!"}},1660.75,{"$f":"O68/SUM(#REF!,#REF!,#REF!,#REF!,#REF!,#REF!)-1","v":{"$error":"#REF!"}}]
[null,"城际城乡网约车旅客周转量(万人公里)",{"$f":"[1]网约车!C54-[1]网约车!C56","v":{"v":206.97346252052603,"d":"206.97"}},{"$f":"C69/#REF!-1","v":{"$error":"#REF!"}},{"$f":"[1]网约车!E54-[1]网约车!E56","v":{"v":203.39257774368798,"d":"203.39"}},{"$f":"E69/#REF!-1","v":{"$error":"#REF!"}},{"$f":"[1]网约车!G54-[1]网约车!G56","v":{"v":189.994587025903,"d":"189.99"}},{"$f":"G69/#REF!-1","v":{"$error":"#REF!"}},{"$f":"[1]网约车!I54-[1]网约车!I56","v":{"v":178.90926919678697,"d":"178.91"}},{"$f":"I69/#REF!-1","v":{"$error":"#REF!"}},{"$f":"[1]网约车!K54-[1]网约车!K56","v":{"v":175.08996086236698,"d":"175.09"}},{"$f":"K69/#REF!-1","v":{"$error":"#REF!"}},{"$f":"[1]网约车!M54-[1]网约车!M56","v":{"v":177.468764675292,"d":"177.47"}},{"$f":"M69/#REF!-1","v":{"$error":"#REF!"}},{"$f":"E69+C69+G69+I69+K69+M69","v":{"v":1131.828622024563,"d":"1131.83"}},{"$f":"O69/SUM(#REF!,#REF!,#REF!,#REF!,#REF!,#REF!)-1","v":{"$error":"#REF!"}}]
["恩施州","总旅客周转量（万人公里）",{"$f":"C71+C72+C73+C74","v":{"v":14292.856285043074,"d":"14292.86"}},{"$f":"C70/#REF!-1","v":{"$error":"#REF!"}},{"$f":"E71+E72+E73+E74","v":{"v":16352.394236129036,"d":"16352.39"}},{"$f":"E70/#REF!-1","v":{"$error":"#REF!"}},{"$f":"G71+G72+G73+G74","v":{"v":17256.904877409856,"d":"17256.90"}},{"$f":"G70/#REF!-1","v":{"$error":"#REF!"}},{"$f":"I71+I72+I73+I74","v":{"v":18292.65284467205,"d":"18292.65"}},{"$f":"I70/#REF!-1","v":{"$error":"#REF!"}},{"$f":"K71+K72+K73+K74","v":{"v":17553.25108246873,"d":"17553.25"}},{"$f":"K70/#REF!-1","v":{"$error":"#REF!"}},{"$f":"M71+M72+M73+M74","v":{"v":15799.100510230504,"d":"15799.10"}},{"$f":"M70/#REF!-1","v":{"$error":"#REF!"}},{"v":99547.15983595325,"d":"99547.16"},{"$f":"O70/SUM(#REF!,#REF!,#REF!,#REF!,#REF!,#REF!)-1","v":{"$error":"#REF!"}}]
[null,"公路班线旅客周转量（万人公里）",{"$f":"[1]班线包车!C49","v":10684.8007},{"$f":"C71/#REF!-1","v":{"$error":"#REF!"}},{"$f":"[1]班线包车!E49","v":13255.0026},{"$f":"E71/#REF!-1","v":{"$error":"#REF!"}},{"$f":"[1]班线包车!G49","v":13786.1171},{"$f":"G71/#REF!-1","v":{"$error":"#REF!"}},{"$f":"[1]班线包车!I49","v":14831.9663},{"$f":"I71/#REF!-1","v":{"$error":"#REF!"}},{"$f":"[1]班线包车!K49","v":13914.4557},{"$f":"K71/#REF!-1","v":{"$error":"#REF!"}},{"$f":"[1]班线包车!M49","v":12216.1679},{"$f":"M71/#REF!-1","v":{"$error":"#REF!"}},{"v":78688.51030000001,"d":"78688.51"},{"$f":"O71/SUM(#REF!,#REF!,#REF!,#REF!,#REF!,#REF!)-1","v":{"$error":"#REF!"}}]
[null,"城际城乡公交旅客周转量（万人公里）",{"$f":"[1]公交!C58-[1]公交!C60","v":1613.52},{"$f":"C72/#REF!-1","v":{"$error":"#REF!"}},{"$f":"[1]公交!E58-[1]公交!E60","v":1188.0400000000002},{"$f":"E72/#REF!-1","v":{"$error":"#REF!"}},{"$f":"[1]公交!G58-[1]公交!G60","v":1545.2400000000002},{"$f":"G72/#REF!-1","v":{"$error":"#REF!"}},{"$f":"[1]公交!I58-[1]公交!I60","v":1550.1899999999996},{"$f":"I72/#REF!-1","v":{"$error":"#REF!"}},{"$f":"[1]公交!K58-[1]公交!K60","v":1626.0600000000004},{"$f":"K72/#REF!-1","v":{"$error":"#REF!"}},{"$f":"[1]公交!M58-[1]公交!M60","v":1556.31},{"$f":"M72/#REF!-1","v":{"$error":"#REF!"}},9079.36,{"$f":"O72/SUM(#REF!,#REF!,#REF!,#REF!,#REF!,#REF!)-1","v":{"$error":"#REF!"}}]
[null,"城际城乡巡游出租旅客周转量（万人公里）",{"$f":"[1]出租!C58-[1]出租!C60","v":1335.2399999999998},{"$f":"C73/#REF!-1","v":{"$error":"#REF!"}},{"$f":"[1]出租!E58-[1]出租!E60","v":1399.46},{"$f":"E73/#REF!-1","v":{"$error":"#REF!"}},{"$f":"[1]出租!G58-[1]出租!G60","v":1219.5900000000001},{"$f":"G73/#REF!-1","v":{"$error":"#REF!"}},{"$f":"[1]出租!I58-[1]出租!I60","v":1184.7599999999998},{"$f":"I73/#REF!-1","v":{"$error":"#REF!"}},{"$f":"[1]出租!K58-[1]出租!K60","v":1208.02},{"$f":"K73/#REF!-1","v":{"$error":"#REF!"}},{"$f":"[1]出租!M58-[1]出租!M60","v":1194.75},{"$f":"M73/#REF!-1","v":{"$error":"#REF!"}},7541.82,{"$f":"O73/SUM(#REF!,#REF!,#REF!,#REF!,#REF!,#REF!)-1","v":{"$error":"#REF!"}}]
[null,"城际城乡网约车旅客周转量(万人公里)",{"$f":"[1]网约车!C58-[1]网约车!C60","v":{"v":659.295585043073,"d":"659.30"}},{"$f":"C74/#REF!-1","v":{"$error":"#REF!"}},{"$f":"[1]网约车!E58-[1]网约车!E60","v":{"v":509.89163612903485,"d":"509.89"}},{"$f":"E74/#REF!-1","v":{"$error":"#REF!"}},{"$f":"[1]网约车!G58-[1]网约车!G60","v":{"v":705.957777409858,"d":"705.96"}},{"$f":"G74/#REF!-1","v":{"$error":"#REF!"}},{"$f":"[1]网约车!I58-[1]网约车!I60","v":{"v":725.736544672053,"d":"725.74"}},{"$f":"I74/#REF!-1","v":{"$error":"#REF!"}},{"$f":"[1]网约车!K58-[1]网约车!K60","v":{"v":804.715382468729,"d":"804.72"}},{"$f":"K74/#REF!-1","v":{"$error":"#REF!"}},{"$f":"[1]网约车!M58-[1]网约车!M60","v":{"v":831.8726102305039,"d":"831.87"}},{"$f":"M74/#REF!-1","v":{"$error":"#REF!"}},{"v":4237.469535953252,"d":"4237.47"},{"$f":"O74/SUM(#REF!,#REF!,#REF!,#REF!,#REF!,#REF!)-1","v":{"$error":"#REF!"}}]
["仙桃市","总旅客周转量（万人公里）",{"$f":"C76+C77+C78+C79","v":{"v":958.7132543089899,"d":"958.71"}},{"$f":"C75/#REF!-1","v":{"$error":"#REF!"}},{"$f":"E76+E77+E78+E79","v":{"v":983.672983148429,"d":"983.67"}},{"$f":"E75/#REF!-1","v":{"$error":"#REF!"}},{"$f":"G76+G77+G78+G79","v":{"v":972.6733349969468,"d":"972.67"}},{"$f":"G75/#REF!-1","v":{"$error":"#REF!"}},{"$f":"I76+I77+I78+I79","v":{"v":945.914216430373,"d":"945.91"}},{"$f":"I75/#REF!-1","v":{"$error":"#REF!"}},{"$f":"K76+K77+K78+K79","v":{"v":973.3527764805789,"d":"973.35"}},{"$f":"K75/#REF!-1","v":{"$error":"#REF!"}},{"$f":"M76+M77+M78+M79","v":{"v":1007.117270464185,"d":"1007.12"}},{"$f":"M75/#REF!-1","v":{"$error":"#REF!"}},{"v":5841.443835829502,"d":"5841.44"},{"$f":"O75/SUM(#REF!,#REF!,#REF!,#REF!,#REF!,#REF!)-1","v":{"$error":"#REF!"}}]
[null,"公路班线旅客周转量（万人公里）",{"$f":"[1]班线包车!C51","v":447.8643},{"$f":"C76/#REF!-1","v":{"$error":"#REF!"}},{"$f":"[1]班线包车!E51","v":448.4483},{"$f":"E76/#REF!-1","v":{"$error":"#REF!"}},{"$f":"[1]班线包车!G51","v":460.931},{"$f":"G76/#REF!-1","v":{"$error":"#REF!"}},{"$f":"[1]班线包车!I51","v":465.732},{"$f":"I76/#REF!-1","v":{"$error":"#REF!"}},{"$f":"[1]班线包车!K51","v":484.5462},{"$f":"K76/#REF!-1","v":{"$error":"#REF!"}},{"$f":"[1]班线包车!M51","v":516.0528},{"$f":"M76/#REF!-1","v":{"$error":"#REF!"}},{"v":2823.5746,"d":"2823.57"},{"$f":"O76/SUM(#REF!,#REF!,#REF!,#REF!,#REF!,#REF!)-1","v":{"$error":"#REF!"}}]
[null,"城际城乡公交旅客周转量（万人公里）",{"$f":"[1]公交!C62-[1]公交!C64","v":268},{"$f":"C77/#REF!-1","v":{"$error":"#REF!"}},{"$f":"[1]公交!E62-[1]公交!E64","v":275.12},{"$f":"E77/#REF!-1","v":{"$error":"#REF!"}},{"$f":"[1]公交!G62-[1]公交!G64","v":266.8599999999999},{"$f":"G77/#REF!-1","v":{"$error":"#REF!"}},{"$f":"[1]公交!I62-[1]公交!I64","v":268.26},{"$f":"I77/#REF!-1","v":{"$error":"#REF!"}},{"$f":"[1]公交!K62-[1]公交!K64","v":266.69999999999993},{"$f":"K77/#REF!-1","v":{"$error":"#REF!"}},{"$f":"[1]公交!M62-[1]公交!M64","v":262.72},{"$f":"M77/#REF!-1","v":{"$error":"#REF!"}},{"v":1607.6599999999996,"d":"1607.66"},{"$f":"O77/SUM(#REF!,#REF!,#REF!,#REF!,#REF!,#REF!)-1","v":{"$error":"#REF!"}}]
[null,"城际城乡巡游出租旅客周转量（万人公里）",{"$f":"[1]出租!C62-[1]出租!C64","v":89.77000000000004},{"$f":"C78/#REF!-1","v":{"$error":"#REF!"}},{"$f":"[1]出租!E62-[1]出租!E64","v":98.59999999999997},{"$f":"E78/#REF!-1","v":{"$error":"#REF!"}},{"$f":"[1]出租!G62-[1]出租!G64","v":94.33999999999997},{"$f":"G78/#REF!-1","v":{"$error":"#REF!"}},{"$f":"[1]出租!I62-[1]出租!I64","v":78.65000000000003},{"$f":"I78/#REF!-1","v":{"$error":"#REF!"}},{"$f":"[1]出租!K62-[1]出租!K64","v":76.00999999999999},{"$f":"K78/#REF!-1","v":{"$error":"#REF!"}},{"$f":"[1]出租!M62-[1]出租!M64","v":77.95999999999998},{"$f":"M78/#REF!-1","v":{"$error":"#REF!"}},{"v":515.3299999999999,"d":"515.33"},{"$f":"O78/SUM(#REF!,#REF!,#REF!,#REF!,#REF!,#REF!)-1","v":{"$error":"#REF!"}}]
[null,"城际城乡网约车旅客周转量(万人公里)",{"$f":"[1]网约车!C62-[1]网约车!C64","v":{"v":153.07895430899,"d":"153.08"}},{"$f":"C79/#REF!-1","v":{"$error":"#REF!"}},{"$f":"[1]网约车!E62-[1]网约车!E64","v":{"v":161.50468314842897,"d":"161.50"}},{"$f":"E79/#REF!-1","v":{"$error":"#REF!"}},{"$f":"[1]网约车!G62-[1]网约车!G64","v":{"v":150.54233499694698,"d":"150.54"}},{"$f":"G79/#REF!-1","v":{"$error":"#REF!"}},{"$f":"[1]网约车!I62-[1]网约车!I64","v":{"v":133.27221643037302,"d":"133.27"}},{"$f":"I79/#REF!-1","v":{"$error":"#REF!"}},{"$f":"[1]网约车!K62-[1]网约车!K64","v":{"v":146.09657648057896,"d":"146.10"}},{"$f":"K79/#REF!-1","v":{"$error":"#REF!"}},{"$f":"[1]网约车!M62-[1]网约车!M64","v":{"v":150.38447046418503,"d":"150.38"}},{"$f":"M79/#REF!-1","v":{"$error":"#REF!"}},{"v":894.8792358295029,"d":"894.88"},{"$f":"O79/SUM(#REF!,#REF!,#REF!,#REF!,#REF!,#REF!)-1","v":{"$error":"#REF!"}}]
["潜江市","总旅客周转量（万人公里）",{"$f":"C81+C82+C83+C84","v":{"v":2392.0330678889854,"d":"2392.03"}},{"$f":"C80/#REF!-1","v":{"$error":"#REF!"}},{"$f":"E81+E82+E83+E84","v":{"v":2347.011537954168,"d":"2347.01"}},{"$f":"E80/#REF!-1","v":{"$error":"#REF!"}},{"$f":"G81+G82+G83+G84","v":{"v":2163.530481585179,"d":"2163.53"}},{"$f":"G80/#REF!-1","v":{"$error":"#REF!"}},{"$f":"I81+I82+I83+I84","v":{"v":2165.269816317966,"d":"2165.27"}},{"$f":"I80/#REF!-1","v":{"$error":"#REF!"}},{"$f":"K81+K82+K83+K84","v":{"v":2323.90882205633,"d":"2323.91"}},{"$f":"K80/#REF!-1","v":{"$error":"#REF!"}},{"$f":"M81+M82+M83+M84","v":{"v":2380.385993345653,"d":"2380.39"}},{"$f":"M80/#REF!-1","v":{"$error":"#REF!"}},{"v":13772.139719148283,"d":"13772.14"},{"$f":"O80/SUM(#REF!,#REF!,#REF!,#REF!,#REF!,#REF!)-1","v":{"$error":"#REF!"}}]
[null,"公路班线旅客周转量（万人公里）",{"$f":"[1]班线包车!C53","v":237.4332},{"$f":"C81/#REF!-1","v":{"$error":"#REF!"}},{"$f":"[1]班线包车!E53","v":176.7706},{"$f":"E81/#REF!-1","v":{"$error":"#REF!"}},{"$f":"[1]班线包车!G53","v":172.2912},{"$f":"G81/#REF!-1","v":{"$error":"#REF!"}},{"$f":"[1]班线包车!I53","v":179.4491},{"$f":"I81/#REF!-1","v":{"$error":"#REF!"}},{"$f":"[1]班线包车!K53","v":154.2538},{"$f":"K81/#REF!-1","v":{"$error":"#REF!"}},{"$f":"[1]班线包车!M53","v":175.321},{"$f":"M81/#REF!-1","v":{"$error":"#REF!"}},{"v":1095.5188999999998,"d":"1095.52"},{"$f":"O81/SUM(#REF!,#REF!,#REF!,#REF!,#REF!,#REF!)-1","v":{"$error":"#REF!"}}]
[null,"城际城乡公交旅客周转量（万人公里）",{"$f":"[1]公交!C66-[1]公交!C68","v":1764.6299999999999},{"$f":"C82/#REF!-1","v":{"$error":"#REF!"}},{"$f":"[1]公交!E66-[1]公交!E68","v":1782.03},{"$f":"E82/#REF!-1","v":{"$error":"#REF!"}},{"$f":"[1]公交!G66-[1]公交!G68","v":1628.76},{"$f":"G82/#REF!-1","v":{"$error":"#REF!"}},{"$f":"[1]公交!I66-[1]公交!I68","v":1622.53},{"$f":"I82/#REF!-1","v":{"$error":"#REF!"}},{"$f":"[1]公交!K66-[1]公交!K68","v":1748.21},{"$f":"K82/#REF!-1","v":{"$error":"#REF!"}},{"$f":"[1]公交!M66-[1]公交!M68","v":1838.57},{"$f":"M82/#REF!-1","v":{"$error":"#REF!"}},10384.73,{"$f":"O82/SUM(#REF!,#REF!,#REF!,#REF!,#REF!,#REF!)-1","v":{"$error":"#REF!"}}]
[null,"城际城乡巡游出租旅客周转量（万人公里）",{"$f":"[1]出租!C66-[1]出租!C68","v":269.63},{"$f":"C83/#REF!-1","v":{"$error":"#REF!"}},{"$f":"[1]出租!E66-[1]出租!E68","v":265.16999999999996},{"$f":"E83/#REF!-1","v":{"$error":"#REF!"}},{"$f":"[1]出租!G66-[1]出租!G68","v":248.93000000000004},{"$f":"G83/#REF!-1","v":{"$error":"#REF!"}},{"$f":"[1]出租!I66-[1]出租!I68","v":248.16000000000003},{"$f":"I83/#REF!-1","v":{"$error":"#REF!"}},{"$f":"[1]出租!K66-[1]出租!K68","v":295.66999999999996},{"$f":"K83/#REF!-1","v":{"$error":"#REF!"}},{"$f":"[1]出租!M66-[1]出租!M68","v":247.98999999999998},{"$f":"M83/#REF!-1","v":{"$error":"#REF!"}},1575.55,{"$f":"O83/SUM(#REF!,#REF!,#REF!,#REF!,#REF!,#REF!)-1","v":{"$error":"#REF!"}}]
[null,"城际城乡网约车旅客周转量(万人公里)",{"$f":"[1]网约车!C66-[1]网约车!C68","v":{"v":120.3398678889858,"d":"120.34"}},{"$f":"C84/#REF!-1","v":{"$error":"#REF!"}},{"$f":"[1]网约车!E66-[1]网约车!E68","v":{"v":123.04093795416809,"d":"123.04"}},{"$f":"E84/#REF!-1","v":{"$error":"#REF!"}},{"$f":"[1]网约车!G66-[1]网约车!G68","v":{"v":113.5492815851794,"d":"113.55"}},{"$f":"G84/#REF!-1","v":{"$error":"#REF!"}},{"$f":"[1]网约车!I66-[1]网约车!I68","v":{"v":115.1307163179663,"d":"115.13"}},{"$f":"I84/#REF!-1","v":{"$error":"#REF!"}},{"$f":"[1]网约车!K66-[1]网约车!K68","v":{"v":125.77502205632989,"d":"125.78"}},{"$f":"K84/#REF!-1","v":{"$error":"#REF!"}},{"$f":"[1]网约车!M66-[1]网约车!M68","v":{"v":118.5049933456532,"d":"118.50"}},{"$f":"M84/#REF!-1","v":{"$error":"#REF!"}},{"v":716.3408191482828,"d":"716.34"},{"$f":"O84/SUM(#REF!,#REF!,#REF!,#REF!,#REF!,#REF!)-1","v":{"$error":"#REF!"}}]
["天门市","总旅客周转量（万人公里）",{"$f":"C86+C87+C88+C89","v":{"v":2087.4202000282,"d":"2087.42"}},{"$f":"C85/#REF!-1","v":{"$error":"#REF!"}},{"$f":"E86+E87+E88+E89","v":{"v":3033.263091459089,"d":"3033.26"}},{"$f":"E85/#REF!-1","v":{"$error":"#REF!"}},{"$f":"G86+G87+G88+G89","v":{"v":2800.3872743243937,"d":"2800.39"}},{"$f":"G85/#REF!-1","v":{"$error":"#REF!"}},{"$f":"I86+I87+I88+I89","v":{"v":3622.557132003536,"d":"3622.56"}},{"$f":"I85/#REF!-1","v":{"$error":"#REF!"}},{"$f":"K86+K87+K88+K89","v":{"v":3336.859331282977,"d":"3336.86"}},{"$f":"K85/#REF!-1","v":{"$error":"#REF!"}},{"$f":"M86+M87+M88+M89","v":{"v":3755.990724713094,"d":"3755.99"}},{"$f":"M85/#REF!-1","v":{"$error":"#REF!"}},{"v":18636.47775381129,"d":"18636.48"},{"$f":"O85/SUM(#REF!,#REF!,#REF!,#REF!,#REF!,#REF!)-1","v":{"$error":"#REF!"}}]
[null,"公路班线旅客周转量（万人公里）",{"$f":"[1]班线包车!C55","v":524.6797},{"$f":"C86/#REF!-1","v":{"$error":"#REF!"}},{"$f":"[1]班线包车!E55","v":1354.6626},{"$f":"E86/#REF!-1","v":{"$error":"#REF!"}},{"$f":"[1]班线包车!G55","v":1233.6733},{"$f":"G86/#REF!-1","v":{"$error":"#REF!"}},{"$f":"[1]班线包车!I55","v":2058.7247},{"$f":"I86/#REF!-1","v":{"$error":"#REF!"}},{"$f":"[1]班线包车!K55","v":1725.1329},{"$f":"K86/#REF!-1","v":{"$error":"#REF!"}},{"$f":"[1]班线包车!M55","v":2213.7637},{"$f":"M86/#REF!-1","v":{"$error":"#REF!"}},{"v":9110.6369,"d":"9110.64"},{"$f":"O86/SUM(#REF!,#REF!,#REF!,#REF!,#REF!,#REF!)-1","v":{"$error":"#REF!"}}]
[null,"城际城乡公交旅客周转量（万人公里）",{"$f":"[1]公交!C70-[1]公交!C72","v":1204.45},{"$f":"C87/#REF!-1","v":{"$error":"#REF!"}},{"$f":"[1]公交!E70-[1]公交!E72","v":1327.6100000000001},{"$f":"E87/#REF!-1","v":{"$error":"#REF!"}},{"$f":"[1]公交!G70-[1]公交!G72","v":1232.6},{"$f":"G87/#REF!-1","v":{"$error":"#REF!"}},{"$f":"[1]公交!I70-[1]公交!I72","v":1234.04},{"$f":"I87/#REF!-1","v":{"$error":"#REF!"}},{"$f":"[1]公交!K70-[1]公交!K72","v":1265.04},{"$f":"K87/#REF!-1","v":{"$error":"#REF!"}},{"$f":"[1]公交!M70-[1]公交!M72","v":1226.04},{"$f":"M87/#REF!-1","v":{"$error":"#REF!"}},{"v":7489.780000000001,"d":"7489.78"},{"$f":"O87/SUM(#REF!,#REF!,#REF!,#REF!,#REF!,#REF!)-1","v":{"$error":"#REF!"}}]
[null,"城际城乡巡游出租旅客周转量（万人公里）",{"$f":"[1]出租!C70-[1]出租!C72","v":197.34},{"$f":"C88/#REF!-1","v":{"$error":"#REF!"}},{"$f":"[1]出租!E70-[1]出租!E72","v":203.92},{"$f":"E88/#REF!-1","v":{"$error":"#REF!"}},{"$f":"[1]出租!G70-[1]出租!G72","v":192.93999999999997},{"$f":"G88/#REF!-1","v":{"$error":"#REF!"}},{"$f":"[1]出租!I70-[1]出租!I72","v":190.66},{"$f":"I88/#REF!-1","v":{"$error":"#REF!"}},{"$f":"[1]出租!K70-[1]出租!K72","v":196.6},{"$f":"K88/#REF!-1","v":{"$error":"#REF!"}},{"$f":"[1]出租!M70-[1]出租!M72","v":164.88},{"$f":"M88/#REF!-1","v":{"$error":"#REF!"}},1146.34,{"$f":"O88/SUM(#REF!,#REF!,#REF!,#REF!,#REF!,#REF!)-1","v":{"$error":"#REF!"}}]
[null,"城际城乡网约车旅客周转量(万人公里)",{"$f":"[1]网约车!C70-[1]网约车!C72","v":{"v":160.9505000282,"d":"160.95"}},{"$f":"C89/#REF!-1","v":{"$error":"#REF!"}},{"$f":"[1]网约车!E70-[1]网约车!E72","v":{"v":147.070491459089,"d":"147.07"}},{"$f":"E89/#REF!-1","v":{"$error":"#REF!"}},{"$f":"[1]网约车!G70-[1]网约车!G72","v":{"v":141.173974324394,"d":"141.17"}},{"$f":"G89/#REF!-1","v":{"$error":"#REF!"}},{"$f":"[1]网约车!I70-[1]网约车!I72","v":{"v":139.132432003536,"d":"139.13"}},{"$f":"I89/#REF!-1","v":{"$error":"#REF!"}},{"$f":"[1]网约车!K70-[1]网约车!K72","v":{"v":150.08643128297697,"d":"150.09"}},{"$f":"K89/#REF!-1","v":{"$error":"#REF!"}},{"$f":"[1]网约车!M70-[1]网约车!M72","v":{"v":151.30702471309402,"d":"151.31"}},{"$f":"M89/#REF!-1","v":{"$error":"#REF!"}},{"v":889.72085381129,"d":"889.72"},{"$f":"O89/SUM(#REF!,#REF!,#REF!,#REF!,#REF!,#REF!)-1","v":{"$error":"#REF!"}}]
["林区","总旅客周转量（万人公里）",{"$f":"C91+C92+C93+C94","v":{"v":320.02940598479864,"d":"320.03"}},{"$f":"C90/#REF!-1","v":{"$error":"#REF!"}},{"$f":"E91+E92+E93+E94","v":{"v":670.2639733581144,"d":"670.26"}},{"$f":"E90/#REF!-1","v":{"$error":"#REF!"}},{"$f":"G91+G92+G93+G94","v":{"v":189.36791607205777,"d":"189.37"}},{"$f":"G90/#REF!-1","v":{"$error":"#REF!"}},{"$f":"I91+I92+I93+I94","v":{"v":288.82712131589824,"d":"288.83"}},{"$f":"I90/#REF!-1","v":{"$error":"#REF!"}},{"$f":"K91+K92+K93+K94","v":{"v":345.53693568774827,"d":"345.54"}},{"$f":"K90/#REF!-1","v":{"$error":"#REF!"}},{"$f":"M91+M92+M93+M94","v":{"v":252.37433088360467,"d":"252.37"}},{"$f":"M90/#REF!-1","v":{"$error":"#REF!"}},{"v":2066.399683302222,"d":"2066.40"},{"$f":"O90/SUM(#REF!,#REF!,#REF!,#REF!,#REF!,#REF!)-1","v":{"$error":"#REF!"}}]
[null,"公路班线旅客周转量（万人公里）",{"$f":"[1]班线包车!C57","v":265.8931},{"$f":"C91/#REF!-1","v":{"$error":"#REF!"}},{"$f":"[1]班线包车!E57","v":624.3892},{"$f":"E91/#REF!-1","v":{"$error":"#REF!"}},{"$f":"[1]班线包车!G57","v":137.2869},{"$f":"G91/#REF!-1","v":{"$error":"#REF!"}},{"$f":"[1]班线包车!I57","v":237.1374},{"$f":"I91/#REF!-1","v":{"$error":"#REF!"}},{"$f":"[1]班线包车!K57","v":292.4533},{"$f":"K91/#REF!-1","v":{"$error":"#REF!"}},{"$f":"[1]班线包车!M57","v":196.8723},{"$f":"M91/#REF!-1","v":{"$error":"#REF!"}},{"v":1754.0322,"d":"1754.03"},{"$f":"O91/SUM(#REF!,#REF!,#REF!,#REF!,#REF!,#REF!)-1","v":{"$error":"#REF!"}}]
[null,"城际城乡公交旅客周转量（万人公里）",{"$f":"[1]公交!C74-[1]公交!C76","v":28.070000000000007},{"$f":"C92/#REF!-1","v":{"$error":"#REF!"}},{"$f":"[1]公交!E74-[1]公交!E76","v":20},{"$f":"E92/#REF!-1","v":{"$error":"#REF!"}},{"$f":"[1]公交!G74-[1]公交!G76","v":26},{"$f":"G92/#REF!-1","v":{"$error":"#REF!"}},{"$f":"[1]公交!I74-[1]公交!I76","v":25.599999999999994},{"$f":"I92/#REF!-1","v":{"$error":"#REF!"}},{"$f":"[1]公交!K74-[1]公交!K76","v":26.75},{"$f":"K92/#REF!-1","v":{"$error":"#REF!"}},{"$f":"[1]公交!M74-[1]公交!M76","v":28.930000000000007},{"$f":"M92/#REF!-1","v":{"$error":"#REF!"}},{"v":155.35000000000002,"d":"155.35"},{"$f":"O92/SUM(#REF!,#REF!,#REF!,#REF!,#REF!,#REF!)-1","v":{"$error":"#REF!"}}]
[null,"城际城乡巡游出租旅客周转量（万人公里）",{"$f":"[1]出租!C74-[1]出租!C76","v":25.400000000000006},{"$f":"C93/#REF!-1","v":{"$error":"#REF!"}},{"$f":"[1]出租!E74-[1]出租!E76","v":25.379999999999995},{"$f":"E93/#REF!-1","v":{"$error":"#REF!"}},{"$f":"[1]出租!G74-[1]出租!G76","v":25.389999999999993},{"$f":"G93/#REF!-1","v":{"$error":"#REF!"}},{"$f":"[1]出租!I74-[1]出租!I76","v":25.400000000000006},{"$f":"I93/#REF!-1","v":{"$error":"#REF!"}},{"$f":"[1]出租!K74-[1]出租!K76","v":25.500000000000007},{"$f":"K93/#REF!-1","v":{"$error":"#REF!"}},{"$f":"[1]出租!M74-[1]出租!M76","v":25.57},{"$f":"M93/#REF!-1","v":{"$error":"#REF!"}},152.64,{"$f":"O93/SUM(#REF!,#REF!,#REF!,#REF!,#REF!,#REF!)-1","v":{"$error":"#REF!"}}]
[null,"城际城乡网约车旅客周转量(万人公里)",{"$f":"[1]网约车!C74-[1]网约车!C76","v":{"v":0.666305984798609,"d":"0.67"}},{"$f":"C94/#REF!-1","v":{"$error":"#REF!"}},{"$f":"[1]网约车!E74-[1]网约车!E76","v":{"v":0.49477335811447,"d":"0.49"}},{"$f":"E94/#REF!-1","v":{"$error":"#REF!"}},{"$f":"[1]网约车!G74-[1]网约车!G76","v":{"v":0.691016072057778,"d":"0.69"}},{"$f":"G94/#REF!-1","v":{"$error":"#REF!"}},{"$f":"[1]网约车!I74-[1]网约车!I76","v":{"v":0.689721315898305,"d":"0.69"}},{"$f":"I94/#REF!-1","v":{"$error":"#REF!"}},{"$f":"[1]网约车!K74-[1]网约车!K76","v":{"v":0.83363568774828,"d":"0.83"}},{"$f":"K94/#REF!-1","v":{"$error":"#REF!"}},{"$f":"[1]网约车!M74-[1]网约车!M76","v":{"v":1.00203088360468,"d":"1.00"}},{"$f":"M94/#REF!-1","v":{"$error":"#REF!"}},{"v":4.377483302222123,"d":"4.38"},{"$f":"O94/SUM(#REF!,#REF!,#REF!,#REF!,#REF!,#REF!)-1","v":{"$error":"#REF!"}}]