{"text_format":"3","workbook":"xlsx","n_sheets":1,"sheets":["Sheet1"],"read":"whole","date_system":"1900"}

{"sheet":"Sheet1","index":0,"n_rows":57,"n_cols":16,"rows_kept":57,"merged":[[0,0,0,1],[1,0,2,0],[1,1,2,1],[1,2,2,2],[1,3,2,3],[1,4,2,4],[1,5,2,5],[1,6,2,6],[1,7,2,7],[1,8,2,8],[1,9,2,9],[1,10,2,10],[1,11,2,11],[1,12,2,12],[1,13,2,13],[1,14,2,14],[1,15,2,15],[3,0,6,0],[7,0,8,0],[9,0,12,0],[13,0,16,0],[17,0,20,0],[21,0,24,0],[25,0,26,0],[27,0,30,0],[31,0,34,0],[35,0,36,0],[37,0,40,0],[41,0,42,0],[43,0,46,0],[47,0,48,0],[49,0,50,0],[51,0,52,0],[53,0,54,0],[55,0,56,0]]}
["公路班线客运量"]
["地区 名称","指标","2026年1月","1月与去年同比","2026年2月","2月与去年同比","2026年3月","3月与去年同比","2026年4月","4月与去年同比","2026年5月","5月与去年同比","2026年6月","6月与去年同比","2026年累计","累计与去年同比"]
[]
["全省","客运量            （万人）",{"$f":"C8+C10+C14+C36+C18+C22+C26+C28+C38+C32+C42+C44+C48+C50+C52+C54+C56","v":{"v":1473.3801,"d":"1473.38"}},{"$f":"C4/#REF!-1","v":{"$error":"#REF!"}},{"v":1543.1715000000002,"d":"1543.17"},{"$f":"E4/#REF!-1","v":{"$error":"#REF!"}},{"v":1575.6656999999996,"d":"1575.67"},{"$f":"G4/#REF!-1","v":{"$error":"#REF!"}},{"$f":"I8+I10+I14+I36+I18+I22+I26+I28+I38+I32+I42+I44+I48+I50+I52+I54+I56","v":{"v":1662.9693,"d":"1662.97"}},{"$f":"I4/#REF!-1","v":{"$error":"#REF!"}},{"v":1699.6399000000001,"d":"1699.64"},{"$f":"K4/#REF!-1","v":{"$error":"#REF!"}},{"v":1618.5128000000004,"d":"1618.51"},{"$f":"M4/#REF!-1","v":{"$error":"#REF!"}},{"$f":"G4+E4+C4+I4+K4+M4","v":{"v":9573.3393,"d":"9573.34"}},{"$f":"O4/SUM(#REF!+#REF!+#REF!+#REF!+#REF!+#REF!)-1","v":{"$error":"#REF!"}}]
[null,"旅客周转量        （万人公里）",{"v":91471.08140000001,"d":"91471.08"},{"$f":"C5/#REF!-1","v":{"$error":"#REF!"}},{"v":110843.064818,"d":"110843.06"},{"$f":"E5/#REF!-1","v":{"$error":"#REF!"}},{"v":115505.520273,"d":"115505.52"},{"$f":"G5/#REF!-1","v":{"$error":"#REF!"}},{"v":121466.090109,"d":"121466.09"},{"$f":"I5/#REF!-1","v":{"$error":"#REF!"}},{"v":121944.20039500002,"d":"121944.20"},{"$f":"K5/#REF!-1","v":{"$error":"#REF!"}},{"v":112912.972275,"d":"112912.97"},{"$f":"M5/#REF!-1","v":{"$error":"#REF!"}},{"v":674142.92927,"d":"674142.93"},{"$f":"O5/SUM(#REF!+#REF!+#REF!+#REF!+#REF!+#REF!)-1","v":{"$error":"#REF!"}}]
[null,"其中个体客运量     （万人）",{"$f":"C12+C24+C30+C34+C40+C46","v":{"v":21.825,"d":"21.83"}},{"$f":"C6/#REF!-1","v":{"$error":"#REF!"}},{"v":21.064,"d":"21.06"},{"$f":"E6/#REF!-1","v":{"$error":"#REF!"}},{"v":20.141,"d":"20.14"},{"$f":"G6/#REF!-1","v":{"$error":"#REF!"}},{"$f":"I12+I24+I30+I34+I40+I46","v":{"v":19.5338,"d":"19.53"}},{"$f":"I6/#REF!-1","v":{"$error":"#REF!"}},{"v":19.8869,"d":"19.89"},{"$f":"K6/#REF!-1","v":{"$error":"#REF!"}},{"v":20.2908,"d":"20.29"},{"$f":"M6/#REF!-1","v":{"$error":"#REF!"}},{"v":122.7415,"d":"122.74"},{"$f":"O6/SUM(#REF!+#REF!+#REF!+#REF!+#REF!+#REF!)-1","v":{"$error":"#REF!"}}]
[null,"其中个体旅客周转量（万人公里）",{"$f":"C13+C17+C21+C25+C31+C41+C35+C47","v":{"v":584.2728,"d":"584.27"}},{"$f":"C7/#REF!-1","v":{"$error":"#REF!"}},{"v":527.405018,"d":"527.41"},{"$f":"E7/#REF!-1","v":{"$error":"#REF!"}},{"v":498.893973,"d":"498.89"},{"$f":"G7/#REF!-1","v":{"$error":"#REF!"}},{"$f":"I13+I17+I21+I25+I31+I41+I35+I47","v":{"v":484.204209,"d":"484.20"}},{"$f":"I7/#REF!-1","v":{"$error":"#REF!"}},{"v":493.894595,"d":"493.89"},{"$f":"K7/#REF!-1","v":{"$error":"#REF!"}},{"v":496.60357500000003,"d":"496.60"},{"$f":"M7/#REF!-1","v":{"$error":"#REF!"}},{"v":3085.2741699999997,"d":"3085.27"},{"$f":"O7/SUM(#REF!+#REF!+#REF!+#REF!+#REF!+#REF!)-1","v":{"$error":"#REF!"}}]
["武汉市","客运量            （万人）",323.8804,{"$f":"C8/#REF!-1","v":{"$error":"#REF!"}},236.0855,{"$f":"E8/#REF!-1","v":{"$error":"#REF!"}},326.996,{"$f":"G8/#REF!-1","v":{"$error":"#REF!"}},335.787,{"$f":"I8/#REF!-1","v":{"$error":"#REF!"}},327.5977,{"$f":"K8/#REF!-1","v":{"$error":"#REF!"}},341.1759,{"$f":"M8/#REF!-1","v":{"$error":"#REF!"}},{"v":1891.5225,"d":"1891.52"},{"$f":"O8/SUM(#REF!+#REF!+#REF!+#REF!+#REF!+#REF!)-1","v":{"$error":"#REF!"}}]
[null,"旅客周转量        （万人公里）",15634.2955,{"$f":"C9/#REF!-1","v":{"$error":"#REF!"}},13762.8961,{"$f":"E9/#REF!-1","v":{"$error":"#REF!"}},18904.2637,{"$f":"G9/#REF!-1","v":{"$error":"#REF!"}},21448.6084,{"$f":"I9/#REF!-1","v":{"$error":"#REF!"}},20903.5122,{"$f":"K9/#REF!-1","v":{"$error":"#REF!"}},19301.074,{"$f":"M9/#REF!-1","v":{"$error":"#REF!"}},{"v":109954.64989999999,"d":"109954.65"},{"$f":"O9/SUM(#REF!+#REF!+#REF!+#REF!+#REF!+#REF!)-1","v":{"$error":"#REF!"}}]
["黄石市","客运量            （万人）",75.4816,{"$f":"C10/#REF!-1","v":{"$error":"#REF!"}},84.6235,{"$f":"E10/#REF!-1","v":{"$error":"#REF!"}},79.3692,{"$f":"G10/#REF!-1","v":{"$error":"#REF!"}},78.3745,{"$f":"I10/#REF!-1","v":{"$error":"#REF!"}},75.5822,{"$f":"K10/#REF!-1","v":{"$error":"#REF!"}},74.7909,{"$f":"M10/#REF!-1","v":{"$error":"#REF!"}},{"v":468.2219,"d":"468.22"},{"$f":"O10/SUM(#REF!+#REF!+#REF!+#REF!+#REF!+#REF!)-1","v":{"$error":"#REF!"}}]
[null,"旅客周转量        （万人公里）",2072.6875,{"$f":"C11/#REF!-1","v":{"$error":"#REF!"}},2381.0712,{"$f":"E11/#REF!-1","v":{"$error":"#REF!"}},2528.9262,{"$f":"G11/#REF!-1","v":{"$error":"#REF!"}},2913.672,{"$f":"I11/#REF!-1","v":{"$error":"#REF!"}},2547.6156,{"$f":"K11/#REF!-1","v":{"$error":"#REF!"}},2470.4711,{"$f":"M11/#REF!-1","v":{"$error":"#REF!"}},{"v":14914.4436,"d":"14914.44"},{"$f":"O11/SUM(#REF!+#REF!+#REF!+#REF!+#REF!+#REF!)-1","v":{"$error":"#REF!"}}]
[null,"其中个体客运量     （万人）",{"v":0.4467,"d":"0.45"},{"$f":"C12/#REF!-1","v":{"$error":"#REF!"}},0.4823,{"$f":"E12/#REF!-1","v":{"$error":"#REF!"}},0.4978,{"$f":"G12/#REF!-1","v":{"$error":"#REF!"}},0.4917,{"$f":"I12/#REF!-1","v":{"$error":"#REF!"}},0.4937,{"$f":"K12/#REF!-1","v":{"$error":"#REF!"}},0.4869,{"$f":"M12/#REF!-1","v":{"$error":"#REF!"}},{"v":2.8991000000000002,"d":"2.90"},{"$f":"O12/SUM(#REF!+#REF!+#REF!+#REF!+#REF!+#REF!)-1","v":{"$error":"#REF!"}}]
[null,"其中个体旅客周转量（万人公里）",{"v":4.9843,"d":"4.98"},{"$f":"C13/#REF!-1","v":{"$error":"#REF!"}},5.2579,{"$f":"E13/#REF!-1","v":{"$error":"#REF!"}},5.3201,{"$f":"G13/#REF!-1","v":{"$error":"#REF!"}},5.2381,{"$f":"I13/#REF!-1","v":{"$error":"#REF!"}},5.2894,{"$f":"K13/#REF!-1","v":{"$error":"#REF!"}},5.1518,{"$f":"M13/#REF!-1","v":{"$error":"#REF!"}},{"v":31.2416,"d":"31.24"},{"$f":"O13/SUM(#REF!+#REF!+#REF!+#REF!+#REF!+#REF!)-1","v":{"$error":"#REF!"}}]
["十堰市","客运量            （万人）",44.2561,{"$f":"C14/#REF!-1","v":{"$error":"#REF!"}},64.7578,{"$f":"E14/#REF!-1","v":{"$error":"#REF!"}},60.4028,{"$f":"G14/#REF!-1","v":{"$error":"#REF!"}},68.256,{"$f":"I14/#REF!-1","v":{"$error":"#REF!"}},66.0753,{"$f":"K14/#REF!-1","v":{"$error":"#REF!"}},57.5147,{"$f":"M14/#REF!-1","v":{"$error":"#REF!"}},{"v":361.2627,"d":"361.26"},{"$f":"O14/SUM(#REF!+#REF!+#REF!+#REF!+#REF!+#REF!)-1","v":{"$error":"#REF!"}}]
[null,"旅客周转量        （万人公里）",4442.6528,{"$f":"C15/#REF!-1","v":{"$error":"#REF!"}},6222.1126,{"$f":"E15/#REF!-1","v":{"$error":"#REF!"}},5800.6944,{"$f":"G15/#REF!-1","v":{"$error":"#REF!"}},6318.1348,{"$f":"I15/#REF!-1","v":{"$error":"#REF!"}},6328.6093,{"$f":"K15/#REF!-1","v":{"$error":"#REF!"}},5538.8125,{"$f":"M15/#REF!-1","v":{"$error":"#REF!"}},{"v":34651.0164,"d":"34651.02"},{"$f":"O15/SUM(#REF!+#REF!+#REF!+#REF!+#REF!+#REF!)-1","v":{"$error":"#REF!"}}]
[null,"其中个体客运量     （万人）",{"$nulls":12},{"v":0,"d":"0.00"},{"$f":"O16/SUM(#REF!+#REF!+#REF!+#REF!+#REF!+#REF!)-1","v":{"$error":"#REF!"}}]
[null,"其中个体旅客周转量（万人公里）",{"$nulls":12},{"v":0,"d":"0.00"},{"$f":"O17/SUM(#REF!+#REF!+#REF!+#REF!+#REF!+#REF!)-1","v":{"$error":"#REF!"}}]
["宜昌市","客运量            （万人）",178.5701,{"$f":"C18/#REF!-1","v":{"$error":"#REF!"}},215.5515,{"$f":"E18/#REF!-1","v":{"$error":"#REF!"}},211.3526,{"$f":"G18/#REF!-1","v":{"$error":"#REF!"}},243.5999,{"$f":"I18/#REF!-1","v":{"$error":"#REF!"}},277.3764,{"$f":"K18/#REF!-1","v":{"$error":"#REF!"}},250.6952,{"$f":"M18/#REF!-1","v":{"$error":"#REF!"}},{"v":1377.1457,"d":"1377.15"},{"$f":"O18/SUM(#REF!+#REF!+#REF!+#REF!+#REF!+#REF!)-1","v":{"$error":"#REF!"}}]
[null,"旅客周转量        （万人公里）",12032.7491,{"$f":"C19/#REF!-1","v":{"$error":"#REF!"}},14351.0886,{"$f":"E19/#REF!-1","v":{"$error":"#REF!"}},14986.0133,{"$f":"G19/#REF!-1","v":{"$error":"#REF!"}},17342.3056,{"$f":"I19/#REF!-1","v":{"$error":"#REF!"}},19384.3163,{"$f":"K19/#REF!-1","v":{"$error":"#REF!"}},18766.1584,{"$f":"M19/#REF!-1","v":{"$error":"#REF!"}},{"v":96862.6313,"d":"96862.63"},{"$f":"O19/SUM(#REF!+#REF!+#REF!+#REF!+#REF!+#REF!)-1","v":{"$error":"#REF!"}}]
[null,"其中个体客运量     （万人）",{"$nulls":12},{"v":0,"d":"0.00"},{"$f":"O20/SUM(#REF!+#REF!+#REF!+#REF!+#REF!+#REF!)-1","v":{"$error":"#REF!"}}]
[null,"其中个体旅客周转量（万人公里）",{"$nulls":12},{"v":0,"d":"0.00"},{"$f":"O21/SUM(#REF!+#REF!+#REF!+#REF!+#REF!+#REF!)-1","v":{"$error":"#REF!"}}]
["襄阳市","客运量            （万人）",103.0089,{"$f":"C22/#REF!-1","v":{"$error":"#REF!"}},126.6864,{"$f":"E22/#REF!-1","v":{"$error":"#REF!"}},116.5618,{"$f":"G22/#REF!-1","v":{"$error":"#REF!"}},121.936,{"$f":"I22/#REF!-1","v":{"$error":"#REF!"}},120.2889,{"$f":"K22/#REF!-1","v":{"$error":"#REF!"}},113.3073,{"$f":"M22/#REF!-1","v":{"$error":"#REF!"}},{"v":701.7892999999999,"d":"701.79"},{"$f":"O22/SUM(#REF!+#REF!+#REF!+#REF!+#REF!+#REF!)-1","v":{"$error":"#REF!"}}]
[null,"旅客周转量        （万人公里）",10120.8517,{"$f":"C23/#REF!-1","v":{"$error":"#REF!"}},16615.7551,{"$f":"E23/#REF!-1","v":{"$error":"#REF!"}},15869.8464,{"$f":"G23/#REF!-1","v":{"$error":"#REF!"}},14345.6508,{"$f":"I23/#REF!-1","v":{"$error":"#REF!"}},14014.5296,{"$f":"K23/#REF!-1","v":{"$error":"#REF!"}},11627.7753,{"$f":"M23/#REF!-1","v":{"$error":"#REF!"}},{"v":82594.40889999998,"d":"82594.41"},{"$f":"O23/SUM(#REF!+#REF!+#REF!+#REF!+#REF!+#REF!)-1","v":{"$error":"#REF!"}}]
[null,"其中个体客运量     （万人）",{"v":2.489,"d":"2.49"},{"$f":"C24/#REF!-1","v":{"$error":"#REF!"}},2.6698,{"$f":"E24/#REF!-1","v":{"$error":"#REF!"}},2.4174,{"$f":"G24/#REF!-1","v":{"$error":"#REF!"}},2.2694,{"$f":"I24/#REF!-1","v":{"$error":"#REF!"}},2.2832,{"$f":"K24/#REF!-1","v":{"$error":"#REF!"}},2.7015,{"$f":"M24/#REF!-1","v":{"$error":"#REF!"}},{"v":14.830300000000001,"d":"14.83"},{"$f":"O24/SUM(#REF!+#REF!+#REF!+#REF!+#REF!+#REF!)-1","v":{"$error":"#REF!"}}]
[null,"其中个体旅客周转量（万人公里）",{"v":57.3524,"d":"57.35"},{"$f":"C25/#REF!-1","v":{"$error":"#REF!"}},60.8606,{"$f":"E25/#REF!-1","v":{"$error":"#REF!"}},55.2767,{"$f":"G25/#REF!-1","v":{"$error":"#REF!"}},51.9476,{"$f":"I25/#REF!-1","v":{"$error":"#REF!"}},51.8758,{"$f":"K25/#REF!-1","v":{"$error":"#REF!"}},57.4551,{"$f":"M25/#REF!-1","v":{"$error":"#REF!"}},{"v":334.7682,"d":"334.77"},{"$f":"O25/SUM(#REF!+#REF!+#REF!+#REF!+#REF!+#REF!)-1","v":{"$error":"#REF!"}}]
["鄂州市","客运量            （万人）",58.6181,{"$f":"C26/#REF!-1","v":{"$error":"#REF!"}},51.2609,{"$f":"E26/#REF!-1","v":{"$error":"#REF!"}},51.4017,{"$f":"G26/#REF!-1","v":{"$error":"#REF!"}},51.5443,{"$f":"I26/#REF!-1","v":{"$error":"#REF!"}},51.6972,{"$f":"K26/#REF!-1","v":{"$error":"#REF!"}},50.2205,{"$f":"M26/#REF!-1","v":{"$error":"#REF!"}},{"v":314.7427,"d":"314.74"},{"$f":"O26/SUM(#REF!+#REF!+#REF!+#REF!+#REF!+#REF!)-1","v":{"$error":"#REF!"}}]
[null,"旅客周转量        （万人公里）",2574.3453,{"$f":"C27/#REF!-1","v":{"$error":"#REF!"}},2270.4778,{"$f":"E27/#REF!-1","v":{"$error":"#REF!"}},2312.8897,{"$f":"G27/#REF!-1","v":{"$error":"#REF!"}},2341.8271,{"$f":"I27/#REF!-1","v":{"$error":"#REF!"}},2329.9036,{"$f":"K27/#REF!-1","v":{"$error":"#REF!"}},2252.8378,{"$f":"M27/#REF!-1","v":{"$error":"#REF!"}},{"v":14082.281299999999,"d":"14082.28"},{"$f":"O27/SUM(#REF!+#REF!+#REF!+#REF!+#REF!+#REF!)-1","v":{"$error":"#REF!"}}]
["荆门市","客运量            （万人）",39.055,{"$f":"C28/#REF!-1","v":{"$error":"#REF!"}},40.8426,{"$f":"E28/#REF!-1","v":{"$error":"#REF!"}},40.7877,{"$f":"G28/#REF!-1","v":{"$error":"#REF!"}},41.5487,{"$f":"I28/#REF!-1","v":{"$error":"#REF!"}},41.3523,{"$f":"K28/#REF!-1","v":{"$error":"#REF!"}},35.2665,{"$f":"M28/#REF!-1","v":{"$error":"#REF!"}},{"v":238.8528,"d":"238.85"},{"$f":"O28/SUM(#REF!+#REF!+#REF!+#REF!+#REF!+#REF!)-1","v":{"$error":"#REF!"}}]
[null,"旅客周转量        （万人公里）",2914.7385,{"$f":"C29/#REF!-1","v":{"$error":"#REF!"}},3370.793718,{"$f":"E29/#REF!-1","v":{"$error":"#REF!"}},3406.832473,{"$f":"G29/#REF!-1","v":{"$error":"#REF!"}},3476.813709,{"$f":"I29/#REF!-1","v":{"$error":"#REF!"}},3514.446795,{"$f":"K29/#REF!-1","v":{"$error":"#REF!"}},3038.760275,{"$f":"M29/#REF!-1","v":{"$error":"#REF!"}},{"v":19722.38547,"d":"19722.39"},{"$f":"O29/SUM(#REF!+#REF!+#REF!+#REF!+#REF!+#REF!)-1","v":{"$error":"#REF!"}}]
[null,"其中个体客运量     （万人）",{"v":0.0976,"d":"0.10"},{"$f":"C30/#REF!-1","v":{"$error":"#REF!"}},0.0712,{"$f":"E30/#REF!-1","v":{"$error":"#REF!"}},0.0872,{"$f":"G30/#REF!-1","v":{"$error":"#REF!"}},0.0945,{"$f":"I30/#REF!-1","v":{"$error":"#REF!"}},0.1012,{"$f":"K30/#REF!-1","v":{"$error":"#REF!"}},0.0937,{"$f":"M30/#REF!-1","v":{"$error":"#REF!"}},{"v":0.5454000000000001,"d":"0.55"},{"$f":"O30/SUM(#REF!+#REF!+#REF!+#REF!+#REF!+#REF!)-1","v":{"$error":"#REF!"}}]
[null,"其中个体旅客周转量（万人公里）",{"v":2.5782,"d":"2.58"},{"$f":"C31/#REF!-1","v":{"$error":"#REF!"}},1.880818,{"$f":"E31/#REF!-1","v":{"$error":"#REF!"}},2.303473,{"$f":"G31/#REF!-1","v":{"$error":"#REF!"}},2.496309,{"$f":"I31/#REF!-1","v":{"$error":"#REF!"}},2.673295,{"$f":"K31/#REF!-1","v":{"$error":"#REF!"}},2.475175,{"$f":"M31/#REF!-1","v":{"$error":"#REF!"}},{"v":14.40727,"d":"14.41"},{"$f":"O31/SUM(#REF!+#REF!+#REF!+#REF!+#REF!+#REF!)-1","v":{"$error":"#REF!"}}]
["孝感市","客运量            （万人）",59.3255,{"$f":"C32/#REF!-1","v":{"$error":"#REF!"}},60.7363,{"$f":"E32/#REF!-1","v":{"$error":"#REF!"}},56.7931,{"$f":"G32/#REF!-1","v":{"$error":"#REF!"}},61.8497,{"$f":"I32/#REF!-1","v":{"$error":"#REF!"}},62.0998,{"$f":"K32/#REF!-1","v":{"$error":"#REF!"}},62.8884,{"$f":"M32/#REF!-1","v":{"$error":"#REF!"}},{"v":363.69280000000003,"d":"363.69"},{"$f":"O32/SUM(#REF!+#REF!+#REF!+#REF!+#REF!+#REF!)-1","v":{"$error":"#REF!"}}]
[null,"旅客周转量        （万人公里）",2820.2439,{"$f":"C33/#REF!-1","v":{"$error":"#REF!"}},2880.7429,{"$f":"E33/#REF!-1","v":{"$error":"#REF!"}},3223.1066,{"$f":"G33/#REF!-1","v":{"$error":"#REF!"}},3740.0259,{"$f":"I33/#REF!-1","v":{"$error":"#REF!"}},3834.7599,{"$f":"K33/#REF!-1","v":{"$error":"#REF!"}},4215.6505,{"$f":"M33/#REF!-1","v":{"$error":"#REF!"}},{"v":20714.5297,"d":"20714.53"},{"$f":"O33/SUM(#REF!+#REF!+#REF!+#REF!+#REF!+#REF!)-1","v":{"$error":"#REF!"}}]
[null,"其中个体客运量     （万人）",{"v":2.3455,"d":"2.35"},{"$f":"C34/#REF!-1","v":{"$error":"#REF!"}},2.41,{"$f":"E34/#REF!-1","v":{"$error":"#REF!"}},2.159,{"$f":"G34/#REF!-1","v":{"$error":"#REF!"}},2.0569,{"$f":"I34/#REF!-1","v":{"$error":"#REF!"}},2.0727,{"$f":"K34/#REF!-1","v":{"$error":"#REF!"}},2.3384,{"$f":"M34/#REF!-1","v":{"$error":"#REF!"}},{"v":13.3825,"d":"13.38"},{"$f":"O34/SUM(#REF!+#REF!+#REF!+#REF!+#REF!+#REF!)-1","v":{"$error":"#REF!"}}]
[null,"其中个体旅客周转量（万人公里）",{"v":51.1698,"d":"51.17"},{"$f":"C35/#REF!-1","v":{"$error":"#REF!"}},53.2252,{"$f":"E35/#REF!-1","v":{"$error":"#REF!"}},43.9387,{"$f":"G35/#REF!-1","v":{"$error":"#REF!"}},41.1799,{"$f":"I35/#REF!-1","v":{"$error":"#REF!"}},41.8882,{"$f":"K35/#REF!-1","v":{"$error":"#REF!"}},49.6743,{"$f":"M35/#REF!-1","v":{"$error":"#REF!"}},{"v":281.0761,"d":"281.08"},{"$f":"O35/SUM(#REF!+#REF!+#REF!+#REF!+#REF!+#REF!)-1","v":{"$error":"#REF!"}}]
["荆州市","客运量            （万人）",133.6683,{"$f":"C36/#REF!-1","v":{"$error":"#REF!"}},143.6103,{"$f":"E36/#REF!-1","v":{"$error":"#REF!"}},139.5382,{"$f":"G36/#REF!-1","v":{"$error":"#REF!"}},141.171,{"$f":"I36/#REF!-1","v":{"$error":"#REF!"}},140.9257,{"$f":"K36/#REF!-1","v":{"$error":"#REF!"}},134.7257,{"$f":"M36/#REF!-1","v":{"$error":"#REF!"}},{"v":833.6392,"d":"833.64"},{"$f":"O36/SUM(#REF!+#REF!+#REF!+#REF!+#REF!+#REF!)-1","v":{"$error":"#REF!"}}]
[null,"旅客周转量        （万人公里）",8460.3268,{"$f":"C37/#REF!-1","v":{"$error":"#REF!"}},10893.6835,{"$f":"E37/#REF!-1","v":{"$error":"#REF!"}},10915.655,{"$f":"G37/#REF!-1","v":{"$error":"#REF!"}},9181.1169,{"$f":"I37/#REF!-1","v":{"$error":"#REF!"}},9903.441,{"$f":"K37/#REF!-1","v":{"$error":"#REF!"}},9184.0432,{"$f":"M37/#REF!-1","v":{"$error":"#REF!"}},{"v":58538.2664,"d":"58538.27"},{"$f":"O37/SUM(#REF!+#REF!+#REF!+#REF!+#REF!+#REF!)-1","v":{"$error":"#REF!"}}]
["黄冈市","客运量            （万人）",136.7024,{"$f":"C38/#REF!-1","v":{"$error":"#REF!"}},146.6421,{"$f":"E38/#REF!-1","v":{"$error":"#REF!"}},136.5708,{"$f":"G38/#REF!-1","v":{"$error":"#REF!"}},136.3122,{"$f":"I38/#REF!-1","v":{"$error":"#REF!"}},142.7334,{"$f":"K38/#REF!-1","v":{"$error":"#REF!"}},133.5838,{"$f":"M38/#REF!-1","v":{"$error":"#REF!"}},{"v":832.5446999999999,"d":"832.54"},{"$f":"O38/SUM(#REF!+#REF!+#REF!+#REF!+#REF!+#REF!)-1","v":{"$error":"#REF!"}}]
[null,"旅客周转量        （万人公里）",7888.0719,{"$f":"C39/#REF!-1","v":{"$error":"#REF!"}},9890.8954,{"$f":"E39/#REF!-1","v":{"$error":"#REF!"}},9258.3636,{"$f":"G39/#REF!-1","v":{"$error":"#REF!"}},9236.1468,{"$f":"I39/#REF!-1","v":{"$error":"#REF!"}},9544.8729,{"$f":"K39/#REF!-1","v":{"$error":"#REF!"}},9053.128,{"$f":"M39/#REF!-1","v":{"$error":"#REF!"}},{"v":54871.4786,"d":"54871.48"},{"$f":"O39/SUM(#REF!+#REF!+#REF!+#REF!+#REF!+#REF!)-1","v":{"$error":"#REF!"}}]
[null,"其中个体客运量     （万人）",{"v":3.6318,"d":"3.63"},{"$f":"C40/#REF!-1","v":{"$error":"#REF!"}},1.8462,{"$f":"E40/#REF!-1","v":{"$error":"#REF!"}},1.1319,{"$f":"G40/#REF!-1","v":{"$error":"#REF!"}},0.9238,{"$f":"I40/#REF!-1","v":{"$error":"#REF!"}},1.0415,{"$f":"K40/#REF!-1","v":{"$error":"#REF!"}},0.9698,{"$f":"M40/#REF!-1","v":{"$error":"#REF!"}},{"v":9.544999999999998,"d":"9.55"},{"$f":"O40/SUM(#REF!+#REF!+#REF!+#REF!+#REF!+#REF!)-1","v":{"$error":"#REF!"}}]
[null,"其中个体旅客周转量（万人公里）",{"v":139.6202,"d":"139.62"},{"$f":"C41/#REF!-1","v":{"$error":"#REF!"}},54.9222,{"$f":"E41/#REF!-1","v":{"$error":"#REF!"}},34.3465,{"$f":"G41/#REF!-1","v":{"$error":"#REF!"}},30.2418,{"$f":"I41/#REF!-1","v":{"$error":"#REF!"}},34.0819,{"$f":"K41/#REF!-1","v":{"$error":"#REF!"}},28.8824,{"$f":"M41/#REF!-1","v":{"$error":"#REF!"}},{"v":322.095,"d":"322.10"},{"$f":"O41/SUM(#REF!+#REF!+#REF!+#REF!+#REF!+#REF!)-1","v":{"$error":"#REF!"}}]
["咸宁市","客运量            （万人）",39.3094,{"$f":"C42/#REF!-1","v":{"$error":"#REF!"}},56.4335,{"$f":"E42/#REF!-1","v":{"$error":"#REF!"}},56.8116,{"$f":"G42/#REF!-1","v":{"$error":"#REF!"}},58.6924,{"$f":"I42/#REF!-1","v":{"$error":"#REF!"}},58.0517,{"$f":"K42/#REF!-1","v":{"$error":"#REF!"}},52.6658,{"$f":"M42/#REF!-1","v":{"$error":"#REF!"}},{"v":321.9644,"d":"321.96"},{"$f":"O42/SUM(#REF!+#REF!+#REF!+#REF!+#REF!+#REF!)-1","v":{"$error":"#REF!"}}]
[null,"旅客周转量        （万人公里）",4330.6841,{"$f":"C43/#REF!-1","v":{"$error":"#REF!"}},5973.8076,{"$f":"E43/#REF!-1","v":{"$error":"#REF!"}},6126.3787,{"$f":"G43/#REF!-1","v":{"$error":"#REF!"}},6709.8015,{"$f":"I43/#REF!-1","v":{"$error":"#REF!"}},6422.9636,{"$f":"K43/#REF!-1","v":{"$error":"#REF!"}},5719.9664,{"$f":"M43/#REF!-1","v":{"$error":"#REF!"}},{"v":35283.6019,"d":"35283.60"},{"$f":"O43/SUM(#REF!+#REF!+#REF!+#REF!+#REF!+#REF!)-1","v":{"$error":"#REF!"}}]
["随州市","客运量            （万人）",114.3916,{"$f":"C44/#REF!-1","v":{"$error":"#REF!"}},120.983,{"$f":"E44/#REF!-1","v":{"$error":"#REF!"}},119.5115,{"$f":"G44/#REF!-1","v":{"$error":"#REF!"}},120.3786,{"$f":"I44/#REF!-1","v":{"$error":"#REF!"}},122.8015,{"$f":"K44/#REF!-1","v":{"$error":"#REF!"}},121.1953,{"$f":"M44/#REF!-1","v":{"$error":"#REF!"}},{"v":719.2615,"d":"719.26"},{"$f":"O44/SUM(#REF!+#REF!+#REF!+#REF!+#REF!+#REF!)-1","v":{"$error":"#REF!"}}]
[null,"旅客周转量        （万人公里）",6018.7633,{"$f":"C45/#REF!-1","v":{"$error":"#REF!"}},6370.467,{"$f":"E45/#REF!-1","v":{"$error":"#REF!"}},6382.2507,{"$f":"G45/#REF!-1","v":{"$error":"#REF!"}},6638.9771,{"$f":"I45/#REF!-1","v":{"$error":"#REF!"}},6644.3877,{"$f":"K45/#REF!-1","v":{"$error":"#REF!"}},6426.1171,{"$f":"M45/#REF!-1","v":{"$error":"#REF!"}},{"v":38480.9629,"d":"38480.96"},{"$f":"O45/SUM(#REF!+#REF!+#REF!+#REF!+#REF!+#REF!)-1","v":{"$error":"#REF!"}}]
[null,"其中个体客运量     （万人）",{"v":12.8144,"d":"12.81"},{"$f":"C46/#REF!-1","v":{"$error":"#REF!"}},13.5845,{"$f":"E46/#REF!-1","v":{"$error":"#REF!"}},13.8477,{"$f":"G46/#REF!-1","v":{"$error":"#REF!"}},13.6975,{"$f":"I46/#REF!-1","v":{"$error":"#REF!"}},13.8946,{"$f":"K46/#REF!-1","v":{"$error":"#REF!"}},13.7005,{"$f":"M46/#REF!-1","v":{"$error":"#REF!"}},{"v":81.53920000000001,"d":"81.54"},{"$f":"O46/SUM(#REF!+#REF!+#REF!+#REF!+#REF!+#REF!)-1","v":{"$error":"#REF!"}}]
[null,"其中个体旅客周转量（万人公里）",{"v":328.5679,"d":"328.57"},{"$f":"C47/#REF!-1","v":{"$error":"#REF!"}},351.2583,{"$f":"E47/#REF!-1","v":{"$error":"#REF!"}},357.7085,{"$f":"G47/#REF!-1","v":{"$error":"#REF!"}},353.1005,{"$f":"I47/#REF!-1","v":{"$error":"#REF!"}},358.086,{"$f":"K47/#REF!-1","v":{"$error":"#REF!"}},352.9648,{"$f":"M47/#REF!-1","v":{"$error":"#REF!"}},{"v":2101.686,"d":"2101.69"},{"$f":"O47/SUM(#REF!+#REF!+#REF!+#REF!+#REF!+#REF!)-1","v":{"$error":"#REF!"}}]
["恩施州","客运量            （万人）",146.7156,{"$f":"C48/#REF!-1","v":{"$error":"#REF!"}},164.4127,{"$f":"E48/#REF!-1","v":{"$error":"#REF!"}},162.0982,{"$f":"G48/#REF!-1","v":{"$error":"#REF!"}},182.7013,{"$f":"I48/#REF!-1","v":{"$error":"#REF!"}},190.2239,{"$f":"K48/#REF!-1","v":{"$error":"#REF!"}},170.9711,{"$f":"M48/#REF!-1","v":{"$error":"#REF!"}},{"v":1017.1227999999999,"d":"1017.12"},{"$f":"O48/SUM(#REF!+#REF!+#REF!+#REF!+#REF!+#REF!)-1","v":{"$error":"#REF!"}}]
[null,"旅客周转量        （万人公里）",10684.8007,{"$f":"C49/#REF!-1","v":{"$error":"#REF!"}},13255.0026,{"$f":"E49/#REF!-1","v":{"$error":"#REF!"}},13786.1171,{"$f":"G49/#REF!-1","v":{"$error":"#REF!"}},14831.9663,{"$f":"I49/#REF!-1","v":{"$error":"#REF!"}},13914.4557,{"$f":"K49/#REF!-1","v":{"$error":"#REF!"}},12216.1679,{"$f":"M49/#REF!-1","v":{"$error":"#REF!"}},{"v":78688.51030000001,"d":"78688.51"},{"$f":"O49/SUM(#REF!+#REF!+#REF!+#REF!+#REF!+#REF!)-1","v":{"$error":"#REF!"}}]
["仙桃市","客运量            （万人）",9.2372,{"$f":"C50/#REF!-1","v":{"$error":"#REF!"}},9.1901,{"$f":"E50/#REF!-1","v":{"$error":"#REF!"}},9.1723,{"$f":"G50/#REF!-1","v":{"$error":"#REF!"}},9.1413,{"$f":"I50/#REF!-1","v":{"$error":"#REF!"}},9.3403,{"$f":"K50/#REF!-1","v":{"$error":"#REF!"}},9.9419,{"$f":"M50/#REF!-1","v":{"$error":"#REF!"}},{"v":56.0231,"d":"56.02"},{"$f":"O50/SUM(#REF!+#REF!+#REF!+#REF!+#REF!+#REF!)-1","v":{"$error":"#REF!"}}]
[null,"旅客周转量        （万人公里）",447.8643,{"$f":"C51/#REF!-1","v":{"$error":"#REF!"}},448.4483,{"$f":"E51/#REF!-1","v":{"$error":"#REF!"}},460.931,{"$f":"G51/#REF!-1","v":{"$error":"#REF!"}},465.732,{"$f":"I51/#REF!-1","v":{"$error":"#REF!"}},484.5462,{"$f":"K51/#REF!-1","v":{"$error":"#REF!"}},516.0528,{"$f":"M51/#REF!-1","v":{"$error":"#REF!"}},{"v":2823.5746,"d":"2823.57"},{"$f":"O51/SUM(#REF!+#REF!+#REF!+#REF!+#REF!+#REF!)-1","v":{"$error":"#REF!"}}]
["潜江市","客运量            （万人）",2.2826,{"$f":"C52/#REF!-1","v":{"$error":"#REF!"}},2.1525,{"$f":"E52/#REF!-1","v":{"$error":"#REF!"}},2.2929,{"$f":"G52/#REF!-1","v":{"$error":"#REF!"}},2.26,{"$f":"I52/#REF!-1","v":{"$error":"#REF!"}},2.0421,{"$f":"K52/#REF!-1","v":{"$error":"#REF!"}},2.0576,{"$f":"M52/#REF!-1","v":{"$error":"#REF!"}},{"v":13.087699999999998,"d":"13.09"},{"$f":"O52/SUM(#REF!+#REF!+#REF!+#REF!+#REF!+#REF!)-1","v":{"$error":"#REF!"}}]
[null,"旅客周转量        （万人公里）",237.4332,{"$f":"C53/#REF!-1","v":{"$error":"#REF!"}},176.7706,{"$f":"E53/#REF!-1","v":{"$error":"#REF!"}},172.2912,{"$f":"G53/#REF!-1","v":{"$error":"#REF!"}},179.4491,{"$f":"I53/#REF!-1","v":{"$error":"#REF!"}},154.2538,{"$f":"K53/#REF!-1","v":{"$error":"#REF!"}},175.321,{"$f":"M53/#REF!-1","v":{"$error":"#REF!"}},{"v":1095.5188999999998,"d":"1095.52"},{"$f":"O53/SUM(#REF!+#REF!+#REF!+#REF!+#REF!+#REF!)-1","v":{"$error":"#REF!"}}]
["天门市","客运量            （万人）",3.0068,{"$f":"C54/#REF!-1","v":{"$error":"#REF!"}},3.7154,{"$f":"E54/#REF!-1","v":{"$error":"#REF!"}},3.4623,{"$f":"G54/#REF!-1","v":{"$error":"#REF!"}},4.4253,{"$f":"I54/#REF!-1","v":{"$error":"#REF!"}},4.3403,{"$f":"K54/#REF!-1","v":{"$error":"#REF!"}},4.3662,{"$f":"M54/#REF!-1","v":{"$error":"#REF!"}},{"v":23.3163,"d":"23.32"},{"$f":"O54/SUM(#REF!+#REF!+#REF!+#REF!+#REF!+#REF!)-1","v":{"$error":"#REF!"}}]
[null,"旅客周转量        （万人公里）",524.6797,{"$f":"C55/#REF!-1","v":{"$error":"#REF!"}},1354.6626,{"$f":"E55/#REF!-1","v":{"$error":"#REF!"}},1233.6733,{"$f":"G55/#REF!-1","v":{"$error":"#REF!"}},2058.7247,{"$f":"I55/#REF!-1","v":{"$error":"#REF!"}},1725.1329,{"$f":"K55/#REF!-1","v":{"$error":"#REF!"}},2213.7637,{"$f":"M55/#REF!-1","v":{"$error":"#REF!"}},{"v":9110.6369,"d":"9110.64"},{"$f":"O55/SUM(#REF!+#REF!+#REF!+#REF!+#REF!+#REF!)-1","v":{"$error":"#REF!"}}]
["林区","客运量            （万人）",5.8705,{"$f":"C56/#REF!-1","v":{"$error":"#REF!"}},15.4874,{"$f":"E56/#REF!-1","v":{"$error":"#REF!"}},2.543,{"$f":"G56/#REF!-1","v":{"$error":"#REF!"}},4.9911,{"$f":"I56/#REF!-1","v":{"$error":"#REF!"}},7.1112,{"$f":"K56/#REF!-1","v":{"$error":"#REF!"}},3.146,{"$f":"M56/#REF!-1","v":{"$error":"#REF!"}},{"v":39.1492,"d":"39.15"},{"$f":"O56/SUM(#REF!+#REF!+#REF!+#REF!+#REF!+#REF!)-1","v":{"$error":"#REF!"}}]
[null,"旅客周转量        （万人公里）",265.8931,{"$f":"C57/#REF!-1","v":{"$error":"#REF!"}},624.3892,{"$f":"E57/#REF!-1","v":{"$error":"#REF!"}},137.2869,{"$f":"G57/#REF!-1","v":{"$error":"#REF!"}},237.1374,{"$f":"I57/#REF!-1","v":{"$error":"#REF!"}},292.4533,{"$f":"K57/#REF!-1","v":{"$error":"#REF!"}},196.8723,{"$f":"M57/#REF!-1","v":{"$error":"#REF!"}},{"v":1754.0322,"d":"1754.03"},{"$f":"O57/SUM(#REF!+#REF!+#REF!+#REF!+#REF!+#REF!)-1","v":{"$error":"#REF!"}}]