Workbook

Sheet  货运
A1: 3月10日厅开会确定拆分方案，1-2月数据以此为准。
A3: 地区 名称 | B3: 指标 | C3: 46023 | D3: 1月与去年同比 | E3: 46054 | F3: 2月与去年同比 | G3: 46082 | H3: 3月与去年同比 | I3: 46113 | J3: 4月与去年同比 | K3: 46143 | L3: 5月与去年同比 | M3: 46174 | N3: 6月与去年同比 | O3: 46204 | P3: 7月与去年同比 | Q3: 46235 | R3: 8月与去年同比 | S3: 46266 | T3: 9月与去年同比 | U3: 累计周转量 | V3: 同比 | X3: 2025年1月 | Y3: 1月与去年同比 | Z3: 2025年2月 | AA3: 2月与去年同比 | AB3: 2025年3月 | AC3: 3月与去年同比 | AD3: 2025年4月 | AE3: 4月与去年同比 | AF3: 2025年5月 | AG3: 5月与去年同比 | AH3: 2025年6月 | AI3: 6月与去年同比 | AJ3: 2025年7月 | AK3: 7月与去年同比 | AL3: 2025年8月 | AM3: 8月与去年同比 | AN3: 2025年9月 | AO3: 9月与去年同比 | AP3: 2025年10月 | AQ3: 10月与去年同比 | AR3: 2025年11月 | AS3: 11月与去年同比 | AT3: 2025年12月 | AU3: 12月与去年同比 | AV3: 2025年累计 | AW3: 2025年累计同比 | AY3: 2024年1月 | AZ3: 1月与去年同比 | BA3: 2024年2月 | BB3: 2月与去年同比 | BC3: 2024年3月 | BD3: 3月与去年同比 | BE3: 2024年4月 | BF3: 4月与去年同比 | BG3: 2024年5月 | BH3: 5月与去年同比 | BI3: 2024年6月 | BJ3: 6月与去年同比 | BK3: 2024年7月 | BL3: 7月与去年同比 | BM3: 2024年8月 | BN3: 8月与去年同比 | BO3: 2024年9月 | BP3: 9月与去年同比 | BQ3: 2024年10月 | BR3: 10月与去年同比 | BS3: 2024年11月 | BT3: 11月与去年同比 | BU3: 2024年12月 | BV3: 12月与去年同比 | BW3: 2024年累计 | BX3: 累计同比 | BZ3: 2023年1月 | CA3: 1月与去年同比 | CB3: 2023年2月 | CC3: 2月与去年同比 | CD3: 2023年3月 | CE3: 3月与去年同比 | CF3: 2023年4月 | CG3: 4月与去年同比 | CH3: 2023年5月 | CI3: 5月与去年同比 | CJ3: 2023年6月 | CK3: 6月与去年同比 | CL3: 45108 | CM3: 7月与去年同比 | CN3: 45139 | CO3: 8月与去年同比 | CP3: 45170 | CQ3: 9月与去年同比 | CR3: 45200 | CS3: 10月与去年同比 | CT3: 45231 | CU3: 11月与去年同比 | CV3: 45261 | CW3: 12月与去年同比 | CX3: 累计 | CY3: 累计同比 | DN3: 2022年1月 | DO3: 2022年2月 | DP3: 2022年3月 | DQ3: 2022年4月 | DR3: 2022年5月 | DS3: 2022年6月 | DT3: 2022年7月 | DU3: 2022年8月 | DV3: 2022年9月 | DW3: 2022年10月 | DX3: 2022年11月 | DY3: 2022年12月 | DZ3: 12月与去年同比 | EA3: 累计 | EB3: 累计同比 | ED3: 2021年1月 | EE3: 2021年2月 | EF3: 2021年3月 | EG3: 2021年4月 | EH3: 44317 | EI3: 44348 | EJ3: 44378 | EK3: 44409 | EL3: 44440 | EM3: 44470 | EN3: 44501 | EO3: 44531 | EQ3: 累计同比
DA4: 12月环比% | DB4: 11月环比% | DC4: 10月环比% | DD4: 9月环比% | DE4: 8月环比% | DF4: 7月环比% | DG4: 6月环比% | DH4: 5月环比% | DI4: 4月环比% | DJ4: 3月环比% | DK4: 2月份环比 | DL4: 1月份环比 | EP4: 累计
A5: 全省 | B5: 货运量 （万吨） | C5: =C7+C9 -> 17322.043 | D5: =C5/X5-1 -> 0.19778185 | E5: =E7+E9 -> 11089.384 | F5: =E5/Z5-1 -> -0.1491624 | G5: =G7+G9 -> 16768.312 | H5: =G5/AB5-1 -> -0.030771437 | I5: =I7+I9 -> 17531.028 | J5: =I5/AD5-1 -> -0.0086271186 | K5: =K7+K9 -> 17582.56 | L5: =K5/AF5-1 -> 0.011890656 | M5: =M7+M9 -> 16844.094 | N5: =M5/AH5-1 -> 0.055809806 | O5: =O7+O9 -> 16285.711 | P5: =O5/AJ5-1 -> 0.015419278 | Q5: =Q7+Q9 -> 16888.762 | R5: =Q5/AL5-1 -> 0.051594182 | S5: =S7+S9 | T5: =S5/AN5-1 | U5: =C5+E5+G5+I5+K5+M5+O5+Q5+S5 | V5: =U5/SUM(X5,Z5,AB5,AD5,AF5,AH5,AJ5,AL5,AN5)-1 | X5: =X7+X9 | Y5: =X5/AY5-1 | Z5: =Z7+Z9 | AA5: =Z5/BA5-1 | AB5: =AB7+AB9 | AC5: =AB5/BC5-1 | AD5: =AD7+AD9 | AE5: =AD5/BE5-1 | AF5: =AF7+AF9 | AG5: =AF5/BG5-1 | AH5: =AH7+AH9 | AI5: =AH5/BI5-1 | AJ5: =AJ7+AJ9 | AK5: =AJ5/BK5-1 | AL5: =AL7+AL9 | AM5: =AL5/BM5-1 | AN5: =AN7+AN9 | AO5: =AN5/BO5-1 | AP5: =AP7+AP9 | AQ5: =AP5/BQ5-1 | AR5: =AR7+AR9 | AS5: =AR5/BS5-1 | AT5: =AT7+AT9 | AU5: =AT5/BU5-1 | AV5: =X5+Z5+AB5+AD5+AF5+AH5+AJ5+AL5+AN5+AP5+AR5+AT5 | AW5: =AV5/SUM(AY5,BA5,BC5,BE5,BG5,BI5,BK5,BM5,BO5,BQ5,BS5,BU5)-1 | AY5: =AY7+AY9 | AZ5: =AY5/BZ5-1 | BA5: =BA7+BA9 | BB5: =BA5/CB5-1 | BC5: =BC7+BC9 | BD5: =BC5/CD5-1 | BE5: =BE7+BE9 | BF5: =BE5/CF5-1 | BG5: =BG7+BG9 | BH5: =BG5/CH5-1 | BI5: =BI7+BI9 | BJ5: =BI5/CJ5-1 | BK5: =BK7+BK9 | BL5: =BK5/CL5-1 | BM5: =BM7+BM9 | BN5: =BM5/CN5-1 | BO5: =BO7+BO9 | BP5: =BO5/CP5-1 | BQ5: =BQ7+BQ9 | BR5: =BQ5/CR5-1 | BS5: =BS7+BS9 | BT5: =BS5/CT5-1 | BU5: =BU7+BU9 | BV5: =BU5/CV5-1 | BW5: =AY5+BA5+BC5+BE5+BG5+BI5+BK5+BM5+BO5+BQ5+BS5+BU5 | BX5: =BW5/SUM(BZ5,CB5,CD5,CF5,CH5,CJ5,CL5,CN5,CP5,CR5,CT5,CV5)-1 | BZ5: =BZ7+BZ9 | CA5: =BZ5/DN5-1 | CB5: =CB7+CB9 | CC5: =CB5/DO5-1 | CD5: =CD7+CD9 | CE5: =CD5/DP5-1 | CF5: =CF7+CF9 | CG5: =CF5/DQ5-1 | CH5: =CH7+CH9 | CI5: =CH5/DR5-1 | CJ5: =CJ7+CJ9 | CK5: =CJ5/DS5-1 | CL5: =CL7+CL9 | CM5: =CL5/DT5-1 | CN5: =CN7+CN9 | CO5: =CN5/DU5-1 | CP5: =CP7+CP9 | CQ5: =CP5/DV5-1 | CR5: =CR7+CR9 | CS5: =CR5/DW5-1 | CT5: =CT7+CT9 | CU5: =CT5/DY5-1 | CV5: =CV7+CV9 | CW5: =CV5/DY5-1 | CX5: =BZ5+CB5+CD5+CF5+CH5+CJ5+CL5+CN5+CP5+CR5+CT5+CV5 | CY5: =CX5/SUM(DN5:DY5)-1 | DA5: =CV5/CT5-1 | DB5: =CT5/CR5-1 | DC5: =CR5/CP5-1 | DD5: =CP5/CN5-1 | DE5: =CN5/CL5-1 | DF5: =CL5/CJ5-1 | DG5: =CJ5/CH5-1 | DH5: =CH5/CF5-1 | DI5: =CF5/CD5-1 | DJ5: =CD5/CB5-1 | DK5: =(CB5-BZ5)/BZ5 | DL5: =(BZ5-DY5)/DY5 | DN5: =DN7+DN9 | DO5: =DO7+DO9 | DP5: =DP7+DP9 | DQ5: =DQ7+DQ9 | DR5: =DR7+DR9 | DS5: =DS7+DS9 | DT5: =DT7+DT9 | DU5: =DU7+DU9 | ... DY5: =DY7+DY9 | DZ5: -0.062421932 | EA5: =SUM(DN5:DY5) | EB5: =IFERROR(EA5/SUM(ED5:EO5)-1,"") | ED5: =ED7+ED9 | EE5: =EE7+EE9 | EF5: =EF7+EF9 | EG5: =EG7+EG9 | EH5: =EH7+EH9 | EI5: =EI7+EI9 | EJ5: =EJ7+EJ9 | EK5: =EK7+EK9 | ... EO5: =EO7+EO9 | EP5: =SUM(ED5:EO5)
B6: 货物周转量 （万吨公里） | C6: =C8+C10 -> 2238211.1 | D6: =C6/Z6-1 -> 0.14599142 | E6: =E8+E10 -> 1550233.6 | F6: =E6/AB6-1 -> -0.15726363 | G6: =G8+G10 -> 2286618 | H6: =G6/AD6-1 -> -0.036051782 | I6: =I8+I10 -> 2339073.2 | J6: =I6/AF6-1 -> -0.01196128 | K6: =K8+K10 -> 2370340.3 | L6: =K6/AH6-1 -> -0.014394459 | M6: =M8+M10 -> 2255716.5 | N6: =M6/AJ6-1 -> 0.015439906 | O6: =O8+O10 -> 2181925.7 | P6: =O6/AL6-1 -> 0.0067919124 | Q6: =Q8+Q10 -> 2270010.6 | R6: =Q6/AL6-1 -> 0.047847642 | S6: =S8+S10 | T6: =S6/AN6-1 | U6: =C6+E6+G6+I6+K6+M6+O6+Q6+S6 | V6: =U6/SUM(X6,Z6,AB6,AD6,AF6,AH6,AJ6,AL6,AN6)-1 | X6: =X8+X10 | Y6: =X6/AY6-1 | Z6: =Z8+Z10 | AA6: =Z6/BA6-1 | AB6: =AB8+AB10 | AC6: =AB6/BC6-1 | AD6: =AD8+AD10 | AE6: =AD6/BE6-1 | AF6: =AF8+AF10 | AG6: =AF6/BG6-1 | AH6: =AH8+AH10 | AI6: =AH6/BI6-1 | AJ6: =AJ8+AJ10 | AK6: =AJ6/BK6-1 | AL6: =AL8+AL10 | AM6: =AL6/BM6-1 | AN6: =AN8+AN10 | AO6: =AN6/BO6-1 | AP6: =AP8+AP10 | AQ6: =AP6/BQ6-1 | AR6: =AR8+AR10 | AS6: =AR6/BS6-1 | AT6: =AT8+AT10 | AU6: =AT6/BU6-1 | AV6: =X6+Z6+AB6+AD6+AF6+AH6+AJ6+AL6+AN6+AP6+AR6+AT6 | AW6: =AV6/SUM(AY6,BA6,BC6,BE6,BG6,BI6,BK6,BM6,BO6,BQ6,BS6,BU6)-1 | AY6: =AY8+AY10 | AZ6: =AY6/BZ6-1 | BA6: =BA8+BA10 | BB6: =BA6/CB6-1 | BC6: =BC8+BC10 | BD6: =BC6/CD6-1 | BE6: =BE8+BE10 | BF6: =BE6/CF6-1 | BG6: =BG8+BG10 | BH6: =BG6/CH6-1 | BI6: =BI8+BI10 | BJ6: =BI6/CJ6-1 | BK6: =BK8+BK10 | BL6: =BK6/CL6-1 | BM6: =BM8+BM10 | BN6: =BM6/CN6-1 | BO6: =BO8+BO10 | BP6: =BO6/CP6-1 | BQ6: =BQ8+BQ10 | BR6: =BQ6/CR6-1 | BS6: =BS8+BS10 | BT6: =BS6/CT6-1 | BU6: =BU8+BU10 | BV6: =BU6/CV6-1 | BW6: =AY6+BA6+BC6+BE6+BG6+BI6+BK6+BM6+BO6+BQ6+BS6+BU6 | BX6: =BW6/SUM(BZ6,CB6,CD6,CF6,CH6,CJ6,CL6,CN6,CP6,CR6,CT6,CV6)-1 | BZ6: =BZ8+BZ10 | CA6: =BZ6/DN6-1 | CB6: =CB8+CB10 | CC6: =CB6/DO6-1 | CD6: =CD8+CD10 | CE6: =CD6/DP6-1 | CF6: =CF8+CF10 | CG6: =CF6/DQ6-1 | CH6: =CH8+CH10 | CI6: =CH6/DR6-1 | CJ6: =CJ8+CJ10 | CK6: =CJ6/DS6-1 | CL6: =CL8+CL10 | CM6: =CL6/DT6-1 | CN6: =CN8+CN10 | CO6: =CN6/DU6-1 | CP6: =CP8+CP10 | CQ6: =CP6/DV6-1 | CR6: =CR8+CR10 | CS6: =CR6/DW6-1 | CT6: =CT8+CT10 | CU6: =CT6/DY6-1 | CV6: =CV8+CV10 | CW6: =CV6/DY6-1 | CX6: =BZ6+CB6+CD6+CF6+CH6+CJ6+CL6+CN6+CP6+CR6+CT6+CV6 | CY6: =CX6/SUM(DN6:DY6)-1 | DA6: =CV6/CT6-1 | DB6: =CT6/CR6-1 | DC6: =CR6/CP6-1 | DD6: =CP6/CN6-1 | DE6: =CN6/CL6-1 | DF6: =CL6/CJ6-1 | DG6: =CJ6/CH6-1 | DH6: =CH6/CF6-1 | DI6: =CF6/CD6-1 | DJ6: =CD6/CB6-1 | DK6: =(CB6-BZ6)/BZ6 | DL6: =(BZ6-DY6)/DY6 | DN6: =DN8+DN10 | DO6: =DO8+DO10 | DP6: =DP8+DP10 | DQ6: =DQ8+DQ10 | DR6: =DR8+DR10 | DS6: =DS8+DS10 | DT6: =DT8+DT10 | DU6: =DU8+DU10 | ... DY6: =DY8+DY10 | DZ6: 0.04159894 | EA6: =SUM(DN6:DY6) | EB6: =IFERROR(EA6/SUM(ED6:EO6)-1,"") | ED6: =ED8+ED10 | EE6: =EE8+EE10 | EF6: =EF8+EF10 | EG6: =EG8+EG10 | EH6: =EH8+EH10 | EI6: =EI8+EI10 | EJ6: =EJ8+EJ10 | EK6: =EK8+EK10 | ... EO6: =EO8+EO10 | EP6: =SUM(ED6:EO6)
B7: 其中规上货运量 (万吨) | C7: 3735.5321 | D7: =C7/Z7-1 -> -0.10300103 | E7: 3402.8177 | F7: =E7/AB7-1 -> -0.15033938 | G7: 4284.9515 | H7: =G7/AD7-1 -> -0.040988568 | I7: 4183.3731 | J7: =I7/AF7-1 -> -0.086391964 | K7: 4131.7772 | L7: =K7/AH7-1 -> -0.10726263 | M7: 4241.2271 | N7: =M7/AJ7-1 -> -0.074476839 | O7: 3754.7823 | P7: =O7/AL7-1 -> -0.025025755 | Q7: 3665.3638 | R7: =Q7/AL7-1 -> -0.013657271 | T7: =S7/AN7-1 | U7: =C7+E7+G7+I7+K7+M7+O7+Q7+S7 | V7: =U7/SUM(X7,Z7,AB7,AD7,AF7,AH7,AJ7,AL7,AN7)-1 | X7: =SUM(X12,X18,X24,X30,X36,X42,X48,X54,X60,X66,X72,X78,X84,X90,X96,X102,X108) | Y7: =X7/AY7-1 | Z7: =SUM(Z12,Z18,Z24,Z30,Z36,Z42,Z48,Z54,Z60,Z66,Z72,Z78,Z84,Z90,Z96,Z102,Z108) | AA7: =Z7/BA7-1 | AB7: =SUM(AB12,AB18,AB24,AB30,AB36,AB42,AB48,AB54,AB60,AB66,AB72,AB78,AB84,AB90,AB96,AB102,AB108) | AC7: =AB7/BC7-1 | AD7: =SUM(AD12,AD18,AD24,AD30,AD36,AD42,AD48,AD54,AD60,AD66,AD72,AD78,AD84,AD90,AD96,AD102,AD108) | AE7: =AD7/BE7-1 | AF7: =SUM(AF12,AF18,AF24,AF30,AF36,AF42,AF48,AF54,AF60,AF66,AF72,AF78,AF84,AF90,AF96,AF102,AF108) | AG7: =AF7/BG7-1 | AH7: =SUM(AH12,AH18,AH24,AH30,AH36,AH42,AH48,AH54,AH60,AH66,AH72,AH78,AH84,AH90,AH96,AH102,AH108) | AI7: =AH7/BI7-1 | AJ7: =SUM(AJ12,AJ18,AJ24,AJ30,AJ36,AJ42,AJ48,AJ54,AJ60,AJ66,AJ72,AJ78,AJ84,AJ90,AJ96,AJ102,AJ108) | AK7: =AJ7/BK7-1 | AL7: =SUM(AL12,AL18,AL24,AL30,AL36,AL42,AL48,AL54,AL60,AL66,AL72,AL78,AL84,AL90,AL96,AL102,AL108) | AM7: =AL7/BM7-1 | AN7: =SUM(AN12,AN18,AN24,AN30,AN36,AN42,AN48,AN54,AN60,AN66,AN72,AN78,AN84,AN90,AN96,AN102,AN108) | AO7: =AN7/BO7-1 | AP7: =SUM(AP12,AP18,AP24,AP30,AP36,AP42,AP48,AP54,AP60,AP66,AP72,AP78,AP84,AP90,AP96,AP102,AP108) | AQ7: =AP7/BQ7-1 | AR7: =SUM(AR12,AR18,AR24,AR30,AR36,AR42,AR48,AR54,AR60,AR66,AR72,AR78,AR84,AR90,AR96,AR102,AR108) | AS7: =AR7/BS7-1 | AT7: =SUM(AT12,AT18,AT24,AT30,AT36,AT42,AT48,AT54,AT60,AT66,AT72,AT78,AT84,AT90,AT96,AT102,AT108) | AU7: =AT7/BU7-1 | AV7: =X7+Z7+AB7+AD7+AF7+AH7+AJ7+AL7+AN7+AP7+AR7+AT7 | AW7: =AV7/SUM(AY7,BA7,BC7,BE7,BG7,BI7,BK7,BM7,BO7,BQ7,BS7,BU7)-1 | AY7: =SUM(AY12,AY18,AY24,AY30,AY36,AY42,AY48,AY54,AY60,AY66,AY72,AY78,AY84,AY90,AY96,AY102,AY108) | AZ7: =AY7/BZ7-1 | BA7: =SUM(BA12,BA18,BA24,BA30,BA36,BA42,BA48,BA54,BA60,BA66,BA72,BA78,BA84,BA90,BA96,BA102,BA108) | BB7: =BA7/CB7-1 | BC7: =SUM(BC12,BC18,BC24,BC30,BC36,BC42,BC48,BC54,BC60,BC66,BC72,BC78,BC84,BC90,BC96,BC102,BC108) | BD7: =BC7/CD7-1 | BE7: =SUM(BE12,BE18,BE24,BE30,BE36,BE42,BE48,BE54,BE60,BE66,BE72,BE78,BE84,BE90,BE96,BE102,BE108) | BF7: =BE7/CF7-1 | BG7: =SUM(BG12,BG18,BG24,BG30,BG36,BG42,BG48,BG54,BG60,BG66,BG72,BG78,BG84,BG90,BG96,BG102,BG108) | BH7: =BG7/CH7-1 | BI7: =SUM(BI12,BI18,BI24,BI30,BI36,BI42,BI48,BI54,BI60,BI66,BI72,BI78,BI84,BI90,BI96,BI102,BI108) | BJ7: =BI7/CJ7-1 | BK7: =SUM(BK12,BK18,BK24,BK30,BK36,BK42,BK48,BK54,BK60,BK66,BK72,BK78,BK84,BK90,BK96,BK102,BK108) | BL7: =BK7/CL7-1 | BM7: =SUM(BM12,BM18,BM24,BM30,BM36,BM42,BM48,BM54,BM60,BM66,BM72,BM78,BM84,BM90,BM96,BM102,BM108) | BN7: =BM7/CN7-1 | BO7: =SUM(BO12,BO18,BO24,BO30,BO36,BO42,BO48,BO54,BO60,BO66,BO72,BO78,BO84,BO90,BO96,BO102,BO108) | BP7: =BO7/CP7-1 | BQ7: =SUM(BQ12,BQ18,BQ24,BQ30,BQ36,BQ42,BQ48,BQ54,BQ60,BQ66,BQ72,BQ78,BQ84,BQ90,BQ96,BQ102,BQ108) | BR7: =BQ7/CR7-1 | BS7: =SUM(BS12,BS18,BS24,BS30,BS36,BS42,BS48,BS54,BS60,BS66,BS72,BS78,BS84,BS90,BS96,BS102,BS108) | BT7: =BS7/CT7-1 | BU7: =SUM(BU12,BU18,BU24,BU30,BU36,BU42,BU48,BU54,BU60,BU66,BU72,BU78,BU84,BU90,BU96,BU102,BU108) | BV7: =BU7/CV7-1 | BW7: =AY7+BA7+BC7+BE7+BG7+BI7+BK7+BM7+BO7+BQ7+BS7+BU7 | BX7: =BW7/SUM(BZ7,CB7,CD7,CF7,CH7,CJ7,CL7,CN7,CP7,CR7,CT7,CV7)-1 | BZ7: =SUM(BZ12,BZ18,BZ24,BZ30,BZ36,BZ42,BZ48,BZ54,BZ60,BZ66,BZ72,BZ78,BZ84,BZ90,BZ96,BZ102,BZ108) | CA7: =BZ7/DN7-1 | CB7: =SUM(CB12,CB18,CB24,CB30,CB36,CB42,CB48,CB54,CB60,CB66,CB72,CB78,CB84,CB90,CB96,CB102,CB108) | CC7: =CB7/DO7-1 | CD7: =SUM(CD12,CD18,CD24,CD30,CD36,CD42,CD48,CD54,CD60,CD66,CD72,CD78,CD84,CD90,CD96,CD102,CD108) | CE7: =CD7/DP7-1 | CF7: =SUM(CF12,CF18,CF24,CF30,CF36,CF42,CF48,CF54,CF60,CF66,CF72,CF78,CF84,CF90,CF96,CF102,CF108) | CG7: =CF7/DQ7-1 | CH7: =SUM(CH12,CH18,CH24,CH30,CH36,CH42,CH48,CH54,CH60,CH66,CH72,CH78,CH84,CH90,CH96,CH102,CH108) | CI7: =CH7/DR7-1 | CJ7: =SUM(CJ12,CJ18,CJ24,CJ30,CJ36,CJ42,CJ48,CJ54,CJ60,CJ66,CJ72,CJ78,CJ84,CJ90,CJ96,CJ102,CJ108) | CK7: =CJ7/DS7-1 | CL7: =SUM(CL12,CL18,CL24,CL30,CL36,CL42,CL48,CL54,CL60,CL66,CL72,CL78,CL84,CL90,CL96,CL102,CL108) | CM7: =CL7/DT7-1 | CN7: =SUM(CN12,CN18,CN24,CN30,CN36,CN42,CN48,CN54,CN60,CN66,CN72,CN78,CN84,CN90,CN96,CN102,CN108) | CO7: =CN7/DU7-1 | CP7: =SUM(CP12,CP18,CP24,CP30,CP36,CP42,CP48,CP54,CP60,CP66,CP72,CP78,CP84,CP90,CP96,CP102,CP108) | CQ7: =CP7/DV7-1 | CR7: =SUM(CR12,CR18,CR24,CR30,CR36,CR42,CR48,CR54,CR60,CR66,CR72,CR78,CR84,CR90,CR96,CR102,CR108) | CS7: =CR7/DW7-1 | CT7: =SUM(CT12,CT18,CT24,CT30,CT36,CT42,CT48,CT54,CT60,CT66,CT72,CT78,CT84,CT90,CT96,CT102,CT108) | CU7: =CT7/DY7-1 | CV7: =SUM(CV12,CV18,CV24,CV30,CV36,CV42,CV48,CV54,CV60,CV66,CV72,CV78,CV84,CV90,CV96,CV102,CV108) | CW7: =CV7/DY7-1 | CX7: =BZ7+CB7+CD7+CF7+CH7+CJ7+CL7+CN7+CP7+CR7+CT7+CV7 | CY7: =CX7/SUM(DN7:DY7)-1 | DA7: =CV7/CT7-1 | DB7: =CT7/CR7-1 | DC7: =CR7/CP7-1 | DD7: =CP7/CN7-1 | DE7: =CN7/CL7-1 | DF7: =CL7/CJ7-1 | DG7: =CJ7/CH7-1 | DH7: =CH7/CF7-1 | DI7: =CF7/CD7-1 | DJ7: =CD7/CB7-1 | DK7: =(CB7-BZ7)/BZ7 | DL7: =(BZ7-DY7)/DY7 | DN7: =SUM(DN12,DN18,DN24,DN30,DN36,DN42,DN48,DN54,DN60,DN66,DN72,DN78,DN84,DN90,DN96,DN102,DN108) | DO7: =SUM(DO12,DO18,DO24,DO30,DO36,DO42,DO48,DO54,DO60,DO66,DO72,DO78,DO84,DO90,DO96,DO102,DO108) | DP7: =SUM(DP12,DP18,DP24,DP30,DP36,DP42,DP48,DP54,DP60,DP66,DP72,DP78,DP84,DP90,DP96,DP102,DP108) | DQ7: =SUM(DQ12,DQ18,DQ24,DQ30,DQ36,DQ42,DQ48,DQ54,DQ60,DQ66,DQ72,DQ78,DQ84,DQ90,DQ96,DQ102,DQ108) | DR7: =SUM(DR12,DR18,DR24,DR30,DR36,DR42,DR48,DR54,DR60,DR66,DR72,DR78,DR84,DR90,DR96,DR102,DR108) | DS7: =SUM(DS12,DS18,DS24,DS30,DS36,DS42,DS48,DS54,DS60,DS66,DS72,DS78,DS84,DS90,DS96,DS102,DS108) | DT7: =SUM(DT12,DT18,DT24,DT30,DT36,DT42,DT48,DT54,DT60,DT66,DT72,DT78,DT84,DT90,DT96,DT102,DT108) | DU7: =SUM(DU12,DU18,DU24,DU30,DU36,DU42,DU48,DU54,DU60,DU66,DU72,DU78,DU84,DU90,DU96,DU102,DU108) | ... DY7: =SUM(DY12,DY18,DY24,DY30,DY36,DY42,DY48,DY54,DY60,DY66,DY72,DY78,DY84,DY90,DY96,DY102,DY108) | DZ7: 0.43037903 | EA7: =SUM(DN7:DY7) | EB7: =IFERROR(EA7/SUM(ED7:EO7)-1,"") | EC7: =EA7/EA5 | ED7: =SUM(ED12,ED18,ED24,ED30,ED36,ED42,ED48,ED54,ED60,ED66,ED72,ED78,ED84,ED90,ED96,ED102,ED108) | EE7: =SUM(EE12,EE18,EE24,EE30,EE36,EE42,EE48,EE54,EE60,EE66,EE72,EE78,EE84,EE90,EE96,EE102,EE108) | EF7: =SUM(EF12,EF18,EF24,EF30,EF36,EF42,EF48,EF54,EF60,EF66,EF72,EF78,EF84,EF90,EF96,EF102,EF108) | EG7: =SUM(EG12,EG18,EG24,EG30,EG36,EG42,EG48,EG54,EG60,EG66,EG72,EG78,EG84,EG90,EG96,EG102,EG108) | EH7: =SUM(EH12,EH18,EH24,EH30,EH36,EH42,EH48,EH54,EH60,EH66,EH72,EH78,EH84,EH90,EH96,EH102,EH108) | EI7: =SUM(EI12,EI18,EI24,EI30,EI36,EI42,EI48,EI54,EI60,EI66,EI72,EI78,EI84,EI90,EI96,EI102,EI108) | EJ7: =SUM(EJ12,EJ18,EJ24,EJ30,EJ36,EJ42,EJ48,EJ54,EJ60,EJ66,EJ72,EJ78,EJ84,EJ90,EJ96,EJ102,EJ108) | EK7: =SUM(EK12,EK18,EK24,EK30,EK36,EK42,EK48,EK54,EK60,EK66,EK72,EK78,EK84,EK90,EK96,EK102,EK108) | ... EO7: =SUM(EO12,EO18,EO24,EO30,EO36,EO42,EO48,EO54,EO60,EO66,EO72,EO78,EO84,EO90,EO96,EO102,EO108) | EP7: =SUM(ED7:EO7)
B8: 其中规上货物周转量 (万吨公里) | C8: 565704.65 | D8: =C8/Z8-1 -> -0.091814632 | E8: 500562.26 | F8: =E8/AB8-1 -> -0.14891363 | G8: 669448.89 | H8: =G8/AD8-1 -> -0.0096586042 | I8: 650911.77 | J8: =I8/AF8-1 -> -0.043482506 | K8: 680437.39 | L8: =K8/AH8-1 -> -0.062360436 | M8: 692813.75 | N8: =M8/AJ8-1 -> -0.043707473 | O8: 597278.64 | P8: =O8/AL8-1 -> 0.05762202 | Q8: 570004.44 | R8: =Q8/AL8-1 -> 0.095971335 | T8: =S8/AN8-1 | U8: =C8+E8+G8+I8+K8+M8+O8+Q8+S8 | V8: =U8/SUM(X8,Z8,AB8,AD8,AF8,AH8,AJ8,AL8,AN8)-1 | X8: =SUM(X15,X21,X27,X33,X39,X45,X51,X57,X63,X69,X75,X81,X87,X93,X99,X105,X111) | Y8: =X8/AY8-1 | Z8: =SUM(Z15,Z21,Z27,Z33,Z39,Z45,Z51,Z57,Z63,Z69,Z75,Z81,Z87,Z93,Z99,Z105,Z111) | AA8: =Z8/BA8-1 | AB8: =SUM(AB15,AB21,AB27,AB33,AB39,AB45,AB51,AB57,AB63,AB69,AB75,AB81,AB87,AB93,AB99,AB105,AB111) | AC8: =AB8/BC8-1 | AD8: =SUM(AD15,AD21,AD27,AD33,AD39,AD45,AD51,AD57,AD63,AD69,AD75,AD81,AD87,AD93,AD99,AD105,AD111) | AE8: =AD8/BE8-1 | AF8: =SUM(AF15,AF21,AF27,AF33,AF39,AF45,AF51,AF57,AF63,AF69,AF75,AF81,AF87,AF93,AF99,AF105,AF111) | AG8: =AF8/BG8-1 | AH8: =SUM(AH15,AH21,AH27,AH33,AH39,AH45,AH51,AH57,AH63,AH69,AH75,AH81,AH87,AH93,AH99,AH105,AH111) | AI8: =AH8/BI8-1 | AJ8: =SUM(AJ15,AJ21,AJ27,AJ33,AJ39,AJ45,AJ51,AJ57,AJ63,AJ69,AJ75,AJ81,AJ87,AJ93,AJ99,AJ105,AJ111) | AK8: =AJ8/BK8-1 | AL8: =SUM(AL15,AL21,AL27,AL33,AL39,AL45,AL51,AL57,AL63,AL69,AL75,AL81,AL87,AL93,AL99,AL105,AL111) | AM8: =AL8/BM8-1 | AN8: =SUM(AN15,AN21,AN27,AN33,AN39,AN45,AN51,AN57,AN63,AN69,AN75,AN81,AN87,AN93,AN99,AN105,AN111) | AO8: =AN8/BO8-1 | AP8: =SUM(AP15,AP21,AP27,AP33,AP39,AP45,AP51,AP57,AP63,AP69,AP75,AP81,AP87,AP93,AP99,AP105,AP111) | AQ8: =AP8/BQ8-1 | AR8: =SUM(AR15,AR21,AR27,AR33,AR39,AR45,AR51,AR57,AR63,AR69,AR75,AR81,AR87,AR93,AR99,AR105,AR111) | AS8: =AR8/BS8-1 | AT8: =SUM(AT15,AT21,AT27,AT33,AT39,AT45,AT51,AT57,AT63,AT69,AT75,AT81,AT87,AT93,AT99,AT105,AT111) | AU8: =AT8/BU8-1 | AV8: =X8+Z8+AB8+AD8+AF8+AH8+AJ8+AL8+AN8+AP8+AR8+AT8 | AW8: =AV8/SUM(AY8,BA8,BC8,BE8,BG8,BI8,BK8,BM8,BO8,BQ8,BS8,BU8)-1 | AY8: =SUM(AY15,AY21,AY27,AY33,AY39,AY45,AY51,AY57,AY63,AY69,AY75,AY81,AY87,AY93,AY99,AY105,AY111) | AZ8: =AY8/BZ8-1 | BA8: =SUM(BA15,BA21,BA27,BA33,BA39,BA45,BA51,BA57,BA63,BA69,BA75,BA81,BA87,BA93,BA99,BA105,BA111) | BB8: =BA8/CB8-1 | BC8: =SUM(BC15,BC21,BC27,BC33,BC39,BC45,BC51,BC57,BC63,BC69,BC75,BC81,BC87,BC93,BC99,BC105,BC111) | BD8: =BC8/CD8-1 | BE8: =SUM(BE15,BE21,BE27,BE33,BE39,BE45,BE51,BE57,BE63,BE69,BE75,BE81,BE87,BE93,BE99,BE105,BE111) | BF8: =BE8/CF8-1 | BG8: =SUM(BG15,BG21,BG27,BG33,BG39,BG45,BG51,BG57,BG63,BG69,BG75,BG81,BG87,BG93,BG99,BG105,BG111) | BH8: =BG8/CH8-1 | BI8: =SUM(BI15,BI21,BI27,BI33,BI39,BI45,BI51,BI57,BI63,BI69,BI75,BI81,BI87,BI93,BI99,BI105,BI111) | BJ8: =BI8/CJ8-1 | BK8: =SUM(BK15,BK21,BK27,BK33,BK39,BK45,BK51,BK57,BK63,BK69,BK75,BK81,BK87,BK93,BK99,BK105,BK111) | BL8: =BK8/CL8-1 | BM8: =SUM(BM15,BM21,BM27,BM33,BM39,BM45,BM51,BM57,BM63,BM69,BM75,BM81,BM87,BM93,BM99,BM105,BM111) | BN8: =BM8/CN8-1 | BO8: =SUM(BO15,BO21,BO27,BO33,BO39,BO45,BO51,BO57,BO63,BO69,BO75,BO81,BO87,BO93,BO99,BO105,BO111) | BP8: =BO8/CP8-1 | BQ8: =SUM(BQ15,BQ21,BQ27,BQ33,BQ39,BQ45,BQ51,BQ57,BQ63,BQ69,BQ75,BQ81,BQ87,BQ93,BQ99,BQ105,BQ111) | BR8: =BQ8/CR8-1 | BS8: =SUM(BS15,BS21,BS27,BS33,BS39,BS45,BS51,BS57,BS63,BS69,BS75,BS81,BS87,BS93,BS99,BS105,BS111) | BT8: =BS8/CT8-1 | BU8: =SUM(BU15,BU21,BU27,BU33,BU39,BU45,BU51,BU57,BU63,BU69,BU75,BU81,BU87,BU93,BU99,BU105,BU111) | BV8: =BU8/CV8-1 | BW8: =AY8+BA8+BC8+BE8+BG8+BI8+BK8+BM8+BO8+BQ8+BS8+BU8 | BX8: =BW8/SUM(BZ8,CB8,CD8,CF8,CH8,CJ8,CL8,CN8,CP8,CR8,CT8,CV8)-1 | BZ8: =SUM(BZ15,BZ21,BZ27,BZ33,BZ39,BZ45,BZ51,BZ57,BZ63,BZ69,BZ75,BZ81,BZ87,BZ93,BZ99,BZ105,BZ111) | CA8: =BZ8/DN8-1 | CB8: =SUM(CB15,CB21,CB27,CB33,CB39,CB45,CB51,CB57,CB63,CB69,CB75,CB81,CB87,CB93,CB99,CB105,CB111) | CC8: =CB8/DO8-1 | CD8: =SUM(CD15,CD21,CD27,CD33,CD39,CD45,CD51,CD57,CD63,CD69,CD75,CD81,CD87,CD93,CD99,CD105,CD111) | CE8: =CD8/DP8-1 | CF8: =SUM(CF15,CF21,CF27,CF33,CF39,CF45,CF51,CF57,CF63,CF69,CF75,CF81,CF87,CF93,CF99,CF105,CF111) | CG8: =CF8/DQ8-1 | CH8: =SUM(CH15,CH21,CH27,CH33,CH39,CH45,CH51,CH57,CH63,CH69,CH75,CH81,CH87,CH93,CH99,CH105,CH111) | CI8: =CH8/DR8-1 | CJ8: =SUM(CJ15,CJ21,CJ27,CJ33,CJ39,CJ45,CJ51,CJ57,CJ63,CJ69,CJ75,CJ81,CJ87,CJ93,CJ99,CJ105,CJ111) | CK8: =CJ8/DS8-1 | CL8: =SUM(CL15,CL21,CL27,CL33,CL39,CL45,CL51,CL57,CL63,CL69,CL75,CL81,CL87,CL93,CL99,CL105,CL111) | CM8: =CL8/DT8-1 | CN8: =SUM(CN15,CN21,CN27,CN33,CN39,CN45,CN51,CN57,CN63,CN69,CN75,CN81,CN87,CN93,CN99,CN105,CN111) | CO8: =CN8/DU8-1 | CP8: =SUM(CP15,CP21,CP27,CP33,CP39,CP45,CP51,CP57,CP63,CP69,CP75,CP81,CP87,CP93,CP99,CP105,CP111) | CQ8: =CP8/DV8-1 | CR8: =SUM(CR15,CR21,CR27,CR33,CR39,CR45,CR51,CR57,CR63,CR69,CR75,CR81,CR87,CR93,CR99,CR105,CR111) | CS8: =CR8/DW8-1 | CT8: =SUM(CT15,CT21,CT27,CT33,CT39,CT45,CT51,CT57,CT63,CT69,CT75,CT81,CT87,CT93,CT99,CT105,CT111) | CU8: =CT8/DY8-1 | CV8: =SUM(CV15,CV21,CV27,CV33,CV39,CV45,CV51,CV57,CV63,CV69,CV75,CV81,CV87,CV93,CV99,CV105,CV111) | CW8: =CV8/DY8-1 | CX8: =BZ8+CB8+CD8+CF8+CH8+CJ8+CL8+CN8+CP8+CR8+CT8+CV8 | CY8: =CX8/SUM(DN8:DY8)-1 | DA8: =CV8/CT8-1 | DB8: =CT8/CR8-1 | DC8: =CR8/CP8-1 | DD8: =CP8/CN8-1 | DE8: =CN8/CL8-1 | DF8: =CL8/CJ8-1 | DG8: =CJ8/CH8-1 | DH8: =CH8/CF8-1 | DI8: =CF8/CD8-1 | DJ8: =CD8/CB8-1 | DK8: =(CB8-BZ8)/BZ8 | DL8: =(BZ8-DY8)/DY8 | DN8: =SUM(DN15,DN21,DN27,DN33,DN39,DN45,DN51,DN57,DN63,DN69,DN75,DN81,DN87,DN93,DN99,DN105,DN111) | DO8: =SUM(DO15,DO21,DO27,DO33,DO39,DO45,DO51,DO57,DO63,DO69,DO75,DO81,DO87,DO93,DO99,DO105,DO111) | DP8: =SUM(DP15,DP21,DP27,DP33,DP39,DP45,DP51,DP57,DP63,DP69,DP75,DP81,DP87,DP93,DP99,DP105,DP111) | DQ8: =SUM(DQ15,DQ21,DQ27,DQ33,DQ39,DQ45,DQ51,DQ57,DQ63,DQ69,DQ75,DQ81,DQ87,DQ93,DQ99,DQ105,DQ111) | DR8: =SUM(DR15,DR21,DR27,DR33,DR39,DR45,DR51,DR57,DR63,DR69,DR75,DR81,DR87,DR93,DR99,DR105,DR111) | DS8: =SUM(DS15,DS21,DS27,DS33,DS39,DS45,DS51,DS57,DS63,DS69,DS75,DS81,DS87,DS93,DS99,DS105,DS111) | DT8: =SUM(DT15,DT21,DT27,DT33,DT39,DT45,DT51,DT57,DT63,DT69,DT75,DT81,DT87,DT93,DT99,DT105,DT111) | DU8: =SUM(DU15,DU21,DU27,DU33,DU39,DU45,DU51,DU57,DU63,DU69,DU75,DU81,DU87,DU93,DU99,DU105,DU111) | ... DY8: =SUM(DY15,DY21,DY27,DY33,DY39,DY45,DY51,DY57,DY63,DY69,DY75,DY81,DY87,DY93,DY99,DY105,DY111) | DZ8: 0.78353118 | EA8: =SUM(DN8:DY8) | EB8: =IFERROR(EA8/SUM(ED8:EO8)-1,"") | EC8: =EA8/EA6 | ED8: =SUM(ED15,ED21,ED27,ED33,ED39,ED45,ED51,ED57,ED63,ED69,ED75,ED81,ED87,ED93,ED99,ED105,ED111) | EE8: =SUM(EE15,EE21,EE27,EE33,EE39,EE45,EE51,EE57,EE63,EE69,EE75,EE81,EE87,EE93,EE99,EE105,EE111) | EF8: =SUM(EF15,EF21,EF27,EF33,EF39,EF45,EF51,EF57,EF63,EF69,EF75,EF81,EF87,EF93,EF99,EF105,EF111) | EG8: =SUM(EG15,EG21,EG27,EG33,EG39,EG45,EG51,EG57,EG63,EG69,EG75,EG81,EG87,EG93,EG99,EG105,EG111) | EH8: =SUM(EH15,EH21,EH27,EH33,EH39,EH45,EH51,EH57,EH63,EH69,EH75,EH81,EH87,EH93,EH99,EH105,EH111) | EI8: =SUM(EI15,EI21,EI27,EI33,EI39,EI45,EI51,EI57,EI63,EI69,EI75,EI81,EI87,EI93,EI99,EI105,EI111) | EJ8: =SUM(EJ15,EJ21,EJ27,EJ33,EJ39,EJ45,EJ51,EJ57,EJ63,EJ69,EJ75,EJ81,EJ87,EJ93,EJ99,EJ105,EJ111) | EK8: =SUM(EK15,EK21,EK27,EK33,EK39,EK45,EK51,EK57,EK63,EK69,EK75,EK81,EK87,EK93,EK99,EK105,EK111) | ... EO8: =SUM(EO15,EO21,EO27,EO33,EO39,EO45,EO51,EO57,EO63,EO69,EO75,EO81,EO87,EO93,EO99,EO105,EO111) | EP8: =SUM(ED8:EO8)
B9: 其中规下货运量 (万吨) | C9: 13586.511 | D9: =C9/Z9-1 -> 0.31942586 | E9: 7686.5664 | F9: =E9/AB9-1 -> -0.14864031 | G9: 12483.36 | H9: =G9/AD9-1 -> -0.027214003 | I9: 13347.655 | J9: =I9/AF9-1 -> 0.018545112 | K9: 13450.783 | L9: =K9/AH9-1 -> 0.055150613 | M9: 12602.867 | N9: =M9/AJ9-1 -> 0.10831446 | O9: 12530.928 | P9: =O9/AL9-1 -> 0.028199875 | Q9: 13223.398 | R9: =Q9/AL9-1 -> 0.071237836 | T9: =S9/AN9-1 | U9: =C9+E9+G9+I9+K9+M9+O9+Q9+S9 | V9: =U9/SUM(X9,Z9,AB9,AD9,AF9,AH9,AJ9,AL9,AN9)-1 | X9: =SUM(X13,X19,X25,X31,X37,X43,X49,X55,X61,X67,X73,X79,X85,X91,X97,X103,X109) | Y9: =X9/AY9-1 | Z9: =SUM(Z13,Z19,Z25,Z31,Z37,Z43,Z49,Z55,Z61,Z67,Z73,Z79,Z85,Z91,Z97,Z103,Z109) | AA9: =Z9/BA9-1 | AB9: =SUM(AB13,AB19,AB25,AB31,AB37,AB43,AB49,AB55,AB61,AB67,AB73,AB79,AB85,AB91,AB97,AB103,AB109) | AC9: =AB9/BC9-1 | AD9: =SUM(AD13,AD19,AD25,AD31,AD37,AD43,AD49,AD55,AD61,AD67,AD73,AD79,AD85,AD91,AD97,AD103,AD109) | AE9: =AD9/BE9-1 | AF9: =SUM(AF13,AF19,AF25,AF31,AF37,AF43,AF49,AF55,AF61,AF67,AF73,AF79,AF85,AF91,AF97,AF103,AF109) | AG9: =AF9/BG9-1 | AH9: =SUM(AH13,AH19,AH25,AH31,AH37,AH43,AH49,AH55,AH61,AH67,AH73,AH79,AH85,AH91,AH97,AH103,AH109) | AI9: =AH9/BI9-1 | AJ9: =SUM(AJ13,AJ19,AJ25,AJ31,AJ37,AJ43,AJ49,AJ55,AJ61,AJ67,AJ73,AJ79,AJ85,AJ91,AJ97,AJ103,AJ109) | AK9: =AJ9/BK9-1 | AL9: =SUM(AL13,AL19,AL25,AL31,AL37,AL43,AL49,AL55,AL61,AL67,AL73,AL79,AL85,AL91,AL97,AL103,AL109) | AM9: =AL9/BM9-1 | AN9: =SUM(AN13,AN19,AN25,AN31,AN37,AN43,AN49,AN55,AN61,AN67,AN73,AN79,AN85,AN91,AN97,AN103,AN109) | AO9: =AN9/BO9-1 | AP9: =SUM(AP13,AP19,AP25,AP31,AP37,AP43,AP49,AP55,AP61,AP67,AP73,AP79,AP85,AP91,AP97,AP103,AP109) | AQ9: =AP9/BQ9-1 | AR9: =SUM(AR13,AR19,AR25,AR31,AR37,AR43,AR49,AR55,AR61,AR67,AR73,AR79,AR85,AR91,AR97,AR103,AR109) | AS9: =AR9/BS9-1 | AT9: =SUM(AT13,AT19,AT25,AT31,AT37,AT43,AT49,AT55,AT61,AT67,AT73,AT79,AT85,AT91,AT97,AT103,AT109) | AU9: =AT9/BU9-1 | AV9: =X9+Z9+AB9+AD9+AF9+AH9+AJ9+AL9+AN9+AP9+AR9+AT9 | AW9: =AV9/SUM(AY9,BA9,BC9,BE9,BG9,BI9,BK9,BM9,BO9,BQ9,BS9,BU9)-1 | AY9: =SUM(AY13,AY19,AY25,AY31,AY37,AY43,AY49,AY55,AY61,AY67,AY73,AY79,AY85,AY91,AY97,AY103,AY109) | AZ9: =AY9/BZ9-1 | BA9: =SUM(BA13,BA19,BA25,BA31,BA37,BA43,BA49,BA55,BA61,BA67,BA73,BA79,BA85,BA91,BA97,BA103,BA109) | BB9: =BA9/CB9-1 | BC9: =SUM(BC13,BC19,BC25,BC31,BC37,BC43,BC49,BC55,BC61,BC67,BC73,BC79,BC85,BC91,BC97,BC103,BC109) | BD9: =BC9/CD9-1 | BE9: =SUM(BE13,BE19,BE25,BE31,BE37,BE43,BE49,BE55,BE61,BE67,BE73,BE79,BE85,BE91,BE97,BE103,BE109) | BF9: =BE9/CF9-1 | BG9: =SUM(BG13,BG19,BG25,BG31,BG37,BG43,BG49,BG55,BG61,BG67,BG73,BG79,BG85,BG91,BG97,BG103,BG109) | BH9: =BG9/CH9-1 | BI9: =SUM(BI13,BI19,BI25,BI31,BI37,BI43,BI49,BI55,BI61,BI67,BI73,BI79,BI85,BI91,BI97,BI103,BI109) | BJ9: =BI9/CJ9-1 | BK9: =SUM(BK13,BK19,BK25,BK31,BK37,BK43,BK49,BK55,BK61,BK67,BK73,BK79,BK85,BK91,BK97,BK103,BK109) | BL9: =BK9/CL9-1 | BM9: =SUM(BM13,BM19,BM25,BM31,BM37,BM43,BM49,BM55,BM61,BM67,BM73,BM79,BM85,BM91,BM97,BM103,BM109) | BN9: =BM9/CN9-1 | BO9: =SUM(BO13,BO19,BO25,BO31,BO37,BO43,BO49,BO55,BO61,BO67,BO73,BO79,BO85,BO91,BO97,BO103,BO109) | BP9: =BO9/CP9-1 | BQ9: =SUM(BQ13,BQ19,BQ25,BQ31,BQ37,BQ43,BQ49,BQ55,BQ61,BQ67,BQ73,BQ79,BQ85,BQ91,BQ97,BQ103,BQ109) | BR9: =BQ9/CR9-1 | BS9: =SUM(BS13,BS19,BS25,BS31,BS37,BS43,BS49,BS55,BS61,BS67,BS73,BS79,BS85,BS91,BS97,BS103,BS109) | BT9: =BS9/CT9-1 | BU9: =SUM(BU13,BU19,BU25,BU31,BU37,BU43,BU49,BU55,BU61,BU67,BU73,BU79,BU85,BU91,BU97,BU103,BU109) | BV9: =BU9/CV9-1 | BW9: =AY9+BA9+BC9+BE9+BG9+BI9+BK9+BM9+BO9+BQ9+BS9+BU9 | BX9: =BW9/SUM(BZ9,CB9,CD9,CF9,CH9,CJ9,CL9,CN9,CP9,CR9,CT9,CV9)-1 | BZ9: =SUM(BZ13,BZ19,BZ25,BZ31,BZ37,BZ43,BZ49,BZ55,BZ61,BZ67,BZ73,BZ79,BZ85,BZ91,BZ97,BZ103,BZ109) | CA9: =BZ9/DN9-1 | CB9: =SUM(CB13,CB19,CB25,CB31,CB37,CB43,CB49,CB55,CB61,CB67,CB73,CB79,CB85,CB91,CB97,CB103,CB109) | CC9: =CB9/DO9-1 | CD9: =SUM(CD13,CD19,CD25,CD31,CD37,CD43,CD49,CD55,CD61,CD67,CD73,CD79,CD85,CD91,CD97,CD103,CD109) | CE9: =CD9/DP9-1 | CF9: =SUM(CF13,CF19,CF25,CF31,CF37,CF43,CF49,CF55,CF61,CF67,CF73,CF79,CF85,CF91,CF97,CF103,CF109) | CG9: =CF9/DQ9-1 | CH9: =SUM(CH13,CH19,CH25,CH31,CH37,CH43,CH49,CH55,CH61,CH67,CH73,CH79,CH85,CH91,CH97,CH103,CH109) | CI9: =CH9/DR9-1 | CJ9: =SUM(CJ13,CJ19,CJ25,CJ31,CJ37,CJ43,CJ49,CJ55,CJ61,CJ67,CJ73,CJ79,CJ85,CJ91,CJ97,CJ103,CJ109) | CK9: =CJ9/DS9-1 | CL9: =SUM(CL13,CL19,CL25,CL31,CL37,CL43,CL49,CL55,CL61,CL67,CL73,CL79,CL85,CL91,CL97,CL103,CL109) | CM9: =CL9/DT9-1 | CN9: =SUM(CN13,CN19,CN25,CN31,CN37,CN43,CN49,CN55,CN61,CN67,CN73,CN79,CN85,CN91,CN97,CN103,CN109) | CO9: =CN9/DU9-1 | CP9: =SUM(CP13,CP19,CP25,CP31,CP37,CP43,CP49,CP55,CP61,CP67,CP73,CP79,CP85,CP91,CP97,CP103,CP109) | CQ9: =CP9/DV9-1 | CR9: =SUM(CR13,CR19,CR25,CR31,CR37,CR43,CR49,CR55,CR61,CR67,CR73,CR79,CR85,CR91,CR97,CR103,CR109) | CS9: =CR9/DW9-1 | CT9: =SUM(CT13,CT19,CT25,CT31,CT37,CT43,CT49,CT55,CT61,CT67,CT73,CT79,CT85,CT91,CT97,CT103,CT109) | CU9: =CT9/DY9-1 | CV9: =SUM(CV13,CV19,CV25,CV31,CV37,CV43,CV49,CV55,CV61,CV67,CV73,CV79,CV85,CV91,CV97,CV103,CV109) | CW9: =CV9/DY9-1 | CX9: =BZ9+CB9+CD9+CF9+CH9+CJ9+CL9+CN9+CP9+CR9+CT9+CV9 | CY9: =CX9/SUM(DN9:DY9)-1 | DA9: =CV9/CT9-1 | DB9: =CT9/CR9-1 | DC9: =CR9/CP9-1 | DD9: =CP9/CN9-1 | DE9: =CN9/CL9-1 | DF9: =CL9/CJ9-1 | DG9: =CJ9/CH9-1 | DH9: =CH9/CF9-1 | DI9: =CF9/CD9-1 | DJ9: =CD9/CB9-1 | DK9: =(CB9-BZ9)/BZ9 | DL9: =(BZ9-DY9)/DY9 | DN9: =SUM(DN13,DN19,DN25,DN31,DN37,DN43,DN49,DN55,DN61,DN67,DN73,DN79,DN85,DN91,DN97,DN103,DN109) | DO9: =SUM(DO13,DO19,DO25,DO31,DO37,DO43,DO49,DO55,DO61,DO67,DO73,DO79,DO85,DO91,DO97,DO103,DO109) | DP9: =SUM(DP13,DP19,DP25,DP31,DP37,DP43,DP49,DP55,DP61,DP67,DP73,DP79,DP85,DP91,DP97,DP103,DP109) | DQ9: =SUM(DQ13,DQ19,DQ25,DQ31,DQ37,DQ43,DQ49,DQ55,DQ61,DQ67,DQ73,DQ79,DQ85,DQ91,DQ97,DQ103,DQ109) | DR9: =SUM(DR13,DR19,DR25,DR31,DR37,DR43,DR49,DR55,DR61,DR67,DR73,DR79,DR85,DR91,DR97,DR103,DR109) | DS9: =SUM(DS13,DS19,DS25,DS31,DS37,DS43,DS49,DS55,DS61,DS67,DS73,DS79,DS85,DS91,DS97,DS103,DS109) | DT9: =SUM(DT13,DT19,DT25,DT31,DT37,DT43,DT49,DT55,DT61,DT67,DT73,DT79,DT85,DT91,DT97,DT103,DT109) | DU9: =SUM(DU13,DU19,DU25,DU31,DU37,DU43,DU49,DU55,DU61,DU67,DU73,DU79,DU85,DU91,DU97,DU103,DU109) | ... DY9: =SUM(DY13,DY19,DY25,DY31,DY37,DY43,DY49,DY55,DY61,DY67,DY73,DY79,DY85,DY91,DY97,DY103,DY109) | DZ9: -0.087795638 | EA9: =SUM(DN9:DY9) | EB9: =IFERROR(EA9/SUM(ED9:EO9)-1,"") | ED9: =SUM(ED13,ED19,ED25,ED31,ED37,ED43,ED49,ED55,ED61,ED67,ED73,ED79,ED85,ED91,ED97,ED103,ED109) | EE9: =SUM(EE13,EE19,EE25,EE31,EE37,EE43,EE49,EE55,EE61,EE67,EE73,EE79,EE85,EE91,EE97,EE103,EE109) | EF9: =SUM(EF13,EF19,EF25,EF31,EF37,EF43,EF49,EF55,EF61,EF67,EF73,EF79,EF85,EF91,EF97,EF103,EF109) | EG9: =SUM(EG13,EG19,EG25,EG31,EG37,EG43,EG49,EG55,EG61,EG67,EG73,EG79,EG85,EG91,EG97,EG103,EG109) | EH9: =SUM(EH13,EH19,EH25,EH31,EH37,EH43,EH49,EH55,EH61,EH67,EH73,EH79,EH85,EH91,EH97,EH103,EH109) | EI9: =SUM(EI13,EI19,EI25,EI31,EI37,EI43,EI49,EI55,EI61,EI67,EI73,EI79,EI85,EI91,EI97,EI103,EI109) | EJ9: =SUM(EJ13,EJ19,EJ25,EJ31,EJ37,EJ43,EJ49,EJ55,EJ61,EJ67,EJ73,EJ79,EJ85,EJ91,EJ97,EJ103,EJ109) | EK9: =SUM(EK13,EK19,EK25,EK31,EK37,EK43,EK49,EK55,EK61,EK67,EK73,EK79,EK85,EK91,EK97,EK103,EK109) | ... EO9: =SUM(EO13,EO19,EO25,EO31,EO37,EO43,EO49,EO55,EO61,EO67,EO73,EO79,EO85,EO91,EO97,EO103,EO109) | EP9: =SUM(ED9:EO9)
B10: 其中规下货物周转量 (万吨公里) | C10: 1672506.4 | D10: =C10/Z10-1 -> 0.2573508 | E10: 1049671.4 | F10: =E10/AB10-1 -> -0.1611881 | G10: 1617169.1 | H10: =G10/AD10-1 -> -0.046570369 | I10: 1688161.5 | J10: =I10/AF10-1 -> 0.00075458555 | K10: 1689902.9 | L10: =K10/AH10-1 -> 0.0063339478 | M10: 1562902.8 | N10: =M10/AJ10-1 -> 0.04406567 | O10: 1584647.1 | P10: =O10/AL10-1 -> -0.011121483 | Q10: 1700006.2 | R10: =Q10/AL10-1 -> 0.032644329 | T10: =S10/AN10-1 | U10: =C10+E10+G10+I10+K10+M10+O10+Q10+S10 | V10: =U10/SUM(X10,Z10,AB10,AD10,AF10,AH10,AJ10,AL10,AN10)-1 | X10: =SUM(X16,X22,X28,X34,X40,X46,X52,X58,X64,X70,X76,X82,X88,X94,X100,X106,X112) | Y10: =X10/AY10-1 | Z10: =SUM(Z16,Z22,Z28,Z34,Z40,Z46,Z52,Z58,Z64,Z70,Z76,Z82,Z88,Z94,Z100,Z106,Z112) | AA10: =Z10/BA10-1 | AB10: =SUM(AB16,AB22,AB28,AB34,AB40,AB46,AB52,AB58,AB64,AB70,AB76,AB82,AB88,AB94,AB100,AB106,AB112) | AC10: =AB10/BC10-1 | AD10: =SUM(AD16,AD22,AD28,AD34,AD40,AD46,AD52,AD58,AD64,AD70,AD76,AD82,AD88,AD94,AD100,AD106,AD112) | AE10: =AD10/BE10-1 | AF10: =SUM(AF16,AF22,AF28,AF34,AF40,AF46,AF52,AF58,AF64,AF70,AF76,AF82,AF88,AF94,AF100,AF106,AF112) | AG10: =AF10/BG10-1 | AH10: =SUM(AH16,AH22,AH28,AH34,AH40,AH46,AH52,AH58,AH64,AH70,AH76,AH82,AH88,AH94,AH100,AH106,AH112) | AI10: =AH10/BI10-1 | AJ10: =SUM(AJ16,AJ22,AJ28,AJ34,AJ40,AJ46,AJ52,AJ58,AJ64,AJ70,AJ76,AJ82,AJ88,AJ94,AJ100,AJ106,AJ112) | AK10: =AJ10/BK10-1 | AL10: =SUM(AL16,AL22,AL28,AL34,AL40,AL46,AL52,AL58,AL64,AL70,AL76,AL82,AL88,AL94,AL100,AL106,AL112) | AM10: =AL10/BM10-1 | AN10: =SUM(AN16,AN22,AN28,AN34,AN40,AN46,AN52,AN58,AN64,AN70,AN76,AN82,AN88,AN94,AN100,AN106,AN112) | AO10: =AN10/BO10-1 | AP10: =SUM(AP16,AP22,AP28,AP34,AP40,AP46,AP52,AP58,AP64,AP70,AP76,AP82,AP88,AP94,AP100,AP106,AP112) | AQ10: =AP10/BQ10-1 | AR10: =SUM(AR16,AR22,AR28,AR34,AR40,AR46,AR52,AR58,AR64,AR70,AR76,AR82,AR88,AR94,AR100,AR106,AR112) | AS10: =AR10/BS10-1 | AT10: =SUM(AT16,AT22,AT28,AT34,AT40,AT46,AT52,AT58,AT64,AT70,AT76,AT82,AT88,AT94,AT100,AT106,AT112) | AU10: =AT10/BU10-1 | AV10: =X10+Z10+AB10+AD10+AF10+AH10+AJ10+AL10+AN10+AP10+AR10+AT10 | AW10: =AV10/SUM(AY10,BA10,BC10,BE10,BG10,BI10,BK10,BM10,BO10,BQ10,BS10,BU10)-1 | AY10: =SUM(AY16,AY22,AY28,AY34,AY40,AY46,AY52,AY58,AY64,AY70,AY76,AY82,AY88,AY94,AY100,AY106,AY112) | AZ10: =AY10/BZ10-1 | BA10: =SUM(BA16,BA22,BA28,BA34,BA40,BA46,BA52,BA58,BA64,BA70,BA76,BA82,BA88,BA94,BA100,BA106,BA112) | BB10: =BA10/CB10-1 | BC10: =SUM(BC16,BC22,BC28,BC34,BC40,BC46,BC52,BC58,BC64,BC70,BC76,BC82,BC88,BC94,BC100,BC106,BC112) | BD10: =BC10/CD10-1 | BE10: =SUM(BE16,BE22,BE28,BE34,BE40,BE46,BE52,BE58,BE64,BE70,BE76,BE82,BE88,BE94,BE100,BE106,BE112) | BF10: =BE10/CF10-1 | BG10: =SUM(BG16,BG22,BG28,BG34,BG40,BG46,BG52,BG58,BG64,BG70,BG76,BG82,BG88,BG94,BG100,BG106,BG112) | BH10: =BG10/CH10-1 | BI10: =SUM(BI16,BI22,BI28,BI34,BI40,BI46,BI52,BI58,BI64,BI70,BI76,BI82,BI88,BI94,BI100,BI106,BI112) | BJ10: =BI10/CJ10-1 | BK10: =SUM(BK16,BK22,BK28,BK34,BK40,BK46,BK52,BK58,BK64,BK70,BK76,BK82,BK88,BK94,BK100,BK106,BK112) | BL10: =BK10/CL10-1 | BM10: =SUM(BM16,BM22,BM28,BM34,BM40,BM46,BM52,BM58,BM64,BM70,BM76,BM82,BM88,BM94,BM100,BM106,BM112) | BN10: =BM10/CN10-1 | BO10: =SUM(BO16,BO22,BO28,BO34,BO40,BO46,BO52,BO58,BO64,BO70,BO76,BO82,BO88,BO94,BO100,BO106,BO112) | BP10: =BO10/CP10-1 | BQ10: =SUM(BQ16,BQ22,BQ28,BQ34,BQ40,BQ46,BQ52,BQ58,BQ64,BQ70,BQ76,BQ82,BQ88,BQ94,BQ100,BQ106,BQ112) | BR10: =BQ10/CR10-1 | BS10: =SUM(BS16,BS22,BS28,BS34,BS40,BS46,BS52,BS58,BS64,BS70,BS76,BS82,BS88,BS94,BS100,BS106,BS112) | BT10: =BS10/CT10-1 | BU10: =SUM(BU16,BU22,BU28,BU34,BU40,BU46,BU52,BU58,BU64,BU70,BU76,BU82,BU88,BU94,BU100,BU106,BU112) | BV10: =BU10/CV10-1 | BW10: =AY10+BA10+BC10+BE10+BG10+BI10+BK10+BM10+BO10+BQ10+BS10+BU10 | BX10: =BW10/SUM(BZ10,CB10,CD10,CF10,CH10,CJ10,CL10,CN10,CP10,CR10,CT10,CV10)-1 | BZ10: =SUM(BZ16,BZ22,BZ28,BZ34,BZ40,BZ46,BZ52,BZ58,BZ64,BZ70,BZ76,BZ82,BZ88,BZ94,BZ100,BZ106,BZ112) | CA10: =BZ10/DN10-1 | CB10: =SUM(CB16,CB22,CB28,CB34,CB40,CB46,CB52,CB58,CB64,CB70,CB76,CB82,CB88,CB94,CB100,CB106,CB112) | CC10: =CB10/DO10-1 | CD10: =SUM(CD16,CD22,CD28,CD34,CD40,CD46,CD52,CD58,CD64,CD70,CD76,CD82,CD88,CD94,CD100,CD106,CD112) | CE10: =CD10/DP10-1 | CF10: =SUM(CF16,CF22,CF28,CF34,CF40,CF46,CF52,CF58,CF64,CF70,CF76,CF82,CF88,CF94,CF100,CF106,CF112) | CG10: =CF10/DQ10-1 | CH10: =SUM(CH16,CH22,CH28,CH34,CH40,CH46,CH52,CH58,CH64,CH70,CH76,CH82,CH88,CH94,CH100,CH106,CH112) | CI10: =CH10/DR10-1 | CJ10: =SUM(CJ16,CJ22,CJ28,CJ34,CJ40,CJ46,CJ52,CJ58,CJ64,CJ70,CJ76,CJ82,CJ88,CJ94,CJ100,CJ106,CJ112) | CK10: =CJ10/DS10-1 | CL10: =SUM(CL16,CL22,CL28,CL34,CL40,CL46,CL52,CL58,CL64,CL70,CL76,CL82,CL88,CL94,CL100,CL106,CL112) | CM10: =CL10/DT10-1 | CN10: =SUM(CN16,CN22,CN28,CN34,CN40,CN46,CN52,CN58,CN64,CN70,CN76,CN82,CN88,CN94,CN100,CN106,CN112) | CO10: =CN10/DU10-1 | CP10: =SUM(CP16,CP22,CP28,CP34,CP40,CP46,CP52,CP58,CP64,CP70,CP76,CP82,CP88,CP94,CP100,CP106,CP112) | CQ10: =CP10/DV10-1 | CR10: =SUM(CR16,CR22,CR28,CR34,CR40,CR46,CR52,CR58,CR64,CR70,CR76,CR82,CR88,CR94,CR100,CR106,CR112) | CS10: =CR10/DW10-1 | CT10: =SUM(CT16,CT22,CT28,CT34,CT40,CT46,CT52,CT58,CT64,CT70,CT76,CT82,CT88,CT94,CT100,CT106,CT112) | CU10: =CT10/DY10-1 | CV10: =SUM(CV16,CV22,CV28,CV34,CV40,CV46,CV52,CV58,CV64,CV70,CV76,CV82,CV88,CV94,CV100,CV106,CV112) | CW10: =CV10/DY10-1 | CX10: =BZ10+CB10+CD10+CF10+CH10+CJ10+CL10+CN10+CP10+CR10+CT10+CV10 | CY10: =CX10/SUM(DN10:DY10)-1 | DA10: =CV10/CT10-1 | DB10: =CT10/CR10-1 | DC10: =CR10/CP10-1 | DD10: =CP10/CN10-1 | DE10: =CN10/CL10-1 | DF10: =CL10/CJ10-1 | DG10: =CJ10/CH10-1 | DH10: =CH10/CF10-1 | DI10: =CF10/CD10-1 | DJ10: =CD10/CB10-1 | DK10: =(CB10-BZ10)/BZ10 | DL10: =(BZ10-DY10)/DY10 | DN10: =SUM(DN16,DN22,DN28,DN34,DN40,DN46,DN52,DN58,DN64,DN70,DN76,DN82,DN88,DN94,DN100,DN106,DN112) | DO10: =SUM(DO16,DO22,DO28,DO34,DO40,DO46,DO52,DO58,DO64,DO70,DO76,DO82,DO88,DO94,DO100,DO106,DO112) | DP10: =SUM(DP16,DP22,DP28,DP34,DP40,DP46,DP52,DP58,DP64,DP70,DP76,DP82,DP88,DP94,DP100,DP106,DP112) | DQ10: =SUM(DQ16,DQ22,DQ28,DQ34,DQ40,DQ46,DQ52,DQ58,DQ64,DQ70,DQ76,DQ82,DQ88,DQ94,DQ100,DQ106,DQ112) | DR10: =SUM(DR16,DR22,DR28,DR34,DR40,DR46,DR52,DR58,DR64,DR70,DR76,DR82,DR88,DR94,DR100,DR106,DR112) | DS10: =SUM(DS16,DS22,DS28,DS34,DS40,DS46,DS52,DS58,DS64,DS70,DS76,DS82,DS88,DS94,DS100,DS106,DS112) | DT10: =SUM(DT16,DT22,DT28,DT34,DT40,DT46,DT52,DT58,DT64,DT70,DT76,DT82,DT88,DT94,DT100,DT106,DT112) | DU10: =SUM(DU16,DU22,DU28,DU34,DU40,DU46,DU52,DU58,DU64,DU70,DU76,DU82,DU88,DU94,DU100,DU106,DU112) | ... DY10: =SUM(DY16,DY22,DY28,DY34,DY40,DY46,DY52,DY58,DY64,DY70,DY76,DY82,DY88,DY94,DY100,DY106,DY112) | DZ10: 0.00018941137 | EA10: =SUM(DN10:DY10) | EB10: =IFERROR(EA10/SUM(ED10:EO10)-1,"") | ED10: =SUM(ED16,ED22,ED28,ED34,ED40,ED46,ED52,ED58,ED64,ED70,ED76,ED82,ED88,ED94,ED100,ED106,ED112) | EE10: =SUM(EE16,EE22,EE28,EE34,EE40,EE46,EE52,EE58,EE64,EE70,EE76,EE82,EE88,EE94,EE100,EE106,EE112) | EF10: =SUM(EF16,EF22,EF28,EF34,EF40,EF46,EF52,EF58,EF64,EF70,EF76,EF82,EF88,EF94,EF100,EF106,EF112) | EG10: =SUM(EG16,EG22,EG28,EG34,EG40,EG46,EG52,EG58,EG64,EG70,EG76,EG82,EG88,EG94,EG100,EG106,EG112) | EH10: =SUM(EH16,EH22,EH28,EH34,EH40,EH46,EH52,EH58,EH64,EH70,EH76,EH82,EH88,EH94,EH100,EH106,EH112) | EI10: =SUM(EI16,EI22,EI28,EI34,EI40,EI46,EI52,EI58,EI64,EI70,EI76,EI82,EI88,EI94,EI100,EI106,EI112) | EJ10: =SUM(EJ16,EJ22,EJ28,EJ34,EJ40,EJ46,EJ52,EJ58,EJ64,EJ70,EJ76,EJ82,EJ88,EJ94,EJ100,EJ106,EJ112) | EK10: =SUM(EK16,EK22,EK28,EK34,EK40,EK46,EK52,EK58,EK64,EK70,EK76,EK82,EK88,EK94,EK100,EK106,EK112) | ... EO10: =SUM(EO16,EO22,EO28,EO34,EO40,EO46,EO52,EO58,EO64,EO70,EO76,EO82,EO88,EO94,EO100,EO106,EO112) | EP10: =SUM(ED10:EO10)
A11: 武汉市 | B11: 规上+规下货运量 (万吨) | C11: 5367.976 | D11: =C11/Z11-1 -> 0.15270283 | E11: 3325.2226 | F11: =E11/AB11-1 -> -0.17358272 | G11: 5045.5091 | H11: =G11/AD11-1 -> -0.046011972 | I11: 5344.9192 | J11: =I11/AF11-1 -> -0.021095289 | K11: 5241.1373 | L11: =K11/AH11-1 -> -0.00012572066 | M11: 5041.0422 | N11: =M11/AJ11-1 -> 0.039727842 | O11: 4940.9715 | P11: =O11/AL11-1 -> 0.012827398 | Q11: 5173.1802 | R11: =Q11/AL11-1 -> 0.059031681 | S11: 46266 | T11: 46266 | U11: =C11+E11+G11+I11+K11+M11+O11+Q11 | V11: =U11/SUM(X11,Z11,AB11,AD11,AF11,AH11,AJ11,AL11)-1 | X11: 4656.8602 | Y11: =X11/AY11-1 | Z11: 4023.6605 | AA11: =Z11/BA11-1 | AB11: 5288.86 | AC11: =AB11/BC11-1 | AD11: 5460.1016 | AE11: =AD11/BE11-1 | AF11: 5241.7963 | AG11: =AF11/BG11-1 | AH11: 4848.4248 | AI11: =AH11/BI11-1 | AJ11: 4878.3944 | AK11: =AJ11/BK11-1 | AL11: 4884.821 | AM11: =AL11/BM11-1 | AN11: 5013.4556 | AO11: =AN11/BO11-1 | AP11: 4807.0288 | AQ11: =AP11/BQ11-1 | AR11: 5151.9778 | AS11: =AR11/BS11-1 | AT11: 5606.9689 | AU11: =AT11/BU11-1 | AV11: =X11+Z11+AB11+AD11+AF11+AH11+AJ11+AL11+AN11+AP11+AR11+AT11 | AW11: =AV11/SUM(AY11,BA11,BC11,BE11,BG11,BI11,BK11,BM11,BO11,BQ11,BS11,BU11)-1 | AY11: 4874.2041 | AZ11: =AY11/BZ11-1 | BA11: 2461.2762 | BB11: =BA11/CB11-1 | BC11: 4666.8247 | BD11: =BC11/CD11-1 | BE11: 4940.2747 | BF11: =BE11/CF11-1 | BG11: 4827.6433 | BH11: =BG11/CH11-1 | BI11: 4483.673 | BJ11: =BI11/CJ11-1 | BK11: 4751.4256 | BL11: =BK11/CL11-1 | BM11: 4978.0158 | BN11: =BM11/CN11-1 | BO11: 5058.5262 | BP11: =BO11/CP11-1 | BQ11: 5050.7619 | BR11: =BQ11/CR11-1 | BS11: 5254.9143 | BT11: =BS11/CT11-1 | BU11: 5861.8276 | BV11: =BU11/CV11-1 | BW11: =AY11+BA11+BC11+BE11+BG11+BI11+BK11+BM11+BO11+BQ11+BS11+BU11 | BX11: =BW11/SUM(BZ11,CB11,CD11,CF11,CH11,CJ11,CL11,CN11,CP11,CR11,CT11,CV11)-1 | BZ11: 2984.8086 | CA11: =BZ11/DN11-1 | CB11: 3646.3604 | CC11: =CB11/DO11-1 | CD11: 4561.7315 | CE11: =CD11/DP11-1 | CF11: 4350.867 | CG11: =CF11/DQ11-1 | CH11: 4349.6792 | CI11: =CH11/DR11-1 | CJ11: 4380.4503 | CK11: =CJ11/DS11-1 | CL11: 4482.5934 | CM11: =CL11/DT11-1 | CN11: 4783.5962 | CO11: =CN11/DU11-1 | CP11: 4811.068 | CQ11: =CP11/DV11-1 | CR11: 4687.1456 | CS11: =CR11/DW11-1 | CT11: 4935.2178 | CU11: =CT11/DY11-1 | CV11: 5311.9935 | CW11: =CV11/DY11-1 | CX11: =BZ11+CB11+CD11+CF11+CH11+CJ11+CL11+CN11+CP11+CR11+CT11+CV11 | CY11: =CX11/SUM(DN11:DY11)-1 | DA11: =CV11/CT11-1 | DB11: =CT11/CR11-1 | DM11: 武汉市 | DN11: 3527.8941 | DO11: 2520.983 | DP11: 3983.1117 | DQ11: 3577.3787 | DR11: 3687.5669 | DS11: 3549.3472 | DT11: 3704.727 | DU11: 3775.5047 | DV11: 4236.5505 | DW11: 3935.667 | DX11: 4144.2516 | DY11: 4334.4264 | DZ11: -0.057195789 | EA11: =SUM(DN11:DY11) | EB11: =IFERROR(EA11/SUM(ED11:EO11)-1,"") | ED11: 4863.5297 | EE11: 2088.3234 | EF11: 3828.3068 | EG11: 4386.9744 | EH11: 4073.4711 | EI11: 4516.8977 | EJ11: 4020.7726 | EK11: 3939.6845 | EL11: 4321.4984 | EM11: 3983.3497 | EN11: 4732.901 | EO11: 4597.377 | EP11: =SUM(ED11:EO11)
B12: 规上货运量 (万吨) | C12: 1068.203 | D12: =C12/Z12-1 -> -0.36391234 | E12: 1082.0457 | F12: =E12/AB12-1 -> -0.31854184 | G12: 1315.4117 | H12: =G12/AD12-1 -> -0.20699314 | I12: 1395.7514 | J12: =I12/AF12-1 -> -0.18348528 | K12: 1404.6304 | L12: =K12/AH12-1 -> -0.16646907 | M12: 1411.5586 | N12: =M12/AJ12-1 -> -0.14816827 | O12: 1227.5499 | P12: =O12/AL12-1 -> 0.060076749 | Q12: 1167.8304 | R12: =Q12/AL12-1 -> 0.1062413 | T12: =S12/AN12-1 | U12: =C12+E12+G12+I12+K12+M12+O12+Q12+S12 | V12: =U12/SUM(X12,Z12,AB12,AD12,AF12,AH12,AJ12,AL12,AN12)-1 | X12: 1679.333 | Y12: =X12/AY12-1 | Z12: 1587.8388 | AA12: =Z12/BA12-1 | AB12: 1658.7646 | AC12: =AB12/BC12-1 | AD12: 1709.4014 | AE12: =AD12/BE12-1 | AF12: 1685.1569 | AG12: =AF12/BG12-1 | AH12: 1657.0862 | AI12: =AH12/BI12-1 | AJ12: 1157.9821 | AK12: =AJ12/BK12-1 | AL12: 1055.6742 | AM12: =AL12/BM12-1 | AN12: 1130.5905 | AO12: =AN12/BO12-1 | AP12: 1091.9593 | AQ12: =AP12/BQ12-1 | AR12: 1282.9303 | AS12: =AR12/BS12-1 | AT12: 1454.2056 | AU12: =AT12/BU12-1 | AV12: =X12+Z12+AB12+AD12+AF12+AH12+AJ12+AL12+AN12+AP12+AR12+AT12 | AW12: =AV12/SUM(AY12,BA12,BC12,BE12,BG12,BI12,BK12,BM12,BO12,BQ12,BS12,BU12)-1 | AY12: 1248.9741 | AZ12: =AY12/BZ12-1 | BA12: 890.9195 | BB12: =BA12/CB12-1 | BC12: 1150.0197 | BD12: =BC12/CD12-1 | BE12: 1396.8088 | BF12: =BE12/CF12-1 | BG12: 1336.3589 | BH12: =BG12/CH12-1 | BI12: 1364.4821 | BJ12: =BI12/CJ12-1 | BK12: 1466.8122 | BL12: =BK12/CL12-1 | BM12: 1537.9002 | BN12: =BM12/CN12-1 | BO12: 1482.234 | BP12: =BO12/CP12-1 | BQ12: 1501.2086 | BR12: =BQ12/CR12-1 | BS12: 1603.2823 | BT12: =BS12/CT12-1 | BU12: 1826.6492 | BV12: =BU12/CV12-1 | BW12: =AY12+BA12+BC12+BE12+BG12+BI12+BK12+BM12+BO12+BQ12+BS12+BU12 | BX12: =BW12/SUM(BZ12,CB12,CD12,CF12,CH12,CJ12,CL12,CN12,CP12,CR12,CT12,CV12)-1 | BZ12: 502.8711 | CA12: =BZ12/DN12-1 | CB12: 574.5986 | CC12: =CB12/DO12-1 | CD12: 663.6102 | CE12: =CD12/DP12-1 | CF12: 709.1734 | CG12: =CF12/DQ12-1 | CH12: 728.7535 | CI12: =CH12/DR12-1 | CJ12: 704.4881 | CK12: =CJ12/DS12-1 | CL12: 781.3303 | CM12: =CL12/DT12-1 | CN12: 819.1662 | CO12: =CN12/DU12-1 | CP12: 816.3959 | CQ12: =CP12/DV12-1 | CR12: 865.0056 | CS12: =CR12/DW12-1 | CT12: 875.7366 | CU12: =CT12/DY12-1 | CV12: 911.8235 | CW12: =CV12/DY12-1 | CX12: =BZ12+CB12+CD12+CF12+CH12+CJ12+CL12+CN12+CP12+CR12+CT12+CV12 | CY12: =CX12/SUM(DN12:DY12)-1 | DA12: =CV12/CT12-1 | DB12: =CT12/CR12-1 | DN12: 197.5861 | DO12: 170.6634 | DP12: 202.72 | DQ12: 173.4475 | DR12: 175.6111 | DS12: 179.1164 | DT12: 195.5276 | DU12: 181.8021 | DV12: 185.9725 | DW12: 175.8374 | DX12: 156.2715 | DY12: 191.4624 | DZ12: -0.17101454 | EA12: =SUM(DN12:DY12) | EB12: =IFERROR(EA12/SUM(ED12:EO12)-1,"") | ED12: 281.7984 | EE12: 158.6914 | EF12: 244.86636 | EG12: 240.82636 | EH12: 236.0501 | EI12: 226.246 | EJ12: 223.3899 | EK12: 183.2319 | EL12: 195.7 | EM12: 209.6869 | EN12: 221.6277 | EO12: 230.9599 | EP12: =SUM(ED12:EO12)
B13: 规下货运量 (万吨) | C13: 4299.773 | D13: =C13/Z13-1 -> 0.44407512 | E13: 2243.1769 | F13: =E13/AB13-1 -> -0.079088227 | G13: 3730.0974 | H13: =G13/AD13-1 -> 0.027548044 | I13: 3949.1678 | J13: =I13/AF13-1 -> 0.052914806 | K13: 3836.5069 | L13: =K13/AH13-1 -> 0.078688746 | M13: 3629.4836 | N13: =M13/AJ13-1 -> 0.13729194 | O13: 3713.4216 | P13: =O13/AL13-1 -> -0.0018790103 | Q13: 4005.3498 | R13: =Q13/AL13-1 -> 0.046016254 | T13: =S13/AN13-1 | U13: =C13+E13+G13+I13+K13+M13+O13+Q13+S13 | V13: =U13/SUM(X13,Z13,AB13,AD13,AF13,AH13,AJ13,AL13,AN13)-1 | X13: 2977.5272 | Y13: =X13/AY13-1 | Z13: 2435.8217 | AA13: =Z13/BA13-1 | AB13: 3630.0954 | AC13: =AB13/BC13-1 | AD13: 3750.7002 | AE13: =AD13/BE13-1 | AF13: 3556.6394 | AG13: =AF13/BG13-1 | AH13: 3191.3386 | AI13: =AH13/BI13-1 | AJ13: 3720.4123 | AK13: =AJ13/BK13-1 | AL13: 3829.1468 | AM13: =AL13/BM13-1 | AN13: 3882.8651 | AO13: =AN13/BO13-1 | AP13: 3715.0695 | AQ13: =AP13/BQ13-1 | AR13: 3869.0475 | AS13: =AR13/BS13-1 | AT13: 4152.7633 | AU13: =AT13/BU13-1 | AV13: =X13+Z13+AB13+AD13+AF13+AH13+AJ13+AL13+AN13+AP13+AR13+AT13 | AW13: =AV13/SUM(AY13,BA13,BC13,BE13,BG13,BI13,BK13,BM13,BO13,BQ13,BS13,BU13)-1 | AY13: 3625.23 | AZ13: =AY13/BZ13-1 | BA13: 1570.3567 | BB13: =BA13/CB13-1 | BC13: 3516.805 | BD13: =BC13/CD13-1 | BE13: 3543.4659 | BF13: =BE13/CF13-1 | BG13: 3491.2844 | BH13: =BG13/CH13-1 | BI13: 3119.1909 | BJ13: =BI13/CJ13-1 | BK13: 3284.6134 | BL13: =BK13/CL13-1 | BM13: 3440.1156 | BN13: =BM13/CN13-1 | BO13: 3576.2922 | BP13: =BO13/CP13-1 | BQ13: 3549.5533 | BR13: =BQ13/CR13-1 | BS13: 3651.632 | BT13: =BS13/CT13-1 | BU13: 4035.1784 | BV13: =BU13/CV13-1 | BW13: =AY13+BA13+BC13+BE13+BG13+BI13+BK13+BM13+BO13+BQ13+BS13+BU13 | BX13: =BW13/SUM(BZ13,CB13,CD13,CF13,CH13,CJ13,CL13,CN13,CP13,CR13,CT13,CV13)-1 | BZ13: 2481.9375 | CA13: =BZ13/DN13-1 | CB13: 3071.7618 | CC13: =CB13/DO13-1 | CD13: 3898.1213 | CE13: =CD13/DP13-1 | CF13: 3641.6936 | CG13: =CF13/DQ13-1 | CH13: 3620.9257 | CI13: =CH13/DR13-1 | CJ13: 3675.9622 | CK13: =CJ13/DS13-1 | CL13: 3701.2631 | CM13: =CL13/DT13-1 | CN13: 3964.43 | CO13: =CN13/DU13-1 | CP13: 3994.6721 | CQ13: =CP13/DV13-1 | CR13: 3822.14 | CS13: =CR13/DW13-1 | CT13: 4059.4812 | CU13: =CT13/DY13-1 | CV13: 4400.17 | CW13: =CV13/DY13-1 | CX13: =BZ13+CB13+CD13+CF13+CH13+CJ13+CL13+CN13+CP13+CR13+CT13+CV13 | CY13: =CX13/SUM(DN13:DY13)-1 | DA13: =CV13/CT13-1 | DB13: =CT13/CR13-1 | DN13: 3330.308 | DO13: 2350.3196 | DP13: 3780.3917 | DQ13: 3403.9312 | DR13: 3511.9558 | DS13: 3370.2308 | DT13: 3509.1994 | DU13: 3593.7026 | DV13: 4050.578 | DW13: 3759.8296 | DX13: 3987.9801 | DY13: 4142.964 | DZ13: -0.051175392 | EA13: =SUM(DN13:DY13) | EB13: =IFERROR(EA13/SUM(ED13:EO13)-1,"") | ED13: 4581.7313 | EE13: 1929.632 | EF13: 3583.4404 | EG13: 4146.1481 | EH13: 3837.421 | EI13: 4290.6517 | EJ13: 3797.3827 | EK13: 3756.4526 | EL13: 4125.7984 | EM13: 3773.6628 | EN13: 4511.2733 | EO13: 4366.4171 | EP13: =SUM(ED13:EO13)
B14: 规上+规下周转量 (万吨公里) | C14: =C15+C16 -> 687807.49 | D14: =C14/Z14-1 -> 0.11512203 | E14: =E15+E16 -> 459304.08 | F14: =E14/AB14-1 -> -0.17744664 | G14: =G15+G16 -> 675053.06 | H14: =G14/AD14-1 -> -0.043102128 | I14: =I15+I16 -> 704560.76 | J14: =I14/AF14-1 -> -0.015545996 | K14: =K15+K16 -> 714138.9 | L14: =K14/AH14-1 -> -0.012854581 | M14: =M15+M16 -> 687103.88 | N14: =M14/AJ14-1 -> 0.013855721 | O14: =O15+O16 -> 667561.37 | P14: =O14/AL14-1 -> 0.007630684 | Q14: =Q15+Q16 -> 696690.14 | R14: =Q14/AL14-1 -> 0.056392043 | S14: =S15+S16 | T14: =S14/AN14-1 | U14: =C14+E14+G14+I14+K14+M14+O14+Q14+S14 | V14: =U14/SUM(X14,Z14,AB14,AD14,AF14,AH14,AJ14,AL14,AN14)-1 | X14: =X15+X16 | Y14: =X14/AY14-1 | Z14: =Z15+Z16 | AA14: =Z14/BA14-1 | AB14: =AB15+AB16 | AC14: =AB14/BC14-1 | AD14: =AD15+AD16 | AE14: =AD14/BE14-1 | AF14: =AF15+AF16 | AG14: =AF14/BG14-1 | AH14: =AH15+AH16 | AI14: =AH14/BI14-1 | AJ14: =AJ15+AJ16 | AK14: =AJ14/BK14-1 | AL14: =AL15+AL16 | AM14: =AL14/BM14-1 | AN14: =AN15+AN16 | AO14: =AN14/BO14-1 | AP14: =AP15+AP16 | AQ14: =AP14/BQ14-1 | AR14: =AR15+AR16 | AS14: =AR14/BS14-1 | AT14: =AT15+AT16 | AU14: =AT14/BU14-1 | AV14: =X14+Z14+AB14+AD14+AF14+AH14+AJ14+AL14+AN14+AP14+AR14+AT14 | AW14: =AV14/SUM(AY14,BA14,BC14,BE14,BG14,BI14,BK14,BM14,BO14,BQ14,BS14,BU14)-1 | AY14: =AY15+AY16 | AZ14: =AY14/BZ14-1 | BA14: =BA15+BA16 | BB14: =BA14/CB14-1 | BC14: =BC15+BC16 | BD14: =BC14/CD14-1 | BE14: =BE15+BE16 | BF14: =BE14/CF14-1 | BG14: =BG15+BG16 | BH14: =BG14/CH14-1 | BI14: =BI15+BI16 | BJ14: =BI14/CJ14-1 | BK14: =BK15+BK16 | BL14: =BK14/CL14-1 | BM14: =BM15+BM16 | BN14: =BM14/CN14-1 | BO14: =BO15+BO16 | BP14: =BO14/CP14-1 | BQ14: =BQ15+BQ16 | BR14: =BQ14/CR14-1 | BS14: =BS15+BS16 | BT14: =BS14/CT14-1 | BU14: =BU15+BU16 | BV14: =BU14/CV14-1 | BW14: =AY14+BA14+BC14+BE14+BG14+BI14+BK14+BM14+BO14+BQ14+BS14+BU14 | BX14: =BW14/SUM(BZ14,CB14,CD14,CF14,CH14,CJ14,CL14,CN14,CP14,CR14,CT14,CV14)-1 | BZ14: =BZ15+BZ16 | CA14: =BZ14/DN14-1 | CB14: =CB15+CB16 | CC14: =CB14/DO14-1 | CD14: =SUM(CD15:CD16) | CE14: =CD14/DP14-1 | CF14: 597187.86 | CG14: =CF14/DQ14-1 | CH14: 612547.13 | CI14: =CH14/DR14-1 | CJ14: =CJ15+CJ16 | CK14: =CJ14/DS14-1 | CL14: =CL15+CL16 | CM14: =CL14/DT14-1 | CN14: 656799.19 | CO14: =CN14/DU14-1 | CP14: =SUM(CP15:CP16) | CQ14: =CP14/DV14-1 | CR14: =SUM(CR15:CR16) | CS14: =CR14/DW14-1 | CT14: =CT15+CT16 | CU14: =CT14/DY14-1 | CV14: =CV15+CV16 | CW14: =CV14/DY14-1 | CX14: =BZ14+CB14+CD14+CF14+CH14+CJ14+CL14+CN14+CP14+CR14+CT14+CV14 | CY14: =CX14/SUM(DN14:DY14)-1 | DA14: =CV14/CT14-1 | DB14: =CT14/CR14-1 | DE14: =CX7/CX5 | DN14: 519815.51 | DO14: 360327.36 | DP14: 527130.31 | DQ14: 504396.57 | DR14: 515752.5 | DS14: 492083.41 | DT14: 509065.59 | DU14: 520493.1 | DV14: 594403.79 | DW14: 586210.21 | DX14: 591294.48 | DY14: 608823.5 | DZ14: 0.016112404 | EA14: =SUM(DN14:DY14) | EB14: =IFERROR(EA14/SUM(ED14:EO14)-1,"") | ED14: =ED15+ED16 | EE14: =EE15+EE16 | EF14: =EF15+EF16 | EG14: =EG15+EG16 | EH14: =EH15+EH16 | EI14: =EI15+EI16 | EJ14: =EJ15+EJ16 | EK14: =EK15+EK16 | ... EO14: =EO15+EO16 | EP14: =SUM(ED14:EO14)
B15: 规上货物周转量 (万吨公里) | C15: 165332.61 | D15: =C15/Z15-1 -> -0.26114537 | E15: 149830.21 | F15: =E15/AB15-1 -> -0.30555906 | G15: 212998.43 | H15: =G15/AD15-1 -> -0.065928501 | I15: 227544.83 | J15: =I15/AF15-1 -> -0.016440863 | K15: 238395.12 | L15: =K15/AH15-1 -> 0.013506732 | M15: 241659.53 | N15: =M15/AJ15-1 -> -0.0077224221 | O15: 204809.56 | P15: =O15/AL15-1 -> 0.22325109 | Q15: 192320.52 | R15: =Q15/AL15-1 -> 0.33346425 | T15: =S15/AN15-1 | U15: =C15+E15+G15+I15+K15+M15+O15+Q15+S15 | V15: =U15/SUM(X15,Z15,AB15,AD15,AF15,AH15,AJ15,AL15,AN15)-1 | X15: 223768.79 | Y15: =X15/AY15-1 | Z15: 215756.59 | AA15: =Z15/BA15-1 | AB15: 228032.26 | AC15: =AB15/BC15-1 | AD15: 231348.39 | AE15: =AD15/BE15-1 | AF15: 235218.1 | AG15: =AF15/BG15-1 | AH15: 243540.25 | AI15: =AH15/BI15-1 | AJ15: 167430.52 | AK15: =AJ15/BK15-1 | AL15: 144226.23 | AM15: =AL15/BM15-1 | AN15: 162619.79 | AO15: =AN15/BO15-1 | AP15: 154248.88 | AQ15: =AP15/BQ15-1 | AR15: 189963.88 | AS15: =AR15/BS15-1 | AT15: 228375.1 | AU15: =AT15/BU15-1 | AV15: =X15+Z15+AB15+AD15+AF15+AH15+AJ15+AL15+AN15+AP15+AR15+AT15 | AW15: =AV15/SUM(AY15,BA15,BC15,BE15,BG15,BI15,BK15,BM15,BO15,BQ15,BS15,BU15)-1 | AY15: 180170.6 | AZ15: =AY15/BZ15-1 | BA15: 129426.48 | BB15: =BA15/CB15-1 | BC15: 159012.94 | BD15: =BC15/CD15-1 | BE15: 173812.2 | BF15: =BE15/CF15-1 | BG15: 173696.43 | BH15: =BG15/CH15-1 | BI15: 179078.9 | BJ15: =BI15/CJ15-1 | BK15: 202542.11 | BL15: =BK15/CL15-1 | BM15: 205470.09 | BN15: =BM15/CN15-1 | BO15: 205997.13 | BP15: =BO15/CP15-1 | BQ15: 203771.58 | BR15: =BQ15/CR15-1 | BS15: 221023.49 | BT15: =BS15/CT15-1 | BU15: 294139.99 | BV15: =BU15/CV15-1 | BW15: =AY15+BA15+BC15+BE15+BG15+BI15+BK15+BM15+BO15+BQ15+BS15+BU15 | BX15: =BW15/SUM(BZ15,CB15,CD15,CF15,CH15,CJ15,CL15,CN15,CP15,CR15,CT15,CV15)-1 | BZ15: 82056.639 | CA15: =BZ15/DN15-1 | CB15: 83946.71 | CC15: =CB15/DO15-1 | CD15: 95454.96 | CE15: =CD15/DP15-1 | CF15: 102624.04 | CG15: =CF15/DQ15-1 | CH15: 109978.63 | CI15: =CH15/DR15-1 | CJ15: 119972.11 | CK15: =CJ15/DS15-1 | CL15: 131297.07 | CM15: =CL15/DT15-1 | CN15: 135080.99 | CO15: =CN15/DU15-1 | CP15: 137003.91 | CQ15: =CP15/DV15-1 | CR15: 140386.45 | CS15: =CR15/DW15-1 | CT15: 145724.56 | CU15: =CT15/DY15-1 | CV15: 155520.78 | CW15: =CV15/DY15-1 | CX15: =BZ15+CB15+CD15+CF15+CH15+CJ15+CL15+CN15+CP15+CR15+CT15+CV15 | CY15: =CX15/SUM(DN15:DY15)-1 | DA15: =CV15/CT15-1 | DB15: =CT15/CR15-1 | DE15: =CX8/CX6 | DN15: 31664.369 | DO15: 29056.004 | DP15: 31802.224 | DQ15: 26432.653 | DR15: 28521.518 | DS15: 28991.72 | DT15: 30005.449 | DU15: 28472.126 | DV15: 28179.364 | DW15: 27965.431 | DX15: 24611.36 | DY15: 30880.499 | DZ15: -0.089590155 | EA15: =SUM(DN15:DY15) | EB15: =IFERROR(EA15/SUM(ED15:EO15)-1,"") | ED15: 43194.122 | EE15: 28235.53 | EF15: 37322.587 | EG15: 35839.149 | EH15: 34720.017 | EI15: 34634.98 | EJ15: 33474.004 | EK15: 31149.232 | EL15: 32160.23 | EM15: 32968.479 | EN15: 34644.534 | EO15: 33919.338 | EP15: =SUM(ED15:EO15)
B16: 规下货物周转量 (万吨公里) | C16: 522474.89 | D16: =C16/Z16-1 -> 0.32934638 | E16: 309473.87 | F16: =E16/AB16-1 -> -0.096773694 | G16: 462054.63 | H16: =G16/AD16-1 -> -0.03219964 | I16: 477015.93 | J16: =I16/AF16-1 -> -0.015118555 | K16: 475743.78 | L16: =K16/AH16-1 -> -0.025555114 | M16: 445444.36 | N16: =M16/AJ16-1 -> 0.025959517 | O16: 462751.81 | P16: =O16/AL16-1 -> -0.06529039 | Q16: 504369.61 | R16: =Q16/AL16-1 -> -0.021161121 | T16: =S16/AN16-1 | U16: =C16+E16+G16+I16+K16+M16+O16+Q16+S16 | V16: =U16/SUM(X16,Z16,AB16,AD16,AF16,AH16,AJ16,AL16,AN16)-1 | X16: 393031.41 | Y16: =X16/AY16-1 | Z16: 342631.6 | AA16: =Z16/BA16-1 | AB16: 477427.62 | AC16: =AB16/BC16-1 | AD16: 484338.43 | AE16: =AD16/BE16-1 | AF16: 488220.3 | AG16: =AF16/BG16-1 | AH16: 434173.42 | AI16: =AH16/BI16-1 | AJ16: 495075.48 | AK16: =AJ16/BK16-1 | AL16: 515273.38 | AM16: =AL16/BM16-1 | AN16: 529763.85 | AO16: =AN16/BO16-1 | AP16: 489544.51 | AQ16: =AP16/BQ16-1 | AR16: 476161.56 | AS16: =AR16/BS16-1 | AT16: 493249.5 | AU16: =AT16/BU16-1 | AV16: =X16+Z16+AB16+AD16+AF16+AH16+AJ16+AL16+AN16+AP16+AR16+AT16 | AW16: =AV16/SUM(AY16,BA16,BC16,BE16,BG16,BI16,BK16,BM16,BO16,BQ16,BS16,BU16)-1 | AY16: 456907.86 | AZ16: =AY16/BZ16-1 | BA16: 233539.54 | BB16: =BA16/CB16-1 | BC16: 460898.08 | BD16: =BC16/CD16-1 | BE16: 460477.13 | BF16: =BE16/CF16-1 | BG16: 472875.68 | BH16: =BG16/CH16-1 | BI16: 421365.25 | BJ16: =BI16/CJ16-1 | BK16: 435988.41 | BL16: =BK16/CL16-1 | BM16: 457113.69 | BN16: =BM16/CN16-1 | BO16: 478400.85 | BP16: =BO16/CP16-1 | BQ16: 481074.92 | BR16: =BQ16/CR16-1 | BS16: 473778.51 | BT16: =BS16/CT16-1 | BU16: 495292.45 | BV16: =BU16/CV16-1 | BW16: =AY16+BA16+BC16+BE16+BG16+BI16+BK16+BM16+BO16+BQ16+BS16+BU16 | BX16: =BW16/SUM(BZ16,CB16,CD16,CF16,CH16,CJ16,CL16,CN16,CP16,CR16,CT16,CV16)-1 | BZ16: 378334.75 | CA16: =BZ16/DN16-1 | CB16: 438823.74 | CC16: =CB16/DO16-1 | CD16: 525538.1 | CE16: =CD16/DP16-1 | CF16: 494563.82 | CG16: =CF16/DQ16-1 | CH16: 502568.5 | CI16: =CH16/DR16-1 | CJ16: 487501.57 | CK16: =CJ16/DS16-1 | CL16: 489756.4 | CM16: =CL16/DT16-1 | CN16: 521718.21 | CO16: =CN16/DU16-1 | CP16: 542958.29 | CQ16: =CP16/DV16-1 | CR16: 515928.64 | CS16: =CR16/DW16-1 | CT16: 528159.16 | CU16: =CT16/DY16-1 | CV16: 563216.53 | CW16: =CV16/DY16-1 | CX16: =BZ16+CB16+CD16+CF16+CH16+CJ16+CL16+CN16+CP16+CR16+CT16+CV16 | CY16: =CX16/SUM(DN16:DY16)-1 | DA16: =CV16/CT16-1 | DB16: =CT16/CR16-1 | DN16: 488151.14 | DO16: 331271.36 | DP16: 495328.09 | DQ16: 477963.92 | DR16: 487230.98 | DS16: 463091.69 | DT16: 479060.14 | DU16: 492020.97 | DV16: 566224.42 | DW16: 558244.78 | DX16: 566683.12 | DY16: 577943 | DZ16: 0.022455368 | EA16: =SUM(DN16:DY16) | EB16: =IFERROR(EA16/SUM(ED16:EO16)-1,"") | ED16: 639269.43 | EE16: 322682.26 | EF16: 470399.43 | EG16: 528325.35 | EH16: 505694.1 | EI16: 548627.74 | EJ16: 492049.95 | EK16: 526394.1 | EL16: 569654.95 | EM16: 504832.07 | EN16: 593432.62 | EO16: 565250.1 | EP16: =SUM(ED16:EO16)
A17: 黄石市 | B17: 规上+规下货运量 (万吨) | C17: 569.93509 | D17: =C17/Z17-1 -> 0.18580127 | E17: 411.12461 | F17: =E17/AB17-1 -> -0.15805594 | G17: 559.37453 | H17: =G17/AD17-1 -> -0.040545363 | I17: 632.22243 | J17: =I17/AF17-1 -> -0.013942318 | K17: 628.24764 | L17: =K17/AH17-1 -> -0.0020484893 | M17: 601.69526 | N17: =M17/AJ17-1 -> 0.043227688 | O17: 560.58694 | P17: =O17/AL17-1 -> 0.0042473292 | Q17: 589.583 | R17: =Q17/AL17-1 -> 0.030799631 | T17: =S17/AN17-1 | U17: =C17+E17+G17+I17+K17+M17+O17+Q17+S17 | V17: =U17/SUM(X17,Z17,AB17,AD17,AF17,AH17,AJ17,AL17,AN17)-1 | X17: 480.63289 | Y17: =X17/AY17-1 | Z17: 488.30395 | AA17: =Z17/BA17-1 | AB17: 583.013 | AC17: =AB17/BC17-1 | AD17: 641.16171 | AE17: =AD17/BE17-1 | AF17: 629.53724 | AG17: =AF17/BG17-1 | AH17: 576.76312 | AI17: =AH17/BI17-1 | AJ17: 558.21601 | AK17: =AJ17/BK17-1 | AL17: 571.96664 | AM17: =AL17/BM17-1 | AN17: 580.2096 | AO17: =AN17/BO17-1 | AP17: 557.14353 | AQ17: =AP17/BQ17-1 | AR17: 582.4312 | AS17: =AR17/BS17-1 | AT17: 592.65485 | AU17: =AT17/BU17-1 | AV17: =X17+Z17+AB17+AD17+AF17+AH17+AJ17+AL17+AN17+AP17+AR17+AT17 | AW17: =AV17/SUM(AY17,BA17,BC17,BE17,BG17,BI17,BK17,BM17,BO17,BQ17,BS17,BU17)-1 | AY17: 525.21427 | AZ17: =AY17/BZ17-1 | BA17: 324.71209 | BB17: =BA17/CB17-1 | BC17: 525.91806 | BD17: =BC17/CD17-1 | BE17: 604.23437 | BF17: =BE17/CF17-1 | BG17: 613.67149 | BH17: =BG17/CH17-1 | BI17: 553.29103 | BJ17: =BI17/CJ17-1 | BK17: 547.75775 | BL17: =BK17/CL17-1 | BM17: 575.35012 | BN17: =BM17/CN17-1 | BO17: 563.30586 | BP17: =BO17/CP17-1 | BQ17: 557.8774 | BR17: =BQ17/CR17-1 | BS17: 564.73641 | BT17: =BS17/CT17-1 | BU17: 604.18924 | BV17: =BU17/CV17-1 | BW17: =AY17+BA17+BC17+BE17+BG17+BI17+BK17+BM17+BO17+BQ17+BS17+BU17 | BX17: =BW17/SUM(BZ17,CB17,CD17,CF17,CH17,CJ17,CL17,CN17,CP17,CR17,CT17,CV17)-1 | BZ17: 299.50032 | CA17: =BZ17/DN17-1 | CB17: 435.59366 | CC17: =CB17/DO17-1 | CD17: 504.31431 | CE17: =CD17/DP17-1 | CF17: 538.35025 | CG17: =CF17/DQ17-1 | CH17: 552.5703 | CI17: =CH17/DR17-1 | CJ17: 545.57251 | CK17: =CJ17/DS17-1 | CL17: 525.97666 | CM17: =CL17/DT17-1 | CN17: 564.60231 | CO17: =CN17/DU17-1 | CP17: 532.51459 | CQ17: =CP17/DV17-1 | CR17: 538.89574 | CS17: =CR17/DW17-1 | CT17: 551.03161 | CU17: =CT17/DY17-1 | CV17: 543.48886 | CW17: =CV17/DY17-1 | CX17: =BZ17+CB17+CD17+CF17+CH17+CJ17+CL17+CN17+CP17+CR17+CT17+CV17 | CY17: =CX17/SUM(DN17:DY17)-1 | DA17: =CV17/CT17-1 | DB17: =CT17/CR17-1 | DN17: 365.84215 | DO17: 331.68997 | DP17: 470.75145 | DQ17: 442.85037 | DR17: 465.29276 | DS17: 431.81911 | DT17: 446.02937 | DU17: 478.72302 | DV17: 489.06827 | DW17: 474.98413 | DX17: 496.7457 | DY17: 487.37921 | DZ17: -0.063625183 | EA17: =SUM(DN17:DY17) | EB17: =IFERROR(EA17/SUM(ED17:EO17)-1,"") | ED17: 509.03783 | EE17: 283.56333 | EF17: 467.80407 | EG17: 518.02636 | EH17: 533.24037 | EI17: 581.70238 | EJ17: 525.40355 | EK17: 533.48166 | EL17: 516.57371 | EM17: 489.23075 | EN17: 531.03331 | EO17: 520.49585 | EP17: =SUM(ED17:EO17)
B18: 规上货运量 (万吨) | C18: 146.2244 | D18: =C18/Z18-1 -> -0.32014391 | E18: 138.363 | F18: =E18/AB18-1 -> -0.40744075 | G18: 141.3944 | H18: =G18/AD18-1 -> -0.39757521 | I18: 153.0738 | J18: =I18/AF18-1 -> -0.37347671 | K18: 145.4478 | L18: =K18/AH18-1 -> -0.3526968 | M18: 152.4682 | N18: =M18/AJ18-1 -> -0.3160214 | O18: 133.0799 | P18: =O18/AL18-1 -> -0.32456077 | Q18: 130.9953 | R18: =Q18/AL18-1 -> -0.34590391 | T18: =S18/AN18-1 | U18: =C18+E18+G18+I18+K18+M18+O18+Q18+S18 | V18: =U18/SUM(X18,Z18,AB18,AD18,AF18,AH18,AJ18,AL18,AN18)-1 | X18: 215.0814 | Y18: =X18/AY18-1 | Z18: 233.5007 | AA18: =Z18/BA18-1 | AB18: 234.7088 | AC18: =AB18/BC18-1 | AD18: 244.3226 | AE18: =AD18/BE18-1 | AF18: 224.6981 | AG18: =AF18/BG18-1 | AH18: 222.9137 | AI18: =AH18/BI18-1 | AJ18: 197.0272 | AK18: =AJ18/BK18-1 | AL18: 200.2692 | AM18: =AL18/BM18-1 | AN18: 237.2793 | AO18: =AN18/BO18-1 | AP18: 226.4434 | AQ18: =AP18/BQ18-1 | AR18: 232.4916 | AS18: =AR18/BS18-1 | AT18: 247.7827 | AU18: =AT18/BU18-1 | AV18: =X18+Z18+AB18+AD18+AF18+AH18+AJ18+AL18+AN18+AP18+AR18+AT18 | AW18: =AV18/SUM(AY18,BA18,BC18,BE18,BG18,BI18,BK18,BM18,BO18,BQ18,BS18,BU18)-1 | AY18: 199.5413 | AZ18: =AY18/BZ18-1 | BA18: 184.107 | BB18: =BA18/CB18-1 | BC18: 213.7702 | BD18: =BC18/CD18-1 | BE18: 240.6408 | BF18: =BE18/CF18-1 | BG18: 242.6287 | BH18: =BG18/CH18-1 | BI18: 232.4824 | BJ18: =BI18/CJ18-1 | BK18: 228.5154 | BL18: =BK18/CL18-1 | BM18: 241.4792 | BN18: =BM18/CN18-1 | BO18: 236.1798 | BP18: =BO18/CP18-1 | BQ18: 220.3632 | BR18: =BQ18/CR18-1 | BS18: 208.6072 | BT18: =BS18/CT18-1 | BU18: 235.3121 | BV18: =BU18/CV18-1 | BW18: =AY18+BA18+BC18+BE18+BG18+BI18+BK18+BM18+BO18+BQ18+BS18+BU18 | BX18: =BW18/SUM(BZ18,CB18,CD18,CF18,CH18,CJ18,CL18,CN18,CP18,CR18,CT18,CV18)-1 | BZ18: 91.1304 | CA18: =BZ18/DN18-1 | CB18: 101.3522 | CC18: =CB18/DO18-1 | CD18: 107.9145 | CE18: =CD18/DP18-1 | CF18: 230.7812 | CG18: =CF18/DQ18-1 | CH18: 271.097 | CI18: =CH18/DR18-1 | CJ18: 290.1972 | CK18: =CJ18/DS18-1 | CL18: 199.9823 | CM18: =CL18/DT18-1 | CN18: 173.726 | CO18: =CN18/DU18-1 | CP18: 167.6153 | CQ18: =CP18/DV18-1 | CR18: 151.216 | CS18: =CR18/DW18-1 | CT18: 171.5616 | CU18: =CT18/DY18-1 | CV18: 196.8561 | CW18: =CV18/DY18-1 | CX18: =BZ18+CB18+CD18+CF18+CH18+CJ18+CL18+CN18+CP18+CR18+CT18+CV18 | CY18: =CX18/SUM(DN18:DY18)-1 | DA18: =CV18/CT18-1 | DB18: =CT18/CR18-1 | DM18: 黄石市 | DN18: 33.4348 | DO18: 33.8666 | DP18: 30.4508 | DQ18: 36.1481 | DR18: 28.6769 | DS18: 30.1699 | DT18: 38.1869 | DU18: 26.6693 | DV18: 53.1762 | DW18: 41.4342 | DX18: 105.6138 | DY18: 49.1234 | DZ18: -0.4632654 | EA18: =SUM(DN18:DY18) | EB18: =IFERROR(EA18/SUM(ED18:EO18)-1,"") | ED18: 116.4564 | EE18: 111.7571 | EF18: 134.45383 | EG18: 130.23113 | EH18: 127.0119 | EI18: 131.2854 | EJ18: 126.5023 | EK18: 126.1601 | EL18: 125.5644 | EM18: 123.4414 | EN18: 91.2912 | EO18: 91.5227 | EP18: =SUM(ED18:EO18)
B19: 规下货运量 (万吨) | C19: 423.71069 | D19: =C19/Z19-1 -> 0.59558769 | E19: 272.76161 | F19: =E19/AB19-1 -> 0.070479319 | G19: 417.98013 | H19: =G19/AD19-1 -> 0.20004331 | I19: 479.14863 | J19: =I19/AF19-1 -> 0.20741282 | K19: 482.79984 | L19: =K19/AH19-1 -> 0.19257204 | M19: 449.22706 | N19: =M19/AJ19-1 -> 0.269543 | O19: 427.50704 | P19: =O19/AL19-1 -> 0.18361097 | Q19: 458.5877 | R19: =Q19/AL19-1 -> 0.2337661 | T19: =S19/AN19-1 | U19: =C19+E19+G19+I19+K19+M19+O19+Q19+S19 | V19: =U19/SUM(X19,Z19,AB19,AD19,AF19,AH19,AJ19,AL19,AN19)-1 | X19: 265.55149 | Y19: =X19/AY19-1 | Z19: 254.80325 | AA19: =Z19/BA19-1 | AB19: 348.3042 | AC19: =AB19/BC19-1 | AD19: 396.83911 | AE19: =AD19/BE19-1 | AF19: 404.83914 | AG19: =AF19/BG19-1 | AH19: 353.84942 | AI19: =AH19/BI19-1 | AJ19: 361.18881 | AK19: =AJ19/BK19-1 | AL19: 371.69744 | AM19: =AL19/BM19-1 | AN19: 342.9303 | AO19: =AN19/BO19-1 | AP19: 330.70013 | AQ19: =AP19/BQ19-1 | AR19: 349.9396 | AS19: =AR19/BS19-1 | AT19: 344.87215 | AU19: =AT19/BU19-1 | AV19: =X19+Z19+AB19+AD19+AF19+AH19+AJ19+AL19+AN19+AP19+AR19+AT19 | AW19: =AV19/SUM(AY19,BA19,BC19,BE19,BG19,BI19,BK19,BM19,BO19,BQ19,BS19,BU19)-1 | AY19: 325.67297 | AZ19: =AY19/BZ19-1 | BA19: 140.60509 | BB19: =BA19/CB19-1 | BC19: 312.14786 | BD19: =BC19/CD19-1 | BE19: 363.59357 | BF19: =BE19/CF19-1 | BG19: 371.04279 | BH19: =BG19/CH19-1 | BI19: 320.80863 | BJ19: =BI19/CJ19-1 | BK19: 319.24235 | BL19: =BK19/CL19-1 | BM19: 333.87092 | BN19: =BM19/CN19-1 | BO19: 327.12606 | BP19: =BO19/CP19-1 | BQ19: 337.5142 | BR19: =BQ19/CR19-1 | BS19: 356.12921 | BT19: =BS19/CT19-1 | BU19: 368.87714 | BV19: =BU19/CV19-1 | BW19: =AY19+BA19+BC19+BE19+BG19+BI19+BK19+BM19+BO19+BQ19+BS19+BU19 | BX19: =BW19/SUM(BZ19,CB19,CD19,CF19,CH19,CJ19,CL19,CN19,CP19,CR19,CT19,CV19)-1 | BZ19: 208.36992 | CA19: =BZ19/DN19-1 | CB19: 334.24146 | CC19: =CB19/DO19-1 | CD19: 396.39981 | CE19: =CD19/DP19-1 | CF19: 307.56905 | CG19: =CF19/DQ19-1 | CH19: 281.4733 | CI19: =CH19/DR19-1 | CJ19: 255.37531 | CK19: =CJ19/DS19-1 | CL19: 325.99436 | CM19: =CL19/DT19-1 | CN19: 390.87631 | CO19: =CN19/DU19-1 | CP19: 364.89929 | CQ19: =CP19/DV19-1 | CR19: 387.67974 | CS19: =CR19/DW19-1 | CT19: 379.47001 | CU19: =CT19/DY19-1 | CV19: 346.63276 | CW19: =CV19/DY19-1 | CX19: =BZ19+CB19+CD19+CF19+CH19+CJ19+CL19+CN19+CP19+CR19+CT19+CV19 | CY19: =CX19/SUM(DN19:DY19)-1 | DA19: =CV19/CT19-1 | DB19: =CT19/CR19-1 | DN19: 332.40735 | DO19: 297.82337 | DP19: 440.30065 | DQ19: 406.70227 | DR19: 436.61586 | DS19: 401.64921 | DT19: 407.84247 | DU19: 452.05372 | DV19: 435.89207 | DW19: 433.54993 | DX19: 391.1319 | DY19: 438.25581 | DZ19: 0.021639247 | EA19: =SUM(DN19:DY19) | EB19: =IFERROR(EA19/SUM(ED19:EO19)-1,"") | ED19: 392.58143 | EE19: 171.80623 | EF19: 333.35024 | EG19: 387.79523 | EH19: 406.22847 | EI19: 450.41698 | EJ19: 398.90125 | EK19: 407.32156 | EL19: 391.00931 | EM19: 365.78935 | EN19: 439.74211 | EO19: 428.97315 | EP19: =SUM(ED19:EO19)
B20: 规上+规下周转量 (万吨公里) | C20: =C21+C22 -> 47508.235 | D20: =C20/Z20-1 -> 0.14093892 | E20: =E21+E22 -> 35950.622 | F20: =E20/AB20-1 -> -0.14143785 | G20: =G21+G22 -> 49150.059 | H20: =G20/AD20-1 -> -0.025322547 | I20: =I21+I22 -> 51334.845 | J20: =I20/AF20-1 -> -0.0069948562 | K20: =K21+K22 -> 50815.385 | L20: =K20/AH20-1 -> -0.018464991 | M20: =M21+M22 -> 49166.969 | N20: =M20/AJ20-1 -> 0.012578912 | O20: =O21+O22 -> 46579.005 | P20: =O20/AL20-1 -> 0.022476408 | Q20: =Q21+Q22 -> 49699.176 | R20: =Q20/AL20-1 -> 0.063423287 | S20: =S21+S22 | T20: =S20/AN20-1 | U20: =C20+E20+G20+I20+K20+M20+O20+Q20+S20 | V20: =U20/SUM(X20,Z20,AB20,AD20,AF20,AH20,AJ20,AL20,AN20)-1 | X20: =X21+X22 | Y20: =X20/AY20-1 | Z20: =Z21+Z22 | AA20: =Z20/BA20-1 | AB20: =AB21+AB22 | AC20: =AB20/BC20-1 | AD20: =AD21+AD22 | AE20: =AD20/BE20-1 | AF20: =AF21+AF22 | AG20: =AF20/BG20-1 | AH20: =AH21+AH22 | AI20: =AH20/BI20-1 | AJ20: =AJ21+AJ22 | AK20: =AJ20/BK20-1 | AL20: =AL21+AL22 | AM20: =AL20/BM20-1 | AN20: =AN21+AN22 | AO20: =AN20/BO20-1 | AP20: =AP21+AP22 | AQ20: =AP20/BQ20-1 | AR20: =AR21+AR22 | AS20: =AR20/BS20-1 | AT20: =AT21+AT22 | AU20: =AT20/BU20-1 | AV20: =X20+Z20+AB20+AD20+AF20+AH20+AJ20+AL20+AN20+AP20+AR20+AT20 | AW20: =AV20/SUM(AY20,BA20,BC20,BE20,BG20,BI20,BK20,BM20,BO20,BQ20,BS20,BU20)-1 | AY20: =AY21+AY22 | AZ20: =AY20/BZ20-1 | BA20: =BA21+BA22 | BB20: =BA20/CB20-1 | BC20: =BC21+BC22 | BD20: =BC20/CD20-1 | BE20: =BE21+BE22 | BF20: =BE20/CF20-1 | BG20: =BG21+BG22 | BH20: =BG20/CH20-1 | BI20: =BI21+BI22 | BJ20: =BI20/CJ20-1 | BK20: =BK21+BK22 | BL20: =BK20/CL20-1 | BM20: =BM21+BM22 | BN20: =BM20/CN20-1 | BO20: =BO21+BO22 | BP20: =BO20/CP20-1 | BQ20: =BQ21+BQ22 | BR20: =BQ20/CR20-1 | BS20: =BS21+BS22 | BT20: =BS20/CT20-1 | BU20: =BU21+BU22 | BV20: =BU20/CV20-1 | BW20: =AY20+BA20+BC20+BE20+BG20+BI20+BK20+BM20+BO20+BQ20+BS20+BU20 | BX20: =BW20/SUM(BZ20,CB20,CD20,CF20,CH20,CJ20,CL20,CN20,CP20,CR20,CT20,CV20)-1 | BZ20: =BZ21+BZ22 | CA20: =BZ20/DN20-1 | CB20: =CB21+CB22 | CC20: =CB20/DO20-1 | CD20: =SUM(CD21:CD22) | CE20: =CD20/DP20-1 | CF20: 44439.439 | CG20: =CF20/DQ20-1 | CH20: 44693.339 | CI20: =CH20/DR20-1 | CJ20: =CJ21+CJ22 | CK20: =CJ20/DS20-1 | CL20: =CL21+CL22 | CM20: =CL20/DT20-1 | CN20: 48643.485 | CO20: =CN20/DU20-1 | CP20: =SUM(CP21:CP22) | CQ20: =CP20/DV20-1 | CR20: =SUM(CR21:CR22) | CS20: =CR20/DW20-1 | CT20: =CT21+CT22 | CU20: =CT20/DY20-1 | CV20: =CV21+CV22 | CW20: =CV20/DY20-1 | CX20: =BZ20+CB20+CD20+CF20+CH20+CJ20+CL20+CN20+CP20+CR20+CT20+CV20 | CY20: =CX20/SUM(DN20:DY20)-1 | DA20: =CV20/CT20-1 | DB20: =CT20/CR20-1 | DN20: 31655.878 | DO20: 24237.21 | DP20: 36150.369 | DQ20: 36799.051 | DR20: 37354.014 | DS20: 35048.998 | DT20: 36920.005 | DU20: 39932.131 | DV20: 40249.709 | DW20: 41678.164 | DX20: 48866.702 | DY20: 45136.946 | DZ20: 0.089376292 | EA20: =SUM(DN20:DY20) | EB20: =IFERROR(EA20/SUM(ED20:EO20)-1,"") | ED20: =ED21+ED22 | EE20: =EE21+EE22 | EF20: =EF21+EF22 | EG20: =EG21+EG22 | EH20: =EH21+EH22 | EI20: =EI21+EI22 | EJ20: =EJ21+EJ22 | EK20: =EK21+EK22 | ... EO20: =EO21+EO22 | EP20: =SUM(ED20:EO20)
B21: 规上货物周转量 (万吨公里) | C21: 18790.831 | D21: =C21/Z21-1 -> -0.17961935 | E21: 18331.502 | F21: =E21/AB21-1 -> -0.17939931 | G21: 17686.344 | H21: =G21/AD21-1 -> -0.1307394 | I21: 16648.408 | J21: =I21/AF21-1 -> -0.21376073 | K21: 15402.928 | L21: =K21/AH21-1 -> -0.23087368 | M21: 16044.6 | N21: =M21/AJ21-1 -> -0.20906344 | O21: 15366.326 | P21: =O21/AL21-1 -> 0.10305926 | Q21: 15945.611 | R21: =Q21/AL21-1 -> 0.21337654 | T21: =S21/AN21-1 | U21: =C21+E21+G21+I21+K21+M21+O21+Q21+S21 | V21: =U21/SUM(X21,Z21,AB21,AD21,AF21,AH21,AJ21,AL21,AN21)-1 | X21: 22905.014 | Y21: =X21/AY21-1 | Z21: 22339.126 | AA21: =Z21/BA21-1 | AB21: 20346.423 | AC21: =AB21/BC21-1 | AD21: 21174.735 | AE21: =AD21/BE21-1 | AF21: 20026.525 | AG21: =AF21/BG21-1 | AH21: 20285.571 | AI21: =AH21/BI21-1 | AJ21: 13930.644 | AK21: =AJ21/BK21-1 | AL21: 13141.519 | AM21: =AL21/BM21-1 | AN21: 21230.292 | AO21: =AN21/BO21-1 | AP21: 20153.559 | AQ21: =AP21/BQ21-1 | AR21: 21854.12 | AS21: =AR21/BS21-1 | AT21: 27481.376 | AU21: =AT21/BU21-1 | AV21: =X21+Z21+AB21+AD21+AF21+AH21+AJ21+AL21+AN21+AP21+AR21+AT21 | AW21: =AV21/SUM(AY21,BA21,BC21,BE21,BG21,BI21,BK21,BM21,BO21,BQ21,BS21,BU21)-1 | AY21: 18013.874 | AZ21: =AY21/BZ21-1 | BA21: 17155.515 | BB21: =BA21/CB21-1 | BC21: 16803.094 | BD21: =BC21/CD21-1 | BE21: 18398.706 | BF21: =BE21/CF21-1 | BG21: 19155.919 | BH21: =BG21/CH21-1 | BI21: 19802.728 | BJ21: =BI21/CJ21-1 | BK21: 19628.961 | BL21: =BK21/CL21-1 | BM21: 20414.905 | BN21: =BM21/CN21-1 | BO21: 20784.801 | BP21: =BO21/CP21-1 | BQ21: 20338.527 | BR21: =BQ21/CR21-1 | BS21: 21475.468 | BT21: =BS21/CT21-1 | BU21: 26731.013 | BV21: =BU21/CV21-1 | BW21: =AY21+BA21+BC21+BE21+BG21+BI21+BK21+BM21+BO21+BQ21+BS21+BU21 | BX21: =BW21/SUM(BZ21,CB21,CD21,CF21,CH21,CJ21,CL21,CN21,CP21,CR21,CT21,CV21)-1 | BZ21: 8511.501 | CA21: =BZ21/DN21-1 | CB21: 8928.2693 | CC21: =CB21/DO21-1 | CD21: 12760.38 | CE21: =CD21/DP21-1 | CF21: 13801.184 | CG21: =CF21/DQ21-1 | CH21: 14540.776 | CI21: =CH21/DR21-1 | CJ21: 17440.859 | CK21: =CJ21/DS21-1 | CL21: 12763.725 | CM21: =CL21/DT21-1 | CN21: 13734.301 | CO21: =CN21/DU21-1 | CP21: 14269.396 | CQ21: =CP21/DV21-1 | CR21: 15619.705 | CS21: =CR21/DW21-1 | CT21: 16459.24 | CU21: =CT21/DY21-1 | CV21: 19582.015 | CW21: =CV21/DY21-1 | CX21: =BZ21+CB21+CD21+CF21+CH21+CJ21+CL21+CN21+CP21+CR21+CT21+CV21 | CY21: =CX21/SUM(DN21:DY21)-1 | DA21: =CV21/CT21-1 | DB21: =CT21/CR21-1 | DN21: 1903.2883 | DO21: 2130.2988 | DP21: 1725.3818 | DQ21: 1976.1608 | DR21: 1849.8676 | DS21: 1818.547 | DT21: 2126.2045 | DU21: 1708.7346 | DV21: 2944.0374 | DW21: 3141.7798 | DX21: 15333.329 | DY21: 3794.4287 | DZ21: 0.55142766 | EA21: =SUM(DN21:DY21) | EB21: =IFERROR(EA21/SUM(ED21:EO21)-1,"") | ED21: 3237.998 | EE21: 3002.1352 | EF21: 3766.6047 | EG21: 3609.6626 | EH21: 3346.6557 | EI21: 3182.3725 | EJ21: 2933.6125 | EK21: 2950.7339 | EL21: 2918.4024 | EM21: 2923.2801 | EN21: 2444.1137 | EO21: 2445.7658 | EP21: =SUM(ED21:EO21)
B22: 规下货物周转量 (万吨公里) | C22: 28717.404 | D22: =C22/Z22-1 -> 0.53285543 | E22: 17619.12 | F22: =E22/AB22-1 -> -0.098024899 | G22: 31463.715 | H22: =G22/AD22-1 -> 0.045981136 | I22: 34686.437 | J22: =I22/AF22-1 -> 0.13645095 | K22: 35412.457 | L22: =K22/AH22-1 -> 0.11553509 | M22: 33122.37 | N22: =M22/AJ22-1 -> 0.17161832 | O22: 31212.679 | P22: =O22/AL22-1 -> -0.013020532 | Q22: 33753.565 | R22: =Q22/AL22-1 -> 0.0047628378 | T22: =S22/AN22-1 | U22: =C22+E22+G22+I22+K22+M22+O22+Q22+S22 | V22: =U22/SUM(X22,Z22,AB22,AD22,AF22,AH22,AJ22,AL22,AN22)-1 | X22: 18734.581 | Y22: =X22/AY22-1 | Z22: 19533.931 | AA22: =Z22/BA22-1 | AB22: 30080.576 | AC22: =AB22/BC22-1 | AD22: 30521.719 | AE22: =AD22/BE22-1 | AF22: 31744.817 | AG22: =AF22/BG22-1 | AH22: 28270.614 | AI22: =AH22/BI22-1 | AJ22: 31624.446 | AK22: =AJ22/BK22-1 | AL22: 33593.564 | AM22: =AL22/BM22-1 | AN22: 28085.302 | AO22: =AN22/BO22-1 | AP22: 27470.616 | AQ22: =AP22/BQ22-1 | AR22: 29272.734 | AS22: =AR22/BS22-1 | AT22: 26023.575 | AU22: =AT22/BU22-1 | AV22: =X22+Z22+AB22+AD22+AF22+AH22+AJ22+AL22+AN22+AP22+AR22+AT22 | AW22: =AV22/SUM(AY22,BA22,BC22,BE22,BG22,BI22,BK22,BM22,BO22,BQ22,BS22,BU22)-1 | AY22: 26345.818 | AZ22: =AY22/BZ22-1 | BA22: 11831.028 | BB22: =BA22/CB22-1 | BC22: 29401.012 | BD22: =BC22/CD22-1 | BE22: 30096.711 | BF22: =BE22/CF22-1 | BG22: 30042.307 | BH22: =BG22/CH22-1 | BI22: 25493.744 | BJ22: =BI22/CJ22-1 | BK22: 25909.578 | BL22: =BK22/CL22-1 | BM22: 28227.328 | BN22: =BM22/CN22-1 | BO22: 27064.105 | BP22: =BO22/CP22-1 | BQ22: 28700.727 | BR22: =BQ22/CR22-1 | BS22: 30677.806 | BT22: =BS22/CT22-1 | BU22: 30339.033 | BV22: =BU22/CV22-1 | BW22: =AY22+BA22+BC22+BE22+BG22+BI22+BK22+BM22+BO22+BQ22+BS22+BU22 | BX22: =BW22/SUM(BZ22,CB22,CD22,CF22,CH22,CJ22,CL22,CN22,CP22,CR22,CT22,CV22)-1 | BZ22: 20456.667 | CA22: =BZ22/DN22-1 | CB22: 27133.448 | CC22: =CB22/DO22-1 | CD22: 31691.209 | CE22: =CD22/DP22-1 | CF22: 30638.255 | CG22: =CF22/DQ22-1 | CH22: 30152.562 | CI22: =CH22/DR22-1 | CJ22: 27131.177 | CK22: =CJ22/DS22-1 | CL22: 31570.203 | CM22: =CL22/DT22-1 | CN22: 34909.184 | CO22: =CN22/DU22-1 | CP22: 32022.811 | CQ22: =CP22/DV22-1 | CR22: 32120.668 | CS22: =CR22/DW22-1 | CT22: 36173.848 | CU22: =CT22/DY22-1 | CV22: 32513.281 | CW22: =CV22/DY22-1 | CX22: =BZ22+CB22+CD22+CF22+CH22+CJ22+CL22+CN22+CP22+CR22+CT22+CV22 | CY22: =CX22/SUM(DN22:DY22)-1 | DA22: =CV22/CT22-1 | DB22: =CT22/CR22-1 | DN22: 29752.59 | DO22: 22106.911 | DP22: 34424.987 | DQ22: 34822.89 | DR22: 35504.146 | DS22: 33230.451 | DT22: 34793.8 | DU22: 38223.396 | DV22: 37305.672 | DW22: 38536.384 | DX22: 33533.373 | DY22: 41342.518 | DZ22: 0.060391224 | EA22: =SUM(DN22:DY22) | EB22: =IFERROR(EA22/SUM(ED22:EO22)-1,"") | ED22: 37063.614 | EE22: 18640.682 | EF22: 30989.101 | EG22: 35413.673 | EH22: 36349.048 | EI22: 39843.367 | EJ22: 36457.908 | EK22: 41541.196 | EL22: 37898.746 | EM22: 34121.826 | EN22: 41390.669 | EO22: 38987.985 | EP22: =SUM(ED22:EO22)
A23: 十堰市 | B23: 规上+规下货运量 (万吨) | C23: 358.65571 | D23: =C23/Z23-1 -> 0.30261474 | E23: 237.36543 | F23: =E23/AB23-1 -> -0.085934809 | G23: 355.60202 | H23: =G23/AD23-1 -> 0.011231253 | I23: 366.87975 | J23: =I23/AF23-1 -> 0.022085943 | K23: 365.51249 | L23: =K23/AH23-1 -> 0.060110596 | M23: 341.79658 | N23: =M23/AJ23-1 -> 0.11265158 | O23: 325.09413 | P23: =O23/AL23-1 -> 0.044843263 | Q23: 328.67117 | R23: =Q23/AL23-1 -> 0.055315913 | T23: =S23/AN23-1 | U23: =C23+E23+G23+I23+K23+M23+O23+Q23+S23 | V23: =U23/SUM(X23,Z23,AB23,AD23,AF23,AH23,AJ23,AL23,AN23)-1 | X23: 275.33522 | Y23: =X23/AY23-1 | Z23: 259.68108 | AA23: =Z23/BA23-1 | AB23: 351.65252 | AC23: =AB23/BC23-1 | AD23: 358.95196 | AE23: =AD23/BE23-1 | AF23: 344.78713 | AG23: =AF23/BG23-1 | AH23: 307.19102 | AI23: =AH23/BI23-1 | AJ23: 311.14153 | AK23: =AJ23/BK23-1 | AL23: 311.44339 | AM23: =AL23/BM23-1 | AN23: 329.085 | AO23: =AN23/BO23-1 | AP23: 311.41603 | AQ23: =AP23/BQ23-1 | AR23: 351.15314 | AS23: =AR23/BS23-1 | AT23: 366.1713 | AU23: =AT23/BU23-1 | AV23: =X23+Z23+AB23+AD23+AF23+AH23+AJ23+AL23+AN23+AP23+AR23+AT23 | AW23: =AV23/SUM(AY23,BA23,BC23,BE23,BG23,BI23,BK23,BM23,BO23,BQ23,BS23,BU23)-1 | AY23: 295.96162 | AZ23: =AY23/BZ23-1 | BA23: 155.7222 | BB23: =BA23/CB23-1 | BC23: 315.53967 | BD23: =BC23/CD23-1 | BE23: 326.77646 | BF23: =BE23/CF23-1 | BG23: 324.08021 | BH23: =BG23/CH23-1 | BI23: 293.83547 | BJ23: =BI23/CJ23-1 | BK23: 294.65109 | BL23: =BK23/CL23-1 | BM23: 306.85725 | BN23: =BM23/CN23-1 | BO23: 311.51897 | BP23: =BO23/CP23-1 | BQ23: 311.27608 | BR23: =BQ23/CR23-1 | BS23: 327.5602 | BT23: =BS23/CT23-1 | BU23: 349.36406 | BV23: =BU23/CV23-1 | BW23: =AY23+BA23+BC23+BE23+BG23+BI23+BK23+BM23+BO23+BQ23+BS23+BU23 | BX23: =BW23/SUM(BZ23,CB23,CD23,CF23,CH23,CJ23,CL23,CN23,CP23,CR23,CT23,CV23)-1 | BZ23: 173.74642 | CA23: =BZ23/DN23-1 | CB23: 250.79449 | CC23: =CB23/DO23-1 | CD23: 310.49637 | CE23: =CD23/DP23-1 | CF23: 297.07644 | CG23: =CF23/DQ23-1 | CH23: 306.72844 | CI23: =CH23/DR23-1 | CJ23: 291.57055 | CK23: =CJ23/DS23-1 | CL23: 292.76841 | CM23: =CL23/DT23-1 | CN23: 297.11636 | CO23: =CN23/DU23-1 | CP23: 299.69014 | CQ23: =CP23/DV23-1 | CR23: 300.51515 | CS23: =CR23/DW23-1 | CT23: 322.94049 | CU23: =CT23/DY23-1 | CV23: 310.26033 | CW23: =CV23/DY23-1 | CX23: =BZ23+CB23+CD23+CF23+CH23+CJ23+CL23+CN23+CP23+CR23+CT23+CV23 | CY23: =CX23/SUM(DN23:DY23)-1 | DA23: =CV23/CT23-1 | DB23: =CT23/CR23-1 | DN23: 196.63861 | DO23: 172.47075 | DP23: 268.61985 | DQ23: 238.37493 | DR23: 251.8924 | DS23: 234.81502 | DT23: 244.6772 | DU23: 236.50337 | DV23: 270.26304 | DW23: 254.17585 | DX23: 280.12766 | DY23: 278.46955 | DZ23: -0.095250974 | EA23: =SUM(DN23:DY23) | EB23: =IFERROR(EA23/SUM(ED23:EO23)-1,"") | ED23: 256.78565 | EE23: 137.96745 | EF23: 258.92894 | EG23: 305.16843 | EH23: 292.64203 | EI23: 306.46666 | EJ23: 282.70762 | EK23: 268.34729 | EL23: 289.72082 | EM23: 276.60906 | EN23: 311.89056 | EO23: 307.78652 | EP23: =SUM(ED23:EO23)
B24: 规上货运量 (万吨) | C24: 12.1174 | D24: =C24/Z24-1 -> -0.029606554 | E24: 9.6443 | F24: =E24/AB24-1 -> -0.23671173 | G24: 12.6232 | H24: =G24/AD24-1 -> -0.0011868779 | I24: 12.4025 | J24: =I24/AF24-1 -> -0.036908478 | K24: 12.4069 | L24: =K24/AH24-1 -> -0.039111207 | M24: 12.7324 | N24: =M24/AJ24-1 -> -0.0035764316 | O24: 12.3819 | P24: =O24/AL24-1 -> -0.023755834 | Q24: 12.796 | R24: =Q24/AL24-1 -> 0.014862871 | T24: =S24/AN24-1 | U24: =C24+E24+G24+I24+K24+M24+O24+Q24+S24 | V24: =U24/SUM(X24,Z24,AB24,AD24,AF24,AH24,AJ24,AL24,AN24)-1 | X24: 12.4871 | Y24: =X24/AY24-1 | Z24: 12.6352 | AA24: =Z24/BA24-1 | AB24: 12.6382 | AC24: =AB24/BC24-1 | AD24: 12.8778 | AE24: =AD24/BE24-1 | AF24: 12.9119 | AG24: =AF24/BG24-1 | AH24: 12.7781 | AI24: =AH24/BI24-1 | AJ24: 12.6832 | AK24: =AJ24/BK24-1 | AL24: 12.6086 | AM24: =AL24/BM24-1 | AN24: 12.3113 | AO24: =AN24/BO24-1 | AP24: 11.9473 | AQ24: =AP24/BQ24-1 | AR24: 12.675 | AS24: =AR24/BS24-1 | AT24: 13.0982 | AU24: =AT24/BU24-1 | AV24: =X24+Z24+AB24+AD24+AF24+AH24+AJ24+AL24+AN24+AP24+AR24+AT24 | AW24: =AV24/SUM(AY24,BA24,BC24,BE24,BG24,BI24,BK24,BM24,BO24,BQ24,BS24,BU24)-1 | AY24: 13.4803 | AZ24: =AY24/BZ24-1 | BA24: 12.0388 | BB24: =BA24/CB24-1 | BC24: 12.9301 | BD24: =BC24/CD24-1 | BE24: 14.8633 | BF24: =BE24/CF24-1 | BG24: 14.8473 | BH24: =BG24/CH24-1 | BI24: 14.8487 | BJ24: =BI24/CJ24-1 | BK24: 15.7384 | BL24: =BK24/CL24-1 | BM24: 16.6248 | BN24: =BM24/CN24-1 | BO24: 17.5034 | BP24: =BO24/CP24-1 | BQ24: 17.6115 | BR24: =BQ24/CR24-1 | BS24: 17.3951 | BT24: =BS24/CT24-1 | BU24: 18.5355 | BV24: =BU24/CV24-1 | BW24: =AY24+BA24+BC24+BE24+BG24+BI24+BK24+BM24+BO24+BQ24+BS24+BU24 | BX24: =BW24/SUM(BZ24,CB24,CD24,CF24,CH24,CJ24,CL24,CN24,CP24,CR24,CT24,CV24)-1 | BZ24: 10.8482 | CA24: =BZ24/DN24-1 | CB24: 13.7856 | CC24: =CB24/DO24-1 | CD24: 15.8807 | CE24: =CD24/DP24-1 | CF24: 17.7147 | CG24: =CF24/DQ24-1 | CH24: 16.7663 | CI24: =CH24/DR24-1 | CJ24: 16.3111 | CK24: =CJ24/DS24-1 | CL24: 12.7632 | CM24: =CL24/DT24-1 | CN24: 17.0019 | CO24: =CN24/DU24-1 | CP24: 16.1463 | CQ24: =CP24/DV24-1 | CR24: 18.9374 | CS24: =CR24/DW24-1 | CT24: 17.2238 | CU24: =CT24/DY24-1 | CV24: 18.5078 | CW24: =CV24/DY24-1 | CX24: =BZ24+CB24+CD24+CF24+CH24+CJ24+CL24+CN24+CP24+CR24+CT24+CV24 | CY24: =CX24/SUM(DN24:DY24)-1 | DA24: =CV24/CT24-1 | DB24: =CT24/CR24-1 | DM24: 十堰市 | DN24: 8.3554 | DO24: 7.173 | DP24: 8.0282 | DQ24: 8.4326 | DR24: 8.5604 | DS24: 8.1447 | DT24: 7.8214 | DU24: 7.6844 | DV24: 8.1402 | DW24: 8.1092 | DX24: 7.0922 | DY24: 7.1948 | DZ24: -0.64883372 | EA24: =SUM(DN24:DY24) | EB24: =IFERROR(EA24/SUM(ED24:EO24)-1,"") | ED24: 7.7461 | EE24: 6.8842 | EF24: 15.74859 | EG24: 16.4857 | EH24: 17.6823 | EI24: 16.5942 | EJ24: 16.5411 | EK24: 16.6305 | EL24: 16.3572 | EM24: 16.8031 | EN24: 17.7429 | EO24: 20.4883 | EP24: =SUM(ED24:EO24)
B25: 规下货运量 (万吨) | C25: 346.53831 | D25: =C25/Z25-1 -> 0.31839754 | E25: 227.72113 | F25: =E25/AB25-1 -> -0.0782233 | G25: 342.97882 | H25: =G25/AD25-1 -> 0.011694191 | I25: 354.47725 | J25: =I25/AF25-1 -> 0.02428119 | K25: 353.10559 | L25: =K25/AH25-1 -> 0.063970908 | M25: 329.06418 | N25: =M25/AJ25-1 -> 0.1176961 | O25: 312.71223 | P25: =O25/AL25-1 -> 0.04775843 | Q25: 315.87517 | R25: =Q25/AL25-1 -> 0.05702273 | T25: =S25/AN25-1 | U25: =C25+E25+G25+I25+K25+M25+O25+Q25+S25 | V25: =U25/SUM(X25,Z25,AB25,AD25,AF25,AH25,AJ25,AL25,AN25)-1 | X25: 262.84812 | Y25: =X25/AY25-1 | Z25: 247.04588 | AA25: =Z25/BA25-1 | AB25: 339.01432 | AC25: =AB25/BC25-1 | AD25: 346.07416 | AE25: =AD25/BE25-1 | AF25: 331.87523 | AG25: =AF25/BG25-1 | AH25: 294.41292 | AI25: =AH25/BI25-1 | AJ25: 298.45833 | AK25: =AJ25/BK25-1 | AL25: 298.83479 | AM25: =AL25/BM25-1 | AN25: 316.7737 | AO25: =AN25/BO25-1 | AP25: 299.46873 | AQ25: =AP25/BQ25-1 | AR25: 338.47814 | AS25: =AR25/BS25-1 | AT25: 353.0731 | AU25: =AT25/BU25-1 | AV25: =X25+Z25+AB25+AD25+AF25+AH25+AJ25+AL25+AN25+AP25+AR25+AT25 | AW25: =AV25/SUM(AY25,BA25,BC25,BE25,BG25,BI25,BK25,BM25,BO25,BQ25,BS25,BU25)-1 | AY25: 282.48132 | AZ25: =AY25/BZ25-1 | BA25: 143.6834 | BB25: =BA25/CB25-1 | BC25: 302.60957 | BD25: =BC25/CD25-1 | BE25: 311.91316 | BF25: =BE25/CF25-1 | BG25: 309.23291 | BH25: =BG25/CH25-1 | BI25: 278.98677 | BJ25: =BI25/CJ25-1 | BK25: 278.91269 | BL25: =BK25/CL25-1 | BM25: 290.23245 | BN25: =BM25/CN25-1 | BO25: 294.01557 | BP25: =BO25/CP25-1 | BQ25: 293.66458 | BR25: =BQ25/CR25-1 | BS25: 310.1651 | BT25: =BS25/CT25-1 | BU25: 330.82856 | BV25: =BU25/CV25-1 | BW25: =AY25+BA25+BC25+BE25+BG25+BI25+BK25+BM25+BO25+BQ25+BS25+BU25 | BX25: =BW25/SUM(BZ25,CB25,CD25,CF25,CH25,CJ25,CL25,CN25,CP25,CR25,CT25,CV25)-1 | BZ25: 162.89822 | CA25: =BZ25/DN25-1 | CB25: 237.00889 | CC25: =CB25/DO25-1 | CD25: 294.61567 | CE25: =CD25/DP25-1 | CF25: 279.36174 | CG25: =CF25/DQ25-1 | CH25: 289.96214 | CI25: =CH25/DR25-1 | CJ25: 275.25945 | CK25: =CJ25/DS25-1 | CL25: 280.00521 | CM25: =CL25/DT25-1 | CN25: 280.11446 | CO25: =CN25/DU25-1 | CP25: 283.54384 | CQ25: =CP25/DV25-1 | CR25: 281.57775 | CS25: =CR25/DW25-1 | CT25: 305.71669 | CU25: =CT25/DY25-1 | CV25: 291.75253 | CW25: =CV25/DY25-1 | CX25: =BZ25+CB25+CD25+CF25+CH25+CJ25+CL25+CN25+CP25+CR25+CT25+CV25 | CY25: =CX25/SUM(DN25:DY25)-1 | DA25: =CV25/CT25-1 | DB25: =CT25/CR25-1 | DN25: 188.28321 | DO25: 165.29775 | DP25: 260.59165 | DQ25: 229.94233 | DR25: 243.332 | DS25: 226.67032 | DT25: 236.8558 | DU25: 228.81897 | DV25: 262.12284 | DW25: 246.06665 | DX25: 273.03546 | DY25: 271.27475 | DZ25: -0.055772938 | EA25: =SUM(DN25:DY25) | EB25: =IFERROR(EA25/SUM(ED25:EO25)-1,"") | ED25: 249.03955 | EE25: 131.08325 | EF25: 243.18035 | EG25: 288.68273 | EH25: 274.95973 | EI25: 289.87246 | EJ25: 266.16652 | EK25: 251.71679 | EL25: 273.36362 | EM25: 259.80596 | EN25: 294.14766 | EO25: 287.29822 | EP25: =SUM(ED25:EO25)
B26: 规上+规下周转量 (万吨公里) | C26: =C27+C28 -> 48698.529 | D26: =C26/Z26-1 -> 0.21243644 | E26: =E27+E28 -> 34422.378 | F26: =E26/AB26-1 -> -0.11398392 | G26: =G27+G28 -> 49380.835 | H26: =G26/AD26-1 -> -0.017121959 | I26: =I27+I28 -> 49924.576 | J26: =I26/AF26-1 -> -0.0022105607 | K26: =K27+K28 -> 49674.885 | L26: =K26/AH26-1 -> -0.012611426 | M26: =M27+M28 -> 45341.535 | N26: =M26/AJ26-1 -> 0.021824883 | O26: =O27+O28 -> 43908.837 | P26: =O26/AL26-1 -> 0.0052257954 | Q26: =Q27+Q28 -> 46020.224 | R26: =Q26/AL26-1 -> 0.040232256 | S26: =S27+S28 | T26: =S26/AN26-1 | U26: =C26+E26+G26+I26+K26+M26+O26+Q26+S26 | V26: =U26/SUM(X26,Z26,AB26,AD26,AF26,AH26,AJ26,AL26,AN26)-1 | X26: =X27+X28 | Y26: =X26/AY26-1 | Z26: =Z27+Z28 | AA26: =Z26/BA26-1 | AB26: =AB27+AB28 | AC26: =AB26/BC26-1 | AD26: =AD27+AD28 | AE26: =AD26/BE26-1 | AF26: =AF27+AF28 | AG26: =AF26/BG26-1 | AH26: =AH27+AH28 | AI26: =AH26/BI26-1 | AJ26: =AJ27+AJ28 | AK26: =AJ26/BK26-1 | AL26: =AL27+AL28 | AM26: =AL26/BM26-1 | AN26: =AN27+AN28 | AO26: =AN26/BO26-1 | AP26: =AP27+AP28 | AQ26: =AP26/BQ26-1 | AR26: =AR27+AR28 | AS26: =AR26/BS26-1 | AT26: =AT27+AT28 | AU26: =AT26/BU26-1 | AV26: =X26+Z26+AB26+AD26+AF26+AH26+AJ26+AL26+AN26+AP26+AR26+AT26 | AW26: =AV26/SUM(AY26,BA26,BC26,BE26,BG26,BI26,BK26,BM26,BO26,BQ26,BS26,BU26)-1 | AY26: =AY27+AY28 | AZ26: =AY26/BZ26-1 | BA26: =BA27+BA28 | BB26: =BA26/CB26-1 | BC26: =BC27+BC28 | BD26: =BC26/CD26-1 | BE26: =BE27+BE28 | BF26: =BE26/CF26-1 | BG26: =BG27+BG28 | BH26: =BG26/CH26-1 | BI26: =BI27+BI28 | BJ26: =BI26/CJ26-1 | BK26: =BK27+BK28 | BL26: =BK26/CL26-1 | BM26: =BM27+BM28 | BN26: =BM26/CN26-1 | BO26: =BO27+BO28 | BP26: =BO26/CP26-1 | BQ26: =BQ27+BQ28 | BR26: =BQ26/CR26-1 | BS26: =BS27+BS28 | BT26: =BS26/CT26-1 | BU26: =BU27+BU28 | BV26: =BU26/CV26-1 | BW26: =AY26+BA26+BC26+BE26+BG26+BI26+BK26+BM26+BO26+BQ26+BS26+BU26 | BX26: =BW26/SUM(BZ26,CB26,CD26,CF26,CH26,CJ26,CL26,CN26,CP26,CR26,CT26,CV26)-1 | BZ26: =BZ27+BZ28 | CA26: =BZ26/DN26-1 | CB26: =CB27+CB28 | CC26: =CB26/DO26-1 | CD26: =SUM(CD27:CD28) | CE26: =CD26/DP26-1 | CF26: 43111.558 | CG26: =CF26/DQ26-1 | CH26: 43747.555 | CI26: =CH26/DR26-1 | CJ26: =CJ27+CJ28 | CK26: =CJ26/DS26-1 | CL26: =CL27+CL28 | CM26: =CL26/DT26-1 | CN26: 42207.062 | CO26: =CN26/DU26-1 | CP26: =SUM(CP27:CP28) | CQ26: =CP26/DV26-1 | CR26: =SUM(CR27:CR28) | CS26: =CR26/DW26-1 | CT26: =CT27+CT28 | CU26: =CT26/DY26-1 | CV26: =CV27+CV28 | CW26: =CV26/DY26-1 | CX26: =BZ26+CB26+CD26+CF26+CH26+CJ26+CL26+CN26+CP26+CR26+CT26+CV26 | CY26: =CX26/SUM(DN26:DY26)-1 | DA26: =CV26/CT26-1 | DB26: =CT26/CR26-1 | DN26: 32252.368 | DO26: 26037.331 | DP26: 38353.721 | DQ26: 36162.372 | DR26: 35714.727 | DS26: 32964.857 | DT26: 34898.025 | DU26: 34120.389 | DV26: 39453.918 | DW26: 39129.015 | DX26: 43091.274 | DY26: 41721.865 | DZ26: 0.026491689 | EA26: =SUM(DN26:DY26) | EB26: =IFERROR(EA26/SUM(ED26:EO26)-1,"") | ED26: =ED27+ED28 | EE26: =EE27+EE28 | EF26: =EF27+EF28 | EG26: =EG27+EG28 | EH26: =EH27+EH28 | EI26: =EI27+EI28 | EJ26: =EJ27+EJ28 | EK26: =EK27+EK28 | ... EO26: =EO27+EO28 | EP26: =SUM(ED26:EO26)
B27: 规上货物周转量 (万吨公里) | C27: 3888.2247 | D27: =C27/Z27-1 -> -0.087973757 | E27: 3250.6985 | F27: =E27/AB27-1 -> -0.21283608 | G27: 3958.8157 | H27: =G27/AD27-1 -> -0.06574255 | I27: 4024.9189 | J27: =I27/AF27-1 -> -0.00052609393 | K27: 4033.1107 | L27: =K27/AH27-1 -> -0.069919495 | M27: 3953.8801 | N27: =M27/AJ27-1 -> -0.014454139 | O27: 3944.1367 | P27: =O27/AL27-1 -> -0.053137571 | Q27: 4129.8199 | R27: =Q27/AL27-1 -> 0.0060723377 | T27: =S27/AN27-1 | U27: =C27+E27+G27+I27+K27+M27+O27+Q27+S27 | V27: =U27/SUM(X27,Z27,AB27,AD27,AF27,AH27,AJ27,AL27,AN27)-1 | X27: 4263.2816 | Y27: =X27/AY27-1 | Z27: 4129.6335 | AA27: =Z27/BA27-1 | AB27: 4237.3927 | AC27: =AB27/BC27-1 | AD27: 4027.0375 | AE27: =AD27/BE27-1 | AF27: 4336.3028 | AG27: =AF27/BG27-1 | AH27: 4011.8682 | AI27: =AH27/BI27-1 | AJ27: 4165.4802 | AK27: =AJ27/BK27-1 | AL27: 4104.8936 | AM27: =AL27/BM27-1 | AN27: 4157.138 | AO27: =AN27/BO27-1 | AP27: 4213.3321 | AQ27: =AP27/BQ27-1 | AR27: 4146.2456 | AS27: =AR27/BS27-1 | AT27: 4367.2385 | AU27: =AT27/BU27-1 | AV27: =X27+Z27+AB27+AD27+AF27+AH27+AJ27+AL27+AN27+AP27+AR27+AT27 | AW27: =AV27/SUM(AY27,BA27,BC27,BE27,BG27,BI27,BK27,BM27,BO27,BQ27,BS27,BU27)-1 | AY27: 4597.0914 | AZ27: =AY27/BZ27-1 | BA27: 3957.433 | BB27: =BA27/CB27-1 | BC27: 4869.2748 | BD27: =BC27/CD27-1 | BE27: 4983.0262 | BF27: =BE27/CF27-1 | BG27: 4742.6742 | BH27: =BG27/CH27-1 | BI27: 4761.9082 | BJ27: =BI27/CJ27-1 | BK27: 4498.1439 | BL27: =BK27/CL27-1 | BM27: 4773.7821 | BN27: =BM27/CN27-1 | BO27: 4997.3242 | BP27: =BO27/CP27-1 | BQ27: 5066.0712 | BR27: =BQ27/CR27-1 | BS27: 5197.0568 | BT27: =BS27/CT27-1 | BU27: 5805.6462 | BV27: =BU27/CV27-1 | BW27: =AY27+BA27+BC27+BE27+BG27+BI27+BK27+BM27+BO27+BQ27+BS27+BU27 | BX27: =BW27/SUM(BZ27,CB27,CD27,CF27,CH27,CJ27,CL27,CN27,CP27,CR27,CT27,CV27)-1 | BZ27: 3163.1775 | CA27: =BZ27/DN27-1 | CB27: 3824.1159 | CC27: =CB27/DO27-1 | CD27: 4149.9164 | CE27: =CD27/DP27-1 | CF27: 4417.6687 | CG27: =CF27/DQ27-1 | CH27: 4235.1466 | CI27: =CH27/DR27-1 | CJ27: 4332.2195 | CK27: =CJ27/DS27-1 | CL27: 3381.4382 | CM27: =CL27/DT27-1 | CN27: 4414.7295 | CO27: =CN27/DU27-1 | CP27: 4598.8966 | CQ27: =CP27/DV27-1 | CR27: 5789.1614 | CS27: =CR27/DW27-1 | CT27: 5154.3399 | CU27: =CT27/DY27-1 | CV27: 5523.6119 | CW27: =CV27/DY27-1 | CX27: =BZ27+CB27+CD27+CF27+CH27+CJ27+CL27+CN27+CP27+CR27+CT27+CV27 | CY27: =CX27/SUM(DN27:DY27)-1 | DA27: =CV27/CT27-1 | DB27: =CT27/CR27-1 | DN27: 1686.2727 | DO27: 1521.0217 | DP27: 1718.0772 | DQ27: 1838.4845 | DR27: 1925.3972 | DS27: 1909.3124 | DT27: 1852.1719 | DU27: 1809.4231 | DV27: 1992.534 | DW27: 2807.9884 | DX27: 2090.102 | DY27: 2131.7149 | DZ27: 0.23402172 | EA27: =SUM(DN27:DY27) | EB27: =IFERROR(EA27/SUM(ED27:EO27)-1,"") | ED27: 1486.3346 | EE27: 1524.0044 | EF27: 1860.7996 | EG27: 1868.9434 | EH27: 2211.0663 | EI27: 1870.4187 | EJ27: 1736.8293 | EK27: 1735.9292 | EL27: 1769.9264 | EM27: 1819.6756 | EN27: 1723.9032 | EO27: 1727.4533 | EP27: =SUM(ED27:EO27)
B28: 规下货物周转量 (万吨公里) | C28: 44810.304 | D28: =C28/Z28-1 -> 0.24810892 | E28: 31171.68 | F28: =E28/AB28-1 -> -0.10222672 | G28: 45422.019 | H28: =G28/AD28-1 -> -0.012643522 | I28: 45899.657 | J28: =I28/AF28-1 -> -0.0023580001 | K28: 45641.774 | L28: =K28/AH28-1 -> -0.0072059742 | M28: 41387.654 | N28: =M28/AJ28-1 -> 0.025430984 | O28: 39964.7 | P28: =O28/AL28-1 -> 0.011378165 | Q28: 41890.404 | R28: =Q28/AL28-1 -> 0.043725997 | T28: =S28/AN28-1 | U28: =C28+E28+G28+I28+K28+M28+O28+Q28+S28 | V28: =U28/SUM(X28,Z28,AB28,AD28,AF28,AH28,AJ28,AL28,AN28)-1 | X28: 35902.559 | Y28: =X28/AY28-1 | Z28: 34721.104 | AA28: =Z28/BA28-1 | AB28: 46003.667 | AC28: =AB28/BC28-1 | AD28: 46008.144 | AE28: =AD28/BE28-1 | AF28: 45973.055 | AG28: =AF28/BG28-1 | AH28: 40361.229 | AI28: =AH28/BI28-1 | AJ28: 39515.091 | AK28: =AJ28/BK28-1 | AL28: 40135.442 | AM28: =AL28/BM28-1 | AN28: 42548.889 | AO28: =AN28/BO28-1 | AP28: 39559.802 | AQ28: =AP28/BQ28-1 | AR28: 42601.712 | AS28: =AR28/BS28-1 | AT28: 44392.263 | AU28: =AT28/BU28-1 | AV28: =X28+Z28+AB28+AD28+AF28+AH28+AJ28+AL28+AN28+AP28+AR28+AT28 | AW28: =AV28/SUM(AY28,BA28,BC28,BE28,BG28,BI28,BK28,BM28,BO28,BQ28,BS28,BU28)-1 | AY28: 37908.154 | AZ28: =AY28/BZ28-1 | BA28: 21206.959 | BB28: =BA28/CB28-1 | BC28: 41077.514 | BD28: =BC28/CD28-1 | BE28: 40236.929 | BF28: =BE28/CF28-1 | BG28: 40809.798 | BH28: =BG28/CH28-1 | BI28: 35997.725 | BJ28: =BI28/CJ28-1 | BK28: 36769.426 | BL28: =BK28/CL28-1 | BM28: 38296.075 | BN28: =BM28/CN28-1 | BO28: 39313.188 | BP28: =BO28/CP28-1 | BQ28: 39458.151 | BR28: =BQ28/CR28-1 | BS28: 41193.192 | BT28: =BS28/CT28-1 | BU28: 44588.161 | BV28: =BU28/CV28-1 | BW28: =AY28+BA28+BC28+BE28+BG28+BI28+BK28+BM28+BO28+BQ28+BS28+BU28 | BX28: =BW28/SUM(BZ28,CB28,CD28,CF28,CH28,CJ28,CL28,CN28,CP28,CR28,CT28,CV28)-1 | BZ28: 26528.131 | CA28: =BZ28/DN28-1 | CB28: 33733.107 | CC28: =CB28/DO28-1 | CD28: 40454.992 | CE28: =CD28/DP28-1 | CF28: 38693.889 | CG28: =CF28/DQ28-1 | CH28: 39512.408 | CI28: =CH28/DR28-1 | CJ28: 36343.883 | CK28: =CJ28/DS28-1 | CL28: 37756.363 | CM28: =CL28/DT28-1 | CN28: 37792.333 | CO28: =CN28/DU28-1 | CP28: 38786.546 | CQ28: =CP28/DV28-1 | CR28: 37213.757 | CS28: =CR28/DW28-1 | CT28: 41255.273 | CU28: =CT28/DY28-1 | CV28: 40323.375 | CW28: =CV28/DY28-1 | CX28: =BZ28+CB28+CD28+CF28+CH28+CJ28+CL28+CN28+CP28+CR28+CT28+CV28 | CY28: =CX28/SUM(DN28:DY28)-1 | DA28: =CV28/CT28-1 | DB28: =CT28/CR28-1 | DN28: 30566.095 | DO28: 24516.31 | DP28: 36635.644 | DQ28: 34323.888 | DR28: 33789.33 | DS28: 31055.545 | DT28: 33045.853 | DU28: 32310.966 | DV28: 37461.384 | DW28: 36321.026 | DX28: 41001.172 | DY28: 39590.151 | DZ28: 0.017279971 | EA28: =SUM(DN28:DY28) | EB28: =IFERROR(EA28/SUM(ED28:EO28)-1,"") | ED28: 38775.278 | EE28: 22948.86 | EF28: 35369.713 | EG28: 39934.489 | EH28: 36568.582 | EI28: 37157.485 | EJ28: 34810.447 | EK28: 35932.923 | EL28: 38302.155 | EM28: 34726.234 | EN28: 40192.617 | EO28: 38917.655 | EP28: =SUM(ED28:EO28)
A29: 宜昌市 | B29: 规上+规下货运量 (万吨) | C29: 1215.4772 | D29: =C29/Z29-1 -> 0.19722391 | E29: 839.28067 | F29: =E29/AB29-1 -> -0.14902789 | G29: 1325.1102 | H29: =G29/AD29-1 -> -0.030452188 | I29: 1386.6372 | J29: =I29/AF29-1 -> -0.02052092 | K29: 1388.5812 | L29: =K29/AH29-1 -> -0.026419722 | M29: 1320.5191 | N29: =M29/AJ29-1 -> 0.020984182 | O29: 1291.6655 | P29: =O29/AL29-1 -> 0.014360773 | Q29: 1411.3316 | R29: =Q29/AL29-1 -> 0.042399163 | T29: =S29/AN29-1 | U29: =C29+E29+G29+I29+K29+M29+O29+Q29+S29 | V29: =U29/SUM(X29,Z29,AB29,AD29,AF29,AH29,AJ29,AL29,AN29)-1 | X29: 1015.2464 | Y29: =X29/AY29-1 | Z29: 986.26108 | AA29: =Z29/BA29-1 | AB29: 1366.7302 | AC29: =AB29/BC29-1 | AD29: 1415.6884 | AE29: =AD29/BE29-1 | AF29: 1426.2627 | AG29: =AF29/BG29-1 | AH29: 1293.3786 | AI29: =AH29/BI29-1 | AJ29: 1273.3788 | AK29: =AJ29/BK29-1 | AL29: 1353.9263 | AM29: =AL29/BM29-1 | AN29: 1448.5599 | AO29: =AN29/BO29-1 | AP29: 1385.087 | AQ29: =AP29/BQ29-1 | AR29: 1553.0852 | AS29: =AR29/BS29-1 | AT29: 1476.81 | AU29: =AT29/BU29-1 | AV29: =X29+Z29+AB29+AD29+AF29+AH29+AJ29+AL29+AN29+AP29+AR29+AT29 | AW29: =AV29/SUM(AY29,BA29,BC29,BE29,BG29,BI29,BK29,BM29,BO29,BQ29,BS29,BU29)-1 | AY29: 1062.1728 | AZ29: =AY29/BZ29-1 | BA29: 596.26715 | BB29: =BA29/CB29-1 | BC29: 1211.3375 | BD29: =BC29/CD29-1 | BE29: 1287.2108 | BF29: =BE29/CF29-1 | BG29: 1300.2452 | BH29: =BG29/CH29-1 | BI29: 1200.9446 | BJ29: =BI29/CJ29-1 | BK29: 1220.5527 | BL29: =BK29/CL29-1 | BM29: 1321.8122 | BN29: =BM29/CN29-1 | BO29: 1351.3754 | BP29: =BO29/CP29-1 | BQ29: 1360.8699 | BR29: =BQ29/CR29-1 | BS29: 1446.2363 | BT29: =BS29/CT29-1 | BU29: 1427.9826 | BV29: =BU29/CV29-1 | BW29: =AY29+BA29+BC29+BE29+BG29+BI29+BK29+BM29+BO29+BQ29+BS29+BU29 | BX29: =BW29/SUM(BZ29,CB29,CD29,CF29,CH29,CJ29,CL29,CN29,CP29,CR29,CT29,CV29)-1 | BZ29: 598.35794 | CA29: =BZ29/DN29-1 | CB29: 837.88168 | CC29: =CB29/DO29-1 | CD29: 1072.3431 | CE29: =CD29/DP29-1 | CF29: 1085.5049 | CG29: =CF29/DQ29-1 | CH29: 1156.9735 | CI29: =CH29/DR29-1 | CJ29: 1136.271 | CK29: =CJ29/DS29-1 | CL29: 1138.834 | CM29: =CL29/DT29-1 | CN29: 1271.9703 | CO29: =CN29/DU29-1 | CP29: 1243.9351 | CQ29: =CP29/DV29-1 | CR29: 1257.9652 | CS29: =CR29/DW29-1 | CT29: 1390.2237 | CU29: =CT29/DY29-1 | CV29: 1290.2617 | CW29: =CV29/DY29-1 | CX29: =BZ29+CB29+CD29+CF29+CH29+CJ29+CL29+CN29+CP29+CR29+CT29+CV29 | CY29: =CX29/SUM(DN29:DY29)-1 | DA29: =CV29/CT29-1 | DB29: =CT29/CR29-1 | DN29: 669.10199 | DO29: 523.17272 | DP29: 840.61153 | DQ29: 797.4506 | DR29: 876.3447 | DS29: 817.93457 | DT29: 854.47886 | DU29: 920.18455 | DV29: 998.10524 | DW29: 934.91705 | DX29: 1044.7928 | DY29: 1026.7401 | DZ29: 0.029963029 | EA29: =SUM(DN29:DY29) | EB29: =IFERROR(EA29/SUM(ED29:EO29)-1,"") | ED29: 905.36128 | EE29: 413.8287 | EF29: 724.5113 | EG29: 905.07902 | EH29: 944.52487 | EI29: 1000.2098 | EJ29: 925.33342 | EK29: 980.75949 | EL29: 1019.9206 | EM29: 946.32254 | EN29: 1089.3944 | EO29: 996.87082 | EP29: =SUM(ED29:EO29)
B30: 规上货运量 (万吨) | C30: 745.1372 | D30: =C30/Z30-1 -> 0.30465146 | E30: 602.0208 | F30: =E30/AB30-1 -> -0.015996371 | G30: 905.9963 | H30: =G30/AD30-1 -> 0.11962833 | I30: 795.8832 | J30: =I30/AF30-1 -> -0.020484358 | K30: 687.2748 | L30: =K30/AH30-1 -> -0.15923826 | M30: 730.8846 | N30: =M30/AJ30-1 -> -0.06366735 | O30: 696.23 | P30: =O30/AL30-1 -> 0.096257219 | Q30: 761.8832 | R30: =Q30/AL30-1 -> 0.054798539 | T30: =S30/AN30-1 | U30: =C30+E30+G30+I30+K30+M30+O30+Q30+S30 | V30: =U30/SUM(X30,Z30,AB30,AD30,AF30,AH30,AJ30,AL30,AN30)-1 | X30: 571.1389 | Y30: =X30/AY30-1 | Z30: 611.8075 | AA30: =Z30/BA30-1 | AB30: 809.1938 | AC30: =AB30/BC30-1 | AD30: 812.5273 | AE30: =AD30/BE30-1 | AF30: 817.443 | AG30: =AF30/BG30-1 | AH30: 780.5822 | AI30: =AH30/BI30-1 | AJ30: 635.0973 | AK30: =AJ30/BK30-1 | AL30: 722.3021 | AM30: =AL30/BM30-1 | AN30: 807.5782 | AO30: =AN30/BO30-1 | AP30: 818.5038 | AQ30: =AP30/BQ30-1 | AR30: 833.4438 | AS30: =AR30/BS30-1 | AT30: 763.6925 | AU30: =AT30/BU30-1 | AV30: =X30+Z30+AB30+AD30+AF30+AH30+AJ30+AL30+AN30+AP30+AR30+AT30 | AW30: =AV30/SUM(AY30,BA30,BC30,BE30,BG30,BI30,BK30,BM30,BO30,BQ30,BS30,BU30)-1 | AY30: 464.0114 | AZ30: =AY30/BZ30-1 | BA30: 325.4829 | BB30: =BA30/CB30-1 | BC30: 646.622 | BD30: =BC30/CD30-1 | BE30: 734.8284 | BF30: =BE30/CF30-1 | BG30: 650.3393 | BH30: =BG30/CH30-1 | BI30: 676.0751 | BJ30: =BI30/CJ30-1 | BK30: 632.2575 | BL30: =BK30/CL30-1 | BM30: 656.3214 | BN30: =BM30/CN30-1 | BO30: 719.0556 | BP30: =BO30/CP30-1 | BQ30: 706.8331 | BR30: =BQ30/CR30-1 | BS30: 668.3651 | BT30: =BS30/CT30-1 | BU30: 671.8194 | BV30: =BU30/CV30-1 | BW30: =AY30+BA30+BC30+BE30+BG30+BI30+BK30+BM30+BO30+BQ30+BS30+BU30 | BX30: =BW30/SUM(BZ30,CB30,CD30,CF30,CH30,CJ30,CL30,CN30,CP30,CR30,CT30,CV30)-1 | BZ30: 133.2574 | CA30: =BZ30/DN30-1 | CB30: 249.2374 | CC30: =CB30/DO30-1 | CD30: 341.3346 | CE30: =CD30/DP30-1 | CF30: 388.4431 | CG30: =CF30/DQ30-1 | CH30: 373.631 | CI30: =CH30/DR30-1 | CJ30: 390.3425 | CK30: =CJ30/DS30-1 | CL30: 324.9011 | CM30: =CL30/DT30-1 | CN30: 369.6202 | CO30: =CN30/DU30-1 | CP30: 362.3661 | CQ30: =CP30/DV30-1 | CR30: 375.6669 | CS30: =CR30/DW30-1 | CT30: 411.7986 | CU30: =CT30/DY30-1 | CV30: 341.8814 | CW30: =CV30/DY30-1 | CX30: =BZ30+CB30+CD30+CF30+CH30+CJ30+CL30+CN30+CP30+CR30+CT30+CV30 | CY30: =CX30/SUM(DN30:DY30)-1 | DA30: =CV30/CT30-1 | DB30: =CT30/CR30-1 | DM30: 宜昌市 | DN30: 39.4696 | DO30: 44.4071 | DP30: 69.8136 | DQ30: 67.4619 | DR30: 86.6807 | DS30: 78.8463 | DT30: 76.0137 | DU30: 62.8643 | DV30: 74.3606 | DW30: 91.1907 | DX30: 221.0291 | DY30: 291.9962 | DZ30: 4.6581832 | EA30: =SUM(DN30:DY30) | EB30: =IFERROR(EA30/SUM(ED30:EO30)-1,"") | ED30: 44.168 | EE30: 34.7348 | EF30: 53.47846 | EG30: 48.74774 | EH30: 53.5033 | EI30: 51.2957 | EJ30: 41.9926 | EK30: 46.9933 | EL30: 47.945 | EM30: 50.2436 | EN30: 50.6366 | EO30: 51.606 | EP30: =SUM(ED30:EO30)
B31: 规下货运量 (万吨) | C31: 470.34 | D31: =C31/Z31-1 -> 0.059068025 | E31: 237.25987 | F31: =E31/AB31-1 -> -0.36638376 | G31: 419.11394 | H31: =G31/AD31-1 -> -0.24827515 | I31: 590.75399 | J31: =I31/AF31-1 -> -0.020570174 | K31: 701.30639 | L31: =K31/AH31-1 -> 0.15191155 | M31: 589.63453 | N31: =M31/AJ31-1 -> 0.14984132 | O31: 595.4355 | P31: =O31/AL31-1 -> -0.067127116 | Q31: 649.4484 | R31: =Q31/AL31-1 -> 0.028219693 | T31: =S31/AN31-1 | U31: =C31+E31+G31+I31+K31+M31+O31+Q31+S31 | V31: =U31/SUM(X31,Z31,AB31,AD31,AF31,AH31,AJ31,AL31,AN31)-1 | X31: 444.10745 | Y31: =X31/AY31-1 | Z31: 374.45358 | AA31: =Z31/BA31-1 | AB31: 557.53637 | AC31: =AB31/BC31-1 | AD31: 603.16112 | AE31: =AD31/BE31-1 | AF31: 608.81966 | AG31: =AF31/BG31-1 | AH31: 512.79643 | AI31: =AH31/BI31-1 | AJ31: 638.28149 | AK31: =AJ31/BK31-1 | AL31: 631.62416 | AM31: =AL31/BM31-1 | AN31: 640.9817 | AO31: =AN31/BO31-1 | AP31: 566.5832 | AQ31: =AP31/BQ31-1 | AR31: 719.64137 | AS31: =AR31/BS31-1 | AT31: 713.11753 | AU31: =AT31/BU31-1 | AV31: =X31+Z31+AB31+AD31+AF31+AH31+AJ31+AL31+AN31+AP31+AR31+AT31 | AW31: =AV31/SUM(AY31,BA31,BC31,BE31,BG31,BI31,BK31,BM31,BO31,BQ31,BS31,BU31)-1 | AY31: 598.16142 | AZ31: =AY31/BZ31-1 | BA31: 270.78425 | BB31: =BA31/CB31-1 | BC31: 564.71554 | BD31: =BC31/CD31-1 | BE31: 552.38239 | BF31: =BE31/CF31-1 | BG31: 649.90585 | BH31: =BG31/CH31-1 | BI31: 524.86952 | BJ31: =BI31/CJ31-1 | BK31: 588.29516 | BL31: =BK31/CL31-1 | BM31: 665.49076 | BN31: =BM31/CN31-1 | BO31: 632.31982 | BP31: =BO31/CP31-1 | BQ31: 654.03681 | BR31: =BQ31/CR31-1 | BS31: 777.87123 | BT31: =BS31/CT31-1 | BU31: 756.16317 | BV31: =BU31/CV31-1 | BW31: =AY31+BA31+BC31+BE31+BG31+BI31+BK31+BM31+BO31+BQ31+BS31+BU31 | BX31: =BW31/SUM(BZ31,CB31,CD31,CF31,CH31,CJ31,CL31,CN31,CP31,CR31,CT31,CV31)-1 | BZ31: 465.10054 | CA31: =BZ31/DN31-1 | CB31: 588.64428 | CC31: =CB31/DO31-1 | CD31: 731.0085 | CE31: =CD31/DP31-1 | CF31: 697.06181 | CG31: =CF31/DQ31-1 | CH31: 783.34245 | CI31: =CH31/DR31-1 | CJ31: 745.9285 | CK31: =CJ31/DS31-1 | CL31: 813.93288 | CM31: =CL31/DT31-1 | CN31: 902.35011 | CO31: =CN31/DU31-1 | CP31: 881.56904 | CQ31: =CP31/DV31-1 | CR31: 882.29833 | CS31: =CR31/DW31-1 | CT31: 978.42513 | CU31: =CT31/DY31-1 | CV31: 948.38025 | CW31: =CV31/DY31-1 | CX31: =BZ31+CB31+CD31+CF31+CH31+CJ31+CL31+CN31+CP31+CR31+CT31+CV31 | CY31: =CX31/SUM(DN31:DY31)-1 | DA31: =CV31/CT31-1 | DB31: =CT31/CR31-1 | DN31: 629.63239 | DO31: 478.76562 | DP31: 770.79793 | DQ31: 729.9887 | DR31: 789.664 | DS31: 739.08827 | DT31: 778.46516 | DU31: 857.32025 | DV31: 923.74464 | DW31: 843.72635 | DX31: 823.76367 | DY31: 734.74388 | DZ31: -0.22271106 | EA31: =SUM(DN31:DY31) | EB31: =IFERROR(EA31/SUM(ED31:EO31)-1,"") | ED31: 861.19328 | EE31: 379.0939 | EF31: 671.03284 | EG31: 856.33128 | EH31: 891.02157 | EI31: 948.91405 | EJ31: 883.34082 | EK31: 933.76619 | EL31: 971.97563 | EM31: 896.07894 | EN31: 1038.7578 | EO31: 945.26482 | EP31: =SUM(ED31:EO31)
B32: 规上+规下周转量 (万吨公里) | C32: =C33+C34 -> 104923.01 | D32: =C32/Z32-1 -> 0.13716401 | E32: =E33+E34 -> 79232.399 | F32: =E32/AB32-1 -> -0.14235004 | G32: =G33+G34 -> 126115.29 | H32: =G32/AD32-1 -> -0.030479512 | I32: =I33+I34 -> 127911.69 | J32: =I32/AF32-1 -> -0.017283647 | K32: =K33+K34 -> 131817.92 | L32: =K32/AH32-1 -> -0.022139188 | M32: =M33+M34 -> 125778.98 | N32: =M32/AJ32-1 -> 0.0052654883 | O32: =O33+O34 -> 118603.81 | P32: =O32/AL32-1 -> 0.018061473 | Q32: =Q33+Q34 -> 129759.58 | R32: =Q32/AL32-1 -> 0.05275208 | S32: =S33+S34 | T32: =S32/AN32-1 | U32: =C32+E32+G32+I32+K32+M32+O32+Q32+S32 | V32: =U32/SUM(X32,Z32,AB32,AD32,AF32,AH32,AJ32,AL32,AN32)-1 | X32: =X33+X34 | Y32: =X32/AY32-1 | Z32: =Z33+Z34 | AA32: =Z32/BA32-1 | AB32: =AB33+AB34 | AC32: =AB32/BC32-1 | AD32: =AD33+AD34 | AE32: =AD32/BE32-1 | AF32: =AF33+AF34 | AG32: =AF32/BG32-1 | AH32: =AH33+AH34 | AI32: =AH32/BI32-1 | AJ32: =AJ33+AJ34 | AK32: =AJ32/BK32-1 | AL32: =AL33+AL34 | AM32: =AL32/BM32-1 | AN32: =AN33+AN34 | AO32: =AN32/BO32-1 | AP32: =AP33+AP34 | AQ32: =AP32/BQ32-1 | AR32: =AR33+AR34 | AS32: =AR32/BS32-1 | AT32: =AT33+AT34 | AU32: =AT32/BU32-1 | AV32: =X32+Z32+AB32+AD32+AF32+AH32+AJ32+AL32+AN32+AP32+AR32+AT32 | AW32: =AV32/SUM(AY32,BA32,BC32,BE32,BG32,BI32,BK32,BM32,BO32,BQ32,BS32,BU32)-1 | AY32: =AY33+AY34 | AZ32: =AY32/BZ32-1 | BA32: =BA33+BA34 | BB32: =BA32/CB32-1 | BC32: =BC33+BC34 | BD32: =BC32/CD32-1 | BE32: =BE33+BE34 | BF32: =BE32/CF32-1 | BG32: =BG33+BG34 | BH32: =BG32/CH32-1 | BI32: =BI33+BI34 | BJ32: =BI32/CJ32-1 | BK32: =BK33+BK34 | BL32: =BK32/CL32-1 | BM32: =BM33+BM34 | BN32: =BM32/CN32-1 | BO32: =BO33+BO34 | BP32: =BO32/CP32-1 | BQ32: =BQ33+BQ34 | BR32: =BQ32/CR32-1 | BS32: =BS33+BS34 | BT32: =BS32/CT32-1 | BU32: =BU33+BU34 | BV32: =BU32/CV32-1 | BW32: =AY32+BA32+BC32+BE32+BG32+BI32+BK32+BM32+BO32+BQ32+BS32+BU32 | BX32: =BW32/SUM(BZ32,CB32,CD32,CF32,CH32,CJ32,CL32,CN32,CP32,CR32,CT32,CV32)-1 | BZ32: =BZ33+BZ34 | CA32: =BZ32/DN32-1 | CB32: =CB33+CB34 | CC32: =CB32/DO32-1 | CD32: =SUM(CD33:CD34) | CE32: =CD32/DP32-1 | CF32: 107703.48 | CG32: =CF32/DQ32-1 | CH32: 113928.55 | CI32: =CH32/DR32-1 | CJ32: =CJ33+CJ34 | CK32: =CJ32/DS32-1 | CL32: =CL33+CL34 | CM32: =CL32/DT32-1 | CN32: 121482.38 | CO32: =CN32/DU32-1 | CP32: =SUM(CP33:CP34) | CQ32: =CP32/DV32-1 | CR32: =SUM(CR33:CR34) | CS32: =CR32/DW32-1 | CT32: =CT33+CT34 | CU32: =CT32/DY32-1 | CV32: =CV33+CV34 | CW32: =CV32/DY32-1 | CX32: =BZ32+CB32+CD32+CF32+CH32+CJ32+CL32+CN32+CP32+CR32+CT32+CV32 | CY32: =CX32/SUM(DN32:DY32)-1 | DA32: =CV32/CT32-1 | DB32: =CT32/CR32-1 | DN32: 71967.727 | DO32: 51654.902 | DP32: 81369.007 | DQ32: 80633.124 | DR32: 85622.011 | DS32: 79782.788 | DT32: 83011.362 | DU32: 91017.889 | DV32: 98564.369 | DW32: 107094.51 | DX32: 111347.24 | DY32: 114421.85 | DZ32: 0.19217282 | EA32: =SUM(DN32:DY32) | EB32: =IFERROR(EA32/SUM(ED32:EO32)-1,"") | ED32: =ED33+ED34 | EE32: =EE33+EE34 | EF32: =EF33+EF34 | EG32: =EG33+EG34 | EH32: =EH33+EH34 | EI32: =EI33+EI34 | EJ32: =EJ33+EJ34 | EK32: =EK33+EK34 | ... EO32: =EO33+EO34 | EP32: =SUM(ED32:EO32)
B33: 规上货物周转量 (万吨公里) | C33: 55934.484 | D33: =C33/Z33-1 -> 0.15721428 | E33: 49820.738 | F33: =E33/AB33-1 -> 0.10698958 | G33: 81458.571 | H33: =G33/AD33-1 -> 0.18913185 | I33: 68707.26 | J33: =I33/AF33-1 -> 0.013032904 | K33: 69708.717 | L33: =K33/AH33-1 -> 0.00062492193 | M33: 69260.868 | N33: =M33/AJ33-1 -> 0.0021293448 | O33: 63308.348 | P33: =O33/AL33-1 -> 0.24901001 | Q33: 66503.784 | R33: =Q33/AL33-1 -> 0.19563602 | T33: =S33/AN33-1 | U33: =C33+E33+G33+I33+K33+M33+O33+Q33+S33 | V33: =U33/SUM(X33,Z33,AB33,AD33,AF33,AH33,AJ33,AL33,AN33)-1 | X33: 48335.46 | Y33: =X33/AY33-1 | Z33: 45005.607 | AA33: =Z33/BA33-1 | AB33: 68502.556 | AC33: =AB33/BC33-1 | AD33: 67823.325 | AE33: =AD33/BE33-1 | AF33: 69665.182 | AG33: =AF33/BG33-1 | AH33: 69113.702 | AI33: =AH33/BI33-1 | AJ33: 50686.822 | AK33: =AJ33/BK33-1 | AL33: 55622.099 | AM33: =AL33/BM33-1 | AN33: 57908.341 | AO33: =AN33/BO33-1 | AP33: 62774.594 | AQ33: =AP33/BQ33-1 | AR33: 63596.042 | AS33: =AR33/BS33-1 | AT33: 62339.181 | AU33: =AT33/BU33-1 | AV33: =X33+Z33+AB33+AD33+AF33+AH33+AJ33+AL33+AN33+AP33+AR33+AT33 | AW33: =AV33/SUM(AY33,BA33,BC33,BE33,BG33,BI33,BK33,BM33,BO33,BQ33,BS33,BU33)-1 | AY33: 31393.96 | AZ33: =AY33/BZ33-1 | BA33: 23903.294 | BB33: =BA33/CB33-1 | BC33: 66773.337 | BD33: =BC33/CD33-1 | BE33: 56074.985 | BF33: =BE33/CF33-1 | BG33: 56466.516 | BH33: =BG33/CH33-1 | BI33: 58076.982 | BJ33: =BI33/CJ33-1 | BK33: 55240.951 | BL33: =BK33/CL33-1 | BM33: 52360.146 | BN33: =BM33/CN33-1 | BO33: 58251.567 | BP33: =BO33/CP33-1 | BQ33: 59642.582 | BR33: =BQ33/CR33-1 | BS33: 58624.295 | BT33: =BS33/CT33-1 | BU33: 59222.425 | BV33: =BU33/CV33-1 | BW33: =AY33+BA33+BC33+BE33+BG33+BI33+BK33+BM33+BO33+BQ33+BS33+BU33 | BX33: =BW33/SUM(BZ33,CB33,CD33,CF33,CH33,CJ33,CL33,CN33,CP33,CR33,CT33,CV33)-1 | BZ33: 14439.074 | CA33: =BZ33/DN33-1 | CB33: 33049.393 | CC33: =CB33/DO33-1 | CD33: 44374.107 | CE33: =CD33/DP33-1 | CF33: 41600.253 | CG33: =CF33/DQ33-1 | CH33: 40750.262 | CI33: =CH33/DR33-1 | CJ33: 45306.642 | CK33: =CJ33/DS33-1 | CL33: 33064.396 | CM33: =CL33/DT33-1 | CN33: 37262.738 | CO33: =CN33/DU33-1 | CP33: 39399.425 | CQ33: =CP33/DV33-1 | CR33: 40575.413 | CS33: =CR33/DW33-1 | CT33: 40266.096 | CU33: =CT33/DY33-1 | CV33: 39764.965 | CW33: =CV33/DY33-1 | CX33: =BZ33+CB33+CD33+CF33+CH33+CJ33+CL33+CN33+CP33+CR33+CT33+CV33 | CY33: =CX33/SUM(DN33:DY33)-1 | DA33: =CV33/CT33-1 | DB33: =CT33/CR33-1 | DN33: 6883.2587 | DO33: 7092.5499 | DP33: 10424.585 | DQ33: 9619.3644 | DR33: 12539.65 | DS33: 10509.939 | DT33: 9345.7025 | DU33: 9106.8498 | DV33: 11914.97 | DW33: 14784.287 | DX33: 21945.238 | DY33: 36126.475 | DZ33: 2.6705482 | EA33: =SUM(DN33:DY33) | EB33: =IFERROR(EA33/SUM(ED33:EO33)-1,"") | ED33: 9393.4327 | EE33: 7047.9617 | EF33: 9063.729 | EG33: 8784.3851 | EH33: 9409.6691 | EI33: 9088.7772 | EJ33: 8211.5924 | EK33: 9562.8517 | EL33: 9184.8753 | EM33: 9849.0128 | EN33: 9256.1635 | EO33: 9842.256 | EP33: =SUM(ED33:EO33)
B34: 规下货物周转量 (万吨公里) | C34: 48988.526 | D34: =C34/Z34-1 -> 0.11510394 | E34: 29411.66 | F34: =E34/AB34-1 -> -0.37920662 | G34: 44656.716 | H34: =G34/AD34-1 -> -0.27478852 | I34: 59204.43 | J34: =I34/AF34-1 -> -0.050267836 | K34: 62109.2 | L34: =K34/AH34-1 -> -0.046485753 | M34: 56518.108 | N34: =M34/AJ34-1 -> 0.0091355865 | O34: 55295.461 | P34: =O34/AL34-1 -> -0.1598073 | Q34: 63255.792 | R34: =Q34/AL34-1 -> -0.064753039 | T34: =S34/AN34-1 | U34: =C34+E34+G34+I34+K34+M34+O34+Q34+S34 | V34: =U34/SUM(X34,Z34,AB34,AD34,AF34,AH34,AJ34,AL34,AN34)-1 | X34: 43931.802 | Y34: =X34/AY34-1 | Z34: 47377.535 | AA34: =Z34/BA34-1 | AB34: 61577.508 | AC34: =AB34/BC34-1 | AD34: 62338.027 | AE34: =AD34/BE34-1 | AF34: 65137.149 | AG34: =AF34/BG34-1 | AH34: 56006.456 | AI34: =AH34/BI34-1 | AJ34: 65812.832 | AK34: =AJ34/BK34-1 | AL34: 67635.389 | AM34: =AL34/BM34-1 | AN34: 72488.327 | AO34: =AN34/BO34-1 | AP34: 64825.306 | AQ34: =AP34/BQ34-1 | AR34: 69813.908 | AS34: =AR34/BS34-1 | AT34: 74773.881 | AU34: =AT34/BU34-1 | AV34: =X34+Z34+AB34+AD34+AF34+AH34+AJ34+AL34+AN34+AP34+AR34+AT34 | AW34: =AV34/SUM(AY34,BA34,BC34,BE34,BG34,BI34,BK34,BM34,BO34,BQ34,BS34,BU34)-1 | AY34: 61674.781 | AZ34: =AY34/BZ34-1 | BA34: 34862.395 | BB34: =BA34/CB34-1 | BC34: 51978.325 | BD34: =BC34/CD34-1 | BE34: 60225.883 | BF34: =BE34/CF34-1 | BG34: 64915.121 | BH34: =BG34/CH34-1 | BI34: 54733.898 | BJ34: =BI34/CJ34-1 | BK34: 57512.955 | BL34: =BK34/CL34-1 | BM34: 67795.642 | BN34: =BM34/CN34-1 | BO34: 66262.566 | BP34: =BO34/CP34-1 | BQ34: 71060.346 | BR34: =BQ34/CR34-1 | BS34: 75353.145 | BT34: =BS34/CT34-1 | BU34: 81620.098 | BV34: =BU34/CV34-1 | BW34: =AY34+BA34+BC34+BE34+BG34+BI34+BK34+BM34+BO34+BQ34+BS34+BU34 | BX34: =BW34/SUM(BZ34,CB34,CD34,CF34,CH34,CJ34,CL34,CN34,CP34,CR34,CT34,CV34)-1 | BZ34: 50138.772 | CA34: =BZ34/DN34-1 | CB34: 53488.539 | CC34: =CB34/DO34-1 | CD34: 64932.496 | CE34: =CD34/DP34-1 | CF34: 66103.223 | CG34: =CF34/DQ34-1 | CH34: 73178.285 | CI34: =CH34/DR34-1 | CJ34: 66134.145 | CK34: =CJ34/DS34-1 | CL34: 75786.521 | CM34: =CL34/DT34-1 | CN34: 84219.643 | CO34: =CN34/DU34-1 | CP34: 82938.979 | CQ34: =CP34/DV34-1 | CR34: 87692.641 | CS34: =CR34/DW34-1 | CT34: 93122.343 | CU34: =CT34/DY34-1 | CV34: 94457.558 | CW34: =CV34/DY34-1 | CX34: =BZ34+CB34+CD34+CF34+CH34+CJ34+CL34+CN34+CP34+CR34+CT34+CV34 | CY34: =CX34/SUM(DN34:DY34)-1 | DA34: =CV34/CT34-1 | DB34: =CT34/CR34-1 | DN34: 65084.468 | DO34: 44562.352 | DP34: 70944.422 | DQ34: 71013.76 | DR34: 73082.361 | DS34: 69272.849 | DT34: 73665.66 | DU34: 81911.039 | DV34: 86649.399 | DW34: 92310.221 | DX34: 89402.001 | DY34: 78295.375 | DZ34: -0.091018869 | EA34: =SUM(DN34:DY34) | EB34: =IFERROR(EA34/SUM(ED34:EO34)-1,"") | ED34: 87025.268 | EE34: 41048.943 | EF34: 64505.036 | EG34: 79109.074 | EH34: 80142.418 | EI34: 83332.698 | EJ34: 77629.747 | EK34: 90252.604 | EL34: 90445.77 | EM34: 83221.346 | EN34: 98771.041 | EO34: 86135.314 | EP34: =SUM(ED34:EO34)
A35: 襄阳市 | B35: 规上+规下货运量 (万吨) | C35: 3028.382 | D35: =C35/Z35-1 -> 0.19377369 | E35: 2004.5014 | F35: =E35/AB35-1 -> -0.17021142 | G35: 3124.4326 | H35: =G35/AD35-1 -> -0.047970381 | I35: 3141.0637 | J35: =I35/AF35-1 -> -0.020621576 | K35: 3188.7809 | L35: =K35/AH35-1 -> -0.009691336 | M35: 3051.0954 | N35: =M35/AJ35-1 -> 0.033392206 | O35: 2923.4441 | P35: =O35/AL35-1 -> 0.0063158736 | Q35: 3004.0029 | R35: =Q35/AL35-1 -> 0.037682065 | T35: =S35/AN35-1 | U35: =C35+E35+G35+I35+K35+M35+O35+Q35+S35 | V35: =U35/SUM(X35,Z35,AB35,AD35,AF35,AH35,AJ35,AL35,AN35)-1 | X35: 2536.8142 | Y35: =X35/AY35-1 | Z35: 2415.6772 | AA35: =Z35/BA35-1 | AB35: 3281.8649 | AC35: =AB35/BC35-1 | AD35: 3207.2013 | AE35: =AD35/BE35-1 | AF35: 3219.9869 | AG35: =AF35/BG35-1 | AH35: 2952.5047 | AI35: =AH35/BI35-1 | AJ35: 2905.0959 | AK35: =AJ35/BK35-1 | AL35: 2894.9165 | AM35: =AL35/BM35-1 | AN35: 2911.4979 | AO35: =AN35/BO35-1 | AP35: 2788.6452 | AQ35: =AP35/BQ35-1 | AR35: 3042.3711 | AS35: =AR35/BS35-1 | AT35: 3198.3163 | AU35: =AT35/BU35-1 | AV35: =X35+Z35+AB35+AD35+AF35+AH35+AJ35+AL35+AN35+AP35+AR35+AT35 | AW35: =AV35/SUM(AY35,BA35,BC35,BE35,BG35,BI35,BK35,BM35,BO35,BQ35,BS35,BU35)-1 | AY35: 2778.5143 | AZ35: =AY35/BZ35-1 | BA35: 1473.6935 | BB35: =BA35/CB35-1 | BC35: 3046.7715 | BD35: =BC35/CD35-1 | BE35: 2912.0937 | BF35: =BE35/CF35-1 | BG35: 3015.6644 | BH35: =BG35/CH35-1 | BI35: 2789.7103 | BJ35: =BI35/CJ35-1 | BK35: 2784.7782 | BL35: =BK35/CL35-1 | BM35: 2840.4115 | BN35: =BM35/CN35-1 | BO35: 2860.6178 | BP35: =BO35/CP35-1 | BQ35: 2893.826 | BR35: =BQ35/CR35-1 | BS35: 3052.0365 | BT35: =BS35/CT35-1 | BU35: 3305.1068 | BV35: =BU35/CV35-1 | BW35: =AY35+BA35+BC35+BE35+BG35+BI35+BK35+BM35+BO35+BQ35+BS35+BU35 | BX35: =BW35/SUM(BZ35,CB35,CD35,CF35,CH35,CJ35,CL35,CN35,CP35,CR35,CT35,CV35)-1 | BZ35: 1670.9736 | CA35: =BZ35/DN35-1 | CB35: 2360.9039 | CC35: =CB35/DO35-1 | CD35: 2855.2691 | CE35: =CD35/DP35-1 | CF35: 2678.5725 | CG35: =CF35/DQ35-1 | CH35: 2843.5941 | CI35: =CH35/DR35-1 | CJ35: 2796.067 | CK35: =CJ35/DS35-1 | CL35: 2772.7199 | CM35: =CL35/DT35-1 | CN35: 2850.2591 | CO35: =CN35/DU35-1 | CP35: 2729.0283 | CQ35: =CP35/DV35-1 | CR35: 2805.9018 | CS35: =CR35/DW35-1 | CT35: 2967.4013 | CU35: =CT35/DY35-1 | CV35: 3035.3704 | CW35: =CV35/DY35-1 | CX35: =BZ35+CB35+CD35+CF35+CH35+CJ35+CL35+CN35+CP35+CR35+CT35+CV35 | CY35: =CX35/SUM(DN35:DY35)-1 | DA35: =CV35/CT35-1 | DB35: =CT35/CR35-1 | DN35: 1890.2242 | DO35: 1553.0319 | DP35: 2409.9687 | DQ35: 2141.1944 | DR35: 2494.4997 | DS35: 2290.5236 | DT35: 2265.6005 | DU35: 2197.973 | DV35: 2342.8063 | DW35: 2255.1852 | DX35: 2270.8492 | DY35: 2462.0852 | DZ35: -0.12710852 | EA35: =SUM(DN35:DY35) | EB35: =IFERROR(EA35/SUM(ED35:EO35)-1,"") | ED35: 2696.8791 | EE35: 1250.6139 | EF35: 2289.1712 | EG35: 2822.2901 | EH35: 2890.3933 | EI35: 2996.7781 | EJ35: 2629.027 | EK35: 2477.1877 | EL35: 2656.885 | EM35: 2554.7556 | EN35: 2870.8052 | EO35: 2820.6086 | EP35: =SUM(ED35:EO35)
B36: 规上货运量 (万吨) | C36: 348.675 | D36: =C36/Z36-1 -> -0.15915714 | E36: 303.525 | F36: =E36/AB36-1 -> -0.18874515 | G36: 271.9212 | H36: =G36/AD36-1 -> -0.32320299 | I36: 292.4452 | J36: =I36/AF36-1 -> -0.31648462 | K36: 305.8056 | L36: =K36/AH36-1 -> -0.37600627 | M36: 335.2829 | N36: =M36/AJ36-1 -> -0.29923223 | O36: 344.5188 | P36: =O36/AL36-1 -> -0.23562617 | Q36: 326.6098 | R36: =Q36/AL36-1 -> -0.22832761 | T36: =S36/AN36-1 | U36: =C36+E36+G36+I36+K36+M36+O36+Q36+S36 | V36: =U36/SUM(X36,Z36,AB36,AD36,AF36,AH36,AJ36,AL36,AN36)-1 | X36: 414.6732 | Y36: =X36/AY36-1 | Z36: 374.1426 | AA36: =Z36/BA36-1 | AB36: 401.7766 | AC36: =AB36/BC36-1 | AD36: 427.8546 | AE36: =AD36/BE36-1 | AF36: 490.078 | AG36: =AF36/BG36-1 | AH36: 478.4508 | AI36: =AH36/BI36-1 | AJ36: 450.7203 | AK36: =AJ36/BK36-1 | AL36: 423.2493 | AM36: =AL36/BM36-1 | AN36: 413.3566 | AO36: =AN36/BO36-1 | AP36: 448.0272 | AQ36: =AP36/BQ36-1 | AR36: 445.1043 | AS36: =AR36/BS36-1 | AT36: 468.898 | AU36: =AT36/BU36-1 | AV36: =X36+Z36+AB36+AD36+AF36+AH36+AJ36+AL36+AN36+AP36+AR36+AT36 | AW36: =AV36/SUM(AY36,BA36,BC36,BE36,BG36,BI36,BK36,BM36,BO36,BQ36,BS36,BU36)-1 | AY36: 384.2016 | AZ36: =AY36/BZ36-1 | BA36: 287.101 | BB36: =BA36/CB36-1 | BC36: 390.5686 | BD36: =BC36/CD36-1 | BE36: 405.1349 | BF36: =BE36/CF36-1 | BG36: 410.3729 | BH36: =BG36/CH36-1 | BI36: 440.1308 | BJ36: =BI36/CJ36-1 | BK36: 426.9251 | BL36: =BK36/CL36-1 | BM36: 438.6066 | BN36: =BM36/CN36-1 | BO36: 443.9875 | BP36: =BO36/CP36-1 | BQ36: 444.7728 | BR36: =BQ36/CR36-1 | BS36: 457.3229 | BT36: =BS36/CT36-1 | BU36: 553.0448 | BV36: =BU36/CV36-1 | BW36: =AY36+BA36+BC36+BE36+BG36+BI36+BK36+BM36+BO36+BQ36+BS36+BU36 | BX36: =BW36/SUM(BZ36,CB36,CD36,CF36,CH36,CJ36,CL36,CN36,CP36,CR36,CT36,CV36)-1 | BZ36: 220.9675 | CA36: =BZ36/DN36-1 | CB36: 257.3013 | CC36: =CB36/DO36-1 | CD36: 303.2571 | CE36: =CD36/DP36-1 | CF36: 305.4569 | CG36: =CF36/DQ36-1 | CH36: 260.8824 | CI36: =CH36/DR36-1 | CJ36: 300.3693 | CK36: =CJ36/DS36-1 | CL36: 315.7155 | CM36: =CL36/DT36-1 | CN36: 318.5073 | CO36: =CN36/DU36-1 | CP36: 312.1218 | CQ36: =CP36/DV36-1 | CR36: 323.8673 | CS36: =CR36/DW36-1 | CT36: 368.9892 | CU36: =CT36/DY36-1 | CV36: 396.4574 | CW36: =CV36/DY36-1 | CX36: =BZ36+CB36+CD36+CF36+CH36+CJ36+CL36+CN36+CP36+CR36+CT36+CV36 | CY36: =CX36/SUM(DN36:DY36)-1 | DA36: =CV36/CT36-1 | DB36: =CT36/CR36-1 | DM36: 襄阳市 | DN36: 40.7015 | DO36: 42.1227 | DP36: 43.0398 | DQ36: 51.8451 | DR36: 58.5454 | DS36: 47.9857 | DT36: 42.5093 | DU36: 42.131 | DV36: 42.6153 | DW36: 35.3266 | DX36: 30.0481 | DY36: 35.4847 | DZ36: -0.44915871 | EA36: =SUM(DN36:DY36) | EB36: =IFERROR(EA36/SUM(ED36:EO36)-1,"") | ED36: 46.2984 | EE36: 32.3507 | EF36: 42.94563 | EG36: 48.38992 | EH36: 68.3686 | EI36: 47.3707 | EJ36: 46.8497 | EK36: 48.8398 | EL36: 58.6177 | EM36: 84.2941 | EN36: 67.4068 | EO36: 64.4191 | EP36: =SUM(ED36:EO36)
B37: 规下货运量 (万吨) | C37: 2679.707 | D37: =C37/X37-1 -> 0.26273752 | E37: 1700.9764 | F37: =E37/Z37-1 -> -0.16681483 | G37: 2852.5114 | H37: =G37/AB37-1 -> -0.0095750225 | I37: 2848.6185 | J37: =I37/AD37-1 -> 0.02492379 | K37: 2882.9753 | L37: =K37/AF37-1 -> 0.056070158 | M37: 2715.8125 | N37: =M37/AH37-1 -> 0.097717573 | O37: 2578.9253 | P37: =O37/AJ37-1 -> 0.050745989 | Q37: 2677.3931 | R37: =Q37/AL37-1 -> 0.08323367 | T37: =S37/AN37-1 | U37: =C37+E37+G37+I37+K37+M37+O37+Q37+S37 | V37: =U37/SUM(X37,Z37,AB37,AD37,AF37,AH37,AJ37,AL37,AN37)-1 | X37: 2122.141 | Y37: =X37/AY37-1 | Z37: 2041.5346 | AA37: =Z37/BA37-1 | AB37: 2880.0883 | AC37: =AB37/BC37-1 | AD37: 2779.3467 | AE37: =AD37/BE37-1 | AF37: 2729.9089 | AG37: =AF37/BG37-1 | AH37: 2474.0539 | AI37: =AH37/BI37-1 | AJ37: 2454.3756 | AK37: =AJ37/BK37-1 | AL37: 2471.6672 | AM37: =AL37/BM37-1 | AN37: 2498.1413 | AO37: =AN37/BO37-1 | AP37: 2340.618 | AQ37: =AP37/BQ37-1 | AR37: 2597.2668 | AS37: =AR37/BS37-1 | AT37: 2729.4183 | AU37: =AT37/BU37-1 | AV37: =X37+Z37+AB37+AD37+AF37+AH37+AJ37+AL37+AN37+AP37+AR37+AT37 | AW37: =AV37/SUM(AY37,BA37,BC37,BE37,BG37,BI37,BK37,BM37,BO37,BQ37,BS37,BU37)-1 | AY37: 2394.3127 | AZ37: =AY37/BZ37-1 | BA37: 1186.5925 | BB37: =BA37/CB37-1 | BC37: 2656.2029 | BD37: =BC37/CD37-1 | BE37: 2506.9588 | BF37: =BE37/CF37-1 | BG37: 2605.2915 | BH37: =BG37/CH37-1 | BI37: 2349.5795 | BJ37: =BI37/CJ37-1 | BK37: 2357.8531 | BL37: =BK37/CL37-1 | BM37: 2401.8049 | BN37: =BM37/CN37-1 | BO37: 2416.6303 | BP37: =BO37/CP37-1 | BQ37: 2449.0532 | BR37: =BQ37/CR37-1 | BS37: 2594.7136 | BT37: =BS37/CT37-1 | BU37: 2752.062 | BV37: =BU37/CV37-1 | BW37: =AY37+BA37+BC37+BE37+BG37+BI37+BK37+BM37+BO37+BQ37+BS37+BU37 | BX37: =BW37/SUM(BZ37,CB37,CD37,CF37,CH37,CJ37,CL37,CN37,CP37,CR37,CT37,CV37)-1 | BZ37: 1450.0061 | CA37: =BZ37/DN37-1 | CB37: 2103.6026 | CC37: =CB37/DO37-1 | CD37: 2552.012 | CE37: =CD37/DP37-1 | CF37: 2373.1156 | CG37: =CF37/DQ37-1 | CH37: 2582.7117 | CI37: =CH37/DR37-1 | CJ37: 2495.6977 | CK37: =CJ37/DS37-1 | CL37: 2457.0044 | CM37: =CL37/DT37-1 | CN37: 2531.7518 | CO37: =CN37/DU37-1 | CP37: 2416.9065 | CQ37: =CP37/DV37-1 | CR37: 2482.0345 | CS37: =CR37/DW37-1 | CT37: 2598.4121 | CU37: =CT37/DY37-1 | CV37: 2638.913 | CW37: =CV37/DY37-1 | CX37: =BZ37+CB37+CD37+CF37+CH37+CJ37+CL37+CN37+CP37+CR37+CT37+CV37 | CY37: =CX37/SUM(DN37:DY37)-1 | DA37: =CV37/CT37-1 | DB37: =CT37/CR37-1 | DN37: 1849.5227 | DO37: 1510.9092 | DP37: 2366.9289 | DQ37: 2089.3493 | DR37: 2435.9543 | DS37: 2242.5379 | DT37: 2223.0912 | DU37: 2155.842 | DV37: 2300.191 | DW37: 2219.8586 | DX37: 2240.8011 | DY37: 2426.6005 | DZ37: -0.11958139 | EA37: =SUM(DN37:DY37) | EB37: =IFERROR(EA37/SUM(ED37:EO37)-1,"") | ED37: 2650.5807 | EE37: 1218.2632 | EF37: 2246.2255 | EG37: 2773.9002 | EH37: 2822.0247 | EI37: 2949.4074 | EJ37: 2582.1773 | EK37: 2428.3479 | EL37: 2598.2673 | EM37: 2470.4615 | EN37: 2803.3984 | EO37: 2756.1895 | EP37: =SUM(ED37:EO37)
B38: 规上+规下周转量 (万吨公里) | C38: =C39+C40 -> 513760.43 | D38: =C38/Z38-1 -> 0.14991219 | E38: =E39+E40 -> 361067.98 | F38: =E38/AB38-1 -> -0.16754616 | G38: =G39+G40 -> 543947.42 | H38: =G38/AD38-1 -> -0.045887401 | I38: =I39+I40 -> 552442.41 | J38: =I38/AF38-1 -> -0.018060987 | K38: =K39+K40 -> 560267.75 | L38: =K38/AH38-1 -> -0.028909892 | M38: =M39+M40 -> 535610.06 | N38: =M38/AJ38-1 -> 0.0084696197 | O38: =O39+O40 -> 521712.64 | P38: =O38/AL38-1 -> 0.0065566284 | Q38: =Q39+Q40 -> 542515.88 | R38: =Q38/AL38-1 -> 0.043828387 | S38: =S39+S40 | T38: =S38/AN38-1 | U38: =C38+E38+G38+I38+K38+M38+O38+Q38+S38 | V38: =U38/SUM(X38,Z38,AB38,AD38,AF38,AH38,AJ38,AL38,AN38)-1 | X38: =X39+X40 | Y38: =X38/AY38-1 | Z38: =Z39+Z40 | AA38: =Z38/BA38-1 | AB38: =AB39+AB40 | AC38: =AB38/BC38-1 | AD38: =AD39+AD40 | AE38: =AD38/BE38-1 | AF38: =AF39+AF40 | AG38: =AF38/BG38-1 | AH38: =AH39+AH40 | AI38: =AH38/BI38-1 | AJ38: =AJ39+AJ40 | AK38: =AJ38/BK38-1 | AL38: =AL39+AL40 | AM38: =AL38/BM38-1 | AN38: =AN39+AN40 | AO38: =AN38/BO38-1 | AP38: =AP39+AP40 | AQ38: =AP38/BQ38-1 | AR38: =AR39+AR40 | AS38: =AR38/BS38-1 | AT38: =AT39+AT40 | AU38: =AT38/BU38-1 | AV38: =X38+Z38+AB38+AD38+AF38+AH38+AJ38+AL38+AN38+AP38+AR38+AT38 | AW38: =AV38/SUM(AY38,BA38,BC38,BE38,BG38,BI38,BK38,BM38,BO38,BQ38,BS38,BU38)-1 | AY38: =AY39+AY40 | AZ38: =AY38/BZ38-1 | BA38: =BA39+BA40 | BB38: =BA38/CB38-1 | BC38: =BC39+BC40 | BD38: =BC38/CD38-1 | BE38: =BE39+BE40 | BF38: =BE38/CF38-1 | BG38: =BG39+BG40 | BH38: =BG38/CH38-1 | BI38: =BI39+BI40 | BJ38: =BI38/CJ38-1 | BK38: =BK39+BK40 | BL38: =BK38/CL38-1 | BM38: =BM39+BM40 | BN38: =BM38/CN38-1 | BO38: =BO39+BO40 | BP38: =BO38/CP38-1 | BQ38: =BQ39+BQ40 | BR38: =BQ38/CR38-1 | BS38: =BS39+BS40 | BT38: =BS38/CT38-1 | BU38: =BU39+BU40 | BV38: =BU38/CV38-1 | BW38: =AY38+BA38+BC38+BE38+BG38+BI38+BK38+BM38+BO38+BQ38+BS38+BU38 | BX38: =BW38/SUM(BZ38,CB38,CD38,CF38,CH38,CJ38,CL38,CN38,CP38,CR38,CT38,CV38)-1 | BZ38: =BZ39+BZ40 | CA38: =BZ38/DN38-1 | CB38: =CB39+CB40 | CC38: =CB38/DO38-1 | CD38: =SUM(CD39:CD40) | CE38: =CD38/DP38-1 | CF38: 485986.15 | CG38: =CF38/DQ38-1 | CH38: 495340.38 | CI38: =CH38/DR38-1 | CJ38: 484790.8 | CK38: =CJ38/DS38-1 | CL38: =CL39+CL40 | CM38: =CL38/DT38-1 | CN38: 513693.78 | CO38: =CN38/DU38-1 | CP38: =SUM(CP39:CP40) | CQ38: =CP38/DV38-1 | CR38: =SUM(CR39:CR40) | CS38: =CR38/DW38-1 | CT38: =CT39+CT40 | CU38: =CT38/DY38-1 | CV38: =CV39+CV40 | CW38: =CV38/DY38-1 | CX38: =BZ38+CB38+CD38+CF38+CH38+CJ38+CL38+CN38+CP38+CR38+CT38+CV38 | CY38: =CX38/SUM(DN38:DY38)-1 | DA38: =CV38/CT38-1 | DB38: =CT38/CR38-1 | DN38: 369093.7 | DO38: 279057.36 | DP38: 427605.41 | DQ38: 419282.29 | DR38: 441542.54 | DS38: 400086.01 | DT38: 414647.36 | DU38: 411171.34 | DV38: 438012.25 | DW38: 426905.44 | DX38: 423877.05 | DY38: 436117.26 | DZ38: -0.0013266201 | EA38: =SUM(DN38:DY38) | EB38: =IFERROR(EA38/SUM(ED38:EO38)-1,"") | ED38: =ED39+ED40 | EE38: =EE39+EE40 | EF38: =EF39+EF40 | EG38: =EG39+EG40 | EH38: =EH39+EH40 | EI38: =EI39+EI40 | EJ38: =EJ39+EJ40 | EK38: =EK39+EK40 | ... EO38: =EO39+EO40 | EP38: =SUM(ED38:EO38)
B39: 规上货物周转量 (万吨公里) | C39: 85975.352 | D39: =C39/Z39-1 -> -0.044020686 | E39: 70041.806 | F39: =E39/AB39-1 -> -0.086819473 | G39: 74518.378 | H39: =G39/AD39-1 -> -0.16007461 | I39: 79662.66 | J39: =I39/AF39-1 -> -0.16991642 | K39: 90461.487 | L39: =K39/AH39-1 -> -0.25962547 | M39: 99449.26 | N39: =M39/AJ39-1 -> -0.16764752 | O39: 100128.69 | P39: =O39/AL39-1 -> -0.0070720736 | Q39: 93914.557 | R39: =Q39/AL39-1 -> 0.024866892 | T39: =S39/AN39-1 | U39: =C39+E39+G39+I39+K39+M39+O39+Q39+S39 | V39: =U39/SUM(X39,Z39,AB39,AD39,AF39,AH39,AJ39,AL39,AN39)-1 | X39: 89934.323 | Y39: =X39/AY39-1 | Z39: 76700.942 | AA39: =Z39/BA39-1 | AB39: 88720.235 | AC39: =AB39/BC39-1 | AD39: 95969.445 | AE39: =AD39/BE39-1 | AF39: 122183.41 | AG39: =AF39/BG39-1 | AH39: 119479.74 | AI39: =AH39/BI39-1 | AJ39: 100841.85 | AK39: =AJ39/BK39-1 | AL39: 91635.858 | AM39: =AL39/BM39-1 | AN39: 90134.955 | AO39: =AN39/BO39-1 | AP39: 94198.735 | AQ39: =AP39/BQ39-1 | AR39: 94885.775 | AS39: =AR39/BS39-1 | AT39: 97300.068 | AU39: =AT39/BU39-1 | AV39: =X39+Z39+AB39+AD39+AF39+AH39+AJ39+AL39+AN39+AP39+AR39+AT39 | AW39: =AV39/SUM(AY39,BA39,BC39,BE39,BG39,BI39,BK39,BM39,BO39,BQ39,BS39,BU39)-1 | AY39: 82353.281 | AZ39: =AY39/BZ39-1 | BA39: 50298.739 | BB39: =BA39/CB39-1 | BC39: 81493.05 | BD39: =BC39/CD39-1 | BE39: 85594.183 | BF39: =BE39/CF39-1 | BG39: 85687.41 | BH39: =BG39/CH39-1 | BI39: 91514.033 | BJ39: =BI39/CJ39-1 | BK39: 86155.61 | BL39: =BK39/CL39-1 | BM39: 88521.767 | BN39: =BM39/CN39-1 | BO39: 87619.143 | BP39: =BO39/CP39-1 | BQ39: 90871.767 | BR39: =BQ39/CR39-1 | BS39: 95143.896 | BT39: =BS39/CT39-1 | BU39: 116889.32 | BV39: =BU39/CV39-1 | BW39: =AY39+BA39+BC39+BE39+BG39+BI39+BK39+BM39+BO39+BQ39+BS39+BU39 | BX39: =BW39/SUM(BZ39,CB39,CD39,CF39,CH39,CJ39,CL39,CN39,CP39,CR39,CT39,CV39)-1 | BZ39: 44249.873 | CA39: =BZ39/DN39-1 | CB39: 52426.619 | CC39: =CB39/DO39-1 | CD39: 58744.767 | CE39: =CD39/DP39-1 | CF39: 58504.619 | CG39: =CF39/DQ39-1 | CH39: 56735.656 | CI39: =CH39/DR39-1 | CJ39: 60271.749 | CK39: =CJ39/DS39-1 | CL39: 56604.882 | CM39: =CL39/DT39-1 | CN39: 57311.676 | CO39: =CN39/DU39-1 | CP39: 60089.076 | CQ39: =CP39/DV39-1 | CR39: 59346.595 | CS39: =CR39/DW39-1 | CT39: 69413.661 | CU39: =CT39/DY39-1 | CV39: 76520.771 | CW39: =CV39/DY39-1 | CX39: =BZ39+CB39+CD39+CF39+CH39+CJ39+CL39+CN39+CP39+CR39+CT39+CV39 | CY39: =CX39/SUM(DN39:DY39)-1 | DA39: =CV39/CT39-1 | DB39: =CT39/CR39-1 | DN39: 10500.744 | DO39: 10114.014 | DP39: 11568.224 | DQ39: 10158.412 | DR39: 11279.418 | DS39: 10607.585 | DT39: 10424.856 | DU39: 10071.939 | DV39: 10293.458 | DW39: 10352.184 | DX39: 9984.4711 | DY39: 10410.772 | DZ39: -0.1282707 | EA39: =SUM(DN39:DY39) | EB39: =IFERROR(EA39/SUM(ED39:EO39)-1,"") | ED39: 10480.064 | EE39: 7477.3938 | EF39: 9376.9398 | EG39: 9450.6698 | EH39: 9460.6443 | EI39: 9715.1838 | EJ39: 9960.4595 | EK39: 9807.5993 | EL39: 10774.204 | EM39: 11020.046 | EN39: 11113.902 | EO39: 11942.666 | EP39: =SUM(ED39:EO39)
B40: 规下货物周转量 (万吨公里) | C40: 427785.08 | D40: =C40/Z40-1 -> 0.19878796 | E40: 291026.18 | F40: =E40/AB40-1 -> -0.1848883 | G40: 469429.04 | H40: =G40/AD40-1 -> -0.024842596 | I40: 472779.75 | J40: =I40/AF40-1 -> 0.01317008 | K40: 469806.26 | L40: =K40/AH40-1 -> 0.033077485 | M40: 436160.8 | N40: =M40/AJ40-1 -> 0.05958914 | O40: 421583.95 | P40: =O40/AL40-1 -> 0.0098486869 | Q40: 448601.33 | R40: =Q40/AL40-1 -> 0.047887134 | T40: =S40/AN40-1 | U40: =C40+E40+G40+I40+K40+M40+O40+Q40+S40 | V40: =U40/SUM(X40,Z40,AB40,AD40,AF40,AH40,AJ40,AL40,AN40)-1 | X40: 356847.99 | Y40: =X40/AY40-1 | Z40: 357038.4 | AA40: =Z40/BA40-1 | AB40: 481387.96 | AC40: =AB40/BC40-1 | AD40: 466634.14 | AE40: =AD40/BE40-1 | AF40: 454763.82 | AG40: =AF40/BG40-1 | AH40: 411632 | AI40: =AH40/BI40-1 | AJ40: 417472.39 | AK40: =AJ40/BK40-1 | AL40: 428100.81 | AM40: =AL40/BM40-1 | AN40: 435655.66 | AO40: =AN40/BO40-1 | AP40: 393234.42 | AQ40: =AP40/BQ40-1 | AR40: 413885.84 | AS40: =AR40/BS40-1 | AT40: 438030.11 | AU40: =AT40/BU40-1 | AV40: =X40+Z40+AB40+AD40+AF40+AH40+AJ40+AL40+AN40+AP40+AR40+AT40 | AW40: =AV40/SUM(AY40,BA40,BC40,BE40,BG40,BI40,BK40,BM40,BO40,BQ40,BS40,BU40)-1 | AY40: 409267.98 | AZ40: =AY40/BZ40-1 | BA40: 231444.7 | BB40: =BA40/CB40-1 | BC40: 438762.56 | BD40: =BC40/CD40-1 | BE40: 425209.89 | BF40: =BE40/CF40-1 | BG40: 438637.28 | BH40: =BG40/CH40-1 | BI40: 392229.09 | BJ40: =BI40/CJ40-1 | BK40: 407886.53 | BL40: =BK40/CL40-1 | BM40: 414855.36 | BN40: =BM40/CN40-1 | BO40: 424339.86 | BP40: =BO40/CP40-1 | BQ40: 423156.66 | BR40: =BQ40/CR40-1 | BS40: 430094.78 | BT40: =BS40/CT40-1 | BU40: 460286.67 | BV40: =BU40/CV40-1 | BW40: =AY40+BA40+BC40+BE40+BG40+BI40+BK40+BM40+BO40+BQ40+BS40+BU40 | BX40: =BW40/SUM(BZ40,CB40,CD40,CF40,CH40,CJ40,CL40,CN40,CP40,CR40,CT40,CV40)-1 | BZ40: 295013.36 | CA40: =BZ40/DN40-1 | CB40: 375601.15 | CC40: =CB40/DO40-1 | CD40: 445441.8 | CE40: =CD40/DP40-1 | CF40: 427481.53 | CG40: =CF40/DQ40-1 | CH40: 438604.72 | CI40: =CH40/DR40-1 | CJ40: 424519.05 | CK40: =CJ40/DS40-1 | CL40: 439432.46 | CM40: =CL40/DT40-1 | CN40: 456382.11 | CO40: =CN40/DU40-1 | CP40: 440139.85 | CQ40: =CP40/DV40-1 | CR40: 433311.19 | CS40: =CR40/DW40-1 | CT40: 441955.72 | CU40: =CT40/DY40-1 | CV40: 454048.63 | CW40: =CV40/DY40-1 | CX40: =BZ40+CB40+CD40+CF40+CH40+CJ40+CL40+CN40+CP40+CR40+CT40+CV40 | CY40: =CX40/SUM(DN40:DY40)-1 | DA40: =CV40/CT40-1 | DB40: =CT40/CR40-1 | DN40: 358592.95 | DO40: 268943.35 | DP40: 416037.19 | DQ40: 409123.87 | DR40: 430263.12 | DS40: 389478.43 | DT40: 404222.51 | DU40: 401099.4 | DV40: 427718.79 | DW40: 416553.26 | DX40: 413892.58 | DY40: 425706.48 | DZ40: 0.0022426247 | EA40: =SUM(DN40:DY40) | EB40: =IFERROR(EA40/SUM(ED40:EO40)-1,"") | ED40: 525435.64 | EE40: 270644.26 | EF40: 432048.94 | EG40: 517268.91 | EH40: 518784 | EI40: 497705.86 | EJ40: 434835.29 | EK40: 454623.34 | EL40: 443273.15 | EM40: 402881.25 | EN40: 449144.75 | EO40: 424753.92 | EP40: =SUM(ED40:EO40)
A41: 鄂州市 | B41: 规上+规下货运量 (万吨) | C41: 235.76325 | D41: =C41/Z41-1 -> 0.20340761 | E41: 164.41449 | F41: =E41/AB41-1 -> -0.097971501 | G41: 217.66524 | H41: =G41/AD41-1 -> 0.0068162082 | I41: 206.79756 | J41: =I41/AF41-1 -> 0.019775871 | K41: 205.90331 | L41: =K41/AH41-1 -> 0.077372782 | M41: 211.58039 | N41: =M41/AJ41-1 -> 0.12714649 | O41: 196.92796 | P41: =O41/AL41-1 -> 0.034468671 | Q41: 204.6092 | R41: =Q41/AL41-1 -> 0.069529197 | T41: =S41/AN41-1 | U41: =C41+E41+G41+I41+K41+M41+O41+Q41+S41 | V41: =U41/SUM(X41,Z41,AB41,AD41,AF41,AH41,AJ41,AL41,AN41)-1 | X41: 195.91304 | Y41: =X41/AY41-1 | Z41: 182.27195 | AA41: =Z41/BA41-1 | AB41: 216.19163 | AC41: =AB41/BC41-1 | AD41: 202.78727 | AE41: =AD41/BE41-1 | AF41: 191.11612 | AG41: =AF41/BG41-1 | AH41: 187.7133 | AI41: =AH41/BI41-1 | AJ41: 190.36629 | AK41: =AJ41/BK41-1 | AL41: 191.30773 | AM41: =AL41/BM41-1 | AN41: 229.13941 | AO41: =AN41/BO41-1 | AP41: 211.34778 | AQ41: =AP41/BQ41-1 | AR41: 235.67972 | AS41: =AR41/BS41-1 | AT41: 280.00683 | AU41: =AT41/BU41-1 | AV41: =X41+Z41+AB41+AD41+AF41+AH41+AJ41+AL41+AN41+AP41+AR41+AT41 | AW41: =AV41/SUM(AY41,BA41,BC41,BE41,BG41,BI41,BK41,BM41,BO41,BQ41,BS41,BU41)-1 | AY41: 219.27187 | AZ41: =AY41/BZ41-1 | BA41: 123.12679 | BB41: =BA41/CB41-1 | BC41: 185.31472 | BD41: =BC41/CD41-1 | BE41: 182.92979 | BF41: =BE41/CF41-1 | BG41: 176.46675 | BH41: =BG41/CH41-1 | BI41: 171.2054 | BJ41: =BI41/CJ41-1 | BK41: 180.99815 | BL41: =BK41/CL41-1 | BM41: 186.16484 | BN41: =BM41/CN41-1 | BO41: 202.18519 | BP41: =BO41/CP41-1 | BQ41: 204.7057 | BR41: =BQ41/CR41-1 | BS41: 233.951 | BT41: =BS41/CT41-1 | BU41: 317.71251 | BV41: =BU41/CV41-1 | BW41: =AY41+BA41+BC41+BE41+BG41+BI41+BK41+BM41+BO41+BQ41+BS41+BU41 | BX41: =BW41/SUM(BZ41,CB41,CD41,CF41,CH41,CJ41,CL41,CN41,CP41,CR41,CT41,CV41)-1 | BZ41: 122.95683 | CA41: =BZ41/DN41-1 | CB41: 166.20302 | CC41: =CB41/DO41-1 | CD41: 175.90424 | CE41: =CD41/DP41-1 | CF41: 152.61612 | CG41: =CF41/DQ41-1 | CH41: 154.94697 | CI41: =CH41/DR41-1 | CJ41: 170.372 | CK41: =CJ41/DS41-1 | CL41: 170.23803 | CM41: =CL41/DT41-1 | CN41: 182.89364 | CO41: =CN41/DU41-1 | CP41: 189.9627 | CQ41: =CP41/DV41-1 | CR41: 204.41103 | CS41: =CR41/DW41-1 | CT41: 230.71038 | CU41: =CT41/DY41-1 | CV41: 284.0787 | CW41: =CV41/DY41-1 | CX41: =BZ41+CB41+CD41+CF41+CH41+CJ41+CL41+CN41+CP41+CR41+CT41+CV41 | CY41: =CX41/SUM(DN41:DY41)-1 | DA41: =CV41/CT41-1 | DB41: =CT41/CR41-1 | DN41: 132.45115 | DO41: 112.51967 | DP41: 148.25528 | DQ41: 122.02851 | DR41: 136.39604 | DS41: 137.20266 | DT41: 140.79796 | DU41: 144.12573 | DV41: 171.7438 | DW41: 174.76684 | DX41: 186.51028 | DY41: 175.37868 | DZ41: -0.021942145 | EA41: =SUM(DN41:DY41) | EB41: =IFERROR(EA41/SUM(ED41:EO41)-1,"") | ED41: 176.0401 | EE41: 92.701715 | EF41: 137.75565 | EG41: 155.06511 | EH41: 151.69987 | EI41: 171.86749 | EJ41: 151.85829 | EK41: 142.96702 | EL41: 160.79222 | EM41: 157.30369 | EN41: 175.96777 | EO41: 179.3132 | EP41: =SUM(ED41:EO41)
B42: 规上货运量 (万吨) | C42: 93.97 | D42: =C42/Z42-1 -> 0.11832702 | E42: 92.6829 | F42: =E42/AB42-1 -> 0.13396049 | G42: 136.4071 | H42: =G42/AD42-1 -> 0.40870584 | I42: 122.0455 | J42: =I42/AF42-1 -> 0.42977222 | K42: 124.0954 | L42: =K42/AH42-1 -> 0.745379 | M42: 122.807 | N42: =M42/AJ42-1 -> 0.61257368 | O42: 88.2501 | P42: =O42/AL42-1 -> 0.32663228 | Q42: 81.2104 | R42: =Q42/AL42-1 -> 0.14641129 | T42: =S42/AN42-1 | U42: =C42+E42+G42+I42+K42+M42+O42+Q42+S42 | V42: =U42/SUM(X42,Z42,AB42,AD42,AF42,AH42,AJ42,AL42,AN42)-1 | X42: 84.0273 | Y42: =X42/AY42-1 | Z42: 81.7338 | AA42: =Z42/BA42-1 | AB42: 96.8315 | AC42: =AB42/BC42-1 | AD42: 85.3601 | AE42: =AD42/BE42-1 | AF42: 71.0994 | AG42: =AF42/BG42-1 | AH42: 76.1559 | AI42: =AH42/BI42-1 | AJ42: 66.5219 | AK42: =AJ42/BK42-1 | AL42: 70.8388 | AM42: =AL42/BM42-1 | AN42: 126.7464 | AO42: =AN42/BO42-1 | AP42: 88.3077 | AQ42: =AP42/BQ42-1 | AR42: 85.3593 | AS42: =AR42/BS42-1 | AT42: 83.883 | AU42: =AT42/BU42-1 | AV42: =X42+Z42+AB42+AD42+AF42+AH42+AJ42+AL42+AN42+AP42+AR42+AT42 | AW42: =AV42/SUM(AY42,BA42,BC42,BE42,BG42,BI42,BK42,BM42,BO42,BQ42,BS42,BU42)-1 | AY42: 101.1947 | AZ42: =AY42/BZ42-1 | BA42: 77.789 | BB42: =BA42/CB42-1 | BC42: 77.1896 | BD42: =BC42/CD42-1 | BE42: 72.5423 | BF42: =BE42/CF42-1 | BG42: 69.727 | BH42: =BG42/CH42-1 | BI42: 64.1551 | BJ42: =BI42/CJ42-1 | BK42: 62.3931 | BL42: =BK42/CL42-1 | BM42: 61.5147 | BN42: =BM42/CN42-1 | BO42: 61.174 | BP42: =BO42/CP42-1 | BQ42: 63.9498 | BR42: =BQ42/CR42-1 | BS42: 83.1536 | BT42: =BS42/CT42-1 | BU42: 180.2308 | BV42: =BU42/CV42-1 | BW42: =AY42+BA42+BC42+BE42+BG42+BI42+BK42+BM42+BO42+BQ42+BS42+BU42 | BX42: =BW42/SUM(BZ42,CB42,CD42,CF42,CH42,CJ42,CL42,CN42,CP42,CR42,CT42,CV42)-1 | BZ42: 86.538 | CA42: =BZ42/DN42-1 | CB42: 90.4582 | CC42: =CB42/DO42-1 | CD42: 93.156 | CE42: =CD42/DP42-1 | CF42: 71.7862 | CG42: =CF42/DQ42-1 | CH42: 61.9547 | CI42: =CH42/DR42-1 | CJ42: 96.8956 | CK42: =CJ42/DS42-1 | CL42: 85.4061 | CM42: =CL42/DT42-1 | CN42: 82.1584 | CO42: =CN42/DU42-1 | CP42: 78.451 | CQ42: =CP42/DV42-1 | CR42: 88.2578 | CS42: =CR42/DW42-1 | CT42: 127.9715 | CU42: =CT42/DY42-1 | CV42: 168.9565 | CW42: =CV42/DY42-1 | CX42: =BZ42+CB42+CD42+CF42+CH42+CJ42+CL42+CN42+CP42+CR42+CT42+CV42 | CY42: =CX42/SUM(DN42:DY42)-1 | DA42: =CV42/CT42-1 | DB42: =CT42/CR42-1 | DM42: 鄂州市 | DN42: 21.2831 | DO42: 18.8042 | DP42: 19.3388 | DQ42: 19.3293 | DR42: 19.4142 | DS42: 31.3136 | DT42: 32.1749 | DU42: 31.8066 | DV42: 63.5782 | DW42: 80.7801 | DX42: 83.1049 | DY42: 74.8407 | DZ42: 2.7340628 | EA42: =SUM(DN42:DY42) | EB42: =IFERROR(EA42/SUM(ED42:EO42)-1,"") | ED42: 23.9025 | EE42: 22.1369 | EF42: 25.7831 | EG42: 23.2322 | EH42: 21.118 | EI42: 22.2616 | EJ42: 20.4522 | EK42: 22.1513 | EL42: 22.4784 | EM42: 22.6202 | EN42: 21.3317 | EO42: 20.0427 | EP42: =SUM(ED42:EO42)
B43: 规下货运量 (万吨) | C43: 141.79325 | D43: =C43/Z43-1 -> 0.26730397 | E43: 71.731591 | F43: =E43/AB43-1 -> -0.28652364 | G43: 81.258139 | H43: =G43/AD43-1 -> -0.31921876 | I43: 84.752065 | J43: =I43/AF43-1 -> -0.27825847 | K43: 81.80791 | L43: =K43/AH43-1 -> -0.31836241 | M43: 88.77339 | N43: =M43/AJ43-1 -> -0.20423577 | O43: 108.67786 | P43: =O43/AL43-1 -> -0.12246439 | Q43: 123.3988 | R43: =Q43/AL43-1 -> 0.024320569 | T43: =S43/AN43-1 | U43: =C43+E43+G43+I43+K43+M43+O43+Q43+S43 | V43: =U43/SUM(X43,Z43,AB43,AD43,AF43,AH43,AJ43,AL43,AN43)-1 | X43: 111.88574 | Y43: =X43/AY43-1 | Z43: 100.53815 | AA43: =Z43/BA43-1 | AB43: 119.36013 | AC43: =AB43/BC43-1 | AD43: 117.42717 | AE43: =AD43/BE43-1 | AF43: 120.01672 | AG43: =AF43/BG43-1 | AH43: 111.5574 | AI43: =AH43/BI43-1 | AJ43: 123.84439 | AK43: =AJ43/BK43-1 | AL43: 120.46893 | AM43: =AL43/BM43-1 | AN43: 102.39301 | AO43: =AN43/BO43-1 | AP43: 123.04008 | AQ43: =AP43/BQ43-1 | AR43: 150.32042 | AS43: =AR43/BS43-1 | AT43: 196.12383 | AU43: =AT43/BU43-1 | AV43: =X43+Z43+AB43+AD43+AF43+AH43+AJ43+AL43+AN43+AP43+AR43+AT43 | AW43: =AV43/SUM(AY43,BA43,BC43,BE43,BG43,BI43,BK43,BM43,BO43,BQ43,BS43,BU43)-1 | AY43: 118.07717 | AZ43: =AY43/BZ43-1 | BA43: 45.337793 | BB43: =BA43/CB43-1 | BC43: 108.12512 | BD43: =BC43/CD43-1 | BE43: 110.38749 | BF43: =BE43/CF43-1 | BG43: 106.73975 | BH43: =BG43/CH43-1 | BI43: 107.0503 | BJ43: =BI43/CJ43-1 | BK43: 118.60505 | BL43: =BK43/CL43-1 | BM43: 124.65014 | BN43: =BM43/CN43-1 | BO43: 141.01119 | BP43: =BO43/CP43-1 | BQ43: 140.7559 | BR43: =BQ43/CR43-1 | BS43: 150.7974 | BT43: =BS43/CT43-1 | BU43: 137.48171 | BV43: =BU43/CV43-1 | BW43: =AY43+BA43+BC43+BE43+BG43+BI43+BK43+BM43+BO43+BQ43+BS43+BU43 | BX43: =BW43/SUM(BZ43,CB43,CD43,CF43,CH43,CJ43,CL43,CN43,CP43,CR43,CT43,CV43)-1 | BZ43: 36.418834 | CA43: =BZ43/DN43-1 | CB43: 75.744819 | CC43: =CB43/DO43-1 | CD43: 82.748244 | CE43: =CD43/DP43-1 | CF43: 80.829915 | CG43: =CF43/DQ43-1 | CH43: 92.992274 | CI43: =CH43/DR43-1 | CJ43: 73.476402 | CK43: =CJ43/DS43-1 | CL43: 84.831931 | CM43: =CL43/DT43-1 | CN43: 100.73524 | CO43: =CN43/DU43-1 | CP43: 111.5117 | CQ43: =CP43/DV43-1 | CR43: 116.15323 | CS43: =CR43/DW43-1 | CT43: 102.73888 | CU43: =CT43/DY43-1 | CV43: 115.1222 | CW43: =CV43/DY43-1 | CX43: =BZ43+CB43+CD43+CF43+CH43+CJ43+CL43+CN43+CP43+CR43+CT43+CV43 | CY43: =CX43/SUM(DN43:DY43)-1 | DA43: =CV43/CT43-1 | DB43: =CT43/CR43-1 | DN43: 111.16805 | DO43: 93.715472 | DP43: 128.91648 | DQ43: 102.69921 | DR43: 116.98184 | DS43: 105.88906 | DT43: 108.62306 | DU43: 112.31913 | DV43: 108.1656 | DW43: 93.986742 | DX43: 103.40538 | DY43: 100.53798 | DZ43: -0.36875955 | EA43: =SUM(DN43:DY43) | EB43: =IFERROR(EA43/SUM(ED43:EO43)-1,"") | ED43: 152.1376 | EE43: 70.564815 | EF43: 111.97255 | EG43: 131.83291 | EH43: 130.58187 | EI43: 149.60589 | EJ43: 131.40609 | EK43: 120.81572 | EL43: 138.31382 | EM43: 134.68349 | EN43: 154.63607 | EO43: 159.2705 | EP43: =SUM(ED43:EO43)
B44: 规上+规下周转量 (万吨公里) | C44: =C45+C46 -> 17119.035 | D44: =C44/Z44-1 -> 0.084504079 | E44: =E45+E46 -> 12817.749 | F44: =E44/AB44-1 -> -0.18441092 | G44: =G45+G46 -> 15537.681 | H44: =G44/AD44-1 -> -0.08835463 | I44: =I45+I46 -> 14279.873 | J44: =I44/AF44-1 -> -0.058922977 | K44: =K45+K46 -> 13887.884 | L44: =K44/AH44-1 -> -0.067466427 | M44: =M45+M46 -> 15011.811 | N44: =M44/AJ44-1 -> -0.026889307 | O44: =O45+O46 -> 12779.331 | P44: =O44/AL44-1 -> -0.028892565 | Q44: =Q45+Q46 -> 13701.645 | R44: =Q44/AL44-1 -> 0.0094684725 | S44: =S45+S46 | T44: =S44/AN44-1 | U44: =C44+E44+G44+I44+K44+M44+O44+Q44+S44 | V44: =U44/SUM(X44,Z44,AB44,AD44,AF44,AH44,AJ44,AL44,AN44)-1 | X44: =X45+X46 | Y44: =X44/AY44-1 | Z44: =Z45+Z46 | AA44: =Z44/BA44-1 | AB44: =AB45+AB46 | AC44: =AB44/BC44-1 | AD44: =AD45+AD46 | AE44: =AD44/BE44-1 | AF44: =AF45+AF46 | AG44: =AF44/BG44-1 | AH44: =AH45+AH46 | AI44: =AH44/BI44-1 | AJ44: =AJ45+AJ46 | AK44: =AJ44/BK44-1 | AL44: =AL45+AL46 | AM44: =AL44/BM44-1 | AN44: =AN45+AN46 | AO44: =AN44/BO44-1 | AP44: =AP45+AP46 | AQ44: =AP44/BQ44-1 | AR44: =AR45+AR46 | AS44: =AR44/BS44-1 | AT44: =AT45+AT46 | AU44: =AT44/BU44-1 | AV44: =X44+Z44+AB44+AD44+AF44+AH44+AJ44+AL44+AN44+AP44+AR44+AT44 | AW44: =AV44/SUM(AY44,BA44,BC44,BE44,BG44,BI44,BK44,BM44,BO44,BQ44,BS44,BU44)-1 | AY44: =AY45+AY46 | AZ44: =AY44/BZ44-1 | BA44: =BA45+BA46 | BB44: =BA44/CB44-1 | BC44: =BC45+BC46 | BD44: =BC44/CD44-1 | BE44: =BE45+BE46 | BF44: =BE44/CF44-1 | BG44: =BG45+BG46 | BH44: =BG44/CH44-1 | BI44: =BI45+BI46 | BJ44: =BI44/CJ44-1 | BK44: =BK45+BK46 | BL44: =BK44/CL44-1 | BM44: =BM45+BM46 | BN44: =BM44/CN44-1 | BO44: =BO45+BO46 | BP44: =BO44/CP44-1 | BQ44: =BQ45+BQ46 | BR44: =BQ44/CR44-1 | BS44: =BS45+BS46 | BT44: =BS44/CT44-1 | BU44: =BU45+BU46 | BV44: =BU44/CV44-1 | BW44: =AY44+BA44+BC44+BE44+BG44+BI44+BK44+BM44+BO44+BQ44+BS44+BU44 | BX44: =BW44/SUM(BZ44,CB44,CD44,CF44,CH44,CJ44,CL44,CN44,CP44,CR44,CT44,CV44)-1 | BZ44: =BZ45+BZ46 | CA44: =BZ44/DN44-1 | CB44: =CB45+CB46 | CC44: =CB44/DO44-1 | CD44: =SUM(CD45:CD46) | CE44: =CD44/DP44-1 | CF44: 11523.967 | CG44: =CF44/DQ44-1 | CH44: 11825.409 | CI44: =CH44/DR44-1 | CJ44: =CJ45+CJ46 | CK44: =CJ44/DS44-1 | CL44: =CL45+CL46 | CM44: =CL44/DT44-1 | CN44: 14607.443 | CO44: =CN44/DU44-1 | CP44: =SUM(CP45:CP46) | CQ44: =CP44/DV44-1 | CR44: =SUM(CR45:CR46) | CS44: =CR44/DW44-1 | CT44: =CT45+CT46 | CU44: =CT44/DY44-1 | CV44: =CV45+CV46 | CW44: =CV44/DY44-1 | CX44: =BZ44+CB44+CD44+CF44+CH44+CJ44+CL44+CN44+CP44+CR44+CT44+CV44 | CY44: =CX44/SUM(DN44:DY44)-1 | DA44: =CV44/CT44-1 | DB44: =CT44/CR44-1 | DN44: 11810.063 | DO44: 8862.817 | DP44: 11928.379 | DQ44: 10229.364 | DR44: 11394.397 | DS44: 11246.531 | DT44: 11264.567 | DU44: 11871.834 | DV44: 14642.992 | DW44: 17387.157 | DX44: 19584.1 | DY44: 19534.297 | DZ44: 0.24760649 | EA44: =SUM(DN44:DY44) | EB44: =IFERROR(EA44/SUM(ED44:EO44)-1,"") | ED44: =ED45+ED46 | EE44: =EE45+EE46 | EF44: =EF45+EF46 | EG44: =EG45+EG46 | EH44: =EH45+EH46 | EI44: =EI45+EI46 | EJ44: =EJ45+EJ46 | EK44: =EK45+EK46 | ... EO44: =EO45+EO46 | EP44: =SUM(ED44:EO44)
B45: 规上货物周转量 (万吨公里) | C45: 5007.3952 | D45: =C45/Z45-1 -> -0.44781 | E45: 5066.8202 | F45: =E45/AB45-1 -> -0.47661347 | G45: 5704.8297 | H45: =G45/AD45-1 -> -0.5227426 | I45: 5032.3218 | J45: =I45/AF45-1 -> -0.47956529 | K45: 4849.3545 | L45: =K45/AH45-1 -> -0.46222687 | M45: 4836.8822 | N45: =M45/AJ45-1 -> -0.46991645 | O45: 1218.075 | P45: =O45/AL45-1 -> -0.61009784 | Q45: 1148.7861 | R45: =Q45/AL45-1 -> -0.69969944 | T45: =S45/AN45-1 | U45: =C45+E45+G45+I45+K45+M45+O45+Q45+S45 | V45: =U45/SUM(X45,Z45,AB45,AD45,AF45,AH45,AJ45,AL45,AN45)-1 | X45: 9068.2468 | Y45: =X45/AY45-1 | Z45: 9680.8379 | AA45: =Z45/BA45-1 | AB45: 11953.36 | AC45: =AB45/BC45-1 | AD45: 9669.4584 | AE45: =AD45/BE45-1 | AF45: 9017.4726 | AG45: =AF45/BG45-1 | AH45: 9124.7544 | AI45: =AH45/BI45-1 | AJ45: 3124.053 | AK45: =AJ45/BK45-1 | AL45: 3825.4544 | AM45: =AL45/BM45-1 | AN45: 4235.0173 | AO45: =AN45/BO45-1 | AP45: 4101.1481 | AQ45: =AP45/BQ45-1 | AR45: 4113.2192 | AS45: =AR45/BS45-1 | AT45: 4842.5816 | AU45: =AT45/BU45-1 | AV45: =X45+Z45+AB45+AD45+AF45+AH45+AJ45+AL45+AN45+AP45+AR45+AT45 | AW45: =AV45/SUM(AY45,BA45,BC45,BE45,BG45,BI45,BK45,BM45,BO45,BQ45,BS45,BU45)-1 | AY45: 12268.24 | AZ45: =AY45/BZ45-1 | BA45: 9720.5574 | BB45: =BA45/CB45-1 | BC45: 7885.7407 | BD45: =BC45/CD45-1 | BE45: 6686.513 | BF45: =BE45/CF45-1 | BG45: 6147.9087 | BH45: =BG45/CH45-1 | BI45: 6191.5628 | BJ45: =BI45/CJ45-1 | BK45: 5327.3178 | BL45: =BK45/CL45-1 | BM45: 4857.5721 | BN45: =BM45/CN45-1 | BO45: 4139.3543 | BP45: =BO45/CP45-1 | BQ45: 4839.8041 | BR45: =BQ45/CR45-1 | BS45: 7082.2041 | BT45: =BS45/CT45-1 | BU45: 23941.41 | BV45: =BU45/CV45-1 | BW45: =AY45+BA45+BC45+BE45+BG45+BI45+BK45+BM45+BO45+BQ45+BS45+BU45 | BX45: =BW45/SUM(BZ45,CB45,CD45,CF45,CH45,CJ45,CL45,CN45,CP45,CR45,CT45,CV45)-1 | BZ45: 10184.5 | CA45: =BZ45/DN45-1 | CB45: 10234.405 | CC45: =CB45/DO45-1 | CD45: 7680.2464 | CE45: =CD45/DP45-1 | CF45: 5897.9108 | CG45: =CF45/DQ45-1 | CH45: 4706.9139 | CI45: =CH45/DR45-1 | CJ45: 9486.4745 | CK45: =CJ45/DS45-1 | CL45: 8393.393 | CM45: =CL45/DT45-1 | CN45: 8451.9214 | CO45: =CN45/DU45-1 | CP45: 7849.4443 | CQ45: =CP45/DV45-1 | CR45: 8990.8204 | CS45: =CR45/DW45-1 | CT45: 12933.619 | CU45: =CT45/DY45-1 | CV45: 18753.693 | CW45: =CV45/DY45-1 | CX45: =BZ45+CB45+CD45+CF45+CH45+CJ45+CL45+CN45+CP45+CR45+CT45+CV45 | CY45: =CX45/SUM(DN45:DY45)-1 | DA45: =CV45/CT45-1 | DB45: =CT45/CR45-1 | DN45: 755.9882 | DO45: 684.2742 | DP45: 651.8818 | DQ45: 643.9735 | DR45: 688.5369 | DS45: 876.726 | DT45: 812.8072 | DU45: 851.8567 | DV45: 8686.5939 | DW45: 10152.19 | DX45: 11338.333 | DY45: 11156.691 | DZ45: 13.802762 | EA45: =SUM(DN45:DY45) | EB45: =IFERROR(EA45/SUM(ED45:EO45)-1,"") | ED45: 936.8451 | EE45: 756.8276 | EF45: 945.0325 | EG45: 781.1431 | EH45: 733.3142 | EI45: 695.4321 | EJ45: 709.7047 | EK45: 772.2527 | EL45: 835.6722 | EM45: 807.7691 | EN45: 792.2406 | EO45: 753.6898 | EP45: =SUM(ED45:EO45)
B46: 规下货物周转量 (万吨公里) | C46: 12111.639 | D46: =C46/Z46-1 -> 0.80316443 | E46: 7750.9291 | F46: =E46/AB46-1 -> 0.2843078 | G46: 9832.8512 | H46: =G46/AD46-1 -> 0.93172278 | I46: 9247.5514 | J46: =I46/AF46-1 -> 0.67999532 | K46: 9038.5294 | L46: =K46/AH46-1 -> 0.53843007 | M46: 10174.928 | N46: =M46/AJ46-1 -> 0.61458941 | O46: 11561.256 | P46: =O46/AL46-1 -> 0.1520369 | Q46: 12552.859 | R46: =Q46/AL46-1 -> 0.28777994 | T46: =S46/AN46-1 | U46: =C46+E46+G46+I46+K46+M46+O46+Q46+S46 | V46: =U46/SUM(X46,Z46,AB46,AD46,AF46,AH46,AJ46,AL46,AN46)-1 | X46: 6716.8802 | Y46: =X46/AY46-1 | Z46: 6035.1024 | AA46: =Z46/BA46-1 | AB46: 5090.1979 | AC46: =AB46/BC46-1 | AD46: 5504.5102 | AE46: =AD46/BE46-1 | AF46: 5875.1643 | AG46: =AF46/BG46-1 | AH46: 6301.8675 | AI46: =AH46/BI46-1 | AJ46: 10035.491 | AK46: =AJ46/BK46-1 | AL46: 9747.6741 | AM46: =AL46/BM46-1 | AN46: 10711.691 | AO46: =AN46/BO46-1 | AP46: 11633.958 | AQ46: =AP46/BQ46-1 | AR46: 13808.997 | AS46: =AR46/BS46-1 | AT46: 16254.927 | AU46: =AT46/BU46-1 | AV46: =X46+Z46+AB46+AD46+AF46+AH46+AJ46+AL46+AN46+AP46+AR46+AT46 | AW46: =AV46/SUM(AY46,BA46,BC46,BE46,BG46,BI46,BK46,BM46,BO46,BQ46,BS46,BU46)-1 | AY46: 6078.7719 | AZ46: =AY46/BZ46-1 | BA46: 1641.2202 | BB46: =BA46/CB46-1 | BC46: 6708.3607 | BD46: =BC46/CD46-1 | BE46: 6533.3717 | BF46: =BE46/CF46-1 | BG46: 6753.6122 | BH46: =BG46/CH46-1 | BI46: 7170.9925 | BJ46: =BI46/CJ46-1 | BK46: 8115.4519 | BL46: =BK46/CL46-1 | BM46: 8829.2485 | BN46: =BM46/CN46-1 | BO46: 10357.472 | BP46: =BO46/CP46-1 | BQ46: 11361.731 | BR46: =BQ46/CR46-1 | BS46: 12094.316 | BT46: =BS46/CT46-1 | BU46: 4483.8835 | BV46: =BU46/CV46-1 | BW46: =AY46+BA46+BC46+BE46+BG46+BI46+BK46+BM46+BO46+BQ46+BS46+BU46 | BX46: =BW46/SUM(BZ46,CB46,CD46,CF46,CH46,CJ46,CL46,CN46,CP46,CR46,CT46,CV46)-1 | BZ46: 1644.9521 | CA46: =BZ46/DN46-1 | CB46: 3575.5507 | CC46: =CB46/DO46-1 | CD46: 5807.4933 | CE46: =CD46/DP46-1 | CF46: 5626.0564 | CG46: =CF46/DQ46-1 | CH46: 7118.4954 | CI46: =CH46/DR46-1 | CJ46: 4314.6762 | CK46: =CJ46/DS46-1 | CL46: 5023.1922 | CM46: =CL46/DT46-1 | CN46: 6155.5217 | CO46: =CN46/DU46-1 | CP46: 7626.6529 | CQ46: =CP46/DV46-1 | CR46: 8683.256 | CS46: =CR46/DW46-1 | CT46: 8110.5402 | CU46: =CT46/DY46-1 | CV46: 5785.185 | CW46: =CV46/DY46-1 | CX46: =BZ46+CB46+CD46+CF46+CH46+CJ46+CL46+CN46+CP46+CR46+CT46+CV46 | CY46: =CX46/SUM(DN46:DY46)-1 | DA46: =CV46/CT46-1 | DB46: =CT46/CR46-1 | DN46: 11054.075 | DO46: 8178.5428 | DP46: 11276.497 | DQ46: 9585.3904 | DR46: 10705.86 | DS46: 10369.805 | DT46: 10451.76 | DU46: 11019.977 | DV46: 5956.3979 | DW46: 7234.967 | DX46: 8245.7671 | DY46: 8377.6059 | DZ46: -0.43788523 | EA46: =SUM(DN46:DY46) | EB46: =IFERROR(EA46/SUM(ED46:EO46)-1,"") | ED46: 13324.865 | EE46: 7063.9954 | EF46: 9386.1533 | EG46: 10928.412 | EH46: 10802.125 | EI46: 12396.191 | EJ46: 10982.691 | EK46: 11656.793 | EL46: 12449.396 | EM46: 12366.421 | EN46: 14528.07 | EO46: 14903.729 | EP46: =SUM(ED46:EO46)
A47: 荆门市 | B47: 规上+规下货运量 (万吨) | C47: 1048.4686 | D47: =C47/Z47-1 -> 0.24319922 | E47: 667.30608 | F47: =E47/AB47-1 -> -0.13535179 | G47: 1044.845 | H47: =G47/AD47-1 -> -0.014270822 | I47: 1125.1053 | J47: =I47/AF47-1 -> 0.0084086917 | K47: 1162.9345 | L47: =K47/AH47-1 -> 0.028210211 | M47: 1064.7373 | N47: =M47/AJ47-1 -> 0.063556096 | O47: 1060.9465 | P47: =O47/AL47-1 -> 0.003985665 | Q47: 1023.0093 | R47: =Q47/AL47-1 -> 0.038684518 | T47: =S47/AN47-1 | U47: =C47+E47+G47+I47+K47+M47+O47+Q47+S47 | V47: =U47/SUM(X47,Z47,AB47,AD47,AF47,AH47,AJ47,AL47,AN47)-1 | X47: 843.36333 | Y47: =X47/AY47-1 | Z47: 771.76599 | AA47: =Z47/BA47-1 | AB47: 1059.9716 | AC47: =AB47/BC47-1 | AD47: 1115.7235 | AE47: =AD47/BE47-1 | AF47: 1131.028 | AG47: =AF47/BG47-1 | AH47: 1001.1107 | AI47: =AH47/BI47-1 | AJ47: 1056.7347 | AK47: =AJ47/BK47-1 | AL47: 984.90862 | AM47: =AL47/BM47-1 | AN47: 1025.3874 | AO47: =AN47/BO47-1 | AP47: 919.3459 | AQ47: =AP47/BQ47-1 | AR47: 976.13897 | AS47: =AR47/BS47-1 | AT47: 1003.6947 | AU47: =AT47/BU47-1 | AV47: =X47+Z47+AB47+AD47+AF47+AH47+AJ47+AL47+AN47+AP47+AR47+AT47 | AW47: =AV47/SUM(AY47,BA47,BC47,BE47,BG47,BI47,BK47,BM47,BO47,BQ47,BS47,BU47)-1 | AY47: 895.22303 | AZ47: =AY47/BZ47-1 | BA47: 471.32244 | BB47: =BA47/CB47-1 | BC47: 967.00903 | BD47: =BC47/CD47-1 | BE47: 1013.0724 | BF47: =BE47/CF47-1 | BG47: 1056.1509 | BH47: =BG47/CH47-1 | BI47: 946.29741 | BJ47: =BI47/CJ47-1 | BK47: 993.24623 | BL47: =BK47/CL47-1 | BM47: 951.8174 | BN47: =BM47/CN47-1 | BO47: 958.708 | BP47: =BO47/CP47-1 | BQ47: 912.76834 | BR47: =BQ47/CR47-1 | BS47: 953.40632 | BT47: =BS47/CT47-1 | BU47: 992.31021 | BV47: =BU47/CV47-1 | BW47: =AY47+BA47+BC47+BE47+BG47+BI47+BK47+BM47+BO47+BQ47+BS47+BU47 | BX47: =BW47/SUM(BZ47,CB47,CD47,CF47,CH47,CJ47,CL47,CN47,CP47,CR47,CT47,CV47)-1 | BZ47: 559.75554 | CA47: =BZ47/DN47-1 | CB47: 772.78628 | CC47: =CB47/DO47-1 | CD47: 945.63761 | CE47: =CD47/DP47-1 | CF47: 912.57637 | CG47: =CF47/DQ47-1 | CH47: 964.47287 | CI47: =CH47/DR47-1 | CJ47: 975.53141 | CK47: =CJ47/DS47-1 | CL47: 982.60622 | CM47: =CL47/DT47-1 | CN47: 905.82593 | CO47: =CN47/DU47-1 | CP47: 955.81499 | CQ47: =CP47/DV47-1 | CR47: 859.52439 | CS47: =CR47/DW47-1 | CT47: 895.51628 | CU47: =CT47/DY47-1 | CV47: 866.93876 | CW47: =CV47/DY47-1 | CX47: =BZ47+CB47+CD47+CF47+CH47+CJ47+CL47+CN47+CP47+CR47+CT47+CV47 | CY47: =CX47/SUM(DN47:DY47)-1 | DA47: =CV47/CT47-1 | DB47: =CT47/CR47-1 | DN47: 625.40478 | DO47: 481.26393 | DP47: 731.60097 | DQ47: 729.8976 | DR47: 828.66506 | DS47: 782.04748 | DT47: 831.18005 | DU47: 679.19798 | DV47: 860.38835 | DW47: 702.78367 | DX47: 749.18982 | DY47: 794.40724 | DZ47: -0.068951003 | EA47: =SUM(DN47:DY47) | EB47: =IFERROR(EA47/SUM(ED47:EO47)-1,"") | ED47: 866.56391 | EE47: 381.29786 | EF47: 706.50154 | EG47: 903.28573 | EH47: 958.99271 | EI47: 1044.1303 | EJ47: 902.97085 | EK47: 605.57545 | EL47: 844.24864 | EM47: 764.13328 | EN47: 882.95473 | EO47: 853.23892 | EP47: =SUM(ED47:EO47)
B48: 规上货运量 (万吨) | C48: 81.4962 | D48: =C48/Z48-1 -> -0.076044515 | E48: 61.1436 | F48: =E48/AB48-1 -> -0.085387252 | G48: 80.3358 | H48: =G48/AD48-1 -> -0.02152895 | I48: 82.9171 | J48: =I48/AF48-1 -> -0.005092301 | K48: 86.6882 | L48: =K48/AH48-1 -> -0.16149389 | M48: 81.6839 | N48: =M48/AJ48-1 -> -0.068184255 | O48: 77.6389 | P48: =O48/AL48-1 -> -0.11316451 | Q48: 81.0176 | R48: =Q48/AL48-1 -> -0.020140803 | T48: =S48/AN48-1 | U48: =C48+E48+G48+I48+K48+M48+O48+Q48+S48 | V48: =U48/SUM(X48,Z48,AB48,AD48,AF48,AH48,AJ48,AL48,AN48)-1 | X48: 88.2036 | Y48: =X48/AY48-1 | Z48: 66.8519 | AA48: =Z48/BA48-1 | AB48: 82.1034 | AC48: =AB48/BC48-1 | AD48: 83.3415 | AE48: =AD48/BE48-1 | AF48: 103.3841 | AG48: =AF48/BG48-1 | AH48: 87.661 | AI48: =AH48/BI48-1 | AJ48: 87.546 | AK48: =AJ48/BK48-1 | AL48: 82.6829 | AM48: =AL48/BM48-1 | AN48: 80.5562 | AO48: =AN48/BO48-1 | AP48: 76.3913 | AQ48: =AP48/BQ48-1 | AR48: 80.6073 | AS48: =AR48/BS48-1 | AT48: 86.5227 | AU48: =AT48/BU48-1 | AV48: =X48+Z48+AB48+AD48+AF48+AH48+AJ48+AL48+AN48+AP48+AR48+AT48 | AW48: =AV48/SUM(AY48,BA48,BC48,BE48,BG48,BI48,BK48,BM48,BO48,BQ48,BS48,BU48)-1 | AY48: 91.5946 | AZ48: =AY48/BZ48-1 | BA48: 61.9119 | BB48: =BA48/CB48-1 | BC48: 93.9859 | BD48: =BC48/CD48-1 | BE48: 96.6005 | BF48: =BE48/CF48-1 | BG48: 93.3483 | BH48: =BG48/CH48-1 | BI48: 86.854 | BJ48: =BI48/CJ48-1 | BK48: 85.5861 | BL48: =BK48/CL48-1 | BM48: 90.5787 | BN48: =BM48/CN48-1 | BO48: 92.9506 | BP48: =BO48/CP48-1 | BQ48: 91.5559 | BR48: =BQ48/CR48-1 | BS48: 95.2369 | BT48: =BS48/CT48-1 | BU48: 100.91 | BV48: =BU48/CV48-1 | BW48: =AY48+BA48+BC48+BE48+BG48+BI48+BK48+BM48+BO48+BQ48+BS48+BU48 | BX48: =BW48/SUM(BZ48,CB48,CD48,CF48,CH48,CJ48,CL48,CN48,CP48,CR48,CT48,CV48)-1 | BZ48: 42.301 | CA48: =BZ48/DN48-1 | CB48: 48.5294 | CC48: =CB48/DO48-1 | CD48: 55.6752 | CE48: =CD48/DP48-1 | CF48: 56.9304 | CG48: =CF48/DQ48-1 | CH48: 60.0889 | CI48: =CH48/DR48-1 | CJ48: 57.8037 | CK48: =CJ48/DS48-1 | CL48: 58.9229 | CM48: =CL48/DT48-1 | CN48: 63.7684 | CO48: =CN48/DU48-1 | CP48: 58.7578 | CQ48: =CP48/DV48-1 | CR48: 62.7845 | CS48: =CR48/DW48-1 | CT48: 63.8132 | CU48: =CT48/DY48-1 | CV48: 59.9257 | CW48: =CV48/DY48-1 | CX48: =BZ48+CB48+CD48+CF48+CH48+CJ48+CL48+CN48+CP48+CR48+CT48+CV48 | CY48: =CX48/SUM(DN48:DY48)-1 | DA48: =CV48/CT48-1 | DB48: =CT48/CR48-1 | DM48: 荆门市 | DN48: 29.7853 | DO48: 20.6456 | DP48: 24.0453 | DQ48: 26.3105 | DR48: 27.2956 | DS48: 27.9794 | DT48: 26.7152 | DU48: 25.2666 | DV48: 26.169 | DW48: 25.3269 | DX48: 27.5938 | DY48: 28.8581 | DZ48: 0.80662347 | EA48: =SUM(DN48:DY48) | EB48: =IFERROR(EA48/SUM(ED48:EO48)-1,"") | ED48: 18.8902 | EE48: 10.2183 | EF48: 13.1202 | EG48: 15.2223 | EH48: 14.0881 | EI48: 14.3922 | EJ48: 15.823 | EK48: 8.0435 | EL48: 13.6418 | EM48: 15.0801 | EN48: 16.0542 | EO48: 15.9735 | EP48: =SUM(ED48:EO48)
B49: 规下货运量 (万吨) | C49: 966.97244 | D49: =C49/Z49-1 -> 0.28048729 | E49: 606.16248 | F49: =E49/AB49-1 -> -0.14009028 | G49: 964.50917 | H49: =G49/AD49-1 -> -0.013661418 | I49: 1042.1882 | J49: =I49/AF49-1 -> 0.0094985915 | K49: 1076.2463 | L49: =K49/AH49-1 -> 0.04729502 | M49: 983.05345 | N49: =M49/AJ49-1 -> 0.076198818 | O49: 983.30763 | P49: =O49/AL49-1 -> 0.014567741 | Q49: 941.99174 | R49: =Q49/AL49-1 -> 0.044075461 | T49: =S49/AN49-1 | U49: =C49+E49+G49+I49+K49+M49+O49+Q49+S49 | V49: =U49/SUM(X49,Z49,AB49,AD49,AF49,AH49,AJ49,AL49,AN49)-1 | X49: 755.15973 | Y49: =X49/AY49-1 | Z49: 704.91409 | AA49: =Z49/BA49-1 | AB49: 977.86823 | AC49: =AB49/BC49-1 | AD49: 1032.382 | AE49: =AD49/BE49-1 | AF49: 1027.6439 | AG49: =AF49/BG49-1 | AH49: 913.44966 | AI49: =AH49/BI49-1 | AJ49: 969.18874 | AK49: =AJ49/BK49-1 | AL49: 902.22572 | AM49: =AL49/BM49-1 | AN49: 944.83123 | AO49: =AN49/BO49-1 | AP49: 842.9546 | AQ49: =AP49/BQ49-1 | AR49: 895.53167 | AS49: =AR49/BS49-1 | AT49: 917.17198 | AU49: =AT49/BU49-1 | AV49: =X49+Z49+AB49+AD49+AF49+AH49+AJ49+AL49+AN49+AP49+AR49+AT49 | AW49: =AV49/SUM(AY49,BA49,BC49,BE49,BG49,BI49,BK49,BM49,BO49,BQ49,BS49,BU49)-1 | AY49: 803.62843 | AZ49: =AY49/BZ49-1 | BA49: 409.41054 | BB49: =BA49/CB49-1 | BC49: 873.02313 | BD49: =BC49/CD49-1 | BE49: 916.47191 | BF49: =BE49/CF49-1 | BG49: 962.80261 | BH49: =BG49/CH49-1 | BI49: 859.44341 | BJ49: =BI49/CJ49-1 | BK49: 907.66013 | BL49: =BK49/CL49-1 | BM49: 861.2387 | BN49: =BM49/CN49-1 | BO49: 865.7574 | BP49: =BO49/CP49-1 | BQ49: 821.21244 | BR49: =BQ49/CR49-1 | BS49: 858.16942 | BT49: =BS49/CT49-1 | BU49: 891.40021 | BV49: =BU49/CV49-1 | BW49: =AY49+BA49+BC49+BE49+BG49+BI49+BK49+BM49+BO49+BQ49+BS49+BU49 | BX49: =BW49/SUM(BZ49,CB49,CD49,CF49,CH49,CJ49,CL49,CN49,CP49,CR49,CT49,CV49)-1 | BZ49: 517.45454 | CA49: =BZ49/DN49-1 | CB49: 724.25688 | CC49: =CB49/DO49-1 | CD49: 889.96241 | CE49: =CD49/DP49-1 | CF49: 855.64597 | CG49: =CF49/DQ49-1 | CH49: 904.38397 | CI49: =CH49/DR49-1 | CJ49: 917.72771 | CK49: =CJ49/DS49-1 | CL49: 923.68332 | CM49: =CL49/DT49-1 | CN49: 842.05753 | CO49: =CN49/DU49-1 | CP49: 897.05719 | CQ49: =CP49/DV49-1 | CR49: 796.73989 | CS49: =CR49/DW49-1 | CT49: 831.70308 | CU49: =CT49/DY49-1 | CV49: 807.01306 | CW49: =CV49/DY49-1 | CX49: =BZ49+CB49+CD49+CF49+CH49+CJ49+CL49+CN49+CP49+CR49+CT49+CV49 | CY49: =CX49/SUM(DN49:DY49)-1 | DA49: =CV49/CT49-1 | DB49: =CT49/CR49-1 | DN49: 595.61948 | DO49: 460.61833 | DP49: 707.55567 | DQ49: 703.5871 | DR49: 801.36946 | DS49: 754.06808 | DT49: 804.46485 | DU49: 653.93138 | DV49: 834.21935 | DW49: 677.45677 | DX49: 721.59602 | DY49: 765.54914 | DZ49: -0.08565537 | EA49: =SUM(DN49:DY49) | EB49: =IFERROR(EA49/SUM(ED49:EO49)-1,"") | ED49: 847.67371 | EE49: 371.07956 | EF49: 693.38134 | EG49: 888.06343 | EH49: 944.90461 | EI49: 1029.7381 | EJ49: 887.14785 | EK49: 597.53195 | EL49: 830.60684 | EM49: 749.05318 | EN49: 866.90053 | EO49: 837.26542 | EP49: =SUM(ED49:EO49)
B50: 规上+规下周转量 (万吨公里) | C50: =C51+C52 -> 128146.11 | D50: =C50/Z50-1 -> 0.18276278 | E50: =E51+E52 -> 87616.107 | F50: =E50/AB50-1 -> -0.14447335 | G50: =G51+G52 -> 134668.99 | H50: =G50/AD50-1 -> -0.024556937 | I50: =I51+I52 -> 139784.65 | J50: =I50/AF50-1 -> 0.00017424126 | K50: =K51+K52 -> 146992.94 | L50: =K50/AH50-1 -> -0.011937637 | M50: =M51+M52 -> 128084.72 | N50: =M50/AJ50-1 -> 0.015496624 | O50: =O51+O52 -> 130534.35 | P50: =O50/AL50-1 -> -0.0077186083 | Q50: =Q51+Q52 -> 128278.04 | R50: =Q50/AL50-1 -> 0.0314205 | S50: =S51+S52 | T50: =S50/AN50-1 | U50: =C50+E50+G50+I50+K50+M50+O50+Q50+S50 | V50: =U50/SUM(X50,Z50,AB50,AD50,AF50,AH50,AJ50,AL50,AN50)-1 | X50: =X51+X52 | Y50: =X50/AY50-1 | Z50: =Z51+Z52 | AA50: =Z50/BA50-1 | AB50: =AB51+AB52 | AC50: =AB50/BC50-1 | AD50: =AD51+AD52 | AE50: =AD50/BE50-1 | AF50: =AF51+AF52 | AG50: =AF50/BG50-1 | AH50: =AH51+AH52 | AI50: =AH50/BI50-1 | AJ50: =AJ51+AJ52 | AK50: =AJ50/BK50-1 | AL50: =AL51+AL52 | AM50: =AL50/BM50-1 | AN50: =AN51+AN52 | AO50: =AN50/BO50-1 | AP50: =AP51+AP52 | AQ50: =AP50/BQ50-1 | AR50: =AR51+AR52 | AS50: =AR50/BS50-1 | AT50: =AT51+AT52 | AU50: =AT50/BU50-1 | AV50: =X50+Z50+AB50+AD50+AF50+AH50+AJ50+AL50+AN50+AP50+AR50+AT50 | AW50: =AV50/SUM(AY50,BA50,BC50,BE50,BG50,BI50,BK50,BM50,BO50,BQ50,BS50,BU50)-1 | AY50: =AY51+AY52 | AZ50: =AY50/BZ50-1 | BA50: =BA51+BA52 | BB50: =BA50/CB50-1 | BC50: =BC51+BC52 | BD50: =BC50/CD50-1 | BE50: =BE51+BE52 | BF50: =BE50/CF50-1 | BG50: =BG51+BG52 | BH50: =BG50/CH50-1 | BI50: =BI51+BI52 | BJ50: =BI50/CJ50-1 | BK50: =BK51+BK52 | BL50: =BK50/CL50-1 | BM50: =BM51+BM52 | BN50: =BM50/CN50-1 | BO50: =BO51+BO52 | BP50: =BO50/CP50-1 | BQ50: =BQ51+BQ52 | BR50: =BQ50/CR50-1 | BS50: =BS51+BS52 | BT50: =BS50/CT50-1 | BU50: =BU51+BU52 | BV50: =BU50/CV50-1 | BW50: =AY50+BA50+BC50+BE50+BG50+BI50+BK50+BM50+BO50+BQ50+BS50+BU50 | BX50: =BW50/SUM(BZ50,CB50,CD50,CF50,CH50,CJ50,CL50,CN50,CP50,CR50,CT50,CV50)-1 | BZ50: =BZ51+BZ52 | CA50: =BZ50/DN50-1 | CB50: =CB51+CB52 | CC50: =CB50/DO50-1 | CD50: =SUM(CD51:CD52) | CE50: =CD50/DP50-1 | CF50: 118086.94 | CG50: =CF50/DQ50-1 | CH50: 124300.74 | CI50: =CH50/DR50-1 | CJ50: =CJ51+CJ52 | CK50: =CJ50/DS50-1 | CL50: =CL51+CL52 | CM50: =CL50/DT50-1 | CN50: 111536.31 | CO50: =CN50/DU50-1 | CP50: =SUM(CP51:CP52) | CQ50: =CP50/DV50-1 | CR50: =SUM(CR51:CR52) | CS50: =CR50/DW50-1 | CT50: =CT51+CT52 | CU50: =CT50/DY50-1 | CV50: =CV51+CV52 | CW50: =CV50/DY50-1 | CX50: =BZ50+CB50+CD50+CF50+CH50+CJ50+CL50+CN50+CP50+CR50+CT50+CV50 | CY50: =CX50/SUM(DN50:DY50)-1 | DA50: =CV50/CT50-1 | DB50: =CT50/CR50-1 | DN50: 88559.892 | DO50: 64060.75 | DP50: 90360.98 | DQ50: 92230.345 | DR50: 99515.039 | DS50: 91531.982 | DT50: 99618.761 | DU50: 82457.207 | DV50: 105418.79 | DW50: 96884.987 | DX50: 107584.59 | DY50: 111238.57 | DZ50: 0.023537674 | EA50: =SUM(DN50:DY50) | EB50: =IFERROR(EA50/SUM(ED50:EO50)-1,"") | ED50: =ED51+ED52 | EE50: =EE51+EE52 | EF50: =EF51+EF52 | EG50: =EG51+EG52 | EH50: =EH51+EH52 | EI50: =EI51+EI52 | EJ50: =EJ51+EJ52 | EK50: =EK51+EK52 | ... EO50: =EO51+EO52 | EP50: =SUM(ED50:EO50)
B51: 规上货物周转量 (万吨公里) | C51: 23366.627 | D51: =C51/Z51-1 -> -0.044551293 | E51: 17066.172 | F51: =E51/AB51-1 -> -0.12401133 | G51: 20978.348 | H51: =G51/AD51-1 -> -0.10135169 | I51: 20966.328 | J51: =I51/AF51-1 -> -0.11516793 | K51: 24910.305 | L51: =K51/AH51-1 -> -0.29074914 | M51: 23589.968 | N51: =M51/AJ51-1 -> -0.14514943 | O51: 23761.161 | P51: =O51/AL51-1 -> -0.10120448 | Q51: 23471.05 | R51: =Q51/AL51-1 -> -0.069551503 | T51: =S51/AN51-1 | U51: =C51+E51+G51+I51+K51+M51+O51+Q51+S51 | V51: =U51/SUM(X51,Z51,AB51,AD51,AF51,AH51,AJ51,AL51,AN51)-1 | X51: 24456.182 | Y51: =X51/AY51-1 | Z51: 19482.183 | AA51: =Z51/BA51-1 | AB51: 23344.336 | AC51: =AB51/BC51-1 | AD51: 23695.262 | AE51: =AD51/BE51-1 | AF51: 35121.995 | AG51: =AF51/BG51-1 | AH51: 27595.429 | AI51: =AH51/BI51-1 | AJ51: 26436.671 | AK51: =AJ51/BK51-1 | AL51: 25225.522 | AM51: =AL51/BM51-1 | AN51: 25747.932 | AO51: =AN51/BO51-1 | AP51: 23993.649 | AQ51: =AP51/BQ51-1 | AR51: 24179.745 | AS51: =AR51/BS51-1 | AT51: 26789.699 | AU51: =AT51/BU51-1 | AV51: =X51+Z51+AB51+AD51+AF51+AH51+AJ51+AL51+AN51+AP51+AR51+AT51 | AW51: =AV51/SUM(AY51,BA51,BC51,BE51,BG51,BI51,BK51,BM51,BO51,BQ51,BS51,BU51)-1 | AY51: 20584.489 | AZ51: =AY51/BZ51-1 | BA51: 13831.633 | BB51: =BA51/CB51-1 | BC51: 23109.582 | BD51: =BC51/CD51-1 | BE51: 28470.181 | BF51: =BE51/CF51-1 | BG51: 30334.193 | BH51: =BG51/CH51-1 | BI51: 22495.784 | BJ51: =BI51/CJ51-1 | BK51: 23219.328 | BL51: =BK51/CL51-1 | BM51: 23872.301 | BN51: =BM51/CN51-1 | BO51: 25176.213 | BP51: =BO51/CP51-1 | BQ51: 25126.025 | BR51: =BQ51/CR51-1 | BS51: 26381.942 | BT51: =BS51/CT51-1 | BU51: 30771.7 | BV51: =BU51/CV51-1 | BW51: =AY51+BA51+BC51+BE51+BG51+BI51+BK51+BM51+BO51+BQ51+BS51+BU51 | BX51: =BW51/SUM(BZ51,CB51,CD51,CF51,CH51,CJ51,CL51,CN51,CP51,CR51,CT51,CV51)-1 | BZ51: 10997.932 | CA51: =BZ51/DN51-1 | CB51: 16901.209 | CC51: =CB51/DO51-1 | CD51: 18043.64 | CE51: =CD51/DP51-1 | CF51: 19203.028 | CG51: =CF51/DQ51-1 | CH51: 29018.431 | CI51: =CH51/DR51-1 | CJ51: 18068.773 | CK51: =CJ51/DS51-1 | CL51: 19382.667 | CM51: =CL51/DT51-1 | CN51: 20298.311 | CO51: =CN51/DU51-1 | CP51: 18609.159 | CQ51: =CP51/DV51-1 | CR51: 19111.461 | CS51: =CR51/DW51-1 | CT51: 19620.631 | CU51: =CT51/DY51-1 | CV51: 19241.756 | CW51: =CV51/DY51-1 | CX51: =BZ51+CB51+CD51+CF51+CH51+CJ51+CL51+CN51+CP51+CR51+CT51+CV51 | CY51: =CX51/SUM(DN51:DY51)-1 | DA51: =CV51/CT51-1 | DB51: =CT51/CR51-1 | DN51: 15378.704 | DO51: 9531.936 | DP51: 6700.3623 | DQ51: 7687.1542 | DR51: 7769.6569 | DS51: 8069.7297 | DT51: 7945.6209 | DU51: 7665.0725 | DV51: 8060.2212 | DW51: 7293.9685 | DX51: 8081.7716 | DY51: 8846.7223 | DZ51: 1.0682501 | EA51: =SUM(DN51:DY51) | EB51: =IFERROR(EA51/SUM(ED51:EO51)-1,"") | ED51: 5273.7508 | EE51: 2966.4902 | EF51: 3809.1411 | EG51: 4040.478 | EH51: 3968.8496 | EI51: 4025.1416 | EJ51: 4415.3939 | EK51: 2242.5845 | EL51: 3796.2662 | EM51: 4067.525 | EN51: 4286.1706 | EO51: 4277.3949 | EP51: =SUM(ED51:EO51)
B52: 规下货物周转量 (万吨公里) | C52: 104779.48 | D52: =C52/Z52-1 -> 0.24903207 | E52: 70549.935 | F52: =E52/AB52-1 -> -0.14928038 | G52: 113690.65 | H52: =G52/AD52-1 -> -0.0089293123 | I52: 118818.33 | J52: =I52/AF52-1 -> 0.023721927 | K52: 122082.64 | L52: =K52/AH52-1 -> 0.07422764 | M52: 104494.75 | N52: =M52/AJ52-1 -> 0.060486834 | O52: 106773.19 | P52: =O52/AL52-1 -> 0.015793744 | Q52: 104806.99 | R52: =Q52/AL52-1 -> 0.057110935 | T52: =S52/AN52-1 | U52: =C52+E52+G52+I52+K52+M52+O52+Q52+S52 | V52: =U52/SUM(X52,Z52,AB52,AD52,AF52,AH52,AJ52,AL52,AN52)-1 | X52: 83888.542 | Y52: =X52/AY52-1 | Z52: 82929.714 | AA52: =Z52/BA52-1 | AB52: 114714.97 | AC52: =AB52/BC52-1 | AD52: 116065.04 | AE52: =AD52/BE52-1 | AF52: 113646.9 | AG52: =AF52/BG52-1 | AH52: 98534.702 | AI52: =AH52/BI52-1 | AJ52: 105113.06 | AK52: =AJ52/BK52-1 | AL52: 99144.743 | AM52: =AL52/BM52-1 | AN52: 102392.67 | AO52: =AN52/BO52-1 | AP52: 92545.165 | AQ52: =AP52/BQ52-1 | AR52: 99293.321 | AS52: =AR52/BS52-1 | AT52: 102807.01 | AU52: =AT52/BU52-1 | AV52: =X52+Z52+AB52+AD52+AF52+AH52+AJ52+AL52+AN52+AP52+AR52+AT52 | AW52: =AV52/SUM(AY52,BA52,BC52,BE52,BG52,BI52,BK52,BM52,BO52,BQ52,BS52,BU52)-1 | AY52: 92271.216 | AZ52: =AY52/BZ52-1 | BA52: 52004.378 | BB52: =BA52/CB52-1 | BC52: 100872.35 | BD52: =BC52/CD52-1 | BE52: 100635.01 | BF52: =BE52/CF52-1 | BG52: 105803.6 | BH52: =BG52/CH52-1 | BI52: 92266.815 | BJ52: =BI52/CJ52-1 | BK52: 99377.464 | BL52: =BK52/CL52-1 | BM52: 94553.248 | BN52: =BM52/CN52-1 | BO52: 95075.956 | BP52: =BO52/CP52-1 | BQ52: 93252.593 | BR52: =BQ52/CR52-1 | BS52: 99356.665 | BT52: =BS52/CT52-1 | BU52: 104578.28 | BV52: =BU52/CV52-1 | BW52: =AY52+BA52+BC52+BE52+BG52+BI52+BK52+BM52+BO52+BQ52+BS52+BU52 | BX52: =BW52/SUM(BZ52,CB52,CD52,CF52,CH52,CJ52,CL52,CN52,CP52,CR52,CT52,CV52)-1 | BZ52: 70371.039 | CA52: =BZ52/DN52-1 | CB52: 85891.355 | CC52: =CB52/DO52-1 | CD52: 103470.98 | CE52: =CD52/DP52-1 | CF52: 98883.912 | CG52: =CF52/DQ52-1 | CH52: 95282.305 | CI52: =CH52/DR52-1 | CJ52: 99137.214 | CK52: =CJ52/DS52-1 | CL52: 100773.8 | CM52: =CL52/DT52-1 | CN52: 91238.002 | CO52: =CN52/DU52-1 | CP52: 100911.25 | CQ52: =CP52/DV52-1 | CR52: 92252.652 | CS52: =CR52/DW52-1 | CT52: 100929.27 | CU52: =CT52/DY52-1 | CV52: 101671.07 | CW52: =CV52/DY52-1 | CX52: =BZ52+CB52+CD52+CF52+CH52+CJ52+CL52+CN52+CP52+CR52+CT52+CV52 | CY52: =CX52/SUM(DN52:DY52)-1 | DA52: =CV52/CT52-1 | DB52: =CT52/CR52-1 | DN52: 73181.188 | DO52: 54528.814 | DP52: 83660.617 | DQ52: 84543.191 | DR52: 91745.382 | DS52: 83462.253 | DT52: 91673.14 | DU52: 74792.134 | DV52: 97358.571 | DW52: 89591.018 | DX52: 99502.822 | DY52: 102391.84 | DZ52: -0.019264197 | EA52: =SUM(DN52:DY52) | EB52: =IFERROR(EA52/SUM(ED52:EO52)-1,"") | ED52: 102143.25 | EE52: 53911.962 | EF52: 82380.559 | EG52: 96344.185 | EH52: 100632.95 | EI52: 101528.92 | EJ52: 95536.376 | EK52: 77212.622 | EL52: 102540.18 | EM52: 90137.44 | EN52: 110988.37 | EO52: 104403.09 | EP52: =SUM(ED52:EO52)
A53: 孝感市 | B53: 规上+规下货运量 (万吨) | C53: 410.27528 | D53: =C53/Z53-1 -> 0.18393215 | E53: 251.9196 | F53: =E53/AB53-1 -> -0.1451371 | G53: 395.89737 | H53: =G53/AD53-1 -> -0.020866856 | I53: 415.69199 | J53: =I53/AF53-1 -> 0.0051017901 | K53: 420.79095 | L53: =K53/AH53-1 -> 0.033273549 | M53: 402.74354 | N53: =M53/AJ53-1 -> 0.084375531 | O53: 383.37102 | P53: =O53/AL53-1 -> 0.013613888 | Q53: 415.24116 | R53: =Q53/AL53-1 -> 0.060716122 | T53: =S53/AN53-1 | U53: =C53+E53+G53+I53+K53+M53+O53+Q53+S53 | V53: =U53/SUM(X53,Z53,AB53,AD53,AF53,AH53,AJ53,AL53,AN53)-1 | X53: 346.53614 | Y53: =X53/AY53-1 | Z53: 294.69007 | AA53: =Z53/BA53-1 | AB53: 404.33456 | AC53: =AB53/BC53-1 | AD53: 413.58198 | AE53: =AD53/BE53-1 | AF53: 407.24061 | AG53: =AF53/BG53-1 | AH53: 371.40596 | AI53: =AH53/BI53-1 | AJ53: 378.22195 | AK53: =AJ53/BK53-1 | AL53: 391.47247 | AM53: =AL53/BM53-1 | AN53: 421.13099 | AO53: =AN53/BO53-1 | AP53: 387.73232 | AQ53: =AP53/BQ53-1 | AR53: 424.52487 | AS53: =AR53/BS53-1 | AT53: 438.67887 | AU53: =AT53/BU53-1 | AV53: =X53+Z53+AB53+AD53+AF53+AH53+AJ53+AL53+AN53+AP53+AR53+AT53 | AW53: =AV53/SUM(AY53,BA53,BC53,BE53,BG53,BI53,BK53,BM53,BO53,BQ53,BS53,BU53)-1 | AY53: 361.79103 | AZ53: =AY53/BZ53-1 | BA53: 187.70379 | BB53: =BA53/CB53-1 | BC53: 342.6939 | BD53: =BC53/CD53-1 | BE53: 368.87331 | BF53: =BE53/CF53-1 | BG53: 383.41023 | BH53: =BG53/CH53-1 | BI53: 352.63983 | BJ53: =BI53/CJ53-1 | BK53: 359.68161 | BL53: =BK53/CL53-1 | BM53: 381.2878 | BN53: =BM53/CN53-1 | BO53: 393.75927 | BP53: =BO53/CP53-1 | BQ53: 392.37521 | BR53: =BQ53/CR53-1 | BS53: 423.09571 | BT53: =BS53/CT53-1 | BU53: 450.9155 | BV53: =BU53/CV53-1 | BW53: =AY53+BA53+BC53+BE53+BG53+BI53+BK53+BM53+BO53+BQ53+BS53+BU53 | BX53: =BW53/SUM(BZ53,CB53,CD53,CF53,CH53,CJ53,CL53,CN53,CP53,CR53,CT53,CV53)-1 | BZ53: 206.15005 | CA53: =BZ53/DN53-1 | CB53: 242.03444 | CC53: =CB53/DO53-1 | CD53: 319.92492 | CE53: =CD53/DP53-1 | CF53: 318.48908 | CG53: =CF53/DQ53-1 | CH53: 334.29862 | CI53: =CH53/DR53-1 | CJ53: 330.90667 | CK53: =CJ53/DS53-1 | CL53: 328.10696 | CM53: =CL53/DT53-1 | CN53: 358.31188 | CO53: =CN53/DU53-1 | CP53: 361.97692 | CQ53: =CP53/DV53-1 | CR53: 357.33907 | CS53: =CR53/DW53-1 | CT53: 383.71478 | CU53: =CT53/DY53-1 | CV53: 386.7163 | CW53: =CV53/DY53-1 | CX53: =BZ53+CB53+CD53+CF53+CH53+CJ53+CL53+CN53+CP53+CR53+CT53+CV53 | CY53: =CX53/SUM(DN53:DY53)-1 | DA53: =CV53/CT53-1 | DB53: =CT53/CR53-1 | DN53: 250.22536 | DO53: 164.46202 | DP53: 277.27788 | DQ53: 266.11271 | DR53: 299.42085 | DS53: 278.56341 | DT53: 286.03371 | DU53: 293.9742 | DV53: 326.04894 | DW53: 302.13365 | DX53: 336.92222 | DY53: 345.74021 | DZ53: -0.077404081 | EA53: =SUM(DN53:DY53) | EB53: =IFERROR(EA53/SUM(ED53:EO53)-1,"") | ED53: 333.09902 | EE53: 128.0383 | EF53: 253.68826 | EG53: 328.16419 | EH53: 338.17985 | EI53: 362.70306 | EJ53: 330.92023 | EK53: 278.32152 | EL53: 325.12481 | EM53: 292.29194 | EN53: 369.94221 | EO53: 374.74717 | EP53: =SUM(ED53:EO53)
B54: 规上货运量 (万吨) | C54: 152.6211 | D54: =C54/Z54-1 -> 0.18520776 | E54: 133.2456 | F54: =E54/AB54-1 -> 0.18907709 | G54: 179.4963 | H54: =G54/AD54-1 -> 0.40776664 | I54: 188.8777 | J54: =I54/AF54-1 -> 0.38286943 | K54: 187.8576 | L54: =K54/AH54-1 -> 0.30621122 | M54: 196.544 | N54: =M54/AJ54-1 -> 0.34828347 | O54: 164.6195 | P54: =O54/AL54-1 -> 0.11352256 | Q54: 181.2638 | R54: =Q54/AL54-1 -> 0.42024325 | T54: =S54/AN54-1 | U54: =C54+E54+G54+I54+K54+M54+O54+Q54+S54 | V54: =U54/SUM(X54,Z54,AB54,AD54,AF54,AH54,AJ54,AL54,AN54)-1 | X54: 128.7716 | Y54: =X54/AY54-1 | Z54: 112.058 | AA54: =Z54/BA54-1 | AB54: 127.5043 | AC54: =AB54/BC54-1 | AD54: 136.5839 | AE54: =AD54/BE54-1 | AF54: 143.8187 | AG54: =AF54/BG54-1 | AH54: 145.7735 | AI54: =AH54/BI54-1 | AJ54: 147.8367 | AK54: =AJ54/BK54-1 | AL54: 127.6287 | AM54: =AL54/BM54-1 | AN54: 131.9346 | AO54: =AN54/BO54-1 | AP54: 110.2107 | AQ54: =AP54/BQ54-1 | AR54: 124.9464 | AS54: =AR54/BS54-1 | AT54: 124.6693 | AU54: =AT54/BU54-1 | AV54: =X54+Z54+AB54+AD54+AF54+AH54+AJ54+AL54+AN54+AP54+AR54+AT54 | AW54: =AV54/SUM(AY54,BA54,BC54,BE54,BG54,BI54,BK54,BM54,BO54,BQ54,BS54,BU54)-1 | AY54: 108.8316 | AZ54: =AY54/BZ54-1 | BA54: 106.3984 | BB54: =BA54/CB54-1 | BC54: 121.1166 | BD54: =BC54/CD54-1 | BE54: 116.2759 | BF54: =BE54/CF54-1 | BG54: 126.1017 | BH54: =BG54/CH54-1 | BI54: 129.276 | BJ54: =BI54/CJ54-1 | BK54: 123.8859 | BL54: =BK54/CL54-1 | BM54: 124.4264 | BN54: =BM54/CN54-1 | BO54: 121.1498 | BP54: =BO54/CP54-1 | BQ54: 132.914 | BR54: =BQ54/CR54-1 | BS54: 139.2331 | BT54: =BS54/CT54-1 | BU54: 160.0406 | BV54: =BU54/CV54-1 | BW54: =AY54+BA54+BC54+BE54+BG54+BI54+BK54+BM54+BO54+BQ54+BS54+BU54 | BX54: =BW54/SUM(BZ54,CB54,CD54,CF54,CH54,CJ54,CL54,CN54,CP54,CR54,CT54,CV54)-1 | BZ54: 27.4843 | CA54: =BZ54/DN54-1 | CB54: 22.0535 | CC54: =CB54/DO54-1 | CD54: 36.5927 | CE54: =CD54/DP54-1 | CF54: 35.9168 | CG54: =CF54/DQ54-1 | CH54: 39.9165 | CI54: =CH54/DR54-1 | CJ54: 36.0981 | CK54: =CJ54/DS54-1 | CL54: 31.0377 | CM54: =CL54/DT54-1 | CN54: 63.4174 | CO54: =CN54/DU54-1 | CP54: 57.7175 | CQ54: =CP54/DV54-1 | CR54: 59.5335 | CS54: =CR54/DW54-1 | CT54: 64.3442 | CU54: =CT54/DY54-1 | CV54: 81.6752 | CW54: =CV54/DY54-1 | CX54: =BZ54+CB54+CD54+CF54+CH54+CJ54+CL54+CN54+CP54+CR54+CT54+CV54 | CY54: =CX54/SUM(DN54:DY54)-1 | DA54: =CV54/CT54-1 | DB54: =CT54/CR54-1 | DM54: 孝感市 | DN54: 23.957 | DO54: 19.9224 | DP54: 19.2974 | DQ54: 19.6288 | DR54: 20.3518 | DS54: 30.6512 | DT54: 28.9078 | DU54: 28.2659 | DV54: 25.5869 | DW54: 24.9758 | DX54: 24.236 | DY54: 27.5754 | DZ54: 0.053936295 | EA54: =SUM(DN54:DY54) | EB54: =IFERROR(EA54/SUM(ED54:EO54)-1,"") | ED54: 21.32733 | EE54: 18.4661 | EF54: 22.17543 | EG54: 23.70351 | EH54: 24.8254 | EI54: 24.6942 | EJ54: 24.5394 | EK54: 21.222 | EL54: 22.4081 | EM54: 25.1006 | EN54: 24.4398 | EO54: 26.1642 | EP54: =SUM(ED54:EO54)
B55: 规下货运量 (万吨) | C55: 257.65418 | D55: =C55/Z55-1 -> 0.18317784 | E55: 118.674 | F55: =E55/AB55-1 -> -0.35020172 | G55: 216.40107 | H55: =G55/AD55-1 -> -0.21828969 | I55: 226.81429 | J55: =I55/AF55-1 -> -0.18117018 | K55: 232.93335 | L55: =K55/AH55-1 -> -0.11574041 | M55: 206.19954 | N55: =M55/AJ55-1 -> -0.086126458 | O55: 218.75152 | P55: =O55/AL55-1 -> -0.050496847 | Q55: 233.97736 | R55: =Q55/AL55-1 -> -0.11319733 | T55: =S55/AN55-1 | U55: =C55+E55+G55+I55+K55+M55+O55+Q55+S55 | V55: =U55/SUM(X55,Z55,AB55,AD55,AF55,AH55,AJ55,AL55,AN55)-1 | X55: 217.76454 | Y55: =X55/AY55-1 | Z55: 182.63207 | AA55: =Z55/BA55-1 | AB55: 276.83026 | AC55: =AB55/BC55-1 | AD55: 276.99808 | AE55: =AD55/BE55-1 | AF55: 263.42191 | AG55: =AF55/BG55-1 | AH55: 225.63246 | AI55: =AH55/BI55-1 | AJ55: 230.38525 | AK55: =AJ55/BK55-1 | AL55: 263.84377 | AM55: =AL55/BM55-1 | AN55: 289.19639 | AO55: =AN55/BO55-1 | AP55: 277.52162 | AQ55: =AP55/BQ55-1 | AR55: 299.57847 | AS55: =AR55/BS55-1 | AT55: 314.00957 | AU55: =AT55/BU55-1 | AV55: =X55+Z55+AB55+AD55+AF55+AH55+AJ55+AL55+AN55+AP55+AR55+AT55 | AW55: =AV55/SUM(AY55,BA55,BC55,BE55,BG55,BI55,BK55,BM55,BO55,BQ55,BS55,BU55)-1 | AY55: 252.95943 | AZ55: =AY55/BZ55-1 | BA55: 81.305391 | BB55: =BA55/CB55-1 | BC55: 221.5773 | BD55: =BC55/CD55-1 | BE55: 252.59741 | BF55: =BE55/CF55-1 | BG55: 257.30853 | BH55: =BG55/CH55-1 | BI55: 223.36383 | BJ55: =BI55/CJ55-1 | BK55: 235.79571 | BL55: =BK55/CL55-1 | BM55: 256.8614 | BN55: =BM55/CN55-1 | BO55: 272.60947 | BP55: =BO55/CP55-1 | BQ55: 259.46121 | BR55: =BQ55/CR55-1 | BS55: 283.86261 | BT55: =BS55/CT55-1 | BU55: 290.8749 | BV55: =BU55/CV55-1 | BW55: =AY55+BA55+BC55+BE55+BG55+BI55+BK55+BM55+BO55+BQ55+BS55+BU55 | BX55: =BW55/SUM(BZ55,CB55,CD55,CF55,CH55,CJ55,CL55,CN55,CP55,CR55,CT55,CV55)-1 | BZ55: 178.66575 | CA55: =BZ55/DN55-1 | CB55: 219.98094 | CC55: =CB55/DO55-1 | CD55: 283.33222 | CE55: =CD55/DP55-1 | CF55: 282.57228 | CG55: =CF55/DQ55-1 | CH55: 294.38212 | CI55: =CH55/DR55-1 | CJ55: 294.80857 | CK55: =CJ55/DS55-1 | CL55: 297.06926 | CM55: =CL55/DT55-1 | CN55: 294.89448 | CO55: =CN55/DU55-1 | CP55: 304.25942 | CQ55: =CP55/DV55-1 | CR55: 297.80557 | CS55: =CR55/DW55-1 | CT55: 319.37058 | CU55: =CT55/DY55-1 | CV55: 305.0411 | CW55: =CV55/DY55-1 | CX55: =BZ55+CB55+CD55+CF55+CH55+CJ55+CL55+CN55+CP55+CR55+CT55+CV55 | CY55: =CX55/SUM(DN55:DY55)-1 | DA55: =CV55/CT55-1 | DB55: =CT55/CR55-1 | DN55: 226.26836 | DO55: 144.53962 | DP55: 257.98048 | DQ55: 246.48391 | DR55: 279.06905 | DS55: 247.91221 | DT55: 257.12591 | DU55: 265.7083 | DV55: 300.46204 | DW55: 277.15785 | DX55: 312.68622 | DY55: 318.16481 | DZ55: -0.087262324 | EA55: =SUM(DN55:DY55) | EB55: =IFERROR(EA55/SUM(ED55:EO55)-1,"") | ED55: 311.77169 | EE55: 109.5722 | EF55: 231.51283 | EG55: 304.46068 | EH55: 313.35445 | EI55: 338.00886 | EJ55: 306.38083 | EK55: 257.09952 | EL55: 302.71671 | EM55: 267.19134 | EN55: 345.50241 | EO55: 348.58297 | EP55: =SUM(ED55:EO55)
B56: 规上+规下周转量 (万吨公里) | C56: =C57+C58 -> 49417.416 | D56: =C56/Z56-1 -> 0.11953074 | E56: =E57+E58 -> 34787.396 | F56: =E56/AB56-1 -> -0.16487251 | G56: =G57+G58 -> 51945.548 | H56: =G56/AD56-1 -> -0.045745604 | I56: =I57+I58 -> 54016.748 | J56: =I56/AF56-1 -> -0.020933781 | K56: =K57+K58 -> 53612.651 | L56: =K56/AH56-1 -> -0.030450936 | M56: =M57+M58 -> 50803.042 | N56: =M56/AJ56-1 -> -0.00075640675 | O56: =O57+O58 -> 48936.597 | P56: =O56/AL56-1 -> -0.033055111 | Q56: =Q57+Q58 -> 54116.803 | R56: =Q56/AL56-1 -> 0.039088089 | S56: =S57+S58 | T56: =S56/AN56-1 | U56: =C56+E56+G56+I56+K56+M56+O56+Q56+S56 | V56: =U56/SUM(X56,Z56,AB56,AD56,AF56,AH56,AJ56,AL56,AN56)-1 | X56: =X57+X58 | Y56: =X56/AY56-1 | Z56: =Z57+Z58 | AA56: =Z56/BA56-1 | AB56: =AB57+AB58 | AC56: =AB56/BC56-1 | AD56: =AD57+AD58 | AE56: =AD56/BE56-1 | AF56: =AF57+AF58 | AG56: =AF56/BG56-1 | AH56: =AH57+AH58 | AI56: =AH56/BI56-1 | AJ56: =AJ57+AJ58 | AK56: =AJ56/BK56-1 | AL56: =AL57+AL58 | AM56: =AL56/BM56-1 | AN56: =AN57+AN58 | AO56: =AN56/BO56-1 | AP56: =AP57+AP58 | AQ56: =AP56/BQ56-1 | AR56: =AR57+AR58 | AS56: =AR56/BS56-1 | AT56: =AT57+AT58 | AU56: =AT56/BU56-1 | AV56: =X56+Z56+AB56+AD56+AF56+AH56+AJ56+AL56+AN56+AP56+AR56+AT56 | AW56: =AV56/SUM(AY56,BA56,BC56,BE56,BG56,BI56,BK56,BM56,BO56,BQ56,BS56,BU56)-1 | AY56: =AY57+AY58 | AZ56: =AY56/BZ56-1 | BA56: =BA57+BA58 | BB56: =BA56/CB56-1 | BC56: =BC57+BC58 | BD56: =BC56/CD56-1 | BE56: =BE57+BE58 | BF56: =BE56/CF56-1 | BG56: =BG57+BG58 | BH56: =BG56/CH56-1 | BI56: =BI57+BI58 | BJ56: =BI56/CJ56-1 | BK56: =BK57+BK58 | BL56: =BK56/CL56-1 | BM56: =BM57+BM58 | BN56: =BM56/CN56-1 | BO56: =BO57+BO58 | BP56: =BO56/CP56-1 | BQ56: =BQ57+BQ58 | BR56: =BQ56/CR56-1 | BS56: =BS57+BS58 | BT56: =BS56/CT56-1 | BU56: =BU57+BU58 | BV56: =BU56/CV56-1 | BW56: =AY56+BA56+BC56+BE56+BG56+BI56+BK56+BM56+BO56+BQ56+BS56+BU56 | BX56: =BW56/SUM(BZ56,CB56,CD56,CF56,CH56,CJ56,CL56,CN56,CP56,CR56,CT56,CV56)-1 | BZ56: =BZ57+BZ58 | CA56: =BZ56/DN56-1 | CB56: =CB57+CB58 | CC56: =CB56/DO56-1 | CD56: =SUM(CD57:CD58) | CE56: =CD56/DP56-1 | CF56: 43067.335 | CG56: =CF56/DQ56-1 | CH56: 43812.56 | CI56: =CH56/DR56-1 | CJ56: =CJ57+CJ58 | CK56: =CJ56/DS56-1 | CL56: =CL57+CL58 | CM56: =CL56/DT56-1 | CN56: 48250.604 | CO56: =CN56/DU56-1 | CP56: =SUM(CP57:CP58) | CQ56: =CP56/DV56-1 | CR56: =SUM(CR57:CR58) | CS56: =CR56/DW56-1 | CT56: =CT57+CT58 | CU56: =CT56/DY56-1 | CV56: =CV57+CV58 | CW56: =CV56/DY56-1 | CX56: =BZ56+CB56+CD56+CF56+CH56+CJ56+CL56+CN56+CP56+CR56+CT56+CV56 | CY56: =CX56/SUM(DN56:DY56)-1 | DA56: =CV56/CT56-1 | DB56: =CT56/CR56-1 | DN56: 33836.128 | DO56: 23252.472 | DP56: 36509.734 | DQ56: 37405.807 | DR56: 39034.306 | DS56: 35610.674 | DT56: 36811.301 | DU56: 37704.961 | DV56: 42072.158 | DW56: 42495.93 | DX56: 46215.397 | DY56: 46396.062 | DZ56: 0.035018768 | EA56: =SUM(DN56:DY56) | EB56: =IFERROR(EA56/SUM(ED56:EO56)-1,"") | ED56: =ED57+ED58 | EE56: =EE57+EE58 | EF56: =EF57+EF58 | EG56: =EG57+EG58 | EH56: =EH57+EH58 | EI56: =EI57+EI58 | EJ56: =EJ57+EJ58 | EK56: =EK57+EK58 | ... EO56: =EO57+EO58 | EP56: =SUM(ED56:EO56)
B57: 规上货物周转量 (万吨公里) | C57: 27206.883 | D57: =C57/Z57-1 -> 0.20835475 | E57: 22434.013 | F57: =E57/AB57-1 -> 0.065699793 | G57: 29734.68 | H57: =G57/AD57-1 -> 0.15700681 | I57: 30536.965 | J57: =I57/AF57-1 -> 0.1443582 | K57: 31326.677 | L57: =K57/AH57-1 -> 0.1026808 | M57: 31955.098 | N57: =M57/AJ57-1 -> 0.11398794 | O57: 24880.036 | P57: =O57/AL57-1 -> -0.072312692 | Q57: 28990.96 | R57: =Q57/AL57-1 -> 0.28124823 | T57: =S57/AN57-1 | U57: =C57+E57+G57+I57+K57+M57+O57+Q57+S57 | V57: =U57/SUM(X57,Z57,AB57,AD57,AF57,AH57,AJ57,AL57,AN57)-1 | X57: 22515.642 | Y57: =X57/AY57-1 | Z57: 21050.969 | AA57: =Z57/BA57-1 | AB57: 25699.659 | AC57: =AB57/BC57-1 | AD57: 26684.796 | AE57: =AD57/BE57-1 | AF57: 28409.56 | AG57: =AF57/BG57-1 | AH57: 28685.318 | AI57: =AH57/BI57-1 | AJ57: 26819.421 | AK57: =AJ57/BK57-1 | AL57: 22627.122 | AM57: =AL57/BM57-1 | AN57: 24370.615 | AO57: =AN57/BO57-1 | AP57: 21526.016 | AQ57: =AP57/BQ57-1 | AR57: 23001.678 | AS57: =AR57/BS57-1 | AT57: 23572.828 | AU57: =AT57/BU57-1 | AV57: =X57+Z57+AB57+AD57+AF57+AH57+AJ57+AL57+AN57+AP57+AR57+AT57 | AW57: =AV57/SUM(AY57,BA57,BC57,BE57,BG57,BI57,BK57,BM57,BO57,BQ57,BS57,BU57)-1 | AY57: 18021.703 | AZ57: =AY57/BZ57-1 | BA57: 21058.95 | BB57: =BA57/CB57-1 | BC57: 22972.442 | BD57: =BC57/CD57-1 | BE57: 22731.597 | BF57: =BE57/CF57-1 | BG57: 22484.462 | BH57: =BG57/CH57-1 | BI57: 21621.525 | BJ57: =BI57/CJ57-1 | BK57: 20942.099 | BL57: =BK57/CL57-1 | BM57: 20095.212 | BN57: =BM57/CN57-1 | BO57: 19999.764 | BP57: =BO57/CP57-1 | BQ57: 20087.565 | BR57: =BQ57/CR57-1 | BS57: 19499.572 | BT57: =BS57/CT57-1 | BU57: 20329.839 | BV57: =BU57/CV57-1 | BW57: =AY57+BA57+BC57+BE57+BG57+BI57+BK57+BM57+BO57+BQ57+BS57+BU57 | BX57: =BW57/SUM(BZ57,CB57,CD57,CF57,CH57,CJ57,CL57,CN57,CP57,CR57,CT57,CV57)-1 | BZ57: 4321.3971 | CA57: =BZ57/DN57-1 | CB57: 4445.1446 | CC57: =CB57/DO57-1 | CD57: 4969.6488 | CE57: =CD57/DP57-1 | CF57: 4677.0217 | CG57: =CF57/DQ57-1 | CH57: 4439.9863 | CI57: =CH57/DR57-1 | CJ57: 4743.2024 | CK57: =CJ57/DS57-1 | CL57: 4202.2476 | CM57: =CL57/DT57-1 | CN57: 13408.19 | CO57: =CN57/DU57-1 | CP57: 15045.541 | CQ57: =CP57/DV57-1 | CR57: 15174.81 | CS57: =CR57/DW57-1 | CT57: 15489.467 | CU57: =CT57/DY57-1 | CV57: 17210.135 | CW57: =CV57/DY57-1 | CX57: =BZ57+CB57+CD57+CF57+CH57+CJ57+CL57+CN57+CP57+CR57+CT57+CV57 | CY57: =CX57/SUM(DN57:DY57)-1 | DA57: =CV57/CT57-1 | DB57: =CT57/CR57-1 | DN57: 3563.1655 | DO57: 3493.5522 | DP57: 3202.1124 | DQ57: 3692.0337 | DR57: 3291.2687 | DS57: 3785.2398 | DT57: 3979.4975 | DU57: 3228.466 | DV57: 3348.3059 | DW57: 3554.4832 | DX57: 3636.1323 | DY57: 3652.6086 | DZ57: -0.091028958 | EA57: =SUM(DN57:DY57) | EB57: =IFERROR(EA57/SUM(ED57:EO57)-1,"") | ED57: 4175.3107 | EE57: 3278.2754 | EF57: 3973.2768 | EG57: 4105.2367 | EH57: 4373.2455 | EI57: 4206.6482 | EJ57: 4122.1513 | EK57: 3396.4734 | EL57: 3495.0074 | EM57: 3990.739 | EN57: 3795.6542 | EO57: 4018.3993 | EP57: =SUM(ED57:EO57)
B58: 规下货物周转量 (万吨公里) | C58: 22210.533 | D58: =C58/Z58-1 -> 0.02705077 | E58: 12353.383 | F58: =E58/AB58-1 -> -0.40044413 | G58: 22210.868 | H58: =G58/AD58-1 -> -0.22707398 | I58: 23479.782 | J58: =I58/AF58-1 -> -0.17576924 | K58: 22285.975 | L58: =K58/AH58-1 -> -0.17112209 | M58: 18847.944 | N58: =M58/AJ58-1 -> -0.14931441 | O58: 24056.561 | P58: =O58/AL58-1 -> 0.011201386 | Q58: 25125.843 | R58: =Q58/AL58-1 -> -0.14694435 | T58: =S58/AN58-1 | U58: =C58+E58+G58+I58+K58+M58+O58+Q58+S58 | V58: =U58/SUM(X58,Z58,AB58,AD58,AF58,AH58,AJ58,AL58,AN58)-1 | X58: 21625.545 | Y58: =X58/AY58-1 | Z58: 20604.224 | AA58: =Z58/BA58-1 | AB58: 28736.086 | AC58: =AB58/BC58-1 | AD58: 28486.904 | AE58: =AD58/BE58-1 | AF58: 26886.921 | AG58: =AF58/BG58-1 | AH58: 22156.181 | AI58: =AH58/BI58-1 | AJ58: 23790.079 | AK58: =AJ58/BK58-1 | AL58: 29453.932 | AM58: =AL58/BM58-1 | AN58: 30945.068 | AO58: =AN58/BO58-1 | AP58: 29583.393 | AQ58: =AP58/BQ58-1 | AR58: 31169.57 | AS58: =AR58/BS58-1 | AT58: 34241.623 | AU58: =AT58/BU58-1 | AV58: =X58+Z58+AB58+AD58+AF58+AH58+AJ58+AL58+AN58+AP58+AR58+AT58 | AW58: =AV58/SUM(AY58,BA58,BC58,BE58,BG58,BI58,BK58,BM58,BO58,BQ58,BS58,BU58)-1 | AY58: 26543.572 | AZ58: =AY58/BZ58-1 | BA58: 8280.8166 | BB58: =BA58/CB58-1 | BC58: 25695.144 | BD58: =BC58/CD58-1 | BE58: 26923.332 | BF58: =BE58/CF58-1 | BG58: 27211.158 | BH58: =BG58/CH58-1 | BI58: 23572.957 | BJ58: =BI58/CJ58-1 | BK58: 25917.854 | BL58: =BK58/CL58-1 | BM58: 29741.694 | BN58: =BM58/CN58-1 | BO58: 31852.553 | BP58: =BO58/CP58-1 | BQ58: 31673.451 | BR58: =BQ58/CR58-1 | BS58: 34249.177 | BT58: =BS58/CT58-1 | BU58: 38626.617 | BV58: =BU58/CV58-1 | BW58: =AY58+BA58+BC58+BE58+BG58+BI58+BK58+BM58+BO58+BQ58+BS58+BU58 | BX58: =BW58/SUM(BZ58,CB58,CD58,CF58,CH58,CJ58,CL58,CN58,CP58,CR58,CT58,CV58)-1 | BZ58: 25474.773 | CA58: =BZ58/DN58-1 | CB58: 30853.247 | CC58: =CB58/DO58-1 | CD58: 38477.12 | CE58: =CD58/DP58-1 | CF58: 38390.313 | CG58: =CF58/DQ58-1 | CH58: 39372.574 | CI58: =CH58/DR58-1 | CJ58: 38027.291 | CK58: =CJ58/DS58-1 | CL58: 38758.022 | CM58: =CL58/DT58-1 | CN58: 34842.414 | CO58: =CN58/DU58-1 | CP58: 34683.93 | CQ58: =CP58/DV58-1 | CR58: 34344.816 | CS58: =CR58/DW58-1 | CT58: 37754.679 | CU58: =CT58/DY58-1 | CV58: 38903.661 | CW58: =CV58/DY58-1 | CX58: =BZ58+CB58+CD58+CF58+CH58+CJ58+CL58+CN58+CP58+CR58+CT58+CV58 | CY58: =CX58/SUM(DN58:DY58)-1 | DA58: =CV58/CT58-1 | DB58: =CT58/CR58-1 | DN58: 30272.963 | DO58: 19758.919 | DP58: 33307.622 | DQ58: 33713.773 | DR58: 35743.037 | DS58: 31825.434 | DT58: 32831.803 | DU58: 34476.495 | DV58: 38723.852 | DW58: 38941.447 | DX58: 42579.265 | DY58: 42743.453 | DZ58: 0.047430828 | EA58: =SUM(DN58:DY58) | EB58: =IFERROR(EA58/SUM(ED58:EO58)-1,"") | ED58: 38614.767 | EE58: 17630.447 | EF58: 30052.918 | EG58: 37504.217 | EH58: 36968.809 | EI58: 38514.882 | EJ58: 34773.712 | EK58: 35864.947 | EL58: 39398.741 | EM58: 33957.586 | EN58: 42147.954 | EO58: 40807.9 | EP58: =SUM(ED58:EO58)
A59: 荆州市 | B59: 规上+规下货运量 (万吨) | C59: 1079.4558 | D59: =C59/Z59-1 -> 0.28339854 | E59: 673.44424 | F59: =E59/AB59-1 -> -0.10946008 | G59: 998.98458 | H59: =G59/AD59-1 -> 0.0012508053 | I59: 1070.0317 | J59: =I59/AF59-1 -> 0.026166659 | K59: 1087.3055 | L59: =K59/AH59-1 -> 0.067450455 | M59: 1040.5971 | N59: =M59/AJ59-1 -> 0.076671502 | O59: 1014.8187 | P59: =O59/AL59-1 -> 0.048528158 | Q59: 1012.1095 | R59: =Q59/AL59-1 -> 0.066144791 | T59: =S59/AN59-1 | U59: =C59+E59+G59+I59+K59+M59+O59+Q59+S59 | V59: =U59/SUM(X59,Z59,AB59,AD59,AF59,AH59,AJ59,AL59,AN59)-1 | X59: 841.09168 | Y59: =X59/AY59-1 | Z59: 756.22016 | AA59: =Z59/BA59-1 | AB59: 997.7366 | AC59: =AB59/BC59-1 | AD59: 1042.7465 | AE59: =AD59/BE59-1 | AF59: 1018.6004 | AG59: =AF59/BG59-1 | AH59: 966.49454 | AI59: =AH59/BI59-1 | AJ59: 967.85069 | AK59: =AJ59/BK59-1 | AL59: 949.31711 | AM59: =AL59/BM59-1 | AN59: 1031.4484 | AO59: =AN59/BO59-1 | AP59: 946.29393 | AQ59: =AP59/BQ59-1 | AR59: 1057.2604 | AS59: =AR59/BS59-1 | AT59: 1107.9491 | AU59: =AT59/BU59-1 | AV59: =X59+Z59+AB59+AD59+AF59+AH59+AJ59+AL59+AN59+AP59+AR59+AT59 | AW59: =AV59/SUM(AY59,BA59,BC59,BE59,BG59,BI59,BK59,BM59,BO59,BQ59,BS59,BU59)-1 | AY59: 920.48477 | AZ59: =AY59/BZ59-1 | BA59: 483.19351 | BB59: =BA59/CB59-1 | BC59: 928.14662 | BD59: =BC59/CD59-1 | BE59: 961.95735 | BF59: =BE59/CF59-1 | BG59: 958.45401 | BH59: =BG59/CH59-1 | BI59: 894.16393 | BJ59: =BI59/CJ59-1 | BK59: 927.86248 | BL59: =BK59/CL59-1 | BM59: 936.68076 | BN59: =BM59/CN59-1 | BO59: 983.5353 | BP59: =BO59/CP59-1 | BQ59: 959.47095 | BR59: =BQ59/CR59-1 | BS59: 1005.3627 | BT59: =BS59/CT59-1 | BU59: 1031.6902 | BV59: =BU59/CV59-1 | BW59: =AY59+BA59+BC59+BE59+BG59+BI59+BK59+BM59+BO59+BQ59+BS59+BU59 | BX59: =BW59/SUM(BZ59,CB59,CD59,CF59,CH59,CJ59,CL59,CN59,CP59,CR59,CT59,CV59)-1 | BZ59: 539.82309 | CA59: =BZ59/DN59-1 | CB59: 673.8759 | CC59: =CB59/DO59-1 | CD59: 846.67438 | CE59: =CD59/DP59-1 | CF59: 840.01969 | CG59: =CF59/DQ59-1 | CH59: 885.95539 | CI59: =CH59/DR59-1 | CJ59: 895.36871 | CK59: =CJ59/DS59-1 | CL59: 896.59447 | CM59: =CL59/DT59-1 | CN59: 912.71737 | CO59: =CN59/DU59-1 | CP59: 935.33474 | CQ59: =CP59/DV59-1 | CR59: 908.67259 | CS59: =CR59/DW59-1 | CT59: 960.25443 | CU59: =CT59/DY59-1 | CV59: 916.88818 | CW59: =CV59/DY59-1 | CX59: =BZ59+CB59+CD59+CF59+CH59+CJ59+CL59+CN59+CP59+CR59+CT59+CV59 | CY59: =CX59/SUM(DN59:DY59)-1 | DA59: =CV59/CT59-1 | DB59: =CT59/CR59-1 | DN59: 621.39233 | DO59: 451.04107 | DP59: 727.40445 | DQ59: 683.15164 | DR59: 763.11482 | DS59: 734.21742 | DT59: 748.01773 | DU59: 720.20296 | DV59: 852.06206 | DW59: 787.69128 | DX59: 828.3556 | DY59: 803.21983 | DZ59: -0.076621911 | EA59: =SUM(DN59:DY59) | EB59: =IFERROR(EA59/SUM(ED59:EO59)-1,"") | ED59: 863.83395 | EE59: 365.45196 | EF59: 665.12463 | EG59: 820.74462 | EH59: 888.46182 | EI59: 961.32073 | EJ59: 838.80014 | EK59: 690.83187 | EL59: 871.68055 | EM59: 816.75403 | EN59: 887.42285 | EO59: 869.87101 | EP59: =SUM(ED59:EO59)
B60: 规上货运量 (万吨) | C60: 167.6765 | D60: =C60/Z60-1 -> 0.034444998 | E60: 152.3272 | F60: =E60/AB60-1 -> 0.0034848898 | G60: 183.8954 | H60: =G60/AD60-1 -> 0.10285935 | I60: 174.6558 | J60: =I60/AF60-1 -> 0.033002338 | K60: 175.3466 | L60: =K60/AH60-1 -> 0.080214655 | M60: 167.1798 | N60: =M60/AJ60-1 -> -0.11495957 | O60: 145.222 | P60: =O60/AL60-1 -> 0.083497226 | Q60: 111.8527 | R60: =Q60/AL60-1 -> -0.064323782 | T60: =S60/AN60-1 | U60: =C60+E60+G60+I60+K60+M60+O60+Q60+S60 | V60: =U60/SUM(X60,Z60,AB60,AD60,AF60,AH60,AJ60,AL60,AN60)-1 | X60: 162.0932 | Y60: =X60/AY60-1 | Z60: 151.7982 | AA60: =Z60/BA60-1 | AB60: 166.7442 | AC60: =AB60/BC60-1 | AD60: 169.0759 | AE60: =AD60/BE60-1 | AF60: 162.3257 | AG60: =AF60/BG60-1 | AH60: 188.8951 | AI60: =AH60/BI60-1 | AJ60: 134.0308 | AK60: =AJ60/BK60-1 | AL60: 119.5421 | AM60: =AL60/BM60-1 | AN60: 145.1047 | AO60: =AN60/BO60-1 | AP60: 130.3128 | AQ60: =AP60/BQ60-1 | AR60: 128.1263 | AS60: =AR60/BS60-1 | AT60: 143.7508 | AU60: =AT60/BU60-1 | AV60: =X60+Z60+AB60+AD60+AF60+AH60+AJ60+AL60+AN60+AP60+AR60+AT60 | AW60: =AV60/SUM(AY60,BA60,BC60,BE60,BG60,BI60,BK60,BM60,BO60,BQ60,BS60,BU60)-1 | AY60: 183.7326 | AZ60: =AY60/BZ60-1 | BA60: 127.9314 | BB60: =BA60/CB60-1 | BC60: 138.0333 | BD60: =BC60/CD60-1 | BE60: 133.5952 | BF60: =BE60/CF60-1 | BG60: 127.722 | BH60: =BG60/CH60-1 | BI60: 126.0189 | BJ60: =BI60/CJ60-1 | BK60: 115.9799 | BL60: =BK60/CL60-1 | BM60: 115.315 | BN60: =BM60/CN60-1 | BO60: 117.4625 | BP60: =BO60/CP60-1 | BQ60: 115.0477 | BR60: =BQ60/CR60-1 | BS60: 116.7029 | BT60: =BS60/CT60-1 | BU60: 143.6199 | BV60: =BU60/CV60-1 | BW60: =AY60+BA60+BC60+BE60+BG60+BI60+BK60+BM60+BO60+BQ60+BS60+BU60 | BX60: =BW60/SUM(BZ60,CB60,CD60,CF60,CH60,CJ60,CL60,CN60,CP60,CR60,CT60,CV60)-1 | BZ60: 152.8927 | CA60: =BZ60/DN60-1 | CB60: 129.4822 | CC60: =CB60/DO60-1 | CD60: 144.5666 | CE60: =CD60/DP60-1 | CF60: 142.0301 | CG60: =CF60/DQ60-1 | CH60: 152.1596 | CI60: =CH60/DR60-1 | CJ60: 153.4126 | CK60: =CJ60/DS60-1 | CL60: 160.4055 | CM60: =CL60/DT60-1 | CN60: 147.1916 | CO60: =CN60/DU60-1 | CP60: 138.0211 | CQ60: =CP60/DV60-1 | CR60: 128.733 | CS60: =CR60/DW60-1 | CT60: 135.9641 | CU60: =CT60/DY60-1 | CV60: 163.1532 | CW60: =CV60/DY60-1 | CX60: =BZ60+CB60+CD60+CF60+CH60+CJ60+CL60+CN60+CP60+CR60+CT60+CV60 | CY60: =CX60/SUM(DN60:DY60)-1 | DA60: =CV60/CT60-1 | DB60: =CT60/CR60-1 | DM60: 荆州市 | DN60: 46.6243 | DO60: 21.5924 | DP60: 36.007 | DQ60: 30.433 | DR60: 25.3782 | DS60: 25.314 | DT60: 25.3908 | DU60: 43.1388 | DV60: 36.1235 | DW60: 55.7337 | DX60: 68.2988 | DY60: 65.2869 | DZ60: 0.56253051 | EA60: =SUM(DN60:DY60) | EB60: =IFERROR(EA60/SUM(ED60:EO60)-1,"") | ED60: 41.6604 | EE60: 22.4186 | EF60: 33.46229 | EG60: 37.93446 | EH60: 39.4837 | EI60: 38.8977 | EJ60: 40.7162 | EK60: 36.9917 | EL60: 39.1363 | EM60: 39.0789 | EN60: 37.5969 | EO60: 41.7828 | EP60: =SUM(ED60:EO60)
B61: 规下货运量 (万吨) | C61: 911.77933 | D61: =C61/Z61-1 -> 0.34282971 | E61: 521.11704 | F61: =E61/AB61-1 -> -0.13782577 | G61: 815.08918 | H61: =G61/AD61-1 -> -0.019137631 | I61: 895.37591 | J61: =I61/AF61-1 -> 0.024843794 | K61: 911.95886 | L61: =K61/AH61-1 -> 0.065030721 | M61: 873.41732 | N61: =M61/AJ61-1 -> 0.12322268 | O61: 869.59671 | P61: =O61/AL61-1 -> 0.042907121 | Q61: 900.25679 | R61: =Q61/AL61-1 -> 0.084940835 | T61: =S61/AN61-1 | U61: =C61+E61+G61+I61+K61+M61+O61+Q61+S61 | V61: =U61/SUM(X61,Z61,AB61,AD61,AF61,AH61,AJ61,AL61,AN61)-1 | X61: 678.99848 | Y61: =X61/AY61-1 | Z61: 604.42196 | AA61: =Z61/BA61-1 | AB61: 830.9924 | AC61: =AB61/BC61-1 | AD61: 873.67061 | AE61: =AD61/BE61-1 | AF61: 856.2747 | AG61: =AF61/BG61-1 | AH61: 777.59944 | AI61: =AH61/BI61-1 | AJ61: 833.81989 | AK61: =AJ61/BK61-1 | AL61: 829.77501 | AM61: =AL61/BM61-1 | AN61: 886.3437 | AO61: =AN61/BO61-1 | AP61: 815.98113 | AQ61: =AP61/BQ61-1 | AR61: 929.13411 | AS61: =AR61/BS61-1 | AT61: 964.19825 | AU61: =AT61/BU61-1 | AV61: =X61+Z61+AB61+AD61+AF61+AH61+AJ61+AL61+AN61+AP61+AR61+AT61 | AW61: =AV61/SUM(AY61,BA61,BC61,BE61,BG61,BI61,BK61,BM61,BO61,BQ61,BS61,BU61)-1 | AY61: 736.75217 | AZ61: =AY61/BZ61-1 | BA61: 355.26211 | BB61: =BA61/CB61-1 | BC61: 790.11332 | BD61: =BC61/CD61-1 | BE61: 828.36215 | BF61: =BE61/CF61-1 | BG61: 830.73201 | BH61: =BG61/CH61-1 | BI61: 768.14503 | BJ61: =BI61/CJ61-1 | BK61: 811.88258 | BL61: =BK61/CL61-1 | BM61: 821.36576 | BN61: =BM61/CN61-1 | BO61: 866.0728 | BP61: =BO61/CP61-1 | BQ61: 844.42325 | BR61: =BQ61/CR61-1 | BS61: 888.65977 | BT61: =BS61/CT61-1 | BU61: 888.07031 | BV61: =BU61/CV61-1 | BW61: =AY61+BA61+BC61+BE61+BG61+BI61+BK61+BM61+BO61+BQ61+BS61+BU61 | BX61: =BW61/SUM(BZ61,CB61,CD61,CF61,CH61,CJ61,CL61,CN61,CP61,CR61,CT61,CV61)-1 | BZ61: 386.93039 | CA61: =BZ61/DN61-1 | CB61: 544.3937 | CC61: =CB61/DO61-1 | CD61: 702.10778 | CE61: =CD61/DP61-1 | CF61: 697.98959 | CG61: =CF61/DQ61-1 | CH61: 733.79579 | CI61: =CH61/DR61-1 | CJ61: 741.95611 | CK61: =CJ61/DS61-1 | CL61: 736.18897 | CM61: =CL61/DT61-1 | CN61: 765.52577 | CO61: =CN61/DU61-1 | CP61: 797.31364 | CQ61: =CP61/DV61-1 | CR61: 779.93959 | CS61: =CR61/DW61-1 | CT61: 824.29033 | CU61: =CT61/DY61-1 | CV61: 753.73498 | CW61: =CV61/DY61-1 | CX61: =BZ61+CB61+CD61+CF61+CH61+CJ61+CL61+CN61+CP61+CR61+CT61+CV61 | CY61: =CX61/SUM(DN61:DY61)-1 | DA61: =CV61/CT61-1 | DB61: =CT61/CR61-1 | DN61: 574.76803 | DO61: 429.44867 | DP61: 691.39745 | DQ61: 652.71864 | DR61: 737.73662 | DS61: 708.90342 | DT61: 722.62693 | DU61: 677.06416 | DV61: 815.93856 | DW61: 731.95758 | DX61: 760.0568 | DY61: 737.93293 | DZ61: -0.10887159 | EA61: =SUM(DN61:DY61) | EB61: =IFERROR(EA61/SUM(ED61:EO61)-1,"") | ED61: 822.17355 | EE61: 343.03336 | EF61: 631.66234 | EG61: 782.81016 | EH61: 848.97812 | EI61: 922.42303 | EJ61: 798.08394 | EK61: 653.84017 | EL61: 832.54425 | EM61: 777.67513 | EN61: 849.82595 | EO61: 828.08821 | EP61: =SUM(ED61:EO61)
B62: 规上+规下周转量 (万吨公里) | C62: =C63+C64 -> 178371.84 | D62: =C62/Z62-1 -> 0.20858699 | E62: =E63+E64 -> 116958.73 | F62: =E62/AB62-1 -> -0.13528696 | G62: =G63+G64 -> 170168.1 | H62: =G62/AD62-1 -> -0.015801282 | I62: =I63+I64 -> 173940.37 | J62: =I62/AF62-1 -> 0.0083049057 | K62: =K63+K64 -> 174277.45 | L62: =K62/AH62-1 -> 0.013439501 | M62: =M63+M64 -> 165179.81 | N62: =M62/AJ62-1 -> 0.017766526 | O62: =O63+O64 -> 157449.94 | P62: =O62/AL62-1 -> 0.024997445 | Q62: =Q63+Q64 -> 156849.62 | R62: =Q62/AL62-1 -> 0.04902987 | S62: =S63+S64 | T62: =S62/AN62-1 | U62: =C62+E62+G62+I62+K62+M62+O62+Q62+S62 | V62: =U62/SUM(X62,Z62,AB62,AD62,AF62,AH62,AJ62,AL62,AN62)-1 | X62: =X63+X64 | Y62: =X62/AY62-1 | Z62: =Z63+Z64 | AA62: =Z62/BA62-1 | AB62: =AB63+AB64 | AC62: =AB62/BC62-1 | AD62: =AD63+AD64 | AE62: =AD62/BE62-1 | AF62: =AF63+AF64 | AG62: =AF62/BG62-1 | AH62: =AH63+AH64 | AI62: =AH62/BI62-1 | AJ62: =AJ63+AJ64 | AK62: =AJ62/BK62-1 | AL62: =AL63+AL64 | AM62: =AL62/BM62-1 | AN62: =AN63+AN64 | AO62: =AN62/BO62-1 | AP62: =AP63+AP64 | AQ62: =AP62/BQ62-1 | AR62: =AR63+AR64 | AS62: =AR62/BS62-1 | AT62: =AT63+AT64 | AU62: =AT62/BU62-1 | AV62: =X62+Z62+AB62+AD62+AF62+AH62+AJ62+AL62+AN62+AP62+AR62+AT62 | AW62: =AV62/SUM(AY62,BA62,BC62,BE62,BG62,BI62,BK62,BM62,BO62,BQ62,BS62,BU62)-1 | AY62: =AY63+AY64 | AZ62: =AY62/BZ62-1 | BA62: =BA63+BA64 | BB62: =BA62/CB62-1 | BC62: =BC63+BC64 | BD62: =BC62/CD62-1 | BE62: =BE63+BE64 | BF62: =BE62/CF62-1 | BG62: =BG63+BG64 | BH62: =BG62/CH62-1 | BI62: =BI63+BI64 | BJ62: =BI62/CJ62-1 | BK62: =BK63+BK64 | BL62: =BK62/CL62-1 | BM62: =BM63+BM64 | BN62: =BM62/CN62-1 | BO62: =BO63+BO64 | BP62: =BO62/CP62-1 | BQ62: =BQ63+BQ64 | BR62: =BQ62/CR62-1 | BS62: =BS63+BS64 | BT62: =BS62/CT62-1 | BU62: =BU63+BU64 | BV62: =BU62/CV62-1 | BW62: =AY62+BA62+BC62+BE62+BG62+BI62+BK62+BM62+BO62+BQ62+BS62+BU62 | BX62: =BW62/SUM(BZ62,CB62,CD62,CF62,CH62,CJ62,CL62,CN62,CP62,CR62,CT62,CV62)-1 | BZ62: =BZ63+BZ64 | CA62: =BZ62/DN62-1 | CB62: =CB63+CB64 | CC62: =CB62/DO62-1 | CD62: =SUM(CD63:CD64) | CE62: =CD62/DP62-1 | CF62: 142342.99 | CG62: =CF62/DQ62-1 | CH62: 146765.84 | CI62: =CH62/DR62-1 | CJ62: =CJ63+CJ64 | CK62: =CJ62/DS62-1 | CL62: =CL63+CL64 | CM62: =CL62/DT62-1 | CN62: 145760.14 | CO62: =CN62/DU62-1 | CP62: =SUM(CP63:CP64) | CQ62: =CP62/DV62-1 | CR62: =SUM(CR63:CR64) | CS62: =CR62/DW62-1 | CT62: =CT63+CT64 | CU62: =CT62/DY62-1 | CV62: =CV63+CV64 | CW62: =CV62/DY62-1 | CX62: =BZ62+CB62+CD62+CF62+CH62+CJ62+CL62+CN62+CP62+CR62+CT62+CV62 | CY62: =CX62/SUM(DN62:DY62)-1 | DA62: =CV62/CT62-1 | DB62: =CT62/CR62-1 | DN62: 112723.01 | DO62: 77284.905 | DP62: 117989.34 | DQ62: 117822.98 | DR62: 125547.08 | DS62: 119492.18 | DT62: 119776.62 | DU62: 114862.52 | DV62: 137801.59 | DW62: 140204.89 | DX62: 153359.39 | DY62: 143818.74 | DZ62: 0.11222346 | EA62: =SUM(DN62:DY62) | EB62: =IFERROR(EA62/SUM(ED62:EO62)-1,"") | ED62: =ED63+ED64 | EE62: =EE63+EE64 | EF62: =EF63+EF64 | EG62: =EG63+EG64 | EH62: =EH63+EH64 | EI62: =EI63+EI64 | EJ62: =EJ63+EJ64 | EK62: =EK63+EK64 | ... EO62: =EO63+EO64 | EP62: =SUM(ED62:EO62)
B63: 规上货物周转量 (万吨公里) | C63: 51030.42 | D63: =C63/Z63-1 -> 0.063446037 | E63: 45357.896 | F63: =E63/AB63-1 -> -0.13603289 | G63: 63128.389 | H63: =G63/AD63-1 -> 0.087103654 | I63: 60100.222 | J63: =I63/AF63-1 -> 0.04659033 | K63: 58796.997 | L63: =K63/AH63-1 -> 0.017242288 | M63: 54790.19 | N63: =M63/AJ63-1 -> -0.061117769 | O63: 45622.774 | P63: =O63/AL63-1 -> 0.13975171 | Q63: 35895.846 | R63: =Q63/AL63-1 -> 0.0077394728 | T63: =S63/AN63-1 | U63: =C63+E63+G63+I63+K63+M63+O63+Q63+S63 | V63: =U63/SUM(X63,Z63,AB63,AD63,AF63,AH63,AJ63,AL63,AN63)-1 | X63: 47985.905 | Y63: =X63/AY63-1 | Z63: 52499.564 | AA63: =Z63/BA63-1 | AB63: 58070.258 | AC63: =AB63/BC63-1 | AD63: 57424.783 | AE63: =AD63/BE63-1 | AF63: 57800.386 | AG63: =AF63/BG63-1 | AH63: 58356.829 | AI63: =AH63/BI63-1 | AJ63: 40028.695 | AK63: =AJ63/BK63-1 | AL63: 35620.165 | AM63: =AL63/BM63-1 | AN63: 42579.212 | AO63: =AN63/BO63-1 | AP63: 39812.518 | AQ63: =AP63/BQ63-1 | AR63: 39440.858 | AS63: =AR63/BS63-1 | AT63: 40747.956 | AU63: =AT63/BU63-1 | AV63: =X63+Z63+AB63+AD63+AF63+AH63+AJ63+AL63+AN63+AP63+AR63+AT63 | AW63: =AV63/SUM(AY63,BA63,BC63,BE63,BG63,BI63,BK63,BM63,BO63,BQ63,BS63,BU63)-1 | AY63: 71308.122 | AZ63: =AY63/BZ63-1 | BA63: 42519.081 | BB63: =BA63/CB63-1 | BC63: 46254.274 | BD63: =BC63/CD63-1 | BE63: 45053.984 | BF63: =BE63/CF63-1 | BG63: 42138.038 | BH63: =BG63/CH63-1 | BI63: 38889.129 | BJ63: =BI63/CJ63-1 | BK63: 35986.373 | BL63: =BK63/CL63-1 | BM63: 34919.768 | BN63: =BM63/CN63-1 | BO63: 35653.614 | BP63: =BO63/CP63-1 | BQ63: 35212.349 | BR63: =BQ63/CR63-1 | BS63: 35691.874 | BT63: =BS63/CT63-1 | BU63: 49245.103 | BV63: =BU63/CV63-1 | BW63: =AY63+BA63+BC63+BE63+BG63+BI63+BK63+BM63+BO63+BQ63+BS63+BU63 | BX63: =BW63/SUM(BZ63,CB63,CD63,CF63,CH63,CJ63,CL63,CN63,CP63,CR63,CT63,CV63)-1 | BZ63: 65095.45 | CA63: =BZ63/DN63-1 | CB63: 42893.253 | CC63: =CB63/DO63-1 | CD63: 46531.255 | CE63: =CD63/DP63-1 | CF63: 45937.286 | CG63: =CF63/DQ63-1 | CH63: 44051.597 | CI63: =CH63/DR63-1 | CJ63: 43956.682 | CK63: =CJ63/DS63-1 | CL63: 44765.357 | CM63: =CL63/DT63-1 | CN63: 42249.765 | CO63: =CN63/DU63-1 | CP63: 39917.27 | CQ63: =CP63/DV63-1 | CR63: 38427.452 | CS63: =CR63/DW63-1 | CT63: 39926.664 | CU63: =CT63/DY63-1 | CV63: 48615.012 | CW63: =CV63/DY63-1 | CX63: =BZ63+CB63+CD63+CF63+CH63+CJ63+CL63+CN63+CP63+CR63+CT63+CV63 | CY63: =CX63/SUM(DN63:DY63)-1 | DA63: =CV63/CT63-1 | DB63: =CT63/CR63-1 | DN63: 9713.7277 | DO63: 5858.5389 | DP63: 7734.2261 | DQ63: 6872.9366 | DR63: 7083.985 | DS63: 7035.4129 | DT63: 7179.0385 | DU63: 6996.6995 | DV63: 9378.0239 | DW63: 20483.245 | DX63: 39641.849 | DY63: 30028.683 | DZ63: 2.2577151 | EA63: =SUM(DN63:DY63) | EB63: =IFERROR(EA63/SUM(ED63:EO63)-1,"") | ED63: 9183.6629 | EE63: 5653.1478 | EF63: 8525.6039 | EG63: 9141.3803 | EH63: 9133.326 | EI63: 10027.554 | EJ63: 9515.4543 | EK63: 9507.5329 | EL63: 9608.4333 | EM63: 9806.7472 | EN63: 8165.8837 | EO63: 9217.7129 | EP63: =SUM(ED63:EO63)
B64: 规下货物周转量 (万吨公里) | C64: 127341.42 | D64: =C64/Z64-1 -> 0.27851306 | E64: 71600.833 | F64: =E64/AB64-1 -> -0.13481377 | G64: 107039.71 | H64: =G64/AD64-1 -> -0.067841012 | I64: 113840.14 | J64: =I64/AF64-1 -> -0.01079899 | K64: 115480.46 | L64: =K64/AH64-1 -> 0.01151421 | M64: 110389.62 | N64: =M64/AJ64-1 -> 0.062056096 | O64: 111827.17 | P64: =O64/AL64-1 -> -0.0154446 | Q64: 120953.77 | R64: =Q64/AL64-1 -> 0.061942857 | T64: =S64/AN64-1 | U64: =C64+E64+G64+I64+K64+M64+O64+Q64+S64 | V64: =U64/SUM(X64,Z64,AB64,AD64,AF64,AH64,AJ64,AL64,AN64)-1 | X64: 99601.186 | Y64: =X64/AY64-1 | Z64: 82757.711 | AA64: =Z64/BA64-1 | AB64: 114829.88 | AC64: =AB64/BC64-1 | AD64: 115082.92 | AE64: =AD64/BE64-1 | AF64: 114165.93 | AG64: =AF64/BG64-1 | AH64: 103939.53 | AI64: =AH64/BI64-1 | AJ64: 113581.39 | AK64: =AJ64/BK64-1 | AL64: 113898.57 | AM64: =AL64/BM64-1 | AN64: 120142.22 | AO64: =AN64/BO64-1 | AP64: 111360.28 | AQ64: =AP64/BQ64-1 | AR64: 125037.13 | AS64: =AR64/BS64-1 | AT64: 132867.95 | AU64: =AT64/BU64-1 | AV64: =X64+Z64+AB64+AD64+AF64+AH64+AJ64+AL64+AN64+AP64+AR64+AT64 | AW64: =AV64/SUM(AY64,BA64,BC64,BE64,BG64,BI64,BK64,BM64,BO64,BQ64,BS64,BU64)-1 | AY64: 98736.074 | AZ64: =AY64/BZ64-1 | BA64: 50250.281 | BB64: =BA64/CB64-1 | BC64: 109966.93 | BD64: =BC64/CD64-1 | BE64: 113094.47 | BF64: =BE64/CF64-1 | BG64: 113558.78 | BH64: =BG64/CH64-1 | BI64: 104774.94 | BJ64: =BI64/CJ64-1 | BK64: 110430.21 | BL64: =BK64/CL64-1 | BM64: 111997.28 | BN64: =BM64/CN64-1 | BO64: 119406.95 | BP64: =BO64/CP64-1 | BQ64: 121361.41 | BR64: =BQ64/CR64-1 | BS64: 128559.6 | BT64: =BS64/CT64-1 | BU64: 126068.89 | BV64: =BU64/CV64-1 | BW64: =AY64+BA64+BC64+BE64+BG64+BI64+BK64+BM64+BO64+BQ64+BS64+BU64 | BX64: =BW64/SUM(BZ64,CB64,CD64,CF64,CH64,CJ64,CL64,CN64,CP64,CR64,CT64,CV64)-1 | BZ64: 49267.605 | CA64: =BZ64/DN64-1 | CB64: 77645.435 | CC64: =CB64/DO64-1 | CD64: 96816.034 | CE64: =CD64/DP64-1 | CF64: 96405.708 | CG64: =CF64/DQ64-1 | CH64: 102714.25 | CI64: =CH64/DR64-1 | CJ64: 102371.89 | CK64: =CJ64/DS64-1 | CL64: 99879.712 | CM64: =CL64/DT64-1 | CN64: 103510.37 | CO64: =CN64/DU64-1 | CP64: 112100.38 | CQ64: =CP64/DV64-1 | CR64: 112143.66 | CS64: =CR64/DW64-1 | CT64: 124884.86 | CU64: =CT64/DY64-1 | CV64: 113215.78 | CW64: =CV64/DY64-1 | CX64: =BZ64+CB64+CD64+CF64+CH64+CJ64+CL64+CN64+CP64+CR64+CT64+CV64 | CY64: =CX64/SUM(DN64:DY64)-1 | DA64: =CV64/CT64-1 | DB64: =CT64/CR64-1 | DN64: 103009.28 | DO64: 71426.366 | DP64: 110255.11 | DQ64: 110950.04 | DR64: 118463.09 | DS64: 112456.77 | DT64: 112597.59 | DU64: 107865.82 | DV64: 128423.57 | DW64: 119721.64 | DX64: 113717.54 | DY64: 113790.05 | DZ64: -0.05245783 | EA64: =SUM(DN64:DY64) | EB64: =IFERROR(EA64/SUM(ED64:EO64)-1,"") | ED64: 148715.93 | EE64: 70852.596 | EF64: 109621.83 | EG64: 128566.37 | EH64: 134616.95 | EI64: 137777.83 | EJ64: 115394.52 | EK64: 107256.33 | EL64: 129383.11 | EM64: 118503.66 | EN64: 129322.19 | EO64: 120089.7 | EP64: =SUM(ED64:EO64)
A65: 黄冈市 | B65: 规上+规下货运量 (万吨) | C65: 1205.6644 | D65: =C65/Z65-1 -> 0.21176047 | E65: 806.17331 | F65: =E65/AB65-1 -> -0.10670745 | G65: 1177.4755 | H65: =G65/AD65-1 -> -0.0064191204 | I65: 1227.5969 | J65: =I65/AF65-1 -> 0.003302336 | K65: 1219.3955 | L65: =K65/AH65-1 -> 0.033112976 | M65: 1138.437 | N65: =M65/AJ65-1 -> 0.083579935 | O65: 1057.6557 | P65: =O65/AL65-1 -> -0.012342367 | Q65: 1079.9253 | R65: =Q65/AL65-1 -> 0.021980306 | T65: =S65/AN65-1 | U65: =C65+E65+G65+I65+K65+M65+O65+Q65+S65 | V65: =U65/SUM(X65,Z65,AB65,AD65,AF65,AH65,AJ65,AL65,AN65)-1 | X65: 994.96925 | Y65: =X65/AY65-1 | Z65: 902.47401 | AA65: =Z65/BA65-1 | AB65: 1185.0827 | AC65: =AB65/BC65-1 | AD65: 1223.5563 | AE65: =AD65/BE65-1 | AF65: 1180.3119 | AG65: =AF65/BG65-1 | AH65: 1050.6258 | AI65: =AH65/BI65-1 | AJ65: 1070.8728 | AK65: =AJ65/BK65-1 | AL65: 1056.6987 | AM65: =AL65/BM65-1 | AN65: 1129.3308 | AO65: =AN65/BO65-1 | AP65: 1103.6879 | AQ65: =AP65/BQ65-1 | AR65: 1131.8119 | AS65: =AR65/BS65-1 | AT65: 1180.2628 | AU65: =AT65/BU65-1 | AV65: =X65+Z65+AB65+AD65+AF65+AH65+AJ65+AL65+AN65+AP65+AR65+AT65 | AW65: =AV65/SUM(AY65,BA65,BC65,BE65,BG65,BI65,BK65,BM65,BO65,BQ65,BS65,BU65)-1 | AY65: 1058.5476 | AZ65: =AY65/BZ65-1 | BA65: 603.56201 | BB65: =BA65/CB65-1 | BC65: 1051.4803 | BD65: =BC65/CD65-1 | BE65: 1118.1436 | BF65: =BE65/CF65-1 | BG65: 1089.371 | BH65: =BG65/CH65-1 | BI65: 977.79697 | BJ65: =BI65/CJ65-1 | BK65: 1012.0797 | BL65: =BK65/CL65-1 | BM65: 1034.2121 | BN65: =BM65/CN65-1 | BO65: 1081.1135 | BP65: =BO65/CP65-1 | BQ65: 1113.865 | BR65: =BQ65/CR65-1 | BS65: 1119.1392 | BT65: =BS65/CT65-1 | BU65: 1196.8601 | BV65: =BU65/CV65-1 | BW65: =AY65+BA65+BC65+BE65+BG65+BI65+BK65+BM65+BO65+BQ65+BS65+BU65 | BX65: =BW65/SUM(BZ65,CB65,CD65,CF65,CH65,CJ65,CL65,CN65,CP65,CR65,CT65,CV65)-1 | BZ65: 629.47008 | CA65: =BZ65/DN65-1 | CB65: 777.63924 | CC65: =CB65/DO65-1 | CD65: 1013.2259 | CE65: =CD65/DP65-1 | CF65: 1000.2834 | CG65: =CF65/DQ65-1 | CH65: 1004.6128 | CI65: =CH65/DR65-1 | CJ65: 961.52282 | CK65: =CJ65/DS65-1 | CL65: 958.28903 | CM65: =CL65/DT65-1 | CN65: 997.18299 | CO65: =CN65/DU65-1 | CP65: 1020.143 | CQ65: =CP65/DV65-1 | CR65: 1090.8598 | CS65: =CR65/DW65-1 | CT65: 1085.8041 | CU65: =CT65/DY65-1 | CV65: 1108.0416 | CW65: =CV65/DY65-1 | CX65: =BZ65+CB65+CD65+CF65+CH65+CJ65+CL65+CN65+CP65+CR65+CT65+CV65 | CY65: =CX65/SUM(DN65:DY65)-1 | DA65: =CV65/CT65-1 | DB65: =CT65/CR65-1 | DN65: 723.75191 | DO65: 482.45439 | DP65: 840.08965 | DQ65: 798.56708 | DR65: 851.75697 | DS65: 774.05193 | DT65: 806.50863 | DU65: 816.92324 | DV65: 929.04368 | DW65: 940.47121 | DX65: 916.45526 | DY65: 965.61298 | DZ65: -0.041405863 | EA65: =SUM(DN65:DY65) | EB65: =IFERROR(EA65/SUM(ED65:EO65)-1,"") | ED65: 1007.2023 | EE65: 366.12603 | EF65: 776.40376 | EG65: 980.29707 | EH65: 945.71165 | EI65: 968.50512 | EJ65: 860.88063 | EK65: 800.54234 | EL65: 946.85481 | EM65: 895.32866 | EN65: 1045.9721 | EO65: 1007.322 | EP65: =SUM(ED65:EO65)
