Workbook

Sheet  货运
A1: 3月10日厅开会确定拆分方案，1-2月数据以此为准。
A3: 地区 名称 | B3: 指标 | C3: 46023 | D3: 1月与去年同比 | E3: 46054 | F3: 2月与去年同比 | G3: 46082 | H3: 3月与去年同比 | I3: 46113 | J3: 4月与去年同比 | K3: 46143 | L3: 5月与去年同比 | M3: 46174 | N3: 6月与去年同比 | O3: 46204 | P3: 7月与去年同比 | Q3: 46235 | R3: 8月与去年同比 | S3: 46266 | T3: 9月与去年同比 | U3: 累计周转量 | V3: 同比 | X3: 2025年1月 | Y3: 1月与去年同比 | Z3: 2025年2月 | AA3: 2月与去年同比 | AB3: 2025年3月 | AC3: 3月与去年同比 | AD3: 2025年4月 | AE3: 4月与去年同比 | AF3: 2025年5月 | AG3: 5月与去年同比 | AH3: 2025年6月 | AI3: 6月与去年同比 | AJ3: 2025年7月 | AK3: 7月与去年同比 | AL3: 2025年8月 | AM3: 8月与去年同比 | AN3: 2025年9月 | AO3: 9月与去年同比 | AP3: 2025年10月 | AQ3: 10月与去年同比 | AR3: 2025年11月 | AS3: 11月与去年同比 | AT3: 2025年12月 | AU3: 12月与去年同比 | AV3: 2025年累计 | AW3: 2025年累计同比 | AY3: 2024年1月 | AZ3: 1月与去年同比 | BA3: 2024年2月 | BB3: 2月与去年同比 | BC3: 2024年3月 | BD3: 3月与去年同比 | BE3: 2024年4月 | BF3: 4月与去年同比 | BG3: 2024年5月 | BH3: 5月与去年同比 | BI3: 2024年6月 | BJ3: 6月与去年同比 | BK3: 2024年7月 | BL3: 7月与去年同比 | BM3: 2024年8月 | BN3: 8月与去年同比 | BO3: 2024年9月 | BP3: 9月与去年同比 | BQ3: 2024年10月 | BR3: 10月与去年同比 | BS3: 2024年11月 | BT3: 11月与去年同比 | BU3: 2024年12月 | BV3: 12月与去年同比 | BW3: 2024年累计 | BX3: 累计同比 | BZ3: 2023年1月 | CA3: 1月与去年同比 | CB3: 2023年2月 | CC3: 2月与去年同比 | CD3: 2023年3月 | CE3: 3月与去年同比 | CF3: 2023年4月 | CG3: 4月与去年同比 | CH3: 2023年5月 | CI3: 5月与去年同比 | CJ3: 2023年6月 | CK3: 6月与去年同比 | CL3: 45108 | CM3: 7月与去年同比 | CN3: 45139 | CO3: 8月与去年同比 | CP3: 45170 | CQ3: 9月与去年同比 | CR3: 45200 | CS3: 10月与去年同比 | CT3: 45231 | CU3: 11月与去年同比 | CV3: 45261 | CW3: 12月与去年同比 | CX3: 累计 | CY3: 累计同比 | DN3: 2022年1月 | DO3: 2022年2月 | DP3: 2022年3月 | DQ3: 2022年4月 | DR3: 2022年5月 | DS3: 2022年6月 | DT3: 2022年7月 | DU3: 2022年8月 | DV3: 2022年9月 | DW3: 2022年10月 | DX3: 2022年11月 | DY3: 2022年12月 | DZ3: 12月与去年同比 | EA3: 累计 | EB3: 累计同比 | ED3: 2021年1月 | EE3: 2021年2月 | EF3: 2021年3月 | EG3: 2021年4月 | EH3: 44317 | EI3: 44348 | EJ3: 44378 | EK3: 44409 | EL3: 44440 | EM3: 44470 | EN3: 44501 | EO3: 44531 | EQ3: 累计同比
DA4: 12月环比% | DB4: 11月环比% | DC4: 10月环比% | DD4: 9月环比% | DE4: 8月环比% | DF4: 7月环比% | DG4: 6月环比% | DH4: 5月环比% | DI4: 4月环比% | DJ4: 3月环比% | DK4: 2月份环比 | DL4: 1月份环比 | EP4: 累计
A5: 全省 | B5: 货运量 （万吨） | C5: =C7+C9 -> 17322.043 | D5: =C5/X5-1 -> 0.19778185 | E5: =E7+E9 -> 11089.384 | F5: =E5/Z5-1 -> -0.1491624 | G5: =G7+G9 -> 16768.312 | H5: =G5/AB5-1 -> -0.030771437 | I5: =I7+I9 -> 17531.028 | J5: =I5/AD5-1 -> -0.0086271186 | K5: =K7+K9 -> 17582.56 | L5: =K5/AF5-1 -> 0.011890656 | M5: =M7+M9 -> 16844.094 | N5: =M5/AH5-1 -> 0.055809806 | O5: =O7+O9 -> 16285.711 | P5: =O5/AJ5-1 -> 0.015419278 | Q5: =Q7+Q9 -> 16888.762 | R5: =Q5/AL5-1 -> 0.051594182 | S5: =S7+S9 | T5: =S5/AN5-1 | U5: =C5+E5+G5+I5+K5+M5+O5+Q5+S5 | V5: =U5/SUM(X5,Z5,AB5,AD5,AF5,AH5,AJ5,AL5,AN5)-1 | X5: =X7+X9 | Y5: =X5/AY5-1 | Z5: =Z7+Z9 | AA5: =Z5/BA5-1 | AB5: =AB7+AB9 | AC5: =AB5/BC5-1 | AD5: =AD7+AD9 | AE5: =AD5/BE5-1 | AF5: =AF7+AF9 | AG5: =AF5/BG5-1 | AH5: =AH7+AH9 | AI5: =AH5/BI5-1 | AJ5: =AJ7+AJ9 | AK5: =AJ5/BK5-1 | AL5: =AL7+AL9 | AM5: =AL5/BM5-1 | AN5: =AN7+AN9 | AO5: =AN5/BO5-1 | AP5: =AP7+AP9 | AQ5: =AP5/BQ5-1 | AR5: =AR7+AR9 | AS5: =AR5/BS5-1 | AT5: =AT7+AT9 | AU5: =AT5/BU5-1 | AV5: =X5+Z5+AB5+AD5+AF5+AH5+AJ5+AL5+AN5+AP5+AR5+AT5 | AW5: =AV5/SUM(AY5,BA5,BC5,BE5,BG5,BI5,BK5,BM5,BO5,BQ5,BS5,BU5)-1 | AY5: =AY7+AY9 | AZ5: =AY5/BZ5-1 | BA5: =BA7+BA9 | BB5: =BA5/CB5-1 | BC5: =BC7+BC9 | BD5: =BC5/CD5-1 | BE5: =BE7+BE9 | BF5: =BE5/CF5-1 | BG5: =BG7+BG9 | BH5: =BG5/CH5-1 | BI5: =BI7+BI9 | BJ5: =BI5/CJ5-1 | BK5: =BK7+BK9 | BL5: =BK5/CL5-1 | BM5: =BM7+BM9 | BN5: =BM5/CN5-1 | BO5: =BO7+BO9 | BP5: =BO5/CP5-1 | BQ5: =BQ7+BQ9 | BR5: =BQ5/CR5-1 | BS5: =BS7+BS9 | BT5: =BS5/CT5-1 | BU5: =BU7+BU9 | BV5: =BU5/CV5-1 | BW5: =AY5+BA5+BC5+BE5+BG5+BI5+BK5+BM5+BO5+BQ5+BS5+BU5 | BX5: =BW5/SUM(BZ5,CB5,CD5,CF5,CH5,CJ5,CL5,CN5,CP5,CR5,CT5,CV5)-1 | BZ5: =BZ7+BZ9 | CA5: =BZ5/DN5-1 | CB5: =CB7+CB9 | CC5: =CB5/DO5-1 | CD5: =CD7+CD9 | CE5: =CD5/DP5-1 | CF5: =CF7+CF9 | CG5: =CF5/DQ5-1 | CH5: =CH7+CH9 | CI5: =CH5/DR5-1 | CJ5: =CJ7+CJ9 | CK5: =CJ5/DS5-1 | CL5: =CL7+CL9 | CM5: =CL5/DT5-1 | CN5: =CN7+CN9 | CO5: =CN5/DU5-1 | CP5: =CP7+CP9 | CQ5: =CP5/DV5-1 | CR5: =CR7+CR9 | CS5: =CR5/DW5-1 | CT5: =CT7+CT9 | CU5: =CT5/DY5-1 | CV5: =CV7+CV9 | CW5: =CV5/DY5-1 | CX5: =BZ5+CB5+CD5+CF5+CH5+CJ5+CL5+CN5+CP5+CR5+CT5+CV5 | CY5: =CX5/SUM(DN5:DY5)-1 | DA5: =CV5/CT5-1 | DB5: =CT5/CR5-1 | DC5: =CR5/CP5-1 | DD5: =CP5/CN5-1 | DE5: =CN5/CL5-1 | DF5: =CL5/CJ5-1 | DG5: =CJ5/CH5-1 | DH5: =CH5/CF5-1 | DI5: =CF5/CD5-1 | DJ5: =CD5/CB5-1 | DK5: =(CB5-BZ5)/BZ5 | DL5: =(BZ5-DY5)/DY5 | DN5: =DN7+DN9 | DO5: =DO7+DO9 | DP5: =DP7+DP9 | DQ5: =DQ7+DQ9 | DR5: =DR7+DR9 | DS5: =DS7+DS9 | DT5: =DT7+DT9 | DU5: =DU7+DU9 | ... DY5: =DY7+DY9 | DZ5: -0.062421932 | EA5: =SUM(DN5:DY5) | EB5: =IFERROR(EA5/SUM(ED5:EO5)-1,"") | ED5: =ED7+ED9 | EE5: =EE7+EE9 | EF5: =EF7+EF9 | EG5: =EG7+EG9 | EH5: =EH7+EH9 | EI5: =EI7+EI9 | EJ5: =EJ7+EJ9 | EK5: =EK7+EK9 | ... EO5: =EO7+EO9 | EP5: =SUM(ED5:EO5)
B6: 货物周转量 （万吨公里） | C6: =C8+C10 -> 2238211.1 | D6: =C6/Z6-1 -> 0.14599142 | E6: =E8+E10 -> 1550233.6 | F6: =E6/AB6-1 -> -0.15726363 | G6: =G8+G10 -> 2286618 | H6: =G6/AD6-1 -> -0.036051782 | I6: =I8+I10 -> 2339073.2 | J6: =I6/AF6-1 -> -0.01196128 | K6: =K8+K10 -> 2370340.3 | L6: =K6/AH6-1 -> -0.014394459 | M6: =M8+M10 -> 2255716.5 | N6: =M6/AJ6-1 -> 0.015439906 | O6: =O8+O10 -> 2181925.7 | P6: =O6/AL6-1 -> 0.0067919124 | Q6: =Q8+Q10 -> 2270010.6 | R6: =Q6/AL6-1 -> 0.047847642 | S6: =S8+S10 | T6: =S6/AN6-1 | U6: =C6+E6+G6+I6+K6+M6+O6+Q6+S6 | V6: =U6/SUM(X6,Z6,AB6,AD6,AF6,AH6,AJ6,AL6,AN6)-1 | X6: =X8+X10 | Y6: =X6/AY6-1 | Z6: =Z8+Z10 | AA6: =Z6/BA6-1 | AB6: =AB8+AB10 | AC6: =AB6/BC6-1 | AD6: =AD8+AD10 | AE6: =AD6/BE6-1 | AF6: =AF8+AF10 | AG6: =AF6/BG6-1 | AH6: =AH8+AH10 | AI6: =AH6/BI6-1 | AJ6: =AJ8+AJ10 | AK6: =AJ6/BK6-1 | AL6: =AL8+AL10 | AM6: =AL6/BM6-1 | AN6: =AN8+AN10 | AO6: =AN6/BO6-1 | AP6: =AP8+AP10 | AQ6: =AP6/BQ6-1 | AR6: =AR8+AR10 | AS6: =AR6/BS6-1 | AT6: =AT8+AT10 | AU6: =AT6/BU6-1 | AV6: =X6+Z6+AB6+AD6+AF6+AH6+AJ6+AL6+AN6+AP6+AR6+AT6 | AW6: =AV6/SUM(AY6,BA6,BC6,BE6,BG6,BI6,BK6,BM6,BO6,BQ6,BS6,BU6)-1 | AY6: =AY8+AY10 | AZ6: =AY6/BZ6-1 | BA6: =BA8+BA10 | BB6: =BA6/CB6-1 | BC6: =BC8+BC10 | BD6: =BC6/CD6-1 | BE6: =BE8+BE10 | BF6: =BE6/CF6-1 | BG6: =BG8+BG10 | BH6: =BG6/CH6-1 | BI6: =BI8+BI10 | BJ6: =BI6/CJ6-1 | BK6: =BK8+BK10 | BL6: =BK6/CL6-1 | BM6: =BM8+BM10 | BN6: =BM6/CN6-1 | BO6: =BO8+BO10 | BP6: =BO6/CP6-1 | BQ6: =BQ8+BQ10 | BR6: =BQ6/CR6-1 | BS6: =BS8+BS10 | BT6: =BS6/CT6-1 | BU6: =BU8+BU10 | BV6: =BU6/CV6-1 | BW6: =AY6+BA6+BC6+BE6+BG6+BI6+BK6+BM6+BO6+BQ6+BS6+BU6 | BX6: =BW6/SUM(BZ6,CB6,CD6,CF6,CH6,CJ6,CL6,CN6,CP6,CR6,CT6,CV6)-1 | BZ6: =BZ8+BZ10 | CA6: =BZ6/DN6-1 | CB6: =CB8+CB10 | CC6: =CB6/DO6-1 | CD6: =CD8+CD10 | CE6: =CD6/DP6-1 | CF6: =CF8+CF10 | CG6: =CF6/DQ6-1 | CH6: =CH8+CH10 | CI6: =CH6/DR6-1 | CJ6: =CJ8+CJ10 | CK6: =CJ6/DS6-1 | CL6: =CL8+CL10 | CM6: =CL6/DT6-1 | CN6: =CN8+CN10 | CO6: =CN6/DU6-1 | CP6: =CP8+CP10 | CQ6: =CP6/DV6-1 | CR6: =CR8+CR10 | CS6: =CR6/DW6-1 | CT6: =CT8+CT10 | CU6: =CT6/DY6-1 | CV6: =CV8+CV10 | CW6: =CV6/DY6-1 | CX6: =BZ6+CB6+CD6+CF6+CH6+CJ6+CL6+CN6+CP6+CR6+CT6+CV6 | CY6: =CX6/SUM(DN6:DY6)-1 | DA6: =CV6/CT6-1 | DB6: =CT6/CR6-1 | DC6: =CR6/CP6-1 | DD6: =CP6/CN6-1 | DE6: =CN6/CL6-1 | DF6: =CL6/CJ6-1 | DG6: =CJ6/CH6-1 | DH6: =CH6/CF6-1 | DI6: =CF6/CD6-1 | DJ6: =CD6/CB6-1 | DK6: =(CB6-BZ6)/BZ6 | DL6: =(BZ6-DY6)/DY6 | DN6: =DN8+DN10 | DO6: =DO8+DO10 | DP6: =DP8+DP10 | DQ6: =DQ8+DQ10 | DR6: =DR8+DR10 | DS6: =DS8+DS10 | DT6: =DT8+DT10 | DU6: =DU8+DU10 | ... DY6: =DY8+DY10 | DZ6: 0.04159894 | EA6: =SUM(DN6:DY6) | EB6: =IFERROR(EA6/SUM(ED6:EO6)-1,"") | ED6: =ED8+ED10 | EE6: =EE8+EE10 | EF6: =EF8+EF10 | EG6: =EG8+EG10 | EH6: =EH8+EH10 | EI6: =EI8+EI10 | EJ6: =EJ8+EJ10 | EK6: =EK8+EK10 | ... EO6: =EO8+EO10 | EP6: =SUM(ED6:EO6)
B7: 其中规上货运量 (万吨) | C7: 3735.5321 | D7: =C7/Z7-1 -> -0.10300103 | E7: 3402.8177 | F7: =E7/AB7-1 -> -0.15033938 | G7: 4284.9515 | H7: =G7/AD7-1 -> -0.040988568 | I7: 4183.3731 | J7: =I7/AF7-1 -> -0.086391964 | K7: 4131.7772 | L7: =K7/AH7-1 -> -0.10726263 | M7: 4241.2271 | N7: =M7/AJ7-1 -> -0.074476839 | O7: 3754.7823 | P7: =O7/AL7-1 -> -0.025025755 | Q7: 3665.3638 | R7: =Q7/AL7-1 -> -0.013657271 | T7: =S7/AN7-1 | U7: =C7+E7+G7+I7+K7+M7+O7+Q7+S7 | V7: =U7/SUM(X7,Z7,AB7,AD7,AF7,AH7,AJ7,AL7,AN7)-1 | X7: =SUM(X12,X18,X24,X30,X36,X42,X48,X54,X60,X66,X72,X78,X84,X90,X96,X102,X108) | Y7: =X7/AY7-1 | Z7: =SUM(Z12,Z18,Z24,Z30,Z36,Z42,Z48,Z54,Z60,Z66,Z72,Z78,Z84,Z90,Z96,Z102,Z108) | AA7: =Z7/BA7-1 | AB7: =SUM(AB12,AB18,AB24,AB30,AB36,AB42,AB48,AB54,AB60,AB66,AB72,AB78,AB84,AB90,AB96,AB102,AB108) | AC7: =AB7/BC7-1 | AD7: =SUM(AD12,AD18,AD24,AD30,AD36,AD42,AD48,AD54,AD60,AD66,AD72,AD78,AD84,AD90,AD96,AD102,AD108) | AE7: =AD7/BE7-1 | AF7: =SUM(AF12,AF18,AF24,AF30,AF36,AF42,AF48,AF54,AF60,AF66,AF72,AF78,AF84,AF90,AF96,AF102,AF108) | AG7: =AF7/BG7-1 | AH7: =SUM(AH12,AH18,AH24,AH30,AH36,AH42,AH48,AH54,AH60,AH66,AH72,AH78,AH84,AH90,AH96,AH102,AH108) | AI7: =AH7/BI7-1 | AJ7: =SUM(AJ12,AJ18,AJ24,AJ30,AJ36,AJ42,AJ48,AJ54,AJ60,AJ66,AJ72,AJ78,AJ84,AJ90,AJ96,AJ102,AJ108) | AK7: =AJ7/BK7-1 | AL7: =SUM(AL12,AL18,AL24,AL30,AL36,AL42,AL48,AL54,AL60,AL66,AL72,AL78,AL84,AL90,AL96,AL102,AL108) | AM7: =AL7/BM7-1 | AN7: =SUM(AN12,AN18,AN24,AN30,AN36,AN42,AN48,AN54,AN60,AN66,AN72,AN78,AN84,AN90,AN96,AN102,AN108) | AO7: =AN7/BO7-1 | AP7: =SUM(AP12,AP18,AP24,AP30,AP36,AP42,AP48,AP54,AP60,AP66,AP72,AP78,AP84,AP90,AP96,AP102,AP108) | AQ7: =AP7/BQ7-1 | AR7: =SUM(AR12,AR18,AR24,AR30,AR36,AR42,AR48,AR54,AR60,AR66,AR72,AR78,AR84,AR90,AR96,AR102,AR108) | AS7: =AR7/BS7-1 | AT7: =SUM(AT12,AT18,AT24,AT30,AT36,AT42,AT48,AT54,AT60,AT66,AT72,AT78,AT84,AT90,AT96,AT102,AT108) | AU7: =AT7/BU7-1 | AV7: =X7+Z7+AB7+AD7+AF7+AH7+AJ7+AL7+AN7+AP7+AR7+AT7 | AW7: =AV7/SUM(AY7,BA7,BC7,BE7,BG7,BI7,BK7,BM7,BO7,BQ7,BS7,BU7)-1 | AY7: =SUM(AY12,AY18,AY24,AY30,AY36,AY42,AY48,AY54,AY60,AY66,AY72,AY78,AY84,AY90,AY96,AY102,AY108) | AZ7: =AY7/BZ7-1 | BA7: =SUM(BA12,BA18,BA24,BA30,BA36,BA42,BA48,BA54,BA60,BA66,BA72,BA78,BA84,BA90,BA96,BA102,BA108) | BB7: =BA7/CB7-1 | BC7: =SUM(BC12,BC18,BC24,BC30,BC36,BC42,BC48,BC54,BC60,BC66,BC72,BC78,BC84,BC90,BC96,BC102,BC108) | BD7: =BC7/CD7-1 | BE7: =SUM(BE12,BE18,BE24,BE30,BE36,BE42,BE48,BE54,BE60,BE66,BE72,BE78,BE84,BE90,BE96,BE102,BE108) | BF7: =BE7/CF7-1 | BG7: =SUM(BG12,BG18,BG24,BG30,BG36,BG42,BG48,BG54,BG60,BG66,BG72,BG78,BG84,BG90,BG96,BG102,BG108) | BH7: =BG7/CH7-1 | BI7: =SUM(BI12,BI18,BI24,BI30,BI36,BI42,BI48,BI54,BI60,BI66,BI72,BI78,BI84,BI90,BI96,BI102,BI108) | BJ7: =BI7/CJ7-1 | BK7: =SUM(BK12,BK18,BK24,BK30,BK36,BK42,BK48,BK54,BK60,BK66,BK72,BK78,BK84,BK90,BK96,BK102,BK108) | BL7: =BK7/CL7-1 | BM7: =SUM(BM12,BM18,BM24,BM30,BM36,BM42,BM48,BM54,BM60,BM66,BM72,BM78,BM84,BM90,BM96,BM102,BM108) | BN7: =BM7/CN7-1 | BO7: =SUM(BO12,BO18,BO24,BO30,BO36,BO42,BO48,BO54,BO60,BO66,BO72,BO78,BO84,BO90,BO96,BO102,BO108) | BP7: =BO7/CP7-1 | BQ7: =SUM(BQ12,BQ18,BQ24,BQ30,BQ36,BQ42,BQ48,BQ54,BQ60,BQ66,BQ72,BQ78,BQ84,BQ90,BQ96,BQ102,BQ108) | BR7: =BQ7/CR7-1 | BS7: =SUM(BS12,BS18,BS24,BS30,BS36,BS42,BS48,BS54,BS60,BS66,BS72,BS78,BS84,BS90,BS96,BS102,BS108) | BT7: =BS7/CT7-1 | BU7: =SUM(BU12,BU18,BU24,BU30,BU36,BU42,BU48,BU54,BU60,BU66,BU72,BU78,BU84,BU90,BU96,BU102,BU108) | BV7: =BU7/CV7-1 | BW7: =AY7+BA7+BC7+BE7+BG7+BI7+BK7+BM7+BO7+BQ7+BS7+BU7 | BX7: =BW7/SUM(BZ7,CB7,CD7,CF7,CH7,CJ7,CL7,CN7,CP7,CR7,CT7,CV7)-1 | BZ7: =SUM(BZ12,BZ18,BZ24,BZ30,BZ36,BZ42,BZ48,BZ54,BZ60,BZ66,BZ72,BZ78,BZ84,BZ90,BZ96,BZ102,BZ108) | CA7: =BZ7/DN7-1 | CB7: =SUM(CB12,CB18,CB24,CB30,CB36,CB42,CB48,CB54,CB60,CB66,CB72,CB78,CB84,CB90,CB96,CB102,CB108) | CC7: =CB7/DO7-1 | CD7: =SUM(CD12,CD18,CD24,CD30,CD36,CD42,CD48,CD54,CD60,CD66,CD72,CD78,CD84,CD90,CD96,CD102,CD108) | CE7: =CD7/DP7-1 | CF7: =SUM(CF12,CF18,CF24,CF30,CF36,CF42,CF48,CF54,CF60,CF66,CF72,CF78,CF84,CF90,CF96,CF102,CF108) | CG7: =CF7/DQ7-1 | CH7: =SUM(CH12,CH18,CH24,CH30,CH36,CH42,CH48,CH54,CH60,CH66,CH72,CH78,CH84,CH90,CH96,CH102,CH108) | CI7: =CH7/DR7-1 | CJ7: =SUM(CJ12,CJ18,CJ24,CJ30,CJ36,CJ42,CJ48,CJ54,CJ60,CJ66,CJ72,CJ78,CJ84,CJ90,CJ96,CJ102,CJ108) | CK7: =CJ7/DS7-1 | CL7: =SUM(CL12,CL18,CL24,CL30,CL36,CL42,CL48,CL54,CL60,CL66,CL72,CL78,CL84,CL90,CL96,CL102,CL108) | CM7: =CL7/DT7-1 | CN7: =SUM(CN12,CN18,CN24,CN30,CN36,CN42,CN48,CN54,CN60,CN66,CN72,CN78,CN84,CN90,CN96,CN102,CN108) | CO7: =CN7/DU7-1 | CP7: =SUM(CP12,CP18,CP24,CP30,CP36,CP42,CP48,CP54,CP60,CP66,CP72,CP78,CP84,CP90,CP96,CP102,CP108) | CQ7: =CP7/DV7-1 | CR7: =SUM(CR12,CR18,CR24,CR30,CR36,CR42,CR48,CR54,CR60,CR66,CR72,CR78,CR84,CR90,CR96,CR102,CR108) | CS7: =CR7/DW7-1 | CT7: =SUM(CT12,CT18,CT24,CT30,CT36,CT42,CT48,CT54,CT60,CT66,CT72,CT78,CT84,CT90,CT96,CT102,CT108) | CU7: =CT7/DY7-1 | CV7: =SUM(CV12,CV18,CV24,CV30,CV36,CV42,CV48,CV54,CV60,CV66,CV72,CV78,CV84,CV90,CV96,CV102,CV108) | CW7: =CV7/DY7-1 | CX7: =BZ7+CB7+CD7+CF7+CH7+CJ7+CL7+CN7+CP7+CR7+CT7+CV7 | CY7: =CX7/SUM(DN7:DY7)-1 | DA7: =CV7/CT7-1 | DB7: =CT7/CR7-1 | DC7: =CR7/CP7-1 | DD7: =CP7/CN7-1 | DE7: =CN7/CL7-1 | DF7: =CL7/CJ7-1 | DG7: =CJ7/CH7-1 | DH7: =CH7/CF7-1 | DI7: =CF7/CD7-1 | DJ7: =CD7/CB7-1 | DK7: =(CB7-BZ7)/BZ7 | DL7: =(BZ7-DY7)/DY7 | DN7: =SUM(DN12,DN18,DN24,DN30,DN36,DN42,DN48,DN54,DN60,DN66,DN72,DN78,DN84,DN90,DN96,DN102,DN108) | DO7: =SUM(DO12,DO18,DO24,DO30,DO36,DO42,DO48,DO54,DO60,DO66,DO72,DO78,DO84,DO90,DO96,DO102,DO108) | DP7: =SUM(DP12,DP18,DP24,DP30,DP36,DP42,DP48,DP54,DP60,DP66,DP72,DP78,DP84,DP90,DP96,DP102,DP108) | DQ7: =SUM(DQ12,DQ18,DQ24,DQ30,DQ36,DQ42,DQ48,DQ54,DQ60,DQ66,DQ72,DQ78,DQ84,DQ90,DQ96,DQ102,DQ108) | DR7: =SUM(DR12,DR18,DR24,DR30,DR36,DR42,DR48,DR54,DR60,DR66,DR72,DR78,DR84,DR90,DR96,DR102,DR108) | DS7: =SUM(DS12,DS18,DS24,DS30,DS36,DS42,DS48,DS54,DS60,DS66,DS72,DS78,DS84,DS90,DS96,DS102,DS108) | DT7: =SUM(DT12,DT18,DT24,DT30,DT36,DT42,DT48,DT54,DT60,DT66,DT72,DT78,DT84,DT90,DT96,DT102,DT108) | DU7: =SUM(DU12,DU18,DU24,DU30,DU36,DU42,DU48,DU54,DU60,DU66,DU72,DU78,DU84,DU90,DU96,DU102,DU108) | ... DY7: =SUM(DY12,DY18,DY24,DY30,DY36,DY42,DY48,DY54,DY60,DY66,DY72,DY78,DY84,DY90,DY96,DY102,DY108) | DZ7: 0.43037903 | EA7: =SUM(DN7:DY7) | EB7: =IFERROR(EA7/SUM(ED7:EO7)-1,"") | EC7: =EA7/EA5 | ED7: =SUM(ED12,ED18,ED24,ED30,ED36,ED42,ED48,ED54,ED60,ED66,ED72,ED78,ED84,ED90,ED96,ED102,ED108) | EE7: =SUM(EE12,EE18,EE24,EE30,EE36,EE42,EE48,EE54,EE60,EE66,EE72,EE78,EE84,EE90,EE96,EE102,EE108) | EF7: =SUM(EF12,EF18,EF24,EF30,EF36,EF42,EF48,EF54,EF60,EF66,EF72,EF78,EF84,EF90,EF96,EF102,EF108) | EG7: =SUM(EG12,EG18,EG24,EG30,EG36,EG42,EG48,EG54,EG60,EG66,EG72,EG78,EG84,EG90,EG96,EG102,EG108) | EH7: =SUM(EH12,EH18,EH24,EH30,EH36,EH42,EH48,EH54,EH60,EH66,EH72,EH78,EH84,EH90,EH96,EH102,EH108) | EI7: =SUM(EI12,EI18,EI24,EI30,EI36,EI42,EI48,EI54,EI60,EI66,EI72,EI78,EI84,EI90,EI96,EI102,EI108) | EJ7: =SUM(EJ12,EJ18,EJ24,EJ30,EJ36,EJ42,EJ48,EJ54,EJ60,EJ66,EJ72,EJ78,EJ84,EJ90,EJ96,EJ102,EJ108) | EK7: =SUM(EK12,EK18,EK24,EK30,EK36,EK42,EK48,EK54,EK60,EK66,EK72,EK78,EK84,EK90,EK96,EK102,EK108) | ... EO7: =SUM(EO12,EO18,EO24,EO30,EO36,EO42,EO48,EO54,EO60,EO66,EO72,EO78,EO84,EO90,EO96,EO102,EO108) | EP7: =SUM(ED7:EO7)
B8: 其中规上货物周转量 (万吨公里) | C8: 565704.65 | D8: =C8/Z8-1 -> -0.091814632 | E8: 500562.26 | F8: =E8/AB8-1 -> -0.14891363 | G8: 669448.89 | H8: =G8/AD8-1 -> -0.0096586042 | I8: 650911.77 | J8: =I8/AF8-1 -> -0.043482506 | K8: 680437.39 | L8: =K8/AH8-1 -> -0.062360436 | M8: 692813.75 | N8: =M8/AJ8-1 -> -0.043707473 | O8: 597278.64 | P8: =O8/AL8-1 -> 0.05762202 | Q8: 570004.44 | R8: =Q8/AL8-1 -> 0.095971335 | T8: =S8/AN8-1 | U8: =C8+E8+G8+I8+K8+M8+O8+Q8+S8 | V8: =U8/SUM(X8,Z8,AB8,AD8,AF8,AH8,AJ8,AL8,AN8)-1 | X8: =SUM(X15,X21,X27,X33,X39,X45,X51,X57,X63,X69,X75,X81,X87,X93,X99,X105,X111) | Y8: =X8/AY8-1 | Z8: =SUM(Z15,Z21,Z27,Z33,Z39,Z45,Z51,Z57,Z63,Z69,Z75,Z81,Z87,Z93,Z99,Z105,Z111) | AA8: =Z8/BA8-1 | AB8: =SUM(AB15,AB21,AB27,AB33,AB39,AB45,AB51,AB57,AB63,AB69,AB75,AB81,AB87,AB93,AB99,AB105,AB111) | AC8: =AB8/BC8-1 | AD8: =SUM(AD15,AD21,AD27,AD33,AD39,AD45,AD51,AD57,AD63,AD69,AD75,AD81,AD87,AD93,AD99,AD105,AD111) | AE8: =AD8/BE8-1 | AF8: =SUM(AF15,AF21,AF27,AF33,AF39,AF45,AF51,AF57,AF63,AF69,AF75,AF81,AF87,AF93,AF99,AF105,AF111) | AG8: =AF8/BG8-1 | AH8: =SUM(AH15,AH21,AH27,AH33,AH39,AH45,AH51,AH57,AH63,AH69,AH75,AH81,AH87,AH93,AH99,AH105,AH111) | AI8: =AH8/BI8-1 | AJ8: =SUM(AJ15,AJ21,AJ27,AJ33,AJ39,AJ45,AJ51,AJ57,AJ63,AJ69,AJ75,AJ81,AJ87,AJ93,AJ99,AJ105,AJ111) | AK8: =AJ8/BK8-1 | AL8: =SUM(AL15,AL21,AL27,AL33,AL39,AL45,AL51,AL57,AL63,AL69,AL75,AL81,AL87,AL93,AL99,AL105,AL111) | AM8: =AL8/BM8-1 | AN8: =SUM(AN15,AN21,AN27,AN33,AN39,AN45,AN51,AN57,AN63,AN69,AN75,AN81,AN87,AN93,AN99,AN105,AN111) | AO8: =AN8/BO8-1 | AP8: =SUM(AP15,AP21,AP27,AP33,AP39,AP45,AP51,AP57,AP63,AP69,AP75,AP81,AP87,AP93,AP99,AP105,AP111) | AQ8: =AP8/BQ8-1 | AR8: =SUM(AR15,AR21,AR27,AR33,AR39,AR45,AR51,AR57,AR63,AR69,AR75,AR81,AR87,AR93,AR99,AR105,AR111) | AS8: =AR8/BS8-1 | AT8: =SUM(AT15,AT21,AT27,AT33,AT39,AT45,AT51,AT57,AT63,AT69,AT75,AT81,AT87,AT93,AT99,AT105,AT111) | AU8: =AT8/BU8-1 | AV8: =X8+Z8+AB8+AD8+AF8+AH8+AJ8+AL8+AN8+AP8+AR8+AT8 | AW8: =AV8/SUM(AY8,BA8,BC8,BE8,BG8,BI8,BK8,BM8,BO8,BQ8,BS8,BU8)-1 | AY8: =SUM(AY15,AY21,AY27,AY33,AY39,AY45,AY51,AY57,AY63,AY69,AY75,AY81,AY87,AY93,AY99,AY105,AY111) | AZ8: =AY8/BZ8-1 | BA8: =SUM(BA15,BA21,BA27,BA33,BA39,BA45,BA51,BA57,BA63,BA69,BA75,BA81,BA87,BA93,BA99,BA105,BA111) | BB8: =BA8/CB8-1 | BC8: =SUM(BC15,BC21,BC27,BC33,BC39,BC45,BC51,BC57,BC63,BC69,BC75,BC81,BC87,BC93,BC99,BC105,BC111) | BD8: =BC8/CD8-1 | BE8: =SUM(BE15,BE21,BE27,BE33,BE39,BE45,BE51,BE57,BE63,BE69,BE75,BE81,BE87,BE93,BE99,BE105,BE111) | BF8: =BE8/CF8-1 | BG8: =SUM(BG15,BG21,BG27,BG33,BG39,BG45,BG51,BG57,BG63,BG69,BG75,BG81,BG87,BG93,BG99,BG105,BG111) | BH8: =BG8/CH8-1 | BI8: =SUM(BI15,BI21,BI27,BI33,BI39,BI45,BI51,BI57,BI63,BI69,BI75,BI81,BI87,BI93,BI99,BI105,BI111) | BJ8: =BI8/CJ8-1 | BK8: =SUM(BK15,BK21,BK27,BK33,BK39,BK45,BK51,BK57,BK63,BK69,BK75,BK81,BK87,BK93,BK99,BK105,BK111) | BL8: =BK8/CL8-1 | BM8: =SUM(BM15,BM21,BM27,BM33,BM39,BM45,BM51,BM57,BM63,BM69,BM75,BM81,BM87,BM93,BM99,BM105,BM111) | BN8: =BM8/CN8-1 | BO8: =SUM(BO15,BO21,BO27,BO33,BO39,BO45,BO51,BO57,BO63,BO69,BO75,BO81,BO87,BO93,BO99,BO105,BO111) | BP8: =BO8/CP8-1 | BQ8: =SUM(BQ15,BQ21,BQ27,BQ33,BQ39,BQ45,BQ51,BQ57,BQ63,BQ69,BQ75,BQ81,BQ87,BQ93,BQ99,BQ105,BQ111) | BR8: =BQ8/CR8-1 | BS8: =SUM(BS15,BS21,BS27,BS33,BS39,BS45,BS51,BS57,BS63,BS69,BS75,BS81,BS87,BS93,BS99,BS105,BS111) | BT8: =BS8/CT8-1 | BU8: =SUM(BU15,BU21,BU27,BU33,BU39,BU45,BU51,BU57,BU63,BU69,BU75,BU81,BU87,BU93,BU99,BU105,BU111) | BV8: =BU8/CV8-1 | BW8: =AY8+BA8+BC8+BE8+BG8+BI8+BK8+BM8+BO8+BQ8+BS8+BU8 | BX8: =BW8/SUM(BZ8,CB8,CD8,CF8,CH8,CJ8,CL8,CN8,CP8,CR8,CT8,CV8)-1 | BZ8: =SUM(BZ15,BZ21,BZ27,BZ33,BZ39,BZ45,BZ51,BZ57,BZ63,BZ69,BZ75,BZ81,BZ87,BZ93,BZ99,BZ105,BZ111) | CA8: =BZ8/DN8-1 | CB8: =SUM(CB15,CB21,CB27,CB33,CB39,CB45,CB51,CB57,CB63,CB69,CB75,CB81,CB87,CB93,CB99,CB105,CB111) | CC8: =CB8/DO8-1 | CD8: =SUM(CD15,CD21,CD27,CD33,CD39,CD45,CD51,CD57,CD63,CD69,CD75,CD81,CD87,CD93,CD99,CD105,CD111) | CE8: =CD8/DP8-1 | CF8: =SUM(CF15,CF21,CF27,CF33,CF39,CF45,CF51,CF57,CF63,CF69,CF75,CF81,CF87,CF93,CF99,CF105,CF111) | CG8: =CF8/DQ8-1 | CH8: =SUM(CH15,CH21,CH27,CH33,CH39,CH45,CH51,CH57,CH63,CH69,CH75,CH81,CH87,CH93,CH99,CH105,CH111) | CI8: =CH8/DR8-1 | CJ8: =SUM(CJ15,CJ21,CJ27,CJ33,CJ39,CJ45,CJ51,CJ57,CJ63,CJ69,CJ75,CJ81,CJ87,CJ93,CJ99,CJ105,CJ111) | CK8: =CJ8/DS8-1 | CL8: =SUM(CL15,CL21,CL27,CL33,CL39,CL45,CL51,CL57,CL63,CL69,CL75,CL81,CL87,CL93,CL99,CL105,CL111) | CM8: =CL8/DT8-1 | CN8: =SUM(CN15,CN21,CN27,CN33,CN39,CN45,CN51,CN57,CN63,CN69,CN75,CN81,CN87,CN93,CN99,CN105,CN111) | CO8: =CN8/DU8-1 | CP8: =SUM(CP15,CP21,CP27,CP33,CP39,CP45,CP51,CP57,CP63,CP69,CP75,CP81,CP87,CP93,CP99,CP105,CP111) | CQ8: =CP8/DV8-1 | CR8: =SUM(CR15,CR21,CR27,CR33,CR39,CR45,CR51,CR57,CR63,CR69,CR75,CR81,CR87,CR93,CR99,CR105,CR111) | CS8: =CR8/DW8-1 | CT8: =SUM(CT15,CT21,CT27,CT33,CT39,CT45,CT51,CT57,CT63,CT69,CT75,CT81,CT87,CT93,CT99,CT105,CT111) | CU8: =CT8/DY8-1 | CV8: =SUM(CV15,CV21,CV27,CV33,CV39,CV45,CV51,CV57,CV63,CV69,CV75,CV81,CV87,CV93,CV99,CV105,CV111) | CW8: =CV8/DY8-1 | CX8: =BZ8+CB8+CD8+CF8+CH8+CJ8+CL8+CN8+CP8+CR8+CT8+CV8 | CY8: =CX8/SUM(DN8:DY8)-1 | DA8: =CV8/CT8-1 | DB8: =CT8/CR8-1 | DC8: =CR8/CP8-1 | DD8: =CP8/CN8-1 | DE8: =CN8/CL8-1 | DF8: =CL8/CJ8-1 | DG8: =CJ8/CH8-1 | DH8: =CH8/CF8-1 | DI8: =CF8/CD8-1 | DJ8: =CD8/CB8-1 | DK8: =(CB8-BZ8)/BZ8 | DL8: =(BZ8-DY8)/DY8 | DN8: =SUM(DN15,DN21,DN27,DN33,DN39,DN45,DN51,DN57,DN63,DN69,DN75,DN81,DN87,DN93,DN99,DN105,DN111) | DO8: =SUM(DO15,DO21,DO27,DO33,DO39,DO45,DO51,DO57,DO63,DO69,DO75,DO81,DO87,DO93,DO99,DO105,DO111) | DP8: =SUM(DP15,DP21,DP27,DP33,DP39,DP45,DP51,DP57,DP63,DP69,DP75,DP81,DP87,DP93,DP99,DP105,DP111) | DQ8: =SUM(DQ15,DQ21,DQ27,DQ33,DQ39,DQ45,DQ51,DQ57,DQ63,DQ69,DQ75,DQ81,DQ87,DQ93,DQ99,DQ105,DQ111) | DR8: =SUM(DR15,DR21,DR27,DR33,DR39,DR45,DR51,DR57,DR63,DR69,DR75,DR81,DR87,DR93,DR99,DR105,DR111) | DS8: =SUM(DS15,DS21,DS27,DS33,DS39,DS45,DS51,DS57,DS63,DS69,DS75,DS81,DS87,DS93,DS99,DS105,DS111) | DT8: =SUM(DT15,DT21,DT27,DT33,DT39,DT45,DT51,DT57,DT63,DT69,DT75,DT81,DT87,DT93,DT99,DT105,DT111) | DU8: =SUM(DU15,DU21,DU27,DU33,DU39,DU45,DU51,DU57,DU63,DU69,DU75,DU81,DU87,DU93,DU99,DU105,DU111) | ... DY8: =SUM(DY15,DY21,DY27,DY33,DY39,DY45,DY51,DY57,DY63,DY69,DY75,DY81,DY87,DY93,DY99,DY105,DY111) | DZ8: 0.78353118 | EA8: =SUM(DN8:DY8) | EB8: =IFERROR(EA8/SUM(ED8:EO8)-1,"") | EC8: =EA8/EA6 | ED8: =SUM(ED15,ED21,ED27,ED33,ED39,ED45,ED51,ED57,ED63,ED69,ED75,ED81,ED87,ED93,ED99,ED105,ED111) | EE8: =SUM(EE15,EE21,EE27,EE33,EE39,EE45,EE51,EE57,EE63,EE69,EE75,EE81,EE87,EE93,EE99,EE105,EE111) | EF8: =SUM(EF15,EF21,EF27,EF33,EF39,EF45,EF51,EF57,EF63,EF69,EF75,EF81,EF87,EF93,EF99,EF105,EF111) | EG8: =SUM(EG15,EG21,EG27,EG33,EG39,EG45,EG51,EG57,EG63,EG69,EG75,EG81,EG87,EG93,EG99,EG105,EG111) | EH8: =SUM(EH15,EH21,EH27,EH33,EH39,EH45,EH51,EH57,EH63,EH69,EH75,EH81,EH87,EH93,EH99,EH105,EH111) | EI8: =SUM(EI15,EI21,EI27,EI33,EI39,EI45,EI51,EI57,EI63,EI69,EI75,EI81,EI87,EI93,EI99,EI105,EI111) | EJ8: =SUM(EJ15,EJ21,EJ27,EJ33,EJ39,EJ45,EJ51,EJ57,EJ63,EJ69,EJ75,EJ81,EJ87,EJ93,EJ99,EJ105,EJ111) | EK8: =SUM(EK15,EK21,EK27,EK33,EK39,EK45,EK51,EK57,EK63,EK69,EK75,EK81,EK87,EK93,EK99,EK105,EK111) | ... EO8: =SUM(EO15,EO21,EO27,EO33,EO39,EO45,EO51,EO57,EO63,EO69,EO75,EO81,EO87,EO93,EO99,EO105,EO111) | EP8: =SUM(ED8:EO8)
B9: 其中规下货运量 (万吨) | C9: 13586.511 | D9: =C9/Z9-1 -> 0.31942586 | E9: 7686.5664 | F9: =E9/AB9-1 -> -0.14864031 | G9: 12483.36 | H9: =G9/AD9-1 -> -0.027214003 | I9: 13347.655 | J9: =I9/AF9-1 -> 0.018545112 | K9: 13450.783 | L9: =K9/AH9-1 -> 0.055150613 | M9: 12602.867 | N9: =M9/AJ9-1 -> 0.10831446 | O9: 12530.928 | P9: =O9/AL9-1 -> 0.028199875 | Q9: 13223.398 | R9: =Q9/AL9-1 -> 0.071237836 | T9: =S9/AN9-1 | U9: =C9+E9+G9+I9+K9+M9+O9+Q9+S9 | V9: =U9/SUM(X9,Z9,AB9,AD9,AF9,AH9,AJ9,AL9,AN9)-1 | X9: =SUM(X13,X19,X25,X31,X37,X43,X49,X55,X61,X67,X73,X79,X85,X91,X97,X103,X109) | Y9: =X9/AY9-1 | Z9: =SUM(Z13,Z19,Z25,Z31,Z37,Z43,Z49,Z55,Z61,Z67,Z73,Z79,Z85,Z91,Z97,Z103,Z109) | AA9: =Z9/BA9-1 | AB9: =SUM(AB13,AB19,AB25,AB31,AB37,AB43,AB49,AB55,AB61,AB67,AB73,AB79,AB85,AB91,AB97,AB103,AB109) | AC9: =AB9/BC9-1 | AD9: =SUM(AD13,AD19,AD25,AD31,AD37,AD43,AD49,AD55,AD61,AD67,AD73,AD79,AD85,AD91,AD97,AD103,AD109) | AE9: =AD9/BE9-1 | AF9: =SUM(AF13,AF19,AF25,AF31,AF37,AF43,AF49,AF55,AF61,AF67,AF73,AF79,AF85,AF91,AF97,AF103,AF109) | AG9: =AF9/BG9-1 | AH9: =SUM(AH13,AH19,AH25,AH31,AH37,AH43,AH49,AH55,AH61,AH67,AH73,AH79,AH85,AH91,AH97,AH103,AH109) | AI9: =AH9/BI9-1 | AJ9: =SUM(AJ13,AJ19,AJ25,AJ31,AJ37,AJ43,AJ49,AJ55,AJ61,AJ67,AJ73,AJ79,AJ85,AJ91,AJ97,AJ103,AJ109) | AK9: =AJ9/BK9-1 | AL9: =SUM(AL13,AL19,AL25,AL31,AL37,AL43,AL49,AL55,AL61,AL67,AL73,AL79,AL85,AL91,AL97,AL103,AL109) | AM9: =AL9/BM9-1 | AN9: =SUM(AN13,AN19,AN25,AN31,AN37,AN43,AN49,AN55,AN61,AN67,AN73,AN79,AN85,AN91,AN97,AN103,AN109) | AO9: =AN9/BO9-1 | AP9: =SUM(AP13,AP19,AP25,AP31,AP37,AP43,AP49,AP55,AP61,AP67,AP73,AP79,AP85,AP91,AP97,AP103,AP109) | AQ9: =AP9/BQ9-1 | AR9: =SUM(AR13,AR19,AR25,AR31,AR37,AR43,AR49,AR55,AR61,AR67,AR73,AR79,AR85,AR91,AR97,AR103,AR109) | AS9: =AR9/BS9-1 | AT9: =SUM(AT13,AT19,AT25,AT31,AT37,AT43,AT49,AT55,AT61,AT67,AT73,AT79,AT85,AT91,AT97,AT103,AT109) | AU9: =AT9/BU9-1 | AV9: =X9+Z9+AB9+AD9+AF9+AH9+AJ9+AL9+AN9+AP9+AR9+AT9 | AW9: =AV9/SUM(AY9,BA9,BC9,BE9,BG9,BI9,BK9,BM9,BO9,BQ9,BS9,BU9)-1 | AY9: =SUM(AY13,AY19,AY25,AY31,AY37,AY43,AY49,AY55,AY61,AY67,AY73,AY79,AY85,AY91,AY97,AY103,AY109) | AZ9: =AY9/BZ9-1 | BA9: =SUM(BA13,BA19,BA25,BA31,BA37,BA43,BA49,BA55,BA61,BA67,BA73,BA79,BA85,BA91,BA97,BA103,BA109) | BB9: =BA9/CB9-1 | BC9: =SUM(BC13,BC19,BC25,BC31,BC37,BC43,BC49,BC55,BC61,BC67,BC73,BC79,BC85,BC91,BC97,BC103,BC109) | BD9: =BC9/CD9-1 | BE9: =SUM(BE13,BE19,BE25,BE31,BE37,BE43,BE49,BE55,BE61,BE67,BE73,BE79,BE85,BE91,BE97,BE103,BE109) | BF9: =BE9/CF9-1 | BG9: =SUM(BG13,BG19,BG25,BG31,BG37,BG43,BG49,BG55,BG61,BG67,BG73,BG79,BG85,BG91,BG97,BG103,BG109) | BH9: =BG9/CH9-1 | BI9: =SUM(BI13,BI19,BI25,BI31,BI37,BI43,BI49,BI55,BI61,BI67,BI73,BI79,BI85,BI91,BI97,BI103,BI109) | BJ9: =BI9/CJ9-1 | BK9: =SUM(BK13,BK19,BK25,BK31,BK37,BK43,BK49,BK55,BK61,BK67,BK73,BK79,BK85,BK91,BK97,BK103,BK109) | BL9: =BK9/CL9-1 | BM9: =SUM(BM13,BM19,BM25,BM31,BM37,BM43,BM49,BM55,BM61,BM67,BM73,BM79,BM85,BM91,BM97,BM103,BM109) | BN9: =BM9/CN9-1 | BO9: =SUM(BO13,BO19,BO25,BO31,BO37,BO43,BO49,BO55,BO61,BO67,BO73,BO79,BO85,BO91,BO97,BO103,BO109) | BP9: =BO9/CP9-1 | BQ9: =SUM(BQ13,BQ19,BQ25,BQ31,BQ37,BQ43,BQ49,BQ55,BQ61,BQ67,BQ73,BQ79,BQ85,BQ91,BQ97,BQ103,BQ109) | BR9: =BQ9/CR9-1 | BS9: =SUM(BS13,BS19,BS25,BS31,BS37,BS43,BS49,BS55,BS61,BS67,BS73,BS79,BS85,BS91,BS97,BS103,BS109) | BT9: =BS9/CT9-1 | BU9: =SUM(BU13,BU19,BU25,BU31,BU37,BU43,BU49,BU55,BU61,BU67,BU73,BU79,BU85,BU91,BU97,BU103,BU109) | BV9: =BU9/CV9-1 | BW9: =AY9+BA9+BC9+BE9+BG9+BI9+BK9+BM9+BO9+BQ9+BS9+BU9 | BX9: =BW9/SUM(BZ9,CB9,CD9,CF9,CH9,CJ9,CL9,CN9,CP9,CR9,CT9,CV9)-1 | BZ9: =SUM(BZ13,BZ19,BZ25,BZ31,BZ37,BZ43,BZ49,BZ55,BZ61,BZ67,BZ73,BZ79,BZ85,BZ91,BZ97,BZ103,BZ109) | CA9: =BZ9/DN9-1 | CB9: =SUM(CB13,CB19,CB25,CB31,CB37,CB43,CB49,CB55,CB61,CB67,CB73,CB79,CB85,CB91,CB97,CB103,CB109) | CC9: =CB9/DO9-1 | CD9: =SUM(CD13,CD19,CD25,CD31,CD37,CD43,CD49,CD55,CD61,CD67,CD73,CD79,CD85,CD91,CD97,CD103,CD109) | CE9: =CD9/DP9-1 | CF9: =SUM(CF13,CF19,CF25,CF31,CF37,CF43,CF49,CF55,CF61,CF67,CF73,CF79,CF85,CF91,CF97,CF103,CF109) | CG9: =CF9/DQ9-1 | CH9: =SUM(CH13,CH19,CH25,CH31,CH37,CH43,CH49,CH55,CH61,CH67,CH73,CH79,CH85,CH91,CH97,CH103,CH109) | CI9: =CH9/DR9-1 | CJ9: =SUM(CJ13,CJ19,CJ25,CJ31,CJ37,CJ43,CJ49,CJ55,CJ61,CJ67,CJ73,CJ79,CJ85,CJ91,CJ97,CJ103,CJ109) | CK9: =CJ9/DS9-1 | CL9: =SUM(CL13,CL19,CL25,CL31,CL37,CL43,CL49,CL55,CL61,CL67,CL73,CL79,CL85,CL91,CL97,CL103,CL109) | CM9: =CL9/DT9-1 | CN9: =SUM(CN13,CN19,CN25,CN31,CN37,CN43,CN49,CN55,CN61,CN67,CN73,CN79,CN85,CN91,CN97,CN103,CN109) | CO9: =CN9/DU9-1 | CP9: =SUM(CP13,CP19,CP25,CP31,CP37,CP43,CP49,CP55,CP61,CP67,CP73,CP79,CP85,CP91,CP97,CP103,CP109) | CQ9: =CP9/DV9-1 | CR9: =SUM(CR13,CR19,CR25,CR31,CR37,CR43,CR49,CR55,CR61,CR67,CR73,CR79,CR85,CR91,CR97,CR103,CR109) | CS9: =CR9/DW9-1 | CT9: =SUM(CT13,CT19,CT25,CT31,CT37,CT43,CT49,CT55,CT61,CT67,CT73,CT79,CT85,CT91,CT97,CT103,CT109) | CU9: =CT9/DY9-1 | CV9: =SUM(CV13,CV19,CV25,CV31,CV37,CV43,CV49,CV55,CV61,CV67,CV73,CV79,CV85,CV91,CV97,CV103,CV109) | CW9: =CV9/DY9-1 | CX9: =BZ9+CB9+CD9+CF9+CH9+CJ9+CL9+CN9+CP9+CR9+CT9+CV9 | CY9: =CX9/SUM(DN9:DY9)-1 | DA9: =CV9/CT9-1 | DB9: =CT9/CR9-1 | DC9: =CR9/CP9-1 | DD9: =CP9/CN9-1 | DE9: =CN9/CL9-1 | DF9: =CL9/CJ9-1 | DG9: =CJ9/CH9-1 | DH9: =CH9/CF9-1 | DI9: =CF9/CD9-1 | DJ9: =CD9/CB9-1 | DK9: =(CB9-BZ9)/BZ9 | DL9: =(BZ9-DY9)/DY9 | DN9: =SUM(DN13,DN19,DN25,DN31,DN37,DN43,DN49,DN55,DN61,DN67,DN73,DN79,DN85,DN91,DN97,DN103,DN109) | DO9: =SUM(DO13,DO19,DO25,DO31,DO37,DO43,DO49,DO55,DO61,DO67,DO73,DO79,DO85,DO91,DO97,DO103,DO109) | DP9: =SUM(DP13,DP19,DP25,DP31,DP37,DP43,DP49,DP55,DP61,DP67,DP73,DP79,DP85,DP91,DP97,DP103,DP109) | DQ9: =SUM(DQ13,DQ19,DQ25,DQ31,DQ37,DQ43,DQ49,DQ55,DQ61,DQ67,DQ73,DQ79,DQ85,DQ91,DQ97,DQ103,DQ109) | DR9: =SUM(DR13,DR19,DR25,DR31,DR37,DR43,DR49,DR55,DR61,DR67,DR73,DR79,DR85,DR91,DR97,DR103,DR109) | DS9: =SUM(DS13,DS19,DS25,DS31,DS37,DS43,DS49,DS55,DS61,DS67,DS73,DS79,DS85,DS91,DS97,DS103,DS109) | DT9: =SUM(DT13,DT19,DT25,DT31,DT37,DT43,DT49,DT55,DT61,DT67,DT73,DT79,DT85,DT91,DT97,DT103,DT109) | DU9: =SUM(DU13,DU19,DU25,DU31,DU37,DU43,DU49,DU55,DU61,DU67,DU73,DU79,DU85,DU91,DU97,DU103,DU109) | ... DY9: =SUM(DY13,DY19,DY25,DY31,DY37,DY43,DY49,DY55,DY61,DY67,DY73,DY79,DY85,DY91,DY97,DY103,DY109) | DZ9: -0.087795638 | EA9: =SUM(DN9:DY9) | EB9: =IFERROR(EA9/SUM(ED9:EO9)-1,"") | ED9: =SUM(ED13,ED19,ED25,ED31,ED37,ED43,ED49,ED55,ED61,ED67,ED73,ED79,ED85,ED91,ED97,ED103,ED109) | EE9: =SUM(EE13,EE19,EE25,EE31,EE37,EE43,EE49,EE55,EE61,EE67,EE73,EE79,EE85,EE91,EE97,EE103,EE109) | EF9: =SUM(EF13,EF19,EF25,EF31,EF37,EF43,EF49,EF55,EF61,EF67,EF73,EF79,EF85,EF91,EF97,EF103,EF109) | EG9: =SUM(EG13,EG19,EG25,EG31,EG37,EG43,EG49,EG55,EG61,EG67,EG73,EG79,EG85,EG91,EG97,EG103,EG109) | EH9: =SUM(EH13,EH19,EH25,EH31,EH37,EH43,EH49,EH55,EH61,EH67,EH73,EH79,EH85,EH91,EH97,EH103,EH109) | EI9: =SUM(EI13,EI19,EI25,EI31,EI37,EI43,EI49,EI55,EI61,EI67,EI73,EI79,EI85,EI91,EI97,EI103,EI109) | EJ9: =SUM(EJ13,EJ19,EJ25,EJ31,EJ37,EJ43,EJ49,EJ55,EJ61,EJ67,EJ73,EJ79,EJ85,EJ91,EJ97,EJ103,EJ109) | EK9: =SUM(EK13,EK19,EK25,EK31,EK37,EK43,EK49,EK55,EK61,EK67,EK73,EK79,EK85,EK91,EK97,EK103,EK109) | ... EO9: =SUM(EO13,EO19,EO25,EO31,EO37,EO43,EO49,EO55,EO61,EO67,EO73,EO79,EO85,EO91,EO97,EO103,EO109) | EP9: =SUM(ED9:EO9)
B10: 其中规下货物周转量 (万吨公里) | C10: 1672506.4 | D10: =C10/Z10-1 -> 0.2573508 | E10: 1049671.4 | F10: =E10/AB10-1 -> -0.1611881 | G10: 1617169.1 | H10: =G10/AD10-1 -> -0.046570369 | I10: 1688161.5 | J10: =I10/AF10-1 -> 0.00075458555 | K10: 1689902.9 | L10: =K10/AH10-1 -> 0.0063339478 | M10: 1562902.8 | N10: =M10/AJ10-1 -> 0.04406567 | O10: 1584647.1 | P10: =O10/AL10-1 -> -0.011121483 | Q10: 1700006.2 | R10: =Q10/AL10-1 -> 0.032644329 | T10: =S10/AN10-1 | U10: =C10+E10+G10+I10+K10+M10+O10+Q10+S10 | V10: =U10/SUM(X10,Z10,AB10,AD10,AF10,AH10,AJ10,AL10,AN10)-1 | X10: =SUM(X16,X22,X28,X34,X40,X46,X52,X58,X64,X70,X76,X82,X88,X94,X100,X106,X112) | Y10: =X10/AY10-1 | Z10: =SUM(Z16,Z22,Z28,Z34,Z40,Z46,Z52,Z58,Z64,Z70,Z76,Z82,Z88,Z94,Z100,Z106,Z112) | AA10: =Z10/BA10-1 | AB10: =SUM(AB16,AB22,AB28,AB34,AB40,AB46,AB52,AB58,AB64,AB70,AB76,AB82,AB88,AB94,AB100,AB106,AB112) | AC10: =AB10/BC10-1 | AD10: =SUM(AD16,AD22,AD28,AD34,AD40,AD46,AD52,AD58,AD64,AD70,AD76,AD82,AD88,AD94,AD100,AD106,AD112) | AE10: =AD10/BE10-1 | AF10: =SUM(AF16,AF22,AF28,AF34,AF40,AF46,AF52,AF58,AF64,AF70,AF76,AF82,AF88,AF94,AF100,AF106,AF112) | AG10: =AF10/BG10-1 | AH10: =SUM(AH16,AH22,AH28,AH34,AH40,AH46,AH52,AH58,AH64,AH70,AH76,AH82,AH88,AH94,AH100,AH106,AH112) | AI10: =AH10/BI10-1 | AJ10: =SUM(AJ16,AJ22,AJ28,AJ34,AJ40,AJ46,AJ52,AJ58,AJ64,AJ70,AJ76,AJ82,AJ88,AJ94,AJ100,AJ106,AJ112) | AK10: =AJ10/BK10-1 | AL10: =SUM(AL16,AL22,AL28,AL34,AL40,AL46,AL52,AL58,AL64,AL70,AL76,AL82,AL88,AL94,AL100,AL106,AL112) | AM10: =AL10/BM10-1 | AN10: =SUM(AN16,AN22,AN28,AN34,AN40,AN46,AN52,AN58,AN64,AN70,AN76,AN82,AN88,AN94,AN100,AN106,AN112) | AO10: =AN10/BO10-1 | AP10: =SUM(AP16,AP22,AP28,AP34,AP40,AP46,AP52,AP58,AP64,AP70,AP76,AP82,AP88,AP94,AP100,AP106,AP112) | AQ10: =AP10/BQ10-1 | AR10: =SUM(AR16,AR22,AR28,AR34,AR40,AR46,AR52,AR58,AR64,AR70,AR76,AR82,AR88,AR94,AR100,AR106,AR112) | AS10: =AR10/BS10-1 | AT10: =SUM(AT16,AT22,AT28,AT34,AT40,AT46,AT52,AT58,AT64,AT70,AT76,AT82,AT88,AT94,AT100,AT106,AT112) | AU10: =AT10/BU10-1 | AV10: =X10+Z10+AB10+AD10+AF10+AH10+AJ10+AL10+AN10+AP10+AR10+AT10 | AW10: =AV10/SUM(AY10,BA10,BC10,BE10,BG10,BI10,BK10,BM10,BO10,BQ10,BS10,BU10)-1 | AY10: =SUM(AY16,AY22,AY28,AY34,AY40,AY46,AY52,AY58,AY64,AY70,AY76,AY82,AY88,AY94,AY100,AY106,AY112) | AZ10: =AY10/BZ10-1 | BA10: =SUM(BA16,BA22,BA28,BA34,BA40,BA46,BA52,BA58,BA64,BA70,BA76,BA82,BA88,BA94,BA100,BA106,BA112) | BB10: =BA10/CB10-1 | BC10: =SUM(BC16,BC22,BC28,BC34,BC40,BC46,BC52,BC58,BC64,BC70,BC76,BC82,BC88,BC94,BC100,BC106,BC112) | BD10: =BC10/CD10-1 | BE10: =SUM(BE16,BE22,BE28,BE34,BE40,BE46,BE52,BE58,BE64,BE70,BE76,BE82,BE88,BE94,BE100,BE106,BE112) | BF10: =BE10/CF10-1 | BG10: =SUM(BG16,BG22,BG28,BG34,BG40,BG46,BG52,BG58,BG64,BG70,BG76,BG82,BG88,BG94,BG100,BG106,BG112) | BH10: =BG10/CH10-1 | BI10: =SUM(BI16,BI22,BI28,BI34,BI40,BI46,BI52,BI58,BI64,BI70,BI76,BI82,BI88,BI94,BI100,BI106,BI112) | BJ10: =BI10/CJ10-1 | BK10: =SUM(BK16,BK22,BK28,BK34,BK40,BK46,BK52,BK58,BK64,BK70,BK76,BK82,BK88,BK94,BK100,BK106,BK112) | BL10: =BK10/CL10-1 | BM10: =SUM(BM16,BM22,BM28,BM34,BM40,BM46,BM52,BM58,BM64,BM70,BM76,BM82,BM88,BM94,BM100,BM106,BM112) | BN10: =BM10/CN10-1 | BO10: =SUM(BO16,BO22,BO28,BO34,BO40,BO46,BO52,BO58,BO64,BO70,BO76,BO82,BO88,BO94,BO100,BO106,BO112) | BP10: =BO10/CP10-1 | BQ10: =SUM(BQ16,BQ22,BQ28,BQ34,BQ40,BQ46,BQ52,BQ58,BQ64,BQ70,BQ76,BQ82,BQ88,BQ94,BQ100,BQ106,BQ112) | BR10: =BQ10/CR10-1 | BS10: =SUM(BS16,BS22,BS28,BS34,BS40,BS46,BS52,BS58,BS64,BS70,BS76,BS82,BS88,BS94,BS100,BS106,BS112) | BT10: =BS10/CT10-1 | BU10: =SUM(BU16,BU22,BU28,BU34,BU40,BU46,BU52,BU58,BU64,BU70,BU76,BU82,BU88,BU94,BU100,BU106,BU112) | BV10: =BU10/CV10-1 | BW10: =AY10+BA10+BC10+BE10+BG10+BI10+BK10+BM10+BO10+BQ10+BS10+BU10 | BX10: =BW10/SUM(BZ10,CB10,CD10,CF10,CH10,CJ10,CL10,CN10,CP10,CR10,CT10,CV10)-1 | BZ10: =SUM(BZ16,BZ22,BZ28,BZ34,BZ40,BZ46,BZ52,BZ58,BZ64,BZ70,BZ76,BZ82,BZ88,BZ94,BZ100,BZ106,BZ112) | CA10: =BZ10/DN10-1 | CB10: =SUM(CB16,CB22,CB28,CB34,CB40,CB46,CB52,CB58,CB64,CB70,CB76,CB82,CB88,CB94,CB100,CB106,CB112) | CC10: =CB10/DO10-1 | CD10: =SUM(CD16,CD22,CD28,CD34,CD40,CD46,CD52,CD58,CD64,CD70,CD76,CD82,CD88,CD94,CD100,CD106,CD112) | CE10: =CD10/DP10-1 | CF10: =SUM(CF16,CF22,CF28,CF34,CF40,CF46,CF52,CF58,CF64,CF70,CF76,CF82,CF88,CF94,CF100,CF106,CF112) | CG10: =CF10/DQ10-1 | CH10: =SUM(CH16,CH22,CH28,CH34,CH40,CH46,CH52,CH58,CH64,CH70,CH76,CH82,CH88,CH94,CH100,CH106,CH112) | CI10: =CH10/DR10-1 | CJ10: =SUM(CJ16,CJ22,CJ28,CJ34,CJ40,CJ46,CJ52,CJ58,CJ64,CJ70,CJ76,CJ82,CJ88,CJ94,CJ100,CJ106,CJ112) | CK10: =CJ10/DS10-1 | CL10: =SUM(CL16,CL22,CL28,CL34,CL40,CL46,CL52,CL58,CL64,CL70,CL76,CL82,CL88,CL94,CL100,CL106,CL112) | CM10: =CL10/DT10-1 | CN10: =SUM(CN16,CN22,CN28,CN34,CN40,CN46,CN52,CN58,CN64,CN70,CN76,CN82,CN88,CN94,CN100,CN106,CN112) | CO10: =CN10/DU10-1 | CP10: =SUM(CP16,CP22,CP28,CP34,CP40,CP46,CP52,CP58,CP64,CP70,CP76,CP82,CP88,CP94,CP100,CP106,CP112) | CQ10: =CP10/DV10-1 | CR10: =SUM(CR16,CR22,CR28,CR34,CR40,CR46,CR52,CR58,CR64,CR70,CR76,CR82,CR88,CR94,CR100,CR106,CR112) | CS10: =CR10/DW10-1 | CT10: =SUM(CT16,CT22,CT28,CT34,CT40,CT46,CT52,CT58,CT64,CT70,CT76,CT82,CT88,CT94,CT100,CT106,CT112) | CU10: =CT10/DY10-1 | CV10: =SUM(CV16,CV22,CV28,CV34,CV40,CV46,CV52,CV58,CV64,CV70,CV76,CV82,CV88,CV94,CV100,CV106,CV112) | CW10: =CV10/DY10-1 | CX10: =BZ10+CB10+CD10+CF10+CH10+CJ10+CL10+CN10+CP10+CR10+CT10+CV10 | CY10: =CX10/SUM(DN10:DY10)-1 | DA10: =CV10/CT10-1 | DB10: =CT10/CR10-1 | DC10: =CR10/CP10-1 | DD10: =CP10/CN10-1 | DE10: =CN10/CL10-1 | DF10: =CL10/CJ10-1 | DG10: =CJ10/CH10-1 | DH10: =CH10/CF10-1 | DI10: =CF10/CD10-1 | DJ10: =CD10/CB10-1 | DK10: =(CB10-BZ10)/BZ10 | DL10: =(BZ10-DY10)/DY10 | DN10: =SUM(DN16,DN22,DN28,DN34,DN40,DN46,DN52,DN58,DN64,DN70,DN76,DN82,DN88,DN94,DN100,DN106,DN112) | DO10: =SUM(DO16,DO22,DO28,DO34,DO40,DO46,DO52,DO58,DO64,DO70,DO76,DO82,DO88,DO94,DO100,DO106,DO112) | DP10: =SUM(DP16,DP22,DP28,DP34,DP40,DP46,DP52,DP58,DP64,DP70,DP76,DP82,DP88,DP94,DP100,DP106,DP112) | DQ10: =SUM(DQ16,DQ22,DQ28,DQ34,DQ40,DQ46,DQ52,DQ58,DQ64,DQ70,DQ76,DQ82,DQ88,DQ94,DQ100,DQ106,DQ112) | DR10: =SUM(DR16,DR22,DR28,DR34,DR40,DR46,DR52,DR58,DR64,DR70,DR76,DR82,DR88,DR94,DR100,DR106,DR112) | DS10: =SUM(DS16,DS22,DS28,DS34,DS40,DS46,DS52,DS58,DS64,DS70,DS76,DS82,DS88,DS94,DS100,DS106,DS112) | DT10: =SUM(DT16,DT22,DT28,DT34,DT40,DT46,DT52,DT58,DT64,DT70,DT76,DT82,DT88,DT94,DT100,DT106,DT112) | DU10: =SUM(DU16,DU22,DU28,DU34,DU40,DU46,DU52,DU58,DU64,DU70,DU76,DU82,DU88,DU94,DU100,DU106,DU112) | ... DY10: =SUM(DY16,DY22,DY28,DY34,DY40,DY46,DY52,DY58,DY64,DY70,DY76,DY82,DY88,DY94,DY100,DY106,DY112) | DZ10: 0.00018941137 | EA10: =SUM(DN10:DY10) | EB10: =IFERROR(EA10/SUM(ED10:EO10)-1,"") | ED10: =SUM(ED16,ED22,ED28,ED34,ED40,ED46,ED52,ED58,ED64,ED70,ED76,ED82,ED88,ED94,ED100,ED106,ED112) | EE10: =SUM(EE16,EE22,EE28,EE34,EE40,EE46,EE52,EE58,EE64,EE70,EE76,EE82,EE88,EE94,EE100,EE106,EE112) | EF10: =SUM(EF16,EF22,EF28,EF34,EF40,EF46,EF52,EF58,EF64,EF70,EF76,EF82,EF88,EF94,EF100,EF106,EF112) | EG10: =SUM(EG16,EG22,EG28,EG34,EG40,EG46,EG52,EG58,EG64,EG70,EG76,EG82,EG88,EG94,EG100,EG106,EG112) | EH10: =SUM(EH16,EH22,EH28,EH34,EH40,EH46,EH52,EH58,EH64,EH70,EH76,EH82,EH88,EH94,EH100,EH106,EH112) | EI10: =SUM(EI16,EI22,EI28,EI34,EI40,EI46,EI52,EI58,EI64,EI70,EI76,EI82,EI88,EI94,EI100,EI106,EI112) | EJ10: =SUM(EJ16,EJ22,EJ28,EJ34,EJ40,EJ46,EJ52,EJ58,EJ64,EJ70,EJ76,EJ82,EJ88,EJ94,EJ100,EJ106,EJ112) | EK10: =SUM(EK16,EK22,EK28,EK34,EK40,EK46,EK52,EK58,EK64,EK70,EK76,EK82,EK88,EK94,EK100,EK106,EK112) | ... EO10: =SUM(EO16,EO22,EO28,EO34,EO40,EO46,EO52,EO58,EO64,EO70,EO76,EO82,EO88,EO94,EO100,EO106,EO112) | EP10: =SUM(ED10:EO10)
A11: 武汉市 | B11: 规上+规下货运量 (万吨) | C11: 5367.976 | D11: =C11/Z11-1 -> 0.15270283 | E11: 3325.2226 | F11: =E11/AB11-1 -> -0.17358272 | G11: 5045.5091 | H11: =G11/AD11-1 -> -0.046011972 | I11: 5344.9192 | J11: =I11/AF11-1 -> -0.021095289 | K11: 5241.1373 | L11: =K11/AH11-1 -> -0.00012572066 | M11: 5041.0422 | N11: =M11/AJ11-1 -> 0.039727842 | O11: 4940.9715 | P11: =O11/AL11-1 -> 0.012827398 | Q11: 5173.1802 | R11: =Q11/AL11-1 -> 0.059031681 | S11: 46266 | T11: 46266 | U11: =C11+E11+G11+I11+K11+M11+O11+Q11 | V11: =U11/SUM(X11,Z11,AB11,AD11,AF11,AH11,AJ11,AL11)-1 | X11: 4656.8602 | Y11: =X11/AY11-1 | Z11: 4023.6605 | AA11: =Z11/BA11-1 | AB11: 5288.86 | AC11: =AB11/BC11-1 | AD11: 5460.1016 | AE11: =AD11/BE11-1 | AF11: 5241.7963 | AG11: =AF11/BG11-1 | AH11: 4848.4248 | AI11: =AH11/BI11-1 | AJ11: 4878.3944 | AK11: =AJ11/BK11-1 | AL11: 4884.821 | AM11: =AL11/BM11-1 | AN11: 5013.4556 | AO11: =AN11/BO11-1 | AP11: 4807.0288 | AQ11: =AP11/BQ11-1 | AR11: 5151.9778 | AS11: =AR11/BS11-1 | AT11: 5606.9689 | AU11: =AT11/BU11-1 | AV11: =X11+Z11+AB11+AD11+AF11+AH11+AJ11+AL11+AN11+AP11+AR11+AT11 | AW11: =AV11/SUM(AY11,BA11,BC11,BE11,BG11,BI11,BK11,BM11,BO11,BQ11,BS11,BU11)-1 | AY11: 4874.2041 | AZ11: =AY11/BZ11-1 | BA11: 2461.2762 | BB11: =BA11/CB11-1 | BC11: 4666.8247 | BD11: =BC11/CD11-1 | BE11: 4940.2747 | BF11: =BE11/CF11-1 | BG11: 4827.6433 | BH11: =BG11/CH11-1 | BI11: 4483.673 | BJ11: =BI11/CJ11-1 | BK11: 4751.4256 | BL11: =BK11/CL11-1 | BM11: 4978.0158 | BN11: =BM11/CN11-1 | BO11: 5058.5262 | BP11: =BO11/CP11-1 | BQ11: 5050.7619 | BR11: =BQ11/CR11-1 | BS11: 5254.9143 | BT11: =BS11/CT11-1 | BU11: 5861.8276 | BV11: =BU11/CV11-1 | BW11: =AY11+BA11+BC11+BE11+BG11+BI11+BK11+BM11+BO11+BQ11+BS11+BU11 | BX11: =BW11/SUM(BZ11,CB11,CD11,CF11,CH11,CJ11,CL11,CN11,CP11,CR11,CT11,CV11)-1 | BZ11: 2984.8086 | CA11: =BZ11/DN11-1 | CB11: 3646.3604 | CC11: =CB11/DO11-1 | CD11: 4561.7315 | CE11: =CD11/DP11-1 | CF11: 4350.867 | CG11: =CF11/DQ11-1 | CH11: 4349.6792 | CI11: =CH11/DR11-1 | CJ11: 4380.4503 | CK11: =CJ11/DS11-1 | CL11: 4482.5934 | CM11: =CL11/DT11-1 | CN11: 4783.5962 | CO11: =CN11/DU11-1 | CP11: 4811.068 | CQ11: =CP11/DV11-1 | CR11: 4687.1456 | CS11: =CR11/DW11-1 | CT11: 4935.2178 | CU11: =CT11/DY11-1 | CV11: 5311.9935 | CW11: =CV11/DY11-1 | CX11: =BZ11+CB11+CD11+CF11+CH11+CJ11+CL11+CN11+CP11+CR11+CT11+CV11 | CY11: =CX11/SUM(DN11:DY11)-1 | DA11: =CV11/CT11-1 | DB11: =CT11/CR11-1 | DM11: 武汉市 | DN11: 3527.8941 | DO11: 2520.983 | DP11: 3983.1117 | DQ11: 3577.3787 | DR11: 3687.5669 | DS11: 3549.3472 | DT11: 3704.727 | DU11: 3775.5047 | DV11: 4236.5505 | DW11: 3935.667 | DX11: 4144.2516 | DY11: 4334.4264 | DZ11: -0.057195789 | EA11: =SUM(DN11:DY11) | EB11: =IFERROR(EA11/SUM(ED11:EO11)-1,"") | ED11: 4863.5297 | EE11: 2088.3234 | EF11: 3828.3068 | EG11: 4386.9744 | EH11: 4073.4711 | EI11: 4516.8977 | EJ11: 4020.7726 | EK11: 3939.6845 | EL11: 4321.4984 | EM11: 3983.3497 | EN11: 4732.901 | EO11: 4597.377 | EP11: =SUM(ED11:EO11)
B12: 规上货运量 (万吨) | C12: 1068.203 | D12: =C12/Z12-1 -> -0.36391234 | E12: 1082.0457 | F12: =E12/AB12-1 -> -0.31854184 | G12: 1315.4117 | H12: =G12/AD12-1 -> -0.20699314 | I12: 1395.7514 | J12: =I12/AF12-1 -> -0.18348528 | K12: 1404.6304 | L12: =K12/AH12-1 -> -0.16646907 | M12: 1411.5586 | N12: =M12/AJ12-1 -> -0.14816827 | O12: 1227.5499 | P12: =O12/AL12-1 -> 0.060076749 | Q12: 1167.8304 | R12: =Q12/AL12-1 -> 0.1062413 | T12: =S12/AN12-1 | U12: =C12+E12+G12+I12+K12+M12+O12+Q12+S12 | V12: =U12/SUM(X12,Z12,AB12,AD12,AF12,AH12,AJ12,AL12,AN12)-1 | X12: 1679.333 | Y12: =X12/AY12-1 | Z12: 1587.8388 | AA12: =Z12/BA12-1 | AB12: 1658.7646 | AC12: =AB12/BC12-1 | AD12: 1709.4014 | AE12: =AD12/BE12-1 | AF12: 1685.1569 | AG12: =AF12/BG12-1 | AH12: 1657.0862 | AI12: =AH12/BI12-1 | AJ12: 1157.9821 | AK12: =AJ12/BK12-1 | AL12: 1055.6742 | AM12: =AL12/BM12-1 | AN12: 1130.5905 | AO12: =AN12/BO12-1 | AP12: 1091.9593 | AQ12: =AP12/BQ12-1 | AR12: 1282.9303 | AS12: =AR12/BS12-1 | AT12: 1454.2056 | AU12: =AT12/BU12-1 | AV12: =X12+Z12+AB12+AD12+AF12+AH12+AJ12+AL12+AN12+AP12+AR12+AT12 | AW12: =AV12/SUM(AY12,BA12,BC12,BE12,BG12,BI12,BK12,BM12,BO12,BQ12,BS12,BU12)-1 | AY12: 1248.9741 | AZ12: =AY12/BZ12-1 | BA12: 890.9195 | BB12: =BA12/CB12-1 | BC12: 1150.0197 | BD12: =BC12/CD12-1 | BE12: 1396.8088 | BF12: =BE12/CF12-1 | BG12: 1336.3589 | BH12: =BG12/CH12-1 | BI12: 1364.4821 | BJ12: =BI12/CJ12-1 | BK12: 1466.8122 | BL12: =BK12/CL12-1 | BM12: 1537.9002 | BN12: =BM12/CN12-1 | BO12: 1482.234 | BP12: =BO12/CP12-1 | BQ12: 1501.2086 | BR12: =BQ12/CR12-1 | BS12: 1603.2823 | BT12: =BS12/CT12-1 | BU12: 1826.6492 | BV12: =BU12/CV12-1 | BW12: =AY12+BA12+BC12+BE12+BG12+BI12+BK12+BM12+BO12+BQ12+BS12+BU12 | BX12: =BW12/SUM(BZ12,CB12,CD12,CF12,CH12,CJ12,CL12,CN12,CP12,CR12,CT12,CV12)-1 | BZ12: 502.8711 | CA12: =BZ12/DN12-1 | CB12: 574.5986 | CC12: =CB12/DO12-1 | CD12: 663.6102 | CE12: =CD12/DP12-1 | CF12: 709.1734 | CG12: =CF12/DQ12-1 | CH12: 728.7535 | CI12: =CH12/DR12-1 | CJ12: 704.4881 | CK12: =CJ12/DS12-1 | CL12: 781.3303 | CM12: =CL12/DT12-1 | CN12: 819.1662 | CO12: =CN12/DU12-1 | CP12: 816.3959 | CQ12: =CP12/DV12-1 | CR12: 865.0056 | CS12: =CR12/DW12-1 | CT12: 875.7366 | CU12: =CT12/DY12-1 | CV12: 911.8235 | CW12: =CV12/DY12-1 | CX12: =BZ12+CB12+CD12+CF12+CH12+CJ12+CL12+CN12+CP12+CR12+CT12+CV12 | CY12: =CX12/SUM(DN12:DY12)-1 | DA12: =CV12/CT12-1 | DB12: =CT12/CR12-1 | DN12: 197.5861 | DO12: 170.6634 | DP12: 202.72 | DQ12: 173.4475 | DR12: 175.6111 | DS12: 179.1164 | DT12: 195.5276 | DU12: 181.8021 | DV12: 185.9725 | DW12: 175.8374 | DX12: 156.2715 | DY12: 191.4624 | DZ12: -0.17101454 | EA12: =SUM(DN12:DY12) | EB12: =IFERROR(EA12/SUM(ED12:EO12)-1,"") | ED12: 281.7984 | EE12: 158.6914 | EF12: 244.86636 | EG12: 240.82636 | EH12: 236.0501 | EI12: 226.246 | EJ12: 223.3899 | EK12: 183.2319 | EL12: 195.7 | EM12: 209.6869 | EN12: 221.6277 | EO12: 230.9599 | EP12: =SUM(ED12:EO12)
B13: 规下货运量 (万吨) | C13: 4299.773 | D13: =C13/Z13-1 -> 0.44407512 | E13: 2243.1769 | F13: =E13/AB13-1 -> -0.079088227 | G13: 3730.0974 | H13: =G13/AD13-1 -> 0.027548044 | I13: 3949.1678 | J13: =I13/AF13-1 -> 0.052914806 | K13: 3836.5069 | L13: =K13/AH13-1 -> 0.078688746 | M13: 3629.4836 | N13: =M13/AJ13-1 -> 0.13729194 | O13: 3713.4216 | P13: =O13/AL13-1 -> -0.0018790103 | Q13: 4005.3498 | R13: =Q13/AL13-1 -> 0.046016254 | T13: =S13/AN13-1 | U13: =C13+E13+G13+I13+K13+M13+O13+Q13+S13 | V13: =U13/SUM(X13,Z13,AB13,AD13,AF13,AH13,AJ13,AL13,AN13)-1 | X13: 2977.5272 | Y13: =X13/AY13-1 | Z13: 2435.8217 | AA13: =Z13/BA13-1 | AB13: 3630.0954 | AC13: =AB13/BC13-1 | AD13: 3750.7002 | AE13: =AD13/BE13-1 | AF13: 3556.6394 | AG13: =AF13/BG13-1 | AH13: 3191.3386 | AI13: =AH13/BI13-1 | AJ13: 3720.4123 | AK13: =AJ13/BK13-1 | AL13: 3829.1468 | AM13: =AL13/BM13-1 | AN13: 3882.8651 | AO13: =AN13/BO13-1 | AP13: 3715.0695 | AQ13: =AP13/BQ13-1 | AR13: 3869.0475 | AS13: =AR13/BS13-1 | AT13: 4152.7633 | AU13: =AT13/BU13-1 | AV13: =X13+Z13+AB13+AD13+AF13+AH13+AJ13+AL13+AN13+AP13+AR13+AT13 | AW13: =AV13/SUM(AY13,BA13,BC13,BE13,BG13,BI13,BK13,BM13,BO13,BQ13,BS13,BU13)-1 | AY13: 3625.23 | AZ13: =AY13/BZ13-1 | BA13: 1570.3567 | BB13: =BA13/CB13-1 | BC13: 3516.805 | BD13: =BC13/CD13-1 | BE13: 3543.4659 | BF13: =BE13/CF13-1 | BG13: 3491.2844 | BH13: =BG13/CH13-1 | BI13: 3119.1909 | BJ13: =BI13/CJ13-1 | BK13: 3284.6134 | BL13: =BK13/CL13-1 | BM13: 3440.1156 | BN13: =BM13/CN13-1 | BO13: 3576.2922 | BP13: =BO13/CP13-1 | BQ13: 3549.5533 | BR13: =BQ13/CR13-1 | BS13: 3651.632 | BT13: =BS13/CT13-1 | BU13: 4035.1784 | BV13: =BU13/CV13-1 | BW13: =AY13+BA13+BC13+BE13+BG13+BI13+BK13+BM13+BO13+BQ13+BS13+BU13 | BX13: =BW13/SUM(BZ13,CB13,CD13,CF13,CH13,CJ13,CL13,CN13,CP13,CR13,CT13,CV13)-1 | BZ13: 2481.9375 | CA13: =BZ13/DN13-1 | CB13: 3071.7618 | CC13: =CB13/DO13-1 | CD13: 3898.1213 | CE13: =CD13/DP13-1 | CF13: 3641.6936 | CG13: =CF13/DQ13-1 | CH13: 3620.9257 | CI13: =CH13/DR13-1 | CJ13: 3675.9622 | CK13: =CJ13/DS13-1 | CL13: 3701.2631 | CM13: =CL13/DT13-1 | CN13: 3964.43 | CO13: =CN13/DU13-1 | CP13: 3994.6721 | CQ13: =CP13/DV13-1 | CR13: 3822.14 | CS13: =CR13/DW13-1 | CT13: 4059.4812 | CU13: =CT13/DY13-1 | CV13: 4400.17 | CW13: =CV13/DY13-1 | CX13: =BZ13+CB13+CD13+CF13+CH13+CJ13+CL13+CN13+CP13+CR13+CT13+CV13 | CY13: =CX13/SUM(DN13:DY13)-1 | DA13: =CV13/CT13-1 | DB13: =CT13/CR13-1 | DN13: 3330.308 | DO13: 2350.3196 | DP13: 3780.3917 | DQ13: 3403.9312 | DR13: 3511.9558 | DS13: 3370.2308 | DT13: 3509.1994 | DU13: 3593.7026 | DV13: 4050.578 | DW13: 3759.8296 | DX13: 3987.9801 | DY13: 4142.964 | DZ13: -0.051175392 | EA13: =SUM(DN13:DY13) | EB13: =IFERROR(EA13/SUM(ED13:EO13)-1,"") | ED13: 4581.7313 | EE13: 1929.632 | EF13: 3583.4404 | EG13: 4146.1481 | EH13: 3837.421 | EI13: 4290.6517 | EJ13: 3797.3827 | EK13: 3756.4526 | EL13: 4125.7984 | EM13: 3773.6628 | EN13: 4511.2733 | EO13: 4366.4171 | EP13: =SUM(ED13:EO13)
B14: 规上+规下周转量 (万吨公里) | C14: =C15+C16 -> 687807.49 | D14: =C14/Z14-1 -> 0.11512203 | E14: =E15+E16 -> 459304.08 | F14: =E14/AB14-1 -> -0.17744664 | G14: =G15+G16 -> 675053.06 | H14: =G14/AD14-1 -> -0.043102128 | I14: =I15+I16 -> 704560.76 | J14: =I14/AF14-1 -> -0.015545996 | K14: =K15+K16 -> 714138.9 | L14: =K14/AH14-1 -> -0.012854581 | M14: =M15+M16 -> 687103.88 | N14: =M14/AJ14-1 -> 0.013855721 | O14: =O15+O16 -> 667561.37 | P14: =O14/AL14-1 -> 0.007630684 | Q14: =Q15+Q16 -> 696690.14 | R14: =Q14/AL14-1 -> 0.056392043 | S14: =S15+S16 | T14: =S14/AN14-1 | U14: =C14+E14+G14+I14+K14+M14+O14+Q14+S14 | V14: =U14/SUM(X14,Z14,AB14,AD14,AF14,AH14,AJ14,AL14,AN14)-1 | X14: =X15+X16 | Y14: =X14/AY14-1 | Z14: =Z15+Z16 | AA14: =Z14/BA14-1 | AB14: =AB15+AB16 | AC14: =AB14/BC14-1 | AD14: =AD15+AD16 | AE14: =AD14/BE14-1 | AF14: =AF15+AF16 | AG14: =AF14/BG14-1 | AH14: =AH15+AH16 | AI14: =AH14/BI14-1 | AJ14: =AJ15+AJ16 | AK14: =AJ14/BK14-1 | AL14: =AL15+AL16 | AM14: =AL14/BM14-1 | AN14: =AN15+AN16 | AO14: =AN14/BO14-1 | AP14: =AP15+AP16 | AQ14: =AP14/BQ14-1 | AR14: =AR15+AR16 | AS14: =AR14/BS14-1 | AT14: =AT15+AT16 | AU14: =AT14/BU14-1 | AV14: =X14+Z14+AB14+AD14+AF14+AH14+AJ14+AL14+AN14+AP14+AR14+AT14 | AW14: =AV14/SUM(AY14,BA14,BC14,BE14,BG14,BI14,BK14,BM14,BO14,BQ14,BS14,BU14)-1 | AY14: =AY15+AY16 | AZ14: =AY14/BZ14-1 | BA14: =BA15+BA16 | BB14: =BA14/CB14-1 | BC14: =BC15+BC16 | BD14: =BC14/CD14-1 | BE14: =BE15+BE16 | BF14: =BE14/CF14-1 | BG14: =BG15+BG16 | BH14: =BG14/CH14-1 | BI14: =BI15+BI16 | BJ14: =BI14/CJ14-1 | BK14: =BK15+BK16 | BL14: =BK14/CL14-1 | BM14: =BM15+BM16 | BN14: =BM14/CN14-1 | BO14: =BO15+BO16 | BP14: =BO14/CP14-1 | BQ14: =BQ15+BQ16 | BR14: =BQ14/CR14-1 | BS14: =BS15+BS16 | BT14: =BS14/CT14-1 | BU14: =BU15+BU16 | BV14: =BU14/CV14-1 | BW14: =AY14+BA14+BC14+BE14+BG14+BI14+BK14+BM14+BO14+BQ14+BS14+BU14 | BX14: =BW14/SUM(BZ14,CB14,CD14,CF14,CH14,CJ14,CL14,CN14,CP14,CR14,CT14,CV14)-1 | BZ14: =BZ15+BZ16 | CA14: =BZ14/DN14-1 | CB14: =CB15+CB16 | CC14: =CB14/DO14-1 | CD14: =SUM(CD15:CD16) | CE14: =CD14/DP14-1 | CF14: 597187.86 | CG14: =CF14/DQ14-1 | CH14: 612547.13 | CI14: =CH14/DR14-1 | CJ14: =CJ15+CJ16 | CK14: =CJ14/DS14-1 | CL14: =CL15+CL16 | CM14: =CL14/DT14-1 | CN14: 656799.19 | CO14: =CN14/DU14-1 | CP14: =SUM(CP15:CP16) | CQ14: =CP14/DV14-1 | CR14: =SUM(CR15:CR16) | CS14: =CR14/DW14-1 | CT14: =CT15+CT16 | CU14: =CT14/DY14-1 | CV14: =CV15+CV16 | CW14: =CV14/DY14-1 | CX14: =BZ14+CB14+CD14+CF14+CH14+CJ14+CL14+CN14+CP14+CR14+CT14+CV14 | CY14: =CX14/SUM(DN14:DY14)-1 | DA14: =CV14/CT14-1 | DB14: =CT14/CR14-1 | DE14: =CX7/CX5 | DN14: 519815.51 | DO14: 360327.36 | DP14: 527130.31 | DQ14: 504396.57 | DR14: 515752.5 | DS14: 492083.41 | DT14: 509065.59 | DU14: 520493.1 | DV14: 594403.79 | DW14: 586210.21 | DX14: 591294.48 | DY14: 608823.5 | DZ14: 0.016112404 | EA14: =SUM(DN14:DY14) | EB14: =IFERROR(EA14/SUM(ED14:EO14)-1,"") | ED14: =ED15+ED16 | EE14: =EE15+EE16 | EF14: =EF15+EF16 | EG14: =EG15+EG16 | EH14: =EH15+EH16 | EI14: =EI15+EI16 | EJ14: =EJ15+EJ16 | EK14: =EK15+EK16 | ... EO14: =EO15+EO16 | EP14: =SUM(ED14:EO14)
B15: 规上货物周转量 (万吨公里) | C15: 165332.61 | D15: =C15/Z15-1 -> -0.26114537 | E15: 149830.21 | F15: =E15/AB15-1 -> -0.30555906 | G15: 212998.43 | H15: =G15/AD15-1 -> -0.065928501 | I15: 227544.83 | J15: =I15/AF15-1 -> -0.016440863 | K15: 238395.12 | L15: =K15/AH15-1 -> 0.013506732 | M15: 241659.53 | N15: =M15/AJ15-1 -> -0.0077224221 | O15: 204809.56 | P15: =O15/AL15-1 -> 0.22325109 | Q15: 192320.52 | R15: =Q15/AL15-1 -> 0.33346425 | T15: =S15/AN15-1 | U15: =C15+E15+G15+I15+K15+M15+O15+Q15+S15 | V15: =U15/SUM(X15,Z15,AB15,AD15,AF15,AH15,AJ15,AL15,AN15)-1 | X15: 223768.79 | Y15: =X15/AY15-1 | Z15: 215756.59 | AA15: =Z15/BA15-1 | AB15: 228032.26 | AC15: =AB15/BC15-1 | AD15: 231348.39 | AE15: =AD15/BE15-1 | AF15: 235218.1 | AG15: =AF15/BG15-1 | AH15: 243540.25 | AI15: =AH15/BI15-1 | AJ15: 167430.52 | AK15: =AJ15/BK15-1 | AL15: 144226.23 | AM15: =AL15/BM15-1 | AN15: 162619.79 | AO15: =AN15/BO15-1 | AP15: 154248.88 | AQ15: =AP15/BQ15-1 | AR15: 189963.88 | AS15: =AR15/BS15-1 | AT15: 228375.1 | AU15: =AT15/BU15-1 | AV15: =X15+Z15+AB15+AD15+AF15+AH15+AJ15+AL15+AN15+AP15+AR15+AT15 | AW15: =AV15/SUM(AY15,BA15,BC15,BE15,BG15,BI15,BK15,BM15,BO15,BQ15,BS15,BU15)-1 | AY15: 180170.6 | AZ15: =AY15/BZ15-1 | BA15: 129426.48 | BB15: =BA15/CB15-1 | BC15: 159012.94 | BD15: =BC15/CD15-1 | BE15: 173812.2 | BF15: =BE15/CF15-1 | BG15: 173696.43 | BH15: =BG15/CH15-1 | BI15: 179078.9 | BJ15: =BI15/CJ15-1 | BK15: 202542.11 | BL15: =BK15/CL15-1 | BM15: 205470.09 | BN15: =BM15/CN15-1 | BO15: 205997.13 | BP15: =BO15/CP15-1 | BQ15: 203771.58 | BR15: =BQ15/CR15-1 | BS15: 221023.49 | BT15: =BS15/CT15-1 | BU15: 294139.99 | BV15: =BU15/CV15-1 | BW15: =AY15+BA15+BC15+BE15+BG15+BI15+BK15+BM15+BO15+BQ15+BS15+BU15 | BX15: =BW15/SUM(BZ15,CB15,CD15,CF15,CH15,CJ15,CL15,CN15,CP15,CR15,CT15,CV15)-1 | BZ15: 82056.639 | CA15: =BZ15/DN15-1 | CB15: 83946.71 | CC15: =CB15/DO15-1 | CD15: 95454.96 | CE15: =CD15/DP15-1 | CF15: 102624.04 | CG15: =CF15/DQ15-1 | CH15: 109978.63 | CI15: =CH15/DR15-1 | CJ15: 119972.11 | CK15: =CJ15/DS15-1 | CL15: 131297.07 | CM15: =CL15/DT15-1 | CN15: 135080.99 | CO15: =CN15/DU15-1 | CP15: 137003.91 | CQ15: =CP15/DV15-1 | CR15: 140386.45 | CS15: =CR15/DW15-1 | CT15: 145724.56 | CU15: =CT15/DY15-1 | CV15: 155520.78 | CW15: =CV15/DY15-1 | CX15: =BZ15+CB15+CD15+CF15+CH15+CJ15+CL15+CN15+CP15+CR15+CT15+CV15 | CY15: =CX15/SUM(DN15:DY15)-1 | DA15: =CV15/CT15-1 | DB15: =CT15/CR15-1 | DE15: =CX8/CX6 | DN15: 31664.369 | DO15: 29056.004 | DP15: 31802.224 | DQ15: 26432.653 | DR15: 28521.518 | DS15: 28991.72 | DT15: 30005.449 | DU15: 28472.126 | DV15: 28179.364 | DW15: 27965.431 | DX15: 24611.36 | DY15: 30880.499 | DZ15: -0.089590155 | EA15: =SUM(DN15:DY15) | EB15: =IFERROR(EA15/SUM(ED15:EO15)-1,"") | ED15: 43194.122 | EE15: 28235.53 | EF15: 37322.587 | EG15: 35839.149 | EH15: 34720.017 | EI15: 34634.98 | EJ15: 33474.004 | EK15: 31149.232 | EL15: 32160.23 | EM15: 32968.479 | EN15: 34644.534 | EO15: 33919.338 | EP15: =SUM(ED15:EO15)
B16: 规下货物周转量 (万吨公里) | C16: 522474.89 | D16: =C16/Z16-1 -> 0.32934638 | E16: 309473.87 | F16: =E16/AB16-1 -> -0.096773694 | G16: 462054.63 | H16: =G16/AD16-1 -> -0.03219964 | I16: 477015.93 | J16: =I16/AF16-1 -> -0.015118555 | K16: 475743.78 | L16: =K16/AH16-1 -> -0.025555114 | M16: 445444.36 | N16: =M16/AJ16-1 -> 0.025959517 | O16: 462751.81 | P16: =O16/AL16-1 -> -0.06529039 | Q16: 504369.61 | R16: =Q16/AL16-1 -> -0.021161121 | T16: =S16/AN16-1 | U16: =C16+E16+G16+I16+K16+M16+O16+Q16+S16 | V16: =U16/SUM(X16,Z16,AB16,AD16,AF16,AH16,AJ16,AL16,AN16)-1 | X16: 393031.41 | Y16: =X16/AY16-1 | Z16: 342631.6 | AA16: =Z16/BA16-1 | AB16: 477427.62 | AC16: =AB16/BC16-1 | AD16: 484338.43 | AE16: =AD16/BE16-1 | AF16: 488220.3 | AG16: =AF16/BG16-1 | AH16: 434173.42 | AI16: =AH16/BI16-1 | AJ16: 495075.48 | AK16: =AJ16/BK16-1 | AL16: 515273.38 | AM16: =AL16/BM16-1 | AN16: 529763.85 | AO16: =AN16/BO16-1 | AP16: 489544.51 | AQ16: =AP16/BQ16-1 | AR16: 476161.56 | AS16: =AR16/BS16-1 | AT16: 493249.5 | AU16: =AT16/BU16-1 | AV16: =X16+Z16+AB16+AD16+AF16+AH16+AJ16+AL16+AN16+AP16+AR16+AT16 | AW16: =AV16/SUM(AY16,BA16,BC16,BE16,BG16,BI16,BK16,BM16,BO16,BQ16,BS16,BU16)-1 | AY16: 456907.86 | AZ16: =AY16/BZ16-1 | BA16: 233539.54 | BB16: =BA16/CB16-1 | BC16: 460898.08 | BD16: =BC16/CD16-1 | BE16: 460477.13 | BF16: =BE16/CF16-1 | BG16: 472875.68 | BH16: =BG16/CH16-1 | BI16: 421365.25 | BJ16: =BI16/CJ16-1 | BK16: 435988.41 | BL16: =BK16/CL16-1 | BM16: 457113.69 | BN16: =BM16/CN16-1 | BO16: 478400.85 | BP16: =BO16/CP16-1 | BQ16: 481074.92 | BR16: =BQ16/CR16-1 | BS16: 473778.51 | BT16: =BS16/CT16-1 | BU16: 495292.45 | BV16: =BU16/CV16-1 | BW16: =AY16+BA16+BC16+BE16+BG16+BI16+BK16+BM16+BO16+BQ16+BS16+BU16 | BX16: =BW16/SUM(BZ16,CB16,CD16,CF16,CH16,CJ16,CL16,CN16,CP16,CR16,CT16,CV16)-1 | BZ16: 378334.75 | CA16: =BZ16/DN16-1 | CB16: 438823.74 | CC16: =CB16/DO16-1 | CD16: 525538.1 | CE16: =CD16/DP16-1 | CF16: 494563.82 | CG16: =CF16/DQ16-1 | CH16: 502568.5 | CI16: =CH16/DR16-1 | CJ16: 487501.57 | CK16: =CJ16/DS16-1 | CL16: 489756.4 | CM16: =CL16/DT16-1 | CN16: 521718.21 | CO16: =CN16/DU16-1 | CP16: 542958.29 | CQ16: =CP16/DV16-1 | CR16: 515928.64 | CS16: =CR16/DW16-1 | CT16: 528159.16 | CU16: =CT16/DY16-1 | CV16: 563216.53 | CW16: =CV16/DY16-1 | CX16: =BZ16+CB16+CD16+CF16+CH16+CJ16+CL16+CN16+CP16+CR16+CT16+CV16 | CY16: =CX16/SUM(DN16:DY16)-1 | DA16: =CV16/CT16-1 | DB16: =CT16/CR16-1 | DN16: 488151.14 | DO16: 331271.36 | DP16: 495328.09 | DQ16: 477963.92 | DR16: 487230.98 | DS16: 463091.69 | DT16: 479060.14 | DU16: 492020.97 | DV16: 566224.42 | DW16: 558244.78 | DX16: 566683.12 | DY16: 577943 | DZ16: 0.022455368 | EA16: =SUM(DN16:DY16) | EB16: =IFERROR(EA16/SUM(ED16:EO16)-1,"") | ED16: 639269.43 | EE16: 322682.26 | EF16: 470399.43 | EG16: 528325.35 | EH16: 505694.1 | EI16: 548627.74 | EJ16: 492049.95 | EK16: 526394.1 | EL16: 569654.95 | EM16: 504832.07 | EN16: 593432.62 | EO16: 565250.1 | EP16: =SUM(ED16:EO16)
A17: 黄石市 | B17: 规上+规下货运量 (万吨) | C17: 569.93509 | D17: =C17/Z17-1 -> 0.18580127 | E17: 411.12461 | F17: =E17/AB17-1 -> -0.15805594 | G17: 559.37453 | H17: =G17/AD17-1 -> -0.040545363 | I17: 632.22243 | J17: =I17/AF17-1 -> -0.013942318 | K17: 628.24764 | L17: =K17/AH17-1 -> -0.0020484893 | M17: 601.69526 | N17: =M17/AJ17-1 -> 0.043227688 | O17: 560.58694 | P17: =O17/AL17-1 -> 0.0042473292 | Q17: 589.583 | R17: =Q17/AL17-1 -> 0.030799631 | T17: =S17/AN17-1 | U17: =C17+E17+G17+I17+K17+M17+O17+Q17+S17 | V17: =U17/SUM(X17,Z17,AB17,AD17,AF17,AH17,AJ17,AL17,AN17)-1 | X17: 480.63289 | Y17: =X17/AY17-1 | Z17: 488.30395 | AA17: =Z17/BA17-1 | AB17: 583.013 | AC17: =AB17/BC17-1 | AD17: 641.16171 | AE17: =AD17/BE17-1 | AF17: 629.53724 | AG17: =AF17/BG17-1 | AH17: 576.76312 | AI17: =AH17/BI17-1 | AJ17: 558.21601 | AK17: =AJ17/BK17-1 | AL17: 571.96664 | AM17: =AL17/BM17-1 | AN17: 580.2096 | AO17: =AN17/BO17-1 | AP17: 557.14353 | AQ17: =AP17/BQ17-1 | AR17: 582.4312 | AS17: =AR17/BS17-1 | AT17: 592.65485 | AU17: =AT17/BU17-1 | AV17: =X17+Z17+AB17+AD17+AF17+AH17+AJ17+AL17+AN17+AP17+AR17+AT17 | AW17: =AV17/SUM(AY17,BA17,BC17,BE17,BG17,BI17,BK17,BM17,BO17,BQ17,BS17,BU17)-1 | AY17: 525.21427 | AZ17: =AY17/BZ17-1 | BA17: 324.71209 | BB17: =BA17/CB17-1 | BC17: 525.91806 | BD17: =BC17/CD17-1 | BE17: 604.23437 | BF17: =BE17/CF17-1 | BG17: 613.67149 | BH17: =BG17/CH17-1 | BI17: 553.29103 | BJ17: =BI17/CJ17-1 | BK17: 547.75775 | BL17: =BK17/CL17-1 | BM17: 575.35012 | BN17: =BM17/CN17-1 | BO17: 563.30586 | BP17: =BO17/CP17-1 | BQ17: 557.8774 | BR17: =BQ17/CR17-1 | BS17: 564.73641 | BT17: =BS17/CT17-1 | BU17: 604.18924 | BV17: =BU17/CV17-1 | BW17: =AY17+BA17+BC17+BE17+BG17+BI17+BK17+BM17+BO17+BQ17+BS17+BU17 | BX17: =BW17/SUM(BZ17,CB17,CD17,CF17,CH17,CJ17,CL17,CN17,CP17,CR17,CT17,CV17)-1 | BZ17: 299.50032 | CA17: =BZ17/DN17-1 | CB17: 435.59366 | CC17: =CB17/DO17-1 | CD17: 504.31431 | CE17: =CD17/DP17-1 | CF17: 538.35025 | CG17: =CF17/DQ17-1 | CH17: 552.5703 | CI17: =CH17/DR17-1 | CJ17: 545.57251 | CK17: =CJ17/DS17-1 | CL17: 525.97666 | CM17: =CL17/DT17-1 | CN17: 564.60231 | CO17: =CN17/DU17-1 | CP17: 532.51459 | CQ17: =CP17/DV17-1 | CR17: 538.89574 | CS17: =CR17/DW17-1 | CT17: 551.03161 | CU17: =CT17/DY17-1 | CV17: 543.48886 | CW17: =CV17/DY17-1 | CX17: =BZ17+CB17+CD17+CF17+CH17+CJ17+CL17+CN17+CP17+CR17+CT17+CV17 | CY17: =CX17/SUM(DN17:DY17)-1 | DA17: =CV17/CT17-1 | DB17: =CT17/CR17-1 | DN17: 365.84215 | DO17: 331.68997 | DP17: 470.75145 | DQ17: 442.85037 | DR17: 465.29276 | DS17: 431.81911 | DT17: 446.02937 | DU17: 478.72302 | DV17: 489.06827 | DW17: 474.98413 | DX17: 496.7457 | DY17: 487.37921 | DZ17: -0.063625183 | EA17: =SUM(DN17:DY17) | EB17: =IFERROR(EA17/SUM(ED17:EO17)-1,"") | ED17: 509.03783 | EE17: 283.56333 | EF17: 467.80407 | EG17: 518.02636 | EH17: 533.24037 | EI17: 581.70238 | EJ17: 525.40355 | EK17: 533.48166 | EL17: 516.57371 | EM17: 489.23075 | EN17: 531.03331 | EO17: 520.49585 | EP17: =SUM(ED17:EO17)
