Workbook

Sheet 铁路
B1: 日期 | C1: 铁路发送旅客 （万人次） | I1: 铁路发送旅客累计 （万人次）
C2: 2026年 | D2: 环比 | E2: 2025年 | F2: 同比2025 | G2: 2024年 | H2: 同比2024 | I2: 2026年累计 | J2: 累计同比2025 | K2: 累计同比2024
A3: 第1日 | B3: 46296 | D3: - | E3: 104.5 | F3: =C3/E3-1 -> -1 | G3: 98.6 | H3: =C3/G3-1 -> -1 | I3: =SUM($C$3:C3) -> 0 | J3: =I3/SUM($E$3:E3)-1 -> -1 | K3: =I3/SUM($G$3:G3)-1 -> -1
A4: 第2日 | B4: 46297 | D4: =(C4-C3)/C3 -> #DIV/0! | E4: 80.6 | F4: =C4/E4-1 -> -1 | G4: 79.5 | H4: =C4/G4-1 -> -1 | I4: =SUM($C$3:C4) -> 0 | J4: =I4/SUM($E$3:E4)-1 -> -1 | K4: =I4/SUM($G$3:G4)-1 -> -1
A5: 第3日 | B5: 46298 | D5: =(C5-C4)/C4 -> #DIV/0! | E5: 72.3 | F5: =C5/E5-1 -> -1 | G5: 70.6 | H5: =C5/G5-1 -> -1 | I5: =SUM($C$3:C5) -> 0 | J5: =I5/SUM($E$3:E5)-1 -> -1 | K5: =I5/SUM($G$3:G5)-1 -> -1
A6: 第4日 | B6: 46299 | D6: =(C6-C5)/C5 -> #DIV/0! | E6: 73.6 | F6: =C6/E6-1 -> -1 | G6: 72 | H6: =C6/G6-1 -> -1 | I6: =SUM($C$3:C6) -> 0 | J6: =I6/SUM($E$3:E6)-1 -> -1 | K6: =I6/SUM($G$3:G6)-1 -> -1
A7: 第5日 | B7: 46300 | D7: =(C7-C6)/C6 -> #DIV/0! | E7: 73.6 | F7: =C7/E7-1 -> -1 | G7: 78.2 | H7: =C7/G7-1 -> -1 | I7: =SUM($C$3:C7) -> 0 | J7: =I7/SUM($E$3:E7)-1 -> -1 | K7: =I7/SUM($G$3:G7)-1 -> -1
A8: 第6日 | B8: 46301 | D8: =(C8-C7)/C7 -> #DIV/0! | E8: 75.2 | F8: =C8/E8-1 -> -1 | G8: 82.6 | H8: =C8/G8-1 -> -1 | I8: =SUM($C$3:C8) -> 0 | J8: =I8/SUM($E$3:E8)-1 -> -1 | K8: =I8/SUM($G$3:G8)-1 -> -1
A9: 第7日 | B9: 46302 | D9: =(C9-C8)/C8 -> #DIV/0! | E9: 85.3 | F9: =C9/E9-1 -> -1 | G9: 91 | H9: =C9/G9-1 -> -1 | I9: =SUM($C$3:C9) -> 0 | J9: =I9/SUM($E$3:E9)-1 -> -1 | K9: =I9/SUM($G$3:G9)-1 -> -1
A10: 第8日 | B10: 46303 | C10: - | D10: - | E10: 95.8 | F10: - | G10: - | H10: -
A11: 日均 | C11: =SUM(C3:C9)/7 -> 0 | D11: - | E11: =SUM(E3:E10)/8 -> 82.6125 | F11: =C11/E11-1 -> -1 | G11: =SUM(G3:G9)/7 -> 81.785714 | H11: =C11/G11-1 -> -1

Sheet 民航
B1: 日期 | C1: 民航发送旅客 （万人次） | I1: 民航发送旅客累计 （万人次）
C2: 2026年 | D2: 环比 | E2: 2025年 | F2: 同比2025 | G2: 2024年 | H2: 同比2024 | I2: 2026年累计 | J2: 累计同比2025 | K2: 累计同比2024
A3: 第1日 | B3: 46296 | D3: - | E3: 7.5003 | F3: =C3/E3-1 -> -1 | G3: 6.8071 | H3: =C3/G3-1 -> -1 | I3: =SUM($C$3:C3) -> 0 | J3: =I3/SUM($E$3:E3)-1 -> -1 | K3: =I3/SUM($G$3:G3)-1 -> -1
A4: 第2日 | B4: 46297 | D4: =(C4-C3)/C3 -> #DIV/0! | E4: 6.1383 | F4: =C4/E4-1 -> -1 | G4: 6.6591 | H4: =C4/G4-1 -> -1 | I4: =SUM($C$3:C4) -> 0 | J4: =I4/SUM($E$3:E4)-1 -> -1 | K4: =I4/SUM($G$3:G4)-1 -> -1
A5: 第3日 | B5: 46298 | D5: =(C5-C4)/C4 -> #DIV/0! | E5: 7.0573 | F5: =C5/E5-1 -> -1 | G5: 6.2842 | H5: =C5/G5-1 -> -1 | I5: =SUM($C$3:C5) -> 0 | J5: =I5/SUM($E$3:E5)-1 -> -1 | K5: =I5/SUM($G$3:G5)-1 -> -1
A6: 第4日 | B6: 46299 | D6: =(C6-C5)/C5 -> #DIV/0! | E6: 6.4868 | F6: =C6/E6-1 -> -1 | G6: 6.5389 | H6: =C6/G6-1 -> -1 | I6: =SUM($C$3:C6) -> 0 | J6: =I6/SUM($E$3:E6)-1 -> -1 | K6: =I6/SUM($G$3:G6)-1 -> -1
A7: 第5日 | B7: 46300 | D7: =(C7-C6)/C6 -> #DIV/0! | E7: 6.8157 | F7: =C7/E7-1 -> -1 | G7: 6.825 | H7: =C7/G7-1 -> -1 | I7: =SUM($C$3:C7) -> 0 | J7: =I7/SUM($E$3:E7)-1 -> -1 | K7: =I7/SUM($G$3:G7)-1 -> -1
A8: 第6日 | B8: 46301 | D8: =(C8-C7)/C7 -> #DIV/0! | E8: 7.5646 | F8: =C8/E8-1 -> -1 | G8: 7.1969 | H8: =C8/G8-1 -> -1 | I8: =SUM($C$3:C8) -> 0 | J8: =I8/SUM($E$3:E8)-1 -> -1 | K8: =I8/SUM($G$3:G8)-1 -> -1
A9: 第7日 | B9: 46302 | D9: =(C9-C8)/C8 -> #DIV/0! | E9: 7.1514 | F9: =C9/E9-1 -> -1 | G9: 7.0279 | H9: =C9/G9-1 -> -1 | I9: =SUM($C$3:C9) -> 0 | J9: =I9/SUM($E$3:E9)-1 -> -1 | K9: =I9/SUM($G$3:G9)-1 -> -1
A10: 第8日 | B10: 46303 | C10: - | D10: - | E10: 7.5516 | F10: - | G10: - | H10: -
A11: 日均 | C11: =SUM(C3:C9)/7 -> 0 | D11: - | E11: =SUM(E3:E10)/8 -> 7.03325 | F11: =C11/E11-1 -> -1 | G11: =SUM(G3:G9)/7 -> 6.7627286 | H11: =C11/G11-1 -> -1

Sheet 道路
B1: 日期 | C1: 道路发送旅客 （万人次） | I1: 道路发送旅客累计 （万人次）
C2: 2026年 | D2: 环比 | E2: 2025年 | F2: 同比2025 | G2: 2024年 | H2: 同比2024 | I2: 2026年累计 | J2: 累计同比2025 | K2: 累计同比2024
A3: 第1日 | B3: 46296 | D3: - | E3: 86.37 | F3: =C3/E3-1 -> -1 | G3: 70.61 | H3: =C3/G3-1 -> -1 | I3: =SUM($C$3:C3) -> 0 | J3: =I3/SUM($E$3:E3)-1 -> -1 | K3: =I3/SUM($G$3:G3)-1 -> -1
A4: 第2日 | B4: 46297 | D4: =(C4-C3)/C3 -> #DIV/0! | E4: 81.21 | F4: =C4/E4-1 -> -1 | G4: 69.78 | H4: =C4/G4-1 -> -1 | I4: =SUM($C$3:C4) -> 0 | J4: =I4/SUM($E$3:E4)-1 -> -1 | K4: =I4/SUM($G$3:G4)-1 -> -1
A5: 第3日 | B5: 46298 | D5: =(C5-C4)/C4 -> #DIV/0! | E5: 83.35 | F5: =C5/E5-1 -> -1 | G5: 68.58 | H5: =C5/G5-1 -> -1 | I5: =SUM($C$3:C5) -> 0 | J5: =I5/SUM($E$3:E5)-1 -> -1 | K5: =I5/SUM($G$3:G5)-1 -> -1
A6: 第4日 | B6: 46299 | D6: =(C6-C5)/C5 -> #DIV/0! | E6: 81.37 | F6: =C6/E6-1 -> -1 | G6: 65.87 | H6: =C6/G6-1 -> -1 | I6: =SUM($C$3:C6) -> 0 | J6: =I6/SUM($E$3:E6)-1 -> -1 | K6: =I6/SUM($G$3:G6)-1 -> -1
A7: 第5日 | B7: 46300 | D7: =(C7-C6)/C6 -> #DIV/0! | E7: 82.81 | F7: =C7/E7-1 -> -1 | G7: 61.8 | H7: =C7/G7-1 -> -1 | I7: =SUM($C$3:C7) -> 0 | J7: =I7/SUM($E$3:E7)-1 -> -1 | K7: =I7/SUM($G$3:G7)-1 -> -1
A8: 第6日 | B8: 46301 | D8: =(C8-C7)/C7 -> #DIV/0! | E8: 78.66 | F8: =C8/E8-1 -> -1 | G8: 57.39 | H8: =C8/G8-1 -> -1 | I8: =SUM($C$3:C8) -> 0 | J8: =I8/SUM($E$3:E8)-1 -> -1 | K8: =I8/SUM($G$3:G8)-1 -> -1
A9: 第7日 | B9: 46302 | D9: =(C9-C8)/C8 -> #DIV/0! | E9: 76.96 | F9: =C9/E9-1 -> -1 | G9: 57.8 | H9: =C9/G9-1 -> -1 | I9: =SUM($C$3:C9) -> 0 | J9: =I9/SUM($E$3:E9)-1 -> -1 | K9: =I9/SUM($G$3:G9)-1 -> -1
A10: 第8日 | B10: 46303 | C10: - | D10: - | E10: 77.4 | F10: - | G10: - | H10: -
A11: 日均 | C11: =SUM(C3:C9)/7 -> 0 | D11: - | E11: =SUM(E3:E10)/8 -> 81.01625 | F11: =C11/E11-1 -> -1 | G11: =SUM(G3:G9)/7 -> 64.547143 | H11: =C11/G11-1 -> -1

Sheet 水路
B1: 日期 | C1: 水路发送旅客 （万人次） | I1: 水路发送旅客累计 （万人次）
C2: 2026年 | D2: 环比 | E2: 2025年 | F2: 同比2025 | G2: 2024年 | H2: 同比2024 | I2: 2026年累计 | J2: 累计同比2025 | K2: 累计同比2024
A3: 第1日 | B3: 46296 | D3: - | E3: 1.6525 | F3: =C3/E3-1 -> -1 | G3: 1.3652 | H3: =C3/G3-1 -> -1 | I3: =SUM($C$3:C3) -> 0 | J3: =I3/SUM($E$3:E3)-1 -> -1 | K3: =I3/SUM($G$3:G3)-1 -> -1
A4: 第2日 | B4: 46297 | D4: =(C4-C3)/C3 -> #DIV/0! | E4: 3.898 | F4: =C4/E4-1 -> -1 | G4: 5.2688 | H4: =C4/G4-1 -> -1 | I4: =SUM($C$3:C4) -> 0 | J4: =I4/SUM($E$3:E4)-1 -> -1 | K4: =I4/SUM($G$3:G4)-1 -> -1
A5: 第3日 | B5: 46298 | D5: =(C5-C4)/C4 -> #DIV/0! | E5: 6.2259 | F5: =C5/E5-1 -> -1 | G5: 7.8565 | H5: =C5/G5-1 -> -1 | I5: =SUM($C$3:C5) -> 0 | J5: =I5/SUM($E$3:E5)-1 -> -1 | K5: =I5/SUM($G$3:G5)-1 -> -1
A6: 第4日 | B6: 46299 | D6: =(C6-C5)/C5 -> #DIV/0! | E6: 7.2426 | F6: =C6/E6-1 -> -1 | G6: 8.7161 | H6: =C6/G6-1 -> -1 | I6: =SUM($C$3:C6) -> 0 | J6: =I6/SUM($E$3:E6)-1 -> -1 | K6: =I6/SUM($G$3:G6)-1 -> -1
A7: 第5日 | B7: 46300 | D7: =(C7-C6)/C6 -> #DIV/0! | E7: 7.7005 | F7: =C7/E7-1 -> -1 | G7: 7.9726 | H7: =C7/G7-1 -> -1 | I7: =SUM($C$3:C7) -> 0 | J7: =I7/SUM($E$3:E7)-1 -> -1 | K7: =I7/SUM($G$3:G7)-1 -> -1
A8: 第6日 | B8: 46301 | D8: =(C8-C7)/C7 -> #DIV/0! | E8: 7.0998 | F8: =C8/E8-1 -> -1 | G8: 5.9673 | H8: =C8/G8-1 -> -1 | I8: =SUM($C$3:C8) -> 0 | J8: =I8/SUM($E$3:E8)-1 -> -1 | K8: =I8/SUM($G$3:G8)-1 -> -1
A9: 第7日 | B9: 46302 | D9: =(C9-C8)/C8 -> #DIV/0! | E9: 4.8883 | F9: =C9/E9-1 -> -1 | G9: 2.9912 | H9: =C9/G9-1 -> -1 | I9: =SUM($C$3:C9) -> 0 | J9: =I9/SUM($E$3:E9)-1 -> -1 | K9: =I9/SUM($G$3:G9)-1 -> -1
A10: 第8日 | B10: 46303 | C10: - | D10: - | E10: 2.8032 | F10: - | G10: - | H10: -
A11: 日均 | C11: =SUM(C3:C9)/7 -> 0 | D11: - | E11: =SUM(E3:E10)/8 -> 5.18885 | F11: =C11/E11-1 -> -1 | G11: =SUM(G3:G9)/7 -> 5.7339571 | H11: =C11/G11-1 -> -1

Sheet 高速公路
B1: 日期 | C1: 小客车（1型车-9座及以下）通行流量 （万辆次） | I1: 客运系数 | L1: 小客车（1型车-9座及以下）人员流动量 （万人次） | R1: 小客车人员流动量累计（万人次）
C2: 2026年 | D2: 环比 | E2: 2025年 | F2: 同比2025 | G2: 2024年 | H2: 同比2024 | I2: 2026年 | J2: 2025年 | K2: 2024年 | L2: 2026年 | M2: 环比 | N2: 2025年 | O2: 同比2025 | P2: 2024年 | Q2: 同比2024 | R2: 2026累计 | S2: 累计同比2025 | T2: 累计同比2024
A3: 第1日 | B3: 46296 | D3: - | E3: 258.9644 | F3: =C3/E3-1 -> -1 | G3: 243.22 | H3: =C3/G3-1 -> -1 | I3: 2.4 | J3: 2.4 | K3: 2.4 | L3: =C3*I3 -> 0 | M3: - | N3: =E3*J3 -> 621.51456 | O3: =L3/N3-1 -> -1 | P3: =G3*K3 -> 583.728 | Q3: =L3/P3-1 -> -1 | R3: =SUM($L$3:L3) -> 0 | S3: =R3/SUM($N$3:N3)-1 -> -1 | T3: =R3/SUM($P$3:P3)-1 -> -1
A4: 第2日 | B4: 46297 | D4: =(C4-C3)/C3 -> #DIV/0! | E4: 209.2533 | F4: =C4/E4-1 -> -1 | G4: 204.33 | H4: =C4/G4-1 -> -1 | I4: 2.4 | J4: 2.4 | K4: 2.4 | L4: =C4*I4 -> 0 | M4: =L4/L3-1 -> #DIV/0! | N4: =E4*J4 -> 502.20792 | O4: =L4/N4-1 -> -1 | P4: =G4*K4 -> 490.392 | Q4: =L4/P4-1 -> -1 | R4: =SUM($L$3:L4) -> 0 | S4: =R4/SUM($N$3:N4)-1 -> -1 | T4: =R4/SUM($P$3:P4)-1 -> -1
A5: 第3日 | B5: 46298 | D5: =(C5-C4)/C4 -> #DIV/0! | E5: 215.4409 | F5: =C5/E5-1 -> -1 | G5: 204.72 | H5: =C5/G5-1 -> -1 | I5: 2.4 | J5: 2.4 | K5: 2.4 | L5: =C5*I5 -> 0 | M5: =L5/L4-1 -> #DIV/0! | N5: =E5*J5 -> 517.05816 | O5: =L5/N5-1 -> -1 | P5: =G5*K5 -> 491.328 | Q5: =L5/P5-1 -> -1 | R5: =SUM($L$3:L5) -> 0 | S5: =R5/SUM($N$3:N5)-1 -> -1 | T5: =R5/SUM($P$3:P5)-1 -> -1
A6: 第4日 | B6: 46299 | D6: =(C6-C5)/C5 -> #DIV/0! | E6: 208.4028 | F6: =C6/E6-1 -> -1 | G6: 201.02 | H6: =C6/G6-1 -> -1 | I6: 2.4 | J6: 2.4 | K6: 2.4 | L6: =C6*I6 -> 0 | M6: =L6/L5-1 -> #DIV/0! | N6: =E6*J6 -> 500.16672 | O6: =L6/N6-1 -> -1 | P6: =G6*K6 -> 482.448 | Q6: =L6/P6-1 -> -1 | R6: =SUM($L$3:L6) -> 0 | S6: =R6/SUM($N$3:N6)-1 -> -1 | T6: =R6/SUM($P$3:P6)-1 -> -1
A7: 第5日 | B7: 46300 | D7: =(C7-C6)/C6 -> #DIV/0! | E7: 204.7369 | F7: =C7/E7-1 -> -1 | G7: 189.62 | H7: =C7/G7-1 -> -1 | I7: 2.4 | J7: 2.4 | K7: 2.4 | L7: =C7*I7 -> 0 | M7: =L7/L6-1 -> #DIV/0! | N7: =E7*J7 -> 491.36856 | O7: =L7/N7-1 -> -1 | P7: =G7*K7 -> 455.088 | Q7: =L7/P7-1 -> -1 | R7: =SUM($L$3:L7) -> 0 | S7: =R7/SUM($N$3:N7)-1 -> -1 | T7: =R7/SUM($P$3:P7)-1 -> -1
A8: 第6日 | B8: 46301 | D8: =(C8-C7)/C7 -> #DIV/0! | E8: 202.0461 | F8: =C8/E8-1 -> -1 | G8: 174.1 | H8: =C8/G8-1 -> -1 | I8: 2.4 | J8: 2.4 | K8: 2.4 | L8: =C8*I8 -> 0 | M8: =L8/L7-1 -> #DIV/0! | N8: =E8*J8 -> 484.91064 | O8: =L8/N8-1 -> -1 | P8: =G8*K8 -> 417.84 | Q8: =L8/P8-1 -> -1 | R8: =SUM($L$3:L8) -> 0 | S8: =R8/SUM($N$3:N8)-1 -> -1 | T8: =R8/SUM($P$3:P8)-1 -> -1
A9: 第7日 | B9: 46302 | D9: =(C9-C8)/C8 -> #DIV/0! | E9: 195.7706 | F9: =C9/E9-1 -> -1 | G9: 155.89 | H9: =C9/G9-1 -> -1 | I9: 2.4 | J9: 2.4 | K9: 2.4 | L9: =C9*I9 -> 0 | M9: =L9/L8-1 -> #DIV/0! | N9: =E9*J9 -> 469.84944 | O9: =L9/N9-1 -> -1 | P9: =G9*K9 -> 374.136 | Q9: =L9/P9-1 -> -1 | R9: =SUM($L$3:L9) -> 0 | S9: =R9/SUM($N$3:N9)-1 -> -1 | T9: =R9/SUM($P$3:P9)-1 -> -1
A10: 第8日 | B10: 46303 | C10: - | D10: - | E10: 159.8933 | F10: - | G10: - | H10: - | I10: - | J10: 2.4 | K10: - | L10: - | M10: - | N10: =E10*J10 -> 383.74392 | O10: - | P10: - | Q10: -
A11: 日均 | C11: =SUM(C3:C9)/7 -> 0 | D11: - | E11: =SUM(E3:E10)/8 -> 206.81354 | F11: =C11/E11-1 -> -1 | G11: =SUM(G3:G9)/7 -> 196.12857 | H11: =C11/G11-1 -> -1 | I11: - | J11: - | K11: - | L11: =SUM(L3:L9)/7 -> 0 | M11: - | N11: =SUM(N3:N10)/8 -> 496.35249 | O11: =L11/N11-1 -> -1 | P11: =SUM(P3:P9)/7 -> 470.70857 | Q11: =L11/P11-1 -> -1

Sheet 普通国省道
B1: 日期 | C1: 中小客车（19座及以下）车流量 （万辆次） | J1: 客运系数 | M1: 中小客车（19座及以下）人员流动量 （万人次） | S1: 中小客车人员流动量累计（万人次）
C2: 环比基期 | D2: 2026年 | E2: 环比 | F2: 2025年 | G2: 同比2025 | H2: 2024年 | I2: 同比2024 | J2: 2026年 | K2: 2025年 | L2: 2024年 | M2: 2026年 | N2: 环比 | O2: 2025年 | P2: 同比2025 | Q2: 2024年 | R2: 同比2024 | S2: 2026累计 | T2: 累计同比2025 | U2: 累计同比2024
A3: 第1日 | B3: 46296 | E3: - | F3: 372.0304 | G3: =D3/F3-1 -> -1 | H3: 351.8111 | I3: =D3/H3-1 -> -1 | J3: 2.4 | K3: 2.4 | L3: 2.4 | M3: =D3*J3 -> 0 | N3: - | O3: =F3*K3 -> 892.87296 | P3: =M3/O3-1 -> -1 | Q3: =H3*L3 -> 844.34664 | R3: =M3/Q3-1 -> -1 | S3: =SUM($M$3:M3) -> 0 | T3: =S3/SUM($O$3:O3)-1 -> -1 | U3: =S3/SUM($Q$3:Q3)-1 -> -1
A4: 第2日 | B4: 46297 | E4: =(D4-D3)/D3 -> #DIV/0! | F4: 351.6512 | G4: =D4/F4-1 -> -1 | H4: 366.9799 | I4: =D4/H4-1 -> -1 | J4: 2.4 | K4: 2.4 | L4: 2.4 | M4: =D4*J4 -> 0 | N4: =M4/M3-1 -> #DIV/0! | O4: =F4*K4 -> 843.96288 | P4: =M4/O4-1 -> -1 | Q4: =H4*L4 -> 880.75176 | R4: =M4/Q4-1 -> -1 | S4: =SUM($M$3:M4) -> 0 | T4: =S4/SUM($O$3:O4)-1 -> -1 | U4: =S4/SUM($Q$3:Q4)-1 -> -1
A5: 第3日 | B5: 46298 | E5: =(D5-D4)/D4 -> #DIV/0! | F5: 362.0035 | G5: =D5/F5-1 -> -1 | H5: 344.3345 | I5: =D5/H5-1 -> -1 | J5: 2.4 | K5: 2.4 | L5: 2.4 | M5: =D5*J5 -> 0 | N5: =(M5-M4)/M4 -> #DIV/0! | O5: =F5*K5 -> 868.8084 | P5: =M5/O5-1 -> -1 | Q5: =H5*L5 -> 826.4028 | R5: =M5/Q5-1 -> -1 | S5: =SUM($M$3:M5) -> 0 | T5: =S5/SUM($O$3:O5)-1 -> -1 | U5: =S5/SUM($Q$3:Q5)-1 -> -1
A6: 第4日 | B6: 46299 | E6: =(D6-D5)/D5 -> #DIV/0! | F6: 337.9501 | G6: =D6/F6-1 -> -1 | H6: 322.7605 | I6: =D6/H6-1 -> -1 | J6: 2.4 | K6: 2.4 | L6: 2.4 | M6: =D6*J6 -> 0 | N6: =(M6-M5)/M5 -> #DIV/0! | O6: =F6*K6 -> 811.08024 | P6: =M6/O6-1 -> -1 | Q6: =H6*L6 -> 774.6252 | R6: =M6/Q6-1 -> -1 | S6: =SUM($M$3:M6) -> 0 | T6: =S6/SUM($O$3:O6)-1 -> -1 | U6: =S6/SUM($Q$3:Q6)-1 -> -1
A7: 第5日 | B7: 46300 | E7: =(D7-D6)/D6 -> #DIV/0! | F7: 334.204 | G7: =D7/F7-1 -> -1 | H7: 290.7464 | I7: =D7/H7-1 -> -1 | J7: 2.4 | K7: 2.4 | L7: 2.4 | M7: =D7*J7 -> 0 | N7: =M7/M6-1 -> #DIV/0! | O7: =F7*K7 -> 802.0896 | P7: =M7/O7-1 -> -1 | Q7: =H7*L7 -> 697.79136 | R7: =M7/Q7-1 -> -1 | S7: =SUM($M$3:M7) -> 0 | T7: =S7/SUM($O$3:O7)-1 -> -1 | U7: =S7/SUM($Q$3:Q7)-1 -> -1
A8: 第6日 | B8: 46301 | E8: =(D8-D7)/D7 -> #DIV/0! | F8: 344.7356 | G8: =D8/F8-1 -> -1 | H8: 270.836 | I8: =D8/H8-1 -> -1 | J8: 2.4 | K8: 2.4 | L8: 2.4 | M8: =D8*J8 -> 0 | N8: =M8/M7-1 -> #DIV/0! | O8: =F8*K8 -> 827.36544 | P8: =M8/O8-1 -> -1 | Q8: =H8*L8 -> 650.0064 | R8: =M8/Q8-1 -> -1 | S8: =SUM($M$3:M8) -> 0 | T8: =S8/SUM($O$3:O8)-1 -> -1 | U8: =S8/SUM($Q$3:Q8)-1 -> -1
A9: 第7日 | B9: 46302 | E9: =(D9-D8)/D8 -> #DIV/0! | F9: 306.6061 | G9: =D9/F9-1 -> -1 | H9: 260.8551 | I9: =D9/H9-1 -> -1 | J9: 2.4 | K9: 2.4 | L9: 2.4 | M9: =D9*J9 -> 0 | N9: =M9/M8-1 -> #DIV/0! | O9: =F9*K9 -> 735.85464 | P9: =M9/O9-1 -> -1 | Q9: =H9*L9 -> 626.05224 | R9: =M9/Q9-1 -> -1 | S9: =SUM($M$3:M9) -> 0 | T9: =S9/SUM($O$3:O9)-1 -> -1 | U9: =S9/SUM($Q$3:Q9)-1 -> -1
A10: 第8日 | B10: 46303 | D10: - | E10: - | F10: 273.9699 | G10: - | H10: - | I10: - | J10: - | K10: 2.4 | L10: - | M10: - | N10: - | O10: =F10*K10 -> 657.52776 | P10: - | Q10: - | R10: -
A11: 日均 | D11: =SUM(D3:D9)/7 -> 0 | E11: - | F11: =SUM(F3:F10)/8 -> 335.39385 | G11: =D11/F11-1 -> -1 | H11: =SUM(H3:H9)/7 -> 315.47479 | I11: =D11/H11-1 -> -1 | J11: - | K11: - | L11: - | M11: =SUM(M3:M9)/7 -> 0 | N11: - | O11: =SUM(O3:O10)/8 -> 804.94524 | P11: =M11/O11-1 -> -1 | Q11: =SUM(Q3:Q9)/7 -> 757.13949 | R11: =M11/Q11-1 -> -1

Sheet 人员流动量汇总
B1: 日期 | C1: 全社会跨区域人员流动量 （万人次） | I1: 公路人员流动量 （万人次） | O1: 高速公路和普通国省道非营业性小客车出行量 （万人次） | U1: 全社会跨区域人员流动量 累计（亿人次） | X1: 公路人员流动量 累计（亿人次） | AA1: 高速公路和普通国省道非营业性小客车人员出行量累计（亿人次）
C2: 2026年 | D2: 环比 | E2: 2025年 | F2: 同比2025 | G2: 2024年 | H2: 同比2024 | I2: 2026年 | J2: 环比 | K2: 2025年 | L2: 同比2025 | M2: 2024年 | N2: 同比2024 | O2: 2026年 | P2: 环比 | Q2: 2025年 | R2: 同比2025 | S2: 2024年 | T2: 同比2024 | U2: 2026累计 | V2: 累计同比2025 | W2: 累计同比2024 | X2: 2026累计 | Y2: 累计同比2025 | Z2: 累计同比2024 | AA2: 2026累计 | AB2: 累计同比2025 | AC2: 累计同比2024
A3: 第1日 | B3: 46296 | C3: =I3+铁路!C3+民航!C3+水路!C3 -> 0 | D3: - | E3: =K3+铁路!E3+民航!E3+水路!E3 -> 1714.4103 | F3: =C3/E3-1 -> -1 | G3: 1605.4569 | H3: =C3/G3-1 -> -1 | I3: =O3+道路!C3 -> 0 | J3: - | K3: =Q3+道路!E3 -> 1600.7575 | L3: =I3/K3-1 -> -1 | M3: 1498.6846 | N3: =I3/M3-1 -> -1 | O3: =高速公路!L3+普通国省道!M3 -> 0 | P3: - | Q3: =高速公路!N3+普通国省道!O3 -> 1514.3875 | R3: =O3/Q3-1 -> -1 | S3: =高速公路!P3+普通国省道!Q3 -> 1428.0746 | T3: =O3/S3-1 -> -1 | U3: =SUM($C$3:C3)/10000 -> 0 | V3: =U3*10000/SUM($E$3:E3)-1 -> -1 | W3: =U3*10000/SUM($G$3:G3)-1 -> -1 | X3: =SUM($I$3:I3)/10000 -> 0 | Y3: =X3*10000/SUM($K$3:K3)-1 -> -1 | Z3: =X3*10000/SUM($M$3:M3)-1 -> -1 | AA3: =SUM($O$3:O3)/10000 -> 0 | AB3: =AA3*10000/SUM($Q$3:Q3)-1 -> -1 | AC3: =AA3*10000/SUM($S$3:S3)-1 -> -1
A4: 第2日 | B4: 46297 | C4: =I4+铁路!C4+民航!C4+水路!C4 -> 0 | D4: =C4/C3-1 -> #DIV/0! | E4: =K4+铁路!E4+民航!E4+水路!E4 -> 1518.0171 | F4: =C4/E4-1 -> -1 | G4: 1532.3517 | H4: =C4/G4-1 -> -1 | I4: =O4+道路!C4 -> 0 | J4: =I4/I3-1 -> #DIV/0! | K4: =Q4+道路!E4 -> 1427.3808 | L4: =I4/K4-1 -> -1 | M4: 1440.9238 | N4: =I4/M4-1 -> -1 | O4: =高速公路!L4+普通国省道!M4 -> 0 | P4: =O4/O3-1 -> #DIV/0! | Q4: =高速公路!N4+普通国省道!O4 -> 1346.1708 | R4: =O4/Q4-1 -> -1 | S4: =高速公路!P4+普通国省道!Q4 -> 1371.1438 | T4: =O4/S4-1 -> -1 | U4: =SUM($C$3:C4)/10000 -> 0 | V4: =U4*10000/SUM($E$3:E4)-1 -> -1 | W4: =U4*10000/SUM($G$3:G4)-1 -> -1 | X4: =SUM($I$3:I4)/10000 -> 0 | Y4: =X4*10000/SUM($K$3:K4)-1 -> -1 | Z4: =X4*10000/SUM($M$3:M4)-1 -> -1 | AA4: =SUM($O$3:O4)/10000 -> 0 | AB4: =AA4*10000/SUM($Q$3:Q4)-1 -> -1 | AC4: =AA4*10000/SUM($S$3:S4)-1 -> -1
A5: 第3日 | B5: 46298 | C5: =I5+铁路!C5+民航!C5+水路!C5 -> 0 | D5: =(C5-C4)/C4 -> #DIV/0! | E5: =K5+铁路!E5+民航!E5+水路!E5 -> 1554.7998 | F5: =C5/E5-1 -> -1 | G5: 1471.0515 | H5: =C5/G5-1 -> -1 | I5: =O5+道路!C5 -> 0 | J5: =(I5-I4)/I4 -> #DIV/0! | K5: =Q5+道路!E5 -> 1469.2166 | L5: =I5/K5-1 -> -1 | M5: 1386.3108 | N5: =I5/M5-1 -> -1 | O5: =高速公路!L5+普通国省道!M5 -> 0 | P5: =(O5-O4)/O4 -> #DIV/0! | Q5: =高速公路!N5+普通国省道!O5 -> 1385.8666 | R5: =O5/Q5-1 -> -1 | S5: =高速公路!P5+普通国省道!Q5 -> 1317.7308 | T5: =O5/S5-1 -> -1 | U5: =SUM($C$3:C5)/10000 -> 0 | V5: =U5*10000/SUM($E$3:E5)-1 -> -1 | W5: =U5*10000/SUM($G$3:G5)-1 -> -1 | X5: =SUM($I$3:I5)/10000 -> 0 | Y5: =X5*10000/SUM($K$3:K5)-1 -> -1 | Z5: =X5*10000/SUM($M$3:M5)-1 -> -1 | AA5: =SUM($O$3:O5)/10000 -> 0 | AB5: =AA5*10000/SUM($Q$3:Q5)-1 -> -1 | AC5: =AA5*10000/SUM($S$3:S5)-1 -> -1
A6: 第4日 | B6: 46299 | C6: =I6+铁路!C6+民航!C6+水路!C6 -> 0 | D6: =(C6-C5)/C5 -> #DIV/0! | E6: =K6+铁路!E6+民航!E6+水路!E6 -> 1479.9464 | F6: =C6/E6-1 -> -1 | G6: 1410.1982 | H6: =C6/G6-1 -> -1 | I6: =O6+道路!C6 -> 0 | J6: =(I6-I5)/I5 -> #DIV/0! | K6: =Q6+道路!E6 -> 1392.617 | L6: =I6/K6-1 -> -1 | M6: 1322.9432 | N6: =I6/M6-1 -> -1 | O6: =高速公路!L6+普通国省道!M6 -> 0 | P6: =(O6-O5)/O5 -> #DIV/0! | Q6: =高速公路!N6+普通国省道!O6 -> 1311.247 | R6: =O6/Q6-1 -> -1 | S6: =高速公路!P6+普通国省道!Q6 -> 1257.0732 | T6: =O6/S6-1 -> -1 | U6: =SUM($C$3:C6)/10000 -> 0 | V6: =U6*10000/SUM($E$3:E6)-1 -> -1 | W6: =U6*10000/SUM($G$3:G6)-1 -> -1 | X6: =SUM($I$3:I6)/10000 -> 0 | Y6: =X6*10000/SUM($K$3:K6)-1 -> -1 | Z6: =X6*10000/SUM($M$3:M6)-1 -> -1 | AA6: =SUM($O$3:O6)/10000 -> 0 | AB6: =AA6*10000/SUM($Q$3:Q6)-1 -> -1 | AC6: =AA6*10000/SUM($S$3:S6)-1 -> -1
A7: 第5日 | B7: 46300 | C7: =I7+铁路!C7+民航!C7+水路!C7 -> 0 | D7: =C7/C6-1 -> #DIV/0! | E7: =K7+铁路!E7+民航!E7+水路!E7 -> 1464.3844 | F7: =C7/E7-1 -> -1 | G7: 1307.677 | H7: =C7/G7-1 -> -1 | I7: =O7+道路!C7 -> 0 | J7: =I7/I6-1 -> #DIV/0! | K7: =Q7+道路!E7 -> 1376.2682 | L7: =I7/K7-1 -> -1 | M7: 1214.6794 | N7: =I7/M7-1 -> -1 | O7: =高速公路!L7+普通国省道!M7 -> 0 | P7: =O7/O6-1 -> #DIV/0! | Q7: =高速公路!N7+普通国省道!O7 -> 1293.4582 | R7: =O7/Q7-1 -> -1 | S7: =高速公路!P7+普通国省道!Q7 -> 1152.8794 | T7: =O7/S7-1 -> -1 | U7: =SUM($C$3:C7)/10000 -> 0 | V7: =U7*10000/SUM($E$3:E7)-1 -> -1 | W7: =U7*10000/SUM($G$3:G7)-1 -> -1 | X7: =SUM($I$3:I7)/10000 -> 0 | Y7: =X7*10000/SUM($K$3:K7)-1 -> -1 | Z7: =X7*10000/SUM($M$3:M7)-1 -> -1 | AA7: =SUM($O$3:O7)/10000 -> 0 | AB7: =AA7*10000/SUM($Q$3:Q7)-1 -> -1 | AC7: =AA7*10000/SUM($S$3:S7)-1 -> -1
A8: 第6日 | B8: 46301 | C8: =I8+铁路!C8+民航!C8+水路!C8 -> 0 | D8: =C8/C7-1 -> #DIV/0! | E8: =K8+铁路!E8+民航!E8+水路!E8 -> 1480.8005 | F8: =C8/E8-1 -> -1 | G8: 1221.0006 | H8: =C8/G8-1 -> -1 | I8: =O8+道路!C8 -> 0 | J8: =I8/I7-1 -> #DIV/0! | K8: =Q8+道路!E8 -> 1390.9361 | L8: =I8/K8-1 -> -1 | M8: 1125.2364 | N8: =I8/M8-1 -> -1 | O8: =高速公路!L8+普通国省道!M8 -> 0 | P8: =O8/O7-1 -> #DIV/0! | Q8: =高速公路!N8+普通国省道!O8 -> 1312.2761 | R8: =O8/Q8-1 -> -1 | S8: =高速公路!P8+普通国省道!Q8 -> 1067.8464 | T8: =O8/S8-1 -> -1 | U8: =SUM($C$3:C8)/10000 -> 0 | V8: =U8*10000/SUM($E$3:E8)-1 -> -1 | W8: =U8*10000/SUM($G$3:G8)-1 -> -1 | X8: =SUM($I$3:I8)/10000 -> 0 | Y8: =X8*10000/SUM($K$3:K8)-1 -> -1 | Z8: =X8*10000/SUM($M$3:M8)-1 -> -1 | AA8: =SUM($O$3:O8)/10000 -> 0 | AB8: =AA8*10000/SUM($Q$3:Q8)-1 -> -1 | AC8: =AA8*10000/SUM($S$3:S8)-1 -> -1
A9: 第7日 | B9: 46302 | C9: =I9+铁路!C9+民航!C9+水路!C9 -> 0 | D9: =C9/C8-1 -> #DIV/0! | E9: =K9+铁路!E9+民航!E9+水路!E9 -> 1380.0038 | F9: =C9/E9-1 -> -1 | G9: 1159.0073 | H9: =C9/G9-1 -> -1 | I9: =O9+道路!C9 -> 0 | J9: =I9/I8-1 -> #DIV/0! | K9: =Q9+道路!E9 -> 1282.6641 | L9: =I9/K9-1 -> -1 | M9: 1057.9882 | N9: =I9/M9-1 -> -1 | O9: =高速公路!L9+普通国省道!M9 -> 0 | P9: =O9/O8-1 -> #DIV/0! | Q9: =高速公路!N9+普通国省道!O9 -> 1205.7041 | R9: =O9/Q9-1 -> -1 | S9: =高速公路!P9+普通国省道!Q9 -> 1000.1882 | T9: =O9/S9-1 -> -1 | U9: =SUM($C$3:C9)/10000 -> 0 | V9: =U9*10000/SUM($E$3:E9)-1 -> -1 | W9: =U9*10000/SUM($G$3:G9)-1 -> -1 | X9: =SUM($I$3:I9)/10000 -> 0 | Y9: =X9*10000/SUM($K$3:K9)-1 -> -1 | Z9: =X9*10000/SUM($M$3:M9)-1 -> -1 | AA9: =SUM($O$3:O9)/10000 -> 0 | AB9: =AA9*10000/SUM($Q$3:Q9)-1 -> -1 | AC9: =AA9*10000/SUM($S$3:S9)-1 -> -1
A10: 第8日 | B10: 46303 | C10: - | D10: - | E10: =K10+铁路!E10+民航!E10+水路!E10 -> 1224.8265 | F10: - | G10: - | H10: - | I10: - | J10: - | K10: =Q10+道路!E10 -> 1118.6717 | L10: - | M10: - | N10: - | O10: - | P10: - | Q10: =高速公路!N10+普通国省道!O10 -> 1041.2717 | R10: - | S10: - | T10: -
A11: 日均 | C11: =SUM(C3:C9)/7 -> 0 | D11: - | E11: =SUM(E3:E10)/8 -> 1477.1486 | F11: =C11/E11-1 -> -1 | G11: =SUM(G3:G9)/7 -> 1386.6776 | H11: =C11/G11-1 -> -1 | I11: =SUM(I3:I9)/7 -> 0 | J11: - | K11: =SUM(K3:K10)/8 -> 1382.314 | L11: =I11/K11-1 -> -1 | M11: =SUM(M3:M9)/7 -> 1292.3952 | N11: =I11/M11-1 -> -1 | O11: =SUM(O3:O9)/7 -> 0 | P11: - | Q11: =SUM(Q3:Q10)/8 -> 1301.2977 | R11: =O11/Q11-1 -> -1 | S11: =SUM(S3:S9)/7 -> 1227.8481 | T11: =O11/S11-1 -> -1
