Workbook

Sheet 铁路
B1: 日期 | C1: 铁路发送旅客 （万人次） | G1: 铁路发送旅客累计 （万人次）
C2: 2026年 | D2: 环比 | E2: 同比 | F2: 2025年 | G2: 2026年累计 | H2: 累计同比2025
A3: 前一日 | B3: 46295 | E3: ==(C3-F3)/F3 -> -1 | F3: 78.3 | G3: — | H3: —
A4: 第1日 | B4: 46296 | D4: ==(C4-C3)/C3 -> #DIV/0! | E4: ==(C4-F4)/F4 -> -1 | F4: 104.5 | G4: ==SUM($C$4:C4) -> 0 | H4: ==G4/SUM($F$4:F4)-1 -> -1
A5: 第2日 | B5: 46297 | D5: ==(C5-C4)/C4 -> #DIV/0! | E5: ==(C5-F5)/F5 -> -1 | F5: 80.6 | G5: ==SUM($C$4:C5) -> 0 | H5: ==G5/SUM($F$4:F5)-1 -> -1
A6: 第3日 | B6: 46298 | D6: ==(C6-C5)/C5 -> #DIV/0! | E6: ==(C6-F6)/F6 -> -1 | F6: 72.3 | G6: ==SUM($C$4:C6) -> 0 | H6: ==G6/SUM($F$4:F6)-1 -> -1
A7: 第4日 | B7: 46299 | D7: ==(C7-C6)/C6 -> #DIV/0! | E7: ==(C7-F7)/F7 -> -1 | F7: 73.6 | G7: ==SUM($C$4:C7) -> 0 | H7: ==G7/SUM($F$4:F7)-1 -> -1
A8: 第5日 | B8: 46300 | D8: ==(C8-C7)/C7 -> #DIV/0! | E8: ==(C8-F8)/F8 -> -1 | F8: 73.6 | G8: ==SUM($C$4:C8) -> 0 | H8: ==G8/SUM($F$4:F8)-1 -> -1
A9: 第6日 | B9: 46301 | D9: ==(C9-C8)/C8 -> #DIV/0! | E9: ==(C9-F9)/F9 -> -1 | F9: 75.2 | G9: ==SUM($C$4:C9) -> 0 | H9: ==G9/SUM($F$4:F9)-1 -> -1
A10: 第7日 | B10: 46302 | D10: ==(C10-C9)/C9 -> #DIV/0! | E10: ==(C10-F10)/F10 -> -1 | F10: 85.3 | G10: ==SUM($C$4:C10) -> 0 | H10: ==G10/SUM($F$4:F10)-1 -> -1
A11: 第8日 | B11: 46303 | F11: 95.8
A12: 日均 | C12: ==SUM(C4:C10)/7 -> 0 | E12: ==C12/F12-1 -> -1 | F12: ==SUM(F4:F11)/8 -> 82.6125

Sheet 民航
B1: 日期 | C1: 民航发送旅客 （万人次） | G1: 民航发送旅客累计 （万人次）
C2: 2026年 | D2: 环比 | E2: 同比2025年 | F2: 2025年 | G2: 2026年累计 | H2: 累计同比2025
A3: 前一天 | B3: 46295 | D3: - | E3: ==(C3-F3)/F3 -> -1 | F3: 6.7637 | G3: 6.7637 | H3: -
A4: 第1日 | B4: 46296 | D4: ==(C4-C3)/C3 -> #DIV/0! | E4: ==(C4-F4)/F4 -> -1 | F4: 7.5003 | G4: ==SUM($C$4:C4) -> 0 | H4: ==G4/SUM($F$4:F4)-1 -> -1
A5: 第2日 | B5: 46297 | D5: ==(C5-C4)/C4 -> #DIV/0! | E5: ==(C5-F5)/F5 -> -1 | F5: 6.1383 | G5: ==SUM($C$4:C5) -> 0 | H5: ==G5/SUM($F$4:F5)-1 -> -1
A6: 第3日 | B6: 46298 | D6: ==(C6-C5)/C5 -> #DIV/0! | E6: ==(C6-F6)/F6 -> -1 | F6: 7.0573 | G6: ==SUM($C$4:C6) -> 0 | H6: ==G6/SUM($F$4:F6)-1 -> -1
A7: 第4日 | B7: 46299 | D7: ==(C7-C6)/C6 -> #DIV/0! | E7: ==(C7-F7)/F7 -> -1 | F7: 6.4868 | G7: ==SUM($C$4:C7) -> 0 | H7: ==G7/SUM($F$4:F7)-1 -> -1
A8: 第5日 | B8: 46300 | D8: ==(C8-C7)/C7 -> #DIV/0! | E8: ==(C8-F8)/F8 -> -1 | F8: 6.8157 | G8: ==SUM($C$4:C8) -> 0 | H8: ==G8/SUM($F$4:F8)-1 -> -1
A9: 第6日 | B9: 46301 | D9: ==(C9-C8)/C8 -> #DIV/0! | E9: ==(C9-F9)/F9 -> -1 | F9: 7.5646 | G9: ==SUM($C$4:C9) -> 0 | H9: ==G9/SUM($F$4:F9)-1 -> -1
A10: 第7日 | B10: 46302 | D10: ==(C10-C9)/C9 -> #DIV/0! | E10: ==(C10-F10)/F10 -> -1 | F10: 7.1514 | G10: ==SUM($C$4:C10) -> 0 | H10: ==G10/SUM($F$4:F10)-1 -> -1
A11: 第8日 | B11: 46303 | F11: 7.5516
A12: 日均 | C12: ==SUM(C4:C10)/7 -> 0 | E12: ==(C12-F12)/F12 -> -1 | F12: ==SUM(F4:F11)/8 -> 7.03325

Sheet 道路
B1: 日期 | C1: 道路发送旅客 （万人次） | G1: 道路发送旅客累计 （万人次）
C2: 2026年 | D2: 环比 | E2: 同比2025年 | F2: 2025年 | G2: 2026年累计 | H2: 累计同比2025
A3: 第1日 | B3: 46296 | D3: - | E3: ==(C3-F3)/F3 -> -1 | F3: 86.37 | G3: ==SUM($C$3:C3) -> 0 | H3: ==G3/SUM($F$3:F3)-1 -> -1
A4: 第2日 | B4: 46297 | D4: ==(C4-C3)/C3 -> #DIV/0! | E4: ==(C4-F4)/F4 -> -1 | F4: 81.21 | G4: ==SUM($C$3:C4) -> 0 | H4: ==G4/SUM($F$3:F4)-1 -> -1
A5: 第3日 | B5: 46298 | D5: ==(C5-C4)/C4 -> #DIV/0! | E5: ==(C5-F5)/F5 -> -1 | F5: 83.35 | G5: ==SUM($C$3:C5) -> 0 | H5: ==G5/SUM($F$3:F5)-1 -> -1
A6: 第4日 | B6: 46299 | D6: ==(C6-C5)/C5 -> #DIV/0! | E6: ==(C6-F6)/F6 -> -1 | F6: 81.37 | G6: ==SUM($C$3:C6) -> 0 | H6: ==G6/SUM($F$3:F6)-1 -> -1
A7: 第5日 | B7: 46300 | D7: ==(C7-C6)/C6 -> #DIV/0! | E7: ==(C7-F7)/F7 -> -1 | F7: 82.81 | G7: ==SUM($C$3:C7) -> 0 | H7: ==G7/SUM($F$3:F7)-1 -> -1
A8: 第6日 | B8: 46301 | D8: ==(C8-C7)/C7 -> #DIV/0! | E8: ==(C8-F8)/F8 -> -1 | F8: 78.66 | G8: ==SUM($C$3:C8) -> 0 | H8: ==G8/SUM($F$3:F8)-1 -> -1
A9: 第7日 | B9: 46302 | D9: ==(C9-C8)/C8 -> #DIV/0! | E9: ==(C9-F9)/F9 -> -1 | F9: 76.96 | G9: ==SUM($C$3:C9) -> 0 | H9: ==G9/SUM($F$3:F9)-1 -> -1
A10: 第8日 | B10: 46303 | F10: 77.4
A11: 日均 | C11: ==SUM(C3:C9)/7 -> 0 | E11: ==(C11-F11)/F11 -> -1 | F11: ==SUM(F3:F10)/8 -> 81.01625

Sheet 水路
B1: 日期 | C1: 水路发送旅客 （万人次） | G1: 水路发送旅客累计 （万人次）
C2: 2026年 | D2: 环比 | E2: 同比 | F2: 2025年 | G2: 2026年累计 | H2: 累计同比2025
A3: 第1日 | B3: 46296 | D3: - | E3: ==(C3-F3)/F3 -> -1 | F3: 1.6525 | G3: ==SUM($C$3:C3) -> 0 | H3: ==G3/SUM($F$3:F3)-1 -> -1
A4: 第2日 | B4: 46297 | D4: ==(C4-C3)/C3 -> #DIV/0! | E4: ==(C4-F4)/F4 -> -1 | F4: 3.898 | G4: ==SUM($C$3:C4) -> 0 | H4: ==G4/SUM($F$3:F4)-1 -> -1
A5: 第3日 | B5: 46298 | D5: ==(C5-C4)/C4 -> #DIV/0! | E5: ==(C5-F5)/F5 -> -1 | F5: 6.2259 | G5: ==SUM($C$3:C5) -> 0 | H5: ==G5/SUM($F$3:F5)-1 -> -1
A6: 第4日 | B6: 46299 | D6: ==(C6-C5)/C5 -> #DIV/0! | E6: ==(C6-F6)/F6 -> -1 | F6: 7.2426 | G6: ==SUM($C$3:C6) -> 0 | H6: ==G6/SUM($F$3:F6)-1 -> -1
A7: 第5日 | B7: 46300 | D7: ==(C7-C6)/C6 -> #DIV/0! | E7: ==(C7-F7)/F7 -> -1 | F7: 7.7005 | G7: ==SUM($C$3:C7) -> 0 | H7: ==G7/SUM($F$3:F7)-1 -> -1
A8: 第6日 | B8: 46301 | D8: ==(C8-C7)/C7 -> #DIV/0! | E8: ==(C8-F8)/F8 -> -1 | F8: 7.0998 | G8: ==SUM($C$3:C8) -> 0 | H8: ==G8/SUM($F$3:F8)-1 -> -1
A9: 第7日 | B9: 46302 | D9: ==(C9-C8)/C8 -> #DIV/0! | E9: ==(C9-F9)/F9 -> -1 | F9: 4.8883 | G9: ==SUM($C$3:C9) -> 0 | H9: ==G9/SUM($F$3:F9)-1 -> -1
A10: 第8日 | B10: 46303 | F10: 2.8032
A11: 日均 | C11: ==SUM(C3:C9)/7 -> 0 | E11: ==(C11-F11)/F11 -> -1 | F11: ==SUM(F3:F10)/8 -> 5.18885

Sheet 高速公路
B1: 日期 | C1: 小客车（1型车-9座及以下）通行流量 （万辆次） | G1: 客运系数 | I1: 小客车（1型车-9座及以下）人员流动量 （万人次）
C2: 2026年 | D2: 环比 | E2: 同比 | F2: 2025年 | G2: 2026年 | H2: 2025年 | I2: 2026年 | J2: 2026年累计 | K2: 环比 | L2: 同比 | M2: 累计同比 | N2: 2025年
A3: 第1日 | B3: 46296 | D3: - | E3: ==(C3-F3)/F3 -> -1 | F3: 258.9644 | G3: 2.4 | H3: 2.4 | I3: ==C3*G3 -> 0 | J3: ==SUM(I$3:I3) -> 0 | K3: - | L3: ==(I3-N3)/N3 -> -1 | M3: ==J3/SUM(N$3:N3)-1 -> -1 | N3: ==F3*H3 -> 621.51456
A4: 第2日 | B4: 46297 | D4: ==(C4-C3)/C3 -> #DIV/0! | E4: ==(C4-F4)/F4 -> -1 | F4: 209.2533 | G4: 2.4 | H4: 2.4 | I4: ==C4*G4 -> 0 | J4: ==SUM(I$3:I4) -> 0 | K4: ==(I4-I3)/I3 -> #DIV/0! | L4: ==(I4-N4)/N4 -> -1 | M4: ==J4/SUM(N$3:N4)-1 -> -1 | N4: ==F4*H4 -> 502.20792
A5: 第3日 | B5: 46298 | D5: ==(C5-C4)/C4 -> #DIV/0! | E5: ==(C5-F5)/F5 -> -1 | F5: 215.4409 | G5: 2.4 | H5: 2.4 | I5: ==C5*G5 -> 0 | J5: ==SUM(I$3:I5) -> 0 | K5: ==(I5-I4)/I4 -> #DIV/0! | L5: ==(I5-N5)/N5 -> -1 | M5: ==J5/SUM(N$3:N5)-1 -> -1 | N5: ==F5*H5 -> 517.05816
A6: 第4日 | B6: 46299 | D6: ==(C6-C5)/C5 -> #DIV/0! | E6: ==(C6-F6)/F6 -> -1 | F6: 208.4028 | G6: 2.4 | H6: 2.4 | I6: ==C6*G6 -> 0 | J6: ==SUM(I$3:I6) -> 0 | K6: ==(I6-I5)/I5 -> #DIV/0! | L6: ==(I6-N6)/N6 -> -1 | M6: ==J6/SUM(N$3:N6)-1 -> -1 | N6: ==F6*H6 -> 500.16672
A7: 第5日 | B7: 46300 | D7: ==(C7-C6)/C6 -> #DIV/0! | E7: ==(C7-F7)/F7 -> -1 | F7: 204.7369 | G7: 2.4 | H7: 2.4 | I7: ==C7*G7 -> 0 | J7: ==SUM(I$3:I7) -> 0 | K7: ==(I7-I6)/I6 -> #DIV/0! | L7: ==(I7-N7)/N7 -> -1 | M7: ==J7/SUM(N$3:N7)-1 -> -1 | N7: ==F7*H7 -> 491.36856
A8: 第6日 | B8: 46301 | D8: ==(C8-C7)/C7 -> #DIV/0! | E8: ==(C8-F8)/F8 -> -1 | F8: 202.0461 | G8: 2.4 | H8: 2.4 | I8: ==C8*G8 -> 0 | J8: ==SUM(I$3:I8) -> 0 | K8: ==(I8-I7)/I7 -> #DIV/0! | L8: ==(I8-N8)/N8 -> -1 | M8: ==J8/SUM(N$3:N8)-1 -> -1 | N8: ==F8*H8 -> 484.91064
A9: 第7日 | B9: 46302 | D9: ==(C9-C8)/C8 -> #DIV/0! | E9: ==(C9-F9)/F9 -> -1 | F9: 195.7706 | G9: 2.4 | H9: 2.4 | I9: ==C9*G9 -> 0 | J9: ==SUM(I$3:I9) -> 0 | K9: ==(I9-I8)/I8 -> #DIV/0! | L9: ==(I9-N9)/N9 -> -1 | M9: ==J9/SUM(N$3:N9)-1 -> -1 | N9: ==F9*H9 -> 469.84944
A10: 第8日 | B10: 46303 | F10: 159.8933 | H10: 2.4 | N10: ==F10*H10 -> 383.74392
A11: 日均 | C11: ==SUM(C3:C9)/7 -> 0 | F11: ==SUM(F3:F10)/8 -> 206.81354 | I11: ==SUM(I3:I9)/7 -> 0 | L11: ==(I11-N11)/N11 -> -1 | N11: ==SUM(N3:N10)/8 -> 496.35249

Sheet 普通国省道
B1: 日期 | D1: 中小客车（19座及以下）车流量 （万辆次） | H1: 客运系数 | J1: 中小客车（19座及以下）人员流动量 （万人次）
C2: 环比基期 | D2: 2026年 | E2: 环比 | F2: 同比 | G2: 2025年 | H2: 2026年 | I2: 2025年 | J2: 2026年 | K2: 2026年累计 | L2: 环比 | M2: 同比2025年 | N2: 累计同比2025年 | O2: 2025年
A3: 第1日 | B3: 46296 | E3: - | F3: ==(D3-G3)/G3 -> -1 | G3: 372.0304 | H3: 2.4 | I3: 2.4 | J3: ==D3*H3 -> 0 | K3: ==SUM(J$3:J3) -> 0 | L3: - | M3: ==(J3-O3)/O3 -> -1 | N3: ==K3/SUM(O$3:O3)-1 -> -1 | O3: ==G3*I3 -> 892.87296
A4: 第2日 | B4: 46297 | E4: ==(D4-D3)/D3 -> #DIV/0! | F4: ==(D4-G4)/G4 -> -1 | G4: 351.6512 | H4: 2.4 | I4: 2.4 | J4: ==D4*H4 -> 0 | K4: ==SUM(J$3:J4) -> 0 | L4: ==J4/J3-1 -> #DIV/0! | M4: ==(J4-O4)/O4 -> -1 | N4: ==K4/SUM(O$3:O4)-1 -> -1 | O4: ==G4*I4 -> 843.96288
A5: 第3日 | B5: 46298 | E5: ==(D5-D4)/D4 -> #DIV/0! | F5: ==(D5-G5)/G5 -> -1 | G5: 362.0035 | H5: 2.4 | I5: 2.4 | J5: ==D5*H5 -> 0 | K5: ==SUM(J$3:J5) -> 0 | L5: ==(J5-J4)/J4 -> #DIV/0! | M5: ==(J5-O5)/O5 -> -1 | N5: ==K5/SUM(O$3:O5)-1 -> -1 | O5: ==G5*I5 -> 868.8084
A6: 第4日 | B6: 46299 | E6: ==(D6-D5)/D5 -> #DIV/0! | F6: ==(D6-G6)/G6 -> -1 | G6: 337.9501 | H6: 2.4 | I6: 2.4 | J6: ==D6*H6 -> 0 | K6: ==SUM(J$3:J6) -> 0 | L6: ==(J6-J5)/J5 -> #DIV/0! | M6: ==(J6-O6)/O6 -> -1 | N6: ==K6/SUM(O$3:O6)-1 -> -1 | O6: ==G6*I6 -> 811.08024
A7: 第5日 | B7: 46300 | E7: ==(D7-D6)/D6 -> #DIV/0! | F7: ==(D7-G7)/G7 -> -1 | G7: 334.204 | H7: 2.4 | I7: 2.4 | J7: ==D7*H7 -> 0 | K7: ==SUM(J$3:J7) -> 0 | L7: ==J7/J6-1 -> #DIV/0! | M7: ==(J7-O7)/O7 -> -1 | N7: ==K7/SUM(O$3:O7)-1 -> -1 | O7: ==G7*I7 -> 802.0896
A8: 第6日 | B8: 46301 | E8: ==(D8-D7)/D7 -> #DIV/0! | F8: ==(D8-G8)/G8 -> -1 | G8: 344.7356 | H8: 2.4 | I8: 2.4 | J8: ==D8*H8 -> 0 | K8: ==SUM(J$3:J8) -> 0 | L8: ==J8/J7-1 -> #DIV/0! | M8: ==(J8-O8)/O8 -> -1 | N8: ==K8/SUM(O$3:O8)-1 -> -1 | O8: ==G8*I8 -> 827.36544
A9: 第7日 | B9: 46302 | E9: ==(D9-D8)/D8 -> #DIV/0! | F9: ==(D9-G9)/G9 -> -1 | G9: 306.6061 | H9: 2.4 | I9: 2.4 | J9: ==D9*H9 -> 0 | K9: ==SUM(J$3:J9) -> 0 | L9: ==J9/J8-1 -> #DIV/0! | M9: ==(J9-O9)/O9 -> -1 | N9: ==K9/SUM(O$3:O9)-1 -> -1 | O9: ==G9*I9 -> 735.85464
A10: 第8日 | B10: 46303 | G10: 273.9699 | I10: 2.4 | O10: ==G10*I10 -> 657.52776
A11: 日均 | J11: ==SUM(J3:J9)/7 -> 0 | M11: ==(J11-O11)/O11 -> -1 | O11: ==SUM(O3:O10)/8 -> 804.94524

Sheet 人员流动量汇总
B1: 日期 | C1: 全社会跨区域人员流动量 （万人次） | G1: 公路人员流动量 （万人次） | K1: 高速公路和普通国省道非营业性小客车出行量 （万人次） | O1: 全社会跨区域人员流动量 累计（亿人次） | Q1: 公路人员流动量 累计（亿人次） | S1: 高速公路和普通国省道非营业性小客车人员出行量累计（亿人次）
C2: 2026年 | D2: 环比 | E2: 同比 | F2: 2025年 | G2: 2026年 | H2: 环比 | I2: 同比 | J2: 2025年 | K2: 2026年 | L2: 环比 | M2: 同比 | N2: 2025年 | O2: 2026累计 | P2: 累计同比 | Q2: 2026累计 | R2: 累计同比 | S2: 2026累计 | T2: 累计同比
A3: 第1日 | B3: 46296 | C3: ==G3+铁路!C4+民航!C4+水路!C3 -> 0 | D3: - | E3: ==(C3-F3)/F3 -> -1 | F3: ==J3+铁路!F4+民航!F4+水路!F3 -> 1714.4103 | G3: ==K3+道路!C3 -> 0 | H3: - | I3: ==(G3-J3)/J3 -> -1 | J3: ==N3+道路!F3 -> 1600.7575 | K3: ==高速公路!I3+普通国省道!J3 -> 0 | L3: - | M3: ==(K3-N3)/N3 -> -1 | N3: ==高速公路!N3+普通国省道!O3 -> 1514.3875 | O3: ==SUM($C$3:C3)/10000 -> 0 | P3: ==O3*10000/SUM($F$3:F3)-1 -> -1 | Q3: ==SUM($G$3:G3)/10000 -> 0 | R3: ==Q3*10000/SUM($J$3:J3)-1 -> -1 | S3: ==SUM($K$3:K3)/10000 -> 0 | T3: ==S3*10000/SUM($N$3:N3)-1 -> -1
A4: 第2日 | B4: 46297 | C4: ==G4+铁路!C5+民航!C5+水路!C4 -> 0 | D4: ==C4/C3-1 -> #DIV/0! | E4: ==(C4-F4)/F4 -> -1 | F4: ==J4+铁路!F5+民航!F5+水路!F4 -> 1518.0171 | G4: ==K4+道路!C4 -> 0 | H4: ==G4/G3-1 -> #DIV/0! | I4: ==(G4-J4)/J4 -> -1 | J4: ==N4+道路!F4 -> 1427.3808 | K4: ==高速公路!I4+普通国省道!J4 -> 0 | L4: ==K4/K3-1 -> #DIV/0! | M4: ==(K4-N4)/N4 -> -1 | N4: ==高速公路!N4+普通国省道!O4 -> 1346.1708 | O4: ==SUM($C$3:C4)/10000 -> 0 | P4: ==O4*10000/SUM($F$3:F4)-1 -> -1 | Q4: ==SUM($G$3:G4)/10000 -> 0 | R4: ==Q4*10000/SUM($J$3:J4)-1 -> -1 | S4: ==SUM($K$3:K4)/10000 -> 0 | T4: ==S4*10000/SUM($N$3:N4)-1 -> -1
A5: 第3日 | B5: 46298 | C5: ==G5+铁路!C6+民航!C6+水路!C5 -> 0 | D5: ==(C5-C4)/C4 -> #DIV/0! | E5: ==(C5-F5)/F5 -> -1 | F5: ==J5+铁路!F6+民航!F6+水路!F5 -> 1554.7998 | G5: ==K5+道路!C5 -> 0 | H5: ==(G5-G4)/G4 -> #DIV/0! | I5: ==(G5-J5)/J5 -> -1 | J5: ==N5+道路!F5 -> 1469.2166 | K5: ==高速公路!I5+普通国省道!J5 -> 0 | L5: ==(K5-K4)/K4 -> #DIV/0! | M5: ==(K5-N5)/N5 -> -1 | N5: ==高速公路!N5+普通国省道!O5 -> 1385.8666 | O5: ==SUM($C$3:C5)/10000 -> 0 | P5: ==O5*10000/SUM($F$3:F5)-1 -> -1 | Q5: ==SUM($G$3:G5)/10000 -> 0 | R5: ==Q5*10000/SUM($J$3:J5)-1 -> -1 | S5: ==SUM($K$3:K5)/10000 -> 0 | T5: ==S5*10000/SUM($N$3:N5)-1 -> -1
A6: 第4日 | B6: 46299 | C6: ==G6+铁路!C7+民航!C7+水路!C6 -> 0 | D6: ==(C6-C5)/C5 -> #DIV/0! | E6: ==(C6-F6)/F6 -> -1 | F6: ==J6+铁路!F7+民航!F7+水路!F6 -> 1479.9464 | G6: ==K6+道路!C6 -> 0 | H6: ==(G6-G5)/G5 -> #DIV/0! | I6: ==(G6-J6)/J6 -> -1 | J6: ==N6+道路!F6 -> 1392.617 | K6: ==高速公路!I6+普通国省道!J6 -> 0 | L6: ==(K6-K5)/K5 -> #DIV/0! | M6: ==(K6-N6)/N6 -> -1 | N6: ==高速公路!N6+普通国省道!O6 -> 1311.247 | O6: ==SUM($C$3:C6)/10000 -> 0 | P6: ==O6*10000/SUM($F$3:F6)-1 -> -1 | Q6: ==SUM($G$3:G6)/10000 -> 0 | R6: ==Q6*10000/SUM($J$3:J6)-1 -> -1 | S6: ==SUM($K$3:K6)/10000 -> 0 | T6: ==S6*10000/SUM($N$3:N6)-1 -> -1
A7: 第5日 | B7: 46300 | C7: ==G7+铁路!C8+民航!C8+水路!C7 -> 0 | D7: ==C7/C6-1 -> #DIV/0! | E7: ==(C7-F7)/F7 -> -1 | F7: ==J7+铁路!F8+民航!F8+水路!F7 -> 1464.3844 | G7: ==K7+道路!C7 -> 0 | H7: ==G7/G6-1 -> #DIV/0! | I7: ==(G7-J7)/J7 -> -1 | J7: ==N7+道路!F7 -> 1376.2682 | K7: ==高速公路!I7+普通国省道!J7 -> 0 | L7: ==K7/K6-1 -> #DIV/0! | M7: ==(K7-N7)/N7 -> -1 | N7: ==高速公路!N7+普通国省道!O7 -> 1293.4582 | O7: ==SUM($C$3:C7)/10000 -> 0 | P7: ==O7*10000/SUM($F$3:F7)-1 -> -1 | Q7: ==SUM($G$3:G7)/10000 -> 0 | R7: ==Q7*10000/SUM($J$3:J7)-1 -> -1 | S7: ==SUM($K$3:K7)/10000 -> 0 | T7: ==S7*10000/SUM($N$3:N7)-1 -> -1
A8: 第6日 | B8: 46301 | C8: ==G8+铁路!C9+民航!C9+水路!C8 -> 0 | D8: ==C8/C7-1 -> #DIV/0! | E8: ==(C8-F8)/F8 -> -1 | F8: ==J8+铁路!F9+民航!F9+水路!F8 -> 1480.8005 | G8: ==K8+道路!C8 -> 0 | H8: ==G8/G7-1 -> #DIV/0! | I8: ==(G8-J8)/J8 -> -1 | J8: ==N8+道路!F8 -> 1390.9361 | K8: ==高速公路!I8+普通国省道!J8 -> 0 | L8: ==K8/K7-1 -> #DIV/0! | M8: ==(K8-N8)/N8 -> -1 | N8: ==高速公路!N8+普通国省道!O8 -> 1312.2761 | O8: ==SUM($C$3:C8)/10000 -> 0 | P8: ==O8*10000/SUM($F$3:F8)-1 -> -1 | Q8: ==SUM($G$3:G8)/10000 -> 0 | R8: ==Q8*10000/SUM($J$3:J8)-1 -> -1 | S8: ==SUM($K$3:K8)/10000 -> 0 | T8: ==S8*10000/SUM($N$3:N8)-1 -> -1
A9: 第7日 | B9: 46302 | C9: ==G9+铁路!C10+民航!C10+水路!C9 -> 0 | D9: ==C9/C8-1 -> #DIV/0! | E9: ==(C9-F9)/F9 -> -1 | F9: ==J9+铁路!F10+民航!F10+水路!F9 -> 1380.0038 | G9: ==K9+道路!C9 -> 0 | H9: ==G9/G8-1 -> #DIV/0! | I9: ==(G9-J9)/J9 -> -1 | J9: ==N9+道路!F9 -> 1282.6641 | K9: ==高速公路!I9+普通国省道!J9 -> 0 | L9: ==K9/K8-1 -> #DIV/0! | M9: ==(K9-N9)/N9 -> -1 | N9: ==高速公路!N9+普通国省道!O9 -> 1205.7041 | O9: ==SUM($C$3:C9)/10000 -> 0 | P9: ==O9*10000/SUM($F$3:F9)-1 -> -1 | Q9: ==SUM($G$3:G9)/10000 -> 0 | R9: ==Q9*10000/SUM($J$3:J9)-1 -> -1 | S9: ==SUM($K$3:K9)/10000 -> 0 | T9: ==S9*10000/SUM($N$3:N9)-1 -> -1
A10: 第8日 | B10: 46303 | F10: ==J10+铁路!F11+民航!F11+水路!F10 -> 1224.8265 | J10: ==N10+道路!F10 -> 1118.6717 | N10: ==高速公路!N10+普通国省道!O10 -> 1041.2717
A11: 日均 | C11: ==SUM(C3:C9)/7 -> 0 | E11: ==(C11-F11)/F11 -> -1 | F11: ==SUM(F3:F10)/8 -> 1477.1486 | G11: ==SUM(G3:G9)/7 -> 0 | I11: ==(G11-J11)/J11 -> -1 | J11: ==SUM(J3:J10)/8 -> 1382.314 | K11: ==SUM(K3:K9)/7 -> 0 | M11: ==(K11-N11)/N11 -> -1 | N11: ==SUM(N3:N10)/8 -> 1301.2977
